{"text_format":"1","workbook":"xlsx","n_sheets":27,"sheets":["Index","Erupt","Active","H01","H02","H03","H04","H05","H06","H07","H08","H09","H10","H11","H12","H13","H14","H15","H16","H17","H18","H19","H20","H21","H22","H23","H24"],"not_rendered":{"charts":0,"images":0,"macros":1,"external_links":1,"defined_names":11,"comments":0,"pivot_tables":0},"unopened":[],"bounds":{"document_bytes":16777216,"sheet_cells":100000,"rows_first":2000,"rows_last":500,"rows_between":2000,"halvings":0,"cell_chars":16384,"cell_head_chars":4096},"cells_cut":0,"cells_raw":0,"read":"whole","date_system":"1900"}

{"sheet":"Index","index":0,"n_rows":96,"n_cols":10,"rows_kept":96,"cut":false,"hidden":false,"merged":[]}
["Sheet","Magazine PDF","Journal","Title","Citation","F_Name","L_Name","Year","Volcanoe","Full Citation"]
["None","None","http://www.bgc.org/isoplot_etc/isoplot/Isoplot3_75-4_15manual.pdf","Isoplot User Manual",{"$f":"\"(\" & G2 & \", \" & H2 & \", P. )\"","v":"(Ludwig, 2010, P. )"},"Kenneth","Ludwig",2010,".",{"$f":"G2 & \", \" & F2 & \", \" & H2 & \", \" & D2 & \", \" & C2","v":"Ludwig, Kenneth, 2010, Isoplot User Manual, http://www.bgc.org/isoplot_etc/isoplot/Isoplot3_75-4_15manual.pdf"}]
["None","None","http://www.bgc.org/isoplot_etc/isoplot/Isoplot3_75files.zip","Isoplot Excel Add In","(Ludwig, 2012, P. )","Kenneth","Ludwig",2012,".","Ludwig, Kenneth, 2012, Isoplot Excel Add In, http://www.bgc.org/isoplot_etc/isoplot/Isoplot3_75files.zip"]
["None","None","http://adsabs.harvard.edu/abs/2006AGUFM.V34B..02K","New 40Ar/39Ar Ages for Savai'i Island","(Koppers, 2006, P. )","A. A","Koppers",2006,".","Koppers, A. A, 2006, New 40Ar/39Ar Ages for Savai'i Island, http://adsabs.harvard.edu/abs/2006AGUFM.V34B..02K"]
["None","None","Chapman And Hall Publishers","Radioactive and Stable Isotope Geology, P. 1-305","(Attendon, 1997, P. )","H. G.","Attendon",1997,".","Attendon, H. G., 1997, Radioactive and Stable Isotope Geology, P. 1-305, Chapman And Hall Publishers"]
["H24","C:\\Essays\\Geo_Dating\\Historic\\Historic_24.pdf","Journal Of Geophysical Research, 108:(B5-2252):1-25","Transport rates along the Alaska-Aleutian","(George, 2003, P. )","Rhiannon","George",2003,"Aleutian Arc","George, Rhiannon, 2003, Transport rates along the Alaska-Aleutian, Journal Of Geophysical Research, 108:(B5-2252):1-25"]
["H38","C:\\Essays\\Geo_Dating\\Historic\\Historic_38.pdf","Journal Of Petrology, 45(1):203-219","Two Volcanoes in the Alaska-Aleutian Arc","(George, 2004, P. )","Rhiannon","George",2004,"Aleutian Arc","George, Rhiannon, 2004, Two Volcanoes in the Alaska-Aleutian Arc, Journal Of Petrology, 45(1):203-219"]
["H01","C:\\Essays\\Geo_Dating\\Historic\\Historic_01.pdf","Journal Of Petrology, 45(9)1845–1875","Aleutian Island Arc Magma Sources","(Jicha, 2004, P. )","B. R.","Jicha",2004,"Aleutian Arc","Jicha, B. R., 2004, Aleutian Island Arc Magma Sources, Journal Of Petrology, 45(9)1845–1875"]
["H25","C:\\Essays\\Geo_Dating\\Historic\\Historic_25.pdf","Journal Of Petrology, 37(1):95-115","Geochemistry of Augustine Volcano","(Johnson, 1996, P. )","K. E.","Johnson",1996,"Aleutian Arc","Johnson, K. E., 1996, Geochemistry of Augustine Volcano, Journal Of Petrology, 37(1):95-115"]
["H05","C:\\Essays\\Geo_Dating\\Historic\\Historic_05.pdf","Journal of Volcanology and Geothermal Research 146:139-170","The May 2003 eruption of Anatahan volcano","(Wade, 2005, P. )","Jennifer A.","Wade",2005,"Anatahan Volcano","Wade, Jennifer A., 2005, The May 2003 eruption of Anatahan volcano, Journal of Volcanology and Geothermal Research 146:139-170"]
["H28","C:\\Essays\\Geo_Dating\\Historic\\Historic_28.pdf","Journal Of Petrology, 53(1):27-65","Eastern Mediterranean K-rich Lavas","(Kirchenbaur, 2012, P. )","Maria","Kirchenbaur",2012,"Bulgaria","Kirchenbaur, Maria, 2012, Eastern Mediterranean K-rich Lavas, Journal Of Petrology, 53(1):27-65"]
["H29","C:\\Essays\\Geo_Dating\\Historic\\Historic_29.pdf","Journal Of Petrology, 39(5):859-880","Jurassic Oceanic Crust beneath Grand Canaria","(Hoernle, 1998, P. )","Kaj","Hoernle",1998,"Canary Islands","Hoernle, Kaj, 1998, Jurassic Oceanic Crust beneath Grand Canaria, Journal Of Petrology, 39(5):859-880"]
["H30","C:\\Essays\\Geo_Dating\\Historic\\Historic_30.pdf","PhD Thesis, University of Bremen, http://d-nb.info/1072301873/34","Evolution of La Palma (Canary Islands)","(Galipp, 2005, P. )","Karsten","Galipp",2005,"Canary Islands","Galipp, Karsten, 2005, Evolution of La Palma (Canary Islands), PhD Thesis, University of Bremen, http://d-nb.info/1072301873/34"]
["H53","C:\\Essays\\Geo_Dating\\Historic\\Historic_53.pdf","Geology, 33:897-900","1585 eruption on La Palma, Canary Islands ","(Johansen, 2005, P. )","T. S.","Johansen",2005,"Canary Islands","Johansen, T. S., 2005, 1585 eruption on La Palma, Canary Islands , Geology, 33:897-900"]
["H23","C:\\Essays\\Geo_Dating\\Historic\\Historic_23.pdf","Earth and Planetary Science Letters, 303:37–47","Disequilibria at Volcan Llaima, Chile","(Reubi, 2011, P. )","O.","Reubi",2011,"Chile","Reubi, O., 2011, Disequilibria at Volcan Llaima, Chile, Earth and Planetary Science Letters, 303:37–47"]
["H14","C:\\Essays\\Geo_Dating\\Historic\\Historic_14.pdf","Geochemica Et Cosmochemica Acta, 61(18):3789-3801","Excess Argon In Melt Inclusions","(Esser, 1997, P. )","R. P.","Esser",1997,"Erebus","Esser, R. P., 1997, Excess Argon In Melt Inclusions, Geochemica Et Cosmochemica Acta, 61(18):3789-3801"]
["H15","C:\\Essays\\Geo_Dating\\Historic\\Historic_15.pdf","Journal of Volcanology and Geothermal Research, 177:606-618","Alkaline magmas from Erebus volcano","(Sims, 2008, P. )","Kenneth W.W.","Sims",2008,"Erebus","Sims, Kenneth W.W., 2008, Alkaline magmas from Erebus volcano, Journal of Volcanology and Geothermal Research, 177:606-618"]
["H16","C:\\Essays\\Geo_Dating\\Historic\\Historic_16.pdf","Earth and Planetary Science Letters, 245:743-761","Comparison of Th, Sr, Nd and Pb isotopes","(Sims, 2006, P. )","Kenneth W.W.","Sims",2006,"Erebus","Sims, Kenneth W.W., 2006, Comparison of Th, Sr, Nd and Pb isotopes, Earth and Planetary Science Letters, 245:743-761"]
["H48","C:\\Essays\\Geo_Dating\\Historic\\Historic_48.pdf","Journal Of Geophysical Research, 117(B05202):1-18","2010 Eyjafjallajökull explosive eruption","(Borisova, 2012, P. )","Anastassia Y.","Borisova",2012,"Eyjafjallajökull","Borisova, Anastassia Y., 2012, 2010 Eyjafjallajökull explosive eruption, Journal Of Geophysical Research, 117(B05202):1-18"]
["H17","C:\\Essays\\Geo_Dating\\Historic\\Historic_17.pdf","Journal Of Geophysical Research, 73(14):4601-4607","Ultramafic Inclusions from Hawaii","(Funkhouser, 1968, P. )","John G.","Funkhouser",1968,"Hualalai","Funkhouser, John G., 1968, Ultramafic Inclusions from Hawaii, Journal Of Geophysical Research, 73(14):4601-4607"]
["H42","C:\\Essays\\Geo_Dating\\Historic\\Historic_42.pdf","Proc. Radiochim. Acta 1:335-338","Izu arc volcanoes, Japan","(Kurihara, 2011, P. )","Yuichi","Kurihara",2011,"Izu Arc","Kurihara, Yuichi, 2011, Izu arc volcanoes, Japan, Proc. Radiochim. Acta 1:335-338"]
["H44","C:\\Essays\\Geo_Dating\\Historic\\Historic_44.pdf","Radio Isotopes, 56:795-809","Volcanic Products from Izu arc volcanoes","(Kurihara, 2007, P. )","Yuichi","Kurihara",2007,"Izu Arc","Kurihara, Yuichi, 2007, Volcanic Products from Izu arc volcanoes, Radio Isotopes, 56:795-809"]
["H55","C:\\Essays\\Geo_Dating\\Historic\\Historic_55.pdf","Geochemical Journal, 42:461-479","238U–230Th radioactive disequilibrium","(Fukuda, 2008, P. )","Satoru","Fukuda",2008,"Izu Arc","Fukuda, Satoru, 2008, 238U–230Th radioactive disequilibrium, Geochemical Journal, 42:461-479"]
["H40","C:\\Essays\\Geo_Dating\\Historic\\Historic_40.pdf","Contributions Mineralogy Petrology, 168(1067):1-28","Bezymianny and Klyuchevskoy Volcanoes","(Kayzar, 2014, P. )","Theresa M.","Kayzar",2014,"Kamchatka","Kayzar, Theresa M., 2014, Bezymianny and Klyuchevskoy Volcanoes, Contributions Mineralogy Petrology, 168(1067):1-28"]
["H47","C:\\Essays\\Geo_Dating\\Historic\\Historic_47.pdf","Earth and Planetary Science Letters, 175:69-86","The Kluchevskoy volcano","(Dorendorf, 2000, P. )","Frank","Dorendorf",2000,"Kamchatka","Dorendorf, Frank, 2000, The Kluchevskoy volcano, Earth and Planetary Science Letters, 175:69-86"]
["H51","C:\\Essays\\Geo_Dating\\Historic\\Historic_51.pdf","Journal Of Petrology, 51(7):1507-1540","Kaua‘i Lavas over 4.5 million years","(Garcia, 2010, P. )","M. O.","Garcia",2010,"Kaua‘i"]
["H03","C:\\Essays\\Geo_Dating\\Historic\\Historic_03.pdf","Geochemistry, Geophysics, Geosystems, 14(1):4849-4873","Kılauea’s Puu Oo eruption (1983–2010)","(Greene, 2013, P. )","Andrew R.","Greene",2013,"Kilauea",{"$f":"G27 & \", \" & F27 & \", \" & H27 & \", \" & D27 & \", \" & C27","v":"Greene, Andrew R., 2013, Kılauea’s Puu Oo eruption (1983–2010), Geochemistry, Geophysics, Geosystems, 14(1):4849-4873"}]
["H04","C:\\Essays\\Geo_Dating\\Historic\\Historic_04.pdf","Journal Of Petrology, 49(7):1297-1318","Kilauea’s Puu Oo Eruption","(Marske, 2008, P. )","Jared P. ","Marske",2008,"Kilauea","Marske, Jared P. , 2008, Kilauea’s Puu Oo Eruption, Journal Of Petrology, 49(7):1297-1318"]
["H09","C:\\Essays\\Geo_Dating\\Historic\\Historic_09.pdf","Journal Of Petrology, 40(8)1321–1342","Melting History of Kilauea Volcano","(Pietruszka, 1999, P. )","Aaron J. ","Pietruszka",1999,"Kilauea","Pietruszka, Aaron J. , 1999, Melting History of Kilauea Volcano, Journal Of Petrology, 40(8)1321–1342"]
["H39","C:\\Essays\\Geo_Dating\\Historic\\Historic_39.pdf","Journal Of Petrology, 41(7):961-990","Puu Oo Eruption of Kilauea Volcano","(Garcia, 2000, P. )","M. O.","Garcia",2000,"Kilauea","Garcia, M. O., 2000, Puu Oo Eruption of Kilauea Volcano, Journal Of Petrology, 41(7):961-990"]
["H32","C:\\Essays\\Geo_Dating\\Historic\\Historic_32.pdf","Journal of Volcanology and Geothermal Research 158:281-295","Crystallization ages of Las Tres Vírgenes","(Schmitt, 2006, P. )","Axel K.","Schmitt",2006,"Las Tres Vírgenes","Schmitt, Axel K., 2006, Crystallization ages of Las Tres Vírgenes, Journal of Volcanology and Geothermal Research 158:281-295"]
["None","None","https://en.wikipedia.org/wiki/Volcanoes_of_east-central_Baja_California","Wikipedia, Volcanoes of east-central Baja California,",null,null,null,2015,"Las Tres Vírgenes",", , 2015, Wikipedia, Volcanoes of east-central Baja California,, https://en.wikipedia.org/wiki/Volcanoes_of_east-central_Baja_California"]
["H43","C:\\Essays\\Geo_Dating\\Historic\\Historic_43.pdf","Chemical Geology 265:272–278","Contributions to Lesser Antilles magmas",{"$f":"\"(\" & G33 & \", \" & H33 & \", P. )\"","v":"(DuFrane, 2009, P. )"},"S. Andy","DuFrane",2009,"Lesser Antilles","DuFrane, S. Andy, 2009, Contributions to Lesser Antilles magmas, Chemical Geology 265:272–278"]
["H02","C:\\Essays\\Geo_Dating\\Historic\\Historic_02.pdf","Bulletin Volcanology, 59:577–592","Earthquake swarm of Loihi seamount","(Garcia, 1998, P. )","M. O.","Garcia",1998,"Lohi Seamount","Garcia, M. O., 1998, Earthquake swarm of Loihi seamount, Bulletin Volcanology, 59:577–592"]
["H34","C:\\Essays\\Geo_Dating\\Historic\\Historic_34.pdf","http://perso.ens-lyon.fr/francis.albarede/JBT_Rev_text.pdf","Isotope evolution of Mauna Kea volcano","(Blichert-Toft, 2002, P. )","Janne","Blichert-Toft",2002,"Mauna Loa","Blichert-Toft, Janne, 2002, Isotope evolution of Mauna Kea volcano, http://perso.ens-lyon.fr/francis.albarede/JBT_Rev_text.pdf"]
["H31","C:\\Essays\\Geo_Dating\\Historic\\Historic_31.pdf","Journal Of Petrology, 44(3):457-489","Volcanic rocks from Merapi Volcano","(Gertisser, 2003, P. )","R.","Gertisser",2003,"Merapi","Gertisser, R., 2003, Volcanic rocks from Merapi Volcano, Journal Of Petrology, 44(3):457-489"]
["H18","C:\\Essays\\Geo_Dating\\Historic\\Historic_18.pdf","Fifth International Conference on Creationism","Recent Andesite Flows at Mt. Ngauruhoe","(Snelling, 2003, P. )","Andrew","Snelling",2003,"Ngauruhoe","Snelling, Andrew, 2003, Recent Andesite Flows at Mt. Ngauruhoe, Fifth International Conference on Creationism"]
["H33","C:\\Essays\\Geo_Dating\\Historic\\Historic_33.pdf","Contributions Mineralogy Petrology, 156:103-118","Melting beneath Niuafo’ou Island","(Regelous, 2008, P. )","Marcel","Regelous",2008,"Niuafo’ou Island","Regelous, Marcel, 2008, Melting beneath Niuafo’ou Island, Contributions Mineralogy Petrology, 156:103-118"]
["H08","C:\\Essays\\Geo_Dating\\Historic\\Historic_08.pdf","Journal Of Geophysical Research, 115(B12201):1-22","The 1912 Katmai‐Novarupta Eruption","(Turner, 2010, P. )","Simon","Turner",2010,"Novarupta","Turner, Simon, 2010, The 1912 Katmai‐Novarupta Eruption, Journal Of Geophysical Research, 115(B12201):1-22"]
["H26","C:\\Essays\\Geo_Dating\\Historic\\Historic_26.pdf","http://pubs.usgs.gov/pp/1791/","The Novarupta-Katmai Eruption of 1912, P. 1-259","(Hildreth, 2012, P. )","Wes","Hildreth",2012,"Novarupta","Hildreth, Wes, 2012, The Novarupta-Katmai Eruption of 1912, P. 1-259, http://pubs.usgs.gov/pp/1791/"]
["H27","C:\\Essays\\Geo_Dating\\Historic\\Historic_27.pdf","Journal Of Petrology, 44(9):1703-1726","Rhyolite in North American Continental Arcs","(Reagan, 2003, P. )","M. K.","Reagan",2003,"Novarupta","Reagan, M. K., 2003, Rhyolite in North American Continental Arcs, Journal Of Petrology, 44(9):1703-1726"]
["H06","C:\\Essays\\Geo_Dating\\Historic\\Historic_06.pdf","http://pubs.usgs.gov/pinatubo/bernard/table9.html","1991 Eruption Products of Mount Pinatubo","(Bernard, 1999, P. )","Alain","Bernard",1999,"Pinatubo","Bernard, Alain, 1999, 1991 Eruption Products of Mount Pinatubo, http://pubs.usgs.gov/pinatubo/bernard/table9.html"]
["H06","C:\\Essays\\Geo_Dating\\Historic\\Historic_06.pdf","http://pubs.usgs.gov/pinatubo/castillo/index.html","Geochemistry of Mount Pinatubo Volcanic Rocks","(Castillo, 1999, P. )","Paterno R.","Castillo",1999,"Pinatubo","Castillo, Paterno R., 1999, Geochemistry of Mount Pinatubo Volcanic Rocks, http://pubs.usgs.gov/pinatubo/castillo/index.html"]
["H12","C:\\Essays\\Geo_Dating\\Historic\\Historic_12.pdf","Geochimica et Cosmochimica Acta 70:3401-3420","Bicol and Bataan arcs, Philippines","(DuFrane, 2006, P. )","S. Andrew ","DuFrane",2006,"Pinatubo","DuFrane, S. Andrew , 2006, Bicol and Bataan arcs, Philippines, Geochimica et Cosmochimica Acta 70:3401-3420"]
["H37","C:\\Essays\\Geo_Dating\\Historic\\Historic_37.pdf","Journal of Petrology, 50(3):507-529","Active Caldera, Rabaul, Papua New Guinea","(Cunningham, 2009, P. )","H. S.","Cunningham",2009,"Rabaul","Cunningham, H. S., 2009, Active Caldera, Rabaul, Papua New Guinea, Journal of Petrology, 50(3):507-529"]
["H35","C:\\Essays\\Geo_Dating\\Historic\\Historic_35.pdf","Earth and Planetary Science Letters 265:748-765","The two Réunion Island volcanoes","(Bosch, 2008, P. )","Delphine","Bosch",2008,"Réunion Island","Bosch, Delphine, 2008, The two Réunion Island volcanoes, Earth and Planetary Science Letters 265:748-765"]
["H46","C:\\Essays\\Geo_Dating\\Historic\\Historic_46.pdf","Journal of Volcanology 184:63-78","Piton de la Fournaise historical lavas","(Vlastélic, 2009, P. )","Ivan","Vlastélic",2009,"Réunion island","Vlastélic, Ivan, 2009, Piton de la Fournaise historical lavas, Journal of Volcanology 184:63-78"]
["H54","C:\\Essays\\Geo_Dating\\Historic\\Historic_54.pdf","http://pubs.usgs.gov/pp/1750/chapters/pp2008-1750_chapter36.pdf","Eruption of Mount St. Helens, 2004–2006","(Cooper, 2008, P. )","Kari M.","Cooper",2008,"Saint Helens","Cooper, Kari M., 2008, Eruption of Mount St. Helens, 2004–2006, http://pubs.usgs.gov/pp/1750/chapters/pp2008-1750_chapter36.pdf"]
["H45","C:\\Essays\\Geo_Dating\\Historic\\Historic_45.pdf","Phd Thesis, San Diego State University","Lavas from the islands of Upolu and Savaii","(Bühler, 2011, P. )","Alena","Bühler",2011,"Samoa","Bühler, Alena, 2011, Lavas from the islands of Upolu and Savaii, Phd Thesis, San Diego State University"]
["H10","C:\\Essays\\Geo_Dating\\Historic\\Historic_10.pdf","Journal Of Petrology, 44(3)491–515","Evolution Beneath the Sangeang Api Volcano","(Turner, 2003, P. )","Simon","Turner",2003,"Sangeang Api","Turner, Simon, 2003, Evolution Beneath the Sangeang Api Volcano, Journal Of Petrology, 44(3)491–515"]
["H36","C:\\Essays\\Geo_Dating\\Historic\\Historic_36.pdf","Chemical Geology 265:289-302","Isotopic variations in Ocean Island Basalts","(Millet, 2009, P. )","Marc-Alban","Millet",2009,"São Jorge Island","Millet, Marc-Alban, 2009, Isotopic variations in Ocean Island Basalts, Chemical Geology 265:289-302"]
["H20","C:\\Essays\\Geo_Dating\\Historic\\Historic_20.pdf","Lithos, 81:255-277","Glass-bearing crustal xenoliths","(Salvioli-Mariani, 2005, P. )","E.","Salvioli-Mariani",2005,"Stromboli","Salvioli-Mariani, E., 2005, Glass-bearing crustal xenoliths, Lithos, 81:255-277"]
["H21","C:\\Essays\\Geo_Dating\\Historic\\Historic_21.pdf","Journal Of Petrology, 48(12): 2407-2430","Study of Stromboli Volcano","(Tommasini, 2007, P. )","Simone","Tommasini",2007,"Stromboli","Tommasini, Simone, 2007, Study of Stromboli Volcano, Journal Of Petrology, 48(12): 2407-2430"]
["H41","C:\\Essays\\Geo_Dating\\Historic\\Historic_41.pdf","Contributions Mineralogy Petrology, 142:43-57","Element Variations in Sunda arc Lavas","(Turner, 2001, P. )","S.","Turner",2001,"Sunda Arc","Turner, S., 2001, Element Variations in Sunda arc Lavas, Contributions Mineralogy Petrology, 142:43-57"]
["H07","C:\\Essays\\Geo_Dating\\Historic\\Historic_07.pdf","Journal of Petrology, 53(2):271-297","The Great Tambora Eruption in 1815","(Gertisser, 2012, P. )","R.","Gertisser",2012,"Tambora","Gertisser, R., 2012, The Great Tambora Eruption in 1815, Journal of Petrology, 53(2):271-297"]
["H13","C:\\Essays\\Geo_Dating\\Historic\\Historic_13.pdf","Lithos 126 (2011) 198–211","A Toba-scale eruption in the Early Miocene","(Smyth, 2011, P. )","Helen R.","Smyth",2011,"Toba Miocene","Smyth, Helen R., 2011, A Toba-scale eruption in the Early Miocene, Lithos 126 (2011) 198–211"]
["H11","C:\\Essays\\Geo_Dating\\Historic\\Historic_11.pdf","Bulletin Volcanology, 69:259-263","40Ar/39Ar ages of the AD 79 eruption of Vesuvius","(Lanphere, 2007, P. )","Marvin","Lanphere",2007,"Vesuvius","Lanphere, Marvin, 2007, 40Ar/39Ar ages of the AD 79 eruption of Vesuvius, Bulletin Volcanology, 69:259-263"]
["H49","C:\\Essays\\Geo_Dating\\Historic\\Historic_49.pdf","Mineralogy and Petrology, 73:121-143","(Sr-Nd-Pb) of interplinian magmas","(Somma, 2001, P. )","R.","Somma",2001,"Vesuvius","Somma, R., 2001, (Sr-Nd-Pb) of interplinian magmas, Mineralogy and Petrology, 73:121-143"]
["H50","C:\\Essays\\Geo_Dating\\Historic\\Historic_50.pdf","Mineralogy and Petrology, 73:145-176","Skarns from Vesuvius","(Gilg, 2001, P. )","H. A.","Gilg",2001,"Vesuvius","Gilg, H. A., 2001, Skarns from Vesuvius, Mineralogy and Petrology, 73:145-176"]
["H19","C:\\Essays\\Geo_Dating\\Historic\\Historic_19.pdf","Volcanism in Hawaii, 26:723-744","Origin of the West Maui volcanic rocks","(Tatsumoto, 1987, P. )","Mitsunobu","Tatsumoto",1987,"West Maui","Tatsumoto, Mitsunobu, 1987, Origin of the West Maui volcanic rocks, Volcanism in Hawaii, 26:723-744"]
["H22","C:\\Essays\\Geo_Dating\\Historic\\Historic_22.pdf","Geochimica et Cosmochimica Acta, 68(4):841-865","Volcanic arc of Kamchatka","(Bindeman, 2004, P. )","Ilya N.","Bindeman",2004,"Kamchatka","Bindeman, Ilya N., 2004, Volcanic arc of Kamchatka, Geochimica et Cosmochimica Acta, 68(4):841-865"]
[]
[]
[null,null,"1. Lots of data from multiple sources, if possible","Well Known/ Lots of data","Volcano","Journal Articles","CRSQ Essay"]
[null,null,"2. Easy to get background history of volcano",null,"Anatahan Volcano",1]
[null,null,"3. Familiar to readers (been in news or media)",null,"Bulgaria",1]
[null,null,"4. Like Surtsey forming new island or Vesuvius burying Pompeii",null,"Eyjafjallajökull",1]
[null,null,null,null,"Hualalai",1]
[null,null,null,null,"Kaua‘i",1]
[null,null,null,null,"Lesser Antilles",1]
[null,null,null,null,"Merapi",1]
[null,null,null,null,"Ngauruhoe",1]
[null,null,null,null,"Niuafo’ou Island",1]
[null,null,null,null,"Rabaul",1]
[null,null,null,"Very","Saint Helens",1,null,"H54"]
[null,null,null,null,"Sangeang Api",1]
[null,null,null,null,"São Jorge Island",1]
[null,null,null,null,"Sunda Arc",1]
[null,null,null,null,"Toba Miocene",1]
[null,null,null,null,"West Maui",1]
[null,null,null,null,"Samoa",1]
[null,null,null,"Very","Tambora",1]
[null,null,null,null,"Kamchatka",3]
[null,null,null,null,"Las Tres Vírgenes",2]
[null,null,null,null,"Lohi Seamount",2]
[null,null,null,null,"Mauna Loa",2]
[null,null,null,null,"Réunion Island",2]
[null,null,null,null,"Stromboli",2]
[null,null,null,"Very","Novarupta",3]
[null,null,null,"Very","Canary Islands",3]
[null,null,null,"Very","Erebus",3]
[null,null,null,"Very","Izu Arc",3]
[null,null,null,"Very","Pinatubo",3]
[null,null,null,"Very","Vesuvius",3]
[null,null,null,"Very","Aleutian Arc",4,"Historic_A"]
[null,null,null,"Very","Kilauea",4,"Historic_A"]

{"sheet":"Erupt","index":1,"n_rows":44,"n_cols":10,"rows_kept":44,"cut":false,"hidden":false,"merged":[]}
["Dated","Eruption","Age (Yr.)","Age (Ma)","Volcano","Reference","Age Ratio 106","Citation"]
[1999,1991,{"$f":"A2-B2","v":8},5000,"Pinatubo","Bernard",625,{"$f":"\"(\" & F2 & \", \" & A2 & \")\"","v":"(Bernard, 1999)"},null,"Bernard, Alain, 1999, 1991 Eruption Products of Mount Pinatubo, http://pubs.usgs.gov/pinatubo/bernard/table9.html"]
[2008,1945,63,4963,"Réunion Island","Bosch",79,"(Bosch, 2008)",null,"Bosch, Delphine, 2008, The two Réunion Island volcanoes, Earth and Planetary Science Letters 265:748-765"]
[1999,1991,8,5000,"Pinatubo","Castillo",625,"(Castillo, 1999)",null,"Castillo, Paterno R., 1999, Geochemistry of Mount Pinatubo Volcanic Rocks, http://pubs.usgs.gov/pinatubo/castillo/index.html"]
[2006,1800,206,4986,"Mayon","DuFrane",24,"(DuFrane, 2006)",null,"DuFrane, S. Andrew, 2006, Bicol and Bataan arcs, Philippines, Geochimica et Cosmochimica Acta 70:3401-3420"]
[2006,1991,15,5000,"Pinatubo","DuFrane",333,"(DuFrane, 2006)",null,"DuFrane, S. Andrew, 2006, Bicol and Bataan arcs, Philippines, Geochimica et Cosmochimica Acta 70:3401-3420"]
[2006,1600,406,4990,"Taal","DuFrane",12,"(DuFrane, 2006)",null,"DuFrane, S. Andrew, 2006, Bicol and Bataan arcs, Philippines, Geochimica et Cosmochimica Acta 70:3401-3420"]
[2009,1530,479,4962,"Guadeloupe","DuFrane",10.359081419624218,"(DuFrane, 2009)",null,"DuFrane, S. Andrew, 2009, Contributions to Lesser Antilles magmas, Chemical Geology 265:272–278"]
[2009,1995,14,4979,"Montserrat","DuFrane",355.64285714285717,"(DuFrane, 2009)",null,"DuFrane, S. Andrew, 2009, Contributions to Lesser Antilles magmas, Chemical Geology 265:272–278"]
[1997,1984,13,9,"Erebus","Esser",1,"(Esser, 1997)",null,"Esser, R. P., 1997, Excess Argon In Melt Inclusions, Geochemica Et Cosmochemica Acta, 61(18):3789-3801"]
[1968,1800,168,3300,"Hualalai","Funkhouser",20,"(Funkhouser, 1968)",null,"Funkhouser, John G., 1968, Ultramafic Inclusions from Hawaii, Journal Of Geophysical Research, 73(14):4601-4607"]
[2005,1949,56,4920,"Canary Islands","Galipp",87,"(Galipp, 2005)",null,"Galipp, Karsten, 2005, Evolution of La Palma (Canary Islands), PhD Thesis, University of Bremen, http://d-nb.info/1072301873/34"]
[1996,1996,0.1666,4997,"Loihi","Garcia",30000,"(Garcia, 1998)",null,"Garcia, M. O., 1998, Earthquake swarm of Loihi seamount, Bulletin Volcanology, 59:577–592"]
[2003,1872,{"$f":"A14-B14","v":131},4986,"Merapi","Gertisser",38,{"$f":"\"(\" & F14 & \", \" & A14 & \")\"","v":"(Gertisser, 2003)"},null,"Gertisser, R., 2003, Volcanic rocks from Merapi Volcano, Journal Of Petrology, 44(3):457-489"]
[2001,79,1922,4960.0434132406799,"Mount Vesuvius","Gilg",2.5,"(Gilg, 2001)",null,"Gilg, H. A., 2001, Skarns from Vesuvius, Mineralogy and Petrology, 73:145-176"]
[2013,1983,30,4991,"Kilauea","Greene",166,"(Greene, 2013)",null,"Greene, Andrew R., 2013, Kılauea’s Puu Oo eruption (1983–2010), Geochemistry, Geophysics, Geosystems, 14(1):4849-4873"]
[2012,1912,100,4967,"Novarupta","Hildreth",50,"(Hildreth, 2012)",null,"Hildreth, Wes, 2012, The Novarupta-Katmai Eruption of 1912, P. 1-259, http://pubs.usgs.gov/pp/1791/"]
[1998,1949,49,5001,"Canary Islands","Hoernle",100,"(Hoernle, 1998)",null,"Hoernle, Kaj, 1998, Jurassic Oceanic Crust beneath Grand Canaria, Journal Of Petrology, 39(5):859-880"]
[2004,1906,98,4963,"Kanaga","Jicha",183,"(Jicha, 2004)",null,"Jicha, B. R., 2004, Variable Impact of the Subducted Slab, Journal Of Petrology, 45(9)1845–1875"]
[2004,1906,98,4970,"Seguam","Jicha",51,"(Jicha, 2004)",null,"Jicha, B. R., 2004, Variable Impact of the Subducted Slab, Journal Of Petrology, 45(9)1845–1875"]
[1996,1986,10,5076,"Augustine","Johnson",507,"(Johnson, 1996)",null,"Johnson, K. E., 1996, Geochemistry of Augustine Volcano, Journal Of Petrology, 37(1):95-115"]
[2014,2010,4,5004.5089224288022,"Bezymianny ","Kayzar",1251.1272306072005,"(Kayzar, 2014)",null,"Kayzar, Theresa M., 2014, Bezymianny and Klyuchevskoy Volcanoes, Contributions Mineralogy Petrology, 168(1067):1-28"]
[2014,2007,7,5001.1908103664882,"Klyuchevskoy","Kayzar",714,"(Kayzar, 2014)",null,"Kayzar, Theresa M., 2014, Bezymianny and Klyuchevskoy Volcanoes, Contributions Mineralogy Petrology, 168(1067):1-28"]
[2014,2007,7,4996.9177077405539,"Shiveluch","Kayzar",714,"(Kayzar, 2014)",null,"Kayzar, Theresa M., 2014, Bezymianny and Klyuchevskoy Volcanoes, Contributions Mineralogy Petrology, 168(1067):1-28"]
[2014,2008,6,4996.7719117827537,"Karymsky","Kayzar",832,"(Kayzar, 2014)",null,"Kayzar, Theresa M., 2014, Bezymianny and Klyuchevskoy Volcanoes, Contributions Mineralogy Petrology, 168(1067):1-28"]
[2008,1998,10,4991,"Kilauea","Marske",499,"(Marske, 2008)",null,"Marske, Jared P. , 2008, Kilauea’s Puu Oo Eruption, Journal Of Petrology, 49(7):1297-1318"]
[2009,1808,201,4899,"São Jorge Island","Millet",49,"(Millet, 2009)",null,"Millet, Marc-Alban, 2009, Isotopic variations in Ocean Island Basalts, Chemical Geology 265:289-302"]
[1999,1790,209,4981,"Kilauea","Pietruszka",24,"(Pietruszka, 1999)",null,"Pietruszka, Aaron J. , 1999, Melting History of Kilauea Volcano, Journal Of Petrology, 40(8)1321–1342"]
[2003,1912,91,4967,"Novarupta","Reagan",55,"(Reagan, 2003)",null,"Reagan, M. K., 2003, Rhyolite in North American Continental Arcs, Journal Of Petrology, 44(9):1703-1726"]
[2005,1944,61,4965,"Stromboli","Salvioli",81,"(Salvioli, 2005)",null,"Salvioli-Mariani, E., 2005, Glass-bearing crustal xenoliths, Lithos, 81:255-277"]
[2006,2000,6,4935,"Erebus","Sims",823,"(Sims, 2006)",null,"Sims, Kenneth W.W., 2006, Comparison of Th, Sr, Nd and Pb isotopes, Earth and Planetary Science Letters, 245:743-761"]
[2008,2004,4,4894,"Erebus","Sims",1224,"(Sims, 2008)",null,"Sims, Kenneth W.W., 2008, Alkaline magmas from Erebus volcano, Journal of Volcanology and Geothermal Research, 177:606-618"]
[2000,1949,51,4974,"Ngauruhoe","Snelling",98,"(Snelling, 2000)",null,"Snelling, Andrew, 2003, Recent Andesite Flows at Mt. Ngauruhoe, Fifth International Conference on Creationism"]
[2001,79,1922,4960.0434132406799,"Mount Vesuvius","Somma",2.5,"(Somma, 2001)",null,"Somma, R., 2001, (Sr-Nd-Pb) of interplinian magmas, Mineralogy and Petrology, 73:121-143"]
[2001,1883,118,4991,"Krakatau","Turner",42,"(Turner, 2001)",null,"Turner, Simon, 2001, Element Variations in Sunda arc Lavas, Contributions Mineralogy Petrology, 142:43-57"]
[2001,1982,19,4983,"Galunggung","Turner",262,"(Turner, 2001)",null,"Turner, Simon, 2001, Element Variations in Sunda arc Lavas, Contributions Mineralogy Petrology, 142:43-57"]
[2001,1006,995,4984,"Merapi","Turner",5,"(Turner, 2001)",null,"Turner, Simon, 2001, Element Variations in Sunda arc Lavas, Contributions Mineralogy Petrology, 142:43-57"]
[2001,1900,101,4985,"Rindjani","Turner",49,"(Turner, 2001)",null,"Turner, Simon, 2001, Element Variations in Sunda arc Lavas, Contributions Mineralogy Petrology, 142:43-57"]
[2001,1815,186,4967,"Tambora","Turner",27,"(Turner, 2001)",null,"Turner, Simon, 2001, Element Variations in Sunda arc Lavas, Contributions Mineralogy Petrology, 142:43-57"]
[2001,1985,16,4970,"Sangeang Api","Turner",311,"(Turner, 2001)",null,"Turner, Simon, 2001, Element Variations in Sunda arc Lavas, Contributions Mineralogy Petrology, 142:43-57"]
[2001,1900,101,4975,"Ayi Flores","Turner",49,"(Turner, 2001)",null,"Turner, Simon, 2001, Element Variations in Sunda arc Lavas, Contributions Mineralogy Petrology, 142:43-57"]
[2003,1958,45,4969,"Sangeang Api","Turner",110,"(Turner, 2003)",null,"Turner, Simon, 2003, Evolution Beneath the Sangeang Api Volcano, Journal Of Petrology, 44(3)491–515"]
[2009,2007,2,4965.3418855408981,"Réunion island","Vlastélic",2482.6709427704491,"(Vlastélic, 2009)",null,"Vlastélic, Ivan, 2009, Piton de la Fournaise historical lavas, Journal of Volcanology 184:63-78"]
[2005,2003,2,4970,"Anatahan","Wade",2485,"(Wade, 2005)",null,"Wade, Jennifer A., 2005, The May 2003 eruption of Anatahan volcano, Journal of Volcanology and Geothermal Research 146:139-170"]

{"sheet":"Active","index":2,"n_rows":52,"n_cols":7,"rows_kept":52,"cut":false,"hidden":false,"merged":[]}
["Active Volcano Order","Location",null,null,"Active Volcano","Location Order","Spreadsheet"]
["Avachinsky-Koryaksky","Russia",null,null,"Barren Island"," India"]
["Cerro Azul","Chile",null,null,"Mount Erebus","Antarctica","14, 15, 16"]
["Colima","Mexico",null,null,"LaPalma","Canary Islands","29,30"]
["Chimborazo","Ecuador",null,null,"Cha","Cape Verde"]
["Cotopaxi","Ecuador",null,null,"Cerro Azul","Chile"]
["Galeras","Colombia",null,null,"Galeras","Colombia"]
["Glacier Peak","US (Washington)",null,null,"Nevado del Ruiz","Colombia"]
["Haleakala","US (Hawaii)",null,null,"Irazu","Costa Rica"]
["Irazu","Costa Rica",null,null,"Niragongo","Republic of the Congo"]
["Kelut","Indonesia",null,null,"Chimborazo","Ecuador"]
["Mount Kilauea","US (Hawaii)",null,null,"Cotopaxi","Ecuador",28]
["Krakatoa","Indonesia",null,null,"Santorini","Greece"]
["Lō'ihi Seamount","US (Hawaii)",null,null,"Pacaya","Guatemala"]
["Mount Adams","US (Washington)",null,null,"Lakagigar","Iceland"]
["Mount Baker","US (Washington)",null,null,"Kelut","Indonesia"]
["Mount Fuji","Japan",null,null,"Krakatoa","Indonesia"]
["Mount Hood","US (Oregon)",null,null,"Mount Merapi","Indonesia",31]
["Mount Lassen","US (California)",null,null,"Mount Slamet","Indonesia"]
["Mount Mayon","Philippines",null,null,"Sinabung","Indonesia"]
["Mount Merapi","Indonesia",null,null,"Tambora","Indonesia"]
["Mount Olympus","US (Washington)",null,null,"Mount Etna","Italy"]
["Mount Pinatubo","Philippines",null,null,"Stromboli","Italy"]
["Mount Rainier","US (Washington)",null,null,"Vesuvius","Italy"]
["Mount Slamet","Indonesia",null,null,"Mount Fuji","Japan"]
["Mount St Helens","US Washington",null,null,"Sakurajima","Japan"]
["Mauna Kea","US (Hawaii)",null,null,"Mount Unzen","Japan"]
["Mauna Hualalai","US (Hawaii)",null,null,"Colima","Mexico"]
["Mauna Loa","US (Hawaii)",null,null,"Parícutin","Mexico"]
["Nevado del Ruiz","Colombia",null,null,"Popocatepetl","Mexico"]
["Pacaya","Guatemala",null,null,"Soufrière Hills","Montserrat"]
["Parícutin","Mexico",null,null,"Ulawun","Papua New Guinea"]
["Popocatepetl","Mexico",null,null,"Mount Mayon","Philippines",12]
["Redoubt","US (Alaska)",null,null,"Mount Pinatubo","Philippines","6, 12"]
["Sakurajima","Japan",null,null,"Taal","Philippines",12]
["Sinabung","Indonesia",null,null,"Avachinsky-Koryaksky","Russia"]
["Taal","Philippines",null,null,"Teide","Spain (Canary Islands)"]
["Tambora","Indonesia",null,null,"Redoubt","US (Alaska)",1]
["Ulawun","Papua New Guinea",null,null,"Mount Lassen","US (California)"]
["Mount Unzen","Japan",null,null,"Haleakala","US (Hawaii)"]
["Lakagigar","Iceland",null,null,"Mount Kilauea","US (Hawaii)","3, 4, 9"]
["LaPalma","Canary Islands",null,null,"Lō'ihi Seamount","US (Hawaii)",2]
["Mount Erebus","Antarctica",null,null,"Mauna Kea","US (Hawaii)"]
["Mount Etna","Italy",null,null,"Mauna Hualalai","US (Hawaii)"]
["Niragongo","Democratic Republic of the Congo",null,null,"Mauna Loa","US (Hawaii)",7]
["Santorini","Greece",null,null,"Mount Hood","US (Oregon)"]
["Soufrière Hills","Montserrat",null,null,"Glacier Peak","US (Washington)"]
["Stromboli","Italy",null,null,"Mount Adams","US (Washington)"]
["Teide","Spain (Canary Islands)",null,null,"Mount Baker","US (Washington)"]
["Vesuvius","Italy",null,null,"Mount Olympus","US (Washington)"]
["Barren Island"," India",null,null,"Mount Rainier","US (Washington)"]
["Cha","Cape Verde",null,null,"Mount St Helens","US Washington"]

{"sheet":"H01","index":3,"n_rows":62,"n_cols":10,"rows_kept":62,"cut":false,"hidden":false,"merged":[]}
["Table 1","Page 1852"]
["206Pb/204Pb",18.803999999999998,18.789000000000001,18.754999999999999,18.777999999999999,18.779,18.765999999999998,18.768999999999998,18.866]
["207Pb/204Pb",15.563000000000001,15.544,15.507999999999999,15.525,15.537000000000001,15.541,15.552,15.573]
["208Pb/204Pb",38.241,38.304000000000002,38.116999999999997,38.177999999999997,38.243000000000002,38.256,38.304000000000002,38.415999999999997]
["207Pb/206Pb",{"$f":"(B3/B2)","v":0.82764305466921939},{"$f":"(C3/C2)","v":0.82729256479855229},0.82687283391095712,0.82676536372350629,0.82736034932637526,0.82814664819354156,0.82860035164366785,0.8254531962260151]
["Pb/Pb Age",{"$f":"[1]!AgePb76(B5)","v":4970.0662829906332},{"$f":"[1]!AgePb76(C5)","v":4969.464307704442},{"$f":"[1]!AgePb76(D5)","v":4968.743052393771},{"$f":"[1]!AgePb76(E5)","v":4968.5583156665125},{"$f":"[1]!AgePb76(F5)","v":4969.5807505004068},{"$f":"[1]!AgePb76(G5)","v":4970.930743496926},{"$f":"[1]!AgePb76(H5)","v":4971.7090851778994},{"$f":"[1]!AgePb76(I5)","v":4966.3006942711636},"Million Years"]
["Pb/Pb Age",4970.0662829906332,4969.464307704442,4968.743052393771,4968.5583156665125,4969.5807505004068,4970.930743496926,4971.7090851778994,4966.3006942711636,"Million Years"]
["Ar/Ar Age",2,null,28,null,null,null,30.2,713.3,"Thousand Years"]
["Geo Centre","Shishaldin","Shishaldin","Shishaldin","Shishaldin","Shishaldin","Shishaldin","Shishaldin","Shishaldin"]
[]
["Table 1","Page 1853"]
["206Pb/204Pb",18.798999999999999,18.788,18.818000000000001,18.777999999999999,18.788,18.785,18.812999999999999,18.725999999999999]
["207Pb/204Pb",15.555,15.558,15.583,15.574,15.555,15.555,15.579000000000001,15.538]
["208Pb/204Pb",38.345999999999997,38.354999999999997,38.432000000000002,38.383000000000003,38.332999999999998,38.331000000000003,38.411999999999999,38.249000000000002]
["207Pb/206Pb",{"$f":"(B13/B12)","v":0.8274376296611522},{"$f":"(C13/C12)","v":0.82808175431126252},0.82809012647465186,0.82937480029822142,0.82792207792207795,0.82805429864253388,0.82809759209057576,0.82975542027128057]
["Pb/Pb Age",{"$f":"[1]!AgePb76(B15)","v":4969.7134931781875},{"$f":"[1]!AgePb76(C15)","v":4970.819379073997},{"$f":"[1]!AgePb76(D15)","v":4970.8337470688411},{"$f":"[1]!AgePb76(E15)","v":4973.0366287669976},{"$f":"[1]!AgePb76(F15)","v":4970.5453188455731},{"$f":"[1]!AgePb76(G15)","v":4970.7722595949035},{"$f":"[1]!AgePb76(H15)","v":4970.8465591504728},{"$f":"[1]!AgePb76(I15)","v":4973.688596695476},"Million Years"]
["Pb/Pb Age",4969.7134931781875,4970.819379073997,4970.8337470688411,4973.0366287669976,4970.5453188455731,4970.7722595949035,4970.8465591504728,4973.688596695476,"Million Years"]
["Ar/Ar Age",{"$f":"(2015-1906)/1000","v":0.109},198.1,null,383.9,null,352,199.1,130.5,"Thousand Years"]
["Geo Centre","Kanaga","Kanaga","Kanaga","Kanaga","Kanaga","Kanaga","Kanaga","Roundhead"]
[]
["Table 1","Page 1854"]
["206Pb/204Pb",18.696999999999999,18.702999999999999,"——",18.716000000000001,18.931999999999999,18.908000000000001,18.93,18.896999999999998]
["207Pb/204Pb",15.55,15.528,"——",15.528,15.596,15.567,15.589,15.573]
["208Pb/204Pb",38.253999999999998,38.206000000000003,"——",38.222000000000001,38.531999999999996,38.44,38.515999999999998,38.450000000000003]
["207Pb/206Pb",{"$f":"(B23/B22)","v":0.8316842274161631},{"$f":"(C23/C22)","v":0.83024113778538211},null,0.82966445821756785,0.82379040777519552,0.8233023059022635,0.82350765979926044,0.82409906334338789]
["Pb/Pb Age",{"$f":"[1]!AgePb76(B25)","v":4976.9875913509686},{"$f":"[1]!AgePb76(C25)","v":4974.5201258146717},null,{"$f":"[1]!AgePb76(E25)","v":4973.5328157530103},{"$f":"[1]!AgePb76(F25)","v":4963.4343330101301},{"$f":"[1]!AgePb76(G25)","v":4962.5917614983864},{"$f":"[1]!AgePb76(H25)","v":4962.9463123228288},{"$f":"[1]!AgePb76(I25)","v":4963.9668667362694},"Million Years"]
["Pb/Pb Age",4976.9875913509686,4974.5201258146717,null,4973.5328157530103,4963.4343330101301,4962.5917614983864,4962.9463123228288,4963.9668667362694,"Million Years"]
["Ar/Ar Age",133.9,null,null,null,10,10,{"$f":"(2015-1977)/1000","v":3.7999999999999999E-2},61.4,"Thousand Years"]
["Geo Centre","Roundhead","Roundhead","Roundhead","Roundhead","Seguam","Seguam","Seguam","Seguam"]
[]
["Table 1","Page 1855"]
["206Pb/204Pb",18.940999999999999,18.916,18.927,18.95,18.923999999999999,18.937999999999999,18.917000000000002,18.937999999999999]
["207Pb/204Pb",15.584,15.58,15.574999999999999,15.6,15.622,15.590999999999999,15.577999999999999,15.584]
["208Pb/204Pb",38.503999999999998,38.478000000000002,38.47,38.552999999999997,38.552999999999997,38.527000000000001,38.484999999999999,38.518000000000001]
["207Pb/206Pb",{"$f":"(B33/B32)","v":0.82276542949157916},{"$f":"(C33/C32)","v":0.82364136181010783},0.82289850478152904,0.82321899736147763,0.82551257662227862,0.82326539233287577,0.82349209705555837,0.82289576512831353]
["Pb/Pb Age",{"$f":"[1]!AgePb76(B35)","v":4961.6643808463796},{"$f":"[1]!AgePb76(C35)","v":4963.1771030944619},{"$f":"[1]!AgePb76(D35)","v":4961.8943101860341},{"$f":"[1]!AgePb76(E35)","v":4962.4478995247382},{"$f":"[1]!AgePb76(F35)","v":4966.4029423163838},{"$f":"[1]!AgePb76(G35)","v":4962.5280189359128},{"$f":"[1]!AgePb76(H35)","v":4962.9194459828632},{"$f":"[1]!AgePb76(I35)","v":4961.8895769735964},"Million Years"]
["Pb/Pb Age",4961.6643808463796,4963.1771030944619,4961.8943101860341,4962.4478995247382,4966.4029423163838,4962.5280189359128,4962.9194459828632,4961.8895769735964,"Million Years"]
["Ar/Ar Age",49.2,48.9,93.1,33.299999999999997,null,null,null,null,"Thousand Years"]
["Geo Centre","Seguam","Seguam","Seguam","Seguam","Seguam","Seguam","Seguam","Seguam"]
[]
[]
["Volcanoe","Historic Eruption","Ar/Ar Age (ka)","Pb/Pb Age (Ma)","Error Ratio (106)"]
["Kanaga","1906 AD",{"$f":"(2004-1906)/1000","v":9.8000000000000004E-2},4969.7134931781875,{"$f":"(D43/1000)/C43","v":50.711362175287626}]
[null,null,198.1,4970.819379073997,{"$f":"D44/C44","v":25.092475411781912}]
[null,null,383.9,4973.0366287669976,12.953989655553524]
[null,null,352,4970.7722595949035,14.121512101121885]
[null,null,199.1,4970.8465591504728,24.966582416627187]
["Roundhead",null,130.5,4973.688596695476,38.112556296517056]
["Seguam","1977 AD",{"$f":"(2004-1977)/1000","v":2.7E-2},4963,{"$f":"(D49/1000)/C49","v":183.81481481481481},{"$f":"E49 * 1000000","v":183814814.81481481},{"$f":"SQRT(F49/(22/7))","v":7647.648788126452}]
[null,null,49.2,4962,100.85365853658536]
[null,null,48.9,4963,101.49284253578732]
[null,null,93.1,4962,53.297529538131045]
[null,null,33.299999999999997,4962,149.00900900900902]
["Shishaldin",null,2,4970.0662829906332,2485.0331414953166]
[null,null,28,4968.743052393771,177.45510901406325]
[null,null,30,4971.7090851778994,165.72363617259666]
[null,null,713,4966.3006942711636,6.9653586174911126]
[null,null,"Average",{"$f":"AVERAGE(D43:D57)","v":4967.8464020862339}]
[null,null,"Maximum",{"$f":"MAX(D43:D58)","v":4973.688596695476}]
[null,null,"Minimum",{"$f":"MIN(D43:D59)","v":4962}]
[null,null,"Difference",{"$f":"D59-D60","v":11.688596695476008}]
[null,null,"Accuracy",{"$f":"1-(D61/D58)","v":0.99764715014325578}]

{"sheet":"H02","index":4,"n_rows":9,"n_cols":6,"rows_kept":9,"cut":false,"hidden":false,"merged":[]}
[null,null,null,null,"1996 Eruption","Loihi"]
["206Pb/204Pb",18.329999999999998,18.327999999999999]
["207Pb/204Pb",15.457000000000001,15.46]
["208Pb/204Pb",38.054000000000002,38.058999999999997]
["207Pb/206Pb",{"$f":"(B3/B2)","v":0.84326241134751789},{"$f":"(C3/C2)","v":0.84351811436054136}]
["Pb/Pb Age",{"$f":"[1]!AgePb76(B5)","v":4996.6213698178781},{"$f":"[1]!AgePb76(C5)","v":4997.0517409050226}]
["Pb Age (Ma)",4996.6213698178781,4997.0517409050226]
["Historic Age",0.1666,0.1666]
["Age Ratio",{"$f":"B7/B8","v":29991.724908870816},{"$f":"C7/C8","v":29994.308168697615}]

{"sheet":"H03","index":5,"n_rows":135,"n_cols":21,"rows_kept":135,"cut":false,"hidden":false,"merged":[]}
["Table 2.","1983–2010","Kilauea",null,null,null,null,null,null,null,null,null,null,null,null,null,null,"Eruption Year","Pb Age (Ma)","True Age","Error Ratio"]
[null,"Month","Year","206Pb/204Pb","Error","207Pb/204Pb","Error","208Pb/204Pb","Error","87Sr/86Sr","Error","207Pb/206Pb","Pb/Pb Age","Pb/Pb Age",null,null,null,1983,4984,{"$f":"2013-R2","v":30},{"$f":"(S2)/T2","v":166.13333333333333}]
[23,"Jan",1983,18.524699999999999,8.9999999999999998E-4,15.48,8.0000000000000004E-4,38.155000000000001,2E-3,0.70359000000000005,9.0000000000000002E-6,{"$f":"(F3/D3)","v":0.83564106301316621},{"$f":"[1]!AgePb76(L3)","v":4983.729911082175},4984,null,1983,null,1984,4988,{"$f":"2013-R3","v":29},{"$f":"(S3)/T3","v":172}]
[9,"Apr",1983,18.530899999999999,6.9999999999999999E-4,15.4893,6.9999999999999999E-4,38.164999999999999,1.6999999999999999E-3,0.703573,7.9999999999999996E-6,{"$f":"(F4/D4)","v":0.83586334176969279},{"$f":"[1]!AgePb76(L4)","v":4984.1076598682503},4984,null,1984,null,1985,4990,28,178.21428571428572]
[3,"July",1983,18.478000000000002,6.9999999999999999E-4,15.4765,8.0000000000000004E-4,38.116999999999997,1.6999999999999999E-3,0.703573,6.9999999999999999E-6,0.83756358913302298,{"$f":"[1]!AgePb76(L5)","v":4986.9935972970061},4987,null,1985,null,1986,4992,27,184.88888888888889]
[31,"Jan",1984,18.459499999999998,8.9999999999999998E-4,15.4765,6.9999999999999999E-4,38.103000000000002,2E-3,0.70358699999999996,7.9999999999999996E-6,0.8384029903301824,{"$f":"[1]!AgePb76(L6)","v":4988.4160716933065},4988,null,1986,null,1987,4992,26,192]
[12,"Sep",1984,18.441700000000001,8.0000000000000004E-4,15.4747,6.9999999999999999E-4,38.091000000000001,1.9E-3,0.70355500000000004,9.0000000000000002E-6,0.8391146152469674,{"$f":"[1]!AgePb76(L7)","v":4989.6208278665626},4990,null,1987,null,1988,4993,25,199.72]
[8,"Feb",1985,18.434200000000001,1E-3,15.474299999999999,8.9999999999999998E-4,38.087000000000003,2.3999999999999998E-3,0.70356700000000005,7.9999999999999996E-6,0.83943431231081356,{"$f":"[1]!AgePb76(L8)","v":4990.1617105037421},4990,null,1988,null,1989,4993,24,208.04166666666666]
[30,"Jul",1985,18.430599999999998,6.9999999999999999E-4,15.4756,6.9999999999999999E-4,38.088999999999999,2E-3,0.70357099999999995,7.9999999999999996E-6,0.83966881165019047,{"$f":"[1]!AgePb76(L9)","v":4990.5583114006149},4991,null,1989,null,1990,4994,23,217.13043478260869]
[2,"Jun",1986,18.413799999999998,8.9999999999999998E-4,15.4755,8.0000000000000004E-4,38.079000000000001,2E-3,0.70357999999999998,9.0000000000000002E-6,0.8404294605133108,{"$f":"[1]!AgePb76(L10)","v":4991.8439619240407},4992,null,1990,null,1991,4993,22,226.95454545454547]
[13,"Sep",1986,18.413799999999998,8.0000000000000004E-4,15.4726,6.9999999999999999E-4,38.073999999999998,2E-3,0.70359000000000005,7.9999999999999996E-6,0.84027196993559183,{"$f":"[1]!AgePb76(L11)","v":4991.5778724860766},4992,null,1991,null,1992,4992,21,237.71428571428572]
[16,"Mar",1987,18.410799999999998,5.9999999999999995E-4,15.4717,5.0000000000000001E-4,38.069000000000003,1.4E-3,0.70358900000000002,9.0000000000000002E-6,0.8403600060833859,{"$f":"[1]!AgePb76(L12)","v":4991.7266211789429},4992,null,1992,null,1993,4992,20,249.6]
[18,"Oct",1987,18.3992,8.0000000000000004E-4,15.474600000000001,8.0000000000000004E-4,38.067999999999998,2.2000000000000001E-3,0.70359700000000003,9.0000000000000002E-6,0.84104743684508021,{"$f":"[1]!AgePb76(L13)","v":4992.8875571416738},4993,null,1993,null,1994,4992,19,262.73684210526318]
[19,"Jan",1988,18.395199999999999,5.9999999999999995E-4,15.471500000000001,5.9999999999999995E-4,38.061,1.6000000000000001E-3,0.70357700000000001,7.9999999999999996E-6,0.84106179873010356,{"$f":"[1]!AgePb76(L14)","v":4992.9118008013611},4993,null,1994,null,1995,4992,18,277.33333333333331]
[18,"Aug",1988,18.3871,8.0000000000000004E-4,15.4703,6.9999999999999999E-4,38.052,1.6999999999999999E-3,0.70358299999999996,9.0000000000000002E-6,0.84136704537420259,{"$f":"[1]!AgePb76(L15)","v":4993.426970104566},4993,null,1995,null,1996,4992,17,293.64705882352939]
[26,"Mar",1989,18.388200000000001,6.9999999999999999E-4,15.4717,6.9999999999999999E-4,38.055,1.9E-3,0.70358399999999999,9.0000000000000002E-6,0.84139284976234752,{"$f":"[1]!AgePb76(L16)","v":4993.4705114515573},4993,null,1996,null,1997,4993,16,312.0625]
[7,"Jul",1989,18.386099999999999,1E-3,15.4725,8.9999999999999998E-4,38.054000000000002,2.2000000000000001E-3,0.70358100000000001,9.0000000000000002E-6,0.8415324620229413,{"$f":"[1]!AgePb76(L17)","v":4993.7060632918265},4994,null,1997,null,1998,4993,15,332.86666666666667]
[7,"Jul",1989,18.385100000000001,8.9999999999999998E-4,15.471,8.0000000000000004E-4,38.052,2.0999999999999999E-3,0.70357599999999998,9.0000000000000002E-6,0.84149664674111091,{"$f":"[1]!AgePb76(L18)","v":4993.6456402119802},4994,null,1998,null,1999,4993,14,356.64285714285717]
[7,"Jan",1990,18.388100000000001,8.9999999999999998E-4,15.474500000000001,8.0000000000000004E-4,38.055999999999997,1.8E-3,0.70358399999999999,7.9999999999999996E-6,0.84154969790244771,{"$f":"[1]!AgePb76(L19)","v":4993.7351405458803},4994,null,1999,null,2000,4992,13,384]
[27,"May",1990,18.386399999999998,8.0000000000000004E-4,15.4716,6.9999999999999999E-4,38.054000000000002,2E-3,0.70360299999999998,6.9999999999999999E-6,0.84146978201279221,{"$f":"[1]!AgePb76(L20)","v":4993.6003155971985},4994,null,2000,null,2001,4992,12,416]
[21,"Oct",1990,18.3856,6.9999999999999999E-4,15.4693,5.9999999999999995E-4,38.048999999999999,1.6999999999999999E-3,0.70359700000000003,7.9999999999999996E-6,0.84138129840744935,{"$f":"[1]!AgePb76(L21)","v":4993.4510203083018},4993,null,2001,null,2002,4991,11,453.72727272727275]
[12,"May",1991,18.3992,8.9999999999999998E-4,15.4739,6.9999999999999999E-4,38.063000000000002,1.9E-3,0.70358100000000001,7.9999999999999996E-6,0.84100939171268319,{"$f":"[1]!AgePb76(L22)","v":4992.8233327190355},4993,null,2002,null,2003,4991,10,499.1]
[6,"Jun",1992,18.404800000000002,8.9999999999999998E-4,15.472099999999999,8.9999999999999998E-4,38.061,1.9E-3,0.70358500000000002,7.9999999999999996E-6,0.84065569851343114,{"$f":"[1]!AgePb76(L23)","v":4992.2261114103194},4992,null,2003,null,2004,4991,9,554.55555555555554]
[13,"Aug",1993,18.411200000000001,6.9999999999999999E-4,15.475199999999999,5.9999999999999995E-4,38.072000000000003,1.5E-3,0.70361099999999999,7.9999999999999996E-6,0.84053185017815235,{"$f":"[1]!AgePb76(L24)","v":4992.0169267682795},4992,null,2004,null,2005,4991,8,623.875]
[4,"Jan",1994,18.409800000000001,8.9999999999999998E-4,15.473599999999999,8.0000000000000004E-4,38.067,2E-3,0.70360699999999998,7.9999999999999996E-6,0.84050885941183495,{"$f":"[1]!AgePb76(L25)","v":4991.9780908685107},4992,null,2005,null,2006,4992,7,713.14285714285711]
[25,"Apr",1994,18.41,8.9999999999999998E-4,15.473699999999999,8.9999999999999998E-4,38.067999999999998,2.7000000000000001E-3,0.70358600000000004,7.9999999999999996E-6,0.84050516023900046,{"$f":"[1]!AgePb76(L26)","v":4991.9718421368752},4992,null,2006,null,2007,4992,6,832]
[9,"Oct",1994,18.405899999999999,8.0000000000000004E-4,15.4718,6.9999999999999999E-4,38.066000000000003,1.9E-3,0.70359799999999995,6.9999999999999999E-6,0.84058915891100139,{"$f":"[1]!AgePb76(L27)","v":4992.1137275112178},4992,null,2007,null,2008,4992,5,998.4]
[27,"Apr",1995,18.405899999999999,8.9999999999999998E-4,15.472099999999999,8.0000000000000004E-4,38.066000000000003,2.3E-3,0.70360400000000001,9.0000000000000002E-6,0.84060545803247877,{"$f":"[1]!AgePb76(L28)","v":4992.1412572365689},4992,null,2008,null,2009,4992,4,1248]
[14,"Oct",1995,18.4068,8.0000000000000004E-4,15.472899999999999,8.0000000000000004E-4,38.070999999999998,2.0999999999999999E-3,0.70360199999999995,9.0000000000000002E-6,0.84060781884955549,{"$f":"[1]!AgePb76(L29)","v":4992.1452446833418},4992,null,2009,null,2010,4993,3,1664.3333333333333]
[15,"Mar",1996,18.406400000000001,1E-3,15.473800000000001,8.0000000000000004E-4,38.07,2.3E-3,0.703592,9.0000000000000002E-6,0.84067498261474272,{"$f":"[1]!AgePb76(L30)","v":4992.258680059419},4992,null,2010,null,"Average",{"$f":"AVERAGE(S2:S29)","v":4991.6785714285716}]
[22,"Aug",1996,18.4038,8.9999999999999998E-4,15.472200000000001,8.0000000000000004E-4,38.064999999999998,1.6000000000000001E-3,0.70361200000000002,6.9999999999999999E-6,0.84070681054999519,{"$f":"[1]!AgePb76(L31)","v":4992.3124320782381},4992,null,null,null,"Maximum",{"$f":"MAX(S2:S30)","v":4994}]
[10,"Jan",1997,18.401,1.1999999999999999E-3,15.472799999999999,1.1000000000000001E-3,38.064,1.9E-3,0.70360599999999995,9.0000000000000002E-6,0.84086734416607789,{"$f":"[1]!AgePb76(L32)","v":4992.5835133529945},4993,null,null,null,"Minimum",{"$f":"MIN(S2:S31)","v":4984}]
[23,"Jul",1997,18.3993,1E-3,15.472899999999999,1E-3,38.067999999999998,2.5000000000000001E-3,0.70360100000000003,6.9999999999999999E-6,0.84095047094182929,{"$f":"[1]!AgePb76(L33)","v":4992.7238618004976},4993]
[10,"Jan",1998,18.395800000000001,6.9999999999999999E-4,15.472799999999999,5.9999999999999995E-4,38.067,1.4E-3,0.70359099999999997,7.9999999999999996E-6,0.84110503484491017,{"$f":"[1]!AgePb76(L34)","v":4992.9847831098332},4993]
[10,"Jan",1998,18.393999999999998,6.9999999999999999E-4,15.4711,5.9999999999999995E-4,38.063000000000002,1.6000000000000001E-3,0.70359300000000002,6.9999999999999999E-6,0.8410949222572579,{"$f":"[1]!AgePb76(L35)","v":4992.9677134782251},4993]
[11,"May",1998,18.400500000000001,8.9999999999999998E-4,15.474,8.0000000000000004E-4,38.070999999999998,2E-3,0.70360500000000004,1.0000000000000001E-5,0.84095540882041242,{"$f":"[1]!AgePb76(L36)","v":4992.732198284556},4993]
[7,"Sep",1998,18.408200000000001,8.0000000000000004E-4,15.477499999999999,5.9999999999999995E-4,38.082999999999998,1.6999999999999999E-3,0.70360100000000003,6.0000000000000002E-6,0.84079377668647659,{"$f":"[1]!AgePb76(L37)","v":4992.4592922030542},4992]
[7,"Sep",1998,18.410699999999999,4.0000000000000002E-4,15.4727,5.0000000000000001E-4,38.075000000000003,1.1999999999999999E-3,null,null,0.84041888684297728,{"$f":"[1]!AgePb76(L38)","v":4991.8260987556387},4992]
[13,"Feb",1999,18.4068,1E-3,15.478300000000001,8.0000000000000004E-4,38.085000000000001,2.0999999999999999E-3,0.70360699999999998,6.0000000000000002E-6,0.84090118869113595,{"$f":"[1]!AgePb76(L39)","v":4992.6406570877798},4993]
[13,"Feb",1999,18.412400000000002,4.0000000000000002E-4,15.473599999999999,4.0000000000000002E-4,38.076000000000001,1.1000000000000001E-3,null,null,0.84039017184071596,{"$f":"[1]!AgePb76(L40)","v":4991.7775863996221},4992]
[19,"Jun",1999,18.398700000000002,1E-3,15.480499999999999,6.9999999999999999E-4,38.085000000000001,2E-3,0.70362000000000002,9.0000000000000002E-6,0.84139096784011902,{"$f":"[1]!AgePb76(L41)","v":4993.4673360152419},4993]
[27,"Oct",1999,18.401800000000001,4.0000000000000002E-4,15.4726,4.0000000000000002E-4,38.069000000000003,1.1000000000000001E-3,0.70362199999999997,9.0000000000000002E-6,0.84081991979045523,{"$f":"[1]!AgePb76(L42)","v":4992.5034370311441},4993]
[19,"Feb",2000,18.4072,4.0000000000000002E-4,15.4712,4.0000000000000002E-4,38.072000000000003,1.1000000000000001E-3,0.70362400000000003,6.9999999999999999E-6,0.84049719674909817,{"$f":"[1]!AgePb76(L43)","v":4991.958389919233},4992]
[21,"Jun",2000,18.406700000000001,4.0000000000000002E-4,15.4704,4.0000000000000002E-4,38.069000000000003,1.1000000000000001E-3,0.70363799999999999,6.9999999999999999E-6,0.84047656559839623,{"$f":"[1]!AgePb76(L44)","v":4991.9235383970117},4992]
[8,"Jan",2001,18.4116,4.0000000000000002E-4,15.472099999999999,4.0000000000000002E-4,38.073999999999998,1.1000000000000001E-3,0.703627,1.2E-5,0.84034521714571242,{"$f":"[1]!AgePb76(L45)","v":4991.7016344735594},4992]
[7,"Jul",2001,18.413699999999999,4.0000000000000002E-4,15.4719,4.0000000000000002E-4,38.073,1.2999999999999999E-3,0.70362599999999997,9.0000000000000002E-6,0.84023851805992278,{"$f":"[1]!AgePb76(L46)","v":4991.5213467851727},4992]
[9,"Feb",2002,18.413900000000002,4.0000000000000002E-4,15.470700000000001,4.0000000000000002E-4,38.069000000000003,1.1000000000000001E-3,0.70363699999999996,7.9999999999999996E-6,0.84016422376574218,{"$f":"[1]!AgePb76(L47)","v":4991.3957985743054},4991]
[20,"Aug",2002,18.415199999999999,4.0000000000000002E-4,15.472200000000001,4.0000000000000002E-4,38.072000000000003,1.1000000000000001E-3,0.70363900000000001,5.0000000000000004E-6,0.84018636778313582,{"$f":"[1]!AgePb76(L48)","v":4991.4332204714347},4991]
[12,"Apr",2003,18.4161,5.0000000000000001E-4,15.4726,5.0000000000000001E-4,38.072000000000003,1.2999999999999999E-3,0.70364099999999996,5.0000000000000004E-6,0.84016702776375018,{"$f":"[1]!AgePb76(L49)","v":4991.4005371999256},4991]
[15,"Jan",2004,18.415400000000002,5.0000000000000001E-4,15.4719,5.0000000000000001E-4,38.069000000000003,1.1999999999999999E-3,0.70363200000000004,6.9999999999999999E-6,0.84016095224648923,{"$f":"[1]!AgePb76(L50)","v":4991.3902698383881},4991]
[7,"Jun",2004,18.4146,2.9999999999999997E-4,15.4716,4.0000000000000002E-4,38.067999999999998,1E-3,0.70362400000000003,6.9999999999999999E-6,0.84018116060082759,{"$f":"[1]!AgePb76(L51)","v":4991.4244207784768},4991]
[31,"Jan",2005,18.417000000000002,5.0000000000000001E-4,15.4735,5.9999999999999995E-4,38.075000000000003,1.1999999999999999E-3,0.70362400000000003,5.0000000000000004E-6,0.84017483846446206,{"$f":"[1]!AgePb76(L52)","v":4991.413736830591},4991]
[8,"Aug",2005,18.411899999999999,5.0000000000000001E-4,15.4727,5.0000000000000001E-4,38.07,1.2999999999999999E-3,0.70362199999999997,1.0000000000000001E-5,0.84036411234038855,{"$f":"[1]!AgePb76(L53)","v":4991.7335588380702},4992]
[29,"Jan",2006,18.4087,4.0000000000000002E-4,15.472,4.0000000000000002E-4,38.064999999999998,1.1999999999999999E-3,0.703623,9.0000000000000002E-6,0.84047216805097591,{"$f":"[1]!AgePb76(L54)","v":4991.9161096477228},4992]
[24,"Jun",2006,18.406199999999998,2.8E-3,15.4724,2.5999999999999999E-3,38.066000000000003,5.8999999999999999E-3,0.70361200000000002,7.9999999999999996E-6,0.84060805598113686,{"$f":"[1]!AgePb76(L55)","v":4992.1456452006096},4992]
[24,"Jun",2006,18.407299999999999,1.6000000000000001E-3,15.471399999999999,1.8E-3,38.063000000000002,6.0000000000000001E-3,0.70361700000000005,1.2999999999999999E-5,0.8405034958956501,{"$f":"[1]!AgePb76(L56)","v":4991.9690306785687},4992]
[6,"Apr",2007,18.406500000000001,2.9999999999999997E-4,15.471500000000001,2.9999999999999997E-4,38.063000000000002,8.9999999999999998E-4,0.70361700000000005,6.9999999999999999E-6,0.84054545948442128,{"$f":"[1]!AgePb76(L57)","v":4992.0399150158837},4992]
[17,"Jun",2007,18.401900000000001,4.0000000000000002E-4,15.4709,4.0000000000000002E-4,38.061999999999998,1.1999999999999999E-3,0.70362599999999997,6.0000000000000002E-6,0.84072296882387143,{"$f":"[1]!AgePb76(L58)","v":4992.3397198523262},4992]
[22,"Mar",2008,18.4038,2.9999999999999997E-4,15.47,2.9999999999999997E-4,38.061,1E-3,0.70360699999999998,7.9999999999999996E-6,0.84058727002032185,{"$f":"[1]!AgePb76(L59)","v":4992.110537079182},4992]
[2,"May",2008,18.404499999999999,2.9999999999999997E-4,15.472099999999999,4.0000000000000002E-4,38.066000000000003,1E-3,0.70360900000000004,9.0000000000000002E-6,0.84066940150506675,{"$f":"[1]!AgePb76(L60)","v":4992.2492542829314},4992]
[15,"Nov",2008,18.397200000000002,8.9999999999999998E-4,15.4704,6.9999999999999999E-4,38.058,2.3999999999999998E-3,0.7036,7.9999999999999996E-6,0.84091057334811814,{"$f":"[1]!AgePb76(L61)","v":4992.656501887016},4993]
[29,"Jan",2009,18.400300000000001,5.0000000000000001E-4,15.4709,5.9999999999999995E-4,38.061,1.1999999999999999E-3,0.70362800000000003,7.9999999999999996E-6,0.84079607397705469,{"$f":"[1]!AgePb76(L62)","v":4992.4631714296984},4992]
[7,"May",2009,18.400500000000001,8.0000000000000004E-4,15.473599999999999,6.9999999999999999E-4,38.066000000000003,2E-3,0.70362400000000003,1.0000000000000001E-5,0.84093367028069876,{"$f":"[1]!AgePb76(L63)","v":4992.6954973187476},4993]
[4,"Jun",2009,18.4009,2.9999999999999997E-4,15.472,4.0000000000000002E-4,38.064,1E-3,0.70360999999999996,6.9999999999999999E-6,0.84082843773945837,{"$f":"[1]!AgePb76(L64)","v":4992.5178199889042},4993]
[16,"Oct",2009,18.3994,5.0000000000000001E-4,15.471399999999999,5.9999999999999995E-4,38.061999999999998,1.1999999999999999E-3,0.70362199999999997,6.9999999999999999E-6,0.84086437601226127,{"$f":"[1]!AgePb76(L65)","v":4992.5785017495309},4993]
[22,"Jan",2010,18.398700000000002,5.0000000000000001E-4,15.470800000000001,5.0000000000000001E-4,38.06,1.2999999999999999E-3,0.70361700000000005,6.9999999999999999E-6,0.84086375667846092,{"$f":"[1]!AgePb76(L66)","v":4992.5774560279669},4993]
[null,null,null,null,null,null,null,null,null,null,null,"Average",{"$f":"AVERAGE(M3:M66)","v":4991.8403328126669}]
[null,null,null,null,null,null,null,null,null,null,null,"Maximum",{"$f":"MAX(M3:M67)","v":4993.7351405458803}]
[null,null,null,null,null,null,null,null,null,null,null,"Minimum",{"$f":"MIN(M3:M68)","v":4983.729911082175}]
["Eruption","True Age","Pb Age (Ma)","Age Ratio 106",null,null,null,null,null,null,null,"Difference",{"$f":"M68-M69","v":10.005229463705291}]
[1983,30,4984,166.13333333333333,null,null,null,null,null,null,null,"Accuracy",{"$f":"1-(M70/M67)","v":0.99799568319564669}]
[null,30,4984,166.13333333333333]
[null,30,4987,166.23333333333332]
[1984,29,4988,172]
[null,29,4990,172.06896551724137]
[1985,28,4990,178.21428571428572]
[null,28,4991,178.25]
[1986,27,4992,184.88888888888889]
[null,27,4992,184.88888888888889]
[1987,26,4992,192]
[null,26,4993,192.03846153846155]
[1988,25,4993,199.72]
[null,25,4993,199.72]
[1989,24,4993,208.04166666666666]
[null,24,4994,208.08333333333334]
[null,24,4994,208.08333333333334]
[1990,23,4994,217.13043478260869]
[null,23,4994,217.13043478260869]
[null,23,4993,217.08695652173913]
[1991,22,4993,226.95454545454547]
[1992,21,4992,237.71428571428572]
[1993,20,4992,249.6]
[1994,19,4992,262.73684210526318]
[null,19,4992,262.73684210526318]
[null,19,4992,262.73684210526318]
[1995,18,4992,277.33333333333331]
[null,18,4992,277.33333333333331]
[1996,17,4992,293.64705882352939]
[null,17,4992,293.64705882352939]
[1997,16,4993,312.0625]
[null,16,4993,312.0625]
[1998,15,4993,332.86666666666667]
[null,15,4993,332.86666666666667]
[null,15,4993,332.86666666666667]
[null,15,4992,332.8]
[null,15,4992,332.8]
[1999,14,4993,356.64285714285717]
[null,14,4992,356.57142857142856]
[null,14,4993,356.64285714285717]
[null,14,4993,356.64285714285717]
[2000,13,4992,384]
[null,13,4992,384]
[2001,12,4992,416]
[null,12,4992,416]
[2002,11,4991,453.72727272727275]
[null,11,4991,453.72727272727275]
[2003,10,4991,499.1]
[2004,9,4991,554.55555555555554]
[null,9,4991,554.55555555555554]
[2005,8,4991,623.875]
[null,8,4992,624]
[2006,7,4992,713.14285714285711]
[null,7,4992,713.14285714285711]
[null,7,4992,713.14285714285711]
[2007,6,4992,832]
[null,6,4992,832]
[2008,5,4992,998.4]
[null,5,4992,998.4]
[null,5,4993,998.6]
[2009,4,4992,1248]
[null,4,4993,1248.25]
[null,4,4993,1248.25]
[null,4,4993,1248.25]
[2010,3,4993,1664.3333333333333]
[null,null,null,{"$f":"COUNT(D71:D134)","v":64}]

{"sheet":"H04","index":6,"n_rows":43,"n_cols":15,"rows_kept":43,"cut":false,"hidden":false,"merged":[]}
["Table 5","Kilauea"]
["Sample","206Pb/204Pb","207Pb/204Pb","208Pb/204Pb","87Sr/86Sr","Error","143Nd/144Nd","eNd","207Pb/206Pb","Pb/Pb Age","Pb/Pb Age"]
["1998-09-07",18.410699999999999,15.4727,38.075200000000002,0.70360100000000003,6,0.51295599999999997,6.21,{"$f":"(C3/B3)","v":0.84041888684297728},{"$f":"[1]!AgePb76(I3)","v":4991.8260987556387},4991.8260987556387,null,1998,7,"Sep"]
["1999-02-13",18.412400000000002,15.473599999999999,38.0764,0.70361600000000002,6,0.51294399999999996,5.97,{"$f":"(C4/B4)","v":0.84039017184071596},{"$f":"[1]!AgePb76(I4)","v":4991.7775863996221},4991.7775863996221,null,1999,13,"Feb"]
["1999-10-27",18.401800000000001,15.4726,38.0687,0.70362199999999997,9,0.51294799999999996,6.04,0.84081991979045523,{"$f":"[1]!AgePb76(I5)","v":4992.5034370311441},4992.5034370311441,null,1999,27,"Oct"]
["2000-02-19",18.4072,15.4712,38.072000000000003,0.70363399999999998,7,0.51294399999999996,5.97,0.84049719674909817,{"$f":"[1]!AgePb76(I6)","v":4991.958389919233},4991.958389919233,null,2000,19,"Feb"]
["2000-06-21",18.406700000000001,15.4704,38.068800000000003,0.70364400000000005,7,0.51294700000000004,6.04,0.84047656559839623,{"$f":"[1]!AgePb76(I7)","v":4991.9235383970117},4991.9235383970117,null,2000,21,"Jun"]
["2001-01-08",18.4116,15.472099999999999,38.073700000000002,0.70363900000000001,12,0.51294600000000001,6.01,0.84034521714571242,{"$f":"[1]!AgePb76(I8)","v":4991.7016344735594},4991.7016344735594,null,2001,8,"Jan"]
["2001-07-07",18.413699999999999,15.4719,38.072899999999997,0.70362599999999997,9,0.51294300000000004,5.95,0.84023851805992278,{"$f":"[1]!AgePb76(I9)","v":4991.5213467851727},4991.5213467851727,null,2001,7,"Jul"]
["2002-02-09",18.413900000000002,15.470700000000001,38.069099999999999,0.70363699999999996,8,0.51293999999999995,5.89,0.84016422376574218,{"$f":"[1]!AgePb76(I10)","v":4991.3957985743054},4991.3957985743054,null,2002,9,"Feb"]
["2002-08-20",18.415199999999999,15.472200000000001,38.071899999999999,0.70363900000000001,5,0.51294499999999998,5.98,0.84018636778313582,{"$f":"[1]!AgePb76(I11)","v":4991.4332204714347},4991.4332204714347,null,2002,20,"Aug"]
["2003-04-12",18.4161,15.4726,38.0715,0.70364099999999996,5,0.51295299999999999,6.14,0.84016702776375018,{"$f":"[1]!AgePb76(I12)","v":4991.4005371999256},4991.4005371999256,null,2003,12,"Apr"]
["2004-01-15",18.415400000000002,15.4719,38.069400000000002,0.70363200000000004,7,0.51294600000000001,6.01,0.84016095224648923,{"$f":"[1]!AgePb76(I13)","v":4991.3902698383881},4991.3902698383881,null,2004,15,"Jan"]
["2004-06-07",18.4146,15.4716,38.067999999999998,0.703623,7,0.51294300000000004,5.95,0.84018116060082759,{"$f":"[1]!AgePb76(I14)","v":4991.4244207784768},4991.4244207784768,null,2004,7,"Jun"]
["2005-01-31",18.417000000000002,15.4735,38.075200000000002,0.70362400000000003,5,0.51295500000000005,6.19,0.84017483846446206,{"$f":"[1]!AgePb76(I15)","v":4991.413736830591},4991.413736830591,null,2005,31,"Jan"]
["2005-08-08",18.411899999999999,15.4727,38.069899999999997,0.70362199999999997,10,0.51295299999999999,6.14,0.84036411234038855,{"$f":"[1]!AgePb76(I16)","v":4991.7335588380702},4991.7335588380702,null,2005,8,"Aug"]
["Hawaiian","rock","standard","(Kilauea","volcano)"]
["Kil1919",18.656199999999998,15.4903,38.209200000000003,0.70347700000000002,null,0.51297300000000001,6.53,0.83030306278877808,{"$f":"[1]!AgePb76(I18)","v":4974.6261018013311},4974.6261018013311]
[]
[]
[]
[]
[]
["Eruption Year","Pb/Pb Age","True Age","Error Ratio","Year Dated"]
[1998,4992,{"$f":"2008-A25","v":10},{"$f":"B25 /C25","v":499.2},2008]
[1999,4992,{"$f":"2008-A26","v":9},{"$f":"B26 /C26","v":554.66666666666663},2008]
[1999,4993,9,554.77777777777783,2008]
[2000,4992,8,624,2008]
[2000,4992,8,624,2008]
[2001,4992,7,713.14285714285711,2008]
[2001,4992,7,713.14285714285711,2008]
[2002,4991,6,831.83333333333337,2008]
[2002,4991,6,831.83333333333337,2008]
[2003,4991,5,998.2,2008]
[2004,4991,4,1247.75,2008]
[2004,4991,4,1247.75,2008]
[2005,4991,3,1663.6666666666667,2008]
[2005,4992,3,1664,2008]
["Average",{"$f":"AVERAGE(B25:B38)","v":4991.6428571428569}]
["Maximum",{"$f":"MAX(B25:B39)","v":4993}]
["Minimum",{"$f":"MIN(B25:B40)","v":4991}]
["Difference",{"$f":"B40-B41","v":2}]
["Accuracy",{"$f":"1-(B42/B39)","v":0.99959933030923109}]

{"sheet":"H05","index":7,"n_rows":50,"n_cols":19,"rows_kept":50,"cut":false,"hidden":false,"merged":[]}
["Table 4","Anatahan"]
["206Pb/204Pb",18.779,18.79,18.792000000000002,18.795000000000002,18.795000000000002,18.805,18.8,18.768999999999998,18.77,18.797000000000001,18.800999999999998,18.795999999999999,18.795000000000002,18.795000000000002,18.789000000000001,18.792000000000002,18.795000000000002]
["207Pb/204Pb",15.564,15.564,15.557,15.564,15.565,15.566000000000001,15.568,15.563000000000001,15.561999999999999,15.566000000000001,15.569000000000001,15.564,15.565,15.563000000000001,15.558999999999999,15.558999999999999,15.564]
["207Pb/206Pb",{"$f":"(B3/B2)","v":0.82879812556579158},{"$f":"(C3/C2)","v":0.82831293241085691},0.82785227756492119,0.82809257781324819,0.8281457834530459,0.82775857484711513,0.82808510638297872,0.82918642442325119,0.82908897176345231,0.82811086875565254,0.82809425030583494,0.82804852096190684,0.8281457834530459,0.82803937217345036,0.8280909042524881,0.82795870583226894,0.82809257781324819]
["Pb/Pb Age",{"$f":"[1]!AgePb76(B4)","v":4972.0482304275947},{"$f":"[1]!AgePb76(C4)","v":4971.2160615928133},{"$f":"[1]!AgePb76(D4)","v":4970.4254995039228},{"$f":"[1]!AgePb76(E4)","v":4970.8379539355747},{"$f":"[1]!AgePb76(F4)","v":4970.9292595763191},{"$f":"[1]!AgePb76(G4)","v":4970.2646324683601},{"$f":"[1]!AgePb76(H4)","v":4970.8251317931054},{"$f":"[1]!AgePb76(I4)","v":4972.7138401086149},{"$f":"[1]!AgePb76(J4)","v":4972.5468209708843},{"$f":"[1]!AgePb76(K4)","v":4970.8693435334499},{"$f":"[1]!AgePb76(L4)","v":4970.8408241774969},{"$f":"[1]!AgePb76(M4)","v":4970.762343715196},{"$f":"[1]!AgePb76(N4)","v":4970.9292595763191},{"$f":"[1]!AgePb76(O4)","v":4970.7466420589835},{"$f":"[1]!AgePb76(P4)","v":4970.8350818543431},{"$f":"[1]!AgePb76(Q4)","v":4970.6081900461377},{"$f":"[1]!AgePb76(R4)","v":4970.8379539355747}]
["Pb/Pb Age",4972.0482304275947,4971.2160615928133,4970.4254995039228,4970.8379539355747,4970.9292595763191,4970.2646324683601,4970.8251317931054,4972.7138401086149,4972.5468209708843,4970.8693435334499,4970.8408241774969,4970.762343715196,4970.9292595763191,4970.7466420589835,4970.8350818543431,4970.6081900461377,4970.8379539355747]
["Error Level",{"$f":"B6/2","v":2486.0241152137974},{"$f":"C6/2","v":2485.6080307964066},2485.2127497519614,2485.4189769677873,2485.4646297881595,2485.1323162341801,2485.4125658965527,2486.3569200543075,2486.2734104854421,2485.4346717667249,2485.4204120887484,2485.381171857598,2485.4646297881595,2485.3733210294918,2485.4175409271716,2485.3040950230688,2485.4189769677873,{"$f":"COUNT(B7:R7)","v":17}]
[]
["Table 5",null,null,null,null,null,null,null,null,null,null,null,null,null,null,"Pb Age (Ma)","Pb Age (Ma)","Pb Age (Ma)"]
["206Pb/204Pb",18.802,18.809999999999999,18.808,18.803000000000001,null,null,null,null,null,null,null,null,null,null,4975,4971,4971]
["207Pb/204Pb",15.561,15.571,15.565,15.564,null,null,null,null,null,null,null,null,null,null,4973,4971,4971]
["207Pb/206Pb",{"$f":"(B11/B10)","v":0.82762472077438576},0.82780435938330676,0.82757337303275202,0.82774025421475295,null,null,null,null,null,null,null,null,null,null,4973,4971,4970]
["Pb/Pb Age",{"$f":"[1]!AgePb76(B12)","v":4970.0348007759694},{"$f":"[1]!AgePb76(C12)","v":4970.3432369034535},{"$f":"[1]!AgePb76(D12)","v":4969.9466245876574},{"$f":"[1]!AgePb76(E12)","v":4970.2331776945321},null,null,null,null,null,null,null,null,null,null,4972,4971,4970]
["Pb/Pb Age",4970.0348007759694,4970.3432369034535,4969.9466245876574,4970.2331776945321,null,null,null,null,null,"Table 4","Table 5","Table 7",null,null,4971,4971,4970]
["Error Level",{"$f":"B14/2","v":2485.0174003879847},{"$f":"C14/2","v":2485.1716184517268},{"$f":"D14/2","v":2484.9733122938287},{"$f":"E14/2","v":2485.116588847266},null,null,null,null,null,4972,4970,4975,null,null,4971,4971,4970]
[null,null,null,null,null,null,null,null,null,null,4971,4970,4969,null,null,4971,4971,4970]
["Table 7",null,null,null,null,null,null,null,null,null,4970,4970]
["206Pb/204Pb",18.7,18.920000000000002,null,null,null,null,null,null,null,4971,4970]
["207Pb/204Pb",15.53,15.65,null,null,null,null,null,null,null,4971]
["207Pb/206Pb",{"$f":"(B19/B18)","v":0.83048128342245986},0.82716701902748413,null,null,null,null,null,null,null,4970]
["Pb/Pb Age",{"$f":"[1]!AgePb76(B20)","v":4974.9310546297447},{"$f":"[1]!AgePb76(C20)","v":4969.2486136967282},null,null,null,null,null,null,null,4971]
["Pb/Pb Age",4974.9310546297447,4969.2486136967282,null,null,null,null,null,null,null,4973]
["Error Level",{"$f":"B22/2","v":2487.4655273148724},{"$f":"C22/2","v":2484.6243068483641},null,null,null,null,null,null,null,4973]
[null,null,null,null,null,null,null,null,null,null,4971]
[null,null,null,null,null,null,null,null,null,null,4971]
[null,null,null,null,null,null,null,null,null,null,4971]
["True Age","Pb Age (Ma)",null,null,null,null,null,null,null,null,4971]
[1,4972,null,null,null,null,null,null,null,null,4971]
[1,4971,null,null,null,null,null,null,null,null,4971]
[1,4970,null,null,null,null,null,null,null,null,4971]
[1,4971,null,null,null,null,null,null,null,null,4971]
[1,4971,null,null,null,null,null,null,null,"Average",{"$f":"AVERAGE(K14:K31)","v":4971.1764705882351},{"$f":"AVERAGE(L14:L31)","v":4970},{"$f":"AVERAGE(M14:M31)","v":4972}]
[1,4970,null,null,null,null,null,null,null,"Maximum",{"$f":"MAX(K14:K32)","v":4973},{"$f":"MAX(L14:L32)","v":4970},{"$f":"MAX(M14:M32)","v":4975}]
[1,4971,null,null,null,null,null,null,null,"Minimum",{"$f":"MIN(K14:K33)","v":4970},{"$f":"MIN(L14:L33)","v":4970},{"$f":"MIN(M14:M33)","v":4969}]
[1,4973,null,null,null,null,null,null,null,"Difference",{"$f":"K33-K34","v":3},{"$f":"L33-L34","v":0},{"$f":"M33-M34","v":6}]
[1,4973,null,null,null,null,null,null,null,"Accuracy",{"$f":"1-(K35/K32)","v":0.99939652112176069},{"$f":"1-(L35/L32)","v":1},{"$f":"1-(M35/M32)","v":0.99879324215607401},{"$f":"AVERAGE(K36:M36)","v":0.9993965877592782}]
[1,4971]
[1,4971]
[1,4971]
[1,4971]
[1,4971]
[1,4971]
[1,4971]
[1,4971]
[1,4970]
[1,4970]
[1,4970]
[1,4970]
[1,4975]
[1,4969]

{"sheet":"H06","index":8,"n_rows":33,"n_cols":11,"rows_kept":33,"cut":false,"hidden":false,"merged":[]}
["http://pubs.usgs.gov/pinatubo/bernard/index.html","Pinatubo"]
["http://pubs.usgs.gov/pinatubo/bernard/table9.html"]
["5 billion year age for 1991 Mount Pinatubo volcanic eruption","206Pb/204Pb","Error","207Pb/204Pb","Error","208Pb/204Pb","Error","Pb/Pb Age","207Pb/206Pb","Pb/Pb Age"]
[null,18.43,13,15.598000000000001,14,38.622999999999998,39,{"$f":"[1]!AgePb76(I4)","v":5001.7878405726542},{"$f":"(D4/B4)","v":0.84633749321758012},5001.7878405726542,{"$f":"J4/8","v":625.22348007158178}]
[null,18.440000000000001,16,15.608000000000001,20,38.628,45,{"$f":"[1]!AgePb76(I5)","v":5001.927568172784},{"$f":"(D5/B5)","v":0.84642082429501087},5001.927568172784,{"$f":"J5/8","v":625.24094602159801}]
[null,18.425999999999998,14,15.584,15,38.585999999999999,42,{"$f":"[1]!AgePb76(I6)","v":5000.8215014348134},0.84576142407467714,5000.8215014348134,625.10268767935167]
[null,18.434999999999999,15,15.593999999999999,17,38.612000000000002,42,{"$f":"[1]!AgePb76(I7)","v":5001.0388689485935},0.8458909682668837,5001.0388689485935,625.12985861857419]
[null,18.481999999999999,15,15.621,14,38.719000000000001,39,{"$f":"[1]!AgePb76(I8)","v":4999.880291700968},0.84520073585109845,4999.880291700968,624.985036462621]
[]
["http://pubs.usgs.gov/pinatubo/castillo/index.html"]
["5 billion year age for 1991 Mount Pinatubo volcanic eruption","206Pb/204Pb",18.242999999999999,18.443000000000001,18.433,18.417000000000002,18.411999999999999]
[null,"207Pb/204Pb",15.516999999999999,15.603,15.584,15.583,15.576000000000001]
[" ","Pb/Pb Age",{"$f":"[1]!AgePb76(C14)","v":5008.8711026424244},{"$f":"[1]!AgePb76(D14)","v":5001.2419833250196},{"$f":"[1]!AgePb76(E14)","v":5000.2824260318785},{"$f":"[1]!AgePb76(F14)","v":5001.4238091347524},{"$f":"[1]!AgePb76(G14)","v":5001.171494971436}]
[null,"207Pb/206Pb",{"$f":"(C12/C11)","v":0.85057282245244759},{"$f":"(D12/D11)","v":0.84601203708724171},0.84544024304236964,0.84612043220937172,0.84597001955246587]
[null,"Pb/Pb Age",5008.8711026424244,5001.2419833250196,5000.2824260318785,5001.4238091347524,5001.171494971436]
[null,null,{"$f":"C15/8","v":626.10888783030305},{"$f":"D15/8","v":625.15524791562746},625.03530325398481,625.17797614184406,625.1464368714295]
["Download Isoplot Version 4.15"]
["http://www.bgc.org/isoplot_etc/isoplot/Isoplot4_15files.zip"]
[]
[]
[]
[null,"Bernard","Castillo"]
[null,"Pb Age (Ma)","Pb Age (Ma)",null,"Eruption","True Age","Pb Age (Ma)","Age Ratio 106"]
[null,5002,5009,null,1991,8,5002,{"$f":"G24/F24","v":625.25}]
[null,5002,5001,null,1991,8,5002,{"$f":"G25/F25","v":625.25}]
[null,5001,5000,null,1991,8,5001,625.125]
[null,5001,5001,null,1991,8,5001,625.125]
[null,5000,5001,null,1991,8,5000,625]
["Average",{"$f":"AVERAGE(B24:B28)","v":5001.2},{"$f":"AVERAGE(C24:C28)","v":5002.3999999999996},null,1991,8,5009,626.125]
["Maximum",{"$f":"MAX(B24:B29)","v":5002},{"$f":"MAX(C24:C29)","v":5009},null,1991,8,5001,625.125]
["Minimum",{"$f":"MIN(B24:B30)","v":5000},{"$f":"MIN(C24:C30)","v":5000},null,1991,8,5000,625]
["Difference",{"$f":"B30-B31","v":2},{"$f":"C30-C31","v":9},null,1991,8,5001,625.125]
["Accuracy",{"$f":"1-(B32/B29)","v":0.99960009597696553},{"$f":"1-(C32/C29)","v":0.99820086358547899},null,1991,8,5001,625.125]

{"sheet":"H07","index":9,"n_rows":34,"n_cols":14,"rows_kept":34,"cut":false,"hidden":false,"merged":[]}
["Table 2",null,null,"Tambora",1815,null,null,null,null,null,null,null,null,"Thousand Years"]
["Type","U(ppm)","Th(ppm)","(234U/238U)","2s","(238U/232Th)","2s","(230Th/232Th)","2s","(230Th/238U)","2s","226Ra","(226Ra/230Th)","(230Th/238U)"]
["Sample","T07"]
["wr",3.35,11.11,1.002,3.0000000000000001E-3,0.91400000000000003,8.0000000000000002E-3,0.90200000000000002,1E-3,0.98699999999999999,1E-3,2079.8000000000002,1.9850000000000001,{"$f":"[1]!Th230Age(J4, D4)","v":451.57526222404454}]
["bio",0.28999999999999998,1.03,1.01,5.0000000000000001E-3,0.85399999999999998,4.0000000000000001E-3,0.81100000000000005,1E-3,0.95,1E-3,704,8.0359999999999996,{"$f":"[1]!Th230Age(J5, D5)","v":301.81081013304663}]
["mt",0.77,2.81,1.0069999999999999,6.0000000000000001E-3,0.83,4.0000000000000001E-3,0.82899999999999996,2E-3,1,3.0000000000000001E-3,366.7,1.5069999999999999,{"$f":"[1]!Th230Age(J6, D6)","v":504.03838962051714}]
["pl",0.52,2.0299999999999998,1.0029999999999999,4.0000000000000001E-3,0.78400000000000003,3.0000000000000001E-3,0.79800000000000004,2E-3,1.018,2E-3,203.8,1.204,"."]
["gm",3.58,13.16,1.008,5.0000000000000001E-3,0.82399999999999995,5.0000000000000001E-3,0.72199999999999998,1.2999999999999999E-2,0.876,1.6E-2,1165.9000000000001,1.173,{"$f":"[1]!Th230Age(J8, D8)","v":219.63869111257404}]
["Sample","T39",null,null,null,null,null,null,null,null,null,null,null,"."]
["wr",3.29,11.6,0.998,3.0000000000000001E-3,0.86,2E-3,0.77600000000000002,1E-3,0.90200000000000002,1E-3,1202.8,1.5269999999999999,"."]
["bio",0.41,1.66,1.0009999999999999,6.0000000000000001E-3,0.74,7.0000000000000001E-3,0.78500000000000003,3.0000000000000001E-3,1.0660000000000001,4.0000000000000001E-3,112.2,0.96299999999999997,{"$f":"[1]!Th230Age(J11, D11)","v":0}]
["mt",0.81,3.45,1.06,7.0000000000000001E-3,0.71199999999999997,6.0000000000000001E-3,0.81599999999999995,1E-3,1.145,6.0000000000000001E-3,306.60000000000002,1.1839999999999999,{"$f":"[1]!Th230Age(J12, D12)","v":0}]
["pl",0.52,1.44,1,3.0000000000000001E-3,1.0900000000000001,1.2E-2,0.79700000000000004,2E-3,1.3640000000000001,2E-3,204.4,0.56899999999999995,{"$f":"[1]!Th230Age(J13, D13)","v":0}]
["cpx",0.46,2.0099999999999998,1.004,3.0000000000000001E-3,0.68899999999999995,1E-3,0.78800000000000003,2E-3,1.103,4.0000000000000001E-3,"n.d.","n.d.",{"$f":"[1]!Th230Age(J14, D14)","v":0}]
["gm",3.56,12.62,0.99299999999999999,4.0000000000000001E-3,0.85499999999999998,3.0000000000000001E-3,0.78800000000000003,6.0000000000000001E-3,0.875,7.0000000000000001E-3,1149.9000000000001,1.5469999999999999,{"$f":"[1]!Th230Age(J15, D15)","v":233.17102768519132}]
["Sample","T57/58",null,null,null,null,null,null,null,null,null,null,null,{"$f":"[1]!Th230Age(J16, D16)","v":0}]
["wr",3.42,12.36,1.0149999999999999,2.8000000000000001E-2,0.84,6.0000000000000001E-3,0.81899999999999995,2E-3,0.97399999999999998,6.0000000000000001E-3,1219.0999999999999,1.1519999999999999,{"$f":"[1]!Th230Age(J17, D17)","v":336.91335943199266}]
["bio",0.25,0.97,1.012,2.4E-2,0.78300000000000003,4.0000000000000001E-3,0.79,0,1.0089999999999999,5.0000000000000001E-3,"n.d.","n.d.",{"$f":"[1]!Th230Age(J18, D18)","v":528.61454353836166}]
["mt",0.67,2.66,1.0049999999999999,5.0000000000000001E-3,0.75800000000000001,2E-3,0.8,0,1.0549999999999999,2E-3,315.39999999999998,1.415,{"$f":"[1]!Th230Age(J19, D19)","v":0}]
["pl",0.63,2.4300000000000002,1.0029999999999999,6.0000000000000001E-3,0.79100000000000004,1E-3,0.80800000000000005,3.0000000000000001E-3,1.0209999999999999,4.0000000000000001E-3,1294.8,6.3029999999999999,{"$f":"[1]!Th230Age(J20, D20)","v":0}]
["cpx",0.45,1.91,1.006,1.2999999999999999E-2,0.71399999999999997,2E-3,1.014,6.0000000000000001E-3,1.42,8.9999999999999993E-3,1683.5,8.3179999999999996,{"$f":"[1]!Th230Age(J21, D21)","v":0}]
["gm",3.7,13.64,0.996,5.0000000000000001E-3,0.82299999999999995,4.0000000000000001E-3,0.72099999999999997,1E-3,0.875,2E-3,1025.3,0.997,{"$f":"[1]!Th230Age(J22, D22)","v":230.07974141764404}]
[]
[]
["1000 Years"]
["230Th Age 103","Erupted","Dated","True Age","Age Ratio"]
[451.58,1815,2012,203,{"$f":"(A27 * 1000)/203","v":2224.5320197044334},{"$f":"A27/1000","v":0.45157999999999998}]
[301.81,1815,2012,203,{"$f":"(A28 * 1000)/203","v":1486.7487684729065},{"$f":"A28/1000","v":0.30181000000000002}]
[504.04,1815,2012,203,2482.9556650246304,0.50404000000000004]
[219.64,1815,2012,203,1081.9704433497536,0.21963999999999997]
[233.17,1815,2012,203,1148.6206896551723,0.23316999999999999]
[336.91,1815,2012,203,1659.655172413793,0.33691000000000004]
[528.61,1815,2012,203,2603.9901477832514,0.52861000000000002]
[230.08,1815,2012,203,1133.3990147783252,0.23008000000000001]

{"sheet":"H08","index":10,"n_rows":33,"n_cols":17,"rows_kept":33,"cut":false,"hidden":false,"merged":[]}
["Table 1",null,"Q'/P'","X","Y",null,null,"R'/Q'","Thousand Years",null,null,"230Th/238U Age","Years","Age Ratio"]
["Sample","226Ra","234U/238U","238U/232Th","230Th/232Th","230Th/238U","226Ra/230Th","230Th/234U","230Th/238U",null,null,"Ka","Historic Age",null,"Erupted","Dated"]
["K1000a",0.70369999999999999,0.997,1.482,1.46,0.98499999999999999,1.0529999999999999,{"$f":"F3/C3","v":0.98796389167502507},{"$f":"[1]!Th230Age(F3, C3)","v":491.9153209669613},null,null,491.9153209669613,{"$f":"P3-O3","v":98},{"$f":"(L3*1000)/M3","v":5019.5440914996052},1912,2010,{"$f":"L3/1000","v":0.49191532096696128}]
["K1079a","n.d.",0.999,1.4790000000000001,1.4630000000000001,0.98899999999999999,1.0029999999999999,{"$f":"F4/C4","v":0.98998998998998999},{"$f":"[1]!Th230Age(F4, C4)","v":505.1164817214551},null,null,505.1164817214551,{"$f":"P4-O4","v":98},{"$f":"(L4*1000)/M4","v":5154.2498134842363},1912,2010,{"$f":"L4/1000","v":0.50511648172145507}]
["K2466b",0.70357999999999998,1.004,1.3859999999999999,1.389,1.002,2.085,0.99800796812749004,{"$f":"[1]!Th230Age(F5, C5)","v":610.0534478085475},null,null,610.0534478085475,98,6225.0351817198725,1912,2010,0.61005344780854753]
["K2488d","n.d.",1.006,1.3939999999999999,1.3819999999999999,0.99099999999999999,1.2150000000000001,0.98508946322067592,{"$f":"[1]!Th230Age(F6, C6)","v":442.14545721855677},null,null,442.14545721855677,98,4511.6883389648647,1912,2010,0.44214545721855675]
["K0100c","n.d.",1.002,1.4359999999999999,1.4019999999999999,0.97699999999999998,1.012,0.97504990019960081,{"$f":"[1]!Th230Age(F7, C7)","v":398.33190180238785},null,null,398.33190180238785,98,4064.6112428815086,1912,2010,0.39833190180238787]
["K0121","n.d.",0.998,1.4570000000000001,1.4370000000000001,0.98599999999999999,0.998,0.9879759519038076,{"$f":"[1]!Th230Age(F8, C8)","v":488.12134903917269},null,null,488.12134903917269,98,4980.830092236456,1912,2010,0.4881213490391727]
["K0135d",0.70367999999999997,1.002,1.385,1.381,0.997,2.339,0.99500998003992014,{"$f":"[1]!Th230Age(F9, C9)","v":559.89466135853468},null,null,559.89466135853468,98,5713.2108301891294,1912,2010,0.55989466135853472]
["K0162","n.d.",1.006,1.4390000000000001,1.399,0.97199999999999998,0.99199999999999999,0.96620278330019882,{"$f":"[1]!Th230Age(F10, C10)","v":362.10340304411363},null,null,362.10340304411363,98,3694.9326841236089,1912,2010,0.36210340304411365]
["K0182","n.d.",1.0049999999999999,1.44,1.4219999999999999,0.98699999999999999,1.069,0.98208955223880612,{"$f":"[1]!Th230Age(F11, C11)","v":426.8135102949754},null,null,426.8135102949754,98,4355.2399009691371,1912,2010,0.42681351029497538]
["K0200",0.70372999999999997,1.0049999999999999,1.407,1.389,0.98699999999999999,1.07,0.98208955223880612,{"$f":"[1]!Th230Age(F12, C12)","v":426.8135102949754},null,null,426.8135102949754,98,4355.2399009691371,1912,2010,0.42681351029497538]
["K0581",0.70367999999999997,1.0029999999999999,1.3720000000000001,1.369,0.998,1.119,0.99501495513459637,{"$f":"[1]!Th230Age(F13, C13)","v":552.67630839880303},null,null,552.67630839880303,98,5639.5541673347243,1912,2010,0.552676308398803]
["K1365","n.d.",1.004,1.4510000000000001,1.4330000000000001,0.98799999999999999,0.97,0.98406374501992033,{"$f":"[1]!Th230Age(F14, C14)","v":440.39220737851127},null,null,440.39220737851127,98,4493.7980344746047,1912,2010,0.44039220737851126]
["K1490","n.d.",0.99399999999999999,1.45,1.409,0.97199999999999998,0.997,0.97786720321931586,{"$f":"[1]!Th230Age(F15, C15)","v":425.9604603422564},null,null,425.9604603422564,98,4346.535309614861,1912,2010,0.42596046034225638]
["K2582a",0.70362000000000002,1.0009999999999999,1.399,1.4019999999999999,1.002,0.999,1.0009990009990011,{"$f":"[1]!Th230Age(F16, C16)","v":0},null,null,436.49668813814367,{"$f":"P16-O16","v":98},4454.0478381443236,1912,2010,0.43649668813814368]
["K1271b",0.70364000000000004,1.0029999999999999,1.41,1.39,0.98599999999999999,1.3680000000000001,0.98305084745762716,{"$f":"[1]!Th230Age(F17, C17)","v":436.49668813814367},null,null,365.80264205409617,98,3732.6800209601647,1912,2010,0.36580264205409618]
["K1270a","n.d.",1.002,1.4490000000000001,1.4019999999999999,0.96799999999999997,1.006,0.96606786427145708,{"$f":"[1]!Th230Age(F18, C18)","v":365.80264205409617},null,null,381.51326611649398,98,3892.9925113927957,1912,2010,0.381513266116494]
["K1269c",0.70360999999999996,1.0029999999999999,1.444,1.407,0.97399999999999998,1.0089999999999999,0.97108673978065807,{"$f":"[1]!Th230Age(F19, C19)","v":381.51326611649398},null,null,594.19812421403253,98,6063.2461654493118,1912,2010,0.59419812421403251]
["K1268b",0.70369999999999999,1.0029999999999999,1.395,1.395,1,2.5219999999999998,0.99700897308075787,{"$f":"[1]!Th230Age(F20, C20)","v":594.19812421403253},null,null,533.6109525631025,98,5445.0097200316577,1912,2010,0.53361095256310254]
["K1268f",0.70372999999999997,1.0009999999999999,1.3979999999999999,1.39,0.99399999999999999,1.399,0.99300699300699313,{"$f":"[1]!Th230Age(F21, C21)","v":533.6109525631025},null,null,411.76226792713908,98,4201.6557951748882,1912,2010,0.4117622679271391]
["K1267b",0.7036,1.002,1.4350000000000001,1.407,0.98,1.038,0.97804391217564868,{"$f":"[1]!Th230Age(F22, C22)","v":411.76226792713908},null,null,450.95764799819295,98,4601.6086530427847,1912,2010,0.45095764799819293]
["K1267c",0.70374000000000003,1.0049999999999999,1.411,1.399,0.99099999999999999,1.288,0.98606965174129357,{"$f":"[1]!Th230Age(F23, C23)","v":450.95764799819295},null,null,361.81208463318359,98,3691.9600472773836,1912,2010,0.36181208463318359]
["K1266c","n.d.",1.0029999999999999,1.4530000000000001,1.407,0.96799999999999997,1.018,0.96510468594217358,{"$f":"[1]!Th230Age(F24, C24)","v":361.81208463318359},null,null,489.04886565231493,98,4990.2945474726012,1912,2010,0.48904886565231492]
["K1266f","n.d.",1.0029999999999999,1.3979999999999999,1.389,0.99299999999999999,1.044,0.99002991026919251,{"$f":"[1]!Th230Age(F25, C25)","v":489.04886565231493},null,null,514.94913805199019,98,5254.5830413468384,1912,2010,0.51494913805199016]
["K0543",0.70338999999999996,1.0029999999999999,1.2809999999999999,1.35,1.054,1.206,1.0508474576271187,{"$f":"[1]!Th230Age(F26, C26)","v":0},null,null,381.51326611649398,98,3892.9925113927957,1912,2010,0.381513266116494]
["K1595c",0.70370999999999995,1.002,1.397,1.389,0.99399999999999999,1.163,0.99201596806387227,{"$f":"[1]!Th230Age(F27, C27)","v":514.94913805199019},null,null,512.8771573151414,98,5233.4403807667486,1912,2010,0.51287715731514139]
["K2015c","n.d.",1.0029999999999999,1.446,1.4079999999999999,0.97399999999999998,1.004,0.97108673978065807,{"$f":"[1]!Th230Age(F28, C28)","v":381.51326611649398},null,null,474.40354900510869,98,4840.8525408684563,1912,2010,0.47440354900510867]
["K0184",0.70374000000000003,1.0049999999999999,1.387,1.3839999999999999,0.998,1.7410000000000001,0.99303482587064684,{"$f":"[1]!Th230Age(F29, C29)","v":512.8771573151414},null,"Average",{"$f":"AVERAGE(L3:L28)","v":463.0493719021033},null,{"$f":"AVERAGE(N3:N28)","v":4724.9935908377875},1912,2010]
["K0016",0.70372000000000001,1.002,1.4419999999999999,1.4279999999999999,0.99,1.042,0.9880239520958084,{"$f":"[1]!Th230Age(F30, C30)","v":474.40354900510869},null,"Maximum",{"$f":"MAX(L3:L29)","v":610.0534478085475},null,{"$f":"MAX(N3:N29)","v":6225.0351817198725},1912,2010]
["AM23",0.70479999999999998,"n.d.",1.1839999999999999,"n.d.","n.d.","n.d.",{"$error":"#VALUE!"},null,null,"Minimum",{"$f":"MIN(L3:L30)","v":361.81208463318359},null,{"$f":"MIN(N3:N30)","v":3691.9600472773836}]
[null,null,null,null,null,null,null,null,null,null,"Difference",{"$f":"L30-L31","v":248.24136317536392},null,{"$f":"N30-N31","v":2533.0751344424889}]
[null,null,null,null,null,null,null,null,null,null,"Accuracy",{"$f":"1-(L32/L29)","v":0.46389871525871229},null,{"$f":"1-(N32/N29)","v":0.46389871525871218}]

{"sheet":"H09","index":11,"n_rows":23,"n_cols":16,"rows_kept":23,"cut":false,"hidden":false,"merged":[]}
["Table 2","Kilauea",null,null,null,null,null,null,null,null,null,"Year","Pb/Pb Ages","Year Dated","True Age","Error Ratio"]
["Year","206Pb/204Pb","207Pb/204Pb","208Pb/204Pb","87Sr/86Sr","143Nd/144Nd","eNd","207Pb/206Pb","Ages","Ages",null,1790,4992.2241907109674,1999,{"$f":"(N2-L2)","v":209},{"$f":"M2/O2","v":23.886240146942427}]
[1790,18.393999999999998,15.462999999999999,38.023000000000003,0.70356300000000005,0.51297000000000004,6.4,{"$f":"C3/B3","v":0.84065456126997939},{"$f":"[1]!AgePb76(H3)","v":4992.2241907109674},4992.2241907109674,null,1820,4992.1283667127691,1999,{"$f":"(N3-L3)","v":179},{"$f":"M3/O3","v":27.888985288898152}]
[1790,18.507999999999999,15.472,38.130000000000003,0.70359499999999997,0.51294499999999998,5.9,{"$f":"C4/B4","v":0.83596282688567103},{"$f":"[1]!AgePb76(H4)","v":4984.2766939968706},4984.2766939968706,null,1832,4989.5250308174855,1999,167,29.877395394116679]
[1820,18.399999999999999,15.467000000000001,38.049999999999997,0.70367299999999999,0.51295299999999999,6.1,0.84059782608695666,{"$f":"[1]!AgePb76(H5)","v":4992.1283667127691},4992.1283667127691,null,1866,4980.6434595960918,1999,133,37.448447064632269]
[1832,18.428999999999998,15.462999999999999,38.033999999999999,0.70364899999999997,0.51294799999999996,6,0.83905800640295192,{"$f":"[1]!AgePb76(H6)","v":4989.5250308174855},4989.5250308174855,null,1885,4983.1077147867427,1999,114,43.711471182339849]
[1866,18.559000000000001,15.475,38.121000000000002,0.70353399999999999,0.51295199999999996,6.1,0.83382725362357879,{"$f":"[1]!AgePb76(H7)","v":4980.6434595960918},4980.6434595960918,null,1894,4981.3629084857357,1999,105,47.441551509387956]
[1885,18.54,15.486000000000001,38.128,0.70356300000000005,0.51296900000000001,6.4,0.83527508090614899,{"$f":"[1]!AgePb76(H8)","v":4983.1077147867427},4983.1077147867427,null,1895,4978.6861552096752,1999,104,47.871982261631494]
[1894,18.552,15.477,38.113999999999997,0.70352800000000004,0.51297000000000004,6.4,0.83424967658473481,{"$f":"[1]!AgePb76(H9)","v":4981.3629084857357},4981.3629084857357,null,1917,4974.9480302098564,1999,82,60.67009792938849]
[1895,18.599,15.487,38.131999999999998,0.70352199999999998,0.51296799999999998,6.4,0.83267917629980104,{"$f":"[1]!AgePb76(H10)","v":4978.6861552096752},4978.6861552096752,null,1919,4974.2971583530671,1999,80,62.178714479413337]
[1917,18.648,15.487,38.167999999999999,0.70348200000000005,0.51297499999999996,6.5,0.83049120549120548,{"$f":"[1]!AgePb76(H11)","v":4974.9480302098564},4974.9480302098564,null,1929,4981.0250238037052,1999,70,71.157500340052934]
[1919,18.670999999999999,15.499000000000001,38.244,0.70347099999999996,0.51296799999999998,6.4,0.83011086712013293,{"$f":"[1]!AgePb76(H12)","v":4974.2971583530671},4974.2971583530671,null,1931,4981.1336557688892,1999,68,73.25196552601308]
[1929,18.571999999999999,15.49,38.219000000000001,0.703565,0.51293999999999995,5.9,0.83405125996123197,{"$f":"[1]!AgePb76(H13)","v":4981.0250238037052},4981.0250238037052,null,1954,4981.3153057339468,1999,45,110.6958956829766]
[1931,18.548999999999999,15.472,38.148000000000003,0.70357700000000001,0.51294300000000004,5.9,0.83411504663324165,{"$f":"[1]!AgePb76(H14)","v":4981.1336557688892},4981.1336557688892,null,1961,4981.5475830407631,1999,38,131.09335744844114]
[1931,18.562000000000001,15.486000000000001,38.197000000000003,null,null,null,0.83428509858851418,{"$f":"[1]!AgePb76(H15)","v":4981.4232198131467},4981.4232198131467,null,1971,4984.7506283965831,1999,28,178.02680815702084]
[1954,18.573,15.494,38.228000000000002,0.70361099999999999,0.51293999999999995,5.9,0.83422171970064074,{"$f":"[1]!AgePb76(H16)","v":4981.3153057339468},4981.3153057339468,null,1982,4987.3393623331594,1999,17,293.37290366665644]
[1961,18.54,15.468999999999999,38.156999999999996,0.70355000000000001,0.51296900000000001,6.4,0.83435814455231927,{"$f":"[1]!AgePb76(H17)","v":4981.5475830407631},4981.5475830407631,null,"Average",{"$f":"AVERAGE(M2:M16)","v":4982.9356382639626}]
[1971,18.509,15.478,38.131999999999998,0.70358500000000002,0.512961,6.3,0.83624182829974603,{"$f":"[1]!AgePb76(H18)","v":4984.7506283965831},4984.7506283965831,null,"Maximum",{"$f":"MAX(M2:M17)","v":4992.2241907109674}]
[1982,18.454999999999998,15.461,38.055999999999997,0.70356799999999997,0.51297099999999995,6.5,0.83776754267136289,{"$f":"[1]!AgePb76(H19)","v":4987.3393623331594},4987.3393623331594,null,"Minimum",{"$f":"MIN(M2:M18)","v":4974.2971583530671}]
[1982,18.454000000000001,15.465,38.079000000000001,0.70357899999999995,0.51297499999999996,6.5,0.8380296954589791,{"$f":"[1]!AgePb76(H20)","v":4987.7836619570107},4987.7836619570107,null,"Difference",{"$f":"M18-M19","v":17.927032357900316}]
[null,null,null,null,null,null,null,null,null,null,null,"Accuracy",{"$f":"1-(M20/M17)","v":0.99640231508907351}]
[]
[null,null,null,null,null,null,{"$f":"1982-1790","v":192}]

{"sheet":"H10","index":12,"n_rows":23,"n_cols":13,"rows_kept":23,"cut":false,"hidden":false,"merged":[]}
["Table 1",1953,1985,1985,1985,1985,1985,1985,1985,"Year",null,"1953 Eruption","1985  Eruption"]
["206Pb/204Pb",18.995999999999999,18.927,18.925000000000001,18.939,18.904,18.850000000000001,18.87,18.893000000000001,null,null,4963,4967]
["207Pb/204Pb",15.64,15.632999999999999,15.635,15.669,15.635999999999999,15.6,15.577999999999999,15.599,null,null,null,4968]
["207Pb/206Pb",{"$f":"(B3/B2)","v":0.82333122762686894},{"$f":"(C3/C2)","v":0.82596291012838796},0.82615587846763539,0.82734040868050063,0.82712653406686409,0.8275862068965516,0.82554319024907252,0.82564971153337208,null,null,null,4970]
["Ages (Ma)",{"$f":"[1]!AgePb76(B4)","v":4962.6417015748175},{"$f":"[1]!AgePb76(C4)","v":4967.1781243228961},{"$f":"[1]!AgePb76(D4)","v":4967.5101530608381},{"$f":"[1]!AgePb76(E4)","v":4969.5464967662747},{"$f":"[1]!AgePb76(F4)","v":4969.179051059019},{"$f":"[1]!AgePb76(G4)","v":4969.9686639051524},{"$f":"[1]!AgePb76(H4)","v":4966.4556533510286},{"$f":"[1]!AgePb76(I4)","v":4966.6390472179728},null,null,null,4969]
["Ages (Ma)",4962.6417015748175,4967.1781243228961,4967.5101530608381,4969.5464967662747,4969.179051059019,4969.9686639051524,4966.4556533510286,4966.6390472179728,null,null,null,4970]
[null,null,null,null,null,null,null,null,null,null,null,null,4966]
[null,null,null,null,null,null,null,null,null,null,null,null,4967]
["Sangeang Api","Pb Age (Ma)","Age Ratio (106)","Th Ages (Ka)","Age Ratio (103)","Dated","True Age","Age Ratio",null,null,null,{"$f":"MIN(L2:L8)","v":4963},{"$f":"MIN(M2:M8)","v":4966}]
[1953,4963,{"$f":"(B10/G10)","v":103.39583333333333},0,null,2001,{"$f":"F10-A10","v":48},{"$f":"E10/G10","v":0}]
[1985,4967,{"$f":"(B11/G11)","v":310.4375},408.59,{"$f":"(D11/G11)","v":25.536874999999998},2001,{"$f":"F11-A11","v":16},{"$f":"E11/G11","v":1.5960546874999999}]
[1985,4968,310.5,0,null,2001,16,0]
[1985,4970,310.625,0,null,2001,16,0]
[1985,4969,310.5625,247.1,{"$f":"(D14/G14)","v":15.44375},2001,16,0.96523437499999998]
[1985,4970,310.625,null,null,2001,16,0]
[1985,4966,310.375,210.3,{"$f":"(D16/G16)","v":13.143750000000001},2001,16,0.82148437500000004]
[1985,4967,310.4375,243.73,{"$f":"(D17/G17)","v":15.233124999999999},2001,16,0.95207031249999996]
[]
[]
["Table 1",1953,1985,1985,1985,1985,1985,1985,1985]
["230Th/238U",1.079,0.98199999999999998,1.0509999999999999,1.149,0.93700000000000006,null,0.84899999999999998,0.88]
["234U/238U",1.02,1.004,1.0069999999999999,1.0069999999999999,1.0349999999999999,null,0.99399999999999999,0.98799999999999999]
["Th Ages (Ka)",{"$f":"[1]!Th230Age(B21, B22)","v":0},{"$f":"[1]!Th230Age(C21, C22)","v":408.5880435737327},{"$f":"[1]!Th230Age(D21, D22)","v":0},{"$f":"[1]!Th230Age(E21, E22)","v":0},{"$f":"[1]!Th230Age(F21, F22)","v":247.10449641779033},null,{"$f":"[1]!Th230Age(H21, H22)","v":210.30014722362301},{"$f":"[1]!Th230Age(I21, I22)","v":243.7310795178565}]

{"sheet":"H11","index":13,"n_rows":23,"n_cols":11,"rows_kept":23,"cut":false,"hidden":false,"merged":[]}
["Table 1"," Vesuvius"]
["Sample","Age","Error","39Ar","Steps","isochron intercept",null,"Year Dated","Year Erupted","Historical Age","Accuracy"]
["CA-1",2061,181,99,"(23 of 25)",297.39999999999998,2.8,2007,79,{"$f":"(H3-I3)","v":1928},{"$f":"(J3/B3)","v":0.93546821931101409}]
["CA-2",1707,185,87,"(21 of 26)",298.39999999999998,3,2007,79,{"$f":"(H4-I4)","v":1928},{"$f":"(B4/J4)","v":0.88537344398340245}]
["CA-4",2099,185,86,"(17 of 26)",300.10000000000002,4.4000000000000004,2007,79,1928,{"$f":"(J5/B5)","v":0.91853263458789902}]
["CA-5",1821,200,86,"(18 of 25)",299.7,1,2007,79,1928,{"$f":"(B6/J6)","v":0.94450207468879666}]
["CA-6",1938,186,100,"(25 of 25)",290.8,3.6,2007,79,1928,0.99484004127966974]
["CA-7",2181,182,100,"(825 of 26)",295.89999999999998,2,2007,79,1928,0.88399816597890879]
["CA-8",1667,184,100,"(26 of 26)",294.2,3.4,2007,79,1928,{"$f":"(B9/J9)","v":0.86462655601659755}]
["VP-2",1867,185,96,"(22 of 26)",302.10000000000002,5.3,2007,79,1928,{"$f":"(B10/J10)","v":0.96836099585062241}]
[]
[]
[]
[]
["Sample","39Ar/40Ar Age","Year Dated","Historical Age","Accuracy"]
["CA-1",2061,2007,1928,0.93546821931101409]
["CA-2",1707,2007,1928,0.88537344398340245]
["CA-4",2099,2007,1928,0.91853263458789902]
["CA-5",1821,2007,1928,0.94450207468879666]
["CA-6",1938,2007,1928,0.99484004127966974]
["CA-7",2181,2007,1928,0.88399816597890879]
["CA-8",1667,2007,1928,0.86462655601659755]
["VP-2",1867,2007,1928,0.96836099585062241]

{"sheet":"H12","index":14,"n_rows":94,"n_cols":22,"rows_kept":94,"cut":false,"hidden":false,"merged":[]}
["Table 2"]
["Sample ID","M28(Mayon)","M38(Mayon)","M47-6700(Mayon)","M47-MT(Mayon)","M68(Mayon)","M78(Mayon)","M84(Mayon)","M8-93(Mayon)","M7-00(Mayon)"]
["206Pb/204Pb",18.568999999999999,18.544,18.559000000000001,18.577999999999999,18.556000000000001,18.564,18.56418,18.614000000000001,18.608000000000001]
["207Pb/204Pb",15.542,15.516,15.531000000000001,15.551,15.53,15.537000000000001,15.52,15.583,15.558999999999999]
["207Pb/206Pb",{"$f":"(B4/B3)","v":0.83698637514136465},{"$f":"(C4/C3)","v":0.83671268334771354},0.83684465757853332,0.83706534610830019,0.83692606165121786,0.8369424692954105,0.83601861218755691,0.83716557429891481,0.83614574376612205]
["Age",{"$f":"[1]!AgePb76(B5)","v":4986.0145539597697},{"$f":"[1]!AgePb76(C5)","v":4985.5500799930078},{"$f":"[1]!AgePb76(D5)","v":4985.7740695721541},{"$f":"[1]!AgePb76(E5)","v":4986.1485431701394},{"$f":"[1]!AgePb76(F5)","v":4985.9122116465205},{"$f":"[1]!AgePb76(G5)","v":4985.940053561465},{"$f":"[1]!AgePb76(H5)","v":4984.3714688712162},{"$f":"[1]!AgePb76(I5)","v":4986.3185799482571},{"$f":"[1]!AgePb76(J5)","v":4984.5874303962419}]
[]
[]
["Sample ID","M6-01(Mayon)","B9(Bulusan)","B10(Bulusan)","B11(Bulusan)","I12(Iriga)","I13(Iriga)","I14(Iriga)","I15(Iriga)","T1(Taal)"]
["206Pb/204Pb",18.574000000000002,18.466999999999999,18.468,18.475999999999999,18.600000000000001,18.600999999999999,18.559999999999999,18.664999999999999,18.542999999999999]
["207Pb/204Pb",15.561999999999999,15.502000000000001,15.516999999999999,15.52,15.504,15.49,15.518000000000001,15.574,15.586]
["207Pb/206Pb",{"$f":"(B11/B10)","v":0.83783783783783772},{"$f":"(C11/C10)","v":0.83944333134780968},{"$f":"(D11/D10)","v":0.84021009313406969},{"$f":"(E11/E10)","v":0.84000865988309159},{"$f":"(F11/F10)","v":0.83354838709677415},{"$f":"(G11/G10)","v":0.8327509273694963},{"$f":"(H11/H10)","v":0.83609913793103463},{"$f":"(I11/I10)","v":0.83439592820787578},{"$f":"(J11/J10)","v":0.84053281561775339}]
["Age",{"$f":"[1]!AgePb76(B12)","v":4987.4585139004294},{"$f":"[1]!AgePb76(C12)","v":4990.1769662761462},{"$f":"[1]!AgePb76(D12)","v":4991.4733135528977},{"$f":"[1]!AgePb76(E12)","v":4991.1328765531052},{"$f":"[1]!AgePb76(F12)","v":4980.1682963008816},{"$f":"[1]!AgePb76(G12)","v":4978.8085643136437},{"$f":"[1]!AgePb76(H12)","v":4984.5082639743678},{"$f":"[1]!AgePb76(I12)","v":4981.6119064540517},{"$f":"[1]!AgePb76(J12)","v":4992.0185575598498}]
[]
[]
["Sample ID","T2(Taal)","T3(Taal)","T4(Taal)","T5(Taal)","T23(Taal)","Bali(Taal)","BM8(Taal)","B4(Taal)","CAL1(Taal)"]
["206Pb/204Pb",18.600999999999999,18.579999999999998,18.594000000000001,18.547000000000001,18.579999999999998,18.577000000000002,18.635000000000002,18.581,18.553999999999998]
["207Pb/204Pb",15.602,15.577,15.598000000000001,15.574,15.57,15.584,15.656000000000001,15.614000000000001,15.586]
["207Pb/206Pb",{"$f":"(B18/B17)","v":0.83877210902639654},{"$f":"(C18/C17)","v":0.83837459634015077},{"$f":"(D18/D17)","v":0.83887275465203825},{"$f":"(E18/E17)","v":0.83970453442605264},{"$f":"(F18/F17)","v":0.8379978471474705},{"$f":"(G18/G17)","v":0.83888679549981149},{"$f":"(H18/H17)","v":0.8401395224040783},{"$f":"(I18/I17)","v":0.84032075776330661},{"$f":"(J18/J17)","v":0.84003449390966911}]
["Age",{"$f":"[1]!AgePb76(B19)","v":4989.041112339447},{"$f":"[1]!AgePb76(C19)","v":4988.3679791199565},{"$f":"[1]!AgePb76(D19)","v":4989.2114881307762},{"$f":"[1]!AgePb76(E19)","v":4990.6187178086457},{"$f":"[1]!AgePb76(F19)","v":4987.7296929458353},{"$f":"[1]!AgePb76(G19)","v":4989.2352551528147},{"$f":"[1]!AgePb76(H19)","v":4991.354053701245},{"$f":"[1]!AgePb76(I19)","v":4991.6603080065042},{"$f":"[1]!AgePb76(J19)","v":4991.1765428051613}]
[]
[]
["Sample ID","CY3(Taal)","MB5(Taal)","P16(Pinatubo)","P17(Pinatubo)","P18(Pinatubo)","P19(Pinatubo)","P20(Pinatubo)","P20b(Pinatubo)","P21(Pinatubo)"]
["206Pb/204Pb",18.585000000000001,18.638999999999999,18.681000000000001,18.454999999999998,18.393999999999998,18.466999999999999,18.381,18.404,18.443999999999999]
["207Pb/204Pb",15.599,15.667999999999999,15.647,15.59,15.624000000000001,15.54,15.54,15.545,15.561]
["207Pb/206Pb",{"$f":"(B25/B24)","v":0.8393327952649986},{"$f":"(C25/C24)","v":0.8406030366435967},{"$f":"(D25/D24)","v":0.8375889941651945},{"$f":"(E25/E24)","v":0.84475751828772694},{"$f":"(F25/F24)","v":0.84940741546156362},{"$f":"(G25/G24)","v":0.84150105593761848},{"$f":"(H25/H24)","v":0.84543822425330495},{"$f":"(I25/I24)","v":0.84465333623125405},{"$f":"(J25/J24)","v":0.8436890045543266}]
["Age",{"$f":"[1]!AgePb76(B26)","v":4989.9899816048119},{"$f":"[1]!AgePb76(C26)","v":4992.1371674709726},{"$f":"[1]!AgePb76(D26)","v":4987.0366716497701},{"$f":"[1]!AgePb76(E26)","v":4999.1358067939691},{"$f":"[1]!AgePb76(F26)","v":5006.9257913781576},{"$f":"[1]!AgePb76(G26)","v":4993.6530790062798},{"$f":"[1]!AgePb76(H26)","v":5000.2790369759596},{"$f":"[1]!AgePb76(I26)","v":4998.9607490578073},{"$f":"[1]!AgePb76(J26)","v":4997.3392871612104}]
[]
[]
["Sample ID","P22(Pinatubo)",null,null,null,null,null,null,null,null,null,"Pinatubo","Mayon","Taal"]
["206Pb/204Pb",18.431999999999999,null,null,null,null,"Taal","Mayon","Bulusan","Iriga","Pinatubo","Error Ratio","Error Ratio","Error Ratio"]
["207Pb/204Pb",15.568,null,null,null,null,"1600 AD","1800 AD","4000 BC","???","1991 AD","Millions","Millions","Millions"]
["207Pb/206Pb",{"$f":"(B32/B31)","v":0.84461805555555558},null,null,null,null,4992,4986,4990,4980,4987,{"$f":"(K33/15)","v":332.46666666666664},{"$f":"(H33/109)","v":45.743119266055047},{"$f":"(G33/372)","v":13.419354838709678}]
["Age",{"$f":"[1]!AgePb76(B33)","v":4998.9014615272827},null,null,null,null,4989,4986,4991,4979,4999,{"$f":"(K34/15)","v":333.26666666666665},{"$f":"(H34/109)","v":45.743119266055047},{"$f":"(G34/372)","v":13.411290322580646}]
[null,null,null,null,null,null,4988,4986,4991,4985,5007,333.8,45.743119266055047,13.408602150537634]
[null,null,null,null,null,null,4989,4986,null,4982,4994,332.93333333333334,45.743119266055047,13.411290322580646]
["Volcanoes","Eruptions","Historic Age",2006,"Dated",null,4991,4986,null,null,5000,333.33333333333331,45.743119266055047,13.416666666666666]
["Mayon","1800 AD",{"$f":"2006-D38","v":109},1897,"Mayon",null,4988,4986,null,null,4999,333.26666666666665,45.743119266055047,13.408602150537634]
["Bulusan","4000 BC",{"$f":"2006-D39","v":372},1634,"Taal",null,4989,4984,null,null,4997,333.13333333333333,45.724770642201833,13.411290322580646]
["Iriga","?",{"$f":"2006-D40","v":15},1991,"Pinatubo",null,4991,4986,null,null,4999,333.26666666666665,45.743119266055047,13.416666666666666]
["Taal","1600 AD",null,null,null,null,4992,4985,null,null,null,null,45.73394495412844,13.419354838709678]
["Pinatubo","1991 AD",null,null,null,null,4991,4987,null,null,null,null,45.752293577981654,13.416666666666666]
[null,null,null,null,null,null,4990]
[null,null,null,null,null,null,4992]
[null,null,null,null,null,"Average",{"$f":"AVERAGE(G33:G44)","v":4990.166666666667},{"$f":"AVERAGE(H33:H44)","v":4985.8},4990.666666666667,4981.5,4997.75]
[null,null,null,null,null,"Maximum",{"$f":"MAX(G33:G45)","v":4992},{"$f":"MAX(H33:H45)","v":4987},4991,4985,5007]
[null,null,null,null,null,"Minimum",{"$f":"MIN(G33:G46)","v":4988},{"$f":"MIN(H33:H46)","v":4984},4990,4979,4987]
[null,null,null,null,null,"Difference",{"$f":"G46-G47","v":4},{"$f":"H46-H47","v":3},1,6,20]
[null,null,null,null,null,"Accuracy",{"$f":"1-(G48/G45)","v":0.99919842356634714},{"$f":"1-(H48/H45)","v":0.99939829114685708},0.99979962596847449,0.99879554351099065,0.99599819918963539]
[]
[]
["Table 1"]
["Sample","U(ppm)",null,"Th(ppm)",null,"232Th/238U",null,"230Th/232Th",null,"238U/232Th",null,"230Th/238U",null,"234U/238U",null,"Age (Ka)",null,"Taal","Mayon","Bulusan","Iriga","Pinatubo"]
["Taal",null,null,null,null,null,null,null,null,null,null,null,null,null,null,null,null,"1600 AD","1800 AD","4000 BC","???","1991 AD"]
["T1",0.94399999999999995,5,3.3639999999999999,9,3.68,2,0.78900000000000003,8,0.85199999999999998,5,0.92700000000000005,10,1.0049999999999999,7,{"$f":"[1]!Th230Age(L55, N55)","v":276.07413573897344},null,276.07413573897344,0,332.32677102347742,281.40058885670254,505.82416852270927]
["T2",1.526,6,5.4589999999999996,26,3.7,2,0.78400000000000003,12,0.84799999999999998,5,0.92500000000000004,14,0.997,4,{"$f":"[1]!Th230Age(L56, N56)","v":287.10404890275959},null,287.10404890275959,0,345.86989702304402,184.69604686194691,298.69615785411236]
["T3",3.4849999999999999,15,11.91,6,3.53,2,0.82199999999999995,9,0.88700000000000001,6,0.92700000000000005,10,0.999,2,{"$f":"[1]!Th230Age(L57, N57)","v":286.45605983411883},null,286.45605983411883,0,470.18116730153668,204.79958501607771,324.8702087655148]
["T4",0.97399999999999998,5,3.4279999999999999,12,3.64,2,0.77100000000000002,9,0.86199999999999999,6,0.89500000000000002,11,0.995,7,{"$f":"[1]!Th230Age(L58, N58)","v":251.24614198007774},null,251.24614198007774,0,null,187.06202218791626,0]
["T5",1.23,4,4.399,14,3.7,2,0.78300000000000003,6,0.84899999999999998,4,0.92300000000000004,7,1,3,{"$f":"[1]!Th230Age(L59, N59)","v":278.83416515357931},null,278.83416515357931,0,null,null,323.54473512026681]
["T23",1.095,4,3.3959999999999999,22,3.21,2,0.78600000000000003,8,0.97799999999999998,7,0.80400000000000005,7,0.999,3,{"$f":"[1]!Th230Age(L60, N60)","v":177.77088588797798},null,177.77088588797798,0,null,null,293.24568395457624]
["MB-5-Phil",1.0309999999999999,50,3.7120000000000002,21,3.72,3,0.77300000000000002,7,0.84299999999999997,6,0.91700000000000004,8,0.997,5,{"$f":"[1]!Th230Age(L61, N61)","v":275.47524893200375},null,275.47524893200375,0,null,null,326.36742547010255]
["BAL-1-Phil",3.7410000000000001,14,12.95,7,3.58,2,0.82399999999999995,6,0.876,6,0.94099999999999995,6,0.999,3,{"$f":"[1]!Th230Age(L62, N62)","v":310.10963422238342},null,310.10963422238342,0,null,null,278.26773267650339]
["BM-8-Phil",3.5859999999999999,20,12.429,12,3.58,4,0.83199999999999996,12,0.876,10,0.95099999999999996,12,1.004,6,{"$f":"[1]!Th230Age(L63, N63)","v":317.39312093688687},null,317.39312093688687,0]
["CAL-1-Phil",1.03,5,3.7930000000000001,43,3.8,5,0.76200000000000001,19,0.82399999999999995,10,0.92400000000000004,21,0.999,3,{"$f":"[1]!Th230Age(L64, N64)","v":281.99397857931427},null,281.99397857931427]
["B-4-Phil",0.96299999999999997,4,3.4630000000000001,19,3.72,3,0.79700000000000004,7,0.84399999999999997,6,0.94499999999999995,8,1,5,{"$f":"[1]!Th230Age(L65, N65)","v":315.42612693992044},null,315.42612693992044]
["CY-3-Phil",1.1970000000000001,5,4.3310000000000004,24,3.74,3,0.78500000000000003,10,0.83899999999999997,6,0.93600000000000005,11,0.999,8,{"$f":"[1]!Th230Age(L66, N66)","v":301.05959548712269},null,301.05959548712269]
["Pinatubo"]
["P16",1.639,5,5.1840000000000002,19,3.27,2,0.95499999999999996,8,0.95899999999999996,5,0.996,8,1.004,7,{"$f":"[1]!Th230Age(L68, N68)","v":505.82416852270927}]
["P17",0.51900000000000002,2,1.681,5,3.35,2,0.88200000000000001,9,0.93700000000000006,4,0.94199999999999995,9,1.0049999999999999,4,{"$f":"[1]!Th230Age(L69, N69)","v":298.69615785411236}]
["P18",1.24,13,4.1790000000000003,17,3.48,4,0.84799999999999998,13,0.90100000000000002,10,0.94199999999999995,17,0.99399999999999999,12,{"$f":"[1]!Th230Age(L70, N70)","v":324.8702087655148}]
["P19",1.1659999999999999,4,4.1879999999999997,16,3.71,2,0.85,10,0.84499999999999997,5,1.006,12,1.0029999999999999,4,{"$f":"[1]!Th230Age(L71, N71)","v":0}]
["P20",1.002,4,3.3839999999999999,13,3.49,2,0.85599999999999998,11,0.89800000000000002,5,0.95399999999999996,13,1.004,4,{"$f":"[1]!Th230Age(L72, N72)","v":323.54473512026681}]
["P20b",1.3520000000000001,5,4.5890000000000004,17,3.51,2,0.83499999999999996,9,0.89400000000000002,5,0.93500000000000005,11,1.002,4,{"$f":"[1]!Th230Age(L73, N73)","v":293.24568395457624}]
["P21",1.008,4,3.407,14,3.49,2,0.85199999999999998,10,0.89800000000000002,5,0.94899999999999995,11,0.999,5,{"$f":"[1]!Th230Age(L74, N74)","v":326.36742547010255}]
["P22",1.222,5,3.9489999999999998,13,3.34,2,0.86299999999999999,13,0.93899999999999995,5,0.91900000000000004,14,0.997,4,{"$f":"[1]!Th230Age(L75, N75)","v":278.26773267650339}]
["Mayon"]
["M-28",0.61199999999999999,3,2.2410000000000001,21,3.78,4,0.95099999999999996,17,0.82899999999999996,9,1.1479999999999999,18,1.0049999999999999,5,{"$f":"[1]!Th230Age(L77, N77)","v":0}]
["M-38",0.625,2,2.512,8,4.1500000000000004,2,0.84599999999999997,9,0.755,4,1.1200000000000001,12,1.0029999999999999,3,{"$f":"[1]!Th230Age(L78, N78)","v":0}]
["MY-47",0.56799999999999995,3,2.2309999999999999,13,4.0599999999999996,3,0.86299999999999999,7,0.77300000000000002,6,1.117,8,1.002,4,{"$f":"[1]!Th230Age(L79, N79)","v":0}]
["MY-68",0.66900000000000004,3,2.4900000000000002,14,3.85,3,0.88700000000000001,15,0.81499999999999995,6,1.0880000000000001,18,1,6,{"$f":"[1]!Th230Age(L80, N80)","v":0}]
["MY-78",0.58399999999999996,3,2.258,13,3.99,3,0.86699999999999999,7,0.78500000000000003,6,1.1040000000000001,9,1.0009999999999999,5,{"$f":"[1]!Th230Age(L81, N81)","v":0}]
["MY-84",0.623,3,2.3559999999999999,15,3.9,3,0.876,18,0.80400000000000005,6,1.091,22,1,4,{"$f":"[1]!Th230Age(L82, N82)","v":0}]
["M8-93",0.61899999999999999,2,2.3439999999999999,9,3.91,2,0.85,11,0.80200000000000005,4,1.06,14,0.999,4,{"$f":"[1]!Th230Age(L83, N83)","v":0}]
["M7-00",0.59899999999999998,2,2.2189999999999999,8,3.83,2,0.873,13,0.81899999999999995,4,1.0660000000000001,16,1.0049999999999999,4,{"$f":"[1]!Th230Age(L84, N84)","v":0}]
["M6-01",0.59599999999999997,2,2.0339999999999998,7,3.53,2,0.93899999999999995,7,0.88900000000000001,4,1.056,10,1.006,4,{"$f":"[1]!Th230Age(L85, N85)","v":0}]
["Bulusan"]
["B9",1.0549999999999999,4,3.1139999999999999,8,3.05,2,0.98499999999999999,7,1.028,5,0.95799999999999996,7,1.004,5,{"$f":"[1]!Th230Age(L87, N87)","v":332.32677102347742}]
["B10",1.1359999999999999,4,3.452,10,3.14,2,0.95899999999999996,8,0.999,5,0.96099999999999997,9,1.002,5,{"$f":"[1]!Th230Age(L88, N88)","v":345.86989702304402}]
["B11",1.292,5,4.0339999999999998,15,3.23,2,0.95599999999999996,11,0.97099999999999997,5,0.98399999999999999,11,0.998,4,{"$f":"[1]!Th230Age(L89, N89)","v":470.18116730153668}]
["Iriga"]
["I12",0.94099999999999995,3,2.88,9,3.16,2,0.91800000000000004,8,0.99199999999999999,5,0.92600000000000005,9,1.0009999999999999,4,{"$f":"[1]!Th230Age(L91, N91)","v":281.40058885670254}]
["I13",0.70599999999999996,3,1.784,12,2.61,2,0.99399999999999999,11,1.2010000000000001,10,0.82799999999999996,8,1.0109999999999999,7,{"$f":"[1]!Th230Age(L92, N92)","v":184.69604686194691}]
["I14",0.69899999999999995,3,1.867,5,2.76,2,0.94299999999999995,8,1.1359999999999999,6,0.83,8,0.98299999999999998,7,{"$f":"[1]!Th230Age(L93, N93)","v":204.79958501607771}]
["I15",0.71199999999999997,2,1.7390000000000001,5,2.52,1,1.032,10,1.2430000000000001,5,0.83,9,1.0089999999999999,4,{"$f":"[1]!Th230Age(L94, N94)","v":187.06202218791626}]

{"sheet":"H13","index":15,"n_rows":19,"n_cols":24,"rows_kept":19,"cut":false,"hidden":false,"merged":[]}
["Table 2",null,null,null,null,null,null,null,null,"Ratio","Ratio","Ratio",null,"Ratio",null,"Ratio",null,null,"Age (Ma)",null,"Age (Ma)",null,"Age (Ma)"]
["Sample","Wt.(mg)","U","Th/U","Pb","206Pb","mol%","Pb/Pb","Pb","206Pb/204Pb","208Pb/206Pb","207Pb/206Pb","%Err","207Pb/235U","%Err","206Pb/238U","%Err","corr.","207Pb/206Pb","Err","207Pb/235U","Err","206Pb/238U","Err"]
[null,null,"ppm",null,"ppm","Mol","206Pb",null,"(pg)"]
["Jhs","SEM4"]
["Z1",0.01,404,0.74,1.6,0.51829999999999998,0.95630000000000004,7,1.93,426,0.23899999999999999,4.6766000000000002E-2,0.69599999999999995,2.0677000000000001E-2,0.76300000000000001,3.2070000000000002E-3,0.161,0.504,26.8,16.649999999999999,20.78,0.16,20.73,0.03]
["Z2",5.6000000000000001E-2,85,0.78100000000000003,0.4,0.63419999999999999,0.95079999999999998,6,2.68,377,0.254,4.7099000000000002E-2,0.75600000000000001,2.0808E-2,0.83899999999999997,3.2039999999999998E-3,0.21199999999999999,0.497,43.92,18.03,20.91,0.17,20.71,0.04]
["Z3",0.02,211,0.87,0.9,0.56730000000000003,0.95320000000000005,7,2.2799999999999998,397,0.28100000000000003,4.6815000000000002E-2,0.64900000000000002,2.0642000000000001E-2,0.71099999999999997,3.1979999999999999E-3,0.127,0.55100000000000005,29.63,15.54,20.75,0.15,20.67,0.03]
["Z4",0.02,145,0.86299999999999999,0.7,0.39300000000000002,0.91700000000000004,4,2.91,224,0.28000000000000003,4.6880999999999999E-2,1.2,2.0639000000000001E-2,1.2849999999999999,3.1930000000000001E-3,0.222,0.45600000000000002,32.99,28.69,20.74,0.26,20.64,0.05]
["Z5",3.2000000000000001E-2,83,0.747,0.3,0.34970000000000001,0.94469999999999998,6,1.66,336,0.24099999999999999,4.6642000000000003E-2,0.70699999999999996,2.0636999999999999E-2,0.76200000000000001,3.209E-3,0.16300000000000001,0.434,20.45,16.940000000000001,20.74,0.16,20.74,0.03]
["Z6",2.3E-2,273,0.745,1.1000000000000001,0.88249999999999995,0.97660000000000002,14,1.72,794,0.24199999999999999,4.7135999999999997E-2,0.58699999999999997,2.1734E-2,0.69899999999999995,3.3440000000000002E-3,0.29099999999999998,0.56299999999999994,46.13,13.99,21.83,0.15,21.61,0.06]
["Z7",2.9000000000000001E-2,181,0.80300000000000005,0.8,0.72560000000000002,0.95940000000000003,8,2.5099999999999998,458,0.26,4.6869000000000001E-2,0.40300000000000002,2.1732999999999999E-2,0.46500000000000002,3.3630000000000001E-3,0.115,0.624,32.72,9.64,21.83,0.1,21.73,0.02]
["Z8",0.04,188,0.86499999999999999,0.8,1.0222,0.97389999999999999,13,2.23,713,0.28000000000000003,4.6856000000000002E-2,0.496,2.1233999999999999E-2,0.56399999999999995,3.287E-3,0.15,0.55900000000000005,31.99,11.87,21.34,0.12,21.24,0.03]
["Jhs","SEM7"]
["Z1",6.0000000000000001E-3,597,0.75800000000000001,2.4,0.49590000000000001,0.95509999999999995,7,1.9,414,0.245,4.6803999999999998E-2,0.52,2.0714E-2,0.60499999999999998,3.2100000000000002E-3,0.222,0.53800000000000003,28.8,12.45,20.82,0.12,20.75,0.05]
["Z2",2.5999999999999999E-2,139,0.64100000000000001,0.7,0.59199999999999997,0.96079999999999999,8,1.93,476,0.20499999999999999,4.6455999999999997E-2,1.07,2.4840000000000001E-2,1.1120000000000001,3.8779999999999999E-3,0.14399999999999999,0.34899999999999998,12.24,25.7,24.91,0.27,25.05,0.04]
["Z3",2.1000000000000001E-2,165,0.78200000000000003,0.8,0.56230000000000002,0.95509999999999995,7,2.12,416,0.252,4.6794000000000002E-2,1.048,2.4677000000000001E-2,1.1060000000000001,3.8249999999999998E-3,0.25700000000000001,0.33400000000000002,29.82,25.09,24.75,0.27,24.7,0.06]
["Z4",2.4E-2,85,0.622,0.4,0.29409999999999997,0.94269999999999998,5,1.45,325,0.20200000000000001,4.6956999999999999E-2,1.0349999999999999,2.1901E-2,1.1080000000000001,3.3830000000000002E-3,0.215,0.42799999999999999,36.81,24.72,22,0.24,21.86,0.05]
["Z5",2.5999999999999999E-2,158,0.82799999999999996,0.7,0.53869999999999996,0.95660000000000001,7,1.99,428,0.26800000000000002,4.6878999999999997E-2,0.63200000000000001,2.0733999999999999E-2,0.72399999999999998,3.2079999999999999E-3,0.249,0.51900000000000002,32.81,15.1,20.84,0.15,20.73,0.05]
["Z6",2.3E-2,77,0.72899999999999998,0.4,0.24179999999999999,0.9103,3,0.15,207,0.23699999999999999,4.7142999999999997E-2,1.5760000000000001,2.1035000000000002E-2,1.6719999999999999,3.2360000000000002E-3,0.26500000000000001,0.42899999999999999,46.07,37.590000000000003,21.14,0.35,20.92,0.06]

{"sheet":"H14","index":16,"n_rows":175,"n_cols":20,"rows_kept":175,"cut":false,"hidden":false,"merged":[]}
["Mount Erebus",null,null,null,null,null,null,null,null,null,"Sample 1316 ","Age Ratio","Sample 1317","Age Ratio","Sample 1330","Age Ratio","Sample 1331","Age Ratio","Sample 1332","Age Ratio"]
["Sample 1316 ","Apparent Age","Error","Recalculated Age","Error","Apparent Age","Recalculated Age","Apparent Age","Recalculated Age",null,"Age Ka",null,"Age Ka",null,"Age Ka",null,"Age Ka",null,"Age Ka"]
[" Anorthoclase Phenocryst","Years","Years","Years","Years","Percentage Error","Percentage Error","Error Ratio","Error Ratio",null,273,{"$f":"(K3 * 1000)/13","v":21000},374,{"$f":"(M3 * 1000)/13","v":28769.23076923077},4371,{"$f":"(O3 * 1000)/13","v":336230.76923076925},5867,{"$f":"(Q3 * 1000)/13","v":451307.69230769231},-999,{"$f":"(S3 * 1000)/13","v":-76846.153846153844}]
[600,273000,151000,107000,159000,{"$f":"(B4/13)*100","v":2100000},{"$f":"(D4/13)*100","v":823076.92307692301},{"$f":"(B4/13)","v":21000},{"$f":"(D4/13)","v":8230.7692307692305},null,97,{"$f":"(K4 * 1000)/13","v":7461.5384615384619},227,{"$f":"(M4 * 1000)/13","v":17461.538461538461},507,{"$f":"(O4 * 1000)/13","v":39000},4716,362769.23076923075,-999,{"$f":"(S4 * 1000)/13","v":-76846.153846153844}]
[600,97000,22000,17000,23000,{"$f":"(B5/13)*100","v":746153.84615384624},{"$f":"(D5/13)*100","v":130769.23076923077},{"$f":"(B5/13)","v":7461.5384615384619},{"$f":"(D5/13)","v":1307.6923076923076},null,38,2923.0769230769229,275,21153.846153846152,86,6615.3846153846152,1801,138538.46153846153,-86,{"$f":"(S5 * 1000)/13","v":-6615.3846153846152}]
[700,38000,8000,1000,8000,292307.69230769231,7692.3076923076924,2923.0769230769229,76.92307692307692,null,28,2153.8461538461538,281,21615.384615384617,166,12769.23076923077,1120,86153.846153846156,43,{"$f":"(S6 * 1000)/13","v":3307.6923076923076}]
[700,28000,7000,2000,8000,215384.61538461538,15384.615384615385,2153.8461538461538,153.84615384615384,null,25,1923.0769230769231,246,18923.076923076922,41,3153.8461538461538,984,75692.307692307688,23,{"$f":"(S7 * 1000)/13","v":1769.2307692307693}]
[800,25000,3000,-5000,3000,192307.69230769231,-38461.538461538461,1923.0769230769231,-384.61538461538464,null,28,2153.8461538461538,240,18461.538461538461,33,2538.4615384615386,1010,77692.307692307688,33,{"$f":"(S8 * 1000)/13","v":2538.4615384615386}]
[800,28000,3000,-5000,3000,215384.61538461538,-38461.538461538461,2153.8461538461538,-384.61538461538464,null,19,1461.5384615384614,263,20230.76923076923,21,1615.3846153846155,950,73076.923076923078,35,{"$f":"(S9 * 1000)/13","v":2692.3076923076924}]
[900,19000,2000,1000,2000,146153.84615384616,7692.3076923076924,1461.5384615384614,76.92307692307692,null,10,769.23076923076928,225,17307.692307692309,16,1230.7692307692307,834,64153.846153846156,246,{"$f":"(S10 * 1000)/13","v":18923.076923076922}]
[900,10000,2000,1000,2000,76923.076923076922,7692.3076923076924,769.23076923076928,76.92307692307692,null,12,923.07692307692309,209,16076.923076923076,9,692.30769230769226,824,63384.615384615383,64,{"$f":"(S11 * 1000)/13","v":4923.0769230769229}]
[1000,12000,2000,-3000,2000,92307.692307692312,-23076.923076923078,923.07692307692309,-230.76923076923077,null,16,1230.7692307692307,78,6000,10,769.23076923076928,1278,98307.692307692312,82,{"$f":"(S12 * 1000)/13","v":6307.6923076923076}]
[1000,16000,3000,5000,3000,123076.92307692308,38461.538461538461,1230.7692307692307,384.61538461538464,null,33,2538.4615384615386,96,7384.6153846153848,5,384.61538461538464,628,48307.692307692305,104,{"$f":"(S13 * 1000)/13","v":8000}]
[1100,33000,3000,-7000,3000,253846.15384615384,-53846.153846153844,2538.4615384615386,-538.46153846153845,null,38,2923.0769230769229,11,846.15384615384619,28,2153.8461538461538,732,56307.692307692305,126,{"$f":"(S14 * 1000)/13","v":9692.3076923076915}]
[1100,38000,5000,6000,5000,292307.69230769231,46153.846153846156,2923.0769230769229,461.53846153846155,null,111,8538.461538461539,41,3153.8461538461538,15,1153.8461538461538,1,76.92307692307692,126,{"$f":"(S15 * 1000)/13","v":9692.3076923076915}]
[1200,111000,5000,-29000,6000,853846.15384615387,-223076.92307692309,8538.461538461539,-2230.7692307692309,null,77,5923.0769230769229,15,1153.8461538461538,142,10923.076923076924,109,8384.6153846153848,153,{"$f":"(S16 * 1000)/13","v":11769.23076923077}]
[1200,77000,8000,-19000,9000,592307.69230769225,-146153.84615384616,5923.0769230769229,-1461.5384615384614,null,139,10692.307692307691,78,6000,86,6615.3846153846152,-24,-1846.1538461538462,168,{"$f":"(S17 * 1000)/13","v":12923.076923076924}]
[1300,139000,3000,-42000,4000,1069230.7692307692,-323076.92307692312,10692.307692307691,-3230.7692307692309,null,61,4692.3076923076924,48,3692.3076923076924,149,11461.538461538461,154,11846.153846153846,172,{"$f":"(S18 * 1000)/13","v":13230.76923076923}]
[1300,61000,7000,-48000,8000,469230.76923076925,-369230.76923076925,4692.3076923076924,-3692.3076923076924,null,139,10692.307692307691,57,4384.6153846153848,82,6307.6923076923076,84,6461.5384615384619,263,{"$f":"(S19 * 1000)/13","v":20230.76923076923}]
[1400,139000,11000,-19000,11000,1069230.7692307692,-146153.84615384616,10692.307692307691,-1461.5384615384614,null,66,5076.9230769230771,128,9846.1538461538457,72,5538.4615384615381,90,6923.0769230769229,337,{"$f":"(S20 * 1000)/13","v":25923.076923076922}]
[1550,66000,24000,-36000,26000,507692.30769230769,-276923.07692307688,5076.9230769230771,-2769.2307692307691,null,null,null,-894,-68769.230769230766,88,6769.2307692307695,56,4307.6923076923076,9419,{"$f":"(S21 * 1000)/13","v":724538.4615384615}]
["Sample 1317","Apparent Age","Error","Recalculated Age","Error","Apparent Age","Recalculated Age","Apparent Age","Recalculated Age",null,null,null,null,null,88,6769.2307692307695,71,5461.5384615384619,650,{"$f":"(S22 * 1000)/13","v":50000}]
[" Anorthoclase Phenocryst","Years","Years","Years","Years","Percentage Error","Percentage Error","Error Ratio","Error Ratio",null,null,null,null,null,129,9923.0769230769238,248,19076.923076923078,null,{"$f":"(S23 * 1000)/13","v":0}]
[600,374000,96000,-1399000,111000,{"$f":"(B24/13)*100","v":2876923.076923077},{"$f":"(D24/13)*100","v":-10761538.46153846},{"$f":"(B24/13)","v":28769.23076923077},{"$f":"(D24/13)","v":-107615.38461538461},null,null,null,null,null,671,51615.384615384617,null,0,null,{"$f":"(S24 * 1000)/13","v":0}]
[600,227000,18000,-110000,22000,1746153.846153846,-846153.84615384613,17461.538461538461,-8461.538461538461]
[700,275000,7000,-17000,8000,2115384.615384615,-130769.23076923077,21153.846153846152,-1307.6923076923076]
[700,281000,8000,-11000,9000,2161538.4615384615,-84615.384615384624,21615.384615384617,-846.15384615384619]
[800,246000,4000,-23000,4000,1892307.6923076923,-176923.07692307694,18923.076923076922,-1769.2307692307693]
[800,240000,4000,40000,4000,1846153.846153846,307692.30769230769,18461.538461538461,3076.9230769230771]
[900,263000,3000,2000,4000,2023076.923076923,15384.615384615385,20230.76923076923,153.84615384615384]
[900,225000,3000,23000,4000,1730769.2307692308,176923.07692307694,17307.692307692309,1769.2307692307693]
[1000,209000,3000,8000,4000,1607692.3076923075,61538.461538461539,16076.923076923076,615.38461538461536]
[1000,78000,5000,57000,6000,600000,438461.5384615385,6000,4384.6153846153848]
[1100,96000,6000,64000,7000,738461.5384615385,492307.69230769231,7384.6153846153848,4923.0769230769229]
[1100,11000,-11000,40000,13000,84615.384615384624,307692.30769230769,846.15384615384619,3076.9230769230771]
[1200,41000,8000,23000,9000,315384.61538461538,176923.07692307694,3153.8461538461538,1769.2307692307693]
[1200,15000,13000,4000,15000,115384.61538461538,30769.23076923077,1153.8461538461538,307.69230769230768]
[1300,78000,6000,40000,7000,600000,307692.30769230769,6000,3076.9230769230771]
[1300,48000,13000,22000,15000,369230.76923076925,169230.76923076925,3692.3076923076924,1692.3076923076924]
[1400,57000,8000,30000,9000,438461.5384615385,230769.23076923075,4384.6153846153848,2307.6923076923076]
[1550,128000,75000,75000,87000,984615.38461538462,576923.07692307699,9846.1538461538457,5769.2307692307695]
[1550,-894000,999000,-997000,999000,-6876923.076923077,-7669230.769230769,-68769.230769230766,-76692.307692307688]
["Sample 1330","Apparent Age","Error","Recalculated Age","Error","Apparent Age","Recalculated Age","Apparent Age","Recalculated Age"]
[" Anorthoclase Phenocryst","Years","Years","Years","Years","Percentage Error","Percentage Error","Error Ratio","Error Ratio"]
[550,4371000,999000,3372000,999000,{"$f":"(B45/13)*100","v":33623076.923076928},{"$f":"(D45/13)*100","v":25938461.538461536},{"$f":"(B45/13)","v":336230.76923076925},{"$f":"(D45/13)","v":259384.61538461538}]
[600,507000,999000,119000,999000,3900000,915384.61538461538,39000,9153.8461538461543]
[600,86000,745000,115000,840000,661538.4615384615,884615.38461538462,6615.3846153846152,8846.1538461538457]
[700,166000,54000,134000,61000,1276923.076923077,1030769.2307692309,12769.23076923077,10307.692307692309]
[700,41000,12000,32000,13000,315384.61538461538,246153.84615384616,3153.8461538461538,2461.5384615384614]
[800,33000,5000,21000,6000,253846.15384615384,161538.46153846156,2538.4615384615386,1615.3846153846155]
[800,21000,3000,16000,4000,161538.46153846156,123076.92307692308,1615.3846153846155,1230.7692307692307]
[900,16000,2000,8000,2000,123076.92307692308,61538.461538461539,1230.7692307692307,615.38461538461536]
[900,9000,2000,6000,3000,69230.76923076922,46153.846153846156,692.30769230769226,461.53846153846155]
[1000,10000,2000,6000,2000,76923.076923076922,46153.846153846156,769.23076923076928,461.53846153846155]
[1000,5000,2000,0,2000,38461.538461538461,0,384.61538461538464,0]
[1100,28000,2000,11000,2000,215384.61538461538,84615.384615384624,2153.8461538461538,846.15384615384619]
[1100,15000,4000,10000,5000,115384.61538461538,76923.076923076922,1153.8461538461538,769.23076923076928]
[1200,142000,4000,90000,5000,1092307.6923076925,692307.69230769225,10923.076923076924,6923.0769230769229]
[1200,86000,9000,54000,10000,661538.4615384615,415384.61538461543,6615.3846153846152,4153.8461538461543]
[1300,149000,2000,89000,3000,1146153.846153846,684615.38461538462,11461.538461538461,6846.1538461538457]
[1300,82000,5000,47000,6000,630769.23076923075,361538.4615384615,6307.6923076923076,3615.3846153846152]
[1400,72000,13000,28000,15000,553846.15384615376,215384.61538461538,5538.4615384615381,2153.8461538461538]
[1400,88000,44000,41000,50000,676923.07692307699,315384.61538461538,6769.2307692307695,3153.8461538461538]
[1500,88000,8000,59000,9000,676923.07692307699,453846.15384615381,6769.2307692307695,4538.4615384615381]
[1650,129000,25000,95000,28000,992307.69230769237,730769.23076923075,9923.0769230769238,7307.6923076923076]
[1650,671000,834000,116000,941000,5161538.461538462,892307.69230769237,51615.384615384617,8923.0769230769238]
["Sample 1331","Apparent Age","Error","Recalculated Age","Error","Apparent Age","Recalculated Age","Apparent Age","Recalculated Age"]
["Anorthoclase Phenocryst","Years","Years","Years","Years","Percentage Error","Percentage Error","Error Ratio","Error Ratio"]
[550,5867000,999000,-19111000,999000,{"$f":"(B69/13)*100","v":45130769.230769232},{"$f":"(D69/13)*100","v":-147007692.30769229},{"$f":"(B69/13)","v":451307.69230769231},{"$f":"(D69/13)","v":-1470076.923076923}]
[600,4716000,999000,-151000,999000,36276923.076923072,-1161538.4615384615,362769.23076923075,-11615.384615384615]
[600,1801000,479000,-121000,507000,13853846.153846154,-930769.23076923087,138538.46153846153,-9307.6923076923085]
[700,1120000,39000,-53000,41000,8615384.615384616,-407692.30769230769,86153.846153846156,-4076.9230769230771]
[700,984000,17000,65000,18000,7569230.769230769,500000,75692.307692307688,5000]
[800,1010000,9000,162000,9000,7769230.769230769,1246153.846153846,77692.307692307688,12461.538461538461]
[800,950000,7000,157000,8000,7307692.307692308,1207692.3076923075,73076.923076923078,12076.923076923076]
[900,834000,5000,174000,5000,6415384.615384616,1338461.5384615385,64153.846153846156,13384.615384615385]
[900,824000,5000,193000,5000,6338461.538461538,1484615.3846153845,63384.615384615383,14846.153846153846]
[1000,1278000,5000,365000,5000,9830769.2307692319,2807692.307692308,98307.692307692312,28076.923076923078]
[1000,628000,5000,182000,5000,4830769.2307692301,1400000,48307.692307692305,14000]
[1100,732000,6000,200000,6000,5630769.2307692301,1538461.5384615385,56307.692307692305,15384.615384615385]
[1100,1000,9000,-15000,10000,7692.3076923076924,-115384.61538461538,76.92307692307692,-1153.8461538461538]
[1200,109000,7000,-3000,7000,838461.5384615385,-23076.923076923078,8384.6153846153848,-230.76923076923077]
[1200,-24000,12000,-41000,12000,-184615.38461538462,-315384.61538461538,-1846.1538461538462,-3153.8461538461538]
[1300,154000,5000,-89000,5000,1184615.3846153845,-684615.38461538462,11846.153846153846,-6846.1538461538457]
[1300,84000,6000,-35000,6000,646153.84615384624,-269230.76923076925,6461.5384615384619,-2692.3076923076924]
[1400,90000,7000,-40000,8000,692307.69230769225,-307692.30769230769,6923.0769230769229,-3076.9230769230771]
[1500,56000,11000,-39000,12000,430769.23076923075,-300000,4307.6923076923076,-3000]
[1650,71000,16000,-97000,17000,546153.84615384624,-746153.84615384624,5461.5384615384619,-7461.5384615384619]
[1650,248000,93000,126000,98000,1907692.3076923077,969230.76923076913,19076.923076923078,9692.3076923076915]
["Sample 1332","Apparent Age","Error","Recalculated Age","Error","Apparent Age",null,"Apparent Age"]
["Bomb Matrix Glass","Years","Years","Years","Years","Percentage Error",null,"Error Ratio"]
[550,-999000,999000,"None","None",{"$f":"(B92/13)*100","v":-7684615.384615384},"None",{"$f":"(B92/13)","v":-76846.153846153844},"None"]
[600,-999000,367000,"None","None",-7684615.384615384,"None",-76846.153846153844,"None"]
[600,-86000,194000,"None","None",-661538.4615384615,"None",-6615.3846153846152,"None"]
[700,43000,14000,"None","None",330769.23076923075,"None",3307.6923076923076,"None"]
[700,23000,6000,"None","None",176923.07692307694,"None",1769.2307692307693,"None"]
[800,33000,10000,"None","None",253846.15384615384,"None",2538.4615384615386,"None"]
[800,35000,2000,"None","None",269230.76923076925,"None",2692.3076923076924,"None"]
[900,246000,27000,"None","None",1892307.6923076923,"None",18923.076923076922,"None"]
[900,64000,1000,"None","None",492307.69230769231,"None",4923.0769230769229,"None"]
[1000,82000,1000,"None","None",630769.23076923075,"None",6307.6923076923076,"None"]
[1000,104000,2000,"None","None",800000,"None",8000,"None"]
[1100,126000,2000,"None","None",969230.76923076913,"None",9692.3076923076915,"None"]
[1100,126000,5000,"None","None",969230.76923076913,"None",9692.3076923076915,"None"]
[1200,153000,6000,"None","None",1176923.076923077,"None",11769.23076923077,"None"]
[1200,168000,42000,"None","None",1292307.6923076925,"None",12923.076923076924,"None"]
[1300,172000,36000,"None","None",1323076.923076923,"None",13230.76923076923,"None"]
[1300,263000,449000,"None","None",2023076.923076923,"None",20230.76923076923,"None"]
[1400,337000,609000,"None","None",2592307.692307692,"None",25923.076923076922,"None"]
[1400,9419000,999000,"None","None",72453846.153846145,"None",724538.4615384615,"None"]
[1650,650000,491000,"None","None",5000000,"None",50000,"None"]
["1984 Lava Flow In Antarctica"]
["Dated in 1997, 13 years old"]
["R. P. Esser, And W. C. Mcintosh"]
[]
[]
[]
[]
[]
[null,"Sample 1316","Sample 1317","Sample 1330","Sample 1331","Sample 1332","Sample 1316","Sample 1317","Sample 1330","Sample 1331","Sample 1332"]
[null,"Age (ka)","Age (ka)","Age (ka)","Age (ka)","Age (ka)","Error Ratio","Error Ratio","Error Ratio","Error Ratio","Error Ratio"]
[null,273,-894,4371,5867,9419,{"$f":"B122/17000","v":1.6058823529411764E-2},{"$f":"C122/17000","v":-5.2588235294117644E-2},{"$f":"D122/17000","v":0.25711764705882351},{"$f":"E122/17000","v":0.34511764705882353},{"$f":"F122/17000","v":0.55405882352941171}]
[null,97,374,671,4716,-999,{"$f":"B123/17000","v":5.7058823529411761E-3},2.1999999999999999E-2,3.9470588235294118E-2,0.27741176470588236,-5.8764705882352941E-2]
[null,38,281,507,1801,-999,2.2352941176470588E-3,1.6529411764705883E-2,2.9823529411764707E-2,0.10594117647058823,-5.8764705882352941E-2]
[null,28,275,166,1278,650,1.6470588235294118E-3,1.6176470588235296E-2,9.764705882352941E-3,7.5176470588235289E-2,3.8235294117647062E-2]
[null,25,263,149,1120,337,1.4705882352941176E-3,1.5470588235294118E-2,8.7647058823529418E-3,6.5882352941176475E-2,1.9823529411764705E-2]
[null,28,246,142,1010,263,1.6470588235294118E-3,1.4470588235294117E-2,8.352941176470589E-3,5.9411764705882351E-2,1.5470588235294118E-2]
[null,19,240,129,984,246,1.1176470588235294E-3,1.411764705882353E-2,7.5882352941176474E-3,5.7882352941176468E-2,1.4470588235294117E-2]
[null,10,227,88,950,172,5.8823529411764701E-4,1.3352941176470588E-2,5.1764705882352945E-3,5.5882352941176473E-2,1.011764705882353E-2]
[null,12,225,88,834,168,7.0588235294117652E-4,1.3235294117647059E-2,5.1764705882352945E-3,4.9058823529411766E-2,9.8823529411764706E-3]
[null,16,209,86,824,153,9.4117647058823532E-4,1.2294117647058823E-2,5.0588235294117649E-3,4.8470588235294119E-2,8.9999999999999993E-3]
[null,33,128,86,732,126,1.9411764705882352E-3,7.5294117647058826E-3,5.0588235294117649E-3,4.3058823529411767E-2,7.4117647058823529E-3]
[null,38,96,82,628,126,2.2352941176470588E-3,5.6470588235294121E-3,4.8235294117647057E-3,3.6941176470588234E-2,7.4117647058823529E-3]
[null,111,78,72,248,104,6.5294117647058825E-3,4.5882352941176473E-3,4.2352941176470585E-3,1.4588235294117647E-2,6.1176470588235297E-3]
[null,77,78,41,154,86,4.5294117647058825E-3,4.5882352941176473E-3,2.4117647058823528E-3,9.058823529411765E-3,5.0588235294117649E-3]
[null,139,57,33,109,82,8.1764705882352937E-3,3.352941176470588E-3,1.9411764705882352E-3,6.4117647058823529E-3,4.8235294117647057E-3]
[null,61,48,28,90,64,3.5882352941176469E-3,2.8235294117647061E-3,1.6470588235294118E-3,5.2941176470588233E-3,3.7647058823529413E-3]
[null,139,41,21,84,43,8.1764705882352937E-3,2.4117647058823528E-3,1.2352941176470588E-3,4.9411764705882353E-3,2.5294117647058825E-3]
[null,66,15,16,71,35,3.8823529411764705E-3,8.8235294117647062E-4,9.4117647058823532E-4,4.1764705882352945E-3,2.0588235294117649E-3]
[null,null,11,15,56,33,0,6.4705882352941182E-4,8.8235294117647062E-4,3.2941176470588237E-3,1.9411764705882352E-3]
[null,null,null,10,-24,23,0,0,5.8823529411764701E-4,-1.411764705882353E-3,1.3529411764705882E-3]
[null,null,null,9,1]
[null,null,null,5]
["Average",{"$f":"AVERAGE(B122:B143)","v":67.222222222222229},105.15789473684211,{"$f":"AVERAGE(D122:D143)","v":309.77272727272725},{"$f":"AVERAGE(E122:E143)","v":1025.3809523809523},506.6]
["Maximum",{"$f":"MAX(B122:B144)","v":273},374,{"$f":"MAX(D122:D144)","v":4371},{"$f":"MAX(E122:E144)","v":5867},9419]
["Minimum",{"$f":"MIN(B122:B145)","v":10},-894,{"$f":"MIN(D122:D145)","v":5},{"$f":"MIN(E122:E145)","v":-24},-999]
["Difference",{"$f":"B145-B146","v":263},1268,{"$f":"D145-D146","v":4366},{"$f":"E145-E146","v":5891},10418]
[null,"Sample 1316","Sample 1317","Sample 1330","Sample 1331","Sample 1332","Sample 1316","Sample 1317","Sample 1330","Sample 1331","Sample 1332"]
[null,"Recalc Age (ka)","Recalc Age (ka)","Recalc Age (ka)","Recalc Age (ka)","Recalc Age (ka)","Error Ratio","Error Ratio","Error Ratio","Error Ratio","Error Ratio"]
[null,107,-1399,3372,-19111,"None",{"$f":"(B150/1)/17","v":6.2941176470588234},{"$f":"(C150/1)/17","v":-82.294117647058826},{"$f":"(D150/1)/17","v":198.35294117647058},{"$f":"(E150/1)/17","v":-1124.1764705882354}]
[null,17,-110,119,-151,"None",{"$f":"(B151/1)/17","v":1},{"$f":"(C151/1)/17","v":-6.4705882352941178},{"$f":"(D151/1)/17","v":7},{"$f":"(E151/1)/17","v":-8.882352941176471}]
[null,1,-17,115,-121,"None",5.8823529411764705E-2,-1,6.7647058823529411,-7.117647058823529]
[null,2,-11,134,-53,"None",0.11764705882352941,-0.6470588235294118,7.882352941176471,-3.1176470588235294]
[null,-5,-23,32,65,"None",-0.29411764705882354,-1.3529411764705883,1.8823529411764706,3.8235294117647061]
[null,-5,40,21,162,"None",-0.29411764705882354,2.3529411764705883,1.2352941176470589,9.5294117647058822]
[null,1,2,16,157,"None",5.8823529411764705E-2,0.11764705882352941,0.94117647058823528,9.235294117647058]
[null,1,23,8,174,"None",5.8823529411764705E-2,1.3529411764705883,0.47058823529411764,10.235294117647058]
[null,-3,8,6,193,"None",-0.17647058823529413,0.47058823529411764,0.35294117647058826,11.352941176470589]
[null,5,57,6,365,"None",0.29411764705882354,3.3529411764705883,0.35294117647058826,21.470588235294116]
[null,-7,64,0,182,"None",-0.41176470588235292,3.7647058823529411,0,10.705882352941176]
[null,6,40,11,200,"None",0.35294117647058826,2.3529411764705883,0.6470588235294118,11.764705882352942]
[null,-29,23,10,-15,"None",-1.7058823529411764,1.3529411764705883,0.58823529411764708,-0.88235294117647056]
[null,-19,4,90,-3,"None",-1.1176470588235294,0.23529411764705882,5.2941176470588234,-0.17647058823529413]
[null,-42,40,54,-41,"None",-2.4705882352941178,2.3529411764705883,3.1764705882352939,-2.4117647058823528]
[null,-48,22,89,-89,"None",-2.8235294117647061,1.2941176470588236,5.2352941176470589,-5.2352941176470589]
[null,-19,30,47,-35,"None",-1.1176470588235294,1.7647058823529411,2.7647058823529411,-2.0588235294117645]
[null,-36,75,28,-40,"None",-2.1176470588235294,4.4117647058823533,1.6470588235294117,-2.3529411764705883]
[null,null,-997,41,-39,"None",0,-58.647058823529413,2.4117647058823528,-2.2941176470588234]
[null,null,null,59,-97,"None",0,0,3.4705882352941178,-5.7058823529411766]
[null,null,null,95,126,null,{"$f":"(B170/1000)/17","v":0},{"$f":"(C170/1000)/17","v":0},{"$f":"(D170/1000)/17","v":5.5882352941176473E-3},{"$f":"(E170/1000)/17","v":7.4117647058823529E-3}]
[null,null,null,116,null,null,0,0,6.8235294117647066E-3,0]
["Average",{"$f":"AVERAGE(B150:B171)","v":-4.0555555555555554},{"$f":"AVERAGE(C150:C171)","v":-112.05263157894737},{"$f":"AVERAGE(D150:D171)","v":203.13636363636363},{"$f":"AVERAGE(E150:E171)","v":-865.28571428571433}]
["Maximum",{"$f":"MAX(B150:B172)","v":107},{"$f":"MAX(C150:C172)","v":75},{"$f":"MAX(D150:D172)","v":3372},{"$f":"MAX(E150:E172)","v":365}]
["Minimum",{"$f":"MIN(B150:B173)","v":-48},{"$f":"MIN(C150:C173)","v":-1399},{"$f":"MIN(D150:D173)","v":0},{"$f":"MIN(E150:E173)","v":-19111}]
["Difference",{"$f":"B173-B174","v":155},{"$f":"C173-C174","v":1474},{"$f":"D173-D174","v":3372},{"$f":"E173-E174","v":19476}]

{"sheet":"H15","index":17,"n_rows":67,"n_cols":24,"rows_kept":67,"cut":false,"hidden":false,"merged":[]}
["Table 1","Mount Erebus",null,null,null,null,null,null,null,null,null,null,null,null,null,null,1972,null,"Eruption Year","Age (Ma)","Eruption Year","Age (Ma)",null,4935.4736480883821]
["Sample","Rock Type","Year/age","87Sr/86Sr","143Nd/144Nd","εNd","176Hf/177Hf","εHf","206Pb/204Pb","207Pb/204Pb","208Pb/204Pb","207Pb/206Pb ","Age","Year Dated","Historic Age","Age Ratio",1974,null,1972,4893.8416738973647,1986,4894.1205881007481,null,4928.0407987002536]
["Historic","bombs",null,null,null,null,null,null,null,null,null,null,null,null,null,"Millions",1975,null,1974,4893.9257325039898,1989,4893.9060984785374,null,4915.8099477584647]
[25724,"Phono.",1972,0.70305799999999996,0.51291100000000001,5.3,0.28297099999999997,7,19.952999999999999,15.653,39.524000000000001,{"$f":"(J4/I4)","v":0.78449355986568436},{"$f":"[1]!AgePb76(L4)","v":4893.8416738973647},2008,{"$f":"(N4-C4)","v":36},{"$f":"M4/O4","v":135.94004649714901},1977,null,1975,4894.1205881007481,1991,4894.3477822297145,null,4902.4806985143068]
[25721,"Phono.",1974,0.70301899999999995,0.51290000000000002,5.0999999999999996,0.28294900000000001,6.3,19.948,15.65,39.518999999999998,{"$f":"(J5/I5)","v":0.7845398034890716},{"$f":"[1]!AgePb76(L5)","v":4893.9257325039898},2008,{"$f":"(N5-C5)","v":34},{"$f":"M5/O5","v":143.93899213247028},1979,null,1977,4893.7631221572665,1992,4894.0687149370178,null,4899.6006102066904]
["[L1]",null,1974,null,null,null,0.28296199999999999,6.7,19.946999999999999,15.651999999999999,39.5,0.78467940041108941,{"$f":"[1]!AgePb76(L6)","v":4894.1794505788748},2008,34,143.94645442879045,1980,null,1979,4894.1402111817488,1993,4894.0294592221881,null,4897.9403527765471]
["[L2]",null,1974,null,null,null,null,null,19.943999999999999,15.648999999999999,39.506,0.78464701163257122,{"$f":"[1]!AgePb76(L7)","v":4894.1205881007481},2008,34,143.94472317943377,1981,null,1980,4893.9131457958856,1996,4894.2439799085532,null,4896.0328270212467]
[25723,"Phono.",1975,0.70301899999999995,0.51288599999999995,4.8,0.28296399999999999,6.8,19.943999999999999,15.648999999999999,39.512999999999998,0.78464701163257122,{"$f":"[1]!AgePb76(L8)","v":4894.1205881007481},2008,33,148.30668448790146,1982,null,1981,4893.9060984785374,1997,4894.3154935114171,null,4895.7139773581166]
[77016,"Phono.",1977,0.70303899999999997,0.51290500000000006,5.2,0.28295399999999998,6.4,19.949000000000002,15.648999999999999,39.517000000000003,0.78445034838839034,{"$f":"[1]!AgePb76(L9)","v":4893.7631221572665},2008,31,157.86332652120214,1983,null,1982,4894.0687149370178,1999,4894.3477822297145,null,4895.0112339574507]
[78325,"Phono.",1977,0.70303099999999996,0.51288699999999998,4.9000000000000004,0.28294200000000003,6,19.948,15.648999999999999,39.515000000000001,0.78448967315019047,{"$f":"[1]!AgePb76(L10)","v":4893.8346086421016},2008,31,157.86563253684199,1984,null,1983,4893.9775916669014,2000,4894.3870104685393,null,4894.5057319145126]
[79302,"Phono.",1979,0.70303300000000002,0.51292499999999996,5.6,0.28295100000000001,6.3,19.945,15.65,39.512,0.7846578089746804,{"$f":"[1]!AgePb76(L11)","v":4894.1402111817488},2008,29,168.76345555799134,1985,null,1984,4896.0328270212467,2001,4895.7139773581166,null,4894.3996959933684]
[80300,"Phono.",1980,0.70303800000000005,0.51292400000000005,5.6,0.28293600000000002,5.8,19.952000000000002,15.653,39.508000000000003,0.7845328789093825,{"$f":"[1]!AgePb76(L12)","v":4893.9131457958856},2008,28,174.78261234985305,1986,null,1985,4894.1528457168379,2004,4894.3743299123389,null,4894.3870104685393]
[81401,"Phono.",1981,0.70302399999999998,0.51290599999999997,5.2,0.28293800000000002,5.9,19.946999999999999,15.648999999999999,39.515000000000001,0.78452900185491548,{"$f":"[1]!AgePb76(L13)","v":4893.9060984785374},2008,27,181.255781425131,1989,null,null,null,null,null,null,4894.3743299123389]
[82416,"Phono.",1982,null,0.51289099999999999,4.9000000000000004,0.28295399999999998,6.4,19.946000000000002,15.65,39.518999999999998,0.78461846986864525,{"$f":"[1]!AgePb76(L14)","v":4894.0687149370178},2008,26,188.23341211296221,1991,null,null,null,null,null,null,4894.3477822297145]
[83220,"Phono.",1983,0.70303899999999997,0.51290800000000003,5.3,0.28296300000000002,6.8,19.946000000000002,15.648999999999999,39.515000000000001,0.78456833450315844,{"$f":"[1]!AgePb76(L15)","v":4893.9775916669014},2008,25,195.75910366667605,1992,null,null,null,null,null,null,4894.3477822297145]
[84501,"Phono.",1984,0.703102,0.51291600000000004,5.4,0.28295799999999999,6.6,19.916,15.648,39.488999999999997,0.78569993974693708,{"$f":"[1]!AgePb76(L16)","v":4896.0328270212467},2008,24,204.00136779255195,1993,null,null,null,null,null,null,4894.3154935114171]
["[L1]d",null,1984,null,null,null,null,null,19.896999999999998,15.654,39.485999999999997,0.78675177162386301,{"$f":"[1]!AgePb76(L17)","v":4897.9403527765471},2008,24,204.08084803235613,1996,null,null,null,null,null,null,4894.2958768688013]
[84500,"Phono.",1984,0.70310899999999998,0.51289799999999997,5.0999999999999996,0.28296100000000002,6.7,19.928999999999998,15.647,39.491,0.78513723719203177,{"$f":"[1]!AgePb76(L18)","v":4895.0112339574507},2008,24,203.95880141489377,1997,null,"Eruption","True Age","207Pb/206Pb ","Age Ratio 106",null,4894.2439799085532]
[85009,"Phono.",1985,0.70306100000000005,0.51290400000000003,5.2,0.28295900000000002,6.6,19.940999999999999,15.647,39.506999999999998,0.78466476104508309,{"$f":"[1]!AgePb76(L19)","v":4894.1528457168379},2008,23,212.78925416160163,1999,null,1972,36,4893.8416738973647,135.94004649714901,null,4894.1794505788748]
[86022,"Phono.",1986,0.70302200000000004,0.51292400000000005,5.6,0.28296500000000002,6.8,19.943999999999999,15.648999999999999,39.512999999999998,0.78464701163257122,{"$f":"[1]!AgePb76(L20)","v":4894.1205881007481},2008,22,222.4600267318522,2000,null,1974,34,4893.9257325039898,143.93899213247028,null,4894.1528457168379]
[89001,"Phono.",1989,0.70302100000000001,0.51293,5.7,0.28294599999999998,6.2,19.946999999999999,15.648999999999999,39.517000000000003,0.78452900185491548,{"$f":"[1]!AgePb76(L21)","v":4893.9060984785374},2008,19,257.57400518308094,2001,null,1974,34,4894.1794505788748,143.94645442879045,null,4894.1402111817488]
[91101,"Phono.",1991,0.70302600000000004,0.51292899999999997,5.7,0.282943,6,19.937000000000001,15.646000000000001,39.506,0.7847720319004865,{"$f":"[1]!AgePb76(L22)","v":4894.3477822297145},2008,17,287.90281071939495,2004,null,1974,34,4894.1205881007481,143.94472317943377,null,4894.1205881007481]
["Er92KS","Phono.",1992,0.70303499999999997,0.51291200000000003,5.3,0.28295199999999998,6.4,19.946000000000002,15.65,39.515999999999998,0.78461846986864525,{"$f":"[1]!AgePb76(L23)","v":4894.0687149370178},2008,16,305.87929468356361,null,null,1975,33,4894.1205881007481,148.30668448790146,null,4894.1205881007481]
["[L1]",null,1992,null,null,null,0.28294799999999998,6.2,19.959,15.664999999999999,39.524999999999999,0.78485896086978302,{"$f":"[1]!AgePb76(L24)","v":4894.5057319145126},2008,16,305.90660824465704,null,null,1977,31,4893.7631221572665,157.86332652120214,null,4894.1205881007481]
[93102,"Phono.",1993,0.70302200000000004,0.51290599999999997,5.2,0.28295199999999998,6.4,19.943999999999999,15.648,39.505000000000003,0.78459687123947053,{"$f":"[1]!AgePb76(L25)","v":4894.0294592221881},2008,15,326.26863061481254,null,null,1977,31,4893.8346086421016,157.86563253684199,null,4894.1009627642698]
["[L1]",null,1993,null,null,null,null,null,19.945,15.648,39.508000000000003,0.78455753321634492,{"$f":"[1]!AgePb76(L26)","v":4893.9579590330359},2008,15,326.26386393553571,null,null,1979,29,4894.1402111817488,168.76345555799134,null,4894.0687149370178]
["[L2]",null,1993,null,null,null,null,null,19.943000000000001,15.648,39.503999999999998,0.78463621320764176,{"$f":"[1]!AgePb76(L27)","v":4894.1009627642698},2008,15,326.27339751761798,null,null,1980,28,4893.9131457958856,174.78261234985305,null,4894.0687149370178]
["Er96","Phono.",1996,0.70302600000000004,0.51290599999999997,5.2,0.28294200000000003,6,19.940999999999999,15.648,39.505000000000003,0.78471490898149543,{"$f":"[1]!AgePb76(L28)","v":4894.2439799085532},2008,12,407.85366499237944,null,null,1981,27,4893.9060984785374,181.255781425131,null,4894.0294592221881]
["Er97","Phono.",1997,0.70303300000000002,0.51291100000000001,5.3,0.28293499999999999,5.8,19.940000000000001,15.648,39.509,0.78475426278836502,{"$f":"[1]!AgePb76(L29)","v":4894.3154935114171},2008,11,444.93777213740157,null,null,1982,26,4894.0687149370178,188.23341211296221,null,4893.9775916669014]
["[L]",null,1997,null,null,null,null,null,19.934999999999999,15.64,39.506999999999998,0.78454978680712328,{"$f":"[1]!AgePb76(L30)","v":4893.9438788282614},2008,11,444.90398898438741,null,null,1983,25,4893.9775916669014,195.75910366667605,null,4893.9579590330359]
["Er99","Phono.",1999,0.70304199999999994,0.51290999999999998,5.3,0.28295999999999999,6.6,19.937000000000001,15.646000000000001,39.505000000000003,0.7847720319004865,{"$f":"[1]!AgePb76(L31)","v":4894.3477822297145},2008,9,543.81642024774601,null,null,1984,24,4896.0328270212467,204.00136779255195,null,4893.9438788282614]
["[L1]",null,1999,null,null,null,null,null,19.934999999999999,15.645,39.5,0.78480060195635815,{"$f":"[1]!AgePb76(L32)","v":4894.3996959933684},2008,9,543.82218844370755,null,null,1984,24,4897.9403527765471,204.08084803235613,null,4893.9257325039898]
["[L2]",null,1999,null,null,null,null,null,19.939,15.647,39.506999999999998,0.78474346757610713,{"$f":"[1]!AgePb76(L33)","v":4894.2958768688013},2008,9,543.81065298542239,null,null,1984,24,4895.0112339574507,203.95880141489377,null,4893.9131457958856]
["Er2000","Phono.",2000,0.70304299999999997,0.51290500000000006,5.2,0.28295700000000001,6.5,19.939,15.648,39.508000000000003,0.78479362054265511,{"$f":"[1]!AgePb76(L34)","v":4894.3870104685393},2008,8,611.79837630856741,null,null,1985,23,4894.1528457168379,212.78925416160163,null,4893.9060984785374]
["Er2001","Phono.",2001,0.70301800000000003,0.512903,5.2,0.28295500000000001,6.5,19.922999999999998,15.65,39.497999999999998,0.7855242684334689,{"$f":"[1]!AgePb76(L35)","v":4895.7139773581166},2008,7,699.3877110511595,null,null,1986,22,4894.1205881007481,222.4600267318522,null,4893.9060984785374]
[2004,"Phono.",2004,0.70305099999999998,0.512903,5.2,0.28296199999999999,6.7,19.943000000000001,15.651,39.515000000000001,0.78478664192949898,{"$f":"[1]!AgePb76(L36)","v":4894.3743299123389},2008,4,1223.5935824780847,null,null,1989,19,4893.9060984785374,257.57400518308094,null,4893.8416738973647]
["Stage-3","EL","phonolite","lavas",null,null,null,null,null,null,null,null,null,null,null,"Units",null,null,1991,17,4894.3477822297145,287.90281071939495,null,4893.8346086421016]
["E83452","Phono.",23000,0.703017,0.51293100000000003,5.7,0.28296199999999999,6.7,19.975999999999999,15.659000000000001,39.551000000000002,0.7838906688025632,{"$f":"[1]!AgePb76(L38)","v":4892.7452952862077},2008,{"$f":"(C38-N38)","v":20992},{"$f":"(M38*1000000)/O38","v":233076.66231355793},null,null,1992,16,4894.0687149370178,305.87929468356361,null,4893.7631221572665]
["E87066","Phono.",17000,0.70307699999999995,0.51292700000000002,5.6,0.28295500000000001,6.5,19.957000000000001,15.648999999999999,39.521999999999998,0.78413589216816149,{"$f":"[1]!AgePb76(L39)","v":4893.1913508963935},2008,{"$f":"(C39-N39)","v":14992},{"$f":"(M39*1000000)/O39","v":326386.82970226748},null,null,1992,16,4894.5057319145126,305.90660824465704,null,4893.2896807261022]
["E87085","Phono.",12000,0.70308800000000005,0.51287199999999999,4.5999999999999996,0.28296500000000002,6.8,19.963000000000001,15.651,39.530999999999999,0.78400040074137145,{"$f":"[1]!AgePb76(L40)","v":4892.944913500849},2008,9992,489686.24034235877,null,null,1993,15,4894.0294592221881,326.26863061481254,null,4893.2254601783616]
["E87020","Phono.",11000,0.70308499999999996,0.51290899999999995,5.3,0.28296300000000002,6.8,19.957000000000001,15.648999999999999,39.518999999999998,0.78413589216816149,{"$f":"[1]!AgePb76(L41)","v":4893.1913508963935},2008,8992,544171.63599826442,null,null,1993,15,4893.9579590330359,326.26386393553571,null,4893.1913508963935]
["E87034","Phono.",11000,0.70302500000000001,0.51292800000000005,5.7,0.282943,6.1,19.968,15.657999999999999,39.543999999999997,0.78415464743589736,{"$f":"[1]!AgePb76(L42)","v":4893.2254601783616},2008,8992,544175.42929029826,null,null,1993,15,4894.1009627642698,326.27339751761798,null,4893.1913508963935]
["E87035","Phono.",10000,null,0.51292800000000005,5.7,0.28294799999999998,6.2,19.962,15.654,39.534999999999997,0.78418996092575899,{"$f":"[1]!AgePb76(L43)","v":4893.2896807261022},2008,7992,612273.48357433709,null,null,1996,12,4894.2439799085532,407.85366499237944,null,4893.1198945610431]
["E87004","Phono.",9000,0.70308800000000005,0.51291200000000003,5.3,0.28294900000000001,6.3,19.995999999999999,15.673,39.61,0.78380676135227045,{"$f":"[1]!AgePb76(L44)","v":4892.5926354633211},2008,6992,699741.50964864425,null,null,1997,11,4894.3154935114171,444.93777213740157,null,4893.0360294011298]
["E87054","Phono.",9000,null,0.51289399999999996,5,0.28294599999999998,6.2,19.957999999999998,15.648999999999999,39.521999999999998,0.78409660286601868,{"$f":"[1]!AgePb76(L45)","v":4893.1198945610431},2008,6992,699816.91855850152,null,null,1997,11,4893.9438788282614,444.90398898438741,null,4892.944913500849]
["Stage-3","El",null,"lavas",null,null,null,null,null,null,null,null,null,2008,null,null,null,null,1999,9,4894.3477822297145,543.81642024774601,null,4892.7452952862077]
["E87083","Phono.",6000,0.70300499999999999,0.51290400000000003,5.2,0.282947,6.2,19.975000000000001,15.657,39.548000000000002,0.78382978723404251,{"$f":"[1]!AgePb76(L47)","v":4892.6345301029423},2008,3992,1225609.8522301961,null,null,1999,9,4894.3996959933684,543.82218844370755,null,4892.6345301029423]
["E87051","Phono.",4000,0.70300799999999997,0.51290400000000003,5.2,0.28295199999999998,6.4,19.963000000000001,15.651999999999999,39.53,0.78405049341281363,{"$f":"[1]!AgePb76(L48)","v":4893.0360294011298},2008,1992,2456343.3882535794,null,null,1999,9,4894.2958768688013,543.81065298542239,null,4892.6246165086777]
["E87040","Phono.",1000,0.703017,0.51292300000000002,5.6,0.28296300000000002,6.8,19.992999999999999,15.670999999999999,39.6,0.78382433851848154,{"$f":"[1]!AgePb76(L49)","v":4892.6246165086777},2008,1008,4853794.2624094021,null,null,2000,8,4894.3870104685393,611.79837630856741,null,4892.5926354633211]
["Stage-1","EL lavas",null,null,null,null,null,null,null,null,null,null,null,2008,null,null,null,null,2001,7,4895.7139773581166,699.3877110511595,null,4892.2823974408411]
["EL83432","Basanite",1311000,0.70292200000000005,0.51288599999999995,4.8,0.28297800000000001,7.3,20.006,15.666,39.701000000000001,0.78306508047585721,{"$f":"[1]!AgePb76(L51)","v":4891.2424763754989},2008,1308992,3736.6481050881125,{"$f":"P51/1000000","v":3.7366481050881127E-3},null,2004,4,4894.3743299123389,1223.5935824780847,null,4891.2424763754989]
["DVDP-2","lavas",null,null,null,null,null,null,null,null,null,null,null,2008,null,null,null,null,null,null,null,null,null,4879.0393489177131]
["DVDP2–45.86","Te-Phon.",1200000,0.70302100000000001,0.51290500000000006,5.2,0.28292400000000001,5.4,19.629000000000001,15.638,39.206000000000003,0.79667838402363844,{"$f":"[1]!AgePb76(L53)","v":4915.8099477584647},2008,1197992,4103.3746033015786,null,null,null,null,null,null,null,4875.2502349438892]
["DVDP2–61.23","Te-Phon.",1200000,0.70304,0.51288400000000001,4.8,0.28292400000000001,5.4,20.277999999999999,15.702,39.866,0.77433671959759354,{"$f":"[1]!AgePb76(L54)","v":4875.2502349438892},2008,1197992,4069.5181895571004,null,null,null,null,null,null,"Average",{"$f":"AVERAGE(X1:X53)","v":4895.3925287875445}]
["DVDP2–76.38","Phon-Te.",1200000,0.70308099999999996,0.51287700000000003,4.7,0.28293200000000002,5.7,20.173999999999999,15.663,39.723999999999997,0.77639536036482604,{"$f":"[1]!AgePb76(L55)","v":4879.0393489177131},2008,1197992,4072.6810771004425,null,null,null,null,null,null,"Maximum",{"$f":"MAX(X1:X54)","v":4935.4736480883821}]
["DVDP2–105.53","Basanite",1250000,0.70299100000000003,0.51292899999999997,5.7,0.28294399999999997,6.1,19.495999999999999,15.666,39.069000000000003,0.8035494460402135,{"$f":"[1]!AgePb76(L56)","v":4928.0407987002536},2008,1247992,3948.7759526505406,null,null,null,null,null,null,"Minimum",{"$f":"MIN(X1:X55)","v":4875.2502349438892}]
["Enriched","Fe-series",null,null,null,null,null,null,null,null,null,null,null,2008,null,null,null,null,null,null,null,null,"Difference",{"$f":"X55-X56","v":60.223413144492952}]
["Ice-station","Trachyte",159000,0.70425099999999996,0.51291600000000004,5.4,0.28292299999999998,5.3,19.366,15.643000000000001,39.128999999999998,0.80775586078694628,{"$f":"[1]!AgePb76(L58)","v":4935.4736480883821},2008,156992,31437.73980896085,null,null,null,null,null,null,"Accuracy",{"$f":"1-(X57/X54)","v":0.98769793989136789}]
["MT Morning",null,null,null,null,null,null,null,null,null,null,null,null,2008]
["MM-01A","Basanite",20000,0.70322600000000002,0.51283999999999996,3.9,0.28293200000000002,5.7,19.835000000000001,15.654999999999999,39.575000000000003,0.78926140660448696,{"$f":"[1]!AgePb76(L60)","v":4902.4806985143068},2008,17992,272481.1415359219]
["MM-02A","Basanite",20000,0.70331399999999999,0.51290199999999997,5.2,0.28295100000000001,6.3,19.971,15.65,39.631999999999998,0.78363627259526314,{"$f":"[1]!AgePb76(L61)","v":4892.2823974408411},2008,17992,271914.31733219436]
["MM-01A","Basanite",20000,0.70331399999999999,0.51288199999999995,4.8,0.28295599999999999,6.5,19.884,15.662000000000001,39.590000000000003,0.78766847716757193,{"$f":"[1]!AgePb76(L62)","v":4899.6006102066904},2008,17992,272321.06548503175]
[null,null,null,null,null,null,null,null,null,null,null,"Average",{"$f":"AVERAGE(M4:M62)","v":4895.3925287875454}]
[null,null,null,null,null,null,null,null,null,null,null,"Maximum",{"$f":"MAX(M4:M63)","v":4935.4736480883821}]
[null,null,null,null,null,null,null,null,null,null,null,"Minimum",{"$f":"MIN(M4:M64)","v":4875.2502349438892}]
[null,null,null,null,null,null,null,null,null,null,null,"Difference",{"$f":"M64-M65","v":60.223413144492952}]
[null,null,null,null,null,null,null,null,null,null,null,"Accuracy",{"$f":"1-(M66/M63)","v":0.98769793989136789}]

{"sheet":"H16","index":18,"n_rows":53,"n_cols":13,"rows_kept":53,"cut":false,"hidden":false,"merged":[]}
["Table 1","Mount Erebus",null,null,null,null,null,null,null,null,null,"Samoa","Mt. Erebus"]
["Sample","87Sr/86Sr","143Nd/144Nd","Epsilon Nd","208Pb/204Pb","207Pb/204Pb","206Pb/204Pb","207Pb/206Pb ","Age",null,null,"Pb Age (Ma)","Pb Age (Ma)"]
["Samoa",null,null,null,null,null,null,null,null,null,null,4934.7731098413742,4893.9775916669014]
["63-13",0.70552000000000004,0.51271599999999995,1.5,39.698999999999998,15.624000000000001,19.352,{"$f":"(F4/G4)","v":0.80735841256717655},{"$f":"[1]!AgePb76(H4)","v":4934.7731098413742},null,null,4935.4247629160773,4896.0328270212467]
["68-30",0.70521500000000004,0.51273400000000002,1.9,39.588999999999999,15.615,19.332000000000001,{"$f":"(F5/G5)","v":0.80772811918063314},{"$f":"[1]!AgePb76(H5)","v":4935.4247629160773},null,null,4931.9176727047361,4894.2439799085532]
["70-1",0.70537099999999997,0.512768,2.5,39.640999999999998,15.608000000000001,19.370999999999999,0.8057405399824481,{"$f":"[1]!AgePb76(H6)","v":4931.9176727047361},null,null,4931.8186824024178,4894.3870104685393]
["70-9",0.70535199999999998,0.51275300000000001,2.2000000000000002,39.683,15.619,19.385999999999999,0.80568451459816359,{"$f":"[1]!AgePb76(H7)","v":4931.8186824024178},null,null,4934.5129102649244]
["71-2",0.70594299999999999,0.51274299999999995,2,39.68,15.605,19.332000000000001,0.80721084212704319,{"$f":"[1]!AgePb76(H8)","v":4934.5129102649244},null,null,4931.9938032058271]
["72-2",0.70539499999999999,0.51273999999999997,2,39.656999999999996,15.603999999999999,19.364999999999998,0.80578363026077982,{"$f":"[1]!AgePb76(H9)","v":4931.9938032058271},null,null,4944.2459456566212]
["73-1",0.70672000000000001,0.51266900000000004,0.6,39.585000000000001,15.617000000000001,19.215,0.81275045537340629,{"$f":"[1]!AgePb76(H10)","v":4944.2459456566212},null,null,4934.5337886770603]
["73-3",0.70561600000000002,0.51271100000000003,1.4,39.637999999999998,15.602,19.327999999999999,0.80722268211920534,{"$f":"[1]!AgePb76(H11)","v":4934.5337886770603},null,null,4944.1779996476089]
["73-12",0.70665299999999998,0.51268599999999998,0.9,39.529000000000003,15.6,19.195,0.81271164365720239,{"$f":"[1]!AgePb76(H12)","v":4944.1779996476089},null,null,4936.895968307108]
["76-1",0.70719200000000004,0.51263700000000001,0,39.847000000000001,15.635999999999999,19.338000000000001,0.80856345020167542,{"$f":"[1]!AgePb76(H13)","v":4936.895968307108},null,null,4937.3202296791696]
["77-9",0.70726,0.51257900000000001,"−1.2",39.853000000000002,15.635,19.331,0.80880451088924521,{"$f":"[1]!AgePb76(H14)","v":4937.3202296791696},null,null,4945.3483936564717]
["78-1",0.708901,0.512521,"−2.3",39.862000000000002,15.647,19.236999999999998,0.81338046472942771,{"$f":"[1]!AgePb76(H15)","v":4945.3483936564717},null,null,4975.7877421806124]
["SAVB6",0.70578600000000002,0.51271599999999995,1.5,39.121000000000002,15.61,18.785,0.83098216662230495,{"$f":"[1]!AgePb76(H16)","v":4975.7877421806124},null,"Average",{"$f":"AVERAGE(L3:L15)","v":4939.9039237800007},{"$f":"AVERAGE(M3:M15)","v":4894.6603522663099}]
["Mt. Erebus",null,null,null,null,null,null,null,null,null,"Maximum",{"$f":"MAX(L3:L16)","v":4975.7877421806124},{"$f":"MAX(M3:M16)","v":4896.0328270212467}]
["ER-83220",0.70303899999999997,0.51290800000000003,5.3,39.515000000000001,15.648999999999999,19.946000000000002,0.78456833450315844,{"$f":"[1]!AgePb76(H18)","v":4893.9775916669014},null,"Minimum",{"$f":"MIN(L3:L17)","v":4931.8186824024178},{"$f":"MIN(M3:M17)","v":4893.9775916669014}]
["ER-84505",0.70313300000000001,0.51290599999999997,5.2,39.488999999999997,15.648,19.916,0.78569993974693708,{"$f":"[1]!AgePb76(H19)","v":4896.0328270212467},null,"Difference",{"$f":"L17-L18","v":43.969059778194605},{"$f":"M17-M18","v":2.0552353543453137}]
["ER-97KS",0.70303300000000002,0.51291100000000001,5.3,39.509,15.648,19.940999999999999,0.78471490898149543,{"$f":"[1]!AgePb76(H20)","v":4894.2439799085532},null,"Accuracy",{"$f":"1-(L19/L16)","v":0.99109920750350355},{"$f":"1-(M19/M16)","v":0.99958010664552166}]
["ER-2000",0.70304299999999997,0.51290500000000006,5.2,39.508000000000003,15.648,19.939,0.78479362054265511,{"$f":"[1]!AgePb76(H21)","v":4894.3870104685393}]
[]
[]
[]
[]
[null,null,null,null,null,null,null,"Samoa","Samoa","Samoa","Mt. Erebus"]
[null,null,null,null,null,null,null,"Pb Age (Ma)","Pb Age (Ma)","Pb Age (Ma)","Pb Age (Ma)"]
[null,null,null,null,null,null,null,4934.7731098413742,4934.5129102649244,4944.1779996476089,4893.9775916669014]
[null,null,null,null,null,null,null,4935.4247629160773,4931.9938032058271,4936.895968307108,4896.0328270212467]
[null,null,null,null,null,null,null,4931.9176727047361,4944.2459456566212,4937.3202296791696,4894.2439799085532]
[null,null,null,null,null,null,null,4931.8186824024178,4934.5337886770603,4945.3483936564717,4894.3870104685393]
[]
[]
[]
["Table 2"]
["Sample","[Th]μg/g","[U]μg/g","Th/U","238U/232Th","230Th/232Th","230Th/238U","234U/238U"]
["63-13 (avg)",4.99,1.1299999999999999,4.4000000000000004,0.68899999999999995,0.73699999999999999,1.07,1.0029999999999999,{"$f":"[1]!Th230Age(G37, H37)","v":0}]
["68-30 (avg)",3.52,0.82,4.3099999999999996,0.70499999999999996,0.76300000000000001,1.0900000000000001,1.004,{"$f":"[1]!Th230Age(G38, H38)","v":0}]
["70-1",3.96,1,3.96,0.76700000000000002,0.77700000000000002,1.01,1.0069999999999999,{"$f":"[1]!Th230Age(G39, H39)","v":1000.7124861850751}]
["70-9 (avg)",4.2,1,4.2,0.72099999999999997,0.75700000000000001,1.05,1.0049999999999999,{"$f":"[1]!Th230Age(G40, H40)","v":0}]
["71-2 (avg)",2.2999999999999998,0.54,4.29,0.70699999999999996,0.73299999999999998,1.04,1.0049999999999999,{"$f":"[1]!Th230Age(G41, H41)","v":0}]
["72-2 (avg)",5.15,1.21,4.25,0.71399999999999997,0.75700000000000001,1.06,1.0009999999999999,{"$f":"[1]!Th230Age(G42, H42)","v":0}]
["73-1 (avg)",6,1.24,4.83,0.628,0.67700000000000005,1.08,1.004,{"$f":"[1]!Th230Age(G43, H43)","v":0}]
["73-3 (avg)",4.83,1.07,4.5,0.67400000000000004,0.73499999999999999,1.0900000000000001,1.0029999999999999,{"$f":"[1]!Th230Age(G44, H44)","v":0}]
["73-12 (avg)",5.07,0.98,5.16,0.58799999999999997,0.67500000000000004,1.1499999999999999,1.0049999999999999,{"$f":"[1]!Th230Age(G45, H45)","v":0}]
["76-1",6.37,1.22,5.24,0.57899999999999996,0.61099999999999999,1.05,null,{"$f":"[1]!Th230Age(G46, H46)","v":0}]
["77-9",6.68,1.3,5.15,0.58899999999999997,0.64900000000000002,1.1000000000000001,null,{"$f":"[1]!Th230Age(G47, H47)","v":0}]
["78-1 (avg)",5.79,1.1000000000000001,5.26,0.57699999999999996,0.59799999999999998,1.04,1.004,{"$f":"[1]!Th230Age(G48, H48)","v":0}]
["SAV-B6 (avg)",3.34,0.74,4.5,0.67500000000000004,0.76300000000000001,1.1299999999999999,1.002,{"$f":"[1]!Th230Age(G49, H49)","v":0}]
[83220,30.93,8.94,3.46,0.877,0.98499999999999999,1.1200000000000001,1.0009999999999999,{"$f":"[1]!Th230Age(G50, H50)","v":0}]
["ER-84505",29.54,8.43,3.51,0.86499999999999999,0.97599999999999998,1.1299999999999999,1.002,{"$f":"[1]!Th230Age(G51, H51)","v":0}]
["ER-97KS",32.159999999999997,9.27,3.47,0.874,0.98899999999999999,1.1299999999999999,1.0009999999999999,{"$f":"[1]!Th230Age(G52, H52)","v":0}]
["ER-2000",32.19,9.19,3.5,0.86599999999999999,0.98899999999999999,1.1399999999999999,1.002,{"$f":"[1]!Th230Age(G53, H53)","v":0}]

{"sheet":"H17","index":19,"n_rows":44,"n_cols":14,"rows_kept":44,"cut":false,"hidden":false,"merged":[]}
[null,null,null,null,null,null,null,"TABLE 1."]
["TABLE 1.","K-Ar","K-Ar","Helium","Helium",null,null,"Maximum Age","Minimum Age","Difference","Difference","Difference"]
["Million Years","Min Age","Max Age","Min Age","Max Age",null,null,"Million Years","Million Years","Million Years","Percentage","Ratio"]
["Salt Lake Crater, Oahu",1230,1960,60,null,null,null,1960,60,{"$f":"(H4-I4)","v":1900},{"$f":"(H4/I4)","v":32.666666666666664},{"$f":"(H4/I4)","v":32.666666666666664}]
["Salt Lake Crater, Oahu",930,1580,140,null,null,null,1580,140,{"$f":"(H5-I5)","v":1440},{"$f":"(H5/I5)","v":11.285714285714286},{"$f":"(H5/I5)","v":11.285714285714286}]
["Salt Lake Crater, Oahu",140,680,2.6,3.4,null,null,680,3.4,676.6,200,200]
["Salt Lake Crater, Oahu",1290,2050,41,92,null,null,2050,41,2009,50,50]
["Salt Lake Crater, Oahu",92,147,44,null,null,null,147,44,103,3.3409090909090908,3.3409090909090908]
["Salt Lake Crater, Oahu",1360,1900,57,null,null,null,1900,57,1843,33.333333333333336,33.333333333333336]
["1800 Kaupulehu Flow",1030,1030,140,350,null,null,2020,3.4,2016.6,594.11764705882354,594.11764705882354]
["1800 Kaupulehu Flow",2480,2480,670,670,null,null,3300,3.4,3296.6,970.58823529411768,970.58823529411768]
[]
[]
[null,null,null,"1800 Kaupulehu flow."]
["John G. Funkhouser"]
["Journal Of Geophysical Research "]
["Volume 73, Number 14, Pages 4602, 4603"]
["Radiogenic Helium And Argon"]
[1968]
[]
[null,null,null,null,null,null,null,null,null,null,null,null,"K-Ar"]
["TABLE 2.","K/Ar",null,null,null,null,null,"Sample","K-Ar","K-Ar","Helium","Helium","Min Age"]
["Million Years","Age",null,null,null,null,null,"Location","Min Age","Max Age","Min Age","Max Age","Error Ratio"]
["1800 Kaupulehu Flow",2040,null,null,null,null,null,"1800 Kaupulehu Flow",1030,1030,140,350,{"$f":"(I24 * 1000000)/167","v":6167664.6706586825},"1800 Kaupulehu Flow"]
["1800 Kaupulehu Flow",960,null,null,null,null,null,"1800 Kaupulehu Flow",2480,2480,670,670,{"$f":"(I25 * 1000000)/167","v":14850299.401197605},"1800 Kaupulehu Flow"]
["1800 Kaupulehu Flow",1500,null,null,null,null,null,"1800 Kaupulehu Flow",2040,null,null,null,12215568.86227545,"1800 Kaupulehu Flow"]
["1800 Kaupulehu Flow",1580,null,null,null,null,null,"1800 Kaupulehu Flow",960,null,null,null,5748502.9940119758,"1800 Kaupulehu Flow"]
["1800 Kaupulehu Flow",791,null,null,null,null,null,"1800 Kaupulehu Flow",1500,null,null,null,8982035.9281437118,"1800 Kaupulehu Flow"]
["1800 Kaupulehu Flow",160,null,null,null,null,null,"1800 Kaupulehu Flow",1580,null,null,null,9461077.844311377,"1800 Kaupulehu Flow"]
["1800 Kaupulehu Flow",2470,null,null,null,null,null,"1800 Kaupulehu Flow",791,null,null,null,4736526.9461077843,"1800 Kaupulehu Flow"]
["1800 Kaupulehu Flow",2960,null,null,null,null,null,"1800 Kaupulehu Flow",160,null,null,null,958083.83233532938,"1800 Kaupulehu Flow"]
["Salt Lake Crater, Oahu",232,null,null,null,null,null,"1800 Kaupulehu Flow",2470,null,null,null,14790419.161676647,"1800 Kaupulehu Flow"]
["Salt Lake Crater, Oahu",2020,null,null,null,null,null,"1800 Kaupulehu Flow",2960,null,null,null,17724550.898203593,"1800 Kaupulehu Flow"]
["Salt Lake Crater, Oahu",925,null,null,null,null,null,"Salt Lake Crater, Oahu",1230,1960,60,null,7365269.4610778447,"Salt Lake Crater, Oahu"]
["Salt Lake Crater, Oahu",3300,null,null,null,null,null,"Salt Lake Crater, Oahu",930,1580,140,null,5568862.2754491018,"Salt Lake Crater, Oahu"]
["Salt Lake Crater, Oahu",0.4,null,null,null,null,null,"Salt Lake Crater, Oahu",140,680,2.6,3.4,838323.35329341318,"Salt Lake Crater, Oahu"]
[null,null,null,null,null,null,null,"Salt Lake Crater, Oahu",1290,2050,41,92,7724550.8982035927,"Salt Lake Crater, Oahu"]
[null,null,null,null,null,null,null,"Salt Lake Crater, Oahu",92,147,44,null,550898.20359281439,"Salt Lake Crater, Oahu"]
[null,null,null,null,null,null,null,"Salt Lake Crater, Oahu",1360,1900,57,null,8143712.5748502994,"Salt Lake Crater, Oahu"]
[null,null,null,null,null,null,null,"Salt Lake Crater, Oahu",232,null,null,null,1389221.5568862276,"Salt Lake Crater, Oahu"]
[null,null,null,null,null,null,null,"Salt Lake Crater, Oahu",2020,null,null,null,12095808.383233532,"Salt Lake Crater, Oahu"]
[null,null,null,null,null,null,null,"Salt Lake Crater, Oahu",925,null,null,null,5538922.155688623,"Salt Lake Crater, Oahu"]
[null,null,null,null,null,null,null,"Salt Lake Crater, Oahu",3300,null,null,null,19760479.041916169,"Salt Lake Crater, Oahu"]
[null,null,null,null,null,null,null,"Salt Lake Crater, Oahu",0.4,null,null,null,2395.2095808383233,"Salt Lake Crater, Oahu"]

{"sheet":"H18","index":20,"n_rows":23,"n_cols":11,"rows_kept":23,"cut":false,"hidden":false,"merged":[]}
["Isotopes","Eruption Year","Eruption Year","Eruption Year","Eruption Year","Eruption Year","Eruption Year","Eruption Year","Eruption Year","Eruption Year","Eruption Year"]
["Ratios",1949,1949,1954,1954,1954,1954,1954,1954,1975,1975]
["206Pb/204Pb",18.841999999999999,18.802,18.821000000000002,18.838000000000001,18.832000000000001,18.827999999999999,18.797000000000001,18.841000000000001,18.832999999999998,18.805]
["207Pb/204Pb",15.635,15.631,15.629,15.632,15.632,15.635999999999999,15.629,15.637,15.63,15.62]
["207Pb/206Pb",{"$f":"B4/B3","v":0.82979513852032694},{"$f":"C4/C3","v":0.83134772896500375},0.83040221029700856,0.82981208196199163,0.8300764655904842,0.83046526449968128,0.83146246741501295,0.82994533198874787,0.82992619338395379,0.8306301515554374]
["Age",{"$f":"[1]!AgePb76(B5)","v":4973.7566121828831},{"$f":"[1]!AgePb76(C5)","v":4976.4126368063353},{"$f":"[1]!AgePb76(D5)","v":4974.7957614105753},{"$f":"[1]!AgePb76(E5)","v":4973.7856259146583},{"$f":"[1]!AgePb76(F5)","v":4974.2382714935557},{"$f":"[1]!AgePb76(G5)","v":4974.9036475407775},{"$f":"[1]!AgePb76(H5)","v":4976.6087112388823},{"$f":"[1]!AgePb76(I5)","v":4974.0137796029612},{"$f":"[1]!AgePb76(J5)","v":4973.9810124485093},{"$f":"[1]!AgePb76(K5)","v":4975.1857291662636}]
[]
["Eruption Year","True Age","Pb Age (Ma)","Age Ratio (106)","True Age","Age Ratio (106)","Year Dated","Eruption Year"]
[1949,48,4974,{"$f":"F9","v":103.625},{"$f":"G9-H9","v":48},{"$f":"C9/E9","v":103.625},1997,1949]
[null,48,4976,{"$f":"F10","v":103.66666666666667},{"$f":"G10-H10","v":48},{"$f":"C10/E10","v":103.66666666666667},1997,1949]
[1954,43,4975,115.69767441860465,43,115.69767441860465,1997,1954]
[null,43,4974,115.67441860465117,43,115.67441860465117,1997,1954]
[null,43,4974,115.67441860465117,43,115.67441860465117,1997,1954]
[null,43,4975,115.69767441860465,43,115.69767441860465,1997,1954]
[null,43,4977,115.74418604651163,43,115.74418604651163,1997,1954]
[null,43,4974,115.67441860465117,43,115.67441860465117,1997,1954]
[1975,22,4974,226.09090909090909,22,226.09090909090909,1997,1975]
[null,22,4975,226.13636363636363,22,226.13636363636363,1997,1975]
["Average",{"$f":"AVERAGE(B9:B18)","v":39.799999999999997},{"$f":"AVERAGE(C9:C18)","v":4974.8}]
["Maximum",{"$f":"MAX(B9:B19)","v":48},{"$f":"MAX(C9:C19)","v":4977}]
["Minimum",{"$f":"MIN(B9:B20)","v":22},{"$f":"MIN(C9:C20)","v":4974}]
["Difference",{"$f":"B20-B21","v":26},{"$f":"C20-C21","v":3}]
["Accuracy",{"$f":"1-(B22/B19)","v":0.34673366834170849},{"$f":"1-(C22/C19)","v":0.99939696068183648}]

{"sheet":"H19","index":21,"n_rows":132,"n_cols":27,"rows_kept":132,"cut":false,"hidden":false,"merged":[]}
["Lahaina Volcanics","West Maui","87Sr/86Sr","Error","Sr","143Nd/144Nd","Error","Nd","206Pb/204Pb","Error","207Pb/204Pb ","Error","208Pb/204Pb","Error","207Pb/206Pb ","Age",null,"Age (ma)","Age (ma)",null,"206Pb/238U","206Pb/238U","208Pb/232Th","208Pb/232Th","207Pb/206Pb ","207Pb/206Pb "]
["C-130","basanite",0.70315000000000005,3,-22,0.51308600000000004,28,8.6999999999999993,18.169,11,15.452,14,37.75,49,{"$f":"(K2/I2)","v":0.85045957399966976},{"$f":"[1]!AgePb76(O2)","v":5008.682191185022},null,5008.682191185022,4990.5823995330093,null,"Age (Ma)","Age (Ma)","Age (Ma)","Age (Ma)","Age (Ma)","Age (Ma)"]
["C-115","basanite",0.70326,2,-20.399999999999999,0.51303399999999999,20,7.7,18.190999999999999,11,15.46,14,37.832999999999998,49,{"$f":"(K3/I3)","v":0.84987081523830477},{"$f":"[1]!AgePb76(O3)","v":5007.6996430982763},null,5007.6996430982763,4988.3269248926072,null,9923.620561807782,4553.1588920279664,26473.175778501551,9494.4265392670131,5008.682191185022,4992.1336141290994]
["Honolua Volcanics",null,null,null,null,null,null,null,null,null,null,null,null,null,null,null,null,5003.4922766116424,4987.4957627335079,null,8129.0971140664033,4541.4435476350673,16457.315690873598,9292.5621089041779,5007.6996430982763,4991.6616118431202]
["C-155","mugearite",0.70343,4,-18,0.51304300000000003,8,7.9,18.513000000000002,11,15.494,14,38.049999999999997,49,{"$f":"(K5/I5)","v":0.83692540377032343},{"$f":"[1]!AgePb76(O5)","v":4985.9110952850178},null,5001.7624666210377,4986.3414745935761,null,7250.3509478544083,4441.7456637204805,15405.119762212906,9237.7736426729225,5003.4922766116424,4990.5823995330093]
["C-153","hawaiite",0.70352999999999999,3,-16.600000000000001,0.51304099999999997,7,7.8,18.446999999999999,11,15.456,14,37.917000000000002,49,0.83785981460400061,{"$f":"[1]!AgePb76(O6)","v":4987.4957627335079},null,4999.9921576443721,4986.1576942667334,null,6104.4558369013266,4353.5580403713047,12662.227835918289,8819.0765649664281,5001.7624666210377,4988.3269248926072]
["C-150","mugearite",0.70348999999999995,3,-17.2,0.51306499999999999,9,8.3000000000000007,18.501999999999999,11,15.483000000000001,14,38.033000000000001,49,0.83682845097827274,{"$f":"[1]!AgePb76(O7)","v":4985.7465653939953},null,4998.2545349428565,4985.9110952850178,null,6027.5862500582343,3694.1828560619829,12452.543115656841,8472.7342157136991,4999.9921576443721,4987.4957627335079]
["C-149","mugearite",0.70348999999999995,3,-17.2,0.51303699999999997,64,7.7,18.509,11,15.489000000000001,14,38.03,119,0.83683613377275923,{"$f":"[1]!AgePb76(O8)","v":4985.7596039146247},null,4996.0058478152196,4985.8721346569819,null,5960.6921511849614,3652.5317716692116,11952.717545097408,7837.2458454967482,4998.2545349428565,4986.3414745935761]
["C-128","trachyte",0.70347000000000004,3,-17.5,0.51303399999999999,20,7.7,18.492000000000001,11,15.476000000000001,14,38.008000000000003,49,0.83690244430023797,{"$f":"[1]!AgePb76(O9)","v":4985.8721346569819},null,4995.1067993611223,4985.7596039146247,null,5836.6853422842996,3604.0841053394934,11268.821297049673,7620.8667700832902,4996.0058478152196,4986.1576942667334]
["C-116","trachyte",0.70347999999999999,5,-17.3,0.51306399999999996,7,8.3000000000000007,18.523,11,15.471,14,37.960999999999999,119,0.83523187388651943,{"$f":"[1]!AgePb76(O10)","v":4983.0342405810043},null,4992.6581531408556,4985.7465653939953,null,5274.8403693086912,3492.8378689367869,11138.735099395151,7472.1585152669186,4995.1067993611223,4985.9110952850178]
["C-92","trachyte",0.70350000000000001,3,-17,0.51303500000000002,16,7.7,18.481999999999999,11,15.465999999999999,14,37.957000000000001,49,0.83681419759766262,{"$f":"[1]!AgePb76(O11)","v":4985.7223755519135},null,4992.4839622288137,4985.7223755519135,null,4951.7401505256857,3475.9012595904769,10581.876705037328,7319.1886253051161,4992.6581531408556,4985.8721346569819]
["HHT79-1a","(C-92)",0.70355000000000001,4,null,0.51303299999999996,20,null,18.486999999999998,11,15.462,14,37.947000000000003,49,0.83637150430031926,{"$f":"[1]!AgePb76(O12)","v":4984.9708493619237},null,4992.1336141290994,4984.9708493619237,null,4582.8192407147553,3362.5175857866416,10063.004151028137,7214.8167749778877,4992.4839622288137,4985.7596039146247]
["HHT79-2b","alkali basalt",0.70354000000000005,3,null,0.51303299999999996,20,7.3,18.506,11,15.56,14,38.04,49,0.84080838646925327,{"$f":"[1]!AgePb76(O13)","v":4992.4839622288137},null,4991.6616118431202,4983.0342405810043,null,null,null,9494.4265392670131,6065.0937420553601,4992.1336141290994,4985.7465653939953]
["HMT79-2b",null,0.70352000000000003,4,null,0.51300500000000004,16,null,18.474,16,15.535,16,37.973999999999997,null,0.84091155136949225,{"$f":"[1]!AgePb76(O14)","v":4992.6581531408556}]
["Wailuku Basalt"]
["HMT79-3","tholeiitic olivine",0.70348999999999995,4,-17.2,0.51301399999999997,19,7.3,18.462,11,15.456,14,37.924999999999997,50,{"$f":"(K16/I16)","v":0.83717907052323692},{"$f":"[1]!AgePb76(O16)","v":4986.3414745935761}]
["C-119","tholeiitic olivine",0.70347000000000004,4,-17.5,0.51304400000000006,28,7.9,18.425999999999998,11,15.472,14,37.904000000000003,49,0.83968305655052644,{"$f":"[1]!AgePb76(O17)","v":4990.5823995330093}]
["HHT79-2A","(C-119)",0.70355999999999996,3,null,0.51302499999999995,20,null,18.462,11,15.454000000000001,14,37.899000000000001,49,0.83707073989816927,{"$f":"[1]!AgePb76(O18)","v":4986.1576942667334}]
["C-118","alkalic olivine",0.70364000000000004,4,null,0.51304899999999998,12,8,18.257999999999999,11,15.471,14,37.762,49,0.84735458429181731,{"$f":"[1]!AgePb76(O19)","v":5003.4922766116424}]
["C-117","tholeiitic olivine",0.70359000000000005,3,-15.8,0.51300699999999999,15,7.2,18.404,15,15.429,14,37.94,49,0.8383503586176918,{"$f":"[1]!AgePb76(O20)","v":4988.3269248926072}]
["C-114","alkalic olivine",0.70345999999999997,4,-17.600000000000001,0.51303200000000004,22,8.9,18.411999999999999,11,15.472,14,37.905999999999999,49,0.84032152943732352,{"$f":"[1]!AgePb76(O21)","v":4991.6616118431202}]
["C-110","tholeiite",0.70362999999999998,3,null,0.51305299999999998,13,8.1,18.309000000000001,11,15.476000000000001,14,37.874000000000002,49,0.84526735485280458,{"$f":"[1]!AgePb76(O22)","v":4999.9921576443721}]
["C-107","tholeiite",0.70311800000000002,3,-17.3,0.51307000000000003,12,8.1,18.437999999999999,11,15.499000000000001,14,37.948,119,0.84060093285605819,{"$f":"[1]!AgePb76(O23)","v":4992.1336141290994}]
["C-100","tholeiite",0.70360999999999996,4,null,0.51302700000000001,13,7.5,18.364999999999998,11,15.47,14,37.877000000000002,119,0.8423631908521646,{"$f":"[1]!AgePb76(O24)","v":4995.1067993611223}]
["East Maui","(Haleakala)"]
["Hana Volcanics"]
["C-129","basanitoid",0.70325000000000004,3,-20.6,0.51307000000000003,13,8.4,18.259,11,15.452999999999999,14,37.828000000000003,49,{"$f":"(K27/I27)","v":0.84632236157511365},{"$f":"[1]!AgePb76(O27)","v":5001.7624666210377}]
["Kula Volcanics"]
["C-127","hawaiite",0.70338999999999996,4,-18.600000000000001,0.51302999999999999,15,7.6,18.350999999999999,11,15.468,14,37.938000000000002,49,{"$f":"(K29/I29)","v":0.84289684485859084},{"$f":"[1]!AgePb76(O29)","v":4996.0058478152196}]
["Honomanu Basalt"]
["C-122","tholeiite olivine",0.70377999999999996,3,-13.1,0.51297599999999999,16,6.6,18.303000000000001,11,15.452,14,37.923999999999999,119,{"$f":"(K31/I31)","v":0.84423318581653273},{"$f":"[1]!AgePb76(O31)","v":4998.2545349428565}]
[null,null,null,null,null,null,null,null,null,null,null,null,null,null,null,null,null,null,"206Pb/238U","208Pb/232Th","207Pb/206Pb ",null,null,"West Maui","206Pb/238U","208Pb/232Th","207Pb/206Pb "]
["Lahaina Volcanics",null,null,null,null,null,null,null,null,null,null,"238U/204Pb","232Th/238U","206Pb/238U","206Pb/204Pb","208Pb/204Pb","232Th/204Pb","208Pb/232Th","Age (ma)","Age (ma)","Age (ma)",null,null,"Rock Formation","Age (Ma)","Age (Ma)","Age (Ma)"]
["C-130","basanite",8.4,245,3.4000000000000002E-2,4.59,19.91,0.23,1.38,0.39,1.1599999999999999,17.7,3.1,{"$f":"O34/L34","v":1.0264971751412431},18.169,37.75,{"$f":"M34/(1/L34)","v":54.870000000000005},{"$f":"P34/Q34","v":0.6879897940586841},{"$f":"[1]!AgePb6U8(N34)","v":4553.1588920279664},{"$f":"[1]!AgePb8Th2(R34)","v":10581.876705037328},5008.682191185022,null,null,"Lahaina Volcanics",4553.1588920279664,10581.876705037328,5008.682191185022]
["C-115","basanite",43.8,705,6.2E-2,4.82,25.94,0.19,3.03,1.4,4.05,28.9,3,{"$f":"O35/L35","v":0.62944636678200694},18.190999999999999,37.832999999999998,{"$f":"M35/(1/L35)","v":86.699999999999989},{"$f":"P35/Q35","v":0.43636678200692047},{"$f":"[1]!AgePb6U8(N35)","v":3147.3992254168779},{"$f":"[1]!AgePb8Th2(R35)","v":7319.1886253051161},5007.6996430982763,null,null,null,3147.3992254168779,7319.1886253051161,5007.6996430982763]
["HMT79-5","(C-115)",40.5,667,6.0999999999999999E-2,7.97,39.42,0.2,4.51,1.54,5.6,21.4,3.7,null,null,null,79.179999999999993,0,null,null,null,null,null,"Honolua Volcanics",7250.3509478544083,11952.717545097408,4985.9110952850178]
["Honolua Volcanics",null,null,null,null,null,null,null,null,null,null,null,null,null,null,null,{"$error":"#DIV/0!"},0,null,null,4985.9110952850178,null,null,null,4951.7401505256857,9494.4265392670131,4992.6581531408556]
["C-155","mugearite",49.8,1331,3.6999999999999998E-2,17.62,87.05,0.2,4.2699999999999996,1.22,5.56,18.100000000000001,4.7,1.0228176795580111,18.513000000000002,38.049999999999997,85.070000000000007,0.44727871164923,{"$f":"[1]!AgePb6U8(N38)","v":4541.4435476350673},{"$f":"[1]!AgePb8Th2(R38)","v":7472.1585152669186},4987.4957627335079,null,null,null,4541.4435476350673,9237.7736426729225,4992.4839622288137]
[null,null,null,null,null,null,null,null,null,1.18,5.33,null,4.7,null,null,null,{"$error":"#DIV/0!"},0,null,null,4985.7465653939953,null,null,null,4441.7456637204805,8819.0765649664281,4987.4957627335079]
["C-153","hawaiite",8.6999999999999993,499,1.7000000000000001E-2,9.06,40.33,0.22,1.59,0.46,1.51,18.600000000000001,3.4,0.99177419354838703,18.446999999999999,37.917000000000002,63.240000000000009,0.59957305502846292,{"$f":"[1]!AgePb6U8(N40)","v":4441.7456637204805},{"$f":"[1]!AgePb8Th2(R40)","v":9494.4265392670131},4985.7596039146247,null,null,null,3652.5317716692116,8472.7342157136991,4986.3414745935761]
["C-150","mugearite",44.1,1149,3.7999999999999999E-2,15.15,71,0.21,4.2300000000000004,1.66,78.05,24.7,4.4000000000000004,0.74906882591093116,18.501999999999999,38.033000000000001,108.68,0.34995399337504601,{"$f":"[1]!AgePb6U8(N41)","v":3604.0841053394934},{"$f":"[1]!AgePb8Th2(R41)","v":6065.0937420553601},4985.8721346569819,null,null,null,3604.0841053394934,7837.2458454967482,4985.8721346569819]
["C-149","mugearite",48.2,1041,4.5999999999999999E-2,14.95,64.91,0.23,5.04,2.0699999999999998,6.14,25.9,3.1,0.71463320463320468,18.509,38.03,80.290000000000006,0.473657989787022,{"$f":"[1]!AgePb6U8(N42)","v":3475.9012595904769},{"$f":"[1]!AgePb8Th2(R42)","v":7837.2458454967482},4983.0342405810043,null,null,null,3492.8378689367869,7472.1585152669186,4985.7596039146247]
["C-128","trachyte",59.1,400,0.14799999999999999,14.63,78.239999999999995,0.19,7.27,1.84,7.24,16,4.0999999999999996,1.1557500000000001,18.492000000000001,38.008000000000003,65.599999999999994,0.57939024390243909,{"$f":"[1]!AgePb6U8(N43)","v":4951.7401505256857},{"$f":"[1]!AgePb8Th2(R43)","v":9237.7736426729225},4985.7223755519135,null,null,null,3475.9012595904769,6065.0937420553601,4985.7465653939953]
["C-116","trachyte",64.5,432,0.14899999999999999,20.329999999999998,98.84,0.21,6.15,2.35,7.45,24.3,3,0.76226337448559667,18.523,37.960999999999999,72.900000000000006,0.52072702331961584,{"$f":"[1]!AgePb6U8(N44)","v":3652.5317716692116},{"$f":"[1]!AgePb8Th2(R44)","v":8472.7342157136991},4984.9708493619237,null,null,"Wailuku Basalt",9923.620561807782,26473.175778501551,5003.4922766116424]
[null,null,null,null,null,null,null,null,2.5499999999999998,8.42,null,3.4,null,null,null,null,0,0,null,null,4992.4839622288137,null,null,null,8129.0971140664033,15405.119762212906,5001.7624666210377]
["C-92","trachyte",50,1040,4.8000000000000001E-2,15.67,81.33,0.19,4.5599999999999996,1.86,4.84,25.7,2.7,0.71914396887159537,18.481999999999999,37.957000000000001,69.39,0.54700965556996684,{"$f":"[1]!AgePb6U8(N46)","v":3492.8378689367869},{"$f":"[1]!AgePb8Th2(R46)","v":8819.0765649664281},4992.6581531408556,null,null,null,6027.5862500582343,12662.227835918289,4999.9921576443721]
["HHT79-2b","basalt",3.4,525,6.0000000000000001E-3,8.58,31.05,0.28000000000000003,2.04,0.28999999999999998,1.46,8.9,5.3,2.0793258426966292,18.506,38.04,47.17,0.8064447742209031,{"$f":"[1]!AgePb6U8(N47)","v":7250.3509478544083},{"$f":"[1]!AgePb8Th2(R47)","v":11952.717545097408},null,null,null,null,5960.6921511849614,12452.543115656841,4998.2545349428565]
["Wailuku Basalt",null,null,null,null,null,null,null,null,null,null,null,null,null,null,null,{"$error":"#DIV/0!"},0,null,null,4986.3414745935761,null,null,null,5836.6853422842996,11268.821297049673,4996.0058478152196]
["HMT79-3","olivine",0.6,360,2E-3,5.51,20.51,0.27,0.95,0.11,0.7,7.3,6.1,2.529041095890411,18.462,37.924999999999997,44.53,0.85167302941836953,{"$f":"[1]!AgePb6U8(N49)","v":8129.0971140664033},{"$f":"[1]!AgePb8Th2(R49)","v":12452.543115656841},4990.5823995330093,null,null,null,5274.8403693086912,11138.735099395151,4995.1067993611223]
["basalt","(C-120)",null,null,null,null,null,null,null,null,null,null,null,null,null,null,{"$error":"#DIV/0!"},0,null,null,4986.1576942667334,null,null,null,4582.8192407147553,10063.004151028137,4992.1336141290994]
["C-119","tholeiitic",7.7,489,1.6E-2,8.1,25.94,0.31,1.1599999999999999,0.35,1.1499999999999999,19.100000000000001,3.4,0.96471204188481663,18.425999999999998,37.904000000000003,64.940000000000012,0.5836772405297197,{"$f":"[1]!AgePb6U8(N51)","v":4353.5580403713047},{"$f":"[1]!AgePb8Th2(R51)","v":9292.5621089041779},5003.4922766116424,null,null,null,4353.5580403713047,9292.5621089041779,4991.6616118431202]
["olivine","basalt",null,null,null,null,null,null,null,null,null,null,null,null,null,null,{"$error":"#DIV/0!"},0,null,null,4988.3269248926072,null,null,"Hana Volcanics",3694.1828560619829,7620.8667700832902]
["C-118","alkalic olivine",1.4,254,6.0000000000000001E-3,4.2,16.489999999999998,0.25,1.2,0.23,0.61,11.8,2.8,1.5472881355932202,18.257999999999999,37.762,33.04,1.1429176755447943,{"$f":"[1]!AgePb6U8(N53)","v":6027.5862500582343},{"$f":"[1]!AgePb8Th2(R53)","v":15405.119762212906},4991.6616118431202,null,null,"Kula Volcanics",3362.5175857866416,7214.8167749778877]
["basalt",null,null,null,null,null,null,null,null,null,null,null,null,null,null,null,{"$error":"#DIV/0!"},0,null,null,4999.9921576443721,null,null,"Honmanu Basalt",6104.4558369013266,16457.315690873598]
["C-117","tholeiitic",3.6,382,8.9999999999999993E-3,4.1399999999999997,16.96,0.24,1.1399999999999999,0.22,0.76,12.1,3.6,1.52099173553719,18.404,37.94,43.56,0.87098255280073456,{"$f":"[1]!AgePb6U8(N55)","v":5960.6921511849614},{"$f":"[1]!AgePb8Th2(R55)","v":12662.227835918289},4992.1336141290994]
["olivine","basalt",null,null,null,null,null,null,null,null,null,null,null,null,null,null,{"$error":"#DIV/0!"},0,null,null,4995.1067993611223]
["C-114","olivine",3.1,739,4.0000000000000001E-3,6.88,27.41,0.25,1.37,0.27,1.23,12.5,4.7,1.4729599999999998,18.411999999999999,37.905999999999999,58.75,0.64520851063829787,{"$f":"[1]!AgePb6U8(N57)","v":5836.6853422842996},{"$f":"[1]!AgePb8Th2(R57)","v":10063.004151028137}]
["basalt",null,null,null,null,null,null,null,null,null,null,null,null,null,null,null,{"$error":"#DIV/0!"},0]
["C-110","tholeiite",4.2,319,1.2999999999999999E-2,4.93,17.920000000000002,0.27,2.85,0.23,0.62,5,2.8,3.6618000000000004,18.309000000000001,37.874000000000002,13.999999999999998,2.705285714285715,{"$f":"[1]!AgePb6U8(N59)","v":9923.620561807782},{"$f":"[1]!AgePb8Th2(R59)","v":26473.175778501551},5001.7624666210377]
["C-107","tholeiite",5.0999999999999996,356,1.4E-2,6.97,25.99,0.27,0.96,0.27,0.77,17.8,2.9,1.0358426966292134,18.437999999999999,37.948,51.62,0.73514141805501743,{"$f":"[1]!AgePb6U8(N60)","v":4582.8192407147553},{"$f":"[1]!AgePb8Th2(R60)","v":11138.735099395151}]
["C-100","tholeiite",3.1,346,8.9999999999999993E-3,3.45,13.07,0.26,0.87,0.2,0.68,14.5,3.5,1.2665517241379309,18.364999999999998,37.877000000000002,50.75,0.7463448275862069,{"$f":"[1]!AgePb6U8(N61)","v":5274.8403693086912},{"$f":"[1]!AgePb8Th2(R61)","v":11268.821297049673},4996.0058478152196]
["EAST MAUl",null,null,null,null,null,null,null,null,null,null,null,null,null,null,null,{"$error":"#DIV/0!"},0]
["Hana Volcanics",null,null,null,null,null,null,null,null,null,null,null,null,null,null,null,{"$error":"#DIV/0!"},0,null,null,4998.2545349428565]
["C-129","basanitoid",23.9,523,4.5999999999999999E-2,6.16,27.58,0.22,1.63,0.61,2.09,23.6,3.5,0.7736864406779661,18.259,37.828000000000003,82.600000000000009,0.45796610169491525,{"$f":"[1]!AgePb6U8(N64)","v":3694.1828560619829},{"$f":"[1]!AgePb8Th2(R64)","v":7620.8667700832902}]
["H65-11","basalt",18.8,582,3.2000000000000001E-2,6.01,26.1,0.23,null,null,null,2.6,null,null,null,null,0,0]
["Kula Volcanics",null,null,null,null,null,null,null,null,null,null,null,null,null,null,null,{"$error":"#DIV/0!"},0,null,null,null,null,3147]
["C-127","hawaiite",29.8,831,3.5999999999999997E-2,7.53,37.4,0.2,2.27,0.97,3.05,26.8,3.3,0.68473880597014924,18.350999999999999,37.938000000000002,88.44,0.42896879240162827,{"$f":"[1]!AgePb6U8(N67)","v":3362.5175857866416},{"$f":"[1]!AgePb8Th2(R67)","v":7214.8167749778877},null,null,3363]
["H65-4","basalt",19.899999999999999,616,3.2000000000000001E-2,6.83,30.7,0.22,null,null,2.1,null,null,null,null,null,{"$error":"#DIV/0!"},0,null,null,null,null,3476]
["Honmanu Basalt",null,null,null,null,null,null,null,null,null,null,null,null,null,null,null,{"$error":"#DIV/0!"},0,null,null,null,null,3493]
["C-122","olivine",4.72,225,2.1000000000000001E-2,4.2300000000000004,14.71,0.28999999999999998,1.08,0.2,0.51,11.6,2.6,1.5778448275862069,18.303000000000001,37.923999999999999,30.16,1.2574270557029177,{"$f":"[1]!AgePb6U8(N70)","v":6104.4558369013266},{"$f":"[1]!AgePb8Th2(R70)","v":16457.315690873598},null,null,3604]
["basalt",null,null,null,null,null,null,null,null,null,null,null,null,null,null,null,null,"Average",{"$f":"AVERAGE(S34:S70)","v":5064.821370536325},{"$f":"AVERAGE(T34:T70)","v":10823.880015499069},{"$f":"AVERAGE(U34:U70)","v":4992.3272658077631},null,3653]
["C-122",null,4.1100000000000003,207,0.02,3.73,12.3,0.3,null,null,0.8,null,null,null,null,null,null,"Maximum",{"$f":"MAX(S34:S71)","v":9923.620561807782},{"$f":"MAX(T34:T71)","v":26473.175778501551},{"$f":"MAX(U34:U71)","v":5008.682191185022},null,3694]
[null,null,null,null,null,null,null,null,null,null,null,null,null,null,null,null,null,"Minimum",{"$f":"MIN(S34:S72)","v":3147.3992254168779},{"$f":"MIN(T34:T72)","v":6065.0937420553601},{"$f":"MIN(U34:U72)","v":4983.0342405810043},null,4354]
[null,null,null,null,null,null,null,null,null,null,null,null,null,null,null,null,null,"Difference",{"$f":"S72-S73","v":6776.2213363909041},{"$f":"T72-T73","v":20408.082036446191},{"$f":"U72-U73","v":25.647950604017751},null,4442]
[null,null,null,null,null,null,null,null,null,null,null,null,null,null,null,null,null,null,"206Pb/238U","208Pb/232Th","207Pb/206Pb ",null,4541]
[null,null,null,null,null,null,null,null,null,null,null,null,null,null,null,null,null,null,null,null,null,null,4553]
[null,null,null,null,null,null,null,null,null,null,null,null,null,null,null,null,null,null,null,null,null,null,4583]
[null,null,null,null,null,null,null,null,null,null,null,null,null,null,null,null,null,null,null,null,null,null,4952,4952]
[null,null,null,null,null,null,null,null,null,null,null,null,null,null,null,null,null,null,null,null,null,null,4983,4983]
[null,null,null,null,null,null,null,null,null,null,null,null,null,null,null,null,null,null,null,null,null,null,4985,4985]
[null,null,null,null,null,null,null,null,null,null,null,null,null,null,null,null,null,null,null,null,null,null,4986,4986]
[null,null,null,null,null,null,null,null,null,null,null,null,null,null,null,null,null,null,null,null,null,null,4986,4986]
[null,null,null,null,null,null,null,null,null,null,null,null,null,null,null,null,null,null,null,null,null,null,4986,4986]
[null,null,null,null,null,null,null,null,null,null,null,null,null,null,null,null,null,null,null,null,null,null,4986,4986]
[null,null,null,null,null,null,null,null,null,null,null,null,null,null,null,null,null,null,null,null,null,null,4986,4986]
[null,null,null,null,null,null,null,null,null,null,null,null,null,null,null,null,null,null,null,null,null,null,4986,4986]
[null,null,null,null,null,null,null,null,null,null,null,null,null,null,null,null,null,null,null,null,null,null,4986,4986]
[null,null,null,null,null,null,null,null,null,null,null,null,null,null,null,null,null,null,null,null,null,null,4987,4987]
[null,null,null,null,null,null,null,null,null,null,null,null,null,null,null,null,null,null,null,null,null,null,4988,4988]
[null,null,null,null,null,null,null,null,null,null,null,null,null,null,null,null,null,null,null,null,null,null,4991,4991]
[null,null,null,null,null,null,null,null,null,null,null,null,null,null,null,null,null,null,null,null,null,null,4992,4992]
[null,null,null,null,null,null,null,null,null,null,null,null,null,null,null,null,null,null,null,null,null,null,4992,4992]
[null,null,null,null,null,null,null,null,null,null,null,null,null,null,null,null,null,null,null,null,null,null,4992,4992]
[null,null,null,null,null,null,null,null,null,null,null,null,null,null,null,null,null,null,null,null,null,null,4993,4993]
[null,null,null,null,null,null,null,null,null,null,null,null,null,null,null,null,null,null,null,null,null,null,4995,4995]
[null,null,null,null,null,null,null,null,null,null,null,null,null,null,null,null,null,null,null,null,null,null,4996,4996]
[null,null,null,null,null,null,null,null,null,null,null,null,null,null,null,null,null,null,null,null,null,null,4998,4998]
[null,null,null,null,null,null,null,null,null,null,null,null,null,null,null,null,null,null,null,null,null,null,5000,5000,5000]
[null,null,null,null,null,null,null,null,null,null,null,null,null,null,null,null,null,null,null,null,null,null,5002,5002,5002]
[null,null,null,null,null,null,null,null,null,null,null,null,null,null,null,null,null,null,null,null,null,null,5003,5003,5003]
[null,null,null,null,null,null,null,null,null,null,null,null,null,null,null,null,null,null,null,null,null,null,5008,5008,5008]
[null,null,null,null,null,null,null,null,null,null,null,null,null,null,null,null,null,null,null,null,null,null,5009,5009,5009]
[null,null,null,null,null,null,null,null,null,null,null,null,null,null,null,null,null,null,null,null,null,null,5275,5275,5275]
[null,null,null,null,null,null,null,null,null,null,null,null,null,null,null,null,null,null,null,null,null,null,5837,5837,5837]
[null,null,null,null,null,null,null,null,null,null,null,null,null,null,null,null,null,null,null,null,null,null,5961,5961,5961]
[null,null,null,null,null,null,null,null,null,null,null,null,null,null,null,null,null,null,null,null,null,null,6028,6028,6028]
[null,null,null,null,null,null,null,null,null,null,null,null,null,null,null,null,null,null,null,null,null,null,6065,6065,6065]
[null,null,null,null,null,null,null,null,null,null,null,null,null,null,null,null,null,null,null,null,null,null,6104,6104,6104]
[null,null,null,null,null,null,null,null,null,null,null,null,null,null,null,null,null,null,null,null,null,null,7215,7215,7215]
[null,null,null,null,null,null,null,null,null,null,null,null,null,null,null,null,null,null,null,null,null,null,7250,7250,7250]
[null,null,null,null,null,null,null,null,null,null,null,null,null,null,null,null,null,null,null,null,null,null,7319,7319,7319]
[null,null,null,null,null,null,null,null,null,null,null,null,null,null,null,null,null,null,null,null,null,null,7472,7472,7472]
[null,null,null,null,null,null,null,null,null,null,null,null,null,null,null,null,null,null,null,null,null,null,7621,7621,7621]
[null,null,null,null,null,null,null,null,null,null,null,null,null,null,null,null,null,null,null,null,null,null,7837,7837,7837]
[null,null,null,null,null,null,null,null,null,null,null,null,null,null,null,null,null,null,null,null,null,null,8129,8129,8129]
[null,null,null,null,null,null,null,null,null,null,null,null,null,null,null,null,null,null,null,null,null,null,8473,8473,8473]
[null,null,null,null,null,null,null,null,null,null,null,null,null,null,null,null,null,null,null,null,null,null,8819,8819,8819]
[null,null,null,null,null,null,null,null,null,null,null,null,null,null,null,null,null,null,null,null,null,null,9238,9238,9238]
[null,null,null,null,null,null,null,null,null,null,null,null,null,null,null,null,null,null,null,null,null,null,9293,9293,9293]
[null,null,null,null,null,null,null,null,null,null,null,null,null,null,null,null,null,null,null,null,null,null,9494,9494,9494]
[null,null,null,null,null,null,null,null,null,null,null,null,null,null,null,null,null,null,null,null,null,null,9924,9924,9924]
[null,null,null,null,null,null,null,null,null,null,null,null,null,null,null,null,null,null,null,null,null,null,10063,10063,10063,10063]
[null,null,null,null,null,null,null,null,null,null,null,null,null,null,null,null,null,null,null,null,null,null,10582,10582,10582,10582]
[null,null,null,null,null,null,null,null,null,null,null,null,null,null,null,null,null,null,null,null,null,null,11139,11139,11139,11139]
[null,null,null,null,null,null,null,null,null,null,null,null,null,null,null,null,null,null,null,null,null,null,11269,11269,11269,11269]
[null,null,null,null,null,null,null,null,null,null,null,null,null,null,null,null,null,null,null,null,null,null,11953,11953,11953,11953]
[null,null,null,null,null,null,null,null,null,null,null,null,null,null,null,null,null,null,null,null,null,null,12453,12453,12453,12453]
[null,null,null,null,null,null,null,null,null,null,null,null,null,null,null,null,null,null,null,null,null,null,12662,12662,12662,12662]
[null,null,null,null,null,null,null,null,null,null,null,null,null,null,null,null,null,null,null,null,null,null,15405,15405,15405,15405]
[null,null,null,null,null,null,null,null,null,null,null,null,null,null,null,null,null,null,null,null,null,null,16457,16457,16457,16457]
[null,null,null,null,null,null,null,null,null,null,null,null,null,null,null,null,null,null,null,null,null,null,26473,26473,26473,26473]
[null,null,null,null,null,null,null,null,null,null,null,null,null,null,null,null,null,null,null,null,null,"Number Dates",{"$f":"COUNT(W66:W131)","v":66},{"$f":"COUNT(X66:X131)","v":54},{"$f":"COUNT(Y66:Y131)","v":34},{"$f":"COUNT(Z66:Z131)","v":10}]

{"sheet":"H20","index":22,"n_rows":17,"n_cols":6,"rows_kept":17,"cut":false,"hidden":false,"merged":[]}
["Table 6"]
["206Pb/204Pb",19.088000000000001,19.09,19.140999999999998,19.138999999999999,19.102]
["207Pb/204Pb",15.74,15.712,15.782,15.772,15.731]
["207Pb/206Pb",{"$f":"(B3/B2)","v":0.82460184409052806},{"$f":"(C3/C2)","v":0.82304871660555268},0.8245128258711667,0.82407649302471397,0.82352633232122285]
["Age",{"$f":"[1]!AgePb76(B4)","v":4964.8338772489087},{"$f":"[1]!AgePb76(C4)","v":4962.1538007783865},{"$f":"[1]!AgePb76(D4)","v":4964.6804124549326},{"$f":"[1]!AgePb76(E4)","v":4963.9279326004071},{"$f":"[1]!AgePb76(F4)","v":4962.9785464357174}]
["Eruption",1944,1944,1944,1944,1944]
["Dated",2005,2005,2005,2005,2005]
["Historic Age",{"$f":"B7-B6","v":61},{"$f":"C7-C6","v":61},61,61,61]
["Error Ratio"]
[]
[]
["Pb Age (Ma)","Historic Age","Age Ratio (106)"]
[4965,61,{"$f":"A13/B13","v":81.393442622950815}]
[4962,61,{"$f":"A14/B14","v":81.344262295081961}]
[4965,61,81.393442622950815]
[4964,61,81.377049180327873]
[4963,61,81.360655737704917]

{"sheet":"H21","index":23,"n_rows":52,"n_cols":19,"rows_kept":52,"cut":false,"hidden":false,"merged":[]}
["Table 2",null,null,null,null,null,null,null,null,null,null,null,null,null,null,null,null,null,4951.4636152910061]
["Sample","Th","U","(238U/232Th)","(230Th/232Th)","2sm","(230Th/232Th)","(230Th/238U)","87Sr/86Sr","2sm","143Nd/144Nd","2sm","206Pb/204Pb","207Pb/204Pb","208Pb/204Pb","207Pb/206Pb","Age",null,4951.8506304528064]
["Palaeostromboli I","(85 ka)",null,null,null,null,null,null,null,null,null,null,null,null,null,null,null,null,4951.9890424361711]
["STR-106",12.29,3.46,0.85399999999999998,0.82279999999999998,52,0.78600000000000003,0.92100000000000004,0.70577599999999996,7,0.51258999999999999,4,19.024000000000001,15.68,39.116999999999997,{"$f":"(N4/M4)","v":0.82422203532380145},{"$f":"[1]!AgePb76(P4)","v":4964.1789753223711},null,4955.2713024722789]
["STR-64",15.52,4.12,0.80600000000000005,0.78639999999999999,41,0.76300000000000001,0.94699999999999995,0.70582100000000003,6,0.51256599999999997,4,18.988,15.670999999999999,39.058999999999997,{"$f":"(N5/M5)","v":0.82531072256161786},{"$f":"[1]!AgePb76(P5)","v":4966.0553347207688},null,4956.7322146466749]
["STR-105",16.66,4.66,0.84899999999999998,0.81869999999999998,45,0.78300000000000003,0.92200000000000004,0.70579499999999995,7,0.51259100000000002,3,18.994,15.676,39.076000000000001,0.82531325681794254,{"$f":"[1]!AgePb76(P6)","v":4966.0596994574607},null,4956.9389188978312]
["Palaeostromboli II","(60 ka)",null,null,null,null,null,null,null,null,null,null,null,null,null,null,null,null,4957.4920282011553]
["STR-123",7.47,"–",null,0.81579999999999997,58,null,null,0.70537399999999995,6,0.51256000000000002,4,19.062999999999999,15.688000000000001,39.137,0.82295546346325354,{"$f":"[1]!AgePb76(P8)","v":4961.9927121090041},null,4957.4920282011553]
["STR-143",6.99,2.1800000000000002,0.94499999999999995,0.84499999999999997,58,0.77200000000000002,0.81599999999999995,0.705094,6,0.51260399999999995,4,19.029,15.675000000000001,39.1,0.82374270849755638,{"$f":"[1]!AgePb76(P9)","v":4963.3520169357807},null,4958.052080489284]
["STR-66",7.11,1.96,0.83799999999999997,0.80910000000000004,55,0.78800000000000003,0.94,0.70533500000000005,7,0.51255799999999996,4,19.016999999999999,15.68,39.112000000000002,0.82452542462007683,{"$f":"[1]!AgePb76(P10)","v":4964.7021333977855},null,4959.5821361733806]
["Palaeostromboli III","(35 ka)",null,null,null,null,null,null,null,null,null,null,null,null,null,null,null,null,4960.052299162855]
["STR-131",12.56,3.26,0.78800000000000003,0.80910000000000004,44,0.81699999999999995,1.0369999999999999,0.706071,7,0.51253800000000005,4,19.120999999999999,15.686,39.143999999999998,0.82035458396527383,{"$f":"[1]!AgePb76(P12)","v":4957.4920282011553},null,4960.08095955306]
["STR-27",15.44,4.04,0.79400000000000004,0.8014,48,0.80400000000000005,1.0129999999999999,0.70609599999999995,8,0.51253800000000005,5,19.120999999999999,15.686,39.143000000000001,0.82035458396527383,{"$f":"[1]!AgePb76(P13)","v":4957.4920282011553},null,4960.0971075160969]
["STR-162",20.3,5.46,0.81699999999999995,0.81930000000000003,55,0.82,1.004,0.70627300000000004,6,0.51252399999999998,3,19.126000000000001,15.683999999999999,39.139000000000003,0.82003555369653869,{"$f":"[1]!AgePb76(P14)","v":4956.9389188978312},null,4960.1591623976583]
["Vancori","(26–12 ka)",null,null,null,null,null,null,null,null,null,null,null,null,null,null,null,null,4960.2461043282256]
["STR-158",11.98,3.16,0.8,0.81,40,0.81299999999999994,1.016,0.70604100000000003,6,0.51255600000000001,5,19.065999999999999,15.673,39.079000000000001,0.82203923214098396,{"$f":"[1]!AgePb76(P16)","v":4960.4089499606234},null,4960.4089499606234]
["STR-52",18.079999999999998,4.92,0.82599999999999996,0.83479999999999999,57,0.83699999999999997,1.0129999999999999,0.70581499999999997,6,0.51258700000000001,5,19.13,15.685,39.146999999999998,0.81991636173549409,{"$f":"[1]!AgePb76(P17)","v":4956.7322146466749},null,4960.4735101960914]
["STR-55",22.71,6.12,0.81699999999999995,0.83760000000000001,51,0.84,1.028,0.70602600000000004,7,0.51256199999999996,4,19.071999999999999,15.673999999999999,39.091999999999999,0.82183305369127513,{"$f":"[1]!AgePb76(P18)","v":4960.052299162855},null,4960.4857532662872]
["STR-34",25.09,"–",null,0.84530000000000005,35,null,null,0.70604999999999996,6,0.51256199999999996,5,19.146000000000001,15.682,39.143999999999998,0.81907448030920293,{"$f":"[1]!AgePb76(P19)","v":4955.2713024722789},null,4960.6971946929452]
["Neostromboli","(10 ka)",null,null,null,null,null,null,null,null,null,null,null,null,null,null,null,null,4961.810407740164]
["STR-2",18.77,5.9,0.95299999999999996,0.88280000000000003,41,0.876,0.91900000000000004,0.70755000000000001,6,0.51247399999999999,5,19.082000000000001,15.686999999999999,39.103999999999999,0.82208363903154802,{"$f":"[1]!AgePb76(P21)","v":4960.4857532662872},null,4961.9927121090041]
["STR-4",18.14,4.93,0.82399999999999995,0.86280000000000001,41,0.86599999999999999,1.0509999999999999,0.70754399999999995,7,0.51246400000000003,4,19.201000000000001,15.685,39.171999999999997,0.81688453726368415,{"$f":"[1]!AgePb76(P22)","v":4951.4636152910061},null,4963.3520169357807]
["STR-87",15.61,4.0599999999999996,0.79,0.85119999999999996,43,0.85699999999999998,1.085,0.70722200000000002,7,0.51249100000000003,4,19.085000000000001,15.685,39.128,0.82184962012051344,{"$f":"[1]!AgePb76(P23)","v":4960.08095955306},null,4963.4211382892427]
["STR-20",18.03,4.8099999999999996,0.81,0.81569999999999998,64,0.81599999999999995,1.0069999999999999,0.70682500000000004,6,0.51250399999999996,5,19.099,15.691000000000001,39.128,0.82156133828996281,{"$f":"[1]!AgePb76(P24)","v":4959.5821361733806},null,4964.1789753223711]
["STR-76",20.82,5.68,0.82799999999999996,0.83560000000000001,47,0.83599999999999997,1.01,0.70662499999999995,7,0.512513,5,19.084,15.686,39.130000000000003,0.82194508488786422,{"$f":"[1]!AgePb76(P25)","v":4960.2461043282256},null,4964.6432966954262]
["STR-116",18.62,"–",null,0.86609999999999998,47,null,null,0.70754300000000003,6,0.51246000000000003,4,19.085999999999999,15.686,39.131999999999998,0.8218589542072724,{"$f":"[1]!AgePb76(P26)","v":4960.0971075160969},null,4964.7021333977855]
["STR-50",18.61,4.33,0.70599999999999996,0.82630000000000003,35,0.83799999999999997,1.1850000000000001,0.70683200000000002,6,0.51249599999999995,5,19.196999999999999,15.686,39.167000000000002,0.8171068396103558,{"$f":"[1]!AgePb76(P27)","v":4951.8506304528064},null,4965.9734116953077]
["STR-61",18.68,4.7699999999999996,0.77400000000000002,0.82609999999999995,87,0.83099999999999996,1.073,0.70662599999999998,8,0.51251100000000005,4,19.122,15.693,39.161000000000001,0.82067775337307813,{"$f":"[1]!AgePb76(P28)","v":4958.052080489284},null,4966.0553347207688]
["STR-62",25.25,6.57,0.78900000000000003,0.83750000000000002,38,0.84199999999999997,1.0669999999999999,0.70727399999999996,8,0.51248499999999997,3,19.039000000000001,15.683999999999999,39.125999999999998,0.82378276169966902,{"$f":"[1]!AgePb76(P29)","v":4963.4211382892427},null,4966.0596994574607]
["S. Bartolo","(2 ka)",null,null,null,null,null,null,null,null,null,null,null,null,null,null,null,"Average",{"$f":"AVERAGE(S1:S29)","v":4960.0604884378936}]
["STR-63",11.4,3.23,0.85899999999999999,0.83189999999999997,88,0.83099999999999996,0.96699999999999997,0.70625499999999997,7,0.51255899999999999,4,19,15.68,39.091000000000001,0.82526315789473681,{"$f":"[1]!AgePb76(P31)","v":4965.9734116953077},"Maximum",{"$f":"MAX(S1:S30)","v":4966.0596994574607}]
["STR-72",10.55,2.97,0.85299999999999998,0.83989999999999998,104,0.84,0.98399999999999999,0.70625199999999999,6,0.51255799999999996,5,19.018999999999998,15.680999999999999,39.116,0.8244912981755087,{"$f":"[1]!AgePb76(P32)","v":4964.6432966954262},"Minimum",{"$f":"MIN(S1:S31)","v":4951.4636152910061}]
["Recent","(0 ka)",null,null,null,null,null,null,null,null,null,null,null,null,null,null,null,"Difference",{"$f":"S31-S32","v":14.596084166454602}]
["STR-9/96d",12.47,3.23,0.78500000000000003,0.89939999999999998,90,0.89900000000000002,1.145,0.70611199999999996,6,0.51257299999999995,3,19.178000000000001,15.672000000000001,39.125,0.81718635937011164,{"$f":"[1]!AgePb76(P34)","v":4951.9890424361711},"Accuracy",{"$f":"1-(S33/S30)","v":0.99705727698271451}]
["STR-3/95b",14.8,3.91,0.80100000000000005,0.8609,82,0.86099999999999999,1.075,0.70616299999999999,7,0.51255799999999996,4,19.067,15.677,39.06,0.82220590549116268,{"$f":"[1]!AgePb76(P35)","v":4960.6971946929452}]
["STR-4/96a",15.1,3.98,0.79900000000000004,0.8619,69,0.86199999999999999,1.079,0.70616199999999996,6,0.51256299999999999,4,19.045999999999999,15.672000000000001,39.063000000000002,0.82284994224509089,{"$f":"[1]!AgePb76(P36)","v":4961.810407740164}]
["STR-24",15.71,4.18,0.80700000000000005,0.89200000000000002,81,0.89200000000000002,1.1060000000000001,0.70624600000000004,8,0.51254999999999995,3,19.07,15.677,39.067,0.82207656004195062,{"$f":"[1]!AgePb76(P37)","v":4960.4735101960914}]
["STR-9/96e",15.34,4.01,0.79300000000000004,0.87480000000000002,46,0.875,1.103,0.70616299999999999,7,0.51256299999999999,4,19.073,15.676,39.091000000000001,0.82189482514549361,{"$f":"[1]!AgePb76(P38)","v":4960.1591623976583}]
[]
[]
[]
["Palaeostromboli I","Palaeostromboli II","Palaeostromboli III","Vancori","Neostromboli","S. Bartolo","Recent"]
["(85 ka)","(60 ka)","(35 ka)","(26–12 ka)","(10 ka)","(2 ka)","(0 ka)"]
[4964,4962,4957,4960,4960,4966,4952]
[4966,4963,4957,4957,4951,4965,4961]
[4966,4965,4957,4960,4960,null,4962]
[null,null,null,4955,4960,null,4960]
[null,null,null,null,4960,null,4960]
[null,null,null,null,4960]
[null,null,null,null,4952]
[null,null,null,null,4958]
[null,null,null,null,4963]

{"sheet":"H22","index":24,"n_rows":41,"n_cols":14,"rows_kept":41,"cut":false,"hidden":false,"merged":[]}
["Table 3.",null,null,null,null,null,null,"Age (Ma)",null,null,"Volcano","Pb Age (Ma)","Volcano","Pb Age (Ma)"]
["Volcano","SiO2(WR)","87Sr/86Sr","206Pb/204Pb","207Pb/204Pb","208Pb/204Pb","143Nd/144Nd","207Pb/206Pb",null,null,"Shiveluch",5005,"Bolshoi Semiachik",4999]
["Shiveluch",null,null,null,null,null,null,null,null,null,null,5001,null,4997]
["B544/N",47.23,0.70340999999999998,18.257999999999999,15.491,37.901000000000003,null,{"$f":"[1]!AgePb76(E4/D4)","v":5005.3255307213876},null,null,null,4997,"Avachinsky",4995]
["B541/2v",54.71,0.70335000000000003,18.331,15.509,37.945,0.51314000000000004,{"$f":"[1]!AgePb76(E5/D5)","v":5001.3109237107474},null,null,null,5002,"Mutnovsky",5000]
["B547",60.95,0.70335000000000003,18.361999999999998,15.493,37.932000000000002,null,{"$f":"[1]!AgePb76(E6/D6)","v":4997.4476316460814},null,null,"Bezymianny",5022,null,5000]
["B548b",62.58,0.70340999999999998,18.303999999999998,15.49,37.884999999999998,0.51309700000000003,{"$f":"[1]!AgePb76(E7/D7)","v":5001.6631073563294},null,null,null,5006,null,4999]
["Bezymianny",null,null,null,null,null,null,null,null,null,null,5005,null,5000]
["B580",58.91,0.70360999999999996,18.056999999999999,15.502000000000001,37.753,null,{"$f":"[1]!AgePb76(E9/D9)","v":5022.0345877632144},null,null,null,5006,"Ksudach",5001]
["B574/A",56,0.70357999999999998,18.251000000000001,15.488,37.862000000000002,0.51309000000000005,{"$f":"[1]!AgePb76(E10/D10)","v":5005.5948325153904},null,null,"Tolbachik",5004,null,5001]
["B-584",64.62,0.70359000000000005,18.266999999999999,15.491,37.890999999999998,0.5131,{"$f":"[1]!AgePb76(E11/D11)","v":5004.6262313658353},null,null,"Uzon",4998,null,5031]
["B600",55.81,0.70354000000000005,18.260999999999999,15.496,37.935000000000002,null,{"$f":"[1]!AgePb76(E12/D12)","v":5005.5503204299766},null,null,null,4998,null,4999]
["Tolbachik",null,null,null,null,null,null,null,null,null,null,5001,null,4985]
["TOL-2",50.84,0.70343999999999995,18.356000000000002,15.564,38.034999999999997,0.51307499999999995,{"$f":"[1]!AgePb76(E14/D14)","v":5004.4006091032043},null,null,null,5000,null,5025]
["Uzon",null,null,null,null,null,null,null,null,null,null,4999,"Pauzhetka",4999]
["87L-103",61.1,0.70329699999999995,18.376000000000001,15.515000000000001,38.094999999999999,0.51307100000000005,{"$f":"[1]!AgePb76(E16/D16)","v":4998.3799660661853},null,null,"Maly Semyachik",4996]
["99L-101",67.53,0.70334600000000003,18.376000000000001,15.515000000000001,38.098999999999997,0.51306600000000002,{"$f":"[1]!AgePb76(E17/D17)","v":4998.3799660661853}]
["D493-74",72.099999999999994,0.70349399999999995,18.332000000000001,15.500999999999999,38.033000000000001,0.51306700000000005,{"$f":"[1]!AgePb76(E18/D18)","v":5000.5012235661943}]
["D388i-74",71.400000000000006,0.70336900000000002,18.367000000000001,15.52,38.11,0.51307000000000003,{"$f":"[1]!AgePb76(E19/D19)","v":4999.5326445557739}]
["D368-74",70.959999999999994,0.70335700000000001,18.361000000000001,15.507,38.075000000000003,0.51307199999999997,{"$f":"[1]!AgePb76(E20/D20)","v":4998.8069935754456}]
["Maly Semyachik"]
["5230/1",66.78,0.70319299999999996,18.388999999999999,15.497999999999999,38.051000000000002,0.51311099999999998,{"$f":"[1]!AgePb76(E22/D22)","v":4995.8199122316701}]
["Bolshoi Semiachik"]
["90L-8",63.82,0.70344300000000004,18.364999999999998,15.513,38.091000000000001,0.51303500000000002,{"$f":"[1]!AgePb76(E24/D24)","v":4999.0468926643716}]
["84L-103",70.64,0.70344399999999996,18.379000000000001,15.500999999999999,38.067,0.51306499999999999,{"$f":"[1]!AgePb76(E25/D25)","v":4996.8668255590665}]
["Avachinsky"]
["TOL-3",51.85,0.70335000000000003,18.427,15.526,38.155000000000001,0.51307000000000003,{"$f":"[1]!AgePb76(E27/D27)","v":4995.4518644488435}]
["Mutnovsky"]
["B618/3",50.02,0.70338000000000001,18.358000000000001,15.52,38.140999999999998,0.51311300000000004,{"$f":"[1]!AgePb76(E29/D29)","v":5000.2282909239357}]
["B615/B",51.52,0.70315000000000005,18.332999999999998,15.497999999999999,38.073,null,{"$f":"[1]!AgePb76(E30/D30)","v":5000.1490955354666}]
["B610A",59.49,0.70338000000000001,18.350000000000001,15.5,38.11,0.51305999999999996,{"$f":"[1]!AgePb76(E31/D31)","v":4999.0167263600097}]
["B615A",51.52,0.70328999999999997,18.34,15.507,38.098999999999997,null,{"$f":"[1]!AgePb76(E32/D32)","v":5000.4312486473436}]
["Ksudach"]
["C977",62.99,0.703318,18.318999999999999,15.496,38.093000000000004,null,{"$f":"[1]!AgePb76(E34/D34)","v":5001.0501665197089}]
["KA-38a/7",49.35,0.70330999999999999,18.350000000000001,15.521000000000001,38.162999999999997,0.51307000000000003,{"$f":"[1]!AgePb76(E35/D35)","v":5000.9383552862546}]
["KA110-7",58.56,0.70321999999999996,18.042999999999999,15.585000000000001,38.097999999999999,null,{"$f":"[1]!AgePb76(E36/D36)","v":5030.7043390434665}]
["KA25A-7",67.150000000000006,0.70325000000000004,18.349,15.5,38.116999999999997,0.51306300000000005,{"$f":"[1]!AgePb76(E37/D37)","v":4999.0940779589846}]
["KA39/7",48.21,0.70338999999999996,18.568000000000001,15.528,38.091000000000001,null,{"$f":"[1]!AgePb76(E38/D38)","v":4984.8111544134363}]
["KA1/7",56.79,0.70326,18.094999999999999,15.571999999999999,37.945,null,{"$f":"[1]!AgePb76(E39/D39)","v":5025.4418482700476}]
["Pauzhetka"]
["83L20",70.34,0.70325499999999996,18.358000000000001,15.504,38.140999999999998,0.51305599999999996,{"$f":"[1]!AgePb76(E41/D41)","v":4998.7643034656039}]

{"sheet":"H23","index":25,"n_rows":40,"n_cols":21,"rows_kept":40,"cut":false,"hidden":false,"merged":[]}
["Table 2",null,null,null,null,null,null,null,null,null,null,null,null,null,null,null,null,null,null,null,"Thousand Years"]
["Eruption","Sample","Th(ppm)","U(ppm)","226Ra(fg/g)","2σm","231Pa(fg/g)","2σm","(238U/232Th)","2σm","(230Th/232Th)","2σm","(230Th/238U)","2σm","(234U/238U)","(231Pa/235U)","2σm","(226Ra/230Th)","t=0","2σm","230Th Age"]
[2008,508,1.37,0.49,169.8,1,276.89999999999998,1.8,1.085,1E-3,0.875,4.0000000000000001E-3,0.80700000000000005,4.0000000000000001E-3,1.0009999999999999,1E-3,1.712,6.0000000000000001E-3,1.2689999999999999,1.2999999999999999E-2,{"$f":"[1]!Th230Age(M3, O3)","v":178.35260452834143}]
[1957,"12c",1.38,0.47,173.5,1.1000000000000001,250.9,1.8,1.034,1E-3,0.875,3.0000000000000001E-3,0.84599999999999997,3.0000000000000001E-3,1.0029999999999999,3.0000000000000001E-3,1.62,6.0000000000000001E-3,1.298,1.0999999999999999E-2,{"$f":"[1]!Th230Age(M4, O4)","v":201.26420666508457}]
[1957,61,1.07,0.39,141.9,1,236.3,2.1,1.119,1E-3,0.9,3.0000000000000001E-3,0.80400000000000005,4.0000000000000001E-3,1,2E-3,1.8180000000000001,8.0000000000000002E-3,1.343,1.2999999999999999E-2,{"$f":"[1]!Th230Age(M5, O5)","v":177.22635270945514}]
[1780,33,1.44,0.47,175.8,0.9,247.5,2,0.999,1E-3,0.85499999999999998,2E-3,0.85699999999999998,3.0000000000000001E-3,1,3.0000000000000001E-3,1.5820000000000001,6.0000000000000001E-3,1.3089999999999999,0.01,{"$f":"[1]!Th230Age(M6, O6)","v":211.51253622447734}]
[1780,89,1.64,0.56999999999999995,193,1,311.39999999999998,2.2000000000000002,1.044,1E-3,0.86699999999999999,3.0000000000000001E-3,0.83099999999999996,4.0000000000000001E-3,1.0049999999999999,2E-3,1.671,6.0000000000000001E-3,1.25,1.0999999999999999E-2,{"$f":"[1]!Th230Age(M7, O7)","v":190.12985586622108}]
[1780,19,1.08,0.39,131,0.8,227.5,2,1.1000000000000001,1E-3,0.9,3.0000000000000001E-3,0.81799999999999995,4.0000000000000001E-3,1.0029999999999999,2E-3,1.7669999999999999,8.0000000000000002E-3,1.2470000000000001,1.2E-2,{"$f":"[1]!Th230Age(M8, O8)","v":183.51534379120073}]
[1780,208,0.97,0.36,117.2,0.6,214.5,1.7,1.117,1E-3,0.89500000000000002,3.0000000000000001E-3,0.80200000000000005,4.0000000000000001E-3,1.0029999999999999,2E-3,1.833,7.0000000000000001E-3,1.254,1.0999999999999999E-2,{"$f":"[1]!Th230Age(M9, O9)","v":174.53679958220781}]
[1751,7,1.1499999999999999,0.41,140,0.7,235.3,2.2000000000000002,1.091,1E-3,0.89300000000000002,3.0000000000000001E-3,0.81899999999999995,4.0000000000000001E-3,0.999,3.0000000000000001E-3,1.7250000000000001,8.0000000000000002E-3,1.2490000000000001,0.01,{"$f":"[1]!Th230Age(M10, O10)","v":186.48990323118014}]
[1903,95,2.44,0.73,277.5,1.9,334.9,2.8,0.91400000000000003,1E-3,0.82699999999999996,3.0000000000000001E-3,0.90500000000000003,4.0000000000000001E-3,0.999,3.0000000000000001E-3,1.3839999999999999,6.0000000000000001E-3,1.248,1.2E-2,{"$f":"[1]!Th230Age(M11, O11)","v":257.32950393117966}]
[1640,31,2.27,0.79,236.8,1.5,401.3,3,1.052,1E-3,0.90300000000000002,3.0000000000000001E-3,0.85799999999999998,3.0000000000000001E-3,0.999,3.0000000000000001E-3,1.5509999999999999,6.0000000000000001E-3,1.0469999999999999,8.9999999999999993E-3,{"$f":"[1]!Th230Age(M12, O12)","v":213.10047608178158}]
[1640,385,2.52,0.82,256.39999999999998,1.3,393.3,3.4,0.98799999999999999,1E-3,0.86099999999999999,3.0000000000000001E-3,0.871,4.0000000000000001E-3,1.002,2E-3,1.4570000000000001,6.0000000000000001E-3,1.085,0.01,{"$f":"[1]!Th230Age(M13, O13)","v":220.89357340301652}]
[1640,252,1.21,0.43,137.5,0.7,239.2,2.1,1.0860000000000001,1E-3,0.88300000000000001,3.0000000000000001E-3,0.81299999999999994,4.0000000000000001E-3,1.002,2E-3,1.6830000000000001,7.0000000000000001E-3,1.2010000000000001,1.0999999999999999E-2,{"$f":"[1]!Th230Age(M14, O14)","v":181.1940687023878}]
[1903,85,1.61,0.52,184.8,0.8,264.5,1.9,0.98,1E-3,0.85699999999999998,3.0000000000000001E-3,0.874,4.0000000000000001E-3,0.997,2E-3,1.5449999999999999,6.0000000000000001E-3,1.2250000000000001,1.0999999999999999E-2,{"$f":"[1]!Th230Age(M15, O15)","v":228.18111542751546}]
[1852,76,1.54,0.53,182.7,1.2,294.39999999999998,2.7,1.0549999999999999,1E-3,0.86299999999999999,3.0000000000000001E-3,0.81699999999999995,4.0000000000000001E-3,0.999,3.0000000000000001E-3,1.673,8.0000000000000002E-3,1.256,1.2E-2,{"$f":"[1]!Th230Age(M16, O16)","v":185.28615907247405}]
[1852,"74c",2.2400000000000002,0.72,246.6,1.4,360.9,2.7,0.97099999999999997,1E-3,0.86899999999999999,3.0000000000000001E-3,0.89500000000000002,4.0000000000000001E-3,1.002,1E-3,1.528,6.0000000000000001E-3,1.159,1.0999999999999999E-2,{"$f":"[1]!Th230Age(M17, O17)","v":242.77426079918817}]
[1852,23,1.1399999999999999,0.41,135.4,0.8,238.2,3,1.091,1E-3,0.89200000000000002,3.0000000000000001E-3,0.81799999999999995,4.0000000000000001E-3,0.999,2E-3,1.764,1.0999999999999999E-2,1.222,1.2E-2,{"$f":"[1]!Th230Age(M18, O18)","v":185.88636480001207}]
[]
[]
["Eruption","230Th/238U","Historic Age","Age Ratio","Year"]
["Year","Age 103 Years","Years",103,"Dated"]
[1640,213.10047608178158,{"$f":"E23-A23","v":371},{"$f":"B23/C23","v":0.57439481423660799},2011]
[1640,220.89357340301652,371,0.59540046739357555,2011]
[1640,181.1940687023878,371,0.48839371617894284,2011]
[1751,186.48990323118014,260,0.71726885858146205,2011]
[1780,211.51253622447734,231,0.91563868495444733,2011]
[1780,190.12985586622108,231,0.82307296911784011,2011]
[1780,183.51534379120073,231,0.79443871771082564,2011]
[1780,174.53679958220781,231,0.75557056096193853,2011]
[1852,185.28615907247405,159,1.1653217551727928,2011]
[1852,242.77426079918817,159,1.5268821433911206,2011]
[1852,185.88636480001207,159,1.1690966339623401,2011]
[1903,257.32950393117966,108,2.3826805919553671,2011]
[1903,228.18111542751546,108,2.1127881058103282,2011]
[1957,201.26420666508457,54,3.7271149382423068,2011]
[1957,177.22635270945514,54,3.2819694946195397,2011]
[2008,178.35260452834143,3,59.450868176113808,2011]
[null,{"$f":"MIN(B23:B38)","v":174.53679958220781}]
[null,{"$f":"MAX(B23:B39)","v":257.32950393117966}]

{"sheet":"H24","index":26,"n_rows":68,"n_cols":20,"rows_kept":68,"cut":false,"hidden":false,"merged":[]}
["Table 1",null,null,null,null,null,null,null,null,null,null,null,null,null,null,"Volcano","Eruption","Pb Age (Ma)","Historical Age","Age Ratio(106)"]
["Sample","Kiska-62","54–445","54–452","52–496","KG21","KAN5–8","K81-7A","99SJP01","46ABy531","UM21",null,null,null,null,"Akutan",1850,4960,153,32]
["Volcano","Kiska","Kiska","Segula","Little Sitkin","Kanaga","Kanaga","Kasatochi","Seguam","Umnak","Okmok",null,null,null,null,null,1978,4961,25,198]
["Age",1962,"Historic","Historic",1900,1850,1900,1899,"Historic",1946,1946,null,null,null,null,"Aniakchak",-1500,4966,3503,1]
["206Pb/204Pb",18.838999999999999,18.234000000000002,18.661000000000001,18.495000000000001,18.779,18.77,18.873000000000001,18.893000000000001,18.718,18.812999999999999,null,null,null,null,null,-1500,4967,3503,1]
["207Pb/204Pb",15.595000000000001,15.493,15.54,15.561999999999999,15.544,15.529,15.561,15.583,15.539,15.532999999999999,null,null,null,null,null,-1500,4966,3503,1]
["207Pb/206Pb",{"$f":"(B6/B5)","v":0.82780402356812999},{"$f":"(C6/C5)","v":0.84967642864977511},0.8327527999571297,0.84141659908083255,0.82773310612918694,0.82733084709643046,0.82451120648545539,0.82480283702958768,0.83016347900416709,0.82565247435284117,null,null,null,null,"Augustine",-500,4967,2503,2]
["Pb/Pb Age",{"$f":"[1]!AgePb76(B7)","v":4970.3426603814614},{"$f":"[1]!AgePb76(C7)","v":5007.3750829411865},{"$f":"[1]!AgePb76(D7)","v":4978.8117588444948},{"$f":"[1]!AgePb76(E7)","v":4993.5105838981754},{"$f":"[1]!AgePb76(F7)","v":4970.2209049144703},{"$f":"[1]!AgePb76(G7)","v":4969.5300717132495},{"$f":"[1]!AgePb76(H7)","v":4964.677620518436},{"$f":"[1]!AgePb76(I7)","v":4965.1803184027813},{"$f":"[1]!AgePb76(J7)","v":4974.3872117919909},{"$f":"[1]!AgePb76(K7)","v":4966.6438035303154},null,null,null,null,"Bogoslof",1796,4968,207,24]
["Historical Age",{"$f":"2003-B4","v":41},"?","?",{"$f":"2003-E4","v":103},153,103,104,"?",57,57,null,null,null,null,"Buzzard Creek",-1000,4949,3003,2]
["Age Ratio",{"$f":"B8/B9","v":121.22786976540149},"?","?",{"$f":"E8/E9","v":48.480685280564806},32.485103953689347,48.247864773915047,47.737284812677267,"?",87.269951084070016,87.134101816321319,null,null,null,null,"Kanaga",1850,4970,153,32]
[null,null,null,null,null,null,null,null,null,null,null,null,null,null,null,null,1900,4970,103,48]
[null,null,null,null,null,null,null,null,null,null,null,null,null,null,null,"Kasatochi",1899,4965,104,48]
["Sample","Bogoslof","96PN08","AK81-35","96PS23","NW951","SAR-7","99SH08","PAV-86","92CNA22","NA94-5","94AMC2","UK-25B",null,null,"Katmai",1912,4966,91,55]
["Volcano","Bogoslof","Makushin","Akutan","Akutan","Westdahl","Westdahl","Shishaldin","Pavlof","Aniakchak","Aniakchak","Aniakchak","Ukinrek",null,null,"Kiska",1962,4970,41,121]
["Age",1796,"Historic",1850,1978,1991,"Active",1999,1996,-1500,-1500,-1500,1977,"Negative Date = BC",null,null,"Historic",5007,"?","?"]
["206Pb/204Pb",18.832000000000001,18.873000000000001,18.981000000000002,18.963000000000001,18.861000000000001,18.853999999999999,18.731999999999999,18.881,18.853999999999999,18.838999999999999,18.866,18.753,null,null,"Little Sitkin",1900,4994,103,48]
["207Pb/204Pb",15.566000000000001,15.582000000000001,15.602,15.590999999999999,15.565,15.555,15.523,15.573,15.565,15.558999999999999,15.565,15.548999999999999,null,null,"Makushin","Historic",4967,"?","?"]
["207Pb/206Pb",{"$f":"(B17/B16)","v":0.82657179269328807},{"$f":"(C17/C16)","v":0.82562390716897149},{"$f":"(D17/D16)","v":0.8219798746114535},{"$f":"(E17/E16)","v":0.82218003480461943},{"$f":"(F17/F16)","v":0.82524786596680977},{"$f":"(G17/G16)","v":0.82502386761429936},{"$f":"(H17/H16)","v":0.82868887465300023},{"$f":"(I17/I16)","v":0.82479741539113394},{"$f":"(J17/J16)","v":0.82555425904317392},{"$f":"(K17/K16)","v":0.82589309411327572},0.82502915297360324,0.82914733642617178,null,null,"Okmok",1946,4967,57,87]
["Pb/Pb Age",{"$f":"[1]!AgePb76(B18)","v":4968.2255108126355},{"$f":"[1]!AgePb76(C18)","v":4966.5946230797317},{"$f":"[1]!AgePb76(D18)","v":4960.306282101119},{"$f":"[1]!AgePb76(E18)","v":4960.6524580255327},{"$f":"[1]!AgePb76(F18)","v":4965.9470725700785},{"$f":"[1]!AgePb76(G18)","v":4965.56119381384},{"$f":"[1]!AgePb76(H18)","v":4971.8608962016142},{"$f":"[1]!AgePb76(I18)","v":4965.17097458227},{"$f":"[1]!AgePb76(J18)","v":4966.4747112671485},{"$f":"[1]!AgePb76(K18)","v":4967.057975890817},{"$f":"[1]!AgePb76(L18)","v":4965.5703001095717},{"$f":"[1]!AgePb76(M18)","v":4972.6468516923078},null,null,"Pavlof",1996,4965,7,709]
["Historical Age",{"$f":"2003-B15","v":207},"?",153,25,12,"?",4,7,3503,3503,3503,26,null,null,"Redoubt",1989,4972,14,355]
["Age Ratio",{"$f":"B19/B20","v":24.001089424215632},"?",32.420302497392932,198.4260983210213,413.82892271417319,"?",1242.9652240504035,709.31013922603859,1.4177775367591061,1.4179440410764537,1.4175193548699891,191.25564814201184,null,null,null,1989,4973,14,355]
[null,null,null,null,null,null,null,null,null,null,null,null,null,null,null,"Seguam","Historic",4965,"?","?"]
[null,null,null,null,null,null,null,null,null,null,null,null,null,null,null,"Segula","Historic",4979,"?","?"]
["Sample","97NT18","97NT28","97ND02","89A16B","RDSS-3","90CNR12","85CNS17","92JBS02","CNBC01",null,null,null,null,null,"Shishaldin",1999,4972,4,1243]
["Volcano","Trident","Trident","Katmai","Augustine","Redoubt","Redoubt","Spurr","Spurr","Buzzard Creek",null,null,null,null,null,"Spurr",1953,4969,50,99]
["Age",1953,1953,1912,-500,1989,1989,1953,1992,-1000,"Negative Date = BC",null,null,null,null,null,1992,4972,11,452]
["206Pb/204Pb",18.861999999999998,18.859000000000002,18.879000000000001,18.844999999999999,18.768000000000001,18.751999999999999,18.832999999999998,18.782,19.207999999999998,null,null,null,null,null,"Trident",1953,4967,50,99]
["207Pb/204Pb",15.58,15.571,15.581,15.566000000000001,15.557,15.555,15.573,15.564,15.66,null,null,null,null,null,null,1953,4967,50,99]
["207Pb/206Pb",{"$f":"(B28/B27)","v":0.82599936380023331},{"$f":"(C28/C27)","v":0.82565353412163944},{"$f":"(D28/D27)","v":0.82530854388473962},{"$f":"(E28/E27)","v":0.8260015919342002},{"$f":"(F28/F27)","v":0.82891091219096336},{"$f":"(G28/G27)","v":0.82951151877133111},{"$f":"(H28/H27)","v":0.82689959114320621},{"$f":"(I28/I27)","v":0.82866574379725266},{"$f":"(J28/J27)","v":0.81528529779258652},null,null,null,null,null,"Ukinrek",1977,4973,26,191]
["Pb/Pb Age",{"$f":"[1]!AgePb76(B29)","v":4967.2408542280509},{"$f":"[1]!AgePb76(C29)","v":4966.6456279633148},{"$f":"[1]!AgePb76(D29)","v":4966.0515823853493},{"$f":"[1]!AgePb76(E29)","v":4967.2446883316225},{"$f":"[1]!AgePb76(F29)","v":4972.2415998608631},{"$f":"[1]!AgePb76(G29)","v":4973.2708518607615},{"$f":"[1]!AgePb76(H29)","v":4968.7890429811241},{"$f":"[1]!AgePb76(I29)","v":4971.8212299990246},{"$f":"[1]!AgePb76(J29)","v":4948.6761291968378},null,null,null,null,null,"Umnak",1946,4974,57,87]
["Historical Age",{"$f":"2003-B26","v":50},50,91,2503,14,14,50,11,3003,null,null,null,null,null,"Westdahl",1991,4966,12,414]
["Age Ratio",{"$f":"B30/B31","v":99.344817084561015},99.33291255926629,54.571995410828016,1.9845164555859458,355.16011427577592,355.23363227576868,99.375780859622481,451.98374818172948,1.6479107989333459,null,null,null,null,null,null,"Active",4966,"?","?"]
[null,null,null,null,null,null,null,null,null,null,null,null,null,null,null,null,"Average",{"$f":"AVERAGE(R2:R32)","v":4969.677419354839}]
[null,null,null,null,null,null,null,null,null,null,null,null,null,null,null,null,"Maximum",{"$f":"MAX(R2:R33)","v":5007}]
[null,null,null,null,null,null,null,null,null,null,null,null,null,null,null,null,"Minimum",{"$f":"MIN(R2:R34)","v":4949}]
[null,null,null,null,null,null,null,null,null,null,null,null,null,null,null,null,"Difference",{"$f":"R34-R35","v":58}]
["Volcano","Age","Pb/Pb Age","Historical Age","Age Ratio(106)",null,null,null,null,null,null,null,null,null,null,null,"Accuracy",{"$f":"1-(R36/R33)","v":0.9883292223808906}]
["Kiska",1962,4970,41,121]
["Kiska","Historic",5007,"?","?"]
["Segula","Historic",4979,"?","?"]
["Little Sitkin",1900,4994,103,48]
["Kanaga",1850,4970,153,32]
["Kanaga",1900,4970,103,48]
["Kasatochi",1899,4965,104,48]
["Seguam","Historic",4965,"?","?"]
["Umnak",1946,4974,57,87]
["Okmok",1946,4967,57,87]
["Bogoslof",1796,4968,207,24]
["Makushin","Historic",4967,"?","?"]
["Akutan",1850,4960,153,32]
["Akutan",1978,4961,25,198]
["Westdahl",1991,4966,12,414]
["Westdahl","Active",4966,"?","?"]
["Shishaldin",1999,4972,4,1243]
["Pavlof",1996,4965,7,709]
["Aniakchak",-1500,4966,3503,1]
["Aniakchak",-1500,4967,3503,1]
["Aniakchak",-1500,4966,3503,1]
["Ukinrek",1977,4973,26,191]
["Trident",1953,4967,50,99]
["Trident",1953,4967,50,99]
["Katmai",1912,4966,91,55]
["Augustine",-500,4967,2503,2]
["Redoubt",1989,4972,14,355]
["Redoubt",1989,4973,14,355]
["Spurr",1953,4969,50,99]
["Spurr",1992,4972,11,452]
["Buzzard Creek",-1000,4949,3003,2]