{"text_format":"1","workbook":"xlsx","n_sheets":29,"sheets":["Index","Erupt","Active","H25","H26","H27","H28","H29","H30","H31","H32","H33","H34","H35","H36","H37","H38","H39","H40","H41","H42","H43","H44","H45","H46","H47","H48","H49","H50"],"not_rendered":{"charts":2,"images":0,"macros":1,"external_links":1,"defined_names":3,"comments":0,"pivot_tables":0},"unopened":[],"bounds":{"document_bytes":16777216,"sheet_cells":100000,"rows_first":2000,"rows_last":500,"rows_between":2000,"halvings":0,"cell_chars":16384,"cell_head_chars":4096},"cells_cut":0,"cells_raw":0,"read":"whole","date_system":"1900"}

{"sheet":"Index","index":0,"n_rows":61,"n_cols":10,"rows_kept":61,"cut":false,"hidden":false,"merged":[]}
["Sheet","Magazine PDF","Journal","Title","Citation","F_Name","L_Name","Year","Volcanoe","Full Citation"]
["H24","C:\\Essays\\Geo_Dating\\Historic\\Historic_24.pdf","Journal Of Geophysical Research, 108:(B5-2252):1-25","Transport rates along the Alaska-Aleutian",{"$f":"\"(\" & G2 & \", \" & H2 & \", P. )\"","v":"(George, 2003, P. )"},"Rhiannon","George",2003,"Alaska",{"$f":"G2 & \", \" & F2 & \", \" & H2 & \", \" & D2 & \", \" & C2","v":"George, Rhiannon, 2003, Transport rates along the Alaska-Aleutian, Journal Of Geophysical Research, 108:(B5-2252):1-25"}]
["H38","C:\\Essays\\Geo_Dating\\Historic\\Historic_38.pdf","Journal Of Petrology, 45(1):203-219","Two Volcanoes in the Alaska-Aleutian Arc","(George, 2004, P. )","Rhiannon","George",2004,"Aleutian Arc","George, Rhiannon, 2004, Two Volcanoes in the Alaska-Aleutian Arc, Journal Of Petrology, 45(1):203-219"]
["H01","C:\\Essays\\Geo_Dating\\Historic\\Historic_01.pdf","Journal Of Petrology, 45(9)1845–1875","Variable Impact of the Subducted Slab","(Jicha, 2004, P. )","B. R.","Jicha",2004,"Aleutian Island","Jicha, B. R., 2004, Variable Impact of the Subducted Slab, Journal Of Petrology, 45(9)1845–1875"]
["H05","C:\\Essays\\Geo_Dating\\Historic\\Historic_05.pdf","Journal of Volcanology and Geothermal Research 146:139-170","The May 2003 eruption of Anatahan volcano","(Wade, 2005, P. )","Jennifer A.","Wade",2005,"Anatahan Volcano","Wade, Jennifer A., 2005, The May 2003 eruption of Anatahan volcano, Journal of Volcanology and Geothermal Research 146:139-170"]
["H25","C:\\Essays\\Geo_Dating\\Historic\\Historic_25.pdf","Journal Of Petrology, 37(1):95-115","Geochemistry of Augustine Volcano","(Johnson, 1996, P. )","K. E.","Johnson",1996,"Augustine","Johnson, K. E., 1996, Geochemistry of Augustine Volcano, Journal Of Petrology, 37(1):95-115"]
["H28","C:\\Essays\\Geo_Dating\\Historic\\Historic_28.pdf","Journal Of Petrology, 53(1):27-65","Eastern Mediterranean K-rich Lavas","(Kirchenbaur, 2012, P. )","Maria","Kirchenbaur",2012,"Bulgaria","Kirchenbaur, Maria, 2012, Eastern Mediterranean K-rich Lavas, Journal Of Petrology, 53(1):27-65"]
["H29","C:\\Essays\\Geo_Dating\\Historic\\Historic_29.pdf","Journal Of Petrology, 39(5):859-880","Jurassic Oceanic Crust beneath Grand Canaria","(Hoernle, 1998, P. )","Kaj","Hoernle",1998,"Canary Islands","Hoernle, Kaj, 1998, Jurassic Oceanic Crust beneath Grand Canaria, Journal Of Petrology, 39(5):859-880"]
["H30","C:\\Essays\\Geo_Dating\\Historic\\Historic_30.pdf","PhD Thesis, University of Bremen, http://d-nb.info/1072301873/34","Evolution of La Palma (Canary Islands)","(Galipp, 2005, P. )","Karsten","Galipp",2005,"Canary Islands","Galipp, Karsten, 2005, Evolution of La Palma (Canary Islands), PhD Thesis, University of Bremen, http://d-nb.info/1072301873/34"]
["H53","C:\\Essays\\Geo_Dating\\Historic\\Historic_53.pdf","Geology, 33:897-900","1585 eruption on La Palma, Canary Islands ","(Johansen, 2005, P. )","T. S.","Johansen",2005,"Canary Islands","Johansen, T. S., 2005, 1585 eruption on La Palma, Canary Islands , Geology, 33:897-900"]
["H14","C:\\Essays\\Geo_Dating\\Historic\\Historic_14.pdf","Geochemica Et Cosmochemica Acta, 61(18):3789-3801","Excess Argon In Melt Inclusions","(Esser, 1997, P. )","R. P.","Esser",1997,"Erebus","Esser, R. P., 1997, Excess Argon In Melt Inclusions, Geochemica Et Cosmochemica Acta, 61(18):3789-3801"]
["H15","C:\\Essays\\Geo_Dating\\Historic\\Historic_15.pdf","Journal of Volcanology and Geothermal Research, 177:606-618","Alkaline magmas from Erebus volcano","(Sims, 2008, P. )","Kenneth W.W.","Sims",2008,"Erebus","Sims, Kenneth W.W., 2008, Alkaline magmas from Erebus volcano, Journal of Volcanology and Geothermal Research, 177:606-618"]
["H16","C:\\Essays\\Geo_Dating\\Historic\\Historic_16.pdf","Earth and Planetary Science Letters, 245:743-761","Comparison of Th, Sr, Nd and Pb isotopes","(Sims, 2006, P. )","Kenneth W.W.","Sims",2006,"Erebus","Sims, Kenneth W.W., 2006, Comparison of Th, Sr, Nd and Pb isotopes, Earth and Planetary Science Letters, 245:743-761"]
["H48","C:\\Essays\\Geo_Dating\\Historic\\Historic_48.pdf","Journal Of Geophysical Research, 117(B05202):1-18","2010 Eyjafjallajökull explosive eruption","(Borisova, 2012, P. )","Anastassia Y.","Borisova",2012,"Eyjafjallajökull","Borisova, Anastassia Y., 2012, 2010 Eyjafjallajökull explosive eruption, Journal Of Geophysical Research, 117(B05202):1-18"]
["H17","C:\\Essays\\Geo_Dating\\Historic\\Historic_17.pdf","Journal Of Geophysical Research, 73(14):4601-4607","Ultramafic Inclusions from Hawaii","(Funkhouser, 1968, P. )","John G.","Funkhouser",1968,"Hualalai","Funkhouser, John G., 1968, Ultramafic Inclusions from Hawaii, Journal Of Geophysical Research, 73(14):4601-4607"]
["H42","C:\\Essays\\Geo_Dating\\Historic\\Historic_42.pdf","Proceedings Radiochimica Acta 1:335-338","Izu arc volcanoes, Japan","(Kurihara, 2011, P. )","Yuichi","Kurihara",2011,"Izu Arc","Kurihara, Yuichi, 2011, Izu arc volcanoes, Japan, Proceedings Radiochimica Acta 1:335-338"]
["H44","C:\\Essays\\Geo_Dating\\Historic\\Historic_44.pdf","Radio Isotopes, 56:795-809","Volcanic Products from Izu arc volcanoes","(Kurihara, 2007, P. )","Yuichi","Kurihara",2007,"Izu Arc","Kurihara, Yuichi, 2007, Volcanic Products from Izu arc volcanoes, Radio Isotopes, 56:795-809"]
["H55","C:\\Essays\\Geo_Dating\\Historic\\Historic_55.pdf","Geochemical Journal, 42:461-479","238U–230Th radioactive disequilibrium","(Fukuda, 2008, P. )","Satoru","Fukuda",2008,"Izu Arc","Fukuda, Satoru, 2008, 238U–230Th radioactive disequilibrium, Geochemical Journal, 42:461-479"]
["H40","C:\\Essays\\Geo_Dating\\Historic\\Historic_40.pdf","Contributions Mineralogy Petrology, 168(1067):1-28","Bezymianny and Klyuchevskoy Volcanoes","(Kayzar, 2014, P. )","Theresa M.","Kayzar",2014,"Kamchatka","Kayzar, Theresa M., 2014, Bezymianny and Klyuchevskoy Volcanoes, Contributions Mineralogy Petrology, 168(1067):1-28"]
["H47","C:\\Essays\\Geo_Dating\\Historic\\Historic_47.pdf","Earth and Planetary Science Letters, 175:69-86","The Kluchevskoy volcano","(Dorendorf, 2000, P. )","Frank","Dorendorf",2000,"Kamchatka","Dorendorf, Frank, 2000, The Kluchevskoy volcano, Earth and Planetary Science Letters, 175:69-86"]
["H51","C:\\Essays\\Geo_Dating\\Historic\\Historic_51.pdf","Journal Of Petrology, 51(7):1507-1540","Kaua‘i Lavas over 4.5 million years","(Garcia, 2010, P. )","M. O.","Garcia",2010,"Kaua‘i"]
["H03","C:\\Essays\\Geo_Dating\\Historic\\Historic_03.pdf","Geochemistry, Geophysics, Geosystems, 14(1):4849-4873","Kılauea’s Puu Oo eruption (1983–2010)","(Greene, 2013, P. )","Andrew R.","Greene",2013,"Kilauea",{"$f":"G22 & \", \" & F22 & \", \" & H22 & \", \" & D22 & \", \" & C22","v":"Greene, Andrew R., 2013, Kılauea’s Puu Oo eruption (1983–2010), Geochemistry, Geophysics, Geosystems, 14(1):4849-4873"}]
["H04","C:\\Essays\\Geo_Dating\\Historic\\Historic_04.pdf","Journal Of Petrology, 49(7):1297-1318","Kilauea’s Puu Oo Eruption","(Marske, 2008, P. )","Jared P. ","Marske",2008,"Kilauea","Marske, Jared P. , 2008, Kilauea’s Puu Oo Eruption, Journal Of Petrology, 49(7):1297-1318"]
["H09","C:\\Essays\\Geo_Dating\\Historic\\Historic_09.pdf","Journal Of Petrology, 40(8)1321–1342","Melting History of Kilauea Volcano","(Pietruszka, 1999, P. )","Aaron J. ","Pietruszka",1999,"Kilauea","Pietruszka, Aaron J. , 1999, Melting History of Kilauea Volcano, Journal Of Petrology, 40(8)1321–1342"]
["H39","C:\\Essays\\Geo_Dating\\Historic\\Historic_39.pdf","Journal Of Petrology, 41(7):961-990","Puu Oo Eruption of Kilauea Volcano","(Garcia, 2000, P. )","M. O.","Garcia",2000,"Kilauea","Garcia, M. O., 2000, Puu Oo Eruption of Kilauea Volcano, Journal Of Petrology, 41(7):961-990"]
["H32","C:\\Essays\\Geo_Dating\\Historic\\Historic_32.pdf","Journal of Volcanology and Geothermal Research 158:281-295","Crystallization ages of Las Tres Vírgenes","(Schmitt, 2006, P. )","Axel K.","Schmitt",2006,"Las Tres Vírgenes","Schmitt, Axel K., 2006, Crystallization ages of Las Tres Vírgenes, Journal of Volcanology and Geothermal Research 158:281-295"]
["None","None","https://en.wikipedia.org/wiki/Volcanoes_of_east-central_Baja_California","Volcanoes of east-central Baja California,","(Wikipedia, 2015, P. )",null,"Wikipedia",2015,"Las Tres Vírgenes","Wikipedia, , 2015, Volcanoes of east-central Baja California,, https://en.wikipedia.org/wiki/Volcanoes_of_east-central_Baja_California"]
["H43","C:\\Essays\\Geo_Dating\\Historic\\Historic_43.pdf","Chemical Geology 265:272–278","Contributions to Lesser Antilles magmas","(DuFrane, 2009, P. )","S. Andy","DuFrane",2009,"Lesser Antilles","DuFrane, S. Andy, 2009, Contributions to Lesser Antilles magmas, Chemical Geology 265:272–278"]
["H02","C:\\Essays\\Geo_Dating\\Historic\\Historic_02.pdf","Bulletin Volcanology, 59:577–592","Earthquake swarm of Loihi seamount","(Garcia, 1998, P. )","M. O.","Garcia",1998,"Lohi Seamount","Garcia, M. O., 1998, Earthquake swarm of Loihi seamount, Bulletin Volcanology, 59:577–592"]
["H08","C:\\Essays\\Geo_Dating\\Historic\\Historic_08.pdf","Journal Of Geophysical Research, 115(B12201):1-22","The 1912 Katmai‐Novarupta Eruption","(Turner, 2010, P. )","Simon","Turner",2010,"Lohi Seamount","Turner, Simon, 2010, The 1912 Katmai‐Novarupta Eruption, Journal Of Geophysical Research, 115(B12201):1-22"]
["H07","C:\\Essays\\Geo_Dating\\Historic\\Historic_07.pdf","Journal of Petrology, 53(2):271-297","The Great Tambora Eruption in 1815","(Gertisser, 2012, P. )","R.","Gertisser",2012,"Mauna Loa","Gertisser, R., 2012, The Great Tambora Eruption in 1815, Journal of Petrology, 53(2):271-297"]
["H34","C:\\Essays\\Geo_Dating\\Historic\\Historic_34.pdf","http://perso.ens-lyon.fr/francis.albarede/JBT_Rev_text.pdf","Isotope evolution of Mauna Kea volcano","(Blichert-Toft, 2002, P. )","Janne","Blichert-Toft",2002,"Mauna Loa","Blichert-Toft, Janne, 2002, Isotope evolution of Mauna Kea volcano, http://perso.ens-lyon.fr/francis.albarede/JBT_Rev_text.pdf"]
["H31","C:\\Essays\\Geo_Dating\\Historic\\Historic_31.pdf","Journal Of Petrology, 44(3):457-489","Volcanic rocks from Merapi Volcano","(Gertisser, 2003, P. )","R.","Gertisser",2003,"Merapi","Gertisser, R., 2003, Volcanic rocks from Merapi Volcano, Journal Of Petrology, 44(3):457-489"]
["H18","C:\\Essays\\Geo_Dating\\Historic\\Historic_18.pdf","Fifth International Conference on Creationism","Recent Andesite Flows at Mt. Ngauruhoe",{"$f":"\"(\" & G34 & \", \" & H34 & \", P. )\"","v":"(Snelling, 2003, P. )"},"Andrew","Snelling",2003,"Ngauruhoe","Snelling, Andrew, 2003, Recent Andesite Flows at Mt. Ngauruhoe, Fifth International Conference on Creationism"]
["H33","C:\\Essays\\Geo_Dating\\Historic\\Historic_33.pdf","Contributions Mineralogy Petrology, 156:103-118","Melting beneath Niuafo’ou Island","(Regelous, 2008, P. )","Marcel","Regelous",2008,"Niuafo’ou Island","Regelous, Marcel, 2008, Melting beneath Niuafo’ou Island, Contributions Mineralogy Petrology, 156:103-118"]
["None","None","http://www.bgc.org/isoplot_etc/isoplot/Isoplot3_75-4_15manual.pdf","Isoplot User Manual","(Ludwig, 2010, P. )","Kenneth","Ludwig",2010,"None","Ludwig, Kenneth, 2010, Isoplot User Manual, http://www.bgc.org/isoplot_etc/isoplot/Isoplot3_75-4_15manual.pdf"]
["None","None","http://www.bgc.org/isoplot_etc/isoplot/Isoplot3_75files.zip","Isoplot Excel Add In","(Ludwig, 2012, P. )","Kenneth","Ludwig",2012,"None","Ludwig, Kenneth, 2012, Isoplot Excel Add In, http://www.bgc.org/isoplot_etc/isoplot/Isoplot3_75files.zip"]
["H26","C:\\Essays\\Geo_Dating\\Historic\\Historic_26.pdf","http://pubs.usgs.gov/pp/1791/","The Novarupta-Katmai Eruption of 1912, P. 1-259","(Hildreth, 2012, P. )","Wes","Hildreth",2012,"Novarupta","Hildreth, Wes, 2012, The Novarupta-Katmai Eruption of 1912, P. 1-259, http://pubs.usgs.gov/pp/1791/"]
["H27","C:\\Essays\\Geo_Dating\\Historic\\Historic_27.pdf","Journal Of Petrology, 44(9):1703-1726","Rhyolite in North American Continental Arcs","(Reagan, 2003, P. )","M. K.","Reagan",2003,"Novarupta","Reagan, M. K., 2003, Rhyolite in North American Continental Arcs, Journal Of Petrology, 44(9):1703-1726"]
["H06","C:\\Essays\\Geo_Dating\\Historic\\Historic_06.pdf","http://pubs.usgs.gov/pinatubo/bernard/table9.html","1991 Eruption Products of Mount Pinatubo","(Bernard, 1999, P. )","Alain","Bernard",1999,"Pinatubo","Bernard, Alain, 1999, 1991 Eruption Products of Mount Pinatubo, http://pubs.usgs.gov/pinatubo/bernard/table9.html"]
["H06","C:\\Essays\\Geo_Dating\\Historic\\Historic_06.pdf","http://pubs.usgs.gov/pinatubo/castillo/index.html","Geochemistry of Mount Pinatubo Volcanic Rocks","(Castillo, 1999, P. )","Paterno R.","Castillo",1999,"Pinatubo","Castillo, Paterno R., 1999, Geochemistry of Mount Pinatubo Volcanic Rocks, http://pubs.usgs.gov/pinatubo/castillo/index.html"]
["H12","C:\\Essays\\Geo_Dating\\Historic\\Historic_12.pdf","Geochimica et Cosmochimica Acta 70:3401-3420","Bicol and Bataan arcs, Philippines","(DuFrane, 2006, P. )","S. Andrew ","DuFrane",2006,"Pinatubo","DuFrane, S. Andrew , 2006, Bicol and Bataan arcs, Philippines, Geochimica et Cosmochimica Acta 70:3401-3420"]
["H37","C:\\Essays\\Geo_Dating\\Historic\\Historic_37.pdf","Journal of Petrology, 50(3):507-529","Active Caldera, Rabaul, Papua New Guinea","(Cunningham, 2009, P. )","H. S.","Cunningham",2009,"Rabaul","Cunningham, H. S., 2009, Active Caldera, Rabaul, Papua New Guinea, Journal of Petrology, 50(3):507-529"]
["H35","C:\\Essays\\Geo_Dating\\Historic\\Historic_35.pdf","Earth and Planetary Science Letters 265:748-765","The two Réunion Island volcanoes","(Bosch, 2008, P. )","Delphine","Bosch",2008,"Réunion Island","Bosch, Delphine, 2008, The two Réunion Island volcanoes, Earth and Planetary Science Letters 265:748-765"]
["H46","C:\\Essays\\Geo_Dating\\Historic\\Historic_46.pdf","Journal of Volcanology 184:63-78","Piton de la Fournaise historical lavas","(Vlastélic, 2009, P. )","Ivan","Vlastélic",2009,"Réunion island","Vlastélic, Ivan, 2009, Piton de la Fournaise historical lavas, Journal of Volcanology 184:63-78"]
["H54","C:\\Essays\\Geo_Dating\\Historic\\Historic_54.pdf","http://pubs.usgs.gov/pp/1750/chapters/pp2008-1750_chapter36.pdf","Eruption of Mount St. Helens, 2004–2006","(Cooper, 2008, P. )","Kari M.","Cooper",2008,"Saint Helens","Cooper, Kari M., 2008, Eruption of Mount St. Helens, 2004–2006, http://pubs.usgs.gov/pp/1750/chapters/pp2008-1750_chapter36.pdf"]
["H23","C:\\Essays\\Geo_Dating\\Historic\\Historic_23.pdf","Earth and Planetary Science Letters, 303:37–47","Disequilibria at Volcan Llaima, Chile","(Reubi, 2011, P. )","O.","Reubi",2011,"Samoa","Reubi, O., 2011, Disequilibria at Volcan Llaima, Chile, Earth and Planetary Science Letters, 303:37–47"]
["H45","C:\\Essays\\Geo_Dating\\Historic\\Historic_45.pdf","Phd Thesis, San Diego State University","Lavas from the islands of Upolu and Savaii","(Bühler, 2011, P. )","Alena","Bühler",2011,"Samoa","Bühler, Alena, 2011, Lavas from the islands of Upolu and Savaii, Phd Thesis, San Diego State University"]
["None","None","http://adsabs.harvard.edu/abs/2006AGUFM.V34B..02K","New 40Ar/39Ar Ages for Savai'i Island","(Koppers, 2006, P. )","A. A","Koppers",2006,"Samoa","Koppers, A. A, 2006, New 40Ar/39Ar Ages for Savai'i Island, http://adsabs.harvard.edu/abs/2006AGUFM.V34B..02K"]
["None","None","Chapman And Hall Publishers","Radioactive and Stable Isotope Geology, P. 1-305","(Attendon, 1997, P. )","H. G.","Attendon",1997,"Samoa","Attendon, H. G., 1997, Radioactive and Stable Isotope Geology, P. 1-305, Chapman And Hall Publishers"]
["H10","C:\\Essays\\Geo_Dating\\Historic\\Historic_10.pdf","Journal Of Petrology, 44(3)491–515","Evolution Beneath the Sangeang Api Volcano","(Turner, 2003, P. )","Simon","Turner",2003,"Sangeang Api","Turner, Simon, 2003, Evolution Beneath the Sangeang Api Volcano, Journal Of Petrology, 44(3)491–515"]
["H36","C:\\Essays\\Geo_Dating\\Historic\\Historic_36.pdf","Chemical Geology 265:289-302","Isotopic variations in Ocean Island Basalts","(Millet, 2009, P. )","Marc-Alban","Millet",2009,"São Jorge Island","Millet, Marc-Alban, 2009, Isotopic variations in Ocean Island Basalts, Chemical Geology 265:289-302"]
["H20","C:\\Essays\\Geo_Dating\\Historic\\Historic_20.pdf","Lithos, 81:255-277","Glass-bearing crustal xenoliths","(Salvioli-Mariani, 2005, P. )","E.","Salvioli-Mariani",2005,"Stromboli","Salvioli-Mariani, E., 2005, Glass-bearing crustal xenoliths, Lithos, 81:255-277"]
["H21","C:\\Essays\\Geo_Dating\\Historic\\Historic_21.pdf","Journal Of Petrology, 48(12): 2407-2430","Study of Stromboli Volcano","(Tommasini, 2007, P. )","Simone","Tommasini",2007,"Stromboli","Tommasini, Simone, 2007, Study of Stromboli Volcano, Journal Of Petrology, 48(12): 2407-2430"]
["H41","C:\\Essays\\Geo_Dating\\Historic\\Historic_41.pdf","Contributions Mineralogy Petrology, 142:43-57","Element Variations in Sunda arc Lavas","(Turner, 2001, P. )","S.","Turner",2001,"Sunda Arc","Turner, S., 2001, Element Variations in Sunda arc Lavas, Contributions Mineralogy Petrology, 142:43-57"]
["H13","C:\\Essays\\Geo_Dating\\Historic\\Historic_13.pdf","Lithos 126 (2011) 198–211","A Toba-scale eruption in the Early Miocene","(Smyth, 2011, P. )","Helen R.","Smyth",2011,"Toba Miocene","Smyth, Helen R., 2011, A Toba-scale eruption in the Early Miocene, Lithos 126 (2011) 198–211"]
["H11","C:\\Essays\\Geo_Dating\\Historic\\Historic_11.pdf","Bulletin Volcanology, 69:259-263","40Ar/39Ar ages of the AD 79 eruption of Vesuvius","(Lanphere, 2007, P. )","Marvin","Lanphere",2007,"Vesuvius","Lanphere, Marvin, 2007, 40Ar/39Ar ages of the AD 79 eruption of Vesuvius, Bulletin Volcanology, 69:259-263"]
["H49","C:\\Essays\\Geo_Dating\\Historic\\Historic_49.pdf","Mineralogy and Petrology, 73:121-143","(Sr-Nd-Pb) of interplinian magmas","(Somma, 2001, P. )","R.","Somma",2001,"Vesuvius","Somma, R., 2001, (Sr-Nd-Pb) of interplinian magmas, Mineralogy and Petrology, 73:121-143"]
["H50","C:\\Essays\\Geo_Dating\\Historic\\Historic_50.pdf","Mineralogy and Petrology, 73:145-176","Skarns from Vesuvius","(Gilg, 2001, P. )","H. A.","Gilg",2001,"Vesuvius","Gilg, H. A., 2001, Skarns from Vesuvius, Mineralogy and Petrology, 73:145-176"]
["H19","C:\\Essays\\Geo_Dating\\Historic\\Historic_19.pdf","Volcanism in Hawaii, 26:723-744","Origin of the West Maui volcanic rocks","(Tatsumoto, 1987, P. )","Mitsunobu","Tatsumoto",1987,"West Maui","Tatsumoto, Mitsunobu, 1987, Origin of the West Maui volcanic rocks, Volcanism in Hawaii, 26:723-744"]
["H22","C:\\Essays\\Geo_Dating\\Historic\\Historic_22.pdf",null,null,"(, , P. )",null,null,null,null,", , , , "]

{"sheet":"Erupt","index":1,"n_rows":46,"n_cols":8,"rows_kept":46,"cut":false,"hidden":false,"merged":[]}
["Dated","Eruption","Age (Yr.)","Age (Ma)","Volcano","Reference","Age Ratio 106","Citation"]
[2005,2003,{"$f":"A2-B2","v":2},4970,"Anatahan","Wade",2485,{"$f":"\"(\" & F2 & \", \" & A2 & \")\"","v":"(Wade, 2005)"}]
[1996,1986,{"$f":"A3-B3","v":10},5076,"Augustine","Johnson",507,{"$f":"\"(\" & F3 & \", \" & A3 & \")\"","v":"(Johnson, 1996)"}]
[2005,1949,56,4920,"Canary Islands","Galipp",87,"(Galipp, 2005)"]
[1998,1949,49,5001,"Canary Islands","Hoernle",100,"(Hoernle, 1998)"]
[2011,1877,134,4966,"Cotopaxi","Garrison",37,"(Garrison, 2011)"]
[1997,1984,13,9,"Erebus","Esser",1,"(Esser, 1997)"]
[2006,2000,6,4935,"Erebus","Sims",823,"(Sims, 2006)"]
[2008,2004,4,4894,"Erebus","Sims",1224,"(Sims, 2008)"]
[1968,1800,168,3300,"Hualalai","Funkhouser",20,"(Funkhouser, 1968)"]
[2004,1906,98,4963,"Kanaga","Jicha",183,"(Jicha, 2004)"]
[2013,1983,30,4991,"Kilauea","Greene",166,"(Greene, 2013)"]
[2008,1998,10,4991,"Kilauea","Marske",499,"(Marske, 2008)"]
[1999,1790,209,4981,"Kilauea","Pietruszka",24,"(Pietruszka, 1999)"]
[1996,1996,0.1666,4997,"Loihi","Garcia",30000,"(Garcia, 1996)"]
[2006,1800,206,4986,"Mayon","DuFrane",24,"(DuFrane, 2006)"]
[2003,1872,131,4986,"Merapi","Gertisser",38,"(Gertisser, 2003)"]
[2000,1949,51,4974,"Ngauruhoe","Snelling",98,"(Snelling, 2000)"]
[2012,1912,100,4967,"Novarupta","Hildreth",50,"(Hildreth, 2012)"]
[2003,1912,91,4967,"Novarupta","Reagan",55,"(Reagan, 2003)"]
[1999,1991,8,5000,"Pinatubo","Bernard",625,"(Bernard, 1999)"]
[1999,1991,8,5000,"Pinatubo","Castillo",625,"(Castillo, 1999)"]
[2006,1991,15,5000,"Pinatubo","DuFrane",333,"(DuFrane, 2006)"]
[2003,1958,45,4969,"Sangeang Api","Turner",110,"(Turner, 2003)"]
[2004,1906,98,4970,"Seguam","Jicha",51,"(Jicha, 2004)"]
[2005,1944,61,4965,"Stromboli","Salvioli",81,"(Salvioli, 2005)"]
[2006,1600,406,4990,"Taal","DuFrane",12,"(DuFrane, 2006)"]
[2008,1945,63,4963,"Réunion Island","Bosch",79,"(Bosch, 2008)"]
[2009,1808,201,4899,"São Jorge Island","Millet",49,"(Millet, 2009)"]
[2003,2001,2,5045.1166301957974,"Masaya Volcano","Vallelonga",50,"(Vallelonga, 2003)"]
[2014,2010,4,5004.5089224288022,"Bezymianny ","Kayzar",1251.1272306072005,"(Kayzar, 2014)"]
[2014,2007,7,5001.1908103664882,"Klyuchevskoy","Kayzar",714,"(Kayzar, 2014)"]
[2014,2007,7,4996.9177077405539,"Shiveluch","Kayzar",714,"(Kayzar, 2014)"]
[2014,2008,6,4996.7719117827537,"Karymsky","Kayzar",832,"(Kayzar, 2014)"]
[2001,1883,118,4991,"Krakatau","Turner",42,"(Turner, 2001)"]
[2001,1982,19,4983,"Galunggung","Turner",262,"(Turner, 2001)"]
[2001,1006,995,4984,"Merapi","Turner",5,"(Turner, 2001)"]
[2001,1900,101,4985,"Rindjani","Turner",49,"(Turner, 2001)"]
[2001,1815,186,4967,"Tambora","Turner",27,"(Turner, 2001)"]
[2001,1985,16,4970,"Sangeang Api","Turner",311,"(Turner, 2001)"]
[2001,1900,101,4975,"Ayi Flores","Turner",49,"(Turner, 2001)"]
[2009,1530,479,4962,"Guadeloupe","DuFrane",10.359081419624218,"(DuFrane, 2009)"]
[2009,1995,14,4979,"Montserrat","DuFrane",355.64285714285717,"(DuFrane, 2009)"]
[2009,2007,2,4965.3418855408981,"Réunion island","Vlastélic",2482.6709427704491,"(Vlastélic, 2009)"]
[2001,79,1922,4960.0434132406799,"Mount Vesuvius","Somma",2.5,"(Somma, 2001)"]
[2001,79,1922,4960.0434132406799,"Mount Vesuvius","Gilg",2.5,"(Gilg, 2001)"]

{"sheet":"Active","index":2,"n_rows":52,"n_cols":7,"rows_kept":52,"cut":false,"hidden":false,"merged":[]}
["Active Volcano Order","Location",null,null,"Active Volcano","Location Order","Spreadsheet"]
["Avachinsky-Koryaksky","Russia",null,null,"Barren Island"," India"]
["Cerro Azul","Chile",null,null,"Mount Erebus","Antarctica","14, 15, 16"]
["Colima","Mexico",null,null,"LaPalma","Canary Islands","29,30"]
["Chimborazo","Ecuador",null,null,"Cha","Cape Verde"]
["Cotopaxi","Ecuador",null,null,"Cerro Azul","Chile"]
["Galeras","Colombia",null,null,"Galeras","Colombia"]
["Glacier Peak","US (Washington)",null,null,"Nevado del Ruiz","Colombia"]
["Haleakala","US (Hawaii)",null,null,"Irazu","Costa Rica"]
["Irazu","Costa Rica",null,null,"Niragongo","Republic of the Congo"]
["Kelut","Indonesia",null,null,"Chimborazo","Ecuador"]
["Mount Kilauea","US (Hawaii)",null,null,"Cotopaxi","Ecuador",28]
["Krakatoa","Indonesia",null,null,"Santorini","Greece"]
["Lō'ihi Seamount","US (Hawaii)",null,null,"Pacaya","Guatemala"]
["Mount Adams","US (Washington)",null,null,"Lakagigar","Iceland"]
["Mount Baker","US (Washington)",null,null,"Kelut","Indonesia"]
["Mount Fuji","Japan",null,null,"Krakatoa","Indonesia"]
["Mount Hood","US (Oregon)",null,null,"Mount Merapi","Indonesia",31]
["Mount Lassen","US (California)",null,null,"Mount Slamet","Indonesia"]
["Mount Mayon","Philippines",null,null,"Sinabung","Indonesia"]
["Mount Merapi","Indonesia",null,null,"Tambora","Indonesia"]
["Mount Olympus","US (Washington)",null,null,"Mount Etna","Italy"]
["Mount Pinatubo","Philippines",null,null,"Stromboli","Italy"]
["Mount Rainier","US (Washington)",null,null,"Vesuvius","Italy"]
["Mount Slamet","Indonesia",null,null,"Mount Fuji","Japan"]
["Mount St Helens","US Washington",null,null,"Sakurajima","Japan"]
["Mauna Kea","US (Hawaii)",null,null,"Mount Unzen","Japan"]
["Mauna Hualalai","US (Hawaii)",null,null,"Colima","Mexico"]
["Mauna Loa","US (Hawaii)",null,null,"Parícutin","Mexico"]
["Nevado del Ruiz","Colombia",null,null,"Popocatepetl","Mexico"]
["Pacaya","Guatemala",null,null,"Soufrière Hills","Montserrat"]
["Parícutin","Mexico",null,null,"Ulawun","Papua New Guinea"]
["Popocatepetl","Mexico",null,null,"Mount Mayon","Philippines",12]
["Redoubt","US (Alaska)",null,null,"Mount Pinatubo","Philippines","6, 12"]
["Sakurajima","Japan",null,null,"Taal","Philippines",12]
["Sinabung","Indonesia",null,null,"Avachinsky-Koryaksky","Russia"]
["Taal","Philippines",null,null,"Teide","Spain (Canary Islands)"]
["Tambora","Indonesia",null,null,"Redoubt","US (Alaska)",1]
["Ulawun","Papua New Guinea",null,null,"Mount Lassen","US (California)"]
["Mount Unzen","Japan",null,null,"Haleakala","US (Hawaii)"]
["Lakagigar","Iceland",null,null,"Mount Kilauea","US (Hawaii)","3, 4, 9"]
["LaPalma","Canary Islands",null,null,"Lō'ihi Seamount","US (Hawaii)",2]
["Mount Erebus","Antarctica",null,null,"Mauna Kea","US (Hawaii)"]
["Mount Etna","Italy",null,null,"Mauna Hualalai","US (Hawaii)"]
["Niragongo","Democratic Republic of the Congo",null,null,"Mauna Loa","US (Hawaii)",7]
["Santorini","Greece",null,null,"Mount Hood","US (Oregon)"]
["Soufrière Hills","Montserrat",null,null,"Glacier Peak","US (Washington)"]
["Stromboli","Italy",null,null,"Mount Adams","US (Washington)"]
["Teide","Spain (Canary Islands)",null,null,"Mount Baker","US (Washington)"]
["Vesuvius","Italy",null,null,"Mount Olympus","US (Washington)"]
["Barren Island"," India",null,null,"Mount Rainier","US (Washington)"]
["Cha","Cape Verde",null,null,"Mount St Helens","US Washington"]

{"sheet":"H25","index":3,"n_rows":56,"n_cols":23,"rows_kept":56,"cut":false,"hidden":false,"merged":[]}
["Table 5",null,null,null,null,null,null,null,null,null,null,null,null,null,null,null,null,4968.5554657504299]
["Lavas/domes","Year","Structure","87Sr/86Sr","143Nd/144Nd","E.Nd","206Pb/204Pb","207Pb/204Pb","208Pb/204Pb","(SMOW)","207Pb/206Pb","Age",null,"Year","Pb Age (Ma)","True Age","Age Ratio 106",4968.964625830672]
["86AU9/11",1986,"Dome",0.70340000000000003,null,null,18.824000000000002,15.563000000000001,38.334000000000003,null,{"$f":"H3/G3","v":0.82676370590735226},{"$f":"[1]!AgePb76(K3)","v":4968.5554657504299},null,1812,4973.5779844073504,{"$f":"1996-N3","v":184},{"$f":"O3/P3","v":27.030315132648642},4969.4650851029219]
["86AU9/11",1986,"Dome",null,null,null,18.795000000000002,16.661000000000001,38.308999999999997,null,{"$f":"H4/G4","v":0.88645916467145514},{"$f":"[1]!AgePb76(K4)","v":5067.4265642935452},null,null,4973.4265040020073,184,{"$f":"O4/P4","v":27.029491869576127},4971.703892094084]
["86AU16",1986,"Dome",0.70340000000000003,null,null,18.818000000000001,15.568,38.337000000000003,6.5,0.82729301732383875,{"$f":"[1]!AgePb76(K5)","v":4969.4650851029219},null,null,4983.6793544583197,184,27.08521388292565,4971.8685420833763]
["86AMM5",1986,"Dome",0.70340000000000003,null,null,18.795999999999999,16.661999999999999,38.302,6.5,0.88646520536284312,{"$f":"[1]!AgePb76(K6)","v":5067.4362077288561},null,null,4973.9374627642483,184,27.032268819370916,4972.0720598284524]
["84AU19",1976,"Dome",0.70340000000000003,0.5131,8.1,18.763000000000002,15.551,38.256999999999998,6.4,0.82881202366359319,{"$f":"[1]!AgePb76(K7)","v":4972.0720598284524},null,null,5076.1769697970167,184,27.587918314114223,4973.4265040020073]
["84AU3",1964,"Dome",0.70340000000000003,0.5131,8.6,18.821000000000002,15.565,38.344999999999999,6.1,0.82700175336060777,{"$f":"[1]!AgePb76(K8)","v":4968.964625830672},null,1883,4975.2143492804289,{"$f":"1996-N8","v":113},44.02844556885335,4973.5779844073504]
["84AU5",1935,"Dome",0.70330000000000004,0.5131,8.6999999999999993,18.757000000000001,15.542,38.279000000000003,null,0.82859732366583139,{"$f":"[1]!AgePb76(K9)","v":4971.703892094084},null,null,4980.4712288555575,113,44.074966627040332,4973.9374627642483]
["75AU22",1883,"Lava",0.70320000000000005,null,null,18.736000000000001,15.563000000000001,38.261000000000003,6.1,0.83064688300597778,{"$f":"[1]!AgePb76(K10)","v":4975.2143492804289},null,1935,4971.703892094084,61,81.503342493345642,4975.2143492804289]
["84AU101",1883,"Lava",0.70330000000000004,0.5131,8.1999999999999993,18.667999999999999,15.564,38.216999999999999,6,0.83372616241697028,{"$f":"[1]!AgePb76(K11)","v":4980.4712288555575},null,1964,4968.964625830672,32,155.2801445572085,4976.289567598752]
["84AU26",1812,"Lava",0.70340000000000003,0.51300000000000001,7.5,18.760000000000002,15.565,38.298999999999999,5.8,0.82969083155650314,{"$f":"[1]!AgePb76(K12)","v":4973.5779844073504},null,null,4976.289567598752,32,155.509048987461,4980.4712288555575]
["78A7",1812,"Lava",0.70340000000000003,null,null,18.762,15.565,38.284999999999997,null,0.82960238780513795,{"$f":"[1]!AgePb76(K13)","v":4973.4265040020073},null,null,4983.4579973296222,32,155.73306241655069,4983.4579973296222]
["75AU4",1812,"Dome H",0.70330000000000004,null,null,18.73,15.651,38.216000000000001,6,0.83561131873998928,{"$f":"[1]!AgePb76(K14)","v":4983.6793544583197},null,1976,4972.0720598284524,20,248.60360299142263,4983.6793544583197]
["75AU5",1812,"Dome H",0.70330000000000004,null,null,18.742000000000001,15.554,38.238999999999997,null,0.8299007576566001,{"$f":"[1]!AgePb76(K15)","v":4973.9374627642483},null,null,4971.8685420833763,20,248.59342710416882,5067.4265642935452]
["84AU112",1812,"Basah",0.70320000000000005,0.51300000000000001,7.3,18.678000000000001,16.66,38.265000000000001,6.1,0.89195845379590954,{"$f":"[1]!AgePb76(K16)","v":5076.1769697970167},null,1986,4968.5554657504299,10,496.85554657504298,5067.4362077288561]
["76AU5",1976,"Basal Ash",0.70330000000000004,0.5131,8.1,18.75,15.538,36.213000000000001,7.4,0.82869333333333339,{"$f":"[1]!AgePb76(K17)","v":4971.8685420833763},null,null,5067.4265642935452,10,506.7426564293545,5076.1769697970167]
["75AU16(host)",1964,"Pumice Block",0.70340000000000003,null,null,18.710999999999999,15.554,38.213999999999999,6.7,0.83127572016460916,{"$f":"[1]!AgePb76(K18)","v":4976.289567598752},null,null,4969.4650851029219,10,496.94650851029218]
["75AU16(host)",1964,"Inclusion",0.70330000000000004,null,null,18.623999999999999,15.56,38.182000000000002,null,0.83548109965635742,{"$f":"[1]!AgePb76(K19)","v":4983.4579973296222},null,null,5067.4362077288561,10,506.74362077288561]
["78A10","Age unknown",null,0.70340000000000003,null,null,18.669,15.542999999999999,38.176000000000002,6.9,0.83255664470512614,{"$f":"[1]!AgePb76(K20)","v":4978.4770873514699},null,"Age unknown",4978.4770873514699]
["75AU11","Age unknown",null,0.70330000000000004,null,null,18.788,15.547000000000001,38.249000000000002,6.6,0.82749627421758576,{"$f":"[1]!AgePb76(K21)","v":4969.8142168079603},null,"Age unknown",4969.8142168079603]
["75AU26","Age unknown",null,0.70330000000000004,null,null,18.765999999999998,15.568,38.244,7.1,0.82958542044122352,{"$f":"[1]!AgePb76(K22)","v":4973.3974414998211},null,"Age unknown",4973.3974414998211]
["78A10","Age unknown",null,0.70340000000000003,null,null,18.669,15.542999999999999,38.176000000000002,null,0.83255664470512614,{"$f":"[1]!AgePb76(K23)","v":4978.4770873514699},null,"Age unknown",4978.4770873514699]
["75AU11","Age unknown",null,0.70330000000000004,null,null,18.788,15.547000000000001,38.249000000000002,null,0.82749627421758576,{"$f":"[1]!AgePb76(K24)","v":4969.8142168079603},null,"Age unknown",4969.8142168079603]
["75AU26","Age unknown",null,0.70330000000000004,null,null,18.765999999999998,15.568,38.244,null,0.82958542044122352,{"$f":"[1]!AgePb76(K25)","v":4973.3974414998211},null,"Age unknown",4973.3974414998211]
[]
[]
[]
["Table 7"]
[null,"Lower Value","Upper Value","Lower Value","Upper Value","Lower Value","Upper Value","Lower Value","Upper Value","Lower Value","Upper Value","Lower Value","Upper Value","Upper Value","Lower Value","Upper Value","Lower Value","Upper Value","Lower Value","Upper Value","Lower Value","Upper Value","Lower Value"]
["Location","K/Rb","K/Rb","Cs/Rb","Cs/Rb","Rb/Zr","Rb/Zr","(Ba/La)N","(Ba/La)N","(La/Yb)N","(La/Yb)N","87Sr/86Sr","87Sr/86Sr","206Pb/204Pb","206Pb/204Pb","207Pb/204pb","207Pb/204pb","208Pb/204Pb","208Pb/204Pb","18O","18O","E.Nd","E.Nd"]
["Mount Spurr",null,360,781,null,null,0.24,0.3,null,null,null,0.70350000000000001,0.70399999999999996,18.733000000000001,18.960999999999999,15.565,15.624000000000001,38.497999999999998,38.676000000000002,6.3,7.8]
["Augustine",372,663,1.6E-2,2.4E-2,0.14000000000000001,0.35,0.79,18.100000000000001,2.2999999999999998,3.23,0.70320000000000005,0.70340000000000003,18.623999999999999,18.821000000000002,15.538,15.568,38.174999999999997,38.345999999999997,5.7,7.1,7.3,8.6999999999999993]
["Okmok",486,681,7.0000000000000001E-3,0.107,0.106,0.192,1.66,2.17,1.81,3.52,0.70309999999999995,0.7036,18.707000000000001,18.981000000000002,15.555,15.593,38.17,38.665999999999997,6.3,6.6,7.4,8.3000000000000007]
["Akutan",null,null,1.0999999999999999E-2,0.17,0.08,0.27,2.88,4.8600000000000003,2.1800000000000002,4.29,0.70309999999999995,0.70320000000000005,18.817,18.834,15.548999999999999,15.661,38.298000000000002]
["Seguam",351,1328,null,null,2.4E-2,2.5,2.2200000000000002,3.43,1.34,2.86,0.70379999999999998,0.70369999999999999,18.881,18.923999999999999,15.583,15.622,38.466999999999999,38.662999999999997,null,null,5.9,7]
["Sediments",250,502,1.2999999999999999E-2,0.08,0.37,3.02,0.37,3.02,4.93,15.51,0.70660000000000001,0.70679999999999998,18.934000000000001,18.943999999999999,15.605,15.622999999999999,38.631,38.659999999999997,null,null,1.1000000000000001,2.2000000000000002]
[]
[]
["Upper Value","Lower Value","Upper Value","Lower Value","Lower Value","Upper Value","Lower Value","Upper Value"]
["206Pb/204Pb","206Pb/204Pb","207Pb/204pb","207Pb/204pb","207Pb/206Pb","207Pb/206Pb","Pb Age (Ma)","Pb Age (Ma)"]
[18.733000000000001,18.960999999999999,15.565,15.624000000000001,{"$f":"D42/B42","v":0.82400717261747802},{"$f":"C42/A42","v":0.83088667058132704},{"$f":"[1]!AgePb76(E42)","v":4963.8083467775268},{"$f":"[1]!AgePb76(F42)","v":4975.6244525014572}]
[18.623999999999999,18.821000000000002,15.538,15.568,{"$f":"D43/B43","v":0.8271611497795015},{"$f":"C43/A43","v":0.83429982817869419},{"$f":"[1]!AgePb76(E43)","v":4969.2385291793225},{"$f":"[1]!AgePb76(F43)","v":4981.4482983707267}]
[18.707000000000001,18.981000000000002,15.555,15.593,0.8215057162425583,0.8315069225423638,{"$f":"[1]!AgePb76(E44)","v":4959.4858701282847},{"$f":"[1]!AgePb76(F44)","v":4976.6846720614567}]
[18.817,18.834,15.548999999999999,15.661,0.83152808750132734,0.82632725726736456,{"$f":"[1]!AgePb76(E45)","v":4976.7208352751932},{"$f":"[1]!AgePb76(F45)","v":4967.804964894578}]
[18.881,18.923999999999999,15.583,15.622,0.82551257662227862,0.82532704835548965,{"$f":"[1]!AgePb76(E46)","v":4966.4029423163838},{"$f":"[1]!AgePb76(F46)","v":4966.0834523022122}]
[18.934000000000001,18.943999999999999,15.605,15.622999999999999,0.82469383445945943,0.82417872610119358,{"$f":"[1]!AgePb76(E47)","v":4964.9924474387808},{"$f":"[1]!AgePb76(F47)","v":4964.1042771189977}]
[]
[null,null,null,null,"Table 7","Volcano","Lower Value","Upper Value"]
[null,null,null,null,null,"Location","Pb Age (Ma)","Pb Age (Ma)"]
[null,null,null,null,null,"Mount Spurr",4963.8083467775268,4975.6244525014572]
[null,null,null,null,null,"Augustine",4969.2385291793225,4981.4482983707267]
[null,null,null,null,null,"Okmok",4959.4858701282847,4976.6846720614567]
[null,null,null,null,null,"Akutan",4976.7208352751932,4967.804964894578]
[null,null,null,null,null,"Seguam",4966.4029423163838,4966.0834523022122]
[null,null,null,null,null,"Sediments",4964.9924474387808,4964.1042771189977]

{"sheet":"H26","index":4,"n_rows":5,"n_cols":6,"rows_kept":5,"cut":false,"hidden":false,"merged":[]}
[]
["206Pb/204Pb","207Pb/204Pb","207Pb/206Pb","Pb Age (Ma)","Year Erupted","Year Dated"]
[18.850000000000001,15.57,{"$f":"B3/A3","v":0.82599469496021216},{"$f":"[1]!AgePb76(C3)","v":4967.2328201978216},1912,2012]
[18.88,15.57,{"$f":"B4/A4","v":0.82468220338983056},{"$f":"[1]!AgePb76(C4)","v":4964.9723991944529}]
[18.88,15.58,{"$f":"B5/A5","v":0.82521186440677974},{"$f":"[1]!AgePb76(C5)","v":4965.885060707963}]

{"sheet":"H27","index":5,"n_rows":84,"n_cols":20,"rows_kept":84,"cut":false,"hidden":false,"merged":[]}
["Table 3"]
["Medicine Lake","206Pb/204Pb","207Pb/204Pb","207Pb/206Pb ","Age"]
["1545m",19.014600000000002,15.6136,{"$f":"(C3/B3)","v":0.82113744175528269},{"$f":"[1]!AgePb76(D3)","v":4958.8483161776248}]
["1139ma",19.0001,15.611700000000001,{"$f":"(C4/B4)","v":0.82166409650475525},{"$f":"[1]!AgePb76(D4)","v":4959.7599633789905}]
["1543m",19.008400000000002,15.612399999999999,0.82134214347341161,{"$f":"[1]!AgePb76(D5)","v":4959.2027317308557}]
["1331m",18.901900000000001,15.606,0.8256312857437611,{"$f":"[1]!AgePb76(D6)","v":4966.60732599733}]
["733m",18.904599999999999,15.6044,0.8254287316314548,{"$f":"[1]!AgePb76(D7)","v":4966.2585660237992}]
["Novaraupta"]
["K90Rhy",18.851099999999999,15.5732,{"$f":"(C9/B9)","v":0.82611624785821525},{"$f":"[1]!AgePb76(D9)","v":4967.4419698391102}]
["K90Dac",18.880199999999999,15.569100000000001,0.82462579845552497,{"$f":"[1]!AgePb76(D10)","v":4964.8751708628733}]
["Crater Lake"]
[1533,18.929099999999998,15.598100000000001,{"$f":"(C12/B12)","v":0.82402755545694206},{"$f":"[1]!AgePb76(D12)","v":4963.8435106733086}]
[1532,18.887599999999999,15.585000000000001,0.82514453927444464,{"$f":"[1]!AgePb76(D13)","v":4965.7690869920916}]
[1534,18.836099999999998,15.593500000000001,0.82785183769463966,{"$f":"[1]!AgePb76(D14)","v":4970.4247443882423}]
[]
[]
[]
["Location","Sample","True Age","Pb Age (Ma)","Error Ratio 106","Year Erupted","Year Dated"]
["Medicine Lake","1545m",91,4958.8483161776248,{"$f":"D19/91","v":54.492838639314556},1912,2003]
[null,"1139ma",91,4959.7599633789905,{"$f":"D20/91","v":54.50285674042847},1912,2003]
[null,"1543m",91,4959.2027317308557,54.496733315723688,1912,2003]
[null,"1331m",91,4966.60732599733,54.578102483487143,1912,2003]
[null,"733m",91,4966.2585660237992,54.574269956305486,1912,2003]
["Novaraupta","K90Rhy",91,4967.4419698391102,54.587274393836374,1912,2003]
[null,"K90Dac",91,4964.8751708628733,54.559067811679924,1912,2003]
["Crater Lake",1533,91,4963.8435106733086,54.547730886519872,1912,2003]
[null,1532,91,4965.7690869920916,54.568891065847161,1912,2003]
[null,1534,91,4970.4247443882423,54.620052136134532,1912,2003]
[]
[null,null,null,null,null,null,null,null,null,null,null,null,null,null,{"$f":"[1]!Th230Age(A3, B3)","v":{"$error":"#VALUE!"}}]
[null,null,null,null,null,null,null,null,null,null,null,null,null,null,"A3=230Th/238U"]
[null,null,null,null,null,null,null,null,null,null,null,null,null,null,"B3=234U/238U"]
["Table 2"]
["Sample",null,null,null,null,null,null,null,null,null,null,null,null,null,null,null,"Location","True Age","Th Age (Ka)","Error Ratio"]
["Novarupta","238U/232Th","Error","230Th/232Th","Error","238U/230Th","Error","234U/238U","Error","Th(ppm)","Error","U(ppm)","Error","230Th/238U","Age (Ka)",null,"Novarupta",91,814.39,{"$f":"(S35*1000)/91","v":8949.3406593406598}]
["K90And",1.3779999999999999,7.0000000000000001E-3,1.3819999999999999,1.0999999999999999E-2,0.997,8.9999999999999993E-3,0.99399999999999999,7.0000000000000001E-3,3.3610000000000002,5.0000000000000001E-3,1.5189999999999999,1.2999999999999999E-2,{"$f":"1/F36","v":1.0030090270812437},{"$f":"[1]!Th230Age(N36, H36)","v":0},null,null,91,349.71,{"$f":"(S36*1000)/91","v":3842.967032967033}]
["K90And",1.3740000000000001,6.0000000000000001E-3,1.385,1.4999999999999999E-2,0.99199999999999999,1.0999999999999999E-2,1.006,2E-3,3.2989999999999999,0.01,1.484,4.0000000000000001E-3,{"$f":"1/F37","v":1.0080645161290323},{"$f":"[1]!Th230Age(N37, H37)","v":814.38561696260649},null,null,91,795.39,8740.5494505494498]
["K90And",1.341,6.0000000000000001E-3,1.3919999999999999,1.2E-2,0.96299999999999997,6.0000000000000001E-3,1.002,4.0000000000000001E-3,0.19,1E-3,8.3099999999999993E-2,2.0000000000000001E-4,1.0384215991692627,{"$f":"[1]!Th230Age(N38, H38)","v":0},null,null,91,480.78,5283.2967032967035]
["K90And",1.44,1.2999999999999999E-2,1.4,1.0999999999999999E-2,1.028,1.0999999999999999E-2,1.01,6.0000000000000001E-3,0.95899999999999996,1E-3,0.45500000000000002,4.0000000000000001E-3,0.97276264591439687,{"$f":"[1]!Th230Age(N39, H39)","v":349.70738163735092},null,null,91,342.53,3764.065934065934]
["K90Dac",1.413,8.9999999999999993E-3,1.407,1.2999999999999999E-2,1.0049999999999999,2E-3,0.997,2E-3,3.1070000000000002,1.7999999999999999E-2,1.4370000000000001,3.0000000000000001E-3,0.99502487562189068,{"$f":"[1]!Th230Age(N40, H40)","v":795.39359663502944},null,null,91,318.66000000000003,3501.7582417582416]
["K90Dac",1.429,4.0000000000000001E-3,1.4019999999999999,1.7999999999999999E-2,1.0149999999999999,1.2999999999999999E-2,0.998,4.0000000000000001E-3,3.008,6.0000000000000001E-3,1.4059999999999999,3.0000000000000001E-3,0.98522167487684742,{"$f":"[1]!Th230Age(N41, H41)","v":480.78313896343104},null,null,91,390.35,4289.5604395604396]
["K90Dac",1.486,7.0000000000000001E-3,1.417,1.0999999999999999E-2,1.0489999999999999,7.0000000000000001E-3,0.997,3.0000000000000001E-3,0.41899999999999998,2E-3,0.20499999999999999,1E-3,0.95328884652049573,{"$f":"[1]!Th230Age(N42, H42)","v":342.53440396871633},null,null,91,426.55,4687.3626373626375]
["K90Dac",1.506,1.2E-2,1.427,2.5000000000000001E-2,1.0549999999999999,1.2999999999999999E-2,1.0009999999999999,5.0000000000000001E-3,0.41899999999999998,2E-3,0.20699999999999999,1E-3,0.94786729857819907,{"$f":"[1]!Th230Age(N43, H43)","v":318.66162825410521},null,"Crater Lake",91,{"$f":"[1]!Th230Age(N60, H60)","v":284.82798776157836},3129.977887489872]
["K90Dac",1.4219999999999999,8.9999999999999993E-3,1.385,0.02,1.0269999999999999,1.2999999999999999E-2,1.0009999999999999,5.0000000000000001E-3,0.433,3.0000000000000001E-3,0.20300000000000001,1E-3,0.97370983446932824,{"$f":"[1]!Th230Age(N44, H44)","v":390.35341533807951},null,null,91,{"$f":"[1]!Th230Age(N61, H61)","v":330.72015198202411},3634.2873844178471]
["K-851",1.3009999999999999,6.0000000000000001E-3,1.361,8.9999999999999993E-3,0.95599999999999996,7.0000000000000001E-3,1,3.0000000000000001E-3,1.7989999999999999,5.0000000000000001E-3,0.77100000000000002,3.0000000000000001E-3,1.0460251046025104,{"$f":"[1]!Th230Age(N45, H45)","v":0},null,null,91,{"$f":"[1]!Th230Age(N62, H62)","v":317.96631131629078},3494.1352891900087]
["K90Rhy",1.4219999999999999,7.0000000000000001E-3,1.44,7.0000000000000001E-3,0.98699999999999999,6.0000000000000001E-3,1,4.0000000000000001E-3,5.3819999999999997,1.2E-2,2.5209999999999999,0.01,1.0131712259371835,{"$f":"[1]!Th230Age(N46, H46)","v":0},null,null,91,{"$f":"[1]!Th230Age(N63, H63)","v":272.78918148565708},2997.6833130291984]
["K90Nov",1.43,6.0000000000000001E-3,1.4430000000000001,1.0999999999999999E-2,0.99099999999999999,8.0000000000000002E-3,1,5.0000000000000001E-3,5.3680000000000003,1.2E-2,2.524,8.9999999999999993E-3,1.0090817356205852,{"$f":"[1]!Th230Age(N47, H47)","v":0},null,null,91,{"$f":"[1]!Th230Age(N64, H64)","v":470.51918636950097},5170.5405095549559]
["K-2043",1.3839999999999999,6.0000000000000001E-3,1.423,1.0999999999999999E-2,0.97299999999999998,8.0000000000000002E-3,0.99299999999999999,7.0000000000000001E-3,3.3050000000000002,1.9E-2,1.4690000000000001,6.0000000000000001E-3,1.0277492291880781,{"$f":"[1]!Th230Age(N48, H48)","v":0},null,null,91,{"$f":"[1]!Th230Age(N65, H65)","v":458.03006625520652},5033.2974313758959]
["K90TR",1.4119999999999999,5.0000000000000001E-3,1.391,1.4999999999999999E-2,1.016,0.01,1.0029999999999999,3.0000000000000001E-3,2.6280000000000001,6.0000000000000001E-3,1.2030000000000001,2E-3,0.98425196850393704,{"$f":"[1]!Th230Age(N49, H49)","v":426.54959183158115},null,"Medicine Lake",91,379.97,4175.4945054945056]
["K90CB",1.3169999999999999,7.0000000000000001E-3,1.373,1.0999999999999999E-2,0.95899999999999996,8.9999999999999993E-3,1E-3,5.0000000000000001E-3,2.4849999999999999,6.0000000000000001E-3,1.071,5.0000000000000001E-3,1.0427528675703859,{"$f":"[1]!Th230Age(N50, H50)","v":0},null,null,91,359.16,3946.8131868131868]
["K90FM",1.3660000000000001,6.0000000000000001E-3,1.3879999999999999,1.9E-2,0.98399999999999999,1.4E-2,1.002,4.0000000000000001E-3,2.25,5.0000000000000001E-3,1.006,4.0000000000000001E-3,1.0162601626016261,{"$f":"[1]!Th230Age(N51, H51)","v":0},null,null,91,333.29,3662.5274725274726]
["K90FM",1.3640000000000001,0.01,1.391,1.7000000000000001E-2,0.98099999999999998,6.0000000000000001E-3,0.998,2E-3,2.4129999999999998,0.02,1.085,3.0000000000000001E-3,1.019367991845056,{"$f":"[1]!Th230Age(N52, H52)","v":0},null,null,91,406.43,4466.2637362637361]
[null,null,null,null,null,null,null,null,null,null,null,null,null,null,null,null,null,91,528.32000000000005,5805.7142857142853]
["Crater Lake",null,null,null,null,"238U/230Th","Error","234U/238U",null,null,null,null,null,null,null,null,null,91,676.07,7429.3406593406589]
["88c:1534-wr",1.167,1.2E-2,1.3120000000000001,1.0999999999999999E-2,0.89,8.0000000000000002E-3,1.0029999999999999,2E-3,2.077,1.4999999999999999E-2,0.79900000000000004,6.0000000000000001E-3,1.1235955056179776,{"$f":"[1]!Th230Age(N55, H55)","v":0},null,null,91,562.22,6178.2417582417584]
["88c:1534-mag3",1.1990000000000001,1.2E-2,1.294,8.0000000000000002E-3,0.92600000000000005,1.0999999999999999E-2,1.0069999999999999,6.0000000000000001E-3,0.84699999999999998,5.0000000000000001E-3,0.33200000000000002,2E-3,1.079913606911447,{"$f":"[1]!Th230Age(N56, H56)","v":0},null,null,91,662.17,7276.5934065934061]
["88c:1534-gl",1.111,8.9999999999999993E-3,1.306,2.1000000000000001E-2,0.85099999999999998,1.2999999999999999E-2,0.998,2E-3,4.09,0.03,1.488,4.0000000000000001E-3,1.1750881316098707,{"$f":"[1]!Th230Age(N57, H57)","v":0}]
["88c:1534-hblp",1.0980000000000001,7.0000000000000001E-3,1.284,1.7000000000000001E-2,0.85599999999999998,1.0999999999999999E-2,0.995,5.0000000000000001E-3,0.379,3.0000000000000001E-3,0.13600000000000001,1E-3,1.1682242990654206,{"$f":"[1]!Th230Age(N58, H58)","v":0}]
["88c:1534-hblp",1.0640000000000001,1.4999999999999999E-2,1.292,2.1000000000000001E-2,0.82399999999999995,6.0000000000000001E-3,0.998,4.0000000000000001E-3,0.36499999999999999,5.0000000000000001E-3,0.128,1E-3,1.2135922330097089,{"$f":"[1]!Th230Age(N59, H59)","v":0}]
["88c:1532",1.5569999999999999,1.4999999999999999E-2,1.4510000000000001,1.7000000000000001E-2,1.073,1.7000000000000001E-2,1.004,1.4999999999999999E-2,1.012,4.0000000000000001E-3,0.51900000000000002,5.0000000000000001E-3,0.93196644920782856,{"$f":"[1]!Th230Age(N60, H60)","v":284.82798776157836}]
["88c:1532",1.482,8.9999999999999993E-3,1.417,1.2999999999999999E-2,1.046,1.0999999999999999E-2,1.0029999999999999,1.2E-2,0.27400000000000002,1E-3,0.13300000000000001,1E-3,0.95602294455066916,{"$f":"[1]!Th230Age(N61, H61)","v":330.72015198202411}]
["88c:1532",1.5169999999999999,1.0999999999999999E-2,1.43,4.3999999999999997E-2,1.0609999999999999,3.3000000000000002E-2,0.997,1.2E-2,3.1300000000000001E-2,2.0000000000000001E-4,3.1300000000000001E-2,2.0000000000000001E-4,0.94250706880301605,{"$f":"[1]!Th230Age(N62, H62)","v":317.96631131629078}]
["88c:1532",1.5760000000000001,6.0000000000000001E-3,1.4550000000000001,8.9999999999999993E-3,1.083,7.0000000000000001E-3,1.004,2E-3,2.4630000000000001,6.0000000000000001E-3,1.27,4.0000000000000001E-3,0.92336103416435833,{"$f":"[1]!Th230Age(N63, H63)","v":272.78918148565708}]
["88c:1533",1.3740000000000001,0.01,1.3680000000000001,1.0999999999999999E-2,1.0049999999999999,8.9999999999999993E-3,1.006,6.0000000000000001E-3,4.8780000000000001,1.2999999999999999E-2,2.1930000000000001,1.4E-2,0.99502487562189068,{"$f":"[1]!Th230Age(N64, H64)","v":470.51918636950097}]
["88c:1533",1.4850000000000001,8.9999999999999993E-3,1.448,1.7000000000000001E-2,1.0249999999999999,1.0999999999999999E-2,0.99299999999999999,5.0000000000000001E-3,0.15989999999999999,8.0000000000000004E-4,"O.0777",2.9999999999999997E-4,0.97560975609756106,{"$f":"[1]!Th230Age(N65, H65)","v":458.03006625520652}]
[]
["Medicine Lake",null,null,null,null,"238U/230Th","Error","234U/238U"]
["82-72f",1.153,1.4999999999999999E-2,1.163,2.1999999999999999E-2,0.99099999999999999,2.3E-2,1.004,3.0000000000000001E-3,0.17899999999999999,2E-3,6.7599999999999993E-2,2.9999999999999997E-4,1.0090817356205852,{"$f":"[1]!Th230Age(N68, H68)","v":0}]
["1513m",1.194,1.0999999999999999E-2,1.1719999999999999,2.4E-2,1.018,2.1999999999999999E-2,null,null,1,8.9999999999999993E-3,0.39100000000000001,1E-3,0.98231827111984282]
["733m",1.2330000000000001,1.4E-2,1.206,1.9E-2,1.0229999999999999,0.02,1.006,8.0000000000000002E-3,1.2350000000000001,0.01,0.498,6.0000000000000001E-3,0.97751710654936474,{"$f":"[1]!Th230Age(N70, H70)","v":379.96746237473008}]
["1139ma",1.0820000000000001,1.2999999999999999E-2,1.137,1.2999999999999999E-2,0.95199999999999996,1.6E-2,1.0009999999999999,4.0000000000000001E-3,2.0030000000000001,8.0000000000000002E-3,0.71,8.0000000000000002E-3,1.0504201680672269,{"$f":"[1]!Th230Age(N71, H71)","v":0}]
["1545m",1.1339999999999999,1.2E-2,1.0900000000000001,1.2999999999999999E-2,1.0409999999999999,1.7000000000000001E-2,0.998,8.0000000000000002E-3,3.6930000000000001,2.4E-2,1.371,1.0999999999999999E-2,0.96061479346781953,{"$f":"[1]!Th230Age(N72, H72)","v":359.16024479972316}]
["1545m",null,null,null,null,null,null,0.999,4.0000000000000001E-3,null,null,1.3580000000000001,6.0000000000000001E-3,{"$error":"#DIV/0!"}]
["1545m",1.147,4.0000000000000001E-3,1.0940000000000001,1.0999999999999999E-2,1.0489999999999999,1.0999999999999999E-2,null,null,4.5259999999999998,1.2E-2,1.6990000000000001,4.0000000000000001E-3,0.95328884652049573]
["1545m",1.1419999999999999,4.0000000000000001E-3,1.0960000000000001,1.7999999999999999E-2,1.042,1.7000000000000001E-2,1.0049999999999999,1E-3,5.3360000000000003,1.4999999999999999E-2,1.986,6.0000000000000001E-3,0.95969289827255277,{"$f":"[1]!Th230Age(N75, H75)","v":333.29333404793664}]
["1424ma",1.1299999999999999,2.1000000000000001E-2,1.165,5.0000000000000001E-3,0.97,2.4E-2,1.002,3.0000000000000001E-3,3.9740000000000002,3.2000000000000001E-2,1.4690000000000001,2.5999999999999999E-2,1.0309278350515465,{"$f":"[1]!Th230Age(N76, H76)","v":0}]
["695m",1.1879999999999999,5.0000000000000001E-3,1.171,0.02,1.014,1.7999999999999999E-2,null,null,5.2519999999999998,2.1999999999999999E-2,2.0419999999999998,4.0000000000000001E-3,0.98619329388560162]
["945m",1.024,1.2E-2,1.0740000000000001,8.0000000000000002E-3,0.95299999999999996,1.2999999999999999E-2,null,null,7.3140000000000001,3.5999999999999997E-2,2.4500000000000002,2.5999999999999999E-2,1.0493179433368311]
["945m",1.024,4.0000000000000001E-3,7.3209999999999997,1.4E-2]
["1413m",1.1879999999999999,0.01,1.1619999999999999,1.2999999999999999E-2,1.0229999999999999,1.4E-2,1.0009999999999999,5.0000000000000001E-3,7.4530000000000003,2.1999999999999999E-2,2.8980000000000001,2.5000000000000001E-2,0.97751710654936474,{"$f":"[1]!Th230Age(N80, H80)","v":406.43306339297112}]
["1368m",1.21,2E-3,1.204,0.01,1.0049999999999999,8.9999999999999993E-3,1.002,3.0000000000000001E-3,12.539,9.6000000000000002E-2,4.9669999999999996,0.01,0.99502487562189068,{"$f":"[1]!Th230Age(N81, H81)","v":528.32011077528239}]
["1331m",1.206,1E-3,1.2030000000000001,1.4E-2,1.002,1.2E-2,1,1E-3,13.65,8.5999999999999993E-2,5.3849999999999998,4.0000000000000001E-3,0.99800399201596801,{"$f":"[1]!Th230Age(N82, H82)","v":676.06711067491244}]
["TML",1.0629999999999999,6.0000000000000001E-3,1.079,1.2999999999999999E-2,1.01,1.2E-2,0.997,4.0000000000000001E-3,29.5,0.1,10.27,0.05,0.99009900990099009,{"$f":"[1]!Th230Age(N83, H83)","v":562.22144007189411}]
["TML",1.073,7.0000000000000001E-3,1.075,8.9999999999999993E-3,0.998,1.0999999999999999E-2,1.0029999999999999,3.0000000000000001E-3,30.06,0.09,10.56,0.06,1.002004008016032,{"$f":"[1]!Th230Age(N84, H84)","v":662.16666461930959}]

{"sheet":"H28","index":6,"n_rows":108,"n_cols":19,"rows_kept":108,"cut":false,"hidden":false,"merged":[]}
["Table 2",null,null,null,null,null,null,null,null,null,null,null,null,null,null,null,22073]
["Sample","Age(Ma)","207Pb/206Pb","208Pb/232Th","207Pb/235U","206Pb/238U","206Pb/204Pb","207Pb/204Pb","208Pb/204Pb","238U/204Pb","235U/204Pb","232Th/204Pb","206Pb/204Pb(i)","207Pb/204Pb(i)","208Pb/204Pb(i)",null,22072]
["Absarokites",null,null,null,null,null,null,null,null,null,null,null,null,null,null,null,20130,"3 over","20 billion years old"]
["BG-99a",32,{"$f":"[1]!AgePb76(H4/G4)","v":4986.9662192617843},{"$f":"[1]!AgePb8Th2(I4/L4)","v":19693.820139982952},{"$f":"[1]!AgePb7U5(H4/K4)","v":6059.8783087348756},{"$f":"[1]!AgePb6U8(G4/J4)","v":9525.8183763509278},18.707000000000001,15.667999999999999,38.927,5.53,4.02E-2,23.6,18.678999999999998,15.666,38.889000000000003,null,19930,"24 over","10 billion years old"]
["BG-102",32,{"$f":"[1]!AgePb76(H5/G5)","v":4986.4496687821775},{"$f":"[1]!AgePb8Th2(I5/L5)","v":19856.166508528986},{"$f":"[1]!AgePb7U5(H5/K5)","v":5699.3976793286738},{"$f":"[1]!AgePb6U8(G5/J5)","v":7829.8933579483964},18.715,15.669,38.93,7.9,5.74E-2,23.3,18.675999999999998,15.667,38.893000000000001,null,19856,"73 over","5 billion years old"]
["BG-99b",32,{"$f":"[1]!AgePb76(H6/G6)","v":4987.0274137163233},{"$f":"[1]!AgePb8Th2(I6/L6)","v":20130.261748977548},{"$f":"[1]!AgePb7U5(H6/K6)","v":6146.5734041581554},{"$f":"[1]!AgePb6U8(G6/J6)","v":9951.6123661167076},18.704999999999998,15.667,38.926000000000002,5.08,3.6900000000000002E-2,22.8,18.68,15.666,38.889000000000003,null,19694,"108 over","3.8 billion years old"]
["BG-101",32,{"$f":"[1]!AgePb76(H7/G7)","v":4986.2831499564354},{"$f":"[1]!AgePb8Th2(I7/L7)","v":19587.477595848228},{"$f":"[1]!AgePb7U5(H7/K7)","v":5644.4545840574365},{"$f":"[1]!AgePb6U8(G7/J7)","v":7586.4340098989151},18.716000000000001,15.667999999999999,38.926000000000002,8.34,6.0600000000000001E-2,23.8,18.675000000000001,15.666,38.887999999999998,null,19587]
["BG-109a",32,{"$f":"[1]!AgePb76(H8/G8)","v":4983.8258758130332},{"$f":"[1]!AgePb8Th2(I8/L8)","v":19929.798110037733},{"$f":"[1]!AgePb7U5(H8/K8)","v":5356.3472375317497},{"$f":"[1]!AgePb6U8(G8/J8)","v":6377.4809408596457},18.751999999999999,15.670999999999999,38.820999999999998,11.1,8.0600000000000005E-2,23.1,18.696999999999999,15.669,38.783999999999999,null,18463]
["BG-109b",32,{"$f":"[1]!AgePb76(H9/G9)","v":4983.5837624013575},{"$f":"[1]!AgePb8Th2(I9/L9)","v":22073.317374996106},{"$f":"[1]!AgePb7U5(H9/K9)","v":5510.3912597196222},{"$f":"[1]!AgePb6U8(G9/J9)","v":7017.2300121938242},18.754000000000001,15.67,38.817,9.52,6.9199999999999998E-2,19.600000000000001,18.707000000000001,15.667999999999999,38.786000000000001,null,16656]
["BG-109b",32,{"$f":"[1]!AgePb76(H10/G10)","v":4983.9475977122675},{"$f":"[1]!AgePb8Th2(I10/L10)","v":22071.933331280892},{"$f":"[1]!AgePb7U5(H10/K10)","v":5510.3267446673235},{"$f":"[1]!AgePb6U8(G10/J10)","v":7015.8618792930483},18.748000000000001,15.669,38.813000000000002,9.52,6.9199999999999998E-2,19.600000000000001,18.701000000000001,15.667,38.781999999999996,null,15846]
["Shoshonites",null,null,null,null,null,null,null,null,null,null,null,null,null,null,null,15447]
["BG-60",32,null,null,null,null,"n.d.","n.d.","n.d.",null,null,null,null,null,null,null,14832]
["BG-103",32,{"$f":"[1]!AgePb76(H13/G13)","v":4979.9981434291049},{"$f":"[1]!AgePb8Th2(I13/L13)","v":15446.836930548454},{"$f":"[1]!AgePb7U5(H13/K13)","v":5513.5107621517345},{"$f":"[1]!AgePb6U8(G13/J13)","v":7042.362597728611},18.805,15.673,38.895000000000003,9.49,6.9000000000000006E-2,33.9,18.757999999999999,15.670999999999999,38.841000000000001,null,14380]
["BG-103",32,null,null,null,null,"n.d.","n.d.","n.d.",null,null,null,null,null,null,null,14358]
["BG-113",32,{"$f":"[1]!AgePb76(H15/G15)","v":4976.0468534415077},{"$f":"[1]!AgePb8Th2(I15/L15)","v":16656.380904560694},{"$f":"[1]!AgePb7U5(H15/K15)","v":5143.2953768595744},{"$f":"[1]!AgePb6U8(G15/J15)","v":5581.9737173808289},18.867000000000001,15.680999999999999,38.905000000000001,13.7,9.9599999999999994E-2,30.4,18.798999999999999,15.677,38.856999999999999,null,14357]
["BG-46",32,{"$f":"[1]!AgePb76(H16/G16)","v":4977.7329375631716},{"$f":"[1]!AgePb8Th2(I16/L16)","v":14831.729184554077},{"$f":"[1]!AgePb7U5(H16/K16)","v":4828.5154752451936},{"$f":"[1]!AgePb6U8(G16/J16)","v":4490.5105146237456},18.829000000000001,15.667999999999999,38.878999999999998,18.7,0.13600000000000001,35.9,18.736000000000001,15.663,38.822000000000003,null,14122]
["Medium/high-K",32,null,null,null,null,null,null,null,null,null,null,null,null,null,null,14019]
["BG-62",32,{"$f":"[1]!AgePb76(H18/G18)","v":4978.3978715665871},{"$f":"[1]!AgePb8Th2(I18/L18)","v":13934.369574815379},{"$f":"[1]!AgePb7U5(H18/K18)","v":5346.7569298948501},{"$f":"[1]!AgePb6U8(G18/J18)","v":6358.2040494636994},18.831,15.677,38.906999999999996,11.2,8.14E-2,39.200000000000003,18.774999999999999,15.673999999999999,38.844999999999999,null,13934]
["BG-58",32,{"$f":"[1]!AgePb76(H19/G19)","v":4978.3835969413603},{"$f":"[1]!AgePb8Th2(I19/L19)","v":14019.399665922356},{"$f":"[1]!AgePb7U5(H19/K19)","v":5274.3542695451497},{"$f":"[1]!AgePb6U8(G19/J19)","v":6085.2264151327272},18.841999999999999,15.686,38.936,12,8.7499999999999994E-2,38.9,18.782,15.683999999999999,38.874000000000002,null,13550]
["BG-78",32,{"$f":"[1]!AgePb76(H20/G20)","v":4978.1862357895534},{"$f":"[1]!AgePb8Th2(I20/L20)","v":12209.86180485874},{"$f":"[1]!AgePb7U5(H20/K20)","v":5150.9176112741234},{"$f":"[1]!AgePb6U8(G20/J20)","v":5601.8262140582456},18.829000000000001,15.673,38.906999999999996,13.6,9.8799999999999999E-2,46.9,18.760999999999999,15.67,38.832999999999998,null,13531]
["BG-78*",32,null,null,null,null,null,null,null,null,null,null,null,null,null,null,13165]
["BG-56",32,{"$f":"[1]!AgePb76(H22/G22)","v":4984.9607832951988},{"$f":"[1]!AgePb8Th2(I22/L22)","v":12722.168699151107},{"$f":"[1]!AgePb7U5(H22/K22)","v":5234.1117131752362},{"$f":"[1]!AgePb6U8(G22/J22)","v":5905.345410362017},18.742999999999999,15.676,39.006,12.5,9.0999999999999998E-2,44.5,18.681000000000001,15.673999999999999,38.935000000000002,null,12722]
["BG-67",32,{"$f":"[1]!AgePb76(H23/G23)","v":4978.1715614817103},{"$f":"[1]!AgePb8Th2(I23/L23)","v":14358.326215633075},{"$f":"[1]!AgePb7U5(H23/K23)","v":5325.8790746895493},{"$f":"[1]!AgePb6U8(G23/J23)","v":6287.5343337699687},18.834,15.677,38.906999999999996,11.4,8.3099999999999993E-2,37.6,18.777000000000001,15.673999999999999,38.847000000000001,null,12210]
["BG-67*",32,{"$f":"[1]!AgePb76(H24/G24)","v":4978.2318074428485},{"$f":"[1]!AgePb8Th2(I24/L24)","v":14357.269436159691},{"$f":"[1]!AgePb7U5(H24/K24)","v":5325.8146451955517},{"$f":"[1]!AgePb6U8(G24/J24)","v":6287.1078849104797},18.832000000000001,15.676,38.902999999999999,11.4,8.3099999999999993E-2,37.6,18.774999999999999,15.673,38.843000000000004,null,12151]
["BG-59",32,{"$f":"[1]!AgePb76(H25/G25)","v":4978.911193380909},{"$f":"[1]!AgePb8Th2(I25/L25)","v":13164.576177619849},{"$f":"[1]!AgePb7U5(H25/K25)","v":5427.0579140290292},{"$f":"[1]!AgePb6U8(G25/J25)","v":6701.629951819009},18.829000000000001,15.680999999999999,38.926000000000002,10.3,7.5200000000000003E-2,42.4,18.777999999999999,15.679,38.859000000000002,null,9952]
["BG-82",32,{"$f":"[1]!AgePb76(H26/G26)","v":4980.5719727961505},{"$f":"[1]!AgePb8Th2(I26/L26)","v":14122.08652833877},{"$f":"[1]!AgePb7U5(H26/K26)","v":5265.9866846980221},{"$f":"[1]!AgePb6U8(G26/J26)","v":6045.3005180477167},18.806999999999999,15.680999999999999,38.927999999999997,12.1,8.8200000000000001E-2,38.5,18.745999999999999,15.678000000000001,38.868000000000002,null,9526]
["BG-52",32,{"$f":"[1]!AgePb76(H27/G27)","v":4977.5515752247165},{"$f":"[1]!AgePb8Th2(I27/L27)","v":13549.952693761157},{"$f":"[1]!AgePb7U5(H27/K27)","v":5245.7452767472778},{"$f":"[1]!AgePb6U8(G27/J27)","v":5954.2348279014577},18.829000000000001,15.666,38.868000000000002,12.4,8.9899999999999994E-2,40.700000000000003,18.766999999999999,15.663,38.804000000000002,null,9362]
["BG-52*",32,{"$f":"[1]!AgePb76(H28/G28)","v":4977.7938130914936},{"$f":"[1]!AgePb8Th2(I28/L28)","v":13531.319373411636},{"$f":"[1]!AgePb7U5(H28/K28)","v":5246.1318708872959},{"$f":"[1]!AgePb6U8(G28/J28)","v":5955.0604709088439},18.832999999999998,15.672000000000001,38.89,12.4,8.9899999999999994E-2,40.799999999999997,18.771000000000001,15.669,38.825000000000003,null,8497]
["BG-92",32,{"$f":"[1]!AgePb76(H29/G29)","v":4979.8772484540377},{"$f":"[1]!AgePb8Th2(I29/L29)","v":15845.808208521368},{"$f":"[1]!AgePb7U5(H29/K29)","v":5322.4326210286899},{"$f":"[1]!AgePb6U8(G29/J29)","v":6248.4809292795471},18.815000000000001,15.68,38.917999999999999,11.5,8.3400000000000002E-2,32.700000000000003,18.757999999999999,15.678000000000001,38.866,null,7830]
["BG-117",32,null,null,null,null,"n.d.","n.d.","n.d.",null,null,null,null,null,null,null,7586]
["BG-107",32,{"$f":"[1]!AgePb76(H31/G31)","v":4984.8092416953186},{"$f":"[1]!AgePb8Th2(I31/L31)","v":18462.578808202652},{"$f":"[1]!AgePb7U5(H31/K31)","v":5843.5731031606756},{"$f":"[1]!AgePb6U8(G31/J31)","v":8497.3303312516546},18.745000000000001,15.676,38.963999999999999,6.85,4.9799999999999997E-2,26.1,18.710999999999999,15.673999999999999,38.923000000000002,null,7484]
["BG-61",32,{"$f":"[1]!AgePb76(H32/G32)","v":4977.658853606672},{"$f":"[1]!AgePb8Th2(I32/L32)","v":9361.9404401085612},{"$f":"[1]!AgePb7U5(H32/K32)","v":4980.7328815945875},{"$f":"[1]!AgePb6U8(G32/J32)","v":4995.1347111157802},18.841999999999999,15.678000000000001,38.941000000000003,16.100000000000001,0.11700000000000001,66.099999999999994,18.762,15.673999999999999,38.835999999999999,null,7042]
["BG-64",32,{"$f":"[1]!AgePb76(H33/G33)","v":4980.088777379653},{"$f":"[1]!AgePb8Th2(I33/L33)","v":12151.057891164284},{"$f":"[1]!AgePb7U5(H33/K33)","v":5221.8534813437418},{"$f":"[1]!AgePb6U8(G33/J33)","v":5856.8526667492224},18.805,15.673999999999999,38.905000000000001,12.7,9.2100000000000001E-2,47.2,18.742000000000001,15.672000000000001,38.83,null,7017]
["BG-64*",32,null,null,null,null,null,null,null,null,null,null,null,null,null,null,7016]
["BG-72",32,{"$f":"[1]!AgePb76(H35/G35)","v":4981.1617524707481},{"$f":"[1]!AgePb8Th2(I35/L35)","v":14380.426309240836},{"$f":"[1]!AgePb7U5(H35/K35)","v":5616.9239416963319},{"$f":"[1]!AgePb6U8(G35/J35)","v":7483.5613659193168},18.792000000000002,15.675000000000001,38.887,8.57,6.2300000000000001E-2,37.5,18.75,15.673,38.828000000000003,null,6702]
["BG-72*",32,null,null,null,null,null,null,null,null,null,null,null,null,null,null,6444]
["Alkaline basalts",32,null,null,null,null,null,null,null,null,null,null,null,null,null,null,6377]
["BG-49",32,{"$f":"[1]!AgePb76(H38/G38)","v":4962.8769014724394},{"$f":"[1]!AgePb8Th2(I38/L38)","v":6324.3283927281627},{"$f":"[1]!AgePb7U5(H38/K38)","v":4438.974200820413},{"$f":"[1]!AgePb6U8(G38/J38)","v":3388.3506496533078},18.988,15.635999999999999,38.893000000000001,27.459,0.2,105.866,18.869,15.631,38.746000000000002,null,6358]
["BG-110",32,{"$f":"[1]!AgePb76(H39/G39)","v":4968.5304720762015},{"$f":"[1]!AgePb8Th2(I39/L39)","v":6443.7593799292899},{"$f":"[1]!AgePb7U5(H39/K39)","v":4572.7628025223494},{"$f":"[1]!AgePb6U8(G39/J39)","v":3741.8799608042973},18.908999999999999,15.632999999999999,38.863999999999997,24.030999999999999,0.17499999999999999,103.504,18.803999999999998,15.628,38.720999999999997,null,6324]
[null,null,null,null,null,null,null,null,null,null,null,null,null,null,null,null,6288]
[null,null,null,null,null,null,null,null,null,null,null,null,null,null,null,null,6287]
[null,null,null,null,null,null,null,null,null,null,null,null,null,null,null,null,6248]
[null,null,null,null,null,null,null,null,null,null,null,null,null,null,null,null,6147]
[null,null,null,null,null,null,null,null,null,null,null,null,null,null,null,null,6085]
["Sample","176Lu/177Hf","87Rb/86Sr","147Sm/144Nd","207Pb/206Pb","208Pb/232Th","207Pb/235U","206Pb/238U",null,null,null,null,null,null,null,null,6060]
["BG-99a",32,32,32,4986.9662192617843,19693.820139982952,6059.8783087348756,9525.8183763509278,null,null,null,null,null,null,null,null,6045]
["BG-102",32,32,32,4986.4496687821775,19856.166508528986,5699.3976793286738,7829.8933579483964,null,null,null,null,null,null,null,null,5955]
["BG-99b",32,32,32,4987.0274137163233,20130.261748977548,6146.5734041581554,9951.6123661167076,null,null,null,null,null,null,null,null,5954]
["BG-101",32,32,32,4986.2831499564354,19587.477595848228,5644.4545840574365,7586.4340098989151,null,null,null,null,null,null,null,null,5905]
["BG-109a",32,32,32,4983.8258758130332,19929.798110037733,5356.3472375317497,6377.4809408596457,null,null,null,null,null,null,null,null,5857]
["BG-109b",32,32,32,4983.5837624013575,22073.317374996106,5510.3912597196222,7017.2300121938242,null,null,null,null,null,null,null,null,5844]
["BG-109b",32,32,32,4983.9475977122675,22071.933331280892,5510.3267446673235,7015.8618792930483,null,null,null,null,null,null,null,null,5699]
["BG-103",32,32,32,4979.9981434291049,15446.836930548454,5513.5107621517345,7042.362597728611,null,null,null,null,null,null,null,null,5644]
["BG-113",32,32,32,4976.0468534415077,16656.380904560694,5143.2953768595744,5581.9737173808289,null,null,null,null,null,null,null,null,5617]
["BG-46",32,32,32,4977.7329375631716,14831.729184554077,4828.5154752451936,4490.5105146237456,null,null,null,null,null,null,null,null,5602]
["BG-62",32,32,32,4978.3978715665871,13934.369574815379,5346.7569298948501,6358.2040494636994,null,null,null,null,null,null,null,null,5582]
["BG-58",32,32,32,4978.3835969413603,14019.399665922356,5274.3542695451497,6085.2264151327272,null,null,null,null,null,null,null,null,5514]
["BG-78",32,32,32,4978.1862357895534,12209.86180485874,5150.9176112741234,5601.8262140582456,null,null,null,null,null,null,null,null,5510]
["BG-56",32,32,32,4984.9607832951988,12722.168699151107,5234.1117131752362,5905.345410362017,null,null,null,null,null,null,null,null,5510]
["BG-67",32,32,32,4978.1715614817103,14358.326215633075,5325.8790746895493,6287.5343337699687,null,null,null,null,null,null,null,null,5427]
["BG-67*",32,32,32,4978.2318074428485,14357.269436159691,5325.8146451955517,6287.1078849104797,null,null,null,null,null,null,null,null,5356]
["BG-59",32,32,32,4978.911193380909,13164.576177619849,5427.0579140290292,6701.629951819009,null,null,null,null,null,null,null,null,5347]
["BG-82",32,32,32,4980.5719727961505,14122.08652833877,5265.9866846980221,6045.3005180477167,null,null,null,null,null,null,null,null,5326]
["BG-52",32,32,32,4977.5515752247165,13549.952693761157,5245.7452767472778,5954.2348279014577,null,null,null,null,null,null,null,null,5326]
["BG-52*",32,32,32,4977.7938130914936,13531.319373411636,5246.1318708872959,5955.0604709088439,null,null,null,null,null,null,null,null,5322]
["BG-92",32,32,32,4979.8772484540377,15845.808208521368,5322.4326210286899,6248.4809292795471,null,null,null,null,null,null,null,null,5274]
["BG-107",32,32,32,4984.8092416953186,18462.578808202652,5843.5731031606756,8497.3303312516546,null,null,null,null,null,null,null,null,5266]
["BG-61",32,32,32,4977.658853606672,9361.9404401085612,4980.7328815945875,4995.1347111157802,null,null,null,null,null,null,null,null,5246]
["BG-64",32,32,32,4980.088777379653,12151.057891164284,5221.8534813437418,5856.8526667492224,null,null,null,null,null,null,null,null,5246]
["BG-72",32,32,32,4981.1617524707481,14380.426309240836,5616.9239416963319,7483.5613659193168,null,null,null,null,null,null,null,null,5234]
["BG-49",28,32,28,4962.8769014724394,6324.3283927281627,4438.974200820413,3388.3506496533078,null,null,null,null,null,null,null,null,5222]
["BG-110",28,32,28,4969,6444,4573,3742,null,null,null,null,null,null,null,null,5151]
["Average",{"$f":"AVERAGE(B46:B72)","v":31.703703703703702},32,31.703703703703702,4979.9442521543178,15156.192298109383,5342.7013723049959,6437.494759360653,null,null,null,null,null,null,null,null,5143]
["Maximum",{"$f":"MAX(B46:B73)","v":32},32,32,4987.0274137163233,22073.317374996106,6146.5734041581554,9951.6123661167076,null,null,null,null,null,null,null,null,4995]
["Minimum",{"$f":"MIN(B46:B74)","v":28},32,28,4962.8769014724394,6324.3283927281627,4438.974200820413,3388.3506496533078,null,null,null,null,null,null,null,null,4987]
["Difference",{"$f":"B74-B75","v":4},0,4,24.150512243883895,15748.988982267943,1707.5992033377424,6563.2617164633994,null,null,null,null,null,null,null,null,4987]
["Accuracy",{"$f":"1-(B76/B73)","v":0.87383177570093462},1,0.87383177570093462,0.99515044526182472,-3.9112507449018619E-2,0.68038655272977855,-1.9536630599950477E-2,null,null,null,null,null,null,null,null,4986]
[null,null,null,null,null,null,null,null,null,null,null,null,null,null,null,null,4986]
[null,null,null,null,null,null,null,null,null,null,null,null,null,null,null,null,4985]
[null,null,null,null,null,null,null,null,null,null,null,null,null,null,null,null,4985]
[null,null,null,null,null,null,null,null,null,null,null,null,null,null,null,null,4984]
[null,null,null,null,null,null,null,null,null,null,null,null,null,null,null,null,4984]
[null,null,null,null,null,null,null,null,null,null,null,null,null,null,null,null,4984]
[null,null,null,null,null,null,null,null,null,null,null,null,null,null,null,null,4981]
[null,null,null,null,null,null,null,null,null,null,null,null,null,null,null,null,4981]
[null,null,null,null,null,null,null,null,null,null,null,null,null,null,null,null,4981]
[null,null,null,null,null,null,null,null,null,null,null,null,null,null,null,null,4980]
[null,null,null,null,null,null,null,null,null,null,null,null,null,null,null,null,4980]
[null,null,null,null,null,null,null,null,null,null,null,null,null,null,null,null,4980]
[null,null,null,null,null,null,null,null,null,null,null,null,null,null,null,null,4979]
[null,null,null,null,null,null,null,null,null,null,null,null,null,null,null,null,4978]
[null,null,null,null,null,null,null,null,null,null,null,null,null,null,null,null,4978]
[null,null,null,null,null,null,null,null,null,null,null,null,null,null,null,null,4978]
[null,null,null,null,null,null,null,null,null,null,null,null,null,null,null,null,4978]
[null,null,null,null,null,null,null,null,null,null,null,null,null,null,null,null,4978]
[null,null,null,null,null,null,null,null,null,null,null,null,null,null,null,null,4978]
[null,null,null,null,null,null,null,null,null,null,null,null,null,null,null,null,4978]
[null,null,null,null,null,null,null,null,null,null,null,null,null,null,null,null,4978]
[null,null,null,null,null,null,null,null,null,null,null,null,null,null,null,null,4978]
[null,null,null,null,null,null,null,null,null,null,null,null,null,null,null,null,4976]
[null,null,null,null,null,null,null,null,null,null,null,null,null,null,null,null,4969]
[null,null,null,null,null,null,null,null,null,null,null,null,null,null,null,null,4963]
[null,null,null,null,null,null,null,null,null,null,null,null,null,null,null,null,4829]
[null,null,null,null,null,null,null,null,null,null,null,null,null,null,null,null,4573]
[null,null,null,null,null,null,null,null,null,null,null,null,null,null,null,null,4491]
[null,null,null,null,null,null,null,null,null,null,null,null,null,null,null,null,4439]
[null,null,null,null,null,null,null,null,null,null,null,null,null,null,null,null,3742]
[null,null,null,null,null,null,null,null,null,null,null,null,null,null,null,null,3388]

{"sheet":"H29","index":7,"n_rows":91,"n_cols":20,"rows_kept":91,"cut":false,"hidden":false,"merged":[]}
["Table 2","1949 Eruption"]
["Sample","206Pb/204Pb","207Pb/204Pb","208Pb/204Pb","l","j","(206Pb/204Pb)T","(207Pb/204Pb)T","(208Pb/204Pb)T"]
["Sediment",null,null,null,null,null,null,null,null,"207Pb/206Pb ","Age"]
["917c",19.059000000000001,15.699,39.298999999999999,8.67,7.2,18.829999999999998,15.69,38.770000000000003,{"$f":"(C4/B4)","v":0.82370533606170304},{"$f":"[1]!AgePb76(J4)","v":4963.2875186615211},{"$f":"K4/49","v":101.29158201350043}]
[91249,18.922000000000001,15.7,39.177,1.31,6.09,18.89,15.7,39.11,{"$f":"(C5/B5)","v":0.82972201670013734},{"$f":"[1]!AgePb76(J5)","v":4973.631392094826},{"$f":"K5/49","v":101.50268147132297}]
["DSDP397-60-4",19.018000000000001,15.744999999999999,39.201000000000001,6.57,4.4000000000000004,18.84,15.74,38.96,0.82789988432011774,{"$f":"[1]!AgePb76(J6)","v":4970.507222457315},101.43892290729214]
["DSDP397-101-1",18.902999999999999,15.699,39.091999999999999,21.4,1.68,18.329999999999998,15.67,38.79,0.83050309474686568,{"$f":"[1]!AgePb76(J7)","v":4974.968371148856},101.52996675813992]
["DSDP397-30-1",18.975000000000001,15.726000000000001,39.015000000000001,10.4,3.4,18.7,15.71,38.72,0.8287747035573122,{"$f":"[1]!AgePb76(J8)","v":4972.0080705586906},101.46955246038144]
["DSDP397-40-2",18.949000000000002,15.701000000000001,39.183,17.600000000000001,2.16,18.48,15.68,38.86,0.82859253786479492,{"$f":"[1]!AgePb76(J9)","v":4971.6956842432337},101.46317722945375]
["DSDP397-49-1",18.951000000000001,15.695,39.182000000000002,15.3,2.61,18.54,15.68,38.85,0.82818848609572049,{"$f":"[1]!AgePb76(J10)","v":4971.0025366234868},101.449031359663]
["Basalt "]
[303905,18.155000000000001,15.605,38.078000000000003,14.2,4.72,17.77,15.59,37.51,0.85954282566786011,{"$f":"[1]!AgePb76(J12)","v":5023.7498665293406},102.52550748019063]
[303906,18.385000000000002,15.597,38.246000000000002,5.87,3.95,18.23,15.59,38.049999999999997,0.84835463693228164,{"$f":"[1]!AgePb76(J13)","v":5005.1660423103904},102.14624576143653]
["B9117.1",18.443000000000001,15.596,38.456000000000003,21.6,3.94,17.87,15.57,37.74,0.84563248929132995,{"$f":"[1]!AgePb76(J14)","v":5000.6051213537839},102.05316574191396]
["B9117.1",18.446999999999999,15.58,38.401000000000003,null,null,null,null,null,0.84458177481433294,{"$f":"[1]!AgePb76(J15)","v":4998.8404906895739},102.0171528712158]
["B9117.2",19.356999999999999,15.663,39.552999999999997,25.4,5.23,18.68,15.63,38.43,0.80916464328150028,{"$f":"[1]!AgePb76(J16)","v":4937.9538040553807},100.77456742970165]
["B9117.3",20.753,15.728,41.302999999999997,65.5,5.87,19,15.64,38.06,0.7578663325784224,{"$f":"[1]!AgePb76(J17)","v":4844.5429693754249},98.868223864804591]
["Gabbro"]
[303903,18.221,15.590999999999999,38.097000000000001,5.83,4.96,18.059999999999999,15.58,37.85,0.85566105043630969,{"$f":"[1]!AgePb76(J19)","v":5017.3314040947962},102.39451845091421]
["B913",19.067,15.62,38.841000000000001,5.3,4,18.93,15.61,38.659999999999997,0.81921644726490794,{"$f":"[1]!AgePb76(J20)","v":4955.5177688308668},101.13301569042585]
["B914",18.664000000000001,15.638,38.485999999999997,3.11,6.2,18.579999999999998,15.63,38.32,0.83786969567081004,{"$f":"[1]!AgePb76(J21)","v":4987.5125100006262},101.78596959184951]
["B914",18.545000000000002,15.576000000000001,38.255000000000003,0,18.54,15.58,38.03,null,0.83990293879751954,{"$f":"[1]!AgePb76(J22)","v":4990.9541654389541},101.85620745793784]
["Pliocene Basalts"]
["RNB60",18.994,15.525,39.039000000000001,null,null,null,null,null,0.8173633779088133,{"$f":"[1]!AgePb76(J24)","v":4952.2971092370799},101.06728794361388]
["RN1249",18.931000000000001,15.509,38.988,24.9,4.63,18.91,15.51,38.96,0.81923828640853624,{"$f":"[1]!AgePb76(J25)","v":4955.5556793571131},101.13378937463496]
[]
[null,"Pb Age (Ma)","Pb Age (Ma)","Pb Age (Ma)","Pb Age (Ma)"]
[null,"Sediment","Basalt ","Gabbro","Pliocene Basalts",null,null,"Pb Age (Ma)","Eruption","Age Ratio 106","Dated","Erupted"]
[null,4963,5024,5017,4952,null,null,4963,1949,{"$f":"H29/49","v":101.28571428571429},1998,1949]
[null,4974,5005,4956,4956,null,null,4974,1949,{"$f":"H30/49","v":101.51020408163265}]
[null,4971,5001,4988,null,null,null,4971,1949,101.44897959183673]
[null,4975,4999,4991,null,null,null,4975,1949,101.53061224489795]
[null,4972,4938,null,null,null,null,4972,1949,101.46938775510205]
[null,4972,4845,null,null,null,null,4972,1949,101.46938775510205]
[null,4971,null,null,null,null,null,4971,1949,101.44897959183673]
[null,null,null,null,null,null,null,5024,1949,102.53061224489795]
[null,null,null,null,null,null,null,5005,1949,102.14285714285714]
[null,null,null,null,null,null,null,5001,1949,102.06122448979592]
[null,null,null,null,null,null,null,4999,1949,102.0204081632653]
[null,null,null,null,null,null,null,4938,1949,100.77551020408163]
[null,null,null,null,null,null,null,4845,1949,98.877551020408163]
[null,null,null,null,null,null,null,5017,1949,102.38775510204081]
[null,null,null,null,null,null,null,4956,1949,101.14285714285714]
[null,null,null,null,null,null,null,4988,1949,101.79591836734694]
[null,null,null,null,null,null,null,4991,1949,101.85714285714286]
[]
[]
[null,null,null,null,null,null,null,null,null,null,null,null,null,"Sample","207Pb/206Pb ","147Sm/144Nd","87Rb/86Sr","207Pb/206Pb ","147Sm/144Nd","87Rb/86Sr"]
["Table 2",null,null,null,null,null,null,null,null,null,null,null,null,"Number","Age (Ma)","Age (Ma)","Age (Ma)","Error Ratio 106","Error Ratio 106","Error Ratio 106"]
["Initial","Today","Today","Age","Half","Decay","2.303/Delta","Age","Age","Age",null,null,null,"917c",4963.2875186615211,172,170,{"$f":"O50/49","v":101.29158201350043},{"$f":"P50/49","v":3.510204081632653},3.4693877551020407]
["87Sr/86Sr","87Sr/86Sr","87Rb/86Sr","Years","Life","Constant","Constant","Years","Million Years","Billion Years","Sample",null,null,91249,4973.631392094826,174,170,{"$f":"O51/49","v":101.50268147132297},{"$f":"P51/49","v":3.5510204081632653},{"$f":"Q51/49","v":3.4693877551020407}]
[0.70767999999999998,0.70964300000000002,0.81,{"$f":"1+((B52-A52)/C52)","v":1.0024234567901236},48800000000,{"$f":"(0.693/E52)","v":1.4200819672131146E-11},162173737373.737,{"$f":"(LOG(D52))*(G52)","v":170480378.54474473},{"$f":"(H52/1000000)","v":170.48037854474472},{"$f":"(I52/1000)","v":0.17048037854474474},"917c",null,null,"DSDP397-60-4",4970.507222457315,174,170,101.43892290729214,3.5510204081632653,3.4693877551020407]
[0.71274999999999999,0.71542600000000001,1.1100000000000001,{"$f":"1+((B53-A53)/C53)","v":1.0024108108108107},48800000000,{"$f":"(0.693/E53)","v":1.4200819672131146E-11},162173737373.737,{"$f":"(LOG(D53))*(G53)","v":169591855.24157417},{"$f":"(H53/1000000)","v":169.59185524157417},{"$f":"(I53/1000)","v":0.16959185524157416},91249,null,null,"DSDP397-101-1",4974.968371148856,167,171,101.52996675813992,3.4081632653061225,3.489795918367347]
[0.70737000000000005,0.71029100000000001,1.21,1.0024140495867768,48800000000,1.4200819672131146E-11,162173737373.737,169819417.01053664,169.81941701053665,0.16981941701053666,"DSDP397-60-4",null,null,"DSDP397-30-1",4972.0080705586906,172,170,101.46955246038144,3.510204081632653,3.4693877551020407]
[0.72340000000000004,0.72361900000000001,0.09,1.0024333333333331,48800000000,1.4200819672131146E-11,162173737373.737,171174309.79317138,171.17430979317137,0.17117430979317139,"DSDP397-101-1",null,null,"DSDP397-40-2",4971.6956842432337,168,166,101.46317722945375,3.4285714285714284,3.3877551020408165]
[0.70579000000000003,0.70936200000000005,1.48,1.0024135135135135,48800000000,1.4200819672131146E-11,162173737373.737,169781751.66507241,169.78175166507242,0.16978175166507242,"DSDP397-30-1",null,null,"DSDP397-49-1",4971.0025366234868,177,165,101.449031359663,3.6122448979591835,3.3673469387755102]
[0.70908000000000004,0.70936299999999997,0.12,1.0023583333333326,48800000000,1.4200819672131146E-11,162173737373.737,165904598.19754228,165.90459819754227,0.16590459819754227,"DSDP397-40-2",null,null,303905,5023.7498665293406,170,151,102.52550748019063,3.4693877551020407,3.0816326530612246]
[0.70903000000000005,0.70928800000000003,0.11,1.0023454545454544,48800000000,1.4200819672131146E-11,162173737373.737,164999658.5595738,164.99965855957379,0.1649996585595738,"DSDP397-49-1",null,null,303906,5005.1660423103904,172,168,102.14624576143653,3.510204081632653,3.4285714285714284]
[0.70520000000000005,0.70524299999999995,0.02,1.0021499999999952,48800000000,1.4200819672131146E-11,162173737373.737,151264441.32075176,151.26444132075176,0.15126444132075176,303905,null,null,"B9117.1",5000.6051213537839,166,225,102.05316574191396,3.3877551020408165,4.591836734693878]
[0.70367000000000002,0.70400399999999996,0.14000000000000001,1.002385714285714,48800000000,1.4200819672131146E-11,162173737373.737,167828506.85813269,167.8285068581327,0.16782850685813269,303906,null,null,"B9117.1",4998.8404906895739,null,204,102.0171528712158,null,4.1632653061224492]
[0.70282999999999995,0.70286199999999999,0.01,1.0032000000000032,48800000000,1.4200819672131146E-11,162173737373.737,225019869.52266985,225.01986952266986,0.22501986952266986,"B9117.1",null,null,"B9117.2",4937.9538040553807,173,151,100.77456742970165,3.5306122448979593,3.0816326530612246]
[0.70282999999999995,0.70285900000000001,0.01,1.0029000000000057,48800000000,1.4200819672131146E-11,162173737373.737,203954770.1431317,203.9547701431317,0.20395477014313171,"B9117.2",null,null,"B9117.3",4844.5429693754249,174,253,98.868223864804591,3.5510204081632653,5.1632653061224492]
[0.70287999999999995,0.70292299999999996,0.02,1.0021500000000008,48800000000,1.4200819672131146E-11,162173737373.737,151264441.32114193,151.26444132114193,0.15126444132114192,"B9117.3",null,null,303903,5017.3314040947962,168,null,102.39451845091421,3.4285714285714284]
[0.70367999999999997,0.70371600000000001,0.01,1.0036000000000036,48800000000,1.4200819672131146E-11,162173737373.737,253096871.78850207,253.09687178850206,0.25309687178850204,303903,null,null,"B913",4955.5177688308668,170,172,101.13301569042585,3.4693877551020407,3.510204081632653]
[0.70413000000000003,0.704399,0.11,1.0024454545454542,48800000000,1.4200819672131146E-11,162173737373.737,172025943.34467661,172.02594334467662,0.17202594334467661,"B913",null,null,"B914",4987.5125100006262,166,178,101.78596959184951,3.3877551020408165,3.6326530612244898]
[0.70284000000000002,0.70299199999999995,0.06,1.0025333333333322,48800000000,1.4200819672131146E-11,162173737373.737,178199978.64640018,178.19997864640018,0.17819997864640019,"B914",null,null,"B914",4990.9541654389541,162,274,101.85620745793784,3.306122448979592,5.591836734693878]
[0.70284000000000002,0.70287900000000003,0.01,1.0039000000000011,48800000000,1.4200819672131146E-11,162173737373.737,274147280.6875568,274.14728068755682,0.27414728068755684,"B914",null,null,"RNB60",4952.2971092370799,153,151,101.06728794361388,3.1224489795918369,3.0816326530612246]
[0.70309999999999995,0.70327200000000001,0.08,1.0021500000000008,48800000000,1.4200819672131146E-11,162173737373.737,151264441.32114193,151.26444132114193,0.15126444132114192,"241921B",null,null,"RN1249",4955.5556793571131,null,null,101.13378937463496]
[null,null,null,null,null,null,null,null,null,null,null,null,null,"241921B",null,null,151.26444132114193,null,null,3.0870294147171822]
[null,null,null,null,null,null,null,null,null,null,null,null,null,"Average",{"$f":"AVERAGE(O50:O69)","v":4971.9540908979616},169.29411764705881,181.125802295619,101.46845083465227,3.4549819927971193,3.6964449448085506]
[null,null,null,null,null,null,null,null,null,null,null,null,null,"Maximum",{"$f":"MAX(O50:O70)","v":5023.7498665293406},177,274,102.52550748019063,3.6122448979591835,5.591836734693878]
["Table 2",null,null,null,null,null,null,null,null,null,null,null,null,"Minimum",{"$f":"MIN(O50:O71)","v":4844.5429693754249},153,151,98.868223864804591,3.1224489795918369,3.0816326530612246]
["Initial","Today","Today","The Ratio","Half","Decay","2.303/Delta","Age","Age","Age",null,null,null,"Difference",{"$f":"O71-O72","v":179.20689715391563},24,123,3.6572836153860351,0.48979591836734659,2.5102040816326534]
["143Nd/144Nd","143Nd/144Nd","147Sm/144Nd","Plus One","Life","Constant","Constant","Years","Million Years","Billion Years","Sample",null,null,"Accuracy",{"$f":"1-(O73/O70)","v":0.96395644571980554},0.85823488533703962,0.32091398110552316,0.96395644571980554,0.85823488533703973,0.32091398110552294]
[0.51185000000000003,0.51198500000000002,0.12,{"$f":"1+((B75-A75)/C75)","v":1.001125},106000000000,{"$f":"(0.693/E75)","v":6.5377358490566029E-12},{"$f":"(2.303/F75)","v":352262626262.62628},{"$f":"(LOG(D75))*(G75)","v":172012190.38705882},{"$f":"(H75/1000000)","v":172.01219038705884},{"$f":"(I75/1000)","v":0.17201219038705884},"917c"]
[0.51183000000000001,0.51197800000000004,0.13,{"$f":"1+((B76-A76)/C76)","v":1.0011384615384618},106000000000,{"$f":"(0.693/E76)","v":6.5377358490566029E-12},{"$f":"(2.303/F76)","v":352262626262.62628},{"$f":"(LOG(D76))*(G76)","v":174069285.39279979},{"$f":"(H76/1000000)","v":174.0692853927998},{"$f":"(I76/1000)","v":0.17406928539279981},91249]
[0.51183999999999996,0.511965,0.11,1.0011363636363639,106000000000,6.5377358490566029E-12,352262626262.62628,173748700.97760355,173.74870097760356,0.17374870097760356,"DSDP397-60-4"]
[0.51195999999999997,0.51207999999999998,0.11,1.0010909090909093,106000000000,6.5377358490566029E-12,352262626262.62628,166802540.34769839,166.8025403476984,0.1668025403476984,"DSDP397-101-1"]
[0.51153999999999999,0.51166400000000001,0.11,1.0011272727272729,106000000000,6.5377358490566029E-12,352262626262.62628,172359494.0820412,172.35949408204121,0.17235949408204121,"DSDP397-30-1"]
[0.51200999999999997,0.512131,0.11,1.0011000000000003,106000000000,6.5377358490566029E-12,352262626262.62628,168191797.70459703,168.19179770459704,0.16819179770459702,"DSDP397-40-2"]
[0.51202999999999999,0.51215699999999997,0.11,1.0011545454545454,106000000000,6.5377358490566029E-12,352262626262.62628,176527076.92457172,176.52707692457173,0.17652707692457173,"DSDP397-49-1"]
[0.51276999999999995,0.51300400000000002,0.21,1.0011142857142861,106000000000,6.5377358490566029E-12,352262626262.62628,170374890.91953087,170.37489091953086,0.17037489091953087,303905]
[0.51278000000000001,0.51294899999999999,0.15,1.0011266666666665,106000000000,6.5377358490566029E-12,352262626262.62628,172266879.84042802,172.26687984042803,0.17226687984042804,303906]
[0.51278000000000001,0.512965,0.17,1.0010882352941175,106000000000,6.5377358490566029E-12,352262626262.62628,166393932.8417474,166.39393284174741,0.16639393284174742,"B9117.1"]
[0.51276999999999995,0.51296200000000003,0.17,1.0011294117647063,106000000000,6.5377358490566029E-12,352262626262.62628,172686367.42769784,172.68636742769783,0.17268636742769783,"B9117.2"]
[0.51275999999999999,0.51295400000000002,0.17,1.0011411764705884,106000000000,6.5377358490566029E-12,352262626262.62628,174484158.34466621,174.48415834466621,0.17448415834466621,"B9117.3"]
[0.51280000000000003,0.513042,0.22,1.0010999999999999,106000000000,6.5377358490566029E-12,352262626262.62628,168191797.70452917,168.19179770452917,0.16819179770452916,303903]
[0.51278000000000001,0.51295800000000003,0.16,1.0011125000000001,106000000000,6.5377358490566029E-12,352262626262.62628,170102005.97127101,170.10200597127101,0.17010200597127101,"B913"]
[0.51278999999999997,0.51306099999999999,0.25,1.0010840000000001,106000000000,6.5377358490566029E-12,352262626262.62628,165746696.31895593,165.74669631895594,0.16574669631895594,"B914"]
[0.51280000000000003,0.51293800000000001,0.13,1.0010615384615382,106000000000,6.5377358490566029E-12,352262626262.62628,162314084.20312557,162.31408420312556,0.16231408420312557,"B914"]
[0.51280999999999999,0.51297999999999999,0.17,{"$f":"1+((B91-A91)/C91)","v":1.0010000000000001},106000000000,{"$f":"(0.693/E91)","v":6.5377358490566029E-12},352262626262.62628,{"$f":"(LOG(D91))*(G91)","v":152909272.86626232},152.90927286626231,0.15290927286626232,"241921B"]

{"sheet":"H30","index":8,"n_rows":82,"n_cols":17,"rows_kept":82,"cut":false,"hidden":false,"merged":[]}
["Table 3","Age"]
["Sample No.","40Ar/39Ar","Error","87Sr/86Sr","2sigma","143Nd/144Nd","2sigma","206Pb/204Pb","2sigma","207Pb/204Pb","2sigma","208Pb/204Pb","2sigma"]
["Taburiente",null,null,null,null,null,null,null,null,null,null,null,null,"207Pb/206Pb ","Pb Age (Ma)"]
["KLP59",533,8,0.70307200000000003,1.9999999999999999E-6,0.51289200000000001,3.0000000000000001E-6,19.760000000000002,1E-3,15.614000000000001,1E-3,39.613999999999997,3.0000000000000001E-3,{"$f":"(J4/H4)","v":0.79018218623481784},{"$f":"[1]!AgePb76(N4)","v":4904.1426887080361},533,4904]
["KLP63",410,80,0.70307799999999998,3.0000000000000001E-6,0.51288900000000004,3.0000000000000001E-6,19.722000000000001,1E-3,15.614000000000001,1E-3,39.567,2E-3,{"$f":"(J5/H5)","v":0.79170469526417198},{"$f":"[1]!AgePb76(N5)","v":4906.8862717632564},410,4907]
["KLP65",563,8,0.70308000000000004,3.0000000000000001E-6,0.51289200000000001,3.0000000000000001E-6,19.678999999999998,1E-3,15.59,1E-3,39.518000000000001,3.0000000000000001E-3,0.79221505157782413,{"$f":"[1]!AgePb76(N6)","v":4907.8046844810633},563,4908]
["KLP67",585,10,0.70308000000000004,3.0000000000000001E-6,0.51288999999999996,1.9999999999999999E-6,19.773,1E-3,15.596,1E-3,39.656999999999996,2E-3,0.78875233904819708,{"$f":"[1]!AgePb76(N7)","v":4901.5609547185832},585,4902]
["KLP73",560,8,0.703098,3.0000000000000001E-6,0.51288100000000003,1.9999999999999999E-6,19.946999999999999,1E-3,15.624000000000001,1E-3,39.758000000000003,2E-3,0.78327568055346675,{"$f":"[1]!AgePb76(N8)","v":4891.6259920570001},560,4892]
["KLP77",833,14,0.70309500000000003,3.9999999999999998E-6,0.51285800000000004,3.0000000000000001E-6,19.805,2E-3,15.638999999999999,2E-3,39.667000000000002,6.0000000000000001E-3,0.78964907851552635,{"$f":"[1]!AgePb76(N9)","v":4903.180690582426},833,4903]
["Cumbre Nueva"]
["KLP19",647,10,0.70305600000000001,1.9999999999999999E-6,0.51289600000000002,3.0000000000000001E-6,19.663,1E-3,15.608000000000001,1E-3,39.451000000000001,2E-3,0.79377511061384332,{"$f":"[1]!AgePb76(N11)","v":4910.60819187995},647,4911]
["KLP23",null,null,0.70306599999999997,3.0000000000000001E-6,0.51288599999999995,1.9999999999999999E-6,19.643999999999998,1E-3,15.595000000000001,1E-3,39.457000000000001,2E-3,0.79388108328242735,{"$f":"[1]!AgePb76(N12)","v":4910.7984175223564},null,4911]
["KLP27",null,null,0.70305799999999996,1.9999999999999999E-6,0.51289600000000002,3.9999999999999998E-6,19.716999999999999,1E-3,15.609,1E-3,39.570999999999998,2E-3,0.79165187401734549,{"$f":"[1]!AgePb76(N13)","v":4906.7911811982294},null,4907]
["KLP35",null,null,0.70309100000000002,1.9999999999999999E-6,0.51288500000000004,3.0000000000000001E-6,19.765000000000001,1E-3,15.606,1E-3,39.581000000000003,2E-3,0.78957753604857073,{"$f":"[1]!AgePb76(N14)","v":4903.0515388822078},null,4903]
["KLP41",null,null,0.70311000000000001,1.9999999999999999E-6,0.51288,1.9999999999999999E-6,19.942,2E-3,15.622,2E-3,39.725999999999999,4.0000000000000001E-3,0.78337177815665426,{"$f":"[1]!AgePb76(N15)","v":4891.8009552162839},null,4892]
["KLP80",834,12,0.70304699999999998,1.9999999999999999E-6,0.512903,3.0000000000000001E-6,19.577000000000002,2E-3,15.6,1E-3,39.308,4.0000000000000001E-3,0.79685345047760114,{"$f":"[1]!AgePb76(N16)","v":4916.1229667501957},834,4916]
["KLP87",null,null,0.70307500000000001,1.9999999999999999E-6,0.51288199999999995,1.9999999999999999E-6,19.911000000000001,1E-3,15.625999999999999,1E-3,39.716999999999999,3.0000000000000001E-3,0.78479232585003256,{"$f":"[1]!AgePb76(N17)","v":4894.3846579439196},null,4894]
["KLP103",null,null,0.703017,3.0000000000000001E-6,0.51293800000000001,1.9999999999999999E-6,19.286000000000001,2E-3,15.555999999999999,1E-3,38.942,3.0000000000000001E-3,0.80659545784506881,{"$f":"[1]!AgePb76(N18)","v":4933.4273048488876},null,4933]
["Bejenado"]
["KLP105",null,null,0.70298700000000003,3.9999999999999998E-6,0.51296200000000003,1.9999999999999999E-6,19.157,2E-3,15.542,1E-3,38.848999999999997,3.0000000000000001E-3,0.81129613196220707,{"$f":"[1]!AgePb76(N20)","v":4941.6975629562548},null,4942]
["KLP106",null,null,0.70300600000000002,3.0000000000000001E-6,0.51295299999999999,3.0000000000000001E-6,19.181999999999999,1E-3,15.553000000000001,1E-3,38.902000000000001,2E-3,0.810812219789386,{"$f":"[1]!AgePb76(N21)","v":4940.8485355744342},null,4941]
["KLP114",null,null,0.70302100000000001,3.0000000000000001E-6,0.51296399999999998,1.9999999999999999E-6,19.141999999999999,2E-3,15.544,2E-3,38.829000000000001,4.0000000000000001E-3,0.81203635983700773,{"$f":"[1]!AgePb76(N22)","v":4942.9952564920777},null,4943]
["KLP205",null,null,0.70300099999999999,1.9999999999999999E-6,0.51297099999999995,1.9999999999999999E-6,19.164000000000001,1E-3,15.557,1E-3,38.883000000000003,2E-3,0.81178250887079939,{"$f":"[1]!AgePb76(N23)","v":4942.5503721502246},null,4943]
["KLP217",null,null,0.70306100000000005,1.9999999999999999E-6,0.51290599999999997,1.9999999999999999E-6,19.762,1E-3,15.603,1E-3,39.567,2E-3,0.78954559255136114,{"$f":"[1]!AgePb76(N24)","v":4902.9938690119316},null,4903]
["Cumbre Vieja"]
["KLP47",123,3,0.70308300000000001,1.9999999999999999E-6,0.51290100000000005,1.9999999999999999E-6,19.629000000000001,6.9999999999999999E-4,15.585000000000001,1E-3,39.396000000000001,2E-3,0.79397829741708692,{"$f":"[1]!AgePb76(N26)","v":4910.9728974406362},123,4911]
["KLP52",90,3,0.70308700000000002,3.0000000000000001E-6,0.51290100000000005,3.0000000000000001E-6,19.544,4.0000000000000002E-4,15.584,0,39.313000000000002,1E-3,0.79738027015963975,{"$f":"[1]!AgePb76(N27)","v":4917.0644795535018},90,4917]
["KLP82",120,3,0.70314100000000002,3.0000000000000001E-6,0.51289200000000001,1.9999999999999999E-6,19.497,5.0000000000000001E-4,15.582000000000001,0,39.287999999999997,1E-3,0.79919987690413918,{"$f":"[1]!AgePb76(N28)","v":4920.3113295932308},120,4920]
["KLP92",20,2,0.703098,3.0000000000000001E-6,0.51290000000000002,1.9999999999999999E-6,19.55,5.9999999999999995E-4,15.587,1E-3,39.393999999999998,2E-3,0.79728900255754476,{"$f":"[1]!AgePb76(N29)","v":4916.9014168613712},20,4917]
["TLP19-2",null,null,0.703125,3.0000000000000001E-6,0.51289600000000002,1.9999999999999999E-6,19.648,5.9999999999999995E-4,15.587999999999999,1E-3,39.438000000000002,2E-3,0.79336319218241036,{"$f":"[1]!AgePb76(N30)","v":4909.8685231933005}]
["TLP23-1",null,null,0.70308800000000005,3.0000000000000001E-6,0.51289899999999999,1.9999999999999999E-6,19.558,5.9999999999999995E-4,15.590999999999999,1E-3,39.293999999999997,2E-3,0.79716739952960425,{"$f":"[1]!AgePb76(N31)","v":4916.6841247010707}]
["TLP25-1","1677 A.D.",null,0.70309900000000003,3.0000000000000001E-6,0.51289200000000001,1.9999999999999999E-6,19.635999999999999,5.9999999999999995E-4,15.593999999999999,1E-3,39.426000000000002,2E-3,0.79415359543695252,{"$f":"[1]!AgePb76(N32)","v":4911.2874648470679}]
["TLP38-1"," ",null,0.70311699999999999,3.0000000000000001E-6,0.51288699999999998,1.9999999999999999E-6,19.66,5.9999999999999995E-4,15.596,1E-3,39.472000000000001,2E-3,0.79328585961342823,{"$f":"[1]!AgePb76(N33)","v":4909.7296140118888}]
["TLP43-1","1646 A.D.",null,0.70310799999999996,3.0000000000000001E-6,0.51289099999999999,1.9999999999999999E-6,19.640999999999998,5.9999999999999995E-4,15.6,1E-3,39.439,2E-3,0.79425691156254774,{"$f":"[1]!AgePb76(N34)","v":4911.4728281396929}]
["TLP46-1"," ",null,0.703129,1.9999999999999999E-6,0.51289499999999999,3.0000000000000001E-6,19.655999999999999,1E-3,15.595000000000001,0,38.463999999999999,1E-3,0.7933964183964185,{"$f":"[1]!AgePb76(N35)","v":4909.9282015921817}]
["TLP50-1","1585 A.D.",null,0.70309500000000003,3.0000000000000001E-6,0.51289200000000001,6.9999999999999999E-6,19.655000000000001,1E-3,15.593999999999999,1E-3,38.448,2E-3,0.79338590689392008,{"$f":"[1]!AgePb76(N36)","v":4909.9093219184215}]
["TLP50-2","1585 A.D.",null,0.70308199999999998,3.0000000000000001E-6,0.51289799999999997,7.9999999999999996E-6,19.643999999999998,1E-3,15.590999999999999,1E-3,38.414999999999999,3.0000000000000001E-3,0.79367745876603546,{"$f":"[1]!AgePb76(N37)","v":4910.4328785481785}]
["TLP51-2","1585 A.D.",null,0.70309900000000003,3.0000000000000001E-6,0.51289300000000004,3.9999999999999998E-6,19.66,1E-3,15.599,1E-3,38.468000000000004,2E-3,0.79343845371312305,{"$f":"[1]!AgePb76(N38)","v":4910.0036984200024}]
["TLP51-3","1585 A.D.",null,0.70307600000000003,3.0000000000000001E-6,0.51289700000000005,1.9999999999999999E-6,19.652999999999999,1E-3,15.592000000000001,1E-3,39.426000000000002,2E-3,0.79336488067979449,{"$f":"[1]!AgePb76(N39)","v":4909.8715560080573}]
["TLP58-1","1480 A.D.",null,0.70310700000000004,3.0000000000000001E-6,0.51289099999999999,1.9999999999999999E-6,19.652000000000001,2E-3,15.599,2E-3,39.454000000000001,5.0000000000000001E-3,0.79376144921636471,{"$f":"[1]!AgePb76(N40)","v":4910.5836670983745}]
["TLP64-1"," ",null,0.703102,3.0000000000000001E-6,0.51289099999999999,3.0000000000000001E-6,19.715,2E-3,15.599,2E-3,39.478000000000002,4.0000000000000001E-3,0.79122495561755013,{"$f":"[1]!AgePb76(N41)","v":4906.0223805265368}]
["TLP69-1"," ",null,0.70308199999999998,1.9999999999999999E-6,0.51289799999999997,3.0000000000000001E-6,19.640999999999998,1E-3,15.596,1E-3,39.411000000000001,3.0000000000000001E-3,0.7940532559441984,{"$f":"[1]!AgePb76(N42)","v":4911.1074174719706}]
["TLP79-1","1971 A.D.",null,0.70311800000000002,3.9999999999999998E-6,0.51289600000000002,3.0000000000000001E-6,19.597999999999999,2E-3,15.593,1E-3,39.372999999999998,4.0000000000000001E-3,0.79564241249107059,{"$f":"[1]!AgePb76(N43)","v":4913.9561300284067}]
["TLP116-1"," ",null,0.70311800000000002,3.0000000000000001E-6,0.51289600000000002,3.0000000000000001E-6,19.669,1E-3,15.599,1E-3,39.488,3.0000000000000001E-3,0.79307539783415526,{"$f":"[1]!AgePb76(N44)","v":4909.3514975297021}]
["KLA1-5-07","1949 A.D.",null,0.70311400000000002,3.9999999999999998E-6,0.51288999999999996,1.9999999999999999E-6,19.353999999999999,1E-3,15.599,1E-3,39.158999999999999,3.0000000000000001E-3,0.8059832592745686,{"$f":"[1]!AgePb76(N45)","v":4932.346444746503}]
["KLA1-2-10","1949 A.D.",null,0.70316900000000004,1.9999999999999999E-6,0.51288999999999996,3.0000000000000001E-6,19.515999999999998,1E-3,15.599,0,39.329000000000001,1E-3,0.79929288788686215,{"$f":"[1]!AgePb76(N46)","v":4920.4770841251975}]
["KLA1-5-13","1949 A.D.",null,0.70316699999999999,1.9999999999999999E-6,0.51288800000000001,1.9999999999999999E-6,19.576000000000001,4.0000000000000001E-3,15.609,3.0000000000000001E-3,39.411999999999999,8.0000000000000002E-3,0.79735390273804652,{"$f":"[1]!AgePb76(N47)","v":4917.0173724044771}]
[]
[null,"Volcano","40Ar/39Ar","207Pb/206Pb","Age Ratio"]
[null,"La Palma Island","Age (Ma)","Age (Ma)"]
[null,"Taburiente",533,4904,{"$f":"D51/C51","v":9.2007504690431521}]
[null,null,410,4907,{"$f":"D52/C52","v":11.96829268292683}]
[null,null,563,4908,8.7175843694493782]
[null,null,585,4902,8.3794871794871799]
[null,null,560,4892,8.7357142857142858]
[null,null,833,4903,5.8859543817527014]
[null,"Cumbre Nueva",647,4911,7.5904173106646056]
[null,null,834,4916,5.8944844124700237]
[null,"Cumbre Vieja",123,4911,39.926829268292686]
[null,null,90,4917,54.633333333333333]
[null,null,120,4920,41]
[null,null,20,4917,245.85]
[]
[]
[]
[null,"Eruption Year","Pb Age (Ma)","True Age","Error Ratio 106","Eruption Year","Year Dated"]
[null,"1480 A.D.",4910.5836670983745,{"$f":"G67-F67","v":525},{"$f":"C67/D67","v":9.3534926992349998},1480,2005]
[null," ",4906.0223805265368,525,9.3448045343362605,1480,2005]
[null," ",4911.1074174719706,525,9.3544903189942303,1480,2005]
[null,"1585 A.D.",4909.9093219184215,420,11.690260290281955,1585,2005]
[null,null,4910.4328785481785,420,11.691506853686139,1585,2005]
[null,null,4910.0036984200024,420,11.690484996238101,1585,2005]
[null,null,4909.8715560080573,420,11.690170371447756,1585,2005]
[null,"1646 A.D.",4911.4728281396929,359,13.68098280818856,1646,2005]
[null," ",4909.9282015921817,359,13.676680227276272,1646,2005]
[null,"1677 A.D.",4911.2874648470679,{"$f":"G76-F76","v":328},{"$f":"C76/D76","v":14.973437392826426},1677,2005]
[null," ",4909.7296140118888,{"$f":"G77-F77","v":328},{"$f":"C77/D77","v":14.968687847597222},1677,2005]
[null,"1949 A.D.",4932.346444746503,{"$f":"G78-F78","v":56},{"$f":"C78/D78","v":88.077615084758989},1949,2005]
[null,null,4920.4770841251975,56,87.865662216521386,1949,2005]
[null,null,4917.0173724044771,56,87.803881650079944,1949,2005]
[null,"1971 A.D.",4913.9561300284067,{"$f":"G81-F81","v":34},{"$f":"C81/D81","v":144.52812147142373},1971,2005]
[null," ",4909.3514975297021,34,144.39269110381477,1971,2005]

{"sheet":"H31","index":9,"n_rows":11,"n_cols":5,"rows_kept":11,"cut":false,"hidden":false,"merged":[]}
["Table 1","Holocene","Holocene","Recent","Recent"]
["206Pb/204Pb",18.78,18.774999999999999,18.773,18.727]
["207Pb/204Pb",15.699,15.702,15.714,15.670999999999999]
["207Pb/206Pb",{"$f":"(B3/B2)","v":0.83594249201277948},{"$f":"(C3/C2)","v":0.83632490013315586},{"$f":"(D3/D2)","v":0.83705321472327288},{"$f":"(E3/E2)","v":0.83681315747316709}]
["Pb/Pb Age",{"$f":"[1]!AgePb76(B4)","v":4984.2421449634085},{"$f":"[1]!AgePb76(C4)","v":4984.891708480005},{"$f":"[1]!AgePb76(D4)","v":4986.1279608497716},{"$f":"[1]!AgePb76(E4)","v":4985.7206103081253}]
[]
["Eruption Year","Pb Age (Ma)","Year Dated","Error Ratio"]
["8000 BC",4984,2003,{"$f":"(B8 * 1000000)/10000","v":498400}]
["8000 BC",4985,2003,{"$f":"(B9 * 1000000)/10000","v":498500}]
["1822 AD",4986,2003,{"$f":"(B10 * 1000000)/181","v":27546961.32596685}]
["1872 AD",4986,2003,{"$f":"(B11 * 1000000)/131","v":38061068.702290073}]

{"sheet":"H32","index":10,"n_rows":76,"n_cols":27,"rows_kept":76,"cut":false,"hidden":false,"merged":[]}
["Table 3",null,null,null,"206Pb/238U",null,null,"207Pb/235U",null,null,null,"207Pb/206Pb",null,null,null,null,null,"230Th/238U",null,null,null,null,null,"La Reforma","206Pb/238U","207Pb/235U","207Pb/206Pb"]
["La Reforma",null,null,"206Pb/238U","Age (Ma)",null,"207Pb/235U","Age (Ma)",null,null,"207Pb/206Pb","Age (Ma)",null,"204Pb/206Pb",null,null,null,"Age (Ma)",null,null,null,null,null,null,"Age (Ma)","Age (Ma)","Age (Ma)"]
["BH00R40",1,1,0.91700000000000004,{"$f":"[1]!AgePb6U8(D3)","v":4195.0779311104434},0.16600000000000001,72,{"$f":"[1]!AgePb7U5(G3)","v":4356.4598072278932},15.8,0.68,0.56899999999999995,{"$f":"[1]!AgePb76(K3)","v":4430.7650858944435},9.2999999999999999E-2,37.6,15.4,33.1,1.05,2.0499999999999998,1.39,93,34,null,null,null,4195.0779311104434,4356.4598072278932,4430.7650858944435]
["BH00R40",3,1,0.33300000000000002,{"$f":"[1]!AgePb6U8(D4)","v":1852.90598676275},2.7E-2,17.399999999999999,{"$f":"[1]!AgePb7U5(G4)","v":2957.1515099913081},2.8,0.86,0.379,{"$f":"[1]!AgePb76(K4)","v":3827.7852655082706},3.6999999999999998E-2,73.900000000000006,16.2,57.5,1.06,1.31,0.23,805,768,null,null,null,1852.90598676275,2957.1515099913081,3827.7852655082706]
["BH00R40",5,1,0.41799999999999998,{"$f":"[1]!AgePb6U8(D5)","v":2251.3935736337517},5.5E-2,25.1,{"$f":"[1]!AgePb7U5(G5)","v":3312.1138389893363},6.1,0.86,0.435,{"$f":"[1]!AgePb76(K5)","v":4034.705686521283},6.3E-2,39.299999999999997,14.9,50.2,1.07,1.44,0.49,216,104,null,null,null,2251.3935736337517,3312.1138389893363,4034.705686521283]
["BH00R40",7,1,0.249,{"$f":"[1]!AgePb6U8(D6)","v":1433.316558539505},1.4999999999999999E-2,6.4,{"$f":"[1]!AgePb7U5(G6)","v":2032.268873645859},1.1000000000000001,0.8,0.188,{"$f":"[1]!AgePb76(K6)","v":2724.7439494898849},2.5000000000000001E-2,43.3,9.1999999999999993,81.900000000000006,1.06,1.39,0.11,1272,1111,null,null,null,1433.316558539505,2032.268873645859,2724.7439494898849]
["BH00R40",7,2,0.19900000000000001,{"$f":"[1]!AgePb6U8(D7)","v":1169.9460180201597},6.0000000000000001E-3,2.5299999999999998,{"$f":"[1]!AgePb7U5(G7)","v":1280.7004832666958},0.26,0.56999999999999995,9.1999999999999998E-2,{"$f":"[1]!AgePb76(K7)","v":1467.385947155441},8.0000000000000002E-3,32.6,5.3,94.1,1.05,1.26,0.04,1181,1574,null,null,null,1169.9460180201597,1280.7004832666958,1467.385947155441]
["BH00R40",8,1,0.53400000000000003,{"$f":"[1]!AgePb6U8(D8)","v":2758.2833388884092},6.8000000000000005E-2,38,{"$f":"[1]!AgePb7U5(G8)","v":3719.9184100417792},7.9,0.74,0.51700000000000002,{"$f":"[1]!AgePb76(K8)","v":4290.4252301653069},7.3999999999999996E-2,32.9,14.8,39.799999999999997,1.07,1.46,0.63,158,63,null,null,null,2758.2833388884092,3719.9184100417792,4290.4252301653069]
["BH00R40",9,1,0.27200000000000002,{"$f":"[1]!AgePb6U8(D9)","v":1550.9457851276741},1.4999999999999999E-2,9.3000000000000007,{"$f":"[1]!AgePb7U5(G9)","v":2368.019388978616},1.1599999999999999,0.55000000000000004,0.248,{"$f":"[1]!AgePb76(K9)","v":3172.0436021773567},2.5999999999999999E-2,21.2,8.1999999999999993,74.2,1.07,1.39,0.12,212,106,null,null,null,1550.9457851276741,2368.019388978616,3172.0436021773567]
["BH00R40",9,2,0.28599999999999998,{"$f":"[1]!AgePb6U8(D10)","v":1621.5092719769714},1.6E-2,10.1,{"$f":"[1]!AgePb7U5(G10)","v":2443.9712731058421},2.2000000000000002,0.76,0.25600000000000001,{"$f":"[1]!AgePb76(K10)","v":3222.2571006400576},4.4999999999999998E-2,23,10.3,73.2,1.07,1.44,0.16,443,253,null,null,null,1621.5092719769714,2443.9712731058421,3222.2571006400576]
["BH00R40",19,1,0.499,{"$f":"[1]!AgePb6U8(D11)","v":2609.4969806314957},6.5000000000000002E-2,30.8,{"$f":"[1]!AgePb7U5(G11)","v":3512.6834439621575},5.4,0.87,0.44700000000000001,{"$f":"[1]!AgePb76(K11)","v":4075.2552464579835},3.9E-2,110,31,48.8,1.06,1.66,0.51,136,57,null,null,null,2609.4969806314957,3512.6834439621575,4075.2552464579835]
["BH00R40",19,2,0.46600000000000003,{"$f":"[1]!AgePb6U8(D12)","v":2465.9958321641243},0.06,27,{"$f":"[1]!AgePb7U5(G12)","v":3383.4639896179151},4.8,0.85,0.41899999999999998,{"$f":"[1]!AgePb76(K12)","v":3978.7003904910689},4.1000000000000002E-2,24.1,12,52.3,1.06,1.66,0.47,136,64,null,null,null,2465.9958321641243,3383.4639896179151,3978.7003904910689]
["BH00R40",20,1,0.75600000000000001,{"$f":"[1]!AgePb6U8(D13)","v":3629.5793406151488},0.14499999999999999,59.5,{"$f":"[1]!AgePb7U5(G13)","v":4165.7545464149825},13.3,0.89,0.57099999999999995,{"$f":"[1]!AgePb76(K13)","v":4435.8831225747217},5.8999999999999997E-2,59.8,23.4,33,1.06,1.7,1.19,99,36,null,null,null,3629.5793406151488,4165.7545464149825,4435.8831225747217]
["BH00R40",21,1,0.90100000000000002,{"$f":"[1]!AgePb6U8(D14)","v":4141.0479516924561},0.183,93.9,{"$f":"[1]!AgePb7U5(G14)","v":4622.8600351483801},20.2,0.87,0.75600000000000001,{"$f":"[1]!AgePb76(K14)","v":4841.0186046324352},8.1000000000000003E-2,79.7,25.1,9.1999999999999993,1.18,0.63,1.63,129,48,null,null,null,4141.0479516924561,4622.8600351483801,4841.0186046324352]
[null,null,null,"Average",{"$f":"AVERAGE(E3:E14)","v":2473.2915474302408},null,"Average",{"$f":"AVERAGE(H3:H14)","v":3179.6138000325641},null,null,"Average",{"$f":"AVERAGE(L3:L14)","v":3708.4141026423545},null,null,null,null,"Average",{"$f":"AVERAGE(R3:R14)","v":1.4491666666666667},null,null,null,null,null,null,"206Pb/238U","207Pb/235U","207Pb/206Pb"]
[null,null,null,"Maximum",{"$f":"MAX(E3:E15)","v":4195.0779311104434},null,"Maximum",{"$f":"MAX(H3:H15)","v":4622.8600351483801},null,null,"Maximum",{"$f":"MAX(L3:L15)","v":4841.0186046324352},null,null,null,null,"Maximum",{"$f":"MAX(R3:R15)","v":2.0499999999999998},null,null,null,null,null,null,"Age (Ma)","Age (Ma)","Age (Ma)"]
[null,null,null,"Minimum",{"$f":"MIN(E3:E16)","v":1169.9460180201597},null,"Minimum",{"$f":"MIN(H3:H16)","v":1280.7004832666958},null,null,"Minimum",{"$f":"MIN(L3:L16)","v":1467.385947155441},null,null,null,null,"Minimum",{"$f":"MIN(R3:R16)","v":0.63},null,null,null,null,null,"Aguajito",5855,5088,4799]
[null,null,null,"Difference",{"$f":"E16-E17","v":3025.1319130902839},null,"Difference",{"$f":"H16-H17","v":3342.1595518816844},null,null,"Difference",{"$f":"L16-L17","v":3373.6326574769942},null,null,null,null,"Difference",{"$f":"R16-R17","v":1.42},null,null,null,null,null,null,4282,4271,4265]
[null,null,null,null,null,null,null,null,null,null,null,null,null,null,null,null,null,null,null,null,null,null,null,null,2310,3592,4413]
[null,null,null,null,null,null,null,null,null,null,null,null,null,null,null,null,null,"230Th/238U",null,null,null,null,null,null,4272,4589,4731]
["Aguajito",null,null,null,null,null,null,null,null,null,null,null,null,null,null,null,null,"Age (Ma)",null,null,null,null,null,null,3078,4089,4628]
["BH00R41",1,1,1.48,{"$f":"[1]!AgePb6U8(D22)","v":5855.0108633482087},0.28999999999999998,149,{"$f":"[1]!AgePb7U5(G22)","v":5087.7141636759461},29,0.89,0.73399999999999999,{"$f":"[1]!AgePb76(K22)","v":4798.7606465703084},6.7000000000000004E-2,57.7,18.5,12,1.0900000000000001,1.24,2.46,68,19,null,null,null,4374,4644,4765]
["BH00R41",2,1,0.94299999999999995,{"$f":"[1]!AgePb6U8(D23)","v":4281.9221298649672},0.14899999999999999,66.099999999999994,{"$f":"[1]!AgePb7U5(G23)","v":4270.8879971342194},14,0.86,0.50800000000000001,{"$f":"[1]!AgePb76(K23)","v":4264.5916969263671},5.6000000000000001E-2,34,11.6,41,1.04,2.59,1.24,167,48,null,null,null,2523,3812,4583]
["BH00R41",2,2,0.43099999999999999,{"$f":"[1]!AgePb6U8(D24)","v":2310.2240165950939},2.8000000000000001E-2,33.4,{"$f":"[1]!AgePb7U5(G24)","v":3592.4826769349165},1.8,0.28999999999999998,0.56200000000000006,{"$f":"[1]!AgePb76(K24)","v":4412.6980946893509},0.04,63.2,14,34.1,1.1000000000000001,1.04,0.21,159,55,null,null,null,3078,4054,4579]
["BH00R41",3,1,0.94,{"$f":"[1]!AgePb6U8(D25)","v":4271.9611479467321},0.16700000000000001,90.8,{"$f":"[1]!AgePb7U5(G25)","v":4589.1377343011063},21,0.91,0.7,{"$f":"[1]!AgePb76(K25)","v":4730.7185830159333},7.0999999999999994E-2,29.9,10.9,16.399999999999999,1.1000000000000001,1.0900000000000001,1.59,131,43,null,null,null,2404,3592,4343]
["BH00R41",4,1,0.61199999999999999,{"$f":"[1]!AgePb6U8(D26)","v":3078.0057636385923},0.11899999999999999,55.1,{"$f":"[1]!AgePb7U5(G26)","v":4089.0854572053113},11.3,0.86,0.65200000000000002,{"$f":"[1]!AgePb76(K26)","v":4628.3907805353174},6.9000000000000006E-2,43.8,14.7,22.5,1.1100000000000001,0.98,1,215,87,null,null,null,1541,2802,3905]
["BH00R41",5,1,0.97099999999999997,{"$f":"[1]!AgePb6U8(D27)","v":4374.1565071431633},0.19900000000000001,95.9,{"$f":"[1]!AgePb7U5(G27)","v":4644.0366745156325},22.5,0.92,0.71699999999999997,{"$f":"[1]!AgePb76(K27)","v":4765.1703983873549},6.8000000000000005E-2,56.3,14.2,14.3,1.1100000000000001,0.99,1.8,167,57,null,null,null,2842,3994,4637]
["BH00R41",6,1,0.47899999999999998,{"$f":"[1]!AgePb6U8(D28)","v":2522.9085171871902},8.1000000000000003E-2,41.7,{"$f":"[1]!AgePb7U5(G28)","v":3811.9499621613231},9.1999999999999993,0.85,0.63200000000000001,{"$f":"[1]!AgePb76(K28)","v":4583.3480984346152},7.4999999999999997E-2,31.1,19.8,25.1,1.1200000000000001,0.87,0.73,183,61,null,null,null,2058,3460,4415]
["BH00R41",7,1,0.61199999999999999,{"$f":"[1]!AgePb6U8(D29)","v":3078.0057636385923},0.105,53.2,{"$f":"[1]!AgePb7U5(G29)","v":4054.100531497792},12.1,0.9,0.63,{"$f":"[1]!AgePb76(K29)","v":4578.7599716361347},6.6000000000000003E-2,54.7,20.9,25.4,1.1000000000000001,1.1000000000000001,0.96,148,50,null,null,null,4144,4579,4779]
["BH00R41",9,1,0.45200000000000001,{"$f":"[1]!AgePb6U8(D30)","v":2404.1380590014783},0.06,33.4,{"$f":"[1]!AgePb7U5(G30)","v":3592.4826769349165},6.7,0.83,0.53600000000000003,{"$f":"[1]!AgePb76(K30)","v":4343.4012354238321},6.3E-2,30.3,12.8,37.299999999999997,1.0900000000000001,1.19,0.54,170,49,null,null,null,2431,3778,4597]
["BH00R41",9,2,0.27,{"$f":"[1]!AgePb6U8(D31)","v":1540.8019369572921},1.4999999999999999E-2,14.8,{"$f":"[1]!AgePb7U5(G31)","v":2802.4673199298581},2.9,0.42,0.39900000000000002,{"$f":"[1]!AgePb76(K31)","v":3905.3144195804534},7.1999999999999995E-2,44.9,17.100000000000001,54.9,1.0900000000000001,1.04,0.19,140,72,null,null,null,2247,3566,4420]
["BH00R41",11,1,0.55400000000000005,{"$f":"[1]!AgePb6U8(D32)","v":2841.7872808732041},0.106,50.1,{"$f":"[1]!AgePb7U5(G32)","v":3994.298113631171},12.3,0.91,0.65600000000000003,{"$f":"[1]!AgePb76(K32)","v":4637.2214833913558},6.9000000000000006E-2,77.7,24,22.1,1.1200000000000001,0.88,0.97,194,85,null,null,null,3600,4416,4810]
["BH00R41",12,1,0.376,{"$f":"[1]!AgePb6U8(D33)","v":2057.57124584143},4.3999999999999997E-2,29.2,{"$f":"[1]!AgePb7U5(G33)","v":3460.2649381944698},7.1,0.82,0.56299999999999994,{"$f":"[1]!AgePb76(K33)","v":4415.2938937936196},9.0999999999999998E-2,46.8,16.3,33.9,1.1100000000000001,0.91,0.49,233,117,null,null,null,3329,4221,4676]
["BH00R41",13,1,0.90200000000000002,{"$f":"[1]!AgePb6U8(D34)","v":4144.4381248876625},0.06,89.9,{"$f":"[1]!AgePb7U5(G34)","v":4579.1338794572093},9.8000000000000007,0.84,0.72399999999999998,{"$f":"[1]!AgePb76(K34)","v":4779.1035896556132},4.7E-2,58.9,12.2,13.4,1.0900000000000001,0.85,0.67,259,246,null,null,null,2993,4105,4704]
["BH00R41",14,1,0.45800000000000002,{"$f":"[1]!AgePb6U8(D35)","v":2430.7212479385425},0.05,40.299999999999997,{"$f":"[1]!AgePb7U5(G35)","v":3778.100725965362},6,0.78,0.63800000000000001,{"$f":"[1]!AgePb76(K35)","v":4597.0195848505846},0.06,48,14.2,24.3,1.1200000000000001,0.81,0.47,258,148,null,null,null,4325,4584,4702]
["BH00R41",15,1,0.41699999999999998,{"$f":"[1]!AgePb6U8(D36)","v":2246.8458385723993},3.2000000000000001E-2,32.5,{"$f":"[1]!AgePb7U5(G36)","v":3565.5637293303757},3.5,0.84,0.56499999999999995,{"$f":"[1]!AgePb76(K36)","v":4420.4706176485206},3.4000000000000002E-2,46.9,10.9,33.6,1.1000000000000001,0.99,0.28000000000000003,219,125,null,null,null,3118,4035,4530]
["BH00R41",16,1,0.748,{"$f":"[1]!AgePb6U8(D37)","v":3600.1436082729651},0.14199999999999999,76.400000000000006,{"$f":"[1]!AgePb7U5(G37)","v":4415.8874758548827},17.8,0.91,0.74,{"$f":"[1]!AgePb76(K37)","v":4810.4181720839997},7.3999999999999996E-2,42.4,14.2,11.3,1.18,0.64,1.35,161,54,null,null,null,2904,3802,4316]
["BH00R41",17,1,0.67600000000000005,{"$f":"[1]!AgePb6U8(D38)","v":3328.9927610629584},0.107,62.9,{"$f":"[1]!AgePb7U5(G38)","v":4221.2716265253475},12,0.84,0.67400000000000004,{"$f":"[1]!AgePb76(K38)","v":4676.2585045253027},7.0000000000000007E-2,30.1,12.7,19.7,1.1100000000000001,0.95,0.96,190,84,null,null,null,4083,4377,4515]
["BH00R41",18,1,0.59099999999999997,{"$f":"[1]!AgePb6U8(D39)","v":2993.47461309041},9.2999999999999999E-2,56,{"$f":"[1]!AgePb7U5(G39)","v":4105.245740807788},11.6,0.88,0.68700000000000006,{"$f":"[1]!AgePb76(K39)","v":4703.7641270630083},7.0000000000000007E-2,37.799999999999997,12.4,18.100000000000001,1.1299999999999999,0.78,0.89,240,114,null,null,null,4627,4612,4602]
["BH00R41",19,1,0.95599999999999996,{"$f":"[1]!AgePb6U8(D40)","v":4324.9094060443231},0.16500000000000001,90.3,{"$f":"[1]!AgePb7U5(G40)","v":4583.5922095759997},18,0.87,0.68600000000000005,{"$f":"[1]!AgePb76(K40)","v":4701.6681581464627},6.7000000000000004E-2,73.400000000000006,18.2,18.2,1.0900000000000001,1.22,1.46,162,48]
["BH00R41",31,1,0.622,{"$f":"[1]!AgePb6U8(D41)","v":3117.8723977000559},7.9000000000000001E-2,52.2,{"$f":"[1]!AgePb7U5(G41)","v":4035.1915483044104},10.1,0.94,0.60899999999999999,{"$f":"[1]!AgePb76(K41)","v":4529.6188467649381},5.1999999999999998E-2,53.8,10.5,28.1,1.08,1.22,0.76,141,58]
["BH00R41",33,1,0.56899999999999995,{"$f":"[1]!AgePb6U8(D42)","v":2903.712965356297},7.3999999999999996E-2,41.3,{"$f":"[1]!AgePb7U5(G42)","v":3802.3933452325045},6.9,0.82,0.52600000000000002,{"$f":"[1]!AgePb76(K42)","v":4315.7768673615956},5.0999999999999997E-2,40.5,13.1,38.700000000000003,1.07,1.51,0.62,83,35]
["BH00R41",36,1,0.88400000000000001,{"$f":"[1]!AgePb6U8(D43)","v":4083.140539269436},0.13100000000000001,73.5,{"$f":"[1]!AgePb7U5(G43)","v":4377.112377910863},12,0.91,0.60299999999999998,{"$f":"[1]!AgePb76(K43)","v":4515.2437093667095},4.2000000000000003E-2,56.8,13.4,28.8,1.06,1.74,1.08,113,45]
["BH00R41",38,1,1.05,{"$f":"[1]!AgePb6U8(D44)","v":4627.4926230479732},0.1,92.9,{"$f":"[1]!AgePb7U5(G44)","v":4612.1037581501923},10.5,0.88,0.64,{"$f":"[1]!AgePb76(K44)","v":4601.5461234438735},3.4000000000000002E-2,37.5,6.8,24.1,1.05,1.73,0.85,178,93]
[null,null,{"$f":"COUNT(C22:C44)","v":23},"Average",{"$f":"AVERAGE(E22:E44)","v":3322.5320590121296},null,"Average",{"$f":"AVERAGE(H22:H44)","v":4089.7610723144171},null,null,"Average",{"$f":"AVERAGE(L22:L44)","v":4552.8068523171851},null,null,null,null,"Average",{"$f":"AVERAGE(R22:R44)","v":1.1460869565217391}]
[null,null,null,"Maximum",{"$f":"MAX(E22:E45)","v":5855.0108633482087},null,"Maximum",{"$f":"MAX(H22:H45)","v":5087.7141636759461},null,null,"Maximum",{"$f":"MAX(L22:L45)","v":4810.4181720839997},null,null,null,null,"Maximum",{"$f":"MAX(R22:R45)","v":2.59}]
[null,null,null,"Minimum",{"$f":"MIN(E22:E46)","v":1540.8019369572921},null,"Minimum",{"$f":"MIN(H22:H46)","v":2802.4673199298581},null,null,"Minimum",{"$f":"MIN(L22:L46)","v":3905.3144195804534},null,null,null,null,"Minimum",{"$f":"MIN(R22:R46)","v":0.64}]
[null,null,null,"Difference",{"$f":"E46-E47","v":4314.2089263909165},null,"Difference",{"$f":"H46-H47","v":2285.246843746088},null,null,"Difference",{"$f":"L46-L47","v":905.10375250354627},null,null,null,null,"Difference",{"$f":"R46-R47","v":1.9499999999999997}]
[null,null,null,null,null,null,null,null,null,null,null,null,null,null,null,null,null,"230Th/238U",null,null,null,null,null,null,"206Pb/238U","207Pb/235U","207Pb/206Pb"]
["La Vírgen",null,null,null,null,null,null,null,null,null,null,null,null,null,null,null,null,"Age (Ma)",null,null,null,null,null,"La Vírgen","Age (Ma)","Age (Ma)","Age (Ma)"]
["BH91B10",3,1,40.1,{"$f":"[1]!AgePb6U8(D51)","v":23954.927455292116},1.5,322,{"$f":"[1]!AgePb7U5(G51)","v":5866.5302566103028},17,0.84,5.8000000000000003E-2,{"$f":"[1]!AgePb76(K51)","v":529.76190249090018},2E-3,0.51600000000000001,0.129,99.2,1,252,4,238,126,null,null,null,23954.927455292116,5866.5302566103028,529.76190249090018]
["BH91B10",8,1,20.2,{"$f":"[1]!AgePb6U8(D52)","v":19687.356529753211},3.1,141,{"$f":"[1]!AgePb7U5(G52)","v":5032.0628091600356},22,0.99,0.05,{"$f":"[1]!AgePb76(K52)","v":194.99313028453997},1E-3,1.7000000000000001E-2,0.02,100,1,129,1,656,423,null,null,null,19687.356529753211,5032.0628091600356,194.99313028453997]
["BH91B10",15,1,3.54,{"$f":"[1]!AgePb6U8(D53)","v":9752.9541469992364},0.52,32.6,{"$f":"[1]!AgePb7U5(G53)","v":3568.5902086299016},39.799999999999997,0.42,6.7000000000000004E-2,{"$f":"[1]!AgePb76(K53)","v":837.77358160661993},7.8E-2,14.24,2.09,73.400000000000006,1,25.1,3.5,269,133,null,null,null,9752.9541469992364,3568.5902086299016,837.77358160661993]
["BH91B10",19,1,40.700000000000003,{"$f":"[1]!AgePb6U8(D54)","v":24048.355383108825},0.4,290,{"$f":"[1]!AgePb7U5(G54)","v":5760.596301133668},8,"−0.28",5.1999999999999998E-2,{"$f":"[1]!AgePb76(K54)","v":285.4098980202682},2E-3,0.59,0.217,99.1,1,255,3,106,62,null,null,null,24048.355383108825,5760.596301133668,285.4098980202682]
["BH91B10",10,1,0.05,{"$f":"[1]!AgePb6U8(D55)","v":314.5216062493605},8.0000000000000002E-3,5.07,{"$f":"[1]!AgePb7U5(G55)","v":1831.0997665344032},1.06,0.81,0.73399999999999999,{"$f":"[1]!AgePb76(K55)","v":4798.7606465703084},0.09,93.61,42.73,12.1,3.25,0.127,8.1000000000000003E-2,195,98,null,null,null,314.5216062493605,1831.0997665344032,4798.7606465703084]
["BH91B10",12,1,15.8,{"$f":"[1]!AgePb6U8(D56)","v":18187.776866457461},0.3,112,{"$f":"[1]!AgePb7U5(G56)","v":4800.1094772933347},6,0.51,5.0999999999999997E-2,{"$f":"[1]!AgePb76(K56)","v":240.82988143504966},3.0000000000000001E-3,0.50900000000000001,0.39300000000000002,99.6,1,101,1.7,74,42,null,null,null,18187.776866457461,4800.1094772933347,240.82988143504966]
[null,null,null,"Average",{"$f":"AVERAGE(E51:E56)","v":15990.9819979767},null,"Average",{"$f":"AVERAGE(H51:H56)","v":4476.4981365602753},null,null,"Average",{"$f":"AVERAGE(L51:L56)","v":1147.9215067346145},null,null,null,null,"Average",{"$f":"AVERAGE(R51:R56)","v":127.03783333333332}]
[null,null,null,"Maximum",{"$f":"MAX(E51:E57)","v":24048.355383108825},null,"Maximum",{"$f":"MAX(H51:H57)","v":5866.5302566103028},null,null,"Maximum",{"$f":"MAX(L51:L57)","v":4798.7606465703084},null,null,null,null,"Maximum",{"$f":"MAX(R51:R57)","v":255}]
[null,null,null,"Minimum",{"$f":"MIN(E51:E58)","v":314.5216062493605},null,"Minimum",{"$f":"MIN(H51:H58)","v":1831.0997665344032},null,null,"Minimum",{"$f":"MIN(L51:L58)","v":194.99313028453997},null,null,null,null,"Minimum",{"$f":"MIN(R51:R58)","v":0.127}]
[null,null,null,"Difference",{"$f":"E58-E59","v":23733.833776859465},null,"Difference",{"$f":"H58-H59","v":4035.4304900758998},null,null,"Difference",{"$f":"L58-L59","v":4603.7675162857686},null,null,null,null,"Difference",{"$f":"R58-R59","v":254.87299999999999}]
[]
[]
["Volcano's","Statistical","206Pb/238U","207Pb/235U","207Pb/206Pb","230Th/238U","206Pb/238U","207Pb/235U","207Pb/206Pb","230Th/238U"]
["Name","Data","Age (Ma)","Age (Ma)","Age (Ma)","Age (Ma)","Age Ratio","Age Ratio","Age Ratio","Age Ratio"]
["La Reforma","Average",2473,3180,3708,1.4491666666666667,{"$f":"C65/F65","v":1706.4979873490511},{"$f":"D65/F65","v":2194.3645773433009},{"$f":"E65/F65","v":2558.7119033927543},{"$f":"F65/F65","v":1}]
[null,"Maximum",4195,4623,4841,2.0499999999999998,{"$f":"C66/F66","v":2046.3414634146343},{"$f":"D66/F66","v":2255.1219512195125},{"$f":"E66/F66","v":2361.4634146341464},{"$f":"F66/F66","v":1}]
[null,"Minimum",1170,1281,1467,0.63,1857.1428571428571,2033.3333333333333,2328.5714285714284,1]
[null,"Difference",3025,3342,3374,1.42,2130.2816901408451,2353.5211267605637,2376.0563380281692,1]
["Aguajito","Average",3323,4090,4553,1.1460869565217391,2899.4309559939302,3568.6646433990895,3972.6479514415782,1]
[null,"Maximum",5855,5088,4810,2.59,2260.6177606177607,1964.4787644787646,1857.1428571428573,1]
[null,"Minimum",1541,2802,3905,0.64,2407.8125,4378.125,6101.5625,1]
[null,"Difference",4314,2285,905,1.9499999999999997,2212.3076923076928,1171.7948717948721,464.10256410256414,1]
["La Vírgen","Average",15990.9819979767,4476.4981365602753,1147.9215067346145,127.03783333333332,125.87574566088607,35.237519556984537,9.0360601768340505,1]
[null,"Maximum",24048.355383108825,5866.5302566103028,4798.7606465703084,255,94.307276012191465,23.006001006314914,18.818669202236503,1]
[null,"Minimum",314.5216062493605,1831.0997665344032,194.99313028453997,0.127,2476.5480807036261,14418.108397908687,1535.378978618425,1]
[null,"Difference",23733.833776859465,4035.4304900758998,4603.7675162857686,254.87299999999999,93.120235477510235,15.833103114397758,18.062986335491672,1]

{"sheet":"H33","index":11,"n_rows":35,"n_cols":12,"rows_kept":35,"cut":false,"hidden":false,"merged":[]}
["Table 2",null,null,null,null,null,null,null,null,null,"Age","Eruption"]
["Sample","Location","87Sr/86Sr","143Nd/144Nd","206Pb/204Pb",null,"207Pb/204Pb",null,"208Pb/204Pb",null,"207Pb/206Pb","Year"]
[31461,"Niuafo’ou",0.70431900000000003,0.51282700000000003,18.461600000000001,14,15.5977,13,38.551400000000001,36,{"$f":"[1]!AgePb76(G3/E3)","v":4999.3291533444035},1946]
[31462,"Niuafo’ou",0.70432099999999997,0.51280099999999995,18.463799999999999,18,15.598599999999999,16,38.5548,48,{"$f":"[1]!AgePb76(G4/E4)","v":4999.2419201373314},1946]
[31463,"Niuafo’ou",0.70432300000000003,0.51280300000000001,18.4635,15,15.599500000000001,14,38.558,38,{"$f":"[1]!AgePb76(G5/E5)","v":4999.3468723741153},1946]
[31477,"Niuafo’ou",0.70435499999999995,0.51279799999999998,18.462199999999999,15,15.5983,13,38.549599999999998,43,{"$f":"[1]!AgePb76(G6/E6)","v":4999.3376227322979},1886]
["T078","Niuafo’ou",0.70439099999999999,0.512795,18.456399999999999,17,15.599600000000001,15,38.5505,41,{"$f":"[1]!AgePb76(G7/E7)","v":4999.9018676613578}]
["T079","Niuafo’ou",0.70433800000000002,0.51281500000000002,18.409600000000001,17,15.594799999999999,16,38.478900000000003,48,{"$f":"[1]!AgePb76(G8/E8)","v":5003.0683829436739}]
["T080","Niuafo’ou",0.70437000000000005,0.51279399999999997,18.459900000000001,16,15.5983,14,38.550800000000002,37,{"$f":"[1]!AgePb76(G9/E9)","v":4999.5144535304362}]
["T081","Niuafo’ou",0.70438999999999996,0.512795,18.474799999999998,17,15.6005,15,38.570500000000003,47,{"$f":"[1]!AgePb76(G10/E10)","v":4998.5694433495455}]
["T082","Niuafo’ou",0.70435800000000004,null,18.463799999999999,11,15.597099999999999,10,38.553800000000003,27,{"$f":"[1]!AgePb76(G11/E11)","v":4999.1054248060736}]
["T083","Niuafo’ou",0.704345,0.51280400000000004,18.462399999999999,20,15.597,18,38.552300000000002,47,{"$f":"[1]!AgePb76(G12/E12)","v":4999.2039501109384}]
["T084","Niuafo’ou",0.70437700000000003,0.51280800000000004,18.466899999999999,19,15.5982,17,38.559899999999999,49,{"$f":"[1]!AgePb76(G13/E13)","v":4998.967237533534}]
["N108","Niuafo’ou",0.70435800000000004,0.51280700000000001,18.466200000000001,17,15.598800000000001,16,38.552,43,{"$f":"[1]!AgePb76(G14/E14)","v":4999.0756367504191}]
["N131","Niuafo’ou",0.70436500000000002,0.51280000000000003,18.4621,16,15.5991,15,38.552500000000002,42,{"$f":"[1]!AgePb76(G15/E15)","v":4999.4181034770954}]
["MU40422","Niuafo’ou",0.70432899999999998,0.51280999999999999,18.439299999999999,25,15.598100000000001,22,38.5274,57,{"$f":"[1]!AgePb76(G16/E16)","v":5001.0809668396814}]
["MU40454","Niuafo’ou",0.70428100000000005,0.51281100000000002,18.448,17,15.5959,17,38.529000000000003,50,{"$f":"[1]!AgePb76(G17/E17)","v":5000.2112987706596}]
["MU40457","Niuafo’ou",0.70435800000000004,0.51280400000000004,18.4115,27,15.5937,24,38.476700000000001,67,{"$f":"[1]!AgePb76(G18/E18)","v":5002.8218241034238}]
["MU40458","Niuafo’ou",0.704264,0.51279399999999997,18.430499999999999,19,15.5954,18,38.505000000000003,48,{"$f":"[1]!AgePb76(G19/E19)","v":5001.5127549505032}]
["MU40462","Niuafo’ou",0.70430199999999998,0.51282000000000005,18.4527,15,15.590999999999999,14,38.535299999999999,39,{"$f":"[1]!AgePb76(G20/E20)","v":4999.4037472007494}]
["2212-2 (g)","KTJ",0.70399199999999995,0.51283800000000002,18.625900000000001,19,15.584199999999999,17,38.684100000000001,51,{"$f":"[1]!AgePb76(G21/E21)","v":4985.5203014684957}]
["2212-2b (g)","KTJ",null,null,18.6266,21,15.5848,19,38.685600000000001,54,{"$f":"[1]!AgePb76(G22/E22)","v":4985.5216058175274}]
["2218-7 (g)","KTJ",0.70394199999999996,0.51286100000000001,18.5928,11,15.584300000000001,11,38.656199999999998,28,{"$f":"[1]!AgePb76(G23/E23)","v":4988.0553634251173}]
["2218-7b (g)","KTJ",null,0.51285700000000001,18.5929,14,15.585000000000001,13,38.656500000000001,34,{"$f":"[1]!AgePb76(G24/E24)","v":4988.1115086768414}]
["2218-8 (g)","KTJ",0.70386499999999996,0.51286799999999999,18.571899999999999,16,15.578099999999999,15,38.628599999999999,43,{"$f":"[1]!AgePb76(G25/E25)","v":4989.0874431487946}]
["2218-8b (g)","KTJ",null,null,18.571999999999999,18,15.5783,16,38.628900000000002,46,{"$f":"[1]!AgePb76(G26/E26)","v":4989.0980276997379}]
["2218-10 (g)","KTJ",0.70408300000000001,0.51282899999999998,18.555900000000001,15,15.589499999999999,14,38.639800000000001,40,{"$f":"[1]!AgePb76(G27/E27)","v":4991.3499585450709}]
["2218-12 (g)","KTJ",0.70388700000000004,0.51286100000000001,18.593499999999999,19,15.583500000000001,17,38.644500000000001,46,{"$f":"[1]!AgePb76(G28/E28)","v":4987.9290023726671}]
["D120-2-1 (g)","NELSC",0.70392999999999994,0.51278599999999996,18.9877,22,15.616899999999999,19,38.923200000000001,49,{"$f":"[1]!AgePb76(G29/E29)","v":4961.161656329391}]
["16-94/1","Uo Mamae",0.70521500000000004,0.51246999999999998,18.331700000000001,11,15.6372,10,38.521000000000001,26,{"$f":"[1]!AgePb76(G30/E30)","v":5012.9370819618543}]
[null,null,null,null,null,null,null,null,null,"Average",{"$f":"AVERAGE(K3:K30)","v":4995.6386646450619}]
[null,null,null,null,null,null,null,null,null,"Maximum",{"$f":"MAX(K3:K31)","v":5012.9370819618543}]
[null,null,null,null,null,null,null,null,null,"Minimum",{"$f":"MIN(K3:K32)","v":4961.161656329391}]
[null,null,null,null,null,null,null,null,null,"Difference",{"$f":"K32-K33","v":51.775425632463339}]
[null,null,null,null,null,null,null,null,null,"Accuracy",{"$f":"1-(K34/K31)","v":0.98963587458819102}]

{"sheet":"H34","index":12,"n_rows":146,"n_cols":14,"rows_kept":146,"cut":false,"hidden":false,"merged":[]}
["Table 1. ","Mauna  Loa","Mauna  Loa","Mauna  Loa","Mauna  Loa","Mauna  Loa","Mauna  Loa","Mauna  Loa","Mauna  Loa",null,"MBSL","Mauna  Loa","MBSL","Pb Age (Ma)"]
["Sample name","MBSL","176Hf/177Hf","Error","εHf","206Pb/204Pb","207Pb/204Pb","207Pb/206Pb","Pb Age (Ma)",null,"Metres below sea level",null,9.5,5015.6101559373847]
[null,null,null,null,null,null,null,null,null,null,null,null,9.5,5015.6559668878817]
["SR0008-2.70",9.5,0.283051,6,9.9,18.092300000000002,15.4621,{"$f":"G4/F4","v":0.85462323750987979},{"$f":"[1]!AgePb76(H4)","v":5015.6101559373847},null,null,null,34,5016.9867433383679]
[null,9.5,0.28305900000000001,7,10.1,18.097799999999999,15.4673,{"$f":"G5/F5","v":0.85465084153875059},{"$f":"[1]!AgePb76(H5)","v":5015.6559668878817},null,null,null,34,5015.689599535066]
["SR0023-2.90",34,0.28305799999999998,8,10.1,18.084099999999999,15.4701,0.85545313286256996,{"$f":"[1]!AgePb76(H6)","v":5016.9867433383679},null,null,null,45.5,5015.1481373499828]
[null,34,0.28306399999999998,7,10.3,18.072800000000001,15.446300000000001,0.85467110796334822,{"$f":"[1]!AgePb76(H7)","v":5015.689599535066},null,null,null,53.5,5014.9529897024431]
["SR0031-0.50",45.5,0.28307700000000002,9,10.8,18.094799999999999,15.459199999999999,0.85434489466587082,{"$f":"[1]!AgePb76(H8)","v":5015.1481373499828},null,null,null,53.5,5013.2675576213942]
["SR0036-1.22",53.5,0.283086,7,11.1,18.1248,15.482699999999999,0.85422735699152541,{"$f":"[1]!AgePb76(H9)","v":5014.9529897024431},null,null,null,59.5,5014.5221766288532]
[null,53.5,0.28308499999999998,8,11.1,18.1174,15.458,0.8532129334231181,{"$f":"[1]!AgePb76(H10)","v":5013.2675576213942},null,null,null,59.5,5013.5235873418869]
["SR0040-1.07",59.5,0.28306999999999999,9,10.5,18.115200000000002,15.469799999999999,0.85396793852676189,{"$f":"[1]!AgePb76(H11)","v":5014.5221766288532},null,null,null,68.7,5015.2028388115423]
[null,59.5,0.28308699999999998,7,11.1,18.126200000000001,15.468299999999999,0.85336694949851588,{"$f":"[1]!AgePb76(H12)","v":5013.5235873418869},null,null,null,68.7,5014.4166269540756]
["SR0046-1.15",68.7,0.28309099999999998,6,11.3,18.083100000000002,15.4498,0.85437784450674925,{"$f":"[1]!AgePb76(H13)","v":5015.2028388115423},null,null,null,85.9,5010.0664140222252]
[null,68.7,null,null,null,18.094999999999999,15.4514,0.8539043934788616,{"$f":"[1]!AgePb76(H14)","v":5014.4166269540756},null,null,null,91.2,5012.1319624094167]
["SR0057-3.00",85.9,0.28308699999999998,6,11.1,18.1662,15.464700000000001,0.85128975790203787,{"$f":"[1]!AgePb76(H15)","v":5010.0664140222252},null,null,null,98.8,5004.9287279303671]
["SR0061-0.00",91.2,0.28308699999999998,7,11.1,18.133199999999999,15.459099999999999,0.8525301656629829,{"$f":"[1]!AgePb76(H16)","v":5012.1319624094167},null,null,null,98.8,5004.857528682217]
["SR0066-0.00",98.8,0.28309600000000001,8,11.5,18.243300000000001,15.4742,0.84821276852323857,{"$f":"[1]!AgePb76(H17)","v":5004.9287279303671},null,null,null,125.4,5005.6096153550434]
[null,98.8,null,null,null,18.2316,15.4635,0.8481702099651155,{"$f":"[1]!AgePb76(H18)","v":5004.857528682217},null,null,null,137,5006.2773076478179]
["SR0080-0.35",125.4,0.283084,6,11,18.222999999999999,15.464399999999999,0.84861987598090327,{"$f":"[1]!AgePb76(H19)","v":5005.6096153550434},null,null,null,149.9,5010.2356461594363]
["SR0083-7.85",137,0.28308800000000001,7,11.2,18.206299999999999,15.4575,0.84901929551858424,{"$f":"[1]!AgePb76(H20)","v":5006.2773076478179},null,null,null,163.30000000000001,5003.3734727506617]
["SR0089-1.15",149.9,0.28308699999999998,7,11.1,18.159099999999999,15.4605,0.85139131344615104,{"$f":"[1]!AgePb76(H21)","v":5010.2356461594363},null,null,null,177.8,5003.5861478925199]
["SR0093-6.55",163.30000000000001,0.28308800000000001,5,11.2,18.2469,15.4603,0.84728364818133495,{"$f":"[1]!AgePb76(H22)","v":5003.3734727506617},null,null,null,197.4,5018.3020012928037]
["SR0098-2.00",177.8,0.28310800000000003,6,11.9,18.2516,15.4666,0.84741063797146554,{"$f":"[1]!AgePb76(H23)","v":5003.5861478925199},null,null,null,197.4,5017.5207551150706]
["SR0104-4.95",197.4,0.28307399999999999,6,10.7,18.080300000000001,15.481199999999999,0.85624685431104564,{"$f":"[1]!AgePb76(H24)","v":5018.3020012928037},null,null,null,209.1,5012.3965357019415]
[null,197.4,null,null,null,18.061399999999999,15.4565,0.85577529981064593,{"$f":"[1]!AgePb76(H25)","v":5017.5207551150706},null,null,null,222.5,5009.0047025728736]
["SR0109-0.65",209.1,0.28306700000000001,5,10.4,18.126300000000001,15.456099999999999,0.8526891864307663,{"$f":"[1]!AgePb76(H26)","v":5012.3965357019415},null,null,null,233.7,5007.2178065361959]
["SR0113-6.20",222.5,0.28309200000000001,5,11.3,18.1798,15.464700000000001,0.85065292247439472,{"$f":"[1]!AgePb76(H27)","v":5009.0047025728736},null,null,null,242,5002.7354883855915]
["SR0117-4.00",233.7,0.283078,6,10.8,18.2166,15.4765,0.84958224915736191,{"$f":"[1]!AgePb76(H28)","v":5007.2178065361959},null,null,null,242,5003.5837445855623]
["SR0120-1.00",242,0.28308,8,10.9,18.250499999999999,15.4564,0.84690282458014854,{"$f":"[1]!AgePb76(H29)","v":5002.7354883855915}]
[null,242,null,null,null,18.235700000000001,15.453099999999999,0.84740920282742083,{"$f":"[1]!AgePb76(H30)","v":5003.5837445855623}]
[null,null,null,null,null,null,null,"Average",{"$f":"AVERAGE(I4:I30)","v":5010.9927495240227}]
[null,null,null,null,null,null,null,"Maximum",{"$f":"MAX(I4:I31)","v":5018.3020012928037}]
[null,null,null,null,null,null,null,"Minimum",{"$f":"MIN(I4:I32)","v":5002.7354883855915}]
[null,null,null,null,null,null,null,"Difference",{"$f":"I32-I33","v":15.5665129072122}]
[null,null,null,null,null,null,null,"Accuracy",{"$f":"1-(I34/I31)","v":0.99689352715413715}]
[]
["Mauna  Kea","Mauna  Kea","Mauna  Kea","Mauna  Kea","Mauna  Kea","Mauna  Kea","Mauna  Kea","Mauna  Kea","Mauna  Kea"]
["SR0121-4.40",246.2,0.28310299999999999,5,11.7,18.411100000000001,15.4825,0.84093291546947213,{"$f":"[1]!AgePb76(H38)","v":4992.6942229601655},null,null,"Mauna  Kea","MBSL","Pb Age (Ma)"]
[null,246.2,0.28311199999999997,10,12,18.417899999999999,15.482200000000001,0.84060614945243495,{"$f":"[1]!AgePb76(H39)","v":4992.1424250539358},null,null,null,246.2,4992.6942229601655]
["SR0124-3.90",252.9,0.28310000000000002,5,11.6,18.408100000000001,15.477399999999999,0.84079291181599392,{"$f":"[1]!AgePb76(H40)","v":4992.4578317716423},null,null,null,246.2,4992.1424250539358]
["SR0125-6.25",256.5,0.28309699999999999,5,11.5,18.407599999999999,15.493600000000001,0.8416958212912059,{"$f":"[1]!AgePb76(H41)","v":4993.9816280447703},null,null,null,252.9,4992.4578317716423]
[null,256.5,null,null,null,18.4329,15.488799999999999,0.84028015125129518,{"$f":"[1]!AgePb76(H42)","v":4991.5916965967772},null,null,null,256.5,4993.9816280447703]
["SR0127-4.75",261.7,0.28310400000000002,4,11.7,18.431000000000001,15.4849,0.8401551733492485,{"$f":"[1]!AgePb76(H43)","v":4991.3805036786625},null,null,null,256.5,4991.5916965967772]
["SR0129-5.20",267.5,0.28312599999999999,7,12.5,18.436199999999999,15.4794,0.83961987828294338,{"$f":"[1]!AgePb76(H44)","v":4990.4755617486662},null,null,null,261.7,4991.3805036786625]
["SR0131-6.92",274.39999999999998,0.28312500000000002,5,12.5,18.441299999999998,15.4863,0.83976183891591161,{"$f":"[1]!AgePb76(H45)","v":4990.7156127054786},null,null,null,267.5,4990.4755617486662]
["SR0133-8.20",281.3,0.28312100000000001,5,12.3,18.430099999999999,15.4834,0.84011481218224537,{"$f":"[1]!AgePb76(H46)","v":4991.3122925499229},null,null,null,274.39999999999998,4990.7156127054786]
["SR0137-5.98",293,0.283109,5,11.9,18.433900000000001,15.4794,0.83972463775977946,{"$f":"[1]!AgePb76(H47)","v":4990.6527108918244},null,null,null,281.3,4991.3122925499229]
[null,293,null,null,null,18.4343,15.4779,0.83962504678778149,{"$f":"[1]!AgePb76(H48)","v":4990.4843022838741},null,null,null,293,4990.6527108918244]
["SR0141-7.90",305.8,0.28311399999999998,5,12.1,18.4465,15.4832,0.83935705960480311,{"$f":"[1]!AgePb76(H49)","v":4990.0310298057211},null,null,null,293,4990.4843022838741]
["SR0148-8.50",326.7,0.28311999999999998,6,12.3,18.384799999999998,15.474399999999999,0.84169531351986426,{"$f":"[1]!AgePb76(H50)","v":4993.9807715919678},null,null,null,305.8,4990.0310298057211]
[null,326.7,null,null,18.514800000000001,15.4749,38.044800000000002,2.4584843843902062,{"$f":"[1]!AgePb76(H51)","v":6473.7297235781798},null,null,null,326.7,4993.9807715919678]
[null,326.7,null,null,18.525700000000001,15.4763,38.049900000000001,2.4585915238138316,{"$f":"[1]!AgePb76(H52)","v":6473.7884762274953},null,null,null,326.7,6473.7297235781798]
["SR0175-5.25",398.1,0.28311999999999998,6,12.3,18.561299999999999,15.4809,0.8340417966413991,{"$f":"[1]!AgePb76(H53)","v":4981.0089065338971},null,null,null,326.7,6473.7884762274953]
["SR0184-2.80",421.2,0.28315200000000001,6,13.4,18.4785,15.4793,0.83769245339177967,{"$f":"[1]!AgePb76(H54)","v":4987.2120729232147},null,null,null,398.1,4981.0089065338971]
["SR0193-0.00",443.6,0.28314299999999998,8,13.1,18.533100000000001,15.487399999999999,0.83566160005611567,{"$f":"[1]!AgePb76(H55)","v":4983.7648169733429},null,null,null,421.2,4987.2120729232147]
["SR0205-1.30",467.8,0.283142,8,13.1,18.5456,15.485900000000001,0.83501747045121222,{"$f":"[1]!AgePb76(H56)","v":4982.6695844616979},null,null,null,443.6,4983.7648169733429]
["SR0212-8.20",490.9,0.28315200000000001,8,13.4,18.560600000000001,15.504200000000001,0.83532859929097125,{"$f":"[1]!AgePb76(H57)","v":4983.1987180292936},null,null,null,467.8,4982.6695844616979]
[null,490.9,null,null,null,18.599499999999999,15.5036,0.83354928895938074,{"$f":"[1]!AgePb76(H58)","v":4980.1698332653241},null,null,null,490.9,4983.1987180292936]
["SR0222-2.00",516.20000000000005,0.28312599999999999,9,12.5,18.559699999999999,15.495699999999999,0.83491112464102324,{"$f":"[1]!AgePb76(H59)","v":4982.4886752077955},null,null,null,490.9,4980.1698332653241]
["SR0232-8.50",542.1,0.28311199999999997,9,12,18.552099999999999,15.487,0.83478420232749939,{"$f":"[1]!AgePb76(H60)","v":4982.2727303586953},null,null,null,516.20000000000005,4982.4886752077955]
["SR0240-3.30",563.5,0.28314800000000001,8,13.3,18.582999999999998,15.4947,0.83381047193671642,{"$f":"[1]!AgePb76(H61)","v":4980.6148698981024},null,null,null,542.1,4982.2727303586953]
["SR0256-0.95",589,0.28312300000000001,7,12.4,18.523199999999999,15.4846,0.83595707005269071,{"$f":"[1]!AgePb76(H62)","v":4984.266913204362},null,null,null,563.5,4980.6148698981024]
["SR0267-6.85",615.79999999999995,0.283134,10,12.8,18.551200000000001,15.5,0.83552546465996802,{"$f":"[1]!AgePb76(H63)","v":4983.5334167358042},null,null,null,589,4984.266913204362]
[null,615.79999999999995,null,null,null,18.548500000000001,15.487500000000001,0.83497317842413132,{"$f":"[1]!AgePb76(H64)","v":4982.594240438717},null,null,null,615.79999999999995,4983.5334167358042]
["SR0276-7.85",636,0.28312999999999999,7,12.7,18.531500000000001,15.482100000000001,0.8354477511264603,{"$f":"[1]!AgePb76(H65)","v":4983.4013028537947},null,null,null,615.79999999999995,4982.594240438717]
["SR0284-1.75",658.3,0.28313100000000002,7,12.7,18.6343,15.488799999999999,0.83119838147931502,{"$f":"[1]!AgePb76(H66)","v":4976.157376541425},null,null,null,636,4983.4013028537947]
["SR0294-7.65",678.6,0.28312900000000002,7,12.6,18.581499999999998,15.4917,0.83371633075908835,{"$f":"[1]!AgePb76(H67)","v":4980.4544773152484},null,null,null,658.3,4976.157376541425]
["SR0300-6.50",695.9,0.28313700000000003,7,12.9,18.5688,15.487299999999999,{"$f":"G68/F68","v":0.83404958855714961},{"$f":"[1]!AgePb76(H68)","v":4981.0221771983588},null,null,null,678.6,4980.4544773152484]
["SR0311-4.40",724.1,0.28313100000000002,7,12.7,18.540900000000001,15.4992,0.83594647509020592,{"$f":"[1]!AgePb76(H69)","v":4984.2489122988236},null,null,null,695.9,4981.0221771983588]
["SR0328-3.10",759.8,0.28311599999999998,8,12.2,18.516400000000001,15.479200000000001,0.83597243524659215,{"$f":"[1]!AgePb76(H70)","v":4984.2930183312965},null,null,null,724.1,4984.2489122988236]
["SR0340-1.00",793.6,0.28312700000000002,6,12.6,18.611699999999999,15.5007,0.83284708006254138,{"$f":"[1]!AgePb76(H71)","v":4978.9725856184796},null,null,null,759.8,4984.2930183312965]
["SR0346-5.60",812.7,0.28312100000000001,8,12.3,18.5245,15.479900000000001,0.83564468676617454,{"$f":"[1]!AgePb76(H72)","v":4983.7360702789338},null,null,null,793.6,4978.9725856184796]
["SR0354-7.75",833.9,0.28311799999999998,10,12.2,18.428000000000001,15.476100000000001,0.83981441285001091,{"$f":"[1]!AgePb76(H73)","v":4990.8045026311456},null,null,null,812.7,4983.7360702789338]
["SR0372-2.80",871.2,0.28311500000000001,6,12.1,18.496700000000001,15.480600000000001,0.83693848091821788,{"$f":"[1]!AgePb76(H74)","v":4985.9332857901863},null,null,null,833.9,4990.8045026311456]
["SR0379-3.00",888.4,0.283109,5,11.9,18.456,15.4801,0.83875704377980065,{"$f":"[1]!AgePb76(H75)","v":4989.0156075904479},null,null,null,871.2,4985.9332857901863]
["SR0392-4.30",921.8,0.28311999999999998,7,12.3,18.497900000000001,15.4818,0.83694905908238226,{"$f":"[1]!AgePb76(H76)","v":4985.9512355207862},null,null,null,888.4,4989.0156075904479]
[null,921.8,null,null,null,18.4971,15.491199999999999,0.83749344491839262,{"$f":"[1]!AgePb76(H77)","v":4986.8746602393312},null,null,null,921.8,4985.9512355207862]
["SR0401-2.85",948.9,0.28311500000000001,8,12.1,18.4908,15.4857,0.83748134207281455,{"$f":"[1]!AgePb76(H78)","v":4986.8541374926726},null,null,null,921.8,4986.8746602393312]
["SR0413-3.10",984.2,0.28313700000000003,6,12.9,18.487200000000001,15.493600000000001,0.83807174693842224,{"$f":"[1]!AgePb76(H79)","v":4987.8549175538683},null,null,null,948.9,4986.8541374926726]
["SR0423-3.65",1012.4,0.28312900000000002,7,12.6,18.5806,15.486700000000001,0.83348761611573363,{"$f":"[1]!AgePb76(H80)","v":4980.0647256366119},null,null,null,984.2,4987.8549175538683]
["SR0432-8.50",1037.7,0.283111,7,12,18.5307,15.483599999999999,0.83556476549725589,{"$f":"[1]!AgePb76(H81)","v":4983.6002236303248},null,null,null,1012.4,4980.0647256366119]
["SR0441-9.10",1061.2,0.28312100000000001,8,12.3,18.471599999999999,15.4825,0.83817860932458488,{"$f":"[1]!AgePb76(H82)","v":4988.0359771614094},null,null,null,1037.7,4983.6002236303248]
["SR0450-3.55",1083.7,0.28311700000000001,7,12.2,18.507300000000001,15.4788,0.83636186801964629,{"$f":"[1]!AgePb76(H83)","v":4984.954485892993},null,null,null,1061.2,4988.0359771614094]
["SR0455-7.40",1098.2,0.28313700000000003,9,12.9,18.543099999999999,15.4893,0.83531340498622131,{"$f":"[1]!AgePb76(H84)","v":4983.1728820983635},null,null,null,1083.7,4984.954485892993]
["SR0472-1.00",1123.2,0.28312300000000001,9,12.4,18.464600000000001,15.4846,0.83861009715888779,{"$f":"[1]!AgePb76(H85)","v":4988.7668083896706},null,null,null,1098.2,4983.1728820983635]
[null,1123.2,null,null,null,18.459,15.480499999999999,0.83864239666287443,{"$f":"[1]!AgePb76(H86)","v":4988.8214995036378},null,null,null,1123.2,4988.7668083896706]
["SR0490-1.50",1229.5999999999999,0.28313100000000002,7,12.7,18.491800000000001,15.4841,0.83734952789885242,{"$f":"[1]!AgePb76(H87)","v":4986.6306003184136},null,null,null,1123.2,4988.8214995036378]
["SR0502-4.85",1265.2,0.28312300000000001,8,12.4,18.5486,15.4778,0.83444572636209735,{"$f":"[1]!AgePb76(H88)","v":4981.6966787866204},null,null,null,1229.5999999999999,4986.6306003184136]
["SR0518-0.80",1311.9,0.28311999999999998,8,12.3,18.472799999999999,15.4688,0.83738252999003948,{"$f":"[1]!AgePb76(H89)","v":4986.6865704502115},null,null,null,1265.2,4981.6966787866204]
["SR0531-4.40",1352.6,0.28311700000000001,8,12.2,18.441700000000001,15.480499999999999,0.83942911987506563,{"$f":"[1]!AgePb76(H90)","v":4990.1529273786182},null,null,null,1311.9,4986.6865704502115]
["SR0545-8.35",1395,0.28312300000000001,8,12.4,18.4453,15.4808,0.83928155139791716,{"$f":"[1]!AgePb76(H91)","v":4989.9032877528462},null,null,null,1352.6,4990.1529273786182]
["SR0548-8.00",1404.1,0.28311799999999998,7,12.2,18.4968,15.485099999999999,0.83717724146879458,{"$f":"[1]!AgePb76(H92)","v":4986.3383718559744},null,null,null,1395,4989.9032877528462]
["SR0560-7.50",1435.4,0.28314,8,13,18.449100000000001,15.4839,0.83927671268517157,{"$f":"[1]!AgePb76(H93)","v":4989.895101377354},null,null,null,1404.1,4986.3383718559744]
["SR0574-1.90",1474.7,0.28312700000000002,8,12.6,18.621300000000002,15.488,0.83173570051500156,{"$f":"[1]!AgePb76(H94)","v":4977.0755185186526},null,null,null,1435.4,4989.895101377354]
["SR0582-10.00",1497.7,0.28314,7,13,18.625900000000001,15.490500000000001,0.83166451017132059,{"$f":"[1]!AgePb76(H95)","v":4976.9539085070883},null,null,null,1474.7,4977.0755185186526]
["SR0594-8.70",1521.4,0.28313199999999999,10,12.7,18.611599999999999,15.4773,0.83159427453845991,{"$f":"[1]!AgePb76(H96)","v":4976.8339185260029},null,null,null,1497.7,4976.9539085070883]
["SR0603-8.90",1548.2,0.28315200000000001,8,13.4,18.529599999999999,15.4908,0.83600293584319152,{"$f":"[1]!AgePb76(H97)","v":4984.3448366644297},null,null,null,1521.4,4976.8339185260029]
["SR0604-2.50",1549.3,0.28314,8,13,18.5107,15.479699999999999,0.83625686764952156,{"$f":"[1]!AgePb76(H98)","v":4984.7761706813963},null,null,null,1548.2,4984.3448366644297]
["SR0641-1.00",1636.3,0.28311399999999998,6,12.1,18.495799999999999,15.494300000000001,0.83771991479146624,{"$f":"[1]!AgePb76(H99)","v":4987.2586261857368},null,null,null,1549.3,4984.7761706813963]
["SR0664-5.10",1705.5,0.28310800000000003,6,11.9,18.548500000000001,15.4923,0.83523195945763806,{"$f":"[1]!AgePb76(H100)","v":4983.0343861000083},null,null,null,1636.3,4987.2586261857368]
["SR0675-6.90",1739.3,0.28311500000000001,8,12.1,18.4422,15.477499999999999,0.83924369109976027,{"$f":"[1]!AgePb76(H101)","v":4989.8392324737451},null,null,null,1705.5,4983.0343861000083]
["SR0694-9.00",1794.8,0.283134,9,12.8,18.5944,15.497999999999999,0.83347674568687347,{"$f":"[1]!AgePb76(H102)","v":4980.0461985544634},null,null,null,1739.3,4989.8392324737451]
["SR0705-0.15",1823.2,0.28310400000000002,10,11.7,18.4876,15.4756,0.83707998874921563,{"$f":"[1]!AgePb76(H103)","v":4986.1733857090758},null,null,null,1794.8,4980.0461985544634]
["SR0709-13.35",1852,0.28312900000000002,16,12.6,18.584599999999998,15.488899999999999,0.83342660051870909,{"$f":"[1]!AgePb76(H104)","v":4979.9607300047155},null,null,null,1823.2,4986.1733857090758]
["SR0714-11.55",1883.6,0.283111,10,12,18.584199999999999,15.495100000000001,0.83377815563758473,{"$f":"[1]!AgePb76(H105)","v":4980.5598133267404},null,null,null,1852,4979.9607300047155]
["SR0723-13.70",1933.8,0.28312900000000002,8,12.6,18.5306,15.4892,0.83587147744811285,{"$f":"[1]!AgePb76(H106)","v":4984.1214839176955},null,null,null,1883.6,4980.5598133267404]
["SR0732-1.10",1973.8,0.28310299999999999,9,11.7,18.4544,15.481299999999999,0.83889478931853645,{"$f":"[1]!AgePb76(H107)","v":4989.2487861459394},null,null,null,1933.8,4984.1214839176955]
["SR0741-7.90",2009.8,0.283105,11,11.8,18.456900000000001,15.4833,0.8388895209921492,{"$f":"[1]!AgePb76(H108)","v":4989.2398685600474},null,null,null,1973.8,4989.2487861459394]
["SR0750-12.45",2062.6999999999998,0.28310200000000002,14,11.7,18.453900000000001,15.484,0.83906382932605028,{"$f":"[1]!AgePb76(H109)","v":4989.534885051321},null,null,null,2009.8,4989.2398685600474]
[null,2062.6999999999998,0.28309499999999999,8,11.4,18.4542,15.4846,0.83908270204072788,{"$f":"[1]!AgePb76(H110)","v":4989.5668231745922},null,null,null,2062.6999999999998,4989.534885051321]
["SR0756-13.25",2098.6,0.28309400000000001,20,11.4,18.430399999999999,15.474600000000001,0.83962366524871956,{"$f":"[1]!AgePb76(H111)","v":4990.4819659482673},null,null,null,2062.6999999999998,4989.5668231745922]
["SR0762-4.60",2123.6999999999998,0.28310800000000003,11,11.9,18.448599999999999,15.481,0.83914226553776439,{"$f":"[1]!AgePb76(H112)","v":4989.6676169330467},null,null,null,2098.6,4990.4819659482673]
["SR0768-11.20",2157.4,0.28310800000000003,8,11.9,18.5411,15.4841,0.8351230509516695,{"$f":"[1]!AgePb76(H113)","v":4982.8491675972055},null,null,null,2123.6999999999998,4989.6676169330467]
["SR0776-17.70",2209.5,0.28311900000000001,6,12.3,18.5213,15.483599999999999,0.83598883447706152,{"$f":"[1]!AgePb76(H114)","v":4984.3208797011739},null,null,null,2157.4,4982.8491675972055]
["SR0778-3.20",2218.1999999999998,0.28311700000000001,5,12.2,18.538599999999999,15.488799999999999,0.83548919551638201,{"$f":"[1]!AgePb76(H115)","v":4983.4717604083744},null,null,null,2209.5,4984.3208797011739]
["SR0791-9.50",2280.1999999999998,0.28311599999999998,10,12.2,18.489699999999999,15.4703,0.83669826984753681,{"$f":"[1]!AgePb76(H116)","v":4985.5256148083326},null,null,null,2218.1999999999998,4983.4717604083744]
["SR0800-13.20",2321.6,0.283113,11,12.1,18.512799999999999,15.4895,0.83669137029514717,{"$f":"[1]!AgePb76(H117)","v":4985.5139034886843},null,null,null,2280.1999999999998,4985.5256148083326]
["SR0836-5.80",2467.3000000000002,0.283113,10,12.1,18.499099999999999,15.4892,{"$f":"G118/F118","v":0.83729478731397755},{"$f":"[1]!AgePb76(H118)","v":4986.5377574647437},null,null,null,2321.6,4985.5139034886843]
["SR0842-2.35",2503.5,0.28310600000000002,9,11.8,18.476600000000001,15.497999999999999,0.83879068659818357,{"$f":"[1]!AgePb76(H119)","v":4989.0725626184949},null,null,null,2467.3000000000002,4986.5377574647437]
["SR0846-2.80",2525.4,0.28313300000000002,11,12.8,18.567499999999999,15.491199999999999,0.83431802881378758,{"$f":"[1]!AgePb76(H120)","v":4981.4792860694361},null,null,null,2503.5,4989.0725626184949]
["SR0850-5.95",2550.9,0.28311500000000001,8,12.1,18.676200000000001,15.4986,0.82985832235679624,{"$f":"[1]!AgePb76(H121)","v":4973.8648041685983},null,null,null,2525.4,4981.4792860694361]
["SR0850-5.95",2550.9,0.28311799999999998,5,12.2,18.669699999999999,15.4956,0.82998655575611824,{"$f":"[1]!AgePb76(H122)","v":4974.0843559777541},null,null,null,2550.9,4973.8648041685983]
["SR0850-5.95",2550.9,null,null,null,18.665299999999998,15.492800000000001,0.83003219878598267,{"$f":"[1]!AgePb76(H123)","v":4974.1624939216063},null,null,null,2550.9,4974.0843559777541]
["SR0855-0.10",2581.8000000000002,0.28312799999999999,8,12.6,18.643799999999999,15.4968,0.83120393911112544,{"$f":"[1]!AgePb76(H124)","v":4976.1668763530197},null,null,null,2550.9,4974.1624939216063]
["SR0860-8.10",2615,0.28311799999999998,9,12.2,18.504200000000001,15.485099999999999,0.83684244657969531,{"$f":"[1]!AgePb76(H125)","v":4985.7703173252521},null,null,null,2581.8000000000002,4976.1668763530197]
["SR0871-13.00",2654.1,0.28311599999999998,11,12.2,18.4512,15.4816,0.83905653832813043,{"$f":"[1]!AgePb76(H126)","v":4989.5225463575134},null,null,null,2615,4985.7703173252521]
["SR0891-15.10",2730.2,0.28311700000000001,11,12.2,18.575399999999998,15.494,0.83411393563530267,{"$f":"[1]!AgePb76(H127)","v":4981.1317637581133},null,null,null,2654.1,4989.5225463575134]
["SR0896-2.40",2759.3,0.28310800000000003,5,11.9,18.508299999999998,15.4892,0.83687858960574457,{"$f":"[1]!AgePb76(H128)","v":4985.8316536921948},null,null,null,2730.2,4981.1317637581133]
["SR0899-2.45",2770.9,0.28310600000000002,12,11.8,18.506499999999999,15.488899999999999,0.83694377651095564,{"$f":"[1]!AgePb76(H129)","v":4985.9422717333318},null,null,null,2759.3,4985.8316536921948]
["SR0907-1.65",2789.9,0.28310299999999999,8,11.7,18.511099999999999,15.4963,0.83713555650393556,{"$f":"[1]!AgePb76(H130)","v":4986.2676571322472},null,null,null,2770.9,4985.9422717333318]
["SR0913-2.40",2825.8,0.28311799999999998,9,12.2,18.548200000000001,15.488099999999999,0.83501903149631762,{"$f":"[1]!AgePb76(H131)","v":4982.6722398377187},null,null,null,2789.9,4986.2676571322472]
["SR0916-1.15",2837.6,0.28312599999999999,9,12.5,18.604399999999998,15.4909,0.83264711573606254,{"$f":"[1]!AgePb76(H132)","v":4978.6314554694882},null,null,null,2825.8,4982.6722398377187]
["SR0930-15.85",2919.5,0.28311999999999998,14,12.3,18.5124,15.489000000000001,0.83668243987813584,{"$f":"[1]!AgePb76(H133)","v":4985.498744821336},null,null,null,2837.6,4978.6314554694882]
["SR0939-18.10",2961,0.28312399999999999,9,12.4,18.603100000000001,15.483599999999999,0.8323128940875445,{"$f":"[1]!AgePb76(H134)","v":4978.0610939480175},null,null,null,2919.5,4985.498744821336]
["SR0940-18.35",2967.8,0.28310200000000002,8,11.7,18.4999,15.4777,0.8366369547943503,{"$f":"[1]!AgePb76(H135)","v":4985.4215348681},null,null,null,2961,4978.0610939480175]
["SR0954-8.00",3009.2,0.28311799999999998,15,12.2,18.627199999999998,15.5093,0.83261574471740252,{"$f":"[1]!AgePb76(H136)","v":4978.5779300215545},null,null,null,2967.8,4985.4215348681]
["SR0954-8.00",3009.2,0.28311799999999998,11,12.2,18.596699999999998,15.481,0.83245952238838083,{"$f":"[1]!AgePb76(H137)","v":4978.3113504931534},null,null,null,3009.2,4978.5779300215545]
["SR0954-8.00",3009.2,null,null,null,18.606000000000002,15.482100000000001,0.83210254756530144,{"$f":"[1]!AgePb76(H138)","v":4977.7020050647088},null,null,null,3009.2,4978.3113504931534]
["SR0956-18.35",3019,0.28312199999999998,8,12.4,18.492000000000001,15.4764,0.83692407527579493,{"$f":"[1]!AgePb76(H139)","v":4985.9088409529168},null,null,null,3009.2,4977.7020050647088]
["SR0967-2.75",3068.9,0.28310400000000002,9,11.7,18.495999999999999,15.4847,0.83719182525951563,{"$f":"[1]!AgePb76(H140)","v":4986.3631110373381},null,null,null,3019,4985.9088409529168]
["SR0967-2.75",3068.9,null,null,null,18.489899999999999,15.4826,0.83735444756326427,{"$f":"[1]!AgePb76(H141)","v":4986.6389440070016},null,null,null,3068.9,4986.3631110373381]
[null,null,null,null,null,null,null,"Average",{"$f":"AVERAGE(I38:I141)","v":5013.5723947412243},null,null,null,3068.9,4986.6389440070016]
[null,null,null,null,null,null,null,"Maximum",{"$f":"MAX(I38:I142)","v":6473.7884762274953}]
[null,null,null,null,null,null,null,"Minimum",{"$f":"MIN(I38:I143)","v":4973.8648041685983}]
[null,null,null,null,null,null,null,"Difference",{"$f":"I143-I144","v":1499.923672058897}]
[null,null,null,null,null,null,null,"Accuracy",{"$f":"1-(I145/I142)","v":0.70082736341212937}]

{"sheet":"H35","index":13,"n_rows":157,"n_cols":17,"rows_kept":157,"cut":false,"hidden":false,"merged":[]}
["Table 1",null,null,null,"Age (Ma)","Age Ratio"]
["Samples","Age(kyr)","206Pb/204Pb","207Pb/204Pb","207Pb/206Pb",null,null,"208Pb/204Pb","87Sr/86Sr","ɛSr","143Nd/144Nd","ɛNd","176Hf/177Hf","ɛHf"]
["Piton des Neiges (PDN)"]
["Les Remparts","Thousand Years Old"]
["RP01",1690,18.998999999999999,15.598000000000001,{"$f":"[1]!AgePb76(D5/C5)","v":4958.5939827628972},{"$f":"E5/(B5/1000)","v":2934.0792797413592},null,39.07,0.70418000000000003,null,"−4.6","–","–","–","–"]
["RP02",1670,18.981000000000002,15.605,{"$f":"[1]!AgePb76(D6/C6)","v":4960.5796409512586},{"$f":"E6/(B6/1000)","v":2970.4069706294963},null,39.052,0.70411999999999997,null,"−5.4","–","–","–","–"]
["RP03",1630,18.934000000000001,15.593999999999999,{"$f":"[1]!AgePb76(D7/C7)","v":4963.1018449742332},3044.847757652904,null,38.988999999999997,0.70413999999999999,null,"−5.2","–","–","–","–"]
["RP04",1605,18.945,15.592000000000001,{"$f":"[1]!AgePb76(D8/C8)","v":4962.0938114217806},3091.6472345307043,null,39.000999999999998,0.70408000000000004,null,"−5.9","–","–","–","–"]
["RP05",1590,18.965,15.590999999999999,{"$f":"[1]!AgePb76(D9/C9)","v":4960.5025132419369},3119.8129014100232,null,39.021000000000001,0.70415000000000005,null,"−5.0","–","–","–","–"]
["RP06",1550,18.983000000000001,15.593,{"$f":"[1]!AgePb76(D10/C10)","v":4959.3360597664469},3199.5716514622236,null,39.039000000000001,0.70415000000000005,null,"−5.0","–","–","–","–"]
["RP07",1540,18.956,15.587999999999999,{"$f":"[1]!AgePb76(D11/C11)","v":4960.903784393051},3221.3660937617215,null,39.017000000000003,0.70408999999999999,null,"−5.8","–","–","–","–"]
["RP09",1390,18.940000000000001,15.587999999999999,{"$f":"[1]!AgePb76(D12/C12)","v":4962.1043062431072},3569.8592131245377,null,39.012999999999998,0.70413999999999999,null,"−5.1","–","–","–","–"]
["RP10",1370,18.946999999999999,15.593999999999999,{"$f":"[1]!AgePb76(D13/C13)","v":4962.1260828427066},3621.9898414910263,null,39.012,0.70411999999999997,null,"−5.4","–","–","–","–"]
["RP11",1345,18.934000000000001,15.586,{"$f":"[1]!AgePb76(D14/C14)","v":4962.3723311322083},3689.4961569756197,null,39.000999999999998,0.70411000000000001,null,"−5.5","–","–","–","–"]
["RP12",1330,18.995999999999999,15.592000000000001,{"$f":"[1]!AgePb76(D15/C15)","v":4958.2714601557445},3728.0236542524394,null,39.058999999999997,0.70404999999999995,null,"−6.3","–","–","–","–"]
["RP13",1280,18.992000000000001,15.596,{"$f":"[1]!AgePb76(D16/C16)","v":4958.9356326627167},3874.1684630177474,null,39.073,0.70413999999999999,null,"−5.0","–","–","–","–"]
["RP14",1270,18.986000000000001,15.590999999999999,{"$f":"[1]!AgePb76(D17/C17)","v":4958.9289867678253},3904.6684935179728,null,39.055999999999997,0.70406100000000005,null,"−6.2",0.51286699999999996,5,4.5,0.28303,5,9.1]
["RP15",1240,19,15.596,{"$f":"[1]!AgePb76(D18/C18)","v":4958.3368122231541},3998.6587195348015,null,39.075000000000003,0.70408000000000004,null,"−5.9","–","–","–","–"]
["RP16",1200,18.940000000000001,15.590999999999999,{"$f":"[1]!AgePb76(D19/C19)","v":4962.377888727895},4135.3149072732458,null,39.002000000000002,0.70415000000000005,null,"−5.0","–","–","–","–"]
["RP17",1190,18.969000000000001,15.593,{"$f":"[1]!AgePb76(D20/C20)","v":4960.3850429643926},4168.3907924070527,null,39.04,0.70406000000000002,null,"−6.3","–","–","–","–"]
["RP18",1170,18.977,15.583,{"$f":"[1]!AgePb76(D21/C21)","v":4958.8733878357134},4238.3533229365075,null,39.04,0.70416000000000001,null,"−4.9","–","–","–","–"]
["RP19",1145,18.995999999999999,15.596,{"$f":"[1]!AgePb76(D22/C22)","v":4958.6361929122468},4330.6866313644077,null,39.064,0.70404999999999995,null,"−6.4","–","–","–","–"]
["RP20",1110,18.971,15.599,{"$f":"[1]!AgePb76(D23/C23)","v":4960.7821228475241},4469.1730836464176,null,39.045999999999999,0.70409999999999995,null,"−5.6","–","–","–","–"]
["RP21",1080,18.966000000000001,15.59,{"$f":"[1]!AgePb76(D24/C24)","v":4960.3363505622747},4592.9040282984024,null,39.033999999999999,0.70411000000000001,null,"−5.5","–","–","–","–"]
["RP23",990,18.963999999999999,15.592000000000001,{"$f":"[1]!AgePb76(D25/C25)","v":4960.6686727988099},5010.7764371705152,null,39.029000000000003,0.70406299999999999,null,"−6.2",0.51286100000000001,6,4.3,0.283026,6,9]
["RP24",910,18.962,15.583,{"$f":"[1]!AgePb76(D26/C26)","v":4959.9977047637421},5450.5469283118045,null,39.015000000000001,0.70404999999999995,null,"−6.4","–","–","–","–"]
[null,null,18.97,15.587,{"$f":"[1]!AgePb76(D27/C27)","v":4959.7628905310321},null,null,39.027999999999999]
["RP25",890,18.931999999999999,15.584,{"$f":"[1]!AgePb76(D28/C28)","v":4962.3400695097062},5575.6629994491077,null,38.981000000000002,0.70403000000000004,null,"−6.6","–","–","–","–"]
["RP26",850,18.940999999999999,15.593,{"$f":"[1]!AgePb76(D29/C29)","v":4962.4851870342318},5838.2178670990961,null,39.023000000000003,0.70408999999999999,null,"−5.8","–","–","–","–"]
["RP27",810,18.962,15.592000000000001,{"$f":"[1]!AgePb76(D30/C30)","v":4960.8186243826058},6124.4674375093891,null,39.034999999999997,0.70406999999999997,null,"−6.0","–","–","–","–"]
["RP28",790,18.925999999999998,15.592000000000001,{"$f":"[1]!AgePb76(D31/C31)","v":4963.5202897130903},6282.9370755861901,null,39.002000000000002,0.70408999999999999,null,"−5.9","–","–","–","–"]
["RP29",760,18.923999999999999,15.589,{"$f":"[1]!AgePb76(D32/C32)","v":4963.3969741244846},6530.7854922690585,null,38.994,0.70413000000000003,null,"−5.3","–","–","–","–"]
["RP30",750,18.928000000000001,15.590999999999999,{"$f":"[1]!AgePb76(D33/C33)","v":4963.2788928601485},6617.7051904801983,null,39.005000000000003,0.70411999999999997,null,"−5.3","–","–","–","–"]
["RP31",740,18.891999999999999,15.586,{"$f":"[1]!AgePb76(D34/C34)","v":4965.5291910146407},6710.1745824522168,null,38.954999999999998,0.70411999999999997,null,"−5.4",0.51283699999999999,9,3.9,0.28301999999999999,7,8.8000000000000007]
["RP32",720,18.952000000000002,15.593,{"$f":"[1]!AgePb76(D35/C35)","v":4961.6597837831841},6891.1941441433119,null,39.018000000000001,0.70406000000000002,null,"−6.2",0.51286100000000001,6,4.3,0.28303600000000001,5,9.3000000000000007]
["Nez de Boeuf","Thousand Years Old"]
["R01",1850,18.847000000000001,15.606999999999999,{"$f":"[1]!AgePb76(D37/C37)","v":4970.8324163896978},2686.9364412917284,null,38.914000000000001,"–","–","–","–","–","–"]
["R02",1845,18.852,15.582000000000001,{"$f":"[1]!AgePb76(D38/C38)","v":4968.1770372842484},2692.7788819968828,null,38.926000000000002,"–","–","–","–","–","–"]
["R03",1750,18.855,15.592000000000001,{"$f":"[1]!AgePb76(D39/C39)","v":4968.8627154928263},2839.3501231387577,null,38.935000000000002,"–","–","–","–","–","–"]
["R04",1730,18.908999999999999,15.592000000000001,{"$f":"[1]!AgePb76(D40/C40)","v":4964.7977501294345},2869.8252890921585,null,38.97,"–","–",0.51285400000000003,6,4.2,0.28301100000000001,4,8.4]
["R05",1720,18.992999999999999,15.597,{"$f":"[1]!AgePb76(D41/C41)","v":4958.9519339252647},2883.1115894914328,null,39.040999999999997,"–","–","–","–","–","–"]
["R06",1710,18.844000000000001,15.574,{"$f":"[1]!AgePb76(D42/C42)","v":4968.0504042934554},2905.2926340897402,null,38.883000000000003,"–","–",0.51285099999999995,5,4.0999999999999996,0.283026,null,9]
["R07",1800,18.954000000000001,15.593999999999999,{"$f":"[1]!AgePb76(D43/C43)","v":4961.6009322326763},2756.444962351487,null,39.026000000000003,"–","–","–","–","–","–"]
["R08",1705,18.917000000000002,15.587999999999999,{"$f":"[1]!AgePb76(D44/C44)","v":4963.8317220661402},2911.3382534112257,null,38.976999999999997,"–","–","–","–","–","–"]
["R09",1695,18.917999999999999,15.592000000000001,{"$f":"[1]!AgePb76(D45/C45)","v":4964.1213135793359},2928.6851407547701,null,38.981999999999999,"–","–","–","–","–","–"]
["R10",1690,18.907,15.587999999999999,{"$f":"[1]!AgePb76(D46/C46)","v":4964.5833862537884},2937.6233054756144,null,38.972999999999999,"–","–","–","–","–","–"]
["R11",1675,18.864999999999998,15.603,{"$f":"[1]!AgePb76(D47/C47)","v":4969.1114599092334},2966.6337074084977,null,38.945999999999998,0.70422200000000001,7,"−3.9",0.51283999999999996,6,3.9,0.28301399999999999,6,8.6]
["R12",1670,19.012,15.603999999999999,{"$f":"[1]!AgePb76(D48/C48)","v":4958.1682303231537},2968.9630121695532,null,39.073,0.70405600000000002,7,"−6.3",0.51284300000000005,6,4,0.28302899999999998,5,9.1]
["R13",1665,18.911999999999999,15.595000000000001,{"$f":"[1]!AgePb76(D49/C49)","v":4964.8457201147276},2981.8893213902265,null,38.988999999999997,"–","–","–","–","–","–"]
["Langevin","Thousand Years Old"]
["LGV01",2300,18.893999999999998,15.587,{"$f":"[1]!AgePb76(D51/C51)","v":4965.4699141462224},2158.8999626722707,null,38.947000000000003,0.70411999999999997,null,"–","–","–","–","–"]
["LGV02",2280,18.895,15.587999999999999,{"$f":"[1]!AgePb76(D52/C52)","v":4965.4858751115817},2177.8446820664835,null,38.975999999999999,0.70416000000000001,null,"–","–","–","–","–"]
["LGV03",2260,18.951000000000001,15.596,{"$f":"[1]!AgePb76(D53/C53)","v":4962.0083011488377},2195.5788943136454,null,39.027999999999999,0.70413999999999999,null,"–","–","–","–","–"]
["LGV04",2240,18.878,15.581,{"$f":"[1]!AgePb76(D54/C54)","v":4966.1268758999158},2217.0209267410337,null,38.93,0.70409999999999995,null,"–","–","–","–","–"]
["LGV06",2200,18.888000000000002,15.587999999999999,{"$f":"[1]!AgePb76(D55/C55)","v":4966.0125749747067},2257.2784431703212,null,38.954999999999998,0.70409999999999995,null,"–","–","–","–","–"]
["Piton des Neiges (PDN)"]
["Langevin","Thousand Years Old"]
["LGV07",2190,18.913,15.587999999999999,{"$f":"[1]!AgePb76(D58/C58)","v":4964.1323430571283},2266.7270972863598,null,38.962000000000003,0.70409999999999995,null,"–","–","–","–","–"]
["LGV09",2160,18.904,15.590999999999999,{"$f":"[1]!AgePb76(D59/C59)","v":4965.0825077876461},2298.6493091609473,null,38.966000000000001,0.70406000000000002,null,"–","–","–","–","–"]
["LGV12",2100,18.911000000000001,15.590999999999999,{"$f":"[1]!AgePb76(D60/C60)","v":4964.556231922611},2364.0743961536241,null,38.969000000000001,0.70408999999999999,null,"–","–","–","–","–"]
["LGV13",2080,18.887,15.579000000000001,{"$f":"[1]!AgePb76(D61/C61)","v":4965.2668944681736},2387.147545417391,null,38.933,0.70408999999999999,null,"–","–","–","–","–"]
["LGV14",2060,18.760999999999999,15.535,{"$f":"[1]!AgePb76(D62/C62)","v":4970.7606694794013},2412.9906162521365,null,38.744,0.70421199999999995,7,"−4.1",0.512826,8,4,0.28301599999999999,8,8.6]
["LGV15",2040,18.846,15.582000000000001,{"$f":"[1]!AgePb76(D63/C63)","v":4968.6294589976151},2435.602675979223,null,38.914999999999999,0.70406000000000002,null,"–","–","–","–","–"]
["LGV16",1990,18.893999999999998,15.587,{"$f":"[1]!AgePb76(D64/C64)","v":4965.4699141462224},2495.2110121337801,null,38.953000000000003,0.70421,null,"–","–","–","–","–"]
["LGV17",1980,18.888000000000002,15.589,{"$f":"[1]!AgePb76(D65/C65)","v":4966.1037595385251},2508.1332118881442,null,38.956000000000003,0.70421,null,"−3.9",0.51283900000000004,7,3.9,0.28301900000000002,11,8.6999999999999993]
["LGV18",1985,18.905000000000001,15.593999999999999,{"$f":"[1]!AgePb76(D66/C66)","v":4965.2808089493874},2501.4009113095149,null,38.978000000000002,0.70423000000000002,null,"–","–","–","–","–"]
["LGV20",1960,18.920000000000002,15.585000000000001,{"$f":"[1]!AgePb76(D67/C67)","v":4963.3326751843542},2532.3125893797728,null,38.975999999999999,0.70413000000000003,null,"–","–","–","–","–"]
["LGV21",1930,18.960999999999999,15.598000000000001,{"$f":"[1]!AgePb76(D68/C68)","v":4961.4406038246625},2570.6946133806541,null,39.024000000000001,0.70411999999999997,"–","–","–","–","–"]
["LGV22",1910,18.968,15.596,{"$f":"[1]!AgePb76(D69/C69)","v":4960.7335128298937},2597.2426768742898,null,39.015999999999998,0.70409999999999995,null,"−5.6",0.51285800000000004,5,4.3,0.28303899999999999,7,9.4]
["LGV23",1905,18.850999999999999,15.583,{"$f":"[1]!AgePb76(D70/C70)","v":4968.3436421489696},{"$f":"E70/(B70/1000)","v":2608.054405327543},null,38.914000000000001,0.70416000000000001,null,"–","–","–","–","–"]
["LGV25",1870,18.881,15.587999999999999,{"$f":"[1]!AgePb76(D71/C71)","v":4966.5394577618026},2655.9034533485574,null,38.945999999999998,0.70416999999999996,null,"–","–","–","–","–"]
["LGV26",1850,18.858000000000001,15.592000000000001,{"$f":"[1]!AgePb76(D72/C72)","v":4968.6365980819701},2685.7495124767406,null,38.927999999999997,0.70404,null,"–","–","–","–","–"]
[null,"Thousand Years Old",18.856999999999999,15.587,{"$f":"[1]!AgePb76(D73/C73)","v":4968.2561222564691},null,null,38.920999999999999,"–","–","–","–","–","–"]
["LGV27",1830,18.873999999999999,15.584,{"$f":"[1]!AgePb76(D74/C74)","v":4966.7017402065503},2714.0446667795354,null,38.927999999999997,0.70404999999999995,null,"–","–","–","–","–"]
["LGV28",1820,18.838000000000001,15.59,{"$f":"[1]!AgePb76(D75/C75)","v":4969.9623770223834},2730.7485588035074,null,38.908000000000001,0.70408999999999999,null,"−5.8",0.51285800000000004,6,4.3,0.28303600000000001,4,9.3000000000000007]
["LGV29",1815,18.853000000000002,15.587999999999999,{"$f":"[1]!AgePb76(D76/C76)","v":4968.6488208283527},2737.5475596850429,null,38.915999999999997,0.70411000000000001,null,"–","–","–","–","–"]
["Average",{"$f":"AVERAGE(B5:B76)","v":1588.8636363636363},null,null,{"$f":"AVERAGE(E5:E76)","v":4963.5287237892953},{"$f":"AVERAGE(F5:F76)","v":3466.2669353660926}]
["Maximum",{"$f":"MAX(B5:B77)","v":2300},null,null,{"$f":"MAX(E5:E77)","v":4970.8324163896978},{"$f":"MAX(F5:F77)","v":6891.1941441433119}]
["Minimum",{"$f":"MIN(B5:B78)","v":720},null,null,{"$f":"MIN(E5:E78)","v":4958.1682303231537},{"$f":"MIN(F5:F78)","v":2158.8999626722707}]
["Difference",{"$f":"B78-B79","v":1580},null,null,{"$f":"E78-E79","v":12.664186066544062},{"$f":"F78-F79","v":4732.2941814710412}]
["Accuracy",{"$f":"1-(B80/B77)","v":5.5786010585037182E-3},null,null,{"$f":"1-(E80/E77)","v":0.99744855187281445},{"$f":"1-(F80/F77)","v":-0.36524228217618093}]
[]
[]
["Historical samples","Eruption Year",null,null,0,"Eruption Age","Error Ratio"]
["R1301",1700,18.914999999999999,15.59,{"$f":"[1]!AgePb76(D85/C85)","v":4964.1644044550139},{"$f":"(2008-B85)","v":308},{"$f":"E85/F85","v":16.117416897581215},39.000999999999998,"–","–","–","–","–"]
["O2201",1802,18.876000000000001,15.577999999999999,{"$f":"[1]!AgePb76(D86/C86)","v":4966.0037634222799},{"$f":"(2008-B86)","v":206},{"$f":"E86/F86","v":24.106814385545047},38.936999999999998,"–","–","–","–","–","–"]
["R1201",1905,18.914999999999999,15.59,{"$f":"[1]!AgePb76(D87/C87)","v":4964.1644044550139},103,48.195770917038971,39.002000000000002,"–","–","–","–","–","–"]
["Q1301",1915,18.951000000000001,15.596,{"$f":"[1]!AgePb76(D88/C88)","v":4962.0083011488377},93,53.354927969342341,39.01,"–","–","–","–","–","–"]
["S1401",1927,18.861000000000001,15.584,{"$f":"[1]!AgePb76(D89/C89)","v":4967.6810787329305},81,61.329396033739883,38.933,"–","–","–","–","–","–"]
["Q1401",1927,18.937999999999999,15.593,{"$f":"[1]!AgePb76(D90/C90)","v":4962.7103749532871},81,61.268029320410953,39.003999999999998,"–","–","–","–","–","–"]
["T1902",1927,18.867999999999999,15.574999999999999,{"$f":"[1]!AgePb76(D91/C91)","v":4966.332553802451},81,61.31274757780804,38.866,0.70415899999999998,14,"−4.8",0.51284099999999999,4,4,0.28302699999999997,13,9]
["T2101",1927,18.885000000000002,15.587,{"$f":"[1]!AgePb76(D92/C92)","v":4966.147169607485},81,61.310458884043022,38.968000000000004,"–","–","–","–","–","–"]
["T1602",1931,18.79,15.564,{"$f":"[1]!AgePb76(D93/C93)","v":4971.2160615928133},77,64.561247553153422,38.823999999999998,0.70411699999999999,14,"−5.4",0.51285199999999997,5,4.2,0.28302500000000003,11,9]
["L2001",1934,18.931000000000001,15.592000000000001,{"$f":"[1]!AgePb76(D94/C94)","v":4963.1447706554645},74,67.069523927776544,38.993000000000002,0.70411800000000002,11,"−5.4",0.51284799999999997,5,4.0999999999999996,0.28303,4,9.1]
["P1601",1939,18.89,15.586,{"$f":"[1]!AgePb76(D95/C95)","v":4965.6796816377073},69,71.966372197647928,38.96,"–","–","–","–","–","–"]
["N2201",1943,18.898,15.589,{"$f":"[1]!AgePb76(D96/C96)","v":4965.3513901697233},65,76.390021387226511,38.970999999999997,"–","–","–","–","–","–"]
["O2202",1943,18.87,15.587999999999999,{"$f":"[1]!AgePb76(D97/C97)","v":4967.3677863302255},65,76.421042866618848,38.933999999999997,"–","–","–","–","–","–"]
["M1701",1945,18.812999999999999,15.589,{"$f":"[1]!AgePb76(D98/C98)","v":4971.7584561832618},63,78.916800891797806,38.869999999999997,0.704156,17,"−4.9",0.51285800000000004,4,4.3,0.28303099999999998,4,9.1999999999999993]
["R1801",1945,18.919,15.586,{"$f":"[1]!AgePb76(D99/C99)","v":4963.499027253144},63,78.785698845287996,38.97,"–","–","–","–","–","–"]
["R2301",1945,18.888000000000002,15.586,{"$f":"[1]!AgePb76(D100/C100)","v":4965.830187190274},63,78.8227013839726,38.956000000000003,"–","–","–","–","–","–"]
["R1602",1945,18.899999999999999,15.59,{"$f":"[1]!AgePb76(D101/C101)","v":4965.2921430565511},63,78.814161000897641,38.965000000000003,"–","–","–","–","–"]
["Q1303",1945,18.850999999999999,15.581,{"$f":"[1]!AgePb76(D102/C102)","v":4968.1612146939351},63,78.859701820538646,38.915999999999997,"–","–","–","–","–","–"]
["T1904",1953,18.88,15.583,{"$f":"[1]!AgePb76(D103/C103)","v":4966.158737734585},55,90.293795231537914,38.947000000000003,"–","–","–","–","–","–"]
["S2301",1953,18.876999999999999,15.582000000000001,{"$f":"[1]!AgePb76(D104/C104)","v":4966.2933979129712},55,90.296243598417661,38.932000000000002,"–","–","–","–","–","–"]
["S1201",1949,18.908999999999999,15.584,{"$f":"[1]!AgePb76(D105/C105)","v":4964.068197607121},59,84.136749111985097,38.984999999999999,0.70418499999999995,14,"−4.5",0.51285099999999995,5,4.0999999999999996,0.28303299999999998,5,9.1999999999999993]
[null,null,null,null,0]
["Piton des Neiges (PDN)",null,null,null,0]
[null,"Age (kyr)",null,null,0]
["Oldest lavas",null,null,null,0]
["00RU8G","2000/2150",19.045000000000002,15.579000000000001,{"$f":"[1]!AgePb76(D110/C110)","v":4953.421787235251},null,null,38.893999999999998,"–","–",0.51281299999999996,15,"§",3.4,0.28303,6,9.1]
["00RU7G","2000/2150",18.975000000000001,15.541,{"$f":"[1]!AgePb76(D111/C111)","v":4955.1854470868575},null,null,38.805,"–","–",0.51280499999999996,11,"§",3.3,0.28301599999999999,6,8.6]
["00RU15","2000/2150",19.010999999999999,15.554,{"$f":"[1]!AgePb76(D112/C112)","v":4953.678964122957},null,null,38.847999999999999,"–","–",0.51281299999999996,11,"§",3.4,0.28303299999999998,7,9.1999999999999993]
["00RU13","2000/2150",19.067,15.582000000000001,{"$f":"[1]!AgePb76(D113/C113)","v":4952.0536411460671},null,null,38.938000000000002,"–","–",0.51283900000000004,12,"§",3.9,0.283026,9,9]
["00RU9G","2000/2150",18.937999999999999,15.551,{"$f":"[1]!AgePb76(D114/C114)","v":4958.875666811924},null,null,38.795999999999999,"–","–",0.51283999999999996,10,"§",3.9,0.28304699999999999,5,9.6999999999999993]
["00RU26","2000/2150",19.074999999999999,15.589,{"$f":"[1]!AgePb76(D115/C115)","v":4952.0958132431579},null,null,38.962000000000003,"–","–",0.51281500000000002,10,"§",3.5,0.28301900000000002,8,8.6999999999999993]
["00RU08","2000/2150",18.917999999999999,15.566000000000001,{"$f":"[1]!AgePb76(D116/C116)","v":4961.7487398820113},null,null,38.756999999999998,"–","–",0.51280599999999998,10,3.3,0.28301399999999999,8,8.6]
["Intermediate Samples",null,null,null,0]
["PN67G1",1400,19.001999999999999,15.564,{"$f":"[1]!AgePb76(D118/C118)","v":4955.2664346581205},null,null,38.869,"–","–",0.51282799999999995,11,"§",3.7,0.283051,13,9.9]
["PN69H4",1200,18.969000000000001,15.569000000000001,{"$f":"[1]!AgePb76(D119/C119)","v":4958.1949015239306},null,null,38.813000000000002,"–","–",0.51284099999999999,8,"§",4,0.28303299999999998,6,9.1999999999999993]
["PN67P1",1040,18.972999999999999,15.581,{"$f":"[1]!AgePb76(D120/C120)","v":4958.9906225322557},null,null,38.857999999999997,"–","–",0.51284099999999999,14,4,0.283024,7,8.9]
["PN60K",946,18.943000000000001,15.568,{"$f":"[1]!AgePb76(D121/C121)","v":4960.0538027972425},null,null,38.826999999999998,"–","–",0.51280899999999996,6,3.3,0.28304600000000002,9,9.6999999999999993]
["PN69H18",680,18.992000000000001,15.571999999999999,{"$f":"[1]!AgePb76(D122/C122)","v":4956.7457717364614},null,null,38.851999999999997,"–","–",0.512822,7,"§",3.6,0.28301399999999999,8,8.6]
["Younger lavas",null,null,null,0]
["PN69T1",577,18.722999999999999,15.551,{"$f":"[1]!AgePb76(D124/C124)","v":4975.1045670608128},null,null,38.630000000000003,"–","–",0.51283400000000001,7,"§",3.8,0.28306700000000001,8,10.4]
["PN60D",452,18.920999999999999,15.5571,{"$f":"[1]!AgePb76(D125/C125)","v":4960.7101778633714},null,null,38.722000000000001,"–","–",0.51285099999999995,7,"§",4.0999999999999996,0.283082,9,11]
["PN60A",374,18.762,15.56,{"$f":"[1]!AgePb76(D126/C126)","v":4972.9699639003757},null,null,38.700000000000003,"–","–",0.51279699999999995,12,"§",3.1,0.28303899999999999,7,9.4]
[]
[]
[]
[]
["Eruption Year","Pb Age (Ma)","Age (Years)","Age Ratio (106)"]
[1700,4964.1644044550139,308,16.117416897581215]
[1802,4966.0037634222799,206,24.106814385545047]
[1905,4964.1644044550139,103,48.195770917038971]
[1915,4962.0083011488377,93,53.354927969342341]
[1927,4967.6810787329305,81,61.329396033739883]
[null,4962.7103749532871,81,61.268029320410953]
[null,4966.332553802451,81,61.31274757780804]
[null,4966.147169607485,81,61.310458884043022]
[1931,4971.2160615928133,77,64.561247553153422]
[1934,4963.1447706554645,74,67.069523927776544]
[1939,4965.6796816377073,69,71.966372197647928]
[1943,4965.3513901697233,65,76.390021387226511]
[null,4967.3677863302255,65,76.421042866618848]
[1945,4971.7584561832618,63,78.916800891797806]
[null,4963.499027253144,63,78.785698845287996]
[null,4965.830187190274,63,78.8227013839726]
[null,4965.2921430565511,63,78.814161000897641]
[null,4968.1612146939351,63,78.859701820538646]
[1949,4964.068197607121,59,84.136749111985097]
[1953,4966.158737734585,55,90.293795231537914]
[null,4966.2933979129712,55,90.296243598417661]
["Average",{"$f":"AVERAGE(B132:B152)","v":4965.8587191711949},"21 dates"]
["Maximum",{"$f":"MAX(B132:B153)","v":4971.7584561832618}]
["Minimum",{"$f":"MIN(B132:B154)","v":4962.0083011488377}]
["Difference",{"$f":"B154-B155","v":9.7501550344240968}]
["Accuracy",{"$f":"1-(B156/B153)","v":0.99803656213641712}]

{"sheet":"H36","index":14,"n_rows":17,"n_cols":22,"rows_kept":17,"cut":false,"hidden":false,"merged":[]}
["Table 1"]
["Sample","SJ01","SJ03","SJ04","SJ05","SJ07","SJ08","SJ50","SJ51","SJ52","SJ10","SJ11","SJ12","SJ13","SJ14","SJ09","SJ15","SJ55","SJ56","SJ57","SJ58","SJ60"]
["Formation","Topo","Topo","Topo","Topo","Topo","Topo","Topo","Topo","Topo","Rosais","Rosais","Rosais","Rosais","Rosais","Manadas","Manadas","Manadas","Manadas","Manadas","Manadas","Manadas"]
["206Pb/204Pb",19.347000000000001,19.861000000000001,19.8,20.047000000000001,20.510999999999999,20.276,20.177,20.126999999999999,20.507000000000001,19.972000000000001,19.776,19.792999999999999,20.134,20.186,19.896000000000001,19.992999999999999,20.001000000000001,19.959,19.959,19.850000000000001,19.873999999999999]
["207Pb/204Pb",15.625999999999999,15.631,15.625999999999999,15.627000000000001,15.673,15.653,15.647,15.638999999999999,15.667,15.635999999999999,15.643000000000001,15.621,15.638,15.654,15.624000000000001,15.637,15.637,15.632,15.632,15.627000000000001,15.628]
["207Pb/206Pb",{"$f":"(B5/B4)","v":0.80767043986147713},{"$f":"(C5/C4)","v":0.78701978752328683},0.78919191919191911,0.77951813238888612,0.76412656623275321,0.77199644900374831,0.77548694057590328,0.77701594872559254,0.76398303018481484,0.78289605447626665,0.79100930420711979,0.78921841054918407,0.77669613588954012,0.77548796195382941,0.78528347406513876,0.78212374331015866,0.78181090945452725,0.78320557142141389,0.78320557142141389,0.78725440806045333,0.78635403039146634]
["Age (Ma)",{"$f":"[1]!AgePb76(B6)","v":4935.3231169611036},{"$f":"[1]!AgePb76(C6)","v":4898.4259728490233},{"$f":"[1]!AgePb76(D6)","v":4902.3551912687644},{"$f":"[1]!AgePb76(E6)","v":4884.7667121863142},{"$f":"[1]!AgePb76(F6)","v":4856.2975312983872},{"$f":"[1]!AgePb76(G6)","v":4870.9297008656886},{"$f":"[1]!AgePb76(H6)","v":4877.3686412600082},{"$f":"[1]!AgePb76(I6)","v":4880.1794987635867},{"$f":"[1]!AgePb76(J6)","v":4856.0291713411352},{"$f":"[1]!AgePb76(K6)","v":4890.9345901870529},{"$f":"[1]!AgePb76(L6)","v":4905.6338645500318},{"$f":"[1]!AgePb76(M6)","v":4902.4030409953994},{"$f":"[1]!AgePb76(N6)","v":4879.5920572659943},{"$f":"[1]!AgePb76(O6)","v":4877.3705208834444},{"$f":"[1]!AgePb76(P6)","v":4895.2768036636571},{"$f":"[1]!AgePb76(Q6)","v":4889.5268998670426},{"$f":"[1]!AgePb76(R6)","v":4888.9562768316946},{"$f":"[1]!AgePb76(S6)","v":4891.4983312132217},{"$f":"[1]!AgePb76(T6)","v":4891.4983312132217},{"$f":"[1]!AgePb76(U6)","v":4898.8509391014222},{"$f":"[1]!AgePb76(V6)","v":4897.2193576386335}]
["Eruption Year",null,null,null,null,null,null,null,null,null,null,null,null,null,null,1808,1808,1808,1808,1808,1808,1808]
[]
[null,null,null,null,null,null,null,"Eruption Year AD","Age (Years)","Pb Age (Ma)","Age Ratio (106)"]
[null,null,null,null,null,null,null,1808,100,4895,{"$f":"J11/100","v":48.95}]
[null,null,null,null,null,null,null,1808,100,4890,{"$f":"J12/100","v":48.9}]
[null,null,null,null,null,null,null,1808,100,4889,48.89]
[null,null,null,null,null,null,null,1808,100,4891,48.91]
[null,null,null,null,null,null,null,1808,100,4891,48.91]
[null,null,null,null,null,null,null,1808,100,4899,48.99]
[null,null,null,null,null,null,null,1808,100,4897,48.97]

{"sheet":"H37","index":15,"n_rows":61,"n_cols":13,"rows_kept":61,"cut":false,"hidden":false,"merged":[]}
["Table 5:"," ",null,null,null,null,null,null,null,null,"Thousand Years","Historic Age","Age Ratio"]
["Volcano","Eruption","U(ppm)","Th(ppm)","(234U/238U)","(238U/232Th)","(230Th/232Th)","(238U/230Th)","(226Ra/230Th)","(230Th/238U)","(230Th/238U)","Years"]
["FD1-25-2",640,0.87,1.502,0.999,1.758,1.6559999999999999,1.0620000000000001,1.64,{"$f":"1/H3","v":0.94161958568738224},{"$f":"[1]!Th230Age(J3, E3)","v":311.28544775919022},{"$f":"2009-B3","v":1369},{"$f":"(K3 * 1000)/L3","v":227.38162728940119}]
["Dawapia10a",1250,1.3160000000000001,2.2599999999999998,0.999,1.766,1.667,1.06,2.4700000000000002,{"$f":"1/H4","v":0.94339622641509424},{"$f":"[1]!Th230Age(J4, E4)","v":314.72935817941863},{"$f":"2009-B4","v":759},{"$f":"(K4 * 1000)/L4","v":414.66318600713913}]
["Rabalanakaia",1250,0.98399999999999999,2.093,0.998,1.427,1.649,0.86499999999999999,1.26,1.1560693641618498,{"$f":"[1]!Th230Age(J5, E5)","v":0},759,0]
["Sulphur Creek",1850,0.78400000000000003,1.3540000000000001,1,1.756,1.6419999999999999,1.07,1.67,0.93457943925233644,{"$f":"[1]!Th230Age(J6, E6)","v":296.5573187685423},159,1865.1403696134737]
["Vulcan",null,null,null,null,null,null,null,null,{"$error":"#DIV/0!"},{"$f":"[1]!Th230Age(J7, E7)","v":{"$error":"#VALUE!"}},2009,"."]
["HPP-070",1878,1.1100000000000001,1.883,1.004,1.8180000000000001,1.6619999999999999,1.0940000000000001,1.39,0.91407678244972568,{"$f":"[1]!Th230Age(J8, E8)","v":261.13735211165744},131,1993.4149016157057]
["HPP-075",1937,0.23400000000000001,0.37,1.04,1.915,1.5980000000000001,1.198,1.73,0.8347245409015025,{"$f":"[1]!Th230Age(J9, E9)","v":172.95434394150334},72,2402.1436658542134]
["VulN-814",1994,1.0409999999999999,1.7969999999999999,1.0009999999999999,1.7849999999999999,1.647,1.083,1.54,0.92336103416435833,{"$f":"[1]!Th230Age(J10, E10)","v":277.65796586029728},15,18510.53105735315]
["TavQ-817",1994,0.88200000000000001,1.516,1,1.766,1.673,1.056,1.53,0.94696969696969691,{"$f":"[1]!Th230Age(J11, E11)","v":319.39227030481948},15,21292.818020321298]
["replicate",1994,0.874,1.488,0.998,1.782,1.679,1.0609999999999999,null,0.94250706880301605,{"$f":"[1]!Th230Age(J12, E12)","v":315.44463594684385},15,21029.642396456256]
["SER-42",1996,1.0649999999999999,1.823,0.999,1.7709999999999999,1.645,1.077,1.47,0.92850510677808729,{"$f":"[1]!Th230Age(J13, E13)","v":288.76565795741527},13,22212.742919801174]
["SER-48",1996,1.0489999999999999,1.8089999999999999,1,1.7669999999999999,1.667,1.06,1.32,0.94339622641509424,{"$f":"[1]!Th230Age(J14, E14)","v":312.30033168004519},13,24023.102436926551]
["replicate",1996,null,null,null,null,null,null,1.38,{"$error":"#DIV/0!"},{"$f":"[1]!Th230Age(J15, E15)","v":{"$error":"#VALUE!"}},13,"."]
["SER-213",1996,1.0489999999999999,1.871,0.999,1.7010000000000001,1.6259999999999999,1.046,1.42,0.95602294455066916,{"$f":"[1]!Th230Age(J16, E16)","v":342.96843738291398},13,26382.187490993379]
["SER-225",1997,0.88600000000000001,1.5229999999999999,0.999,1.7649999999999999,1.6639999999999999,1.079,1.54,0.92678405931417984,{"$f":"[1]!Th230Age(J17, E17)","v":286.1286870126786},12,23844.057251056551]
["replicate",1997,null,null,null,null,null,null,1.57,{"$error":"#DIV/0!"},{"$f":"[1]!Th230Age(J18, E18)","v":{"$error":"#VALUE!"}},12,"."]
["SER-228",1997,0.86299999999999999,1.4650000000000001,0.98599999999999999,1.75,1.6379999999999999,1.069,1.59,0.93545369504209541,{"$f":"[1]!Th230Age(J19, E19)","v":333.12146997957137},12,27760.122498297613]
["SER-239",1997,1.0740000000000001,1.8240000000000001,0.99199999999999999,1.786,1.623,1.101,1.46,0.90826521344232514,{"$f":"[1]!Th230Age(J20, E20)","v":271.6948723569331},12,22641.239363077755]
["SER-382",1997,0.81200000000000006,1.3939999999999999,1.0009999999999999,1.768,1.6279999999999999,1.0860000000000001,1.65,0.92081031307550643,{"$f":"[1]!Th230Age(J21, E21)","v":274.15885254557008},12,22846.57104546417]
["SER-385",1998,0.73699999999999999,1.3,0.99299999999999999,1.75,1.6619999999999999,1.052,1.64,0.9505703422053231,{"$f":"[1]!Th230Age(J22, E22)","v":348.9480494097831},11,31722.549946343919]
["replicate",1998,0.72899999999999998,1.3049999999999999,0.998,1.696,1.6619999999999999,1.02,null,0.98039215686274506,{"$f":"[1]!Th230Age(J23, E23)","v":443.82846038737472},11,40348.041853397706]
["SER-395",1998,1.032,1.772,0.998,1.768,1.645,1.0740000000000001,1.46,0.93109869646182486,{"$f":"[1]!Th230Age(J24, E24)","v":294.85378568016603},11,26804.889607287823]
["replicate",1998,1.012,1.7410000000000001,0.998,1.7629999999999999,1.67,1.056,null,0.94696969696969691,{"$f":"[1]!Th230Age(J25, E25)","v":324.69667854165971},11,29517.879867423613]
["SER-423a",1998,1.042,1.7889999999999999,0.999,1.7669999999999999,1.6679999999999999,1.06,0.92,0.94339622641509424,{"$f":"[1]!Th230Age(J26, E26)","v":314.72935817941863},11,28611.759834492601]
["replicate",1998,null,null,null,null,null,null,0.89,{"$error":"#DIV/0!"},{"$f":"[1]!Th230Age(J27, E27)","v":{"$error":"#VALUE!"}},11,"."]
["SER-416a",1999,1.0349999999999999,1.7769999999999999,1,1.766,1.651,1.07,1.63,0.93457943925233644,{"$f":"[1]!Th230Age(J28, E28)","v":296.5573187685423},10,29655.731876854232]
["replicate",1999,null,null,null,null,null,null,1.64,{"$error":"#DIV/0!"},{"$f":"[1]!Th230Age(J29, E29)","v":{"$error":"#VALUE!"}},10,"."]
["HPP-021a",2000,1.036,1.4710000000000001,0.999,2.1360000000000001,1.6839999999999999,1.2689999999999999,1.76,0.78802206461780933,{"$f":"[1]!Th230Age(J30, E30)","v":169.19365244512147},9,18799.294716124608]
["HPP-041",2001,1.052,1.837,0.99,1.776,1.651,1.0760000000000001,1.44,0.92936802973977695,{"$f":"[1]!Th230Age(J31, E31)","v":309.27926123408594},8,38659.907654260744]
["TML-n4",2001,10.49,29.71,0.99299999999999999,1.071,1.0740000000000001,0.995,0.97,1.0050251256281406,{"$f":"[1]!Th230Age(J32, E32)","v":0},8,0]
[]
[]
[]
["Eruption","Historic Age","Thousand Years","Age Ratio"]
["Year AD","Years","(230Th/238U)"]
[640,1369,311.28544775919022,227.38162728940119]
[1250,759,314.72935817941863,414.66318600713913]
[null,759,0,759]
[1850,159,296.5573187685423,1865.1403696134737]
[1878,131,261.13735211165744,1993.4149016157057]
[1937,72,172.95434394150334,2402.1436658542134]
[1994,15,277.65796586029728,18510.53105735315]
[null,15,319.39227030481948,21292.818020321298]
[null,15,315.44463594684385,21029.642396456256]
[1996,13,288.76565795741527,22212.742919801174]
[null,13,312.30033168004519,24023.102436926551]
[null,13,342.96843738291398,26382.187490993379]
[1997,12,286.1286870126786,23844.057251056551]
[null,12,333.12146997957137,27760.122498297613]
[null,12,271.6948723569331,22641.239363077755]
[null,12,274.15885254557008,22846.57104546417]
[1998,11,348.9480494097831,31722.549946343919]
[null,11,443.82846038737472,40348.041853397706]
[null,11,294.85378568016603,26804.889607287823]
[null,11,324.69667854165971,29517.879867423613]
[null,11,314.72935817941863,28611.759834492601]
[1999,10,296.5573187685423,29655.731876854232]
[2000,9,169.19365244512147,18799.294716124608]
[2001,8,309.27926123408594,38659.907654260744]

{"sheet":"H38","index":16,"n_rows":45,"n_cols":16,"rows_kept":45,"cut":false,"hidden":false,"merged":[]}
["Table 1",null,"Akutan","Lavas"]
["Sample:","96PSXEN","96PS09","96PS12","96PS01","AK81-35","96PS28","96PS32","96PS30","96PS13","96PS18","96PS23","96PS17","GLASS"]
["Age","-","Historical","Historical","Historical",1870,1400,1910,1910,1929,1978,1978,1978,"?"]
["206Pb/204Pb",18.943000000000001,18.975000000000001,18.954000000000001,18.963000000000001,18.981000000000002,"-",18.954000000000001,18.949000000000002,18.959,18.957000000000001,18.963000000000001,18.93,18.798999999999999]
["207Pb/204Pb",15.635999999999999,15.599,15.592000000000001,15.596,15.602,"-",15.581,15.579000000000001,15.596,15.606,15.590999999999999,15.555999999999999,15.557]
["208Pb/204Pb",38.673999999999999,38.567999999999998,38.54,38.548999999999999,38.558999999999997,"-",38.51,38.5,38.558999999999997,38.58,38.527999999999999,38.436999999999998,38.337000000000003]
["(230Th/232Th)",1.357,1.3180000000000001,1.43,1.349,1.3480000000000001,1.3939999999999999,1.347,1.35,1.359,1.345,1.3240000000000001,1.3580000000000001,1.3660000000000001]
["(238U/232Th)",1.6319999999999999,1.597,1.514,1.7210000000000001,1.7010000000000001,1.605,1.71,1.732,1.6990000000000001,1.619,1.6259999999999999,1.8740000000000001,1.377]
["(238U/230Th)",1.145,1.2110000000000001,1.085,1.276,1.2609999999999999,1.139,1.1950000000000001,1.1859999999999999,1.1579999999999999,1.165,1.228,1.1850000000000001,0.98799999999999999]
["(226Ra/230Th)i","-","-","-","-","-","-",1.038,1.081,1.0620000000000001,1.175,1.034,1.1559999999999999,"-"]
["Pb Age (Ma)",{"$f":"[1]!AgePb76(B5/B4)","v":4966.2497968845537},{"$f":"[1]!AgePb76(C5/C4)","v":4960.4823762639326},{"$f":"[1]!AgePb76(D5/D4)","v":4961.4185789258399},{"$f":"[1]!AgePb76(E5/E4)","v":4961.1083394231973},{"$f":"[1]!AgePb76(F5/F4)","v":4960.306282101119},".",{"$f":"[1]!AgePb76(H5/H4)","v":4960.4151910173878},{"$f":"[1]!AgePb76(I5/I4)","v":4960.6077877721564},{"$f":"[1]!AgePb76(J5/J4)","v":4961.4082673678731},{"$f":"[1]!AgePb76(K5/K4)","v":4962.4695321897079},{"$f":"[1]!AgePb76(L5/L4)","v":4960.6524580255327},{"$f":"[1]!AgePb76(M5/M4)","v":4959.9335113827283},{"$f":"[1]!AgePb76(N5/N4)","v":4969.8962129704178}]
[]
[]
[]
[]
["Table 2",null,"Aniakchak","Lavas"]
["Sample:","98AC2D","AC38B","94CNA11","92CNA22","NA94-5","NA94-7","94AMC2","97ANB-44","97ANB-27","97ANB-33","97ANB-26","97ANB-32","NA93-94","92CNA06","92CNA05"]
["Age",3500,3500,3500,3500,3500,3500,3500,1931,1931,1931,1931,1931,1931,1931,1931]
["206Pb/204Pb",18.873999999999999,18.89,18.864999999999998,18.853999999999999,18.838999999999999,18.838000000000001,18.866,18.847000000000001,18.876000000000001,18.911000000000001,18.882999999999999,18.887,18.899000000000001,18.882000000000001,18.876000000000001]
["207Pb/204Pb",15.573,15.587999999999999,15.582000000000001,15.565,15.558999999999999,15.547000000000001,15.565,15.62,15.583,15.614000000000001,15.585000000000001,15.58,15.599,15.59,15.571999999999999]
["208Pb/204Pb",38.411999999999999,38.465000000000003,38.444000000000003,38.383000000000003,38.359000000000002,38.331000000000003,38.393000000000001,38.594000000000001,38.468000000000004,38.569000000000003,38.485999999999997,38.451000000000001,38.527999999999999,38.487000000000002,38.429000000000002]
["(230Th/232Th)",1.4490000000000001,1.3380000000000001,1.4610000000000001,1.4570000000000001,1.35,1.427,1.411,1.4279999999999999,1.4039999999999999,1.41,1.4159999999999999,1.3959999999999999,1.407,1.399,1.42]
["(238U/232Th)",1.4890000000000001,1.409,1.4410000000000001,1.401,1.4059999999999999,1.5089999999999999,1.595,1.415,1.46,1.425,1.373,1.478,1.3580000000000001,1.468,1.381]
["(238U/230Th)",1.028,0.85399999999999998,0.98599999999999999,0.96099999999999997,1.0409999999999999,1.0569999999999999,1.1299999999999999,0.99099999999999999,1.04,1.01,0.97,1.0589999999999999,0.96499999999999997,1.0489999999999999,0.97199999999999998]
["Pb Age (Ma)",{"$f":"[1]!AgePb76(B20/B19)","v":4965.6980724163641},{"$f":"[1]!AgePb76(C20/C19)","v":4965.8620706396641},{"$f":"[1]!AgePb76(D20/D19)","v":4967.1972529120458},{"$f":"[1]!AgePb76(E20/E19)","v":4966.4747112671485},{"$f":"[1]!AgePb76(F20/F19)","v":4967.057975890817},{"$f":"[1]!AgePb76(G20/G19)","v":4966.0367391508662},{"$f":"[1]!AgePb76(H20/H19)","v":4965.5703001095717},{"$f":"[1]!AgePb76(I20/I19)","v":4972.0156363861042},{"$f":"[1]!AgePb76(J20/J19)","v":4966.4599168309414},{"$f":"[1]!AgePb76(K20/K19)","v":4966.6516376483869},{"$f":"[1]!AgePb76(L20/L19)","v":4966.1153147087025},{"$f":"[1]!AgePb76(M20/M19)","v":4965.3581347253448},{"$f":"[1]!AgePb76(N20/N19)","v":4966.1877110008454},{"$f":"[1]!AgePb76(O20/O19)","v":4966.6465368453964},{"$f":"[1]!AgePb76(P20/P19)","v":4965.4561738434368}]
[]
[]
[null,null,null,null,null,"Volcano","Age","Eruption","Pb Age (Ma)","Ratio (106)"]
[null,null,null,null,null,"Aniakchak",{"$f":"2004-H29","v":73},1931,4972,{"$f":"I29/G29","v":68.109589041095887}]
[null,null,null,null,null,null,{"$f":"2004-H30","v":73},1931,4966,{"$f":"I30/G30","v":68.027397260273972}]
[null,null,null,null,null,null,73,1931,4967,68.041095890410958]
[null,null,null,null,null,null,73,1931,4966,68.027397260273972]
[null,null,null,null,null,null,73,1931,4965,68.013698630136986]
[null,null,null,null,null,null,73,1931,4966,68.027397260273972]
[null,null,null,null,null,null,73,1931,4967,68.041095890410958]
[null,null,null,null,null,null,73,1931,4965,68.013698630136986]
[null,null,null,null,null,"Akutan",{"$f":"2004-H37","v":134},1870,4960,{"$f":"I37/G37","v":37.014925373134325}]
[null,null,null,null,null,null,{"$f":"2004-H38","v":94},1910,4960,{"$f":"I38/G38","v":52.765957446808514}]
[null,null,null,null,null,null,94,1910,4961,52.776595744680854]
[null,null,null,null,null,null,75,1929,4961,66.146666666666661]
[null,null,null,null,null,null,26,1978,4962,190.84615384615384]
[null,null,null,null,null,null,26,1978,4961,190.80769230769232]
[null,null,null,null,null,null,26,1978,4960,190.76923076923077]
[null,null,null,null,null,null,null,null,{"$f":"MIN(I29:I43)","v":4960}]
[null,null,null,null,null,null,null,null,{"$f":"MAX(I29:I44)","v":4972}]

{"sheet":"H39","index":17,"n_rows":16,"n_cols":7,"rows_kept":16,"cut":false,"hidden":false,"merged":[]}
["Table 8"]
["Date","206Pb/204Pb","207Pb/204Pb","207Pb/206Pb","Age (Ma)","Age Ratio (106)"]
["1992-12-29",18.396999999999998,15.46,{"$f":"C3/B3","v":0.84035440560961039},{"$f":"[1]!AgePb76(D3)","v":4991.7171589323279},{"$f":"E3/8","v":623.96464486654099},1992]
["1994-04-25",18.407,15.472,{"$f":"C4/B4","v":0.84054979084044112},{"$f":"[1]!AgePb76(D4)","v":4992.0472312709317},{"$f":"E4/6","v":832.00787187848857},1994]
["1995-04-27",18.427,15.492000000000001,0.84072285233624577,{"$f":"[1]!AgePb76(D5)","v":4992.3395231323166},{"$f":"E5/5","v":998.46790462646334},1995]
["1997-01-10",18.414000000000001,15.48,0.84066471163245349,{"$f":"[1]!AgePb76(D6)","v":4992.2413336398204},{"$f":"E6/3","v":1664.0804445466067},1997]
["1998-01-10",18.428999999999998,15.502000000000001,0.84117423625807164,{"$f":"[1]!AgePb76(D7)","v":4993.1015863953444},{"$f":"E7/2","v":2496.5507931976722},1998]
[]
[]
[]
["Eruption","Age (Ma)","Age Ratio (106)"]
["1992-12-29",4991.7171589323279,623.96464486654099]
["1994-04-25",4992.0472312709317,832.00787187848857]
["1995-04-27",4992.3395231323166,998.46790462646334]
["1997-01-10",4992.2413336398204,1664.0804445466067]
["1998-01-10",4993.1015863953444,2496.5507931976722]

{"sheet":"H40","index":18,"n_rows":132,"n_cols":18,"rows_kept":132,"cut":false,"hidden":false,"merged":[]}
["Table 2",null,null,null,null,null,null,null,null,null,null,null,"Volcano","Eruption Year AD","Age (Years)","Pb Age (Ma)","Age Ratio (106)","Year Date"]
["Sample","Eruption","Month","208Pb/204Pb","207Pb/204Pb","206Pb/204Pb","207Pb/206Pb","Age","na","Description",null,null,"Bezymianny ",1956,{"$f":"R2-N2","v":58},5003.68970395213,{"$f":"P2/O2","v":86.270512137105683},2014]
["Bezymianny Volcano",null,null,null,null,null,null,null,null,null,null,null,null,1956,58,5003.5482691546313,86.268073606114328,2014]
["Bezymianny Domes",null,null,null,null,null,null,null,null,null,null,null,null,1997,17,5003.7316599452342,294.3371564673667,2014]
["06BZT04","<3 ka",null,37.902999999999999,15.478,18.277000000000001,{"$f":"E5/F5","v":0.84685670514854727},{"$f":"[1]!AgePb76(G5)","v":5002.658204956705},"“Young”","dome",null,null,null,2006,8,5004.0006126855869,625.50007658569837,2014]
["06BZT08","3–5 ka",null,37.899000000000001,15.478,18.276,{"$f":"E6/F6","v":0.84690304224119062},{"$f":"[1]!AgePb76(G6)","v":5002.7358531147802},"Lokmaty","dome",null,null,null,2006,8,5003.6477328515512,625.45596660644389,2014]
["08BZT08b","Holocene",null,37.902999999999999,15.478,18.277999999999999,0.8468103731261627,{"$f":"[1]!AgePb76(G7)","v":5002.5805607827506},3,"Expedition","dome",null,null,2006,8,5003.7254669611148,625.46568337013935,2014]
["06CBZT08","Pleistocene",null,37.869999999999997,15.473000000000001,18.268000000000001,0.84700021896211952,{"$f":"[1]!AgePb76(G8)","v":5002.8986797817734},"Cedlo","dome",null,null,null,2006,8,5003.922879512862,625.49035993910775,2014]
["MP1BZT09","Unknown",null,37.865000000000002,15.471,18.262,0.84716898477713287,{"$f":"[1]!AgePb76(G9)","v":5003.181412036608},"Mega","plag","lava",null,null,2006,8,5003.5700027352041,625.44625034190051,2014]
["MP2BZT09","Unknown",null,37.881,15.475,18.268999999999998,0.84706333132629053,{"$f":"[1]!AgePb76(G10)","v":5003.0044185123179},"Mega","plag","lava",null,null,2006,8,5003.6119867495972,625.45149834369965,2014]
["06BZT05",1956,null,37.889000000000003,15.474,18.259,0.84747247932526426,{"$f":"[1]!AgePb76(G11)","v":5003.68970395213},"Cryptodome",null,null,null,null,2006,8,5003.5342735385329,625.44178419231662,2014]
["05BZT08",1956,null,37.886000000000003,15.475,18.262,0.84738801883692905,{"$f":"[1]!AgePb76(G12)","v":5003.5482691546313},"Cryptodome",null,null,null,null,2007,7,5003.8233459014127,714.83190655734472,2014]
["06BZT11",1997,null,37.889000000000003,15.477,18.262,0.8474975358668273,{"$f":"[1]!AgePb76(G13)","v":5003.7316599452342},"Pumice,","tephra",null,null,null,2007,7,5003.7036909613698,714.81481299448137,2014]
["06IPE16",2006,"(May)",37.878,15.474,18.254999999999999,0.84765817584223502,{"$f":"[1]!AgePb76(G14)","v":5004.0006126855869},"Juvenile","breadcrust","bomb",null,null,2007,7,5004.4670956032014,714.92387080045739,2014]
["06IPE17",2006,"(May)",37.875,15.471,18.256,0.84744741454864159,{"$f":"[1]!AgePb76(G15)","v":5003.6477328515512},"Juvenile","breadcrust","bomb",null,null,2007,7,5003.7036909613698,714.81481299448137,2014]
["06BZT02a",2006,"(May)",37.872,15.471,18.254999999999999,0.84749383730484806,{"$f":"[1]!AgePb76(G16)","v":5003.7254669611148},"Juvenile","breadcrust","bomb",null,null,2007,7,5003.3151663729468,714.75930948184953,2014]
["06BZT02bb",2006,"(May)",37.878999999999998,15.474,18.256,0.84761174408413675,{"$f":"[1]!AgePb76(G17)","v":5003.922879512862},2,"Inner,","breadcrust",null,null,2007,7,5003.6959094512404,714.81370135017721,2014]
["06BZT03",2006,"(May)",37.866999999999997,15.471,18.257000000000001,0.84740099687790982,{"$f":"[1]!AgePb76(G18)","v":5003.5700027352041},2,"Pumice",null,null,null,2007,7,5003.7316599452342,714.81880856360488,2014]
["02BZTK07",2006,"(Dec)",37.881999999999998,15.474,18.260000000000002,0.84742606790799557,{"$f":"[1]!AgePb76(G19)","v":5003.6119867495972},"Juvenile","breadcrust","bomb",null,null,2007,7,5003.7814078517167,714.82591540738815,2014]
["05BZT09b",2006,null,37.881999999999998,15.474,18.260999999999999,0.84737966157384592,{"$f":"[1]!AgePb76(G20)","v":5003.5342735385329},2,"Juvenile","breadcrust",null,null,2007,7,5009.5162368509918,715.6451766929988,2014]
["01BZTK07",2007,"(May)",37.892000000000003,15.478,18.262,0.84755229438177637,{"$f":"[1]!AgePb76(G21)","v":5003.8233459014127},"Juvenile","breadcrust","bomb",null,null,2007,7,5005.775706463096,715.11081520901371,2014]
["02BZT08",2007,"(Oct)",37.881,15.475,18.260000000000002,0.84748083242059136,{"$f":"[1]!AgePb76(G22)","v":5003.7036909613698},"Juvenile","breadcrust","bomb",null,null,2007,7,5002.5524661728214,714.65035231040304,2014]
["03BZT08",2007,"(Oct)",37.877000000000002,15.474,18.248999999999999,0.847936873253329,{"$f":"[1]!AgePb76(G23)","v":5004.4670956032014},"Juvenile","breadcrust","bomb",null,null,2007,7,5003.2514845683027,714.75021208118608,2014]
["04BZT08",2007,"(Oct)",37.881999999999998,15.475,18.260000000000002,0.84748083242059136,{"$f":"[1]!AgePb76(G24)","v":5003.7036909613698},"Juvenile","breadcrust","bomb",null,null,2007,7,5003.6679419296652,714.80970598995214,2014]
["03BZT09",2007,"(Oct)",37.887999999999998,15.475,18.265000000000001,0.84724883657267991,{"$f":"[1]!AgePb76(G25)","v":5003.3151663729468},"Juvenile","breadcrust","bomb",null,null,2007,7,5003.406865851287,714.77240940732668,2014]
["04BZT09",2007,"(Oct)",37.896000000000001,15.48,18.265999999999998,0.847476185262236,{"$f":"[1]!AgePb76(G26)","v":5003.6959094512404},"Juvenile","breadcrust","bomb",null,null,2007,7,5003.2591221933462,714.75130317047808,2014]
["11BZT09",2007,"(Oct)",37.887999999999998,15.477,18.262,0.8474975358668273,{"$f":"[1]!AgePb76(G27)","v":5003.7316599452342},"Juvenile","breadcrust","bomb",null,null,2007,7,5003.6539556522175,714.80770795031674,2014]
["06BZT09",2008,"(Aug)",37.89,15.477,18.268999999999998,0.84717280639334402,{"$f":"[1]!AgePb76(G28)","v":5003.1878136722798},"Juvenile","bomb",null,null,null,2007,7,5003.2654940308321,714.75221343297596,2014]
["10IPE5A",2009,"(Dec)",37.889000000000003,15.478999999999999,18.260000000000002,0.84769989047097472,{"$f":"[1]!AgePb76(G29)","v":5004.0704448759434},"Juvenile","breadcrust","bomb",null,null,2008,6,5003.1878136722798,833.86463561204664,2014]
["10IPE7A",2009,"(Dec)",37.893000000000001,15.478999999999999,18.260999999999999,0.84765346914188711,{"$f":"[1]!AgePb76(G30)","v":5003.9927332254592},"Juvenile","breadcrust","bomb",null,null,2008,6,5008.0987095454075,834.68311825756791,2014]
["10IPE8",2010,"(Jan/Feb)",37.892000000000003,15.48,18.259,0.84780108439673585,{"$f":"[1]!AgePb76(G31)","v":5004.2398329556045},"Lava","flow",null,null,null,2008,6,5003.2871476457431,833.88119127429047,2014]
["10IPE1A",2010,"(June)",37.886000000000003,15.476000000000001,18.268000000000001,0.84716444055178453,{"$f":"[1]!AgePb76(G32)","v":5003.1737999096822},"Juvenile","bomb",null,null,null,2009,5,5004.0704448759434,1000.8140889751887,2014]
["10IPE2A",2010,"(June)",37.892000000000003,15.478,18.265000000000001,0.84741308513550506,{"$f":"[1]!AgePb76(G33)","v":5003.5902459285817},"Juvenile","bomb",null,null,null,2009,5,5003.9927332254592,1000.7985466450918,2014]
["10IPE9",2010,"(June)",37.893000000000001,15.478999999999999,18.257000000000001,0.84783918497014832,{"$f":"[1]!AgePb76(G34)","v":5004.3036037777301},"Lava","flow",null,null,null,2009,{"$f":"R34-N34","v":5},5004.0285505897064,{"$f":"P34/O34","v":1000.8057101179413},2014]
["Bezymianny Xenoliths",null,null,null,null,null,".",".",null,null,null,null,null,2009,5,5004.5646681100616,1000.9129336220124,2014]
["01BZT09a",2007,"(Oct)",37.881,15.475,18.259,0.84752724683717617,{"$f":"[1]!AgePb76(G36)","v":5003.7814078517167},"Enclave","in","02BZT08",null,null,2010,4,5004.2398329556045,1251.0599582389011,2014]
["01BZT09bb",2007,"(Oct)",37.828000000000003,15.473000000000001,18.183,0.85095968762030472,{"$f":"[1]!AgePb76(G37)","v":5009.5162368509918},3,"Xenolith","in",null,null,2010,4,5003.1737999096822,1250.7934499774206,2014]
["01BZT09c",2007,"(Oct)",37.853999999999999,15.473000000000001,18.231000000000002,0.84871921452471066,{"$f":"[1]!AgePb76(G38)","v":5005.775706463096},"Xenolith","in","02BZT08",null,null,2010,4,5003.5902459285817,1250.8975614821454,2014]
["03BZT09a",2007,"(Oct)",37.893000000000001,15.476000000000001,18.276,0.84679360910483703,{"$f":"[1]!AgePb76(G39)","v":5002.5524661728214},"Xenolith","in","03BZT09",null,null,2010,4,5004.3036037777301,1251.0759009444325,2014]
["03BZT09b",2007,"(Oct)",37.89,15.476000000000001,18.266999999999999,0.84721081732085191,{"$f":"[1]!AgePb76(G40)","v":5003.2514845683027},"Enclave","in","03BZT09",null,null,2010,4,5011.209916058212,1252.802479014553,2014]
["03BZT09d",2007,"(Oct)",37.892000000000003,15.478,18.263999999999999,0.84745948313622432,{"$f":"[1]!AgePb76(G41)","v":5003.6679419296652},"Enclave","in","03BZT09",null,null,2010,4,5004.5089224288022,1251.1272306072005,2014]
["04BZT09d",2007,"(Oct)",37.892000000000003,15.476000000000001,18.265000000000001,0.84730358609362166,{"$f":"[1]!AgePb76(G42)","v":5003.406865851287},"Enclave","in","04BZT09",null,"Klyuchevskoy",1939,75,5001.7549200106514,66.69006560014202,2014]
["11BZT09a",2007,"(Oct)",37.872999999999998,15.471,18.260999999999999,0.84721537703302119,{"$f":"[1]!AgePb76(G43)","v":5003.2591221933462},"Enclave","in","11BZT09",null,null,1945,69,5001.7267376982227,72.488793299974247,2014]
["05BZT09ab",2007,null,37.889000000000003,15.477,18.263000000000002,0.84745113070141809,{"$f":"[1]!AgePb76(G44)","v":5003.6539556522175},2,"Enclave","in",null,null,1946,68,5001.7971808112916,73.555840894283705,2014]
["05BZT09bb",2007,null,37.893000000000001,15.477,18.268000000000001,0.84721918108167282,{"$f":"[1]!AgePb76(G45)","v":5003.2654940308321},2,"Enclave","in",null,null,2007,7,5001.3106837510422,714.47295482157745,2014]
["02BZT09bb",2008,"(Aug)",37.814999999999998,15.472,18.2,0.85010989010989013,{"$f":"[1]!AgePb76(G46)","v":5008.0987095454075},3,"Enclave","in",null,null,2007,7,5001.1908103664882,714.45583005235551,2014]
["06BZT09a",2008,"(Aug)",37.883000000000003,15.473000000000001,18.263000000000002,0.84723210863494491,{"$f":"[1]!AgePb76(G47)","v":5003.2871476457431},"Enclave","in","06BZT09",null,"Shiveluch",1964,50,4996.6084303350672,99.932168606701339,2014]
["10IPE5B",2009,"(Dec)",37.886000000000003,15.476000000000001,18.257000000000001,0.84767486443555895,{"$f":"[1]!AgePb76(G48)","v":5004.0285505897064},"Enclave","in","10IPE5A",null,null,1980,34,4995.6614054532802,146.93121780744943,2014]
["10IPE7B",2009,"(Dec)",37.896999999999998,15.481,18.256,0.84799517966695881,{"$f":"[1]!AgePb76(G49)","v":5004.5646681100616},"Enclave","in","10IPE7A",null,null,1993,21,4996.3765137385872,237.92269113040891,2014]
["10IPE1Bb",2010,"(June)",37.799999999999997,15.477,18.166,0.85197621931080036,{"$f":"[1]!AgePb76(G50)","v":5011.209916058212},3,"Enclave","in",null,null,2001,13,4996.1643404506985,384.32033388082294,2014]
["10IPE2B",2010,"(June)",37.880000000000003,15.477,18.251999999999999,0.84796186719263644,{"$f":"[1]!AgePb76(G51)","v":5004.5089224288022},"Enclave","in","10IPE2A",null,null,2001,13,4999.7596169569424,384.59689361207251,2014]
["Klyuchevskoy Volcano",null,null,null,null,null,{"$error":"#DIV/0!"},".",null,null,null,null,null,2007,7,4996.9177077405539,713.84538682007917,2014]
["Klyuchevskoy lavas",null,null,null,null,null,{"$error":"#DIV/0!"},".",null,null,null,null,"Karymsky",1964,50,4996.7774225132825,99.935548450265657,2014]
["KL1939",1939,null,37.914999999999999,15.48,18.291,0.84631786124323438,{"$f":"[1]!AgePb76(G54)","v":5001.7549200106514},"Lava","flow,","flank",null,null,1971,43,4996.8978006107791,116.20692559559951,2014]
["KL1945Y",1945,null,37.906999999999996,15.478,18.289000000000001,0.84630105527912947,{"$f":"[1]!AgePb76(G55)","v":5001.7267376982227},"Lava","flow,","flank",null,null,1971,43,4996.7144733107543,116.20266217001755,2014]
["KL1946A",1946,null,37.917999999999999,15.483000000000001,18.294,0.84634306329944242,{"$f":"[1]!AgePb76(G56)","v":5001.7971808112916},"Lava","flow,","flank",null,null,1996,18,4996.912150853198,277.60623060295546,2014]
["KLKrest07",2007,null,37.948999999999998,15.487,18.305,0.84605299098606945,{"$f":"[1]!AgePb76(G57)","v":5001.3106837510422},"Lava","flow,","summit",null,null,1996,18,4996.6857437630706,277.59365243128173,2014]
["KL-Apah232-07",2007,null,37.944000000000003,15.484,18.303000000000001,0.84598153308200841,{"$f":"[1]!AgePb76(G58)","v":5001.1908103664882},"Lava","flow,","summit",null,null,1996,18,4996.5940587223558,277.58855881790868,2014]
["Shiveluch Volcano",null,null,null,null,null,{"$error":"#DIV/0!"},".",null,null,null,null,null,1998,16,4996.8204963233029,312.30128102020643,2014]
["SHIV1964",1964,null,37.911999999999999,15.483000000000001,18.361000000000001,0.84325472468819784,{"$f":"[1]!AgePb76(G60)","v":4996.6084303350672},"Juvenile","clast,","pyroclastic",null,null,2003,11,4996.7630611397017,454.25118737633653,2014]
["SHIV1980b",1980,null,37.933999999999997,15.487,18.378,0.84269234954837302,{"$f":"[1]!AgePb76(G61)","v":4995.6614054532802},2,"Juvenile","clast,",null,null,2004,10,4996.7630611397017,499.67630611397016,2014]
["SHIV1993",1993,null,37.909999999999997,15.483000000000001,18.364000000000001,0.84311696798083202,{"$f":"[1]!AgePb76(G62)","v":4996.3765137385872},"Juvenile","clast,","pyroclastic",null,null,2007,7,4998.4875057834743,714.06964368335343,2014]
["SHIV2001",2001,null,37.901000000000003,15.478999999999999,18.361999999999998,0.84299095959045856,{"$f":"[1]!AgePb76(G63)","v":4996.1643404506985},"Juvenile","clast,","pyroclastic",null,null,2008,6,4996.7719117827537,832.79531863045895,2014]
["SHIV2001DMBb",2001,null,37.875,15.476000000000001,18.312000000000001,0.84512887723896901,{"$f":"[1]!AgePb76(G64)","v":4999.7596169569424},2,"Dome",null,null,null,2008,6,4996.7719117827537,832.79531863045895,2014]
["SHIV72007",2007,null,37.908000000000001,15.483000000000001,18.356999999999999,0.84343847033829067,{"$f":"[1]!AgePb76(G65)","v":4996.9177077405539},"Juvenile","clast,","pyroclastic",null,null,null,"Average",{"$f":"AVERAGE(P2:P64)","v":5001.9053676604535},{"$f":"AVERAGE(Q2:Q64)","v":625.89733350479048}]
["Karymsky Volcano",null,null,null,null,null,{"$error":"#DIV/0!"},".",null,null,null,null,null,null,"Maximum",{"$f":"MAX(P2:P65)","v":5011.209916058212},{"$f":"MAX(Q2:Q65)","v":1252.802479014553}]
["KTK0308",1964,null,37.988,15.484,18.36,0.8433551198257081,{"$f":"[1]!AgePb76(G67)","v":4996.7774225132825},"Lava","flow",null,null,null,null,"Minimum",{"$f":"MIN(P2:P66)","v":4995.6614054532802},{"$f":"MIN(Q2:Q66)","v":66.69006560014202}]
["K1971PFMB",1971,null,37.994,15.487,18.361999999999998,0.8434266419779981,{"$f":"[1]!AgePb76(G68)","v":4996.8978006107791},"Juvenile","bomb,","pyroclastic",null,null,null,"Difference",{"$f":"P66-P67","v":15.548510604931835},1186.1124134144111]
["KTK0408",1971,null,37.993000000000002,15.484999999999999,18.361999999999998,0.84331772138111316,{"$f":"[1]!AgePb76(G69)","v":4996.7144733107543},"Lava","flow","toe",null,null,null,"Accuracy",{"$f":"1-(P68/P65)","v":0.99689148245277492},-0.89505906147998138]
["97IPE4b",1996,"(Apr–Aug)",37.997999999999998,15.488,18.363,{"$f":"E70/F70","v":0.84343516854544465},{"$f":"[1]!AgePb76(G70)","v":4996.912150853198},3,"Lava","flow"]
["98IPE28",1996,"(Sep–Oct)",37.982999999999997,15.483000000000001,18.36,0.84330065359477124,{"$f":"[1]!AgePb76(G71)","v":4996.6857437630706},"Lava","flow"]
["98IPE22db",1996,null,37.979999999999997,15.481999999999999,18.36,0.84324618736383439,{"$f":"[1]!AgePb76(G72)","v":4996.5940587223558},2,"Juvenile","bomb,"]
["98IPE26",1998,"(June–July)",37.994,15.487,18.363,0.84338071121276481,{"$f":"[1]!AgePb76(G73)","v":4996.8204963233029},"Lava","flow"]
["K2003",2003,null,37.984999999999999,15.483000000000001,18.359000000000002,0.84334658750476599,{"$f":"[1]!AgePb76(G74)","v":4996.7630611397017},"Lava","flow"]
["K2004",2004,null,37.982999999999997,15.483000000000001,18.359000000000002,0.84334658750476599,{"$f":"[1]!AgePb76(G75)","v":4996.7630611397017},"Lava","flow"]
["K2007b",2007,null,37.991999999999997,15.49,18.344999999999999,0.84437176342327613,{"$f":"[1]!AgePb76(G76)","v":4998.4875057834743},2,"Ash,","collected"]
["KTK0508",2008,"(April)",38.000999999999998,15.489000000000001,18.366,0.84335184580202549,{"$f":"[1]!AgePb76(G77)","v":4996.7719117827537},"Juvenile","bomb",null,null,"Volcano","Eruption AD","Age (Years)","Pb Age (Ma)","Age Ratio (106)"]
["KTK0908",2008,"(July 25)",38.002000000000002,15.489000000000001,18.366,0.84335184580202549,{"$f":"[1]!AgePb76(G78)","v":4996.7719117827537},"Juvenile","bomb",null,null,"Bezymianny ",1956,58,5003.68970395213,86.270512137105683]
[null,null,null,null,null,null,null,null,null,null,null,null,null,1956,58,5003.5482691546313,86.268073606114328]
[null,null,null,null,null,null,null,null,null,null,null,null,null,1997,17,5003.7316599452342,294.3371564673667]
[null,null,null,null,null,null,null,null,null,null,null,null,null,2006,8,5004.0006126855869,625.50007658569837]
[null,null,null,null,null,null,null,null,null,null,null,null,null,2007,7,5003.8233459014127,714.83190655734472]
[null,null,null,null,null,null,null,null,null,null,null,null,null,2008,6,5003.1878136722798,833.86463561204664]
[null,null,null,null,null,null,null,null,null,null,null,null,null,2009,5,5004.0704448759434,1000.8140889751887]
[null,null,null,null,null,null,null,null,null,null,null,null,null,2010,4,5004.2398329556045,1251.0599582389011]
[null,null,null,null,null,null,null,null,null,null,null,null,"Klyuchevskoy",1939,75,5001.7549200106514,66.69006560014202]
[null,null,null,null,null,null,null,null,null,null,null,null,null,1945,69,5001.7267376982227,72.488793299974247]
[null,null,null,null,null,null,null,null,null,null,null,null,null,1946,68,5001.7971808112916,73.555840894283705]
[null,null,null,null,null,null,null,null,null,null,null,null,null,2007,7,5001.3106837510422,714.47295482157745]
[null,null,null,null,null,null,null,null,null,null,null,null,"Shiveluch",1964,50,4996.6084303350672,99.932168606701339]
[null,null,null,null,null,null,null,null,null,null,null,null,null,1980,34,4995.6614054532802,146.93121780744943]
[null,null,null,null,null,null,null,null,null,null,null,null,null,1993,21,4996.3765137385872,237.92269113040891]
[null,null,null,null,null,null,null,null,null,null,null,null,null,2001,13,4996.1643404506985,384.32033388082294]
[null,null,null,null,null,null,null,null,null,null,null,null,null,2007,7,4996.9177077405539,713.84538682007917]
[null,null,null,null,null,null,null,null,null,null,null,null,"Karymsky",1964,50,4996.7774225132825,99.935548450265657]
[null,null,null,null,null,null,null,null,null,null,null,null,null,1971,43,4996.8978006107791,116.20692559559951]
[null,null,null,null,null,null,null,null,null,null,null,null,null,1996,18,4996.912150853198,277.60623060295546]
[null,null,null,null,null,null,null,null,null,null,null,null,null,1998,16,4996.8204963233029,312.30128102020643]
[null,null,null,null,null,null,null,null,null,null,null,null,null,2003,11,4996.7630611397017,454.25118737633653]
[null,null,null,null,null,null,null,null,null,null,null,null,null,2004,10,4996.7630611397017,499.67630611397016]
[null,null,null,null,null,null,null,null,null,null,null,null,null,2007,7,4998.4875057834743,714.06964368335343]
[null,null,null,null,null,null,null,null,null,null,null,null,null,2008,6,4996.7719117827537,832.79531863045895]
[]
[]
[]
[]
[]
[]
[]
[]
[]
[]
[]
[]
[null,null,null,null,null,null,null,null,null,null,null,null,null,1980,34,4995.6614054532802,146.93121780744943]
[null,null,null,null,null,null,null,null,null,null,null,null,null,1993,21,4996.3765137385872,237.92269113040891]
[null,null,null,null,null,null,null,null,null,null,null,null,null,2001,13,4996.1643404506985,384.32033388082294]
[null,null,null,null,null,null,null,null,null,null,null,null,null,2001,13,4999.7596169569424,384.59689361207251]
[null,null,null,null,null,null,null,null,null,null,null,null,null,2007,7,4996.9177077405539,713.84538682007917]
[]
[null,null,null,null,null,null,null,null,null,null,null,null,"Karymsky",1964,50,4996.7774225132825,99.935548450265657]
[null,null,null,null,null,null,null,null,null,null,null,null,null,1971,43,4996.8978006107791,116.20692559559951]
[null,null,null,null,null,null,null,null,null,null,null,null,null,1971,43,4996.7144733107543,116.20266217001755]
[null,null,null,null,null,null,null,null,null,null,null,null,null,1996,18,4996.912150853198,277.60623060295546]
[null,null,null,null,null,null,null,null,null,null,null,null,null,1996,18,4996.6857437630706,277.59365243128173]
[null,null,null,null,null,null,null,null,null,null,null,null,null,1996,18,4996.5940587223558,277.58855881790868]
[null,null,null,null,null,null,null,null,null,null,null,null,null,1998,16,4996.8204963233029,312.30128102020643]
[null,null,null,null,null,null,null,null,null,null,null,null,null,2003,11,4996.7630611397017,454.25118737633653]
[null,null,null,null,null,null,null,null,null,null,null,null,null,2004,10,4996.7630611397017,499.67630611397016]
[null,null,null,null,null,null,null,null,null,null,null,null,null,2007,7,4998.4875057834743,714.06964368335343]
[null,null,null,null,null,null,null,null,null,null,null,null,null,2008,6,4996.7719117827537,832.79531863045895]
[null,null,null,null,null,null,null,null,null,null,null,null,null,2008,6,4996.7719117827537,832.79531863045895]

{"sheet":"H41","index":19,"n_rows":69,"n_cols":13,"rows_kept":69,"cut":false,"hidden":false,"merged":[]}
["Table 1"]
["Volcano","Toba","Toba","Sorikmarapi","Krakatau","Krakatau","Galunggung","Galunggung","Galunggung","Galunggung"]
["Age",-72000,-72000,-10000,1883,1883,1982,1982,1982,1918,null,"Negative Dates","are BC"]
["206Pb/204Pb",18.899000000000001,18.972000000000001,18.666,18.585000000000001,18.471,18.724,18.734999999999999,18.782,18.692]
["207Pb/204Pb",15.738,15.827999999999999,15.659000000000001,15.61,15.621,15.635,15.627000000000001,15.673,15.624000000000001]
["207Pb/206Pb",{"$f":"(B5/B4)","v":0.83274247314672722},{"$f":"(C5/C4)","v":0.83428209993674884},0.83890496089146038,0.83992467043314489,0.84570407666071146,0.8350245674001282,0.834107285828663,0.83446917261207543,0.83586561095655898]
["Pb/Pb Age",{"$f":"[1]!AgePb76(B6)","v":4978.7941417825259},{"$f":"[1]!AgePb76(C6)","v":4981.4181142596917},{"$f":"[1]!AgePb76(D6)","v":4989.2660031863543},{"$f":"[1]!AgePb76(E6)","v":4990.9909025864799},{"$f":"[1]!AgePb76(F6)","v":5000.7252645631088},{"$f":"[1]!AgePb76(G6)","v":4982.6816565033905},{"$f":"[1]!AgePb76(H6)","v":4981.1204391934343},{"$f":"[1]!AgePb76(I6)","v":4981.7365899165379},{"$f":"[1]!AgePb76(J6)","v":4984.1115156583637}]
[]
[]
[]
["Volcano","Galunggung","Merapi","Merapi","Merapi","Merapi","Rindjani","Rindjani","Tambora","Sangeang Api","Ayi Flores"]
["Age",-2200,1006,1006,1006,1006,1900,1900,1815,1985,1900,"Negative Dates","are BC"]
["206Pb/204Pb",18.731000000000002,18.718,18.713999999999999,18.695,18.719000000000001,18.64,18.62,18.858000000000001,18.850000000000001,18.856999999999999]
["207Pb/204Pb",15.654,15.647,15.638,15.629,15.63,15.641,15.571999999999999,15.57,15.6,15.666]
["207Pb/206Pb",{"$f":"(B14/B13)","v":0.8357268698948267},{"$f":"(C14/C13)","v":0.83593332621006522},0.83563107833707395,0.8359989301952393,0.83498050109514399,0.83910944206008586,0.83630504833512342,0.82564428889595931,0.8275862068965516,0.83077902105318979]
["Pb/Pb Age",{"$f":"[1]!AgePb76(B15)","v":4983.875747140045},{"$f":"[1]!AgePb76(C15)","v":4984.226571934556},{"$f":"[1]!AgePb76(D15)","v":4983.7129402465298},{"$f":"[1]!AgePb76(E15)","v":4984.338031469515},{"$f":"[1]!AgePb76(F15)","v":4982.6066971382279},{"$f":"[1]!AgePb76(G15)","v":4989.6120737591782},{"$f":"[1]!AgePb76(H15)","v":4984.857995719356},{"$f":"[1]!AgePb76(I15)","v":4966.6297118656439},{"$f":"[1]!AgePb76(J15)","v":4969.9686639051524},{"$f":"[1]!AgePb76(K15)","v":4975.4403575303195}]
[]
[]
[null,"Volcano","Eruption Year","Age (Years)","Pb Age (Ma)","Age Ratio (106)"]
[null,"Toba",-72000,74000,4979,{"$f":"E20/D20","v":6.7283783783783788E-2}]
[null,null,-72000,74000,4981,{"$f":"E21/D21","v":6.7310810810810806E-2}]
[null,"Sorikmarapi",-10000,12000,4989,{"$f":"E22/D22","v":0.41575000000000001}]
[null,"Krakatau",1883,{"$f":"2001-C23","v":118},4991,{"$f":"E23/D23","v":42.296610169491522},null,1883]
[null,null,1883,{"$f":"2001-C24","v":118},5001,{"$f":"E24/D24","v":42.381355932203391},null,1982]
[null,"Galunggung",1982,19,4983,262.26315789473682,null,1006]
[null,null,1982,19,4981,262.15789473684208,null,1900]
[null,null,1982,19,4982,262.21052631578948,null,1815]
[null,null,1918,83,4984,60.048192771084338,null,1985]
[null,null,-2200,2400,4984,2.0766666666666667]
[null,"Merapi",1006,995,4984,5.0090452261306533,null,1900]
[null,null,1006,995,4984,5.0090452261306533]
[null,null,1006,995,4984,5.0090452261306533,null,null,null,null,null,null,{"$f":"[1]!Th230Age(A3, B3)","v":{"$error":"#VALUE!"}}]
[null,null,1006,995,4983,5.0080402010050253,null,null,null,null,null,null,"A3=230Th/238U"]
[null,"Rindjani",1900,101,4990,49.405940594059409,null,null,null,null,null,null,"B3=234U/238U"]
[null,null,1900,101,4985,49.356435643564353]
[null,"Tambora",1815,186,4967,26.704301075268816]
[null,"Sangeang Api",1985,16,4970,310.625]
[null,"Ayi Flores",1900,101,4975,49.257425742574256]
[null,null,null,"Average",{"$f":"AVERAGE(E20:E38)","v":4983}]
[null,null,null,"Maximum",{"$f":"MAX(E20:E39)","v":5001}]
[null,null,null,"Minimum",{"$f":"MIN(E20:E40)","v":4967}]
[null,null,null,"Difference",{"$f":"E40-E41","v":34}]
[null,null,null,"Accuracy",{"$f":"1-(E42/E39)","v":0.99317680112382101}]
["Table 1"]
["Volcano","Toba","Toba","Sorikmarapi","Krakatau","Krakatau","Galunggung","Galunggung","Galunggung","Galunggung"]
["Age",-72000,-72000,-10000,1883,1883,1982,1982,1982,1918,null,"Negative Dates","are BC"]
["234U/238U","-",0.998,1.0009999999999999,1.0029999999999999,1.008,"-",1.014,"-",1.0109999999999999]
["230Th/238U",0.85199999999999998,0.94199999999999995,0.97699999999999998,1.002,1.002,0.83199999999999996,0.82699999999999996,0.877,0.93100000000000005]
["Age (Ka)",null,{"$f":"[1]!Th230Age(C48,C47)","v":314.44155555137149},{"$f":"[1]!Th230Age(D48,D47)","v":404.10464867800709},{"$f":"[1]!Th230Age(E48,E47)","v":661.97834603059391},{"$f":"[1]!Th230Age(F48,F47)","v":510.8936843099965},null,{"$f":"[1]!Th230Age(H48,H47)","v":182.39959658002098},null,{"$f":"[1]!Th230Age(J48,J47)","v":271.88598105012238}]
[]
[]
[]
["Volcano","Galunggung","Merapi","Merapi","Merapi","Merapi","Rindjani","Rindjani","Tambora","Sangeang Api","Ayi Flores"]
["Age",-4200,1006,1006,1006,1006,1900,1900,1815,1985,1900,"Negative Dates","are BC"]
["234U/238U",1.016,1.0009999999999999,1.0169999999999999,1.101,1.0149999999999999,"-","-","-","-","-"]
["230Th/238U",0.93200000000000005,0.91700000000000004,1.0249999999999999,0.86399999999999999,1.028,0.93700000000000006,0.94199999999999995,0.93300000000000005,0.9,0.54700000000000004]
["Age (Ka)",{"$f":"[1]!Th230Age(B56,B55)","v":265.72823133308918},{"$f":"[1]!Th230Age(C56,C55)","v":269.13282257036434},{"$f":"[1]!Th230Age(D56,D55)","v":0},{"$f":"[1]!Th230Age(E56,E55)","v":160.16636834715732},{"$f":"[1]!Th230Age(F56,F55)","v":0}]
[]
[]
["Volcano","Eruption Year","Age (Years)","230Th Age (Ka)","Age Ratio"]
["Toba",-72000,74000,314.44,{"$f":"(D61*1000)/C61","v":4.2491891891891891}]
["Sorikmarapi",-10000,12000,404.1,33.674999999999997]
["Krakatau",1883,{"$f":"2001-B63","v":118},661.98,5610]
[null,1883,{"$f":"2001-B64","v":118},510.89,4329.5762711864409]
["Galunggung",1982,{"$f":"2001-B65","v":19},182.4,{"$f":"(D65*1000)/C65","v":9600}]
[null,1918,83,271.89,3275.7831325301204]
[null,-2200,2400,265.73,110.72083333333333]
["Merapi",1006,{"$f":"2001-B68","v":995},269.13,270.4824120603015]
[null,1006,995,160.16999999999999,160.9748743718593]

{"sheet":"H42","index":20,"n_rows":43,"n_cols":21,"rows_kept":43,"cut":false,"hidden":false,"merged":[]}
["Table 1",null,null,null,null,null,null,null,null,null,null,null,null,null,null,null,null,null,null,null,"Thousand Years"]
["Volcano/Year AD",null,"Sample","SiO2","U","Th",null,null,null,"226Ra",null,"234U/238U",null,"238U/232Th",null,"230Th/232Th",null,"226Ra/230Th",null,"230Th/238U","230Th Age"]
[]
["Fuji"]
[800,null,96080901,49.3,-0.1,0.49,0.02,1.17,0.06,220,6,1.01,0.02,1.3,0.08,1.0900000000000001,0.02,1.56,0.09,{"$f":"P5/N5","v":0.83846153846153848},{"$f":"[1]!Th230Age(T5, L5)","v":191.608091115663}]
[864,null,"Ao-95122802",49.7,-0.1,0.55000000000000004,0.02,1.33,0.09,212,6,0.98,0.02,1.24,0.09,1.06,0.03,1.36,0.11,{"$f":"P6/N6","v":0.85483870967741937},{"$f":"[1]!Th230Age(T6, L6)","v":227.86502197732378}]
[864,null,"Ao-95120814","-","-",0.57999999999999996,0.02,1.34,0.04,229,6,0.98,0.02,1.31,0.06,1.06,0.01,1.46,0.06,0.80916030534351147,{"$f":"[1]!Th230Age(T7, L7)","v":192.42866353328108}]
[864,null,"Ao-95101905",null,null,0.56000000000000005,0.02,1.48,0.05,224,7,1.02,0.02,1.18,0.06,1.04,0.01,1.32,0.06,0.88135593220338992,{"$f":"[1]!Th230Age(T8, L8)","v":213.7172616241499}]
[864,null,"Ao-95120811",null,null,0.57999999999999996,0.03,1.36,0.08,221,9,0.99,0.02,1.29,0.09,1.06,0.02,1.38,0.1,0.82170542635658916,{"$f":"[1]!Th230Age(T9, L9)","v":193.95903888664509}]
[864,null,"Ao-95060308",null,null,0.49,0.02,1.3,0.05,206,5,1.01,0.02,1.18,0.06,1.04,0.01,1.38,0.06,0.88135593220338992,{"$f":"[1]!Th230Age(T10, L10)","v":222.22734502647853}]
[937,null,96080908,49.8,-0.1,0.43,0.02,1.1399999999999999,0.05,176,4,1,0.02,1.1599999999999999,7.0000000000000007E-2,1.08,0.02,1.29,7.0000000000000007E-2,0.93103448275862077,{"$f":"[1]!Th230Age(T11, L11)","v":290.81848230624314}]
[1033,null,96080907,50.3,-0.1,0.44,0.01,1.08,0.06,199,6,0.98,0.02,1.1499999999999999,7.0000000000000007E-2,1.06,0.02,1.6,0.1,0.92173913043478273,{"$f":"[1]!Th230Age(T12, L12)","v":319.15247627266331}]
["Izu-Oshima",null,null,null,null,null,null,null,null,null,null,null,null,null,null,null,null,null,null,null,{"$f":"[1]!Th230Age(T13, L13)","v":0}]
[800,null,"OSM06060401",50.8,-0.1,0.18,0,0.28000000000000003,0.01,64,3,1.01,0.01,1.99,0.1,1.53,0.03,1.36,0.1,0.76884422110552764,{"$f":"[1]!Th230Age(T14, L14)","v":155.10115589821575}]
[1338,null,"JS820626",52.1,-0.1,0.2,0.01,0.4,0.02,73,3,1,0.02,1.52,0.08,1.24,0.02,1.31,0.09,0.81578947368421051,{"$f":"[1]!Th230Age(T15, L15)","v":183.97281321019659}]
[1421,null,"OSM06060301",52.1,-0.5,0.19,0.01,0.34,0.01,86,6,1.01,0.02,1.79,0.08,1.36,0.02,1.68,0.13,0.75977653631284925,{"$f":"[1]!Th230Age(T16, L16)","v":151.13179812105551}]
[1552,null,"OSM06060302",51.9,-0.5,0.2,0.01,0.31,0.01,77,3,1,0.02,1.99,0.09,1.41,0.02,1.63,0.1,0.70854271356783916,{"$f":"[1]!Th230Age(T17, L17)","v":134.07594291500237}]
[1684,null,"OSM06060303",51.5,-0.1,0.21,0.01,0.32,0.01,60,3,1.01,0.02,2,0.1,1.35,0.02,1.25,0.08,0.67500000000000004,{"$f":"[1]!Th230Age(T18, L18)","v":119.6816466050513}]
[1777,null,"OSM05051701",52.5,-0.1,0.18,0.01,0.33,0.02,85,3,0.99,0.02,1.61,0.11,1.38,0.05,1.61,0.11,0.85714285714285698,{"$f":"[1]!Th230Age(T19, L19)","v":220.24775628340606}]
[1777,null,"JS820627-02",50.2,-0.3,0.16,0.01,0.32,0.02,78,5,1,0.03,1.55,0.1,1.38,0.03,1.58,0.14000000000000001,0.89032258064516123,{"$f":"[1]!Th230Age(T20, L20)","v":240.3645112777134}]
[1950,null,"OSM05051601",51.7,-0.4,0.18,0.01,0.26,0.02,86,5,1.01,0.03,2.21,0.16,1.41,0.02,2.14,0.19,0.63800904977375561,{"$f":"[1]!Th230Age(T21, L21)","v":108.36482016193911}]
[]
[]
[]
[]
[]
["Volcano","230Th Age","Eruption AD","Year Dated","True Age","Age Ratio"]
["Fuji",191.608091115663,800,2011,{"$f":"D28-C28","v":1211},{"$f":"(B28 * 1000)/E28","v":158.22303147453593}]
[null,227.86502197732378,864,2011,{"$f":"D29-C29","v":1147},{"$f":"(B29 * 1000)/E29","v":198.66174540307216}]
[null,192.42866353328108,864,2011,1147,167.76692548673154]
[null,213.7172616241499,864,2011,1147,186.32716793735824]
[null,193.95903888664509,864,2011,1147,169.10116729437235]
[null,222.22734502647853,864,2011,1147,193.74659548951919]
[null,290.81848230624314,937,2011,1074,270.78070978234928]
[null,319.15247627266331,1033,2011,978,326.33177532992158]
["Izu-Oshima",155.10115589821575,800,2011,1211,{"$f":"(B36 * 1000)/E36","v":128.07692477144158}]
[null,183.97281321019659,1338,2011,673,273.36227817265467]
[null,151.13179812105551,1421,2011,590,256.15559003568728]
[null,134.07594291500237,1552,2011,459,292.10445079521213]
[null,119.6816466050513,1684,2011,327,365.99891928150242]
[null,220.24775628340606,1777,2011,234,941.22972770686351]
[null,240.3645112777134,1777,2011,234,1027.1987661440744]
[null,108.36482016193911,1950,2011,61,1776.4724616711328]

{"sheet":"H43","index":21,"n_rows":29,"n_cols":10,"rows_kept":29,"cut":false,"hidden":false,"merged":[]}
["Sample","LSS1","LAS1","LSM07","LSGU5","GUAD510","LAG4","LAG2","MVO244","MVO372"]
["Island","Saba","Saba","Montserrat","Guadeloupe","Guadeloupe","Grenada","Grenada","Montserrat","Montserrat"]
["Age","10ka","10ka","1995AD","1530AD","0.5Ma","10ka","10ka","1998AD","1998AD"]
[]
["206Pb/204Pb",18.728000000000002,18.919,18.753,19.045000000000002,19.149999999999999,19.378,18.373999999999999,18.908000000000001,19.007000000000001]
["207Pb/204Pb",15.637,15.63,15.616,15.678000000000001,15.662000000000001,15.734,15.624000000000001,15.631,15.644]
["207Pb/206Pb",{"$f":"(B6/B5)","v":0.83495301153353263},{"$f":"(C6/C5)","v":0.8261536021988477},0.83272009811763448,0.82320819112627985,0.81785900783289822,0.81195169780163068,0.85033199085664535,{"$f":"(I6/I5)","v":0.82668711656441718},0.82306518651023297]
["Age (Ma)",{"$f":"[1]!AgePb76(B7)","v":4982.5599336549922},{"$f":"[1]!AgePb76(C7)","v":4967.5062369058278},{"$f":"[1]!AgePb76(D7)","v":4978.7559702189756},{"$f":"[1]!AgePb76(E7)","v":4962.4292375630348},{"$f":"[1]!AgePb76(F7)","v":4953.1592807594443},{"$f":"[1]!AgePb76(G7)","v":4942.8468992072258},{"$f":"[1]!AgePb76(H7)","v":5008.4693358082104},{"$f":"[1]!AgePb76(I7)","v":4968.4237960355567},{"$f":"[1]!AgePb76(J7)","v":4962.1822494392172}]
[]
["Island","Eruption BC/AD","Pb Age (Ma)","Age Ratio (106)","Th Age (Ka)","Age Ratio"]
["Grenada",-8000,4943,{"$f":"C11/10000","v":0.49430000000000002}]
[null,-8000,5008,{"$f":"C12/10000","v":0.50080000000000002}]
["Guadeloupe",1530,4962,{"$f":"C13/(2009-B13)","v":10.359081419624218},401.17,{"$f":"(E13*1000)/(2009-B13)","v":837.51565762004179}]
[null,-500000,4953,{"$f":"C14/B14","v":-9.9059999999999999E-3},299.86,{"$f":"(E14*1000)/(2009-B14)","v":0.597319968367101}]
["Montserrat",1995,4979,{"$f":"C15/(2009-B15)","v":355.64285714285717}]
[null,1998,4968,{"$f":"C16/(2009-B16)","v":451.63636363636363},373.56,{"$f":"(E16*1000)/(2009-B16)","v":33960}]
[null,1998,4962,{"$f":"C17/(2009-B17)","v":451.09090909090907},333.79,{"$f":"(E17*1000)/(2009-B17)","v":30344.545454545456}]
["Saba",-8000,4983,{"$f":"C18/10000","v":0.49830000000000002}]
[null,-8000,4968,{"$f":"C19/10000","v":0.49680000000000002}]
[null,null,{"$f":"MIN(C11:C19)","v":4943}]
[null,null,{"$f":"MAX(C11:C20)","v":5008}]
[]
[]
[]
["(234U/238U)",1,1.002,0.99399999999999999,0.996,0.99,0.99299999999999999,0.97899999999999998,1.02,1.0089999999999999]
["(230Th/238U)",0.97499999999999998,0.93899999999999995,1.1339999999999999,1.018,1.026,1.1279999999999999,1.0189999999999999,0.99399999999999999,0.96499999999999997]
["Age",{"$f":"[1]!Th230Age(B26, B25)","v":401.17228505084864},{"$f":"[1]!Th230Age(C26, C25)","v":299.86321224469657},{"$f":"[1]!Th230Age(D26, D25)","v":0},{"$f":"[1]!Th230Age(E26, E25)","v":0},{"$f":"[1]!Th230Age(F26, F25)","v":0},{"$f":"[1]!Th230Age(G26, G25)","v":0},{"$f":"[1]!Th230Age(H26, H25)","v":0},{"$f":"[1]!Th230Age(I26, I25)","v":373.56672672929597},{"$f":"[1]!Th230Age(J26, J25)","v":333.79348888589112}]
[null,"A3=230Th/238U"]
[null,"B3=234U/238U"]

{"sheet":"H44","index":22,"n_rows":36,"n_cols":12,"rows_kept":36,"cut":false,"hidden":false,"merged":[]}
["Table 2"]
["Volcano","Eruption","(234U/238U)","(230Th/238U)","Thousand Years",null,"Volcano","Eruption","230Th Age 103","Age Ratio","True Age","Dated"]
["Younger Fuji",1707,0.98,0.76,{"$f":"[1]!Th230Age(D3, C3)","v":164.03664339873808},null,"Younger Fuji",1707,164.03664339873808,{"$f":"(I3 * 1000)/K3","v":546.78881132912693},{"$f":"L3-H3","v":300},2007]
[null,1707,1,0.75,{"$f":"[1]!Th230Age(D4, C4)","v":150.76200859238799},null,null,1707,150.76200859238799,{"$f":"(I4 * 1000)/K4","v":502.54002864129325},{"$f":"L4-H4","v":300},2007]
[null,1707,1,0.78,{"$f":"[1]!Th230Age(D5, C5)","v":164.66411817294534},null,null,1707,164.66411817294534,548.88039390981783,300,2007]
[null,1707,1.01,0.74,{"$f":"[1]!Th230Age(D6, C6)","v":142.94459298246957},null,null,1707,142.94459298246957,476.48197660823189,300,2007]
[null,1707,1,0.78,{"$f":"[1]!Th230Age(D7, C7)","v":164.66411817294534},null,null,1707,164.66411817294534,548.88039390981783,300,2007]
[null,1707,1,0.78,{"$f":"[1]!Th230Age(D8, C8)","v":164.66411817294534},null,null,1707,164.66411817294534,548.88039390981783,300,2007]
[null,1707,1.01,0.79,{"$f":"[1]!Th230Age(D9, C9)","v":164.9643675461414},null,null,1707,164.9643675461414,549.88122515380473,300,2007]
[null,1707,1.01,0.74,{"$f":"[1]!Th230Age(D10, C10)","v":142.94459298246957},null,null,1707,142.94459298246957,476.48197660823189,300,2007]
[null,1707,0.99,0.78,{"$f":"[1]!Th230Age(D11, C11)","v":169.48368451744955},null,null,1707,169.48368451744955,564.94561505816523,300,2007]
[null,1707,1,0.75,{"$f":"[1]!Th230Age(D12, C12)","v":150.76200859238799},null,null,1707,150.76200859238799,502.54002864129325,300,2007]
[null,1707,0.99,0.77,{"$f":"[1]!Th230Age(D13, C13)","v":164.35500542545608},null,null,1707,164.35500542545608,547.85001808485367,300,2007]
["Isu-Oshima",800,1.01,0.77,{"$f":"[1]!Th230Age(D14, C14)","v":155.61761620473814},null,"Isu-Oshima",800,155.61761620473814,128.9292594902553,1207,2007]
[null,1338,1,0.82,{"$f":"[1]!Th230Age(D15, C15)","v":186.48741775285114},null,null,1338,186.48741775285114,278.75548244073417,669,2007]
[null,1421,1.01,0.76,{"$f":"[1]!Th230Age(D16, C16)","v":151.22790556201767},null,null,1421,151.22790556201767,258.06809822869911,586,2007]
[null,1552,1,0.71,{"$f":"[1]!Th230Age(D17, C17)","v":134.62106586586765},null,null,1552,134.62106586586765,295.87047443047834,455,2007]
[null,1684,1.01,0.67,{"$f":"[1]!Th230Age(D18, C18)","v":118.08168454448526},null,null,1684,118.08168454448526,365.57797072596054,323,2007]
[null,1777,0.99,0.86,{"$f":"[1]!Th230Age(D19, C19)","v":222.67416266245954},null,null,1777,222.67416266245954,968.1485333150415,230,2007]
[null,1950,1.01,0.64,{"$f":"[1]!Th230Age(D20, C20)","v":108.94496277867752},null,null,1950,108.94496277867752,1911.3151364680268,57,2007]
[null,1986,1,0.53,{"$f":"[1]!Th230Age(D21, C21)","v":82.110065988203985},null,null,1986,82.110065988203985,3910.003142295428,21,2007]
[null,1986,1.02,0.7,{"$f":"[1]!Th230Age(D22, C22)","v":125.32356192432438},null,null,1986,125.32356192432438,5967.7886630630655,21,2007]
[null,1986,1,0.61,{"$f":"[1]!Th230Age(D23, C23)","v":102.40162473650804},null,null,1986,102.40162473650804,4876.2678445956208,21,2007]
[null,1986,1,0.62,{"$f":"[1]!Th230Age(D24, C24)","v":105.2265056699446},null,null,1986,105.2265056699446,5010.7859842830758,21,2007]
["Miyake-Jima",1874,0.99,0.81,{"$f":"[1]!Th230Age(D25, C25)","v":186.51266119818601},null,"Miyake-Jima",1874,186.51266119818601,1402.3508360765866,133,2007]
[null,1940,1,0.86,{"$f":"[1]!Th230Age(D26, C26)","v":213.8183144956925},null,null,1940,213.8183144956925,3191.3181268013805,67,2007]
[null,1962,1,0.68,{"$f":"[1]!Th230Age(D27, C27)","v":123.91553064643279},null,null,1962,123.91553064643279,2753.6784588096175,45,2007]
[null,1983,1.01,0.75,{"$f":"[1]!Th230Age(D28, C28)","v":147.0077667494179},null,null,1983,147.0077667494179,6125.323614559079,24,2007]
["Nijima",886,1.03,0.68,{"$f":"[1]!Th230Age(D29, C29)","v":116.46461204020605},null,"Nijima",886,116.46461204020605,103.89349869777524,1121,2007]
[null,886,0.99,1.1100000000000001,{"$f":"[1]!Th230Age(D30, C30)","v":0},null,null,886,447.11254852616571,398.85151518837262,{"$f":"L30-H30","v":1121},2007]
[null,886,0.99,0.97,{"$f":"[1]!Th230Age(D31, C31)","v":447.11254852616571},null,"Kozu-Shima",838,596.97694098597526,510.67317449612932,1169,2007]
["Kozu-Shima",838,0.98,1.17,{"$f":"[1]!Th230Age(D32, C32)","v":0},null,null,838,232.71590570159418,199.07263105354508,1169,2007]
[null,838,1.01,1.01,{"$f":"[1]!Th230Age(D33, C33)","v":596.97694098597526},null,null,838,596.97694098597526,510.67317449612932,1169,2007]
[null,838,0.98,0.86,{"$f":"[1]!Th230Age(D34, C34)","v":232.71590570159418},null,null,838,232.71590570159418,199.07263105354508,1169,2007]
[null,838,0.36,1.01,{"$f":"[1]!Th230Age(D35, C35)","v":0},null,null,null,{"$f":"MIN(I3:I34)","v":82.110065988203985},{"$f":"MIN(J3:J34)","v":103.89349869777524}]
[null,null,null,null,{"$f":"COUNT(E3:E35)","v":33},null,null,null,{"$f":"MAX(I3:I35)","v":596.97694098597526},{"$f":"MAX(J3:J35)","v":6125.323614559079}]

{"sheet":"H45","index":23,"n_rows":11,"n_cols":7,"rows_kept":11,"cut":false,"hidden":false,"merged":[]}
["Table 3"]
["Sample","Island","207Pb/204Pb","206Pb/204Pb","207Pb/206Pb","Pb Age (Ma)","Eruption"]
["SAM06-2","Upolu",15.607900000000001,18.577200000000001,{"$f":"C3/D3","v":0.84016428740606763},{"$f":"[1]!AgePb76(E3)","v":4991.3959061236683}]
["SAM06-2","Upolu",15.5974,18.568999999999999,{"$f":"C4/D4","v":0.83996984221013526},{"$f":"[1]!AgePb76(E4)","v":4991.0672618650051}]
["SAM06-3","Upolu",15.626099999999999,18.5898,0.84057386308620852,{"$f":"[1]!AgePb76(E5)","v":4992.0878918694634}]
["SAM06-4","Upolu",15.5899,18.665400000000002,0.83522989059971919,{"$f":"[1]!AgePb76(E6)","v":4983.0308678741467}]
["SAM06-5","Upolu",15.604699999999999,18.808900000000001,0.82964447681682596,{"$f":"[1]!AgePb76(E7)","v":4973.4985933216421}]
["SAM06-9","Upolu",15.5928,18.609100000000002,0.83791263414136086,{"$f":"[1]!AgePb76(E8)","v":4987.5852833121498}]
["SAM06-10","Upolu",15.597099999999999,18.8811,0.8260694556990853,{"$f":"[1]!AgePb76(E9)","v":4967.3614609191227}]
["SAM06-7","Savaii",15.6236,18.817399999999999,0.83027410800641965,{"$f":"[1]!AgePb76(E10)","v":4974.5765507846709},1905]
["SAM06-8","Savaii",15.5747,18.825500000000002,0.82731932750790149,{"$f":"[1]!AgePb76(E11)","v":4969.5102828986091},1905]

{"sheet":"H46","index":24,"n_rows":268,"n_cols":15,"rows_kept":268,"cut":false,"hidden":false,"merged":[]}
["Table 1",null,null,null,null,null,null,null,null,null,null,null,null,null,"1975-12-18"]
["Eruption Day","Eruption Month","Eruption Year","Sample Name","Eruption Date Start","Eruption Date End","Vents Location","206Pb/204Pb","207Pb/204Pb","208Pb/204Pb","207Pb/206Pb","Age (Ma)",null,null,"1977-04-01"]
[1,1,1927,"T2101","1927/01","1927/02",1,18.8917,15.586600000000001,38.984299999999998,{"$f":"(I3/H3)","v":0.82505015430056594},{"$f":"[1]!AgePb76(K3)","v":4965.6064832797929},null,null,"1977-04-08"]
[null,null,1927,"T2101 dup",null,null,null,18.900099999999998,15.5899,38.987499999999997,{"$f":"(I4/H4)","v":0.82485806953402374},{"$f":"[1]!AgePb76(K4)","v":4965.2755040999955},null,null,"1977-10-24"]
[1,1,1931,"T1602","1931/01","1931/08",2,18.896999999999998,15.587899999999999,38.9833,0.82488754828808808,{"$f":"[1]!AgePb76(K5)","v":4965.3263039436843},null,null,"1977-10-31"]
[null,null,1931,"T1602 dup",null,null,null,18.892900000000001,15.586399999999999,38.97,0.82498716449036402,{"$f":"[1]!AgePb76(K6)","v":4965.4979552479745},null,null,"1977-11-04"]
[1,12,1938,"P1601","1938/12","1939/01",3,18.910599999999999,15.5924,38.996000000000002,0.82453227290514319,{"$f":"[1]!AgePb76(K7)","v":4964.7139400735741},null,null,"1977-11-07"]
[1,4,1943,"N2201","1943/04","1943/05",4,18.911799999999999,15.590999999999999,38.995100000000001,0.8244059264586131,{"$f":"[1]!AgePb76(K8)","v":4964.4960977313831},null,null,"1977-11-11"]
[1,4,1945,"PF1945","1945/04","1945/05",5,18.910299999999999,15.5932,38.996000000000002,0.82458765857760052,{"$f":"[1]!AgePb76(K9)","v":4964.8094230212146},null,null,"1977-11-13"]
[1,2,1948,"O1401","1948/02",null,6,18.8904,15.5876,38.972700000000003,0.82515986956337617,{"$f":"[1]!AgePb76(K10)","v":4965.7954957054062},null,null,"1979-05-28"]
[1,6,1953,"T1904","1953/06",null,7,18.895800000000001,15.589700000000001,38.9848,0.82503519300585315,{"$f":"[1]!AgePb76(K11)","v":4965.5807065768377},null,null,"1979-07-13"]
[1,4,1961,"GB1961","1961/04",null,8,18.9069,15.594099999999999,39.002699999999997,0.82478354463185388,{"$f":"[1]!AgePb76(K12)","v":4965.1470689866583},null,null,"1981-02-16"]
[1,3,1977,"SR1977","1977/03","1977/04",9,18.933700000000002,15.596500000000001,39.034399999999998,0.82374285005043912,{"$f":"[1]!AgePb76(K13)","v":4963.3522612253337},null,null,"1981-03-01"]
[null,null,1977,"SR1977 dup",null,null,null,18.931100000000001,15.598000000000001,39.0319,0.82393521771053979,{"$f":"[1]!AgePb76(K14)","v":4963.6842048210801},null,null,"1981-04-01"]
[null,null,1977,"SR1977 ter",null,null,null,18.925799999999999,15.597300000000001,39.026499999999999,0.82412896680721559,{"$f":"[1]!AgePb76(K15)","v":4964.0184489108806},null,null,"1983-12-04"]
[1,9,1957,"80–99","1957/09","1957/11",10,18.901299999999999,15.592700000000001,38.998800000000003,0.82495383915392073,{"$f":"[1]!AgePb76(K16)","v":4965.4405339349059},null,null,"1983-12-06"]
[1,3,1966,"80–91","1966/03","1966/05",11,18.917300000000001,15.5951,39.019799999999996,0.82438297220004964,{"$f":"[1]!AgePb76(K17)","v":4964.4565169522348},null,null,"1983-12-21"]
[1,6,1972,"80–89","1972/06",null,12,18.916399999999999,15.5959,39.020400000000002,0.82446448584297227,{"$f":"[1]!AgePb76(K18)","v":4964.5970682873367},null,null,"1983-12-29"]
[1,10,1972,"1972–12","1972/11",null,12,18.912600000000001,15.5976,39.019199999999998,0.824720027917896,{"$f":"[1]!AgePb76(K19)","v":4965.0375954835854},null,null,"1984-01-24"]
[null,null,1972,"1972–13","1972/12",null,12,18.908100000000001,15.5954,39.017800000000001,0.82479995345909951,{"$f":"[1]!AgePb76(K20)","v":4965.1753487757524},null,null,"1984-01-27"]
[1,5,1973,"80–76","1973/05",null,"D",18.91,15.595000000000001,39.016800000000003,0.82469592808038072,{"$f":"[1]!AgePb76(K21)","v":4964.9960561397693},null,null,"1984-02-07"]
[1,11,1975,"80–75","1975/11",null,"D",18.906099999999999,15.5946,39.0105,0.82484489133136929,{"$f":"[1]!AgePb76(K22)","v":4965.252793878416},null,null,"1985-06-14"]
[1,12,1975,"10S11","1975-12-18",null,13,18.910299999999999,15.5953,39.018599999999999,0.82469870916907717,{"$f":"[1]!AgePb76(K23)","v":4965.0008497898016},null,null,"1985-08-07"]
[null,null,1975,"9S11b","1975/12","1976/01",13,18.9114,15.5959,39.016500000000001,0.8246824666603213,{"$f":"[1]!AgePb76(K24)","v":4964.9728529919084},null,null,"1985-08-14"]
[null,null,1975,"6S11","1975/12","1976/01",13,18.911000000000001,15.5961,39.017200000000003,0.82471048596055196,{"$f":"[1]!AgePb76(K25)","v":4965.0211487781844},null,null,"1985-08-28"]
[null,null,1975,"1X9","1976/01",null,13,18.910900000000002,15.595000000000001,39.0154,0.82465667948114574,{"$f":"[1]!AgePb76(K26)","v":4964.9284030850422},null,null,"1985-09-06"]
[null,null,1975,"8V9a","1976/01",null,13,18.909800000000001,15.5947,39.013800000000003,0.8246887857089974,{"$f":"[1]!AgePb76(K27)","v":4964.9837450445366},null,null,"1985-09-16"]
[null,null,1975,"7W10","1976/01","1976/03",13,18.910799999999998,15.593400000000001,39.012900000000002,0.82457643251475354,{"$f":"[1]!AgePb76(K28)","v":4964.7900702353654},null,null,"1985-09-26"]
[null,null,1975,"6T11F","1976/03","1976/04",13,18.915600000000001,15.597300000000001,39.0259,0.82457336801370296,{"$f":"[1]!AgePb76(K29)","v":4964.7847872452649},null,null,"1985-09-30"]
[1,11,1976,"5R12","1976/11",null,14,18.9208,15.597300000000001,39.028500000000001,0.82434675066593388,{"$f":"[1]!AgePb76(K30)","v":4964.3940565925768},null,null,"1985-12-02"]
[24,3,1977,"RU-77-3","1977-04-01",null,15,18.921700000000001,15.5959,39.023800000000001,0.82423355195357706,{"$f":"[1]!AgePb76(K31)","v":4964.1988380925732},null,null,"1986-01-06"]
[null,null,1977,"RU-77-7","1977-04-08",null,9,18.9346,15.598000000000001,39.037500000000001,0.82378291593168074,{"$f":"[1]!AgePb76(K32)","v":4963.4214044464597},null,null,"1986-01-17"]
[24,10,1977,"RU-77-11","1977-10-24",null,16,18.870899999999999,15.5968,38.962699999999998,0.82650006094038975,{"$f":"[1]!AgePb76(K33)","v":4968.1021620444481},null,null,"1986-03-19"]
[null,null,1977,"RU-77-11",null,null,null,18.9314,15.598800000000001,39.036000000000001,0.82396441890193017,{"$f":"[1]!AgePb76(K34)","v":4963.7345862775646},null,null,"1986-03-20"]
[null,null,1977,"RU-77-11",null,null,null,18.917400000000001,15.597300000000001,39.018300000000004,0.82449490944844428,{"$f":"[1]!AgePb76(K35)","v":4964.6495229394268},null,null,"1986-03-22"]
[null,null,1977,"RU-77-13","1977-10-31",null,16,18.918399999999998,15.5982,39.020200000000003,0.82449890054127206,{"$f":"[1]!AgePb76(K36)","v":4964.6564040022631},null,null,"1986-03-24"]
[null,null,1977,"RU-77-14","1977-11-04",null,16,18.697199999999999,15.5923,38.771700000000003,0.83393770190188909,{"$f":"[1]!AgePb76(K37)","v":4980.8316067684354},null,null,"1986-03-25"]
[null,null,1977,"RU-77-14",null,null,null,18.8611,15.594200000000001,38.953000000000003,0.82679165054000037,{"$f":"[1]!AgePb76(K38)","v":4968.6035039553908},null,null,"1986-03-28"]
[null,null,1977,"RU-77-14",null,null,null,18.894400000000001,15.5977,38.994500000000002,0.8255197307138622,{"$f":"[1]!AgePb76(K39)","v":4966.4152605323134},null,null,"1986-03-30"]
[null,null,1977,"RU-77-16","1977-11-07",null,16,18.923100000000002,15.597200000000001,39.024099999999997,0.82424127125048219,{"$f":"[1]!AgePb76(K40)","v":4964.2121514248156},null,null,"1986-11-12"]
[null,null,1977,"RU-77-17","1977-11-11",null,16,18.9133,15.595499999999999,39.009099999999997,0.8245784712345281,{"$f":"[1]!AgePb76(K41)","v":4964.7935848371817},null,null,"1986-11-26"]
[null,null,1977,"RU-77-18","1977-11-13",null,16,18.9343,15.5992,39.036099999999998,0.82385934520948756,{"$f":"[1]!AgePb76(K42)","v":4963.5532914554924},null,null,"1986-12-07"]
[28,5,1979,"795-23","1979-05-28",null,17,18.9316,15.597300000000001,39.029000000000003,0.8238764816497286,{"$f":"[1]!AgePb76(K43)","v":4963.5828604567569},null,null,"1986-12-15"]
[null,null,1979,"JUIL-1979-M","1979-07-13",null,18,18.918399999999998,15.596,39.015500000000003,0.82438261163734783,{"$f":"[1]!AgePb76(K44)","v":4964.4558952128227},null,null,"1987-01-06"]
[3,2,1981,"8102-16","1981-02-16",null,19,18.933499999999999,15.6022,39.042700000000004,0.8240526051707292,{"$f":"[1]!AgePb76(K45)","v":4963.8867244616658},null,null,"1987-01-17"]
[null,null,1981,"813-1","1981-03-01",null,20,18.935500000000001,15.5989,39.034300000000002,0.82379129148953023,{"$f":"[1]!AgePb76(K46)","v":4963.4358580146591},null,null,"1987-06-15"]
[null,null,1981,"814-1","1981-04-01",null,21,18.9343,15.599299999999999,39.033900000000003,0.82386462662997839,{"$f":"[1]!AgePb76(K47)","v":4963.5624046389439},null,null,"1987-07-19"]
[4,12,1983,"83-409","1983-12-04",null,22,18.935199999999998,15.598100000000001,39.036200000000001,0.82376209387806842,{"$f":"[1]!AgePb76(K48)","v":4963.3854714796789},null,null,"1987-11-06"]
[null,null,1983,"83-409","1983-12-04",null,22,18.936900000000001,15.597300000000001,39.034300000000002,0.82364589769180807,{"$f":"[1]!AgePb76(K49)","v":4963.1849320435949},null,null,"1987-12-05"]
[null,null,1983,"83-63","1983-12-06",null,22,18.939499999999999,15.599299999999999,39.039400000000001,0.82363842762480532,{"$f":"[1]!AgePb76(K50)","v":4963.1720386550105},null,null,"1987-12-22"]
[null,null,1983,"83-210","1983-12-21",null,22,18.938700000000001,15.5984,39.035299999999999,0.82362569764556171,{"$f":"[1]!AgePb76(K51)","v":4963.1500663341831},null,null,"1988-02-09"]
[null,null,1983,"83-290","1983-12-29",null,22,18.940200000000001,15.600199999999999,39.041899999999998,0.82365550522169773,{"$f":"[1]!AgePb76(K52)","v":4963.2015145255064},null,null,"1988-02-14"]
[18,1,1984,"841-240","1984-01-24",null,23,18.934999999999999,15.598800000000001,39.032400000000003,0.82380776340110917,{"$f":"[1]!AgePb76(K53)","v":4963.4642828771748},null,null,"1988-03-25"]
[null,null,1984,"841-272","1984-01-27",null,23,18.939800000000002,15.598699999999999,39.037799999999997,0.82359370215102579,{"$f":"[1]!AgePb76(K54)","v":4963.0948395698133},null,null,"1988-05-18"]
[null,null,1984,"842-75","1984-02-07",null,23,18.942499999999999,15.6015,39.048000000000002,0.82362412564339449,{"$f":"[1]!AgePb76(K55)","v":4963.1473529868854},null,null,"1988-07-01"]
[14,6,1985,"856-141","1985-06-14",null,24,18.942299999999999,15.6008,39.044699999999999,0.8235958674500985,{"$f":"[1]!AgePb76(K56)","v":4963.0985771199184},null,null,"1988-08-31"]
[5,8,1985,"858-73","1985-08-07",null,25,18.942599999999999,15.599500000000001,39.040700000000001,0.82351419551698302,{"$f":"[1]!AgePb76(K57)","v":4962.9575949290938},null,null,"1988-12-18"]
[null,null,1985,"858-142","1985-08-14",null,25,18.942699999999999,15.599399999999999,39.039900000000003,0.82350456904242797,{"$f":"[1]!AgePb76(K58)","v":4962.9409767176867},null,null,"1990-01-18"]
[null,null,1985,"858-281","1985-08-28",null,25,18.9437,15.600899999999999,39.044800000000002,0.82354027988196599,{"$f":"[1]!AgePb76(K59)","v":4963.0026234073448},null,null,"1990-04-18"]
[6,9,1985,"859-61","1985-09-06",null,26,18.938500000000001,15.5989,39.034799999999997,0.82366079678960846,{"$f":"[1]!AgePb76(K60)","v":4963.21064762074},null,null,"1990-04-19"]
[null,null,1985,"859-161","1985-09-16",null,26,18.935500000000001,15.598100000000001,39.032600000000002,0.82374904280320027,{"$f":"[1]!AgePb76(K61)","v":4963.3629485288302},null,null,"1991-07-19"]
[null,null,1985,"859-261","1985-09-26",null,26,18.939599999999999,15.597899999999999,39.034199999999998,0.82356015966546281,{"$f":"[1]!AgePb76(K62)","v":4963.0369401270518},null,null,"1992-08-27"]
[null,null,1985,"859-301","1985-09-30",null,26,18.936800000000002,15.5992,39.035400000000003,0.82375058087955721,{"$f":"[1]!AgePb76(K63)","v":4963.3656028907044},null,null,"1992-08-28"]
[2,12,1985,"8512-23","1985-12-02",null,27,18.938700000000001,15.5983,39.035699999999999,0.82362041745209547,{"$f":"[1]!AgePb76(K64)","v":4963.1409524580977},null,null,"2001-07-02"]
[29,12,1985,"861-62","1986-01-06",null,"D",18.937799999999999,15.5984,39.033099999999997,0.82366483963290349,{"$f":"[1]!AgePb76(K65)","v":4963.2176254108817},null,null,"2006-08-30"]
[null,null,1985,"861-173","1986-01-17",null,"D",18.936900000000001,15.597799999999999,39.031100000000002,0.82367230116861778,{"$f":"[1]!AgePb76(K66)","v":4963.2305036354392},null,null,"2006-08-31"]
[19,3,1986,"863-191","1986-03-19",null,28,18.9298,15.598100000000001,39.023800000000001,0.82399708396285221,{"$f":"[1]!AgePb76(K67)","v":4963.7909417749643},null,null,"2006-09-13"]
[null,null,1986,"863-204","1986-03-20",null,29,18.930099999999999,15.598599999999999,39.025300000000001,{"$f":"(I68/H68)","v":0.82401043840233279},{"$f":"[1]!AgePb76(K68)","v":4963.8139808790211},null,null,"2006-09-28"]
[null,null,1986,"863-221","1986-03-22",null,29,18.930900000000001,15.5989,39.0244,0.82399146369163645,{"$f":"[1]!AgePb76(K69)","v":4963.7812455538306},null,null,"2006-10-11"]
[null,null,1986,"863-242","1986-03-24",null,30,18.925000000000001,15.5985,39.015999999999998,0.82422721268163801,{"$f":"[1]!AgePb76(K70)","v":4964.187904765392},null,null,"2006-10-26"]
[null,null,1986,"863-251","1986-03-25",null,30,18.9255,15.5975,39.016300000000001,0.82415259834614674,{"$f":"[1]!AgePb76(K71)","v":4964.0592108803157},null,null,"2006-10-31"]
[null,null,1986,"863-281","1986-03-28",null,30,18.9178,15.596299999999999,39.004800000000003,0.82442461597014449,{"$f":"[1]!AgePb76(K72)","v":4964.5283238023912},null,null,"2006-11-14"]
[null,null,1986,"864-A101","1986-03-30",null,30,18.927700000000002,15.5998,39.023899999999998,0.82417832066230967,{"$f":"[1]!AgePb76(K73)","v":4964.103577812748},null,null,"2006-12-11"]
[null,null,1986,"864-A113","1986-03-30",null,"D",18.9374,15.5985,39.032899999999998,0.82368751782187621,{"$f":"[1]!AgePb76(K74)","v":4963.2567664072358},null,null,"2006-12-19"]
[12,11,1986,"8611-12","1986-11-12",null,"D",18.913799999999998,15.596399999999999,39.0047,0.82460425720902197,{"$f":"[1]!AgePb76(K75)","v":4964.8380371490848},null,null,"2006-12-28"]
[26,11,1986,"8611-26","1986-11-26",null,"D",18.910799999999998,15.5962,39.001199999999997,0.82472449605516429,{"$f":"[1]!AgePb76(K76)","v":4965.0452967833426},null,null,"2007-02-18"]
[6,12,1986,"8612-71","1986-12-07",null,"D",18.911999999999999,15.595599999999999,39.0017,0.82464043993231806,{"$f":"[1]!AgePb76(K77)","v":4964.90040987253},null,null,"2007-03-30"]
[null,null,1986,"8612-152","1986-12-15",null,"D",18.9131,15.597099999999999,39.005299999999998,0.82467178833718424,{"$f":"[1]!AgePb76(K78)","v":4964.9544467194173},null,null,"2007-04-02"]
[6,12,1986,"871-82","1987-01-06",null,31,18.910799999999998,15.595599999999999,38.998600000000003,0.82469276815364767,{"$f":"[1]!AgePb76(K79)","v":4964.9906094810904},null,null,"2007-04-03"]
[null,null,1986,"871-170","1987-01-17",null,31,18.907399999999999,15.594799999999999,38.993899999999996,0.82479875604260766,{"$f":"[1]!AgePb76(K80)","v":4965.1732851088382},null,null,"2007-04-04"]
[10,6,1987,"876-152","1987-06-15",null,"D",18.9099,15.5954,38.997199999999999,0.82472144220752086,{"$f":"[1]!AgePb76(K81)","v":4965.040033163792},null,null,"2007-04-05"]
[19,7,1987,"877-191","1987-07-19",null,32,18.904299999999999,15.5959,38.997599999999998,0.82499219754235809,{"$f":"[1]!AgePb76(K82)","v":4965.5066272478007},null,null,"2007-04-06"]
[6,11,1987,"8711-61","1987-11-06",null,33,18.902999999999999,15.5954,38.9955,0.82502248320372429,{"$f":"[1]!AgePb76(K83)","v":4965.5588085632717},null,null,"2007-04-07"]
[30,11,1987,"8712-51","1987-12-05",null,34,18.898599999999998,15.5938,38.990699999999997,0.82512990380239815,{"$f":"[1]!AgePb76(K84)","v":4965.7438747180222},null,null,"2007-04-08"]
[null,null,1987,"8712-221","1987-12-22",null,34,18.898499999999999,15.5945,38.990499999999997,0.82517130989231957,{"$f":"[1]!AgePb76(K85)","v":4965.8152030415667},null,null,"2007-04-17"]
[7,2,1988,"882-90","1988-02-09",null,35,18.8979,15.5952,38.994999999999997,0.8252345498706205,{"$f":"[1]!AgePb76(K86)","v":4965.9241362346902},null,null,"2007-04-20"]
[null,null,1988,"882-140","1988-02-14",null,35,18.898800000000001,15.597799999999999,39.004199999999997,0.82533282536457331,{"$f":"[1]!AgePb76(K87)","v":4966.0934017853724},null,null,"2007-04-25"]
[null,null,1988,"883-250","1988-03-25",null,35,18.8964,15.593999999999999,38.988599999999998,0.82523655299422105,{"$f":"[1]!AgePb76(K88)","v":4965.9275865439149},null,null,"2007-04-27"]
[18,5,1988,"885-1","1988-05-18",null,36,18.893699999999999,15.594200000000001,38.988100000000003,0.8253650687795403,{"$f":"[1]!AgePb76(K89)","v":4966.148931810475},null,null,"2007-04-29"]
[null,null,1988,"887-1","1988-07-01",null,36,18.8931,15.5943,38.987499999999997,0.8253965733521762,{"$f":"[1]!AgePb76(K90)","v":4966.2031871644213},null,null,"1927/01"]
[31,8,1988,"888-311","1988-08-31",null,37,18.889600000000002,15.593,38.9818,0.82548068778587147,{"$f":"[1]!AgePb76(K91)","v":4966.3480333956759},null,null,"1931/01"]
[14,12,1988,"8812-181","1988-12-18",null,38,18.8932,15.5921,38.984099999999998,0.82527576059111218,{"$f":"[1]!AgePb76(K92)","v":4965.9951184438605},null,null,"1938/12"]
[18,1,1990,"901-18","1990-01-18",null,"D",18.914100000000001,15.595000000000001,39.008200000000002,0.82451715915639656,{"$f":"[1]!AgePb76(K93)","v":4964.6878833191467},null,null,"1943/04"]
[18,4,1990,"904-18","1990-04-18",null,39,18.8794,15.5932,38.960599999999999,0.82593726495545405,{"$f":"[1]!AgePb76(K94)","v":4967.1339920456576},null,null,"1945/04"]
[18,4,1990,"904-19","1990-04-19",null,39,18.889700000000001,15.5936,38.9803,0.82550808112357521,{"$f":"[1]!AgePb76(K95)","v":4966.3952017194888},null,null,"1948/02"]
[19,7,1991,"917-191","1991-07-19",null,"D+40",18.902999999999999,15.595599999999999,38.997700000000002,0.8250330635348887,{"$f":"[1]!AgePb76(K96)","v":4965.5770376868149},null,null,"1953/06"]
[27,8,1992,"928-27","1992-08-27",null,"D+41",18.899899999999999,15.594200000000001,38.990099999999998,0.82509431266832112,{"$f":"[1]!AgePb76(K97)","v":4965.6825605043396},null,null,"1957/09"]
[27,8,1992,"928-28","1992-08-28",null,"D+41",18.904199999999999,15.5943,38.9968,0.82491192433427496,{"$f":"[1]!AgePb76(K98)","v":4965.3683089878014},null,null,"1961/04"]
[1,7,2001,"010702-2","2001-07-02",null,42,18.8842,15.5921,38.980600000000003,0.82566907785344368,{"$f":"[1]!AgePb76(K99)","v":4966.672386813153},null,null,"1966/03"]
[1,7,2001,"010702-2","2001-07-02",null,42,18.886299999999999,15.592700000000001,38.984099999999998,0.82560903935657071,{"$f":"[1]!AgePb76(K100)","v":4966.5690263613897},null,null,"1972/06"]
[1,7,2001,"010702-1","2001-07-02",null,42,18.881699999999999,15.591799999999999,38.976399999999998,0.8257625107908716,{"$f":"[1]!AgePb76(K101)","v":4966.8332222287099},null,null,"1972/11"]
[30,8,2006,"0608-302","2006-08-30",null,"D",18.905100000000001,15.5946,39.004100000000001,0.824888522144818,{"$f":"[1]!AgePb76(K102)","v":4965.3279821285478},null,null,"1972/12"]
[30,8,2006,"0608-311","2006-08-31",null,"D",18.900700000000001,15.5906,38.994100000000003,0.82486892019872282,{"$f":"[1]!AgePb76(K103)","v":4965.2942029461519},null,null,"1973/05"]
[30,8,2006,"0609-131","2006-09-13",null,"D",18.902999999999999,15.591799999999999,38.997999999999998,0.82483203724276566,{"$f":"[1]!AgePb76(K104)","v":4965.2306418365088},null,null,"1975/11"]
[30,8,2006,"0609-281","2006-09-28",null,"D",18.902999999999999,15.5924,38.998600000000003,0.82486377823625878,{"$f":"[1]!AgePb76(K105)","v":4965.2853418842687},null,null,"1975/12"]
[30,8,2006,"0610-111","2006-10-11",null,"D",18.903700000000001,15.593400000000001,38.999899999999997,0.82488613340245565,{"$f":"[1]!AgePb76(K106)","v":4965.3238657582369},null,null,"1975/12"]
[30,8,2006,"0610-261","2006-10-26",null,"D",18.903099999999998,15.594900000000001,39.005899999999997,0.82499166803328561,{"$f":"[1]!AgePb76(K107)","v":4965.5057149009253},null,null,"1976/01"]
[30,8,2006,"0610-311","2006-10-31",null,"D",18.903600000000001,15.593299999999999,39.0002,0.82488520705050883,{"$f":"[1]!AgePb76(K108)","v":4965.3222694304532},null,null,"1976/01"]
[30,8,2006,"0611-142","2006-11-14",null,"D",18.899799999999999,15.589399999999999,38.989100000000001,0.82484470735140059,{"$f":"[1]!AgePb76(K109)","v":4965.2524768198646},null,null,"1976/01"]
[30,8,2006,"0612-111","2006-12-11",null,"D",18.902699999999999,15.5932,38.999600000000001,0.82491919143826009,{"$f":"[1]!AgePb76(K110)","v":4965.3808314780053},null,null,"1976/03"]
[30,8,2006,"0612-191","2006-12-19",null,"D",18.899999999999999,15.589499999999999,38.990900000000003,0.82484126984126982,{"$f":"[1]!AgePb76(K111)","v":4965.2465528351468},null,null,"1976/11"]
[30,8,2006,"0612-281","2006-12-28",null,"D",18.901599999999998,15.5915,38.993099999999998,0.82487725906801546,{"$f":"[1]!AgePb76(K112)","v":4965.3085730617404},null,null,"1977/03"]
[18,2,2007,"0702-18-2","2007-02-18",null,"D",18.9054,15.595000000000001,39.003100000000003,0.82489659039216312,{"$f":"[1]!AgePb76(K113)","v":4965.3418855408981}]
[18,2,2007,"0702-18-3","2007-02-18",null,40,18.904199999999999,15.593500000000001,39.000799999999998,0.8248696056960888,{"$f":"[1]!AgePb76(K114)","v":4965.2953842483903}]
[30,3,2007,"070331-1","2007-03-30",null,43,18.9038,15.593,38.998100000000001,0.82486061003607736,{"$f":"[1]!AgePb76(K115)","v":4965.2798821462038}]
[2,4,2007,"070402-1","2007-04-02",null,44,18.904599999999999,15.593500000000001,39.000300000000003,0.82485215238619181,{"$f":"[1]!AgePb76(K116)","v":4965.2653070258457}]
[2,4,2007,"070403-","2007-04-03",null,44,18.9025,15.591699999999999,38.994599999999998,0.824848565004629,{"$f":"[1]!AgePb76(K117)","v":4965.2591248210265}]
[2,4,2007,"070404-","2007-04-04",null,44,18.902999999999999,15.5944,38.9998,0.82496958154790256,{"$f":"[1]!AgePb76(K118)","v":4965.4676592176575}]
[2,4,2007,"070405-1","2007-04-05",null,44,18.835599999999999,15.584300000000001,38.914900000000003,0.82738537662723788,{"$f":"[1]!AgePb76(K119)","v":4969.6237407702229}]
[2,4,2007,"070405-2","2007-04-05",null,44,18.9087,15.5922,38.993600000000001,0.82460454711323361,{"$f":"[1]!AgePb76(K120)","v":4964.8385369050984}]
[2,4,2007,"070406-","2007-04-06",null,44,18.907900000000001,15.593400000000001,38.994700000000002,0.82470290196161389,{"$f":"[1]!AgePb76(K121)","v":4965.0080767041254}]
[2,4,2007,"070406-1","2007-04-06",null,44,18.911000000000001,15.593,38.997700000000002,0.82454656020305639,{"$f":"[1]!AgePb76(K122)","v":4964.738571524279}]
[2,4,2007,"070407-1","2007-04-07",null,44,18.906400000000001,15.5928,38.996899999999997,0.82473659713113012,{"$f":"[1]!AgePb76(K123)","v":4965.0661540248821}]
[2,4,2007,"070408-1","2007-04-08",null,44,18.907399999999999,15.5932,39.000500000000002,0.82471413309074759,{"$f":"[1]!AgePb76(K124)","v":4965.0274350674244}]
[2,4,2007,"070417-1","2007-04-17",null,44,18.908999999999999,15.5953,39.007399999999997,0.82475540747792064,{"$f":"[1]!AgePb76(K125)","v":4965.0985746238084}]
[2,4,2007,"070420-2","2007-04-20",null,44,18.901700000000002,15.591799999999999,38.989800000000002,0.82488876661887545,{"$f":"[1]!AgePb76(K126)","v":4965.3284034146855}]
[2,4,2007,"070420-2",null,null,null,18.902999999999999,15.5899,38.987099999999998,0.82473152409670425,{"$f":"[1]!AgePb76(K127)","v":4965.0574102548744}]
[2,4,2007,"070425-1","2007-04-25",null,44,18.905899999999999,15.5922,38.994399999999999,0.82472667262600563,{"$f":"[1]!AgePb76(K128)","v":4965.0490483137255}]
[2,4,2007,"070425-2","2007-04-25",null,44,18.9069,15.593400000000001,38.999699999999997,0.82474652111134039,{"$f":"[1]!AgePb76(K129)","v":4965.083258612498}]
[2,4,2007,"070425-2",null,null,null,18.906700000000001,15.5923,38.9955,0.82469706506159191,{"$f":"[1]!AgePb76(K130)","v":4964.9980159103452}]
[2,4,2007,"070428-1","2007-04-27",null,44,18.907599999999999,15.5946,39.002800000000001,0.8247794537646238,{"$f":"[1]!AgePb76(K131)","v":4965.140018489441}]
[2,4,2007,"070429-1","2007-04-29",null,44,18.908300000000001,15.5936,38.999400000000001,{"$f":"(I132/H132)","v":0.8246960329590709},{"$f":"[1]!AgePb76(K132)","v":4964.9962369152345}]
[2,4,2007,"070429-1",null,null,null,18.908300000000001,15.593400000000001,38.999899999999997,0.82468545559357531,{"$f":"[1]!AgePb76(K133)","v":4964.978004983901}]
[null,null,null,null,null,null,null,null,null,null,"Average",{"$f":"AVERAGE(L3:L133)","v":4964.9669088021474}]
[null,null,null,null,null,null,null,null,null,null,"Maximum",{"$f":"MAX(L3:L134)","v":4980.8316067684354}]
[null,null,null,null,null,null,null,null,null,null,"Minimum",{"$f":"MIN(L3:L135)","v":4962.9409767176867}]
["Eruption Year","Age (Ma)","Age","Age Ratio (106)",null,"Eruption Year","Age (Ma)","Age","Age Ratio (106)",null,"Difference",{"$f":"L135-L136","v":17.890630050748769}]
[1927,4965.6064832797929,{"$f":"2009-A138","v":82},{"$f":"B138/C138","v":60.556176625363328},null,1927,4965.6064832797929,{"$f":"2009-F138","v":82},{"$f":"G138/H138","v":60.556176625363328},null,"Accuracy",{"$f":"1-(L137/L134)","v":0.99639662652755423}]
[1927,4965.2755040999955,{"$f":"2009-A139","v":82},{"$f":"B139/C139","v":60.552140293902383},null,1931,4965.3263039436843,78,63.658029537739544]
[1931,4965.3263039436843,78,63.658029537739544,null,1938,4964.7139400735741,71,69.925548451740482]
[1931,4965.4979552479745,78,63.660230195486854,null,1943,4964.4960977313831,66,75.219637844414891]
[1938,4964.7139400735741,71,69.925548451740482,null,1945,4964.8094230212146,64,77.575147234706478]
[1943,4964.4960977313831,66,75.219637844414891,null,1948,4965.7954957054062,61,81.406483536154198]
[1945,4964.8094230212146,64,77.575147234706478,null,1953,4965.5807065768377,56,88.671084046014954]
[1948,4965.7954957054062,61,81.406483536154198,null,1961,4965.1470689866583,48,103.44056393722205]
[1953,4965.5807065768377,56,88.671084046014954,null,1977,4963.3522612253337,32,155.10475816329168]
[1961,4965.1470689866583,48,103.44056393722205,null,1957,4965.4405339349059,52,95.489241037209723]
[1977,4963.3522612253337,32,155.10475816329168,null,1966,4964.4565169522348,43,115.45247713842406]
[1977,4963.6842048210801,32,155.11513140065875,null,1972,4964.5970682873367,37,134.17829914290098]
[1977,4964.0184489108806,32,155.12557652846502,null,1973,4964.9960561397693,36,137.91655711499359]
[1957,4965.4405339349059,52,95.489241037209723,null,1975,4965.252793878416,34,146.03684687877694]
[1966,4964.4565169522348,43,115.45247713842406,null,1976,4964.3940565925768,33,150.43618353310839]
[1972,4964.5970682873367,37,134.17829914290098,null,1979,4963.5828604567569,30,165.45276201522523]
[1972,4965.0375954835854,37,134.19020528334013,null,1981,4963.8867244616658,28,177.28166873077379]
[1972,4965.1753487757524,37,134.1939283452906,null,1983,4963.3854714796789,26,190.89944121075689]
[1973,4964.9960561397693,36,137.91655711499359,null,1984,4963.4642828771748,25,198.53857131508698]
[1975,4965.252793878416,34,146.03684687877694,null,1985,4963.0985771199184,24,206.79577404666327]
[1975,4965.0008497898016,34,146.02943675852359,null,1986,4963.7909417749643,23,215.8169974684767]
[1975,4964.9728529919084,34,146.02861332329144,null,1987,4965.040033163792,22,225.68363787108146]
[1975,4965.0211487781844,34,146.03003378759365,null,1988,4965.9241362346902,21,236.47257791593762]
[1975,4964.9284030850422,34,146.02730597308948,null,1990,4964.6878833191467,19,261.29936227995512]
[1975,4964.9837450445366,34,146.02893367778049,null,1991,4965.5770376868149,18,275.86539098260084]
[1975,4964.7900702353654,34,146.02323735986369,null,1992,4965.6825605043396,17,292.0989741473141]
[1975,4964.7847872452649,34,146.02308197780189,null,2001,4966.672386813153,8,620.83404835164413]
[1976,4964.3940565925768,33,150.43618353310839,null,2006,4965.3279821285478,3,1655.1093273761826]
[1977,4964.1988380925732,32,155.13121369039291,null,2007,4965.3418855408981,2,2482.6709427704491]
[1977,4963.4214044464597,32,155.10691888895187]
[1977,4968.1021620444481,32,155.253192563889]
[1977,4963.7345862775646,32,155.11670582117389]
[1977,4964.6495229394268,32,155.14529759185709]
[1977,4964.6564040022631,32,155.14551262507072]
[1977,4980.8316067684354,32,155.65098771151361]
[1977,4968.6035039553908,32,155.26885949860596]
[1977,4966.4152605323134,32,155.20047689163479]
[1977,4964.2121514248156,32,155.13162973202549]
[1977,4964.7935848371817,32,155.14979952616193]
[1977,4963.5532914554924,32,155.11104035798414]
[1979,4963.5828604567569,30,165.45276201522523]
[1979,4964.4558952128227,30,165.48186317376076]
[1981,4963.8867244616658,28,177.28166873077379]
[1981,4963.4358580146591,28,177.26556635766639]
[1981,4963.5624046389439,28,177.27008587996229]
[1983,4963.3854714796789,26,190.89944121075689]
[1983,4963.1849320435949,26,190.89172815552288]
[1983,4963.1720386550105,26,190.89123225596194]
[1983,4963.1500663341831,26,190.89038716669936]
[1983,4963.2015145255064,26,190.8923659432887]
[1984,4963.4642828771748,25,198.53857131508698]
[1984,4963.0948395698133,25,198.52379358279254]
[1984,4963.1473529868854,25,198.52589411947542]
[1985,4963.0985771199184,24,206.79577404666327]
[1985,4962.9575949290938,24,206.78989978871223]
[1985,4962.9409767176867,24,206.78920736323695]
[1985,4963.0026234073448,24,206.79177597530602]
[1985,4963.21064762074,24,206.80044365086417]
[1985,4963.3629485288302,24,206.80678952203459]
[1985,4963.0369401270518,24,206.79320583862716]
[1985,4963.3656028907044,24,206.80690012044602]
[1985,4963.1409524580977,24,206.79753968575406]
[1985,4963.2176254108817,24,206.80073439212006]
[1985,4963.2305036354392,24,206.80127098480997]
[1986,4963.7909417749643,23,215.8169974684767]
[1986,4963.8139808790211,{"$f":"2009-A203","v":23},{"$f":"B203/C203","v":215.8179991686531}]
[1986,4963.7812455538306,23,215.8165758936448]
[1986,4964.187904765392,23,215.83425672893009]
[1986,4964.0592108803157,23,215.82866134262241]
[1986,4964.5283238023912,23,215.8490575566257]
[1986,4964.103577812748,23,215.8305903396847]
[1986,4963.2567664072358,23,215.79377245248853]
[1986,4964.8380371490848,23,215.86252335430802]
[1986,4965.0452967833426,23,215.87153464275403]
[1986,4964.90040987253,23,215.86523521184913]
[1986,4964.9544467194173,23,215.86758463997467]
[1986,4964.9906094810904,23,215.86915693396045]
[1986,4965.1732851088382,23,215.87709935255819]
[1987,4965.040033163792,22,225.68363787108146]
[1987,4965.5066272478007,22,225.70484669308186]
[1987,4965.5588085632717,22,225.70721857105781]
[1987,4965.7438747180222,22,225.715630669001]
[1987,4965.8152030415667,22,225.71887286552575]
[1988,4965.9241362346902,21,236.47257791593762]
[1988,4966.0934017853724,21,236.48063818025582]
[1988,4965.9275865439149,21,236.4727422163769]
[1988,4966.148931810475,21,236.48328246716548]
[1988,4966.2031871644213,21,236.48586605544864]
[1988,4966.3480333956759,21,236.49276349503219]
[1988,4965.9951184438605,21,236.47595802113622]
[1990,4964.6878833191467,19,261.29936227995512]
[1990,4967.1339920456576,19,261.42810484450831]
[1990,4966.3952017194888,19,261.38922114313101]
[1991,4965.5770376868149,18,275.86539098260084]
[1992,4965.6825605043396,17,292.0989741473141]
[1992,4965.3683089878014,17,292.08048876398834]
[2001,4966.672386813153,8,620.83404835164413]
[2001,4966.5690263613897,8,620.82112829517371]
[2001,4966.8332222287099,8,620.85415277858874]
[2006,4965.3279821285478,3,1655.1093273761826]
[2006,4965.2942029461519,3,1655.0980676487172]
[2006,4965.2306418365088,3,1655.0768806121696]
[2006,4965.2853418842687,3,1655.0951139614228]
[2006,4965.3238657582369,3,1655.1079552527456]
[2006,4965.5057149009253,3,1655.1685716336417]
[2006,4965.3222694304532,3,1655.1074231434843]
[2006,4965.2524768198646,3,1655.0841589399549]
[2006,4965.3808314780053,3,1655.1269438260017]
[2006,4965.2465528351468,3,1655.0821842783823]
[2006,4965.3085730617404,3,1655.1028576872468]
[2007,4965.3418855408981,2,2482.6709427704491]
[2007,4965.2953842483903,2,2482.6476921241951]
[2007,4965.2798821462038,2,2482.6399410731019]
[2007,4965.2653070258457,2,2482.6326535129228]
[2007,4965.2591248210265,2,2482.6295624105132]
[2007,4965.4676592176575,2,2482.7338296088287]
[2007,4969.6237407702229,2,2484.8118703851114]
[2007,4964.8385369050984,2,2482.4192684525492]
[2007,4965.0080767041254,2,2482.5040383520627]
[2007,4964.738571524279,2,2482.3692857621395]
[2007,4965.0661540248821,2,2482.533077012441]
[2007,4965.0274350674244,2,2482.5137175337122]
[2007,4965.0985746238084,2,2482.5492873119042]
[2007,4965.3284034146855,2,2482.6642017073427]
[2007,4965.0574102548744,2,2482.5287051274372]
[2007,4965.0490483137255,2,2482.5245241568628]
[2007,4965.083258612498,2,2482.541629306249]
[2007,4964.9980159103452,2,2482.4990079551726]
[2007,4965.140018489441,2,2482.5700092447205]
[2007,4964.9962369152345,{"$f":"2009-A267","v":2},{"$f":"B267/C267","v":2482.4981184576172}]
[2007,4964.978004983901,2,2482.4890024919505]

{"sheet":"H47","index":25,"n_rows":29,"n_cols":14,"rows_kept":29,"cut":false,"hidden":false,"merged":[]}
["Table 2",null,null,null,null,null,null,null,null,null,null,null,null,"Age (Ma)"]
["Sample","Rock","Phenocrysts","Phenocrysts","Phenocrysts","N18Ool","N18Ocpx","N18O","87Sr/86Sr","143Nd/144Nd","206Pb/204Pb","207Pb/204Pb","208Pb/204Pb","207Pb/206Pb"]
["KLU-01","HMB","plag,","cpx,","ol",6.9,6.51,7.27,0.70355999999999996,0.51309000000000005,18.309999999999999,15.5,37.97,{"$f":"[1]!AgePb76(L3/K3)","v":5002.1138780080692}]
["KLU-03","HMB","ol,","cpx",null,6.4,6.68,6.8,0.70357000000000003,0.5131,18.28,15.5,37.97,{"$f":"[1]!AgePb76(L4/K4)","v":5004.4409085584912}]
["KLU-04","HMB","plag,","cpx,","ol",5.97,6.21,6.32,0.70352999999999999,0.51307000000000003,18.28,15.5,37.97,{"$f":"[1]!AgePb76(L5/K5)","v":5004.4409085584912}]
["KLU-07","HMB","ol,","cpx",null,6.28,7.15,6.64,0.70355000000000001,0.51307000000000003,18.3,15.5,37.97,{"$f":"[1]!AgePb76(L6/K6)","v":5002.8891573058145}]
["KLU-08","HMB","plag,","cpx,","ol",6,5.73,6.41,0.70352000000000003,0.51307999999999998,18.3,15.52,38.01,{"$f":"[1]!AgePb76(L7/K7)","v":5004.719032138124}]
["KLU-10","HMB","plag,","cpx,","ol",5.85,6.57,6.22,0.70352000000000003,0.51310999999999996,18.29,15.51,38,{"$f":"[1]!AgePb76(L8/K8)","v":5004.5800536172437}]
["KLU-11","HMB","plag,","ol,","cpx",5.84,6.28,6.23,0.70352999999999999,0.5131,18.29,15.5,37.97,{"$f":"[1]!AgePb76(L9/K9)","v":5003.6648340130223}]
["KLU-15","HMB","ol,","cpx",null,6.95,7.26,7.34,0.70355000000000001,0.51312000000000002,18.3,15.49,37.94,{"$f":"[1]!AgePb76(L10/K10)","v":5001.9732791899542}]
["KLU-12","HAB","plag","(ol,","cpx)",6.89,7.66,7.29,0.70365999999999995,0.51309000000000005,18.3,15.51,38,{"$f":"[1]!AgePb76(L11/K11)","v":5003.8044080063901}]
[]
[]
["Age (Ma)","Eruption","Historic Age","Age Ratio","Year"]
["207Pb/206Pb","Year","Years",106,"Dated"]
[5002.1138780080692,1932,{"$f":"E16-B16","v":68},{"$f":"A16/C16","v":73.560498206001014},2000]
[5004.4409085584912,1932,{"$f":"E17-B17","v":68},{"$f":"A17/C17","v":73.594719243507228},2000]
[5004.4409085584912,1932,68,73.594719243507228,2000]
[5002.8891573058145,1932,68,73.57189937214433,2000]
[5004.719032138124,1932,68,73.598809296148886,2000]
[5004.5800536172437,1932,68,73.596765494371226,2000]
[5003.6648340130223,1932,68,73.58330638254445,2000]
[5001.9732791899542,1932,68,73.558430576322849,2000]
[5003.8044080063901,1953,47,106.46392357460404,2000]
[{"$f":"AVERAGE(A16:A24)","v":5003.6251621550664},null,null,null,null,"Average"]
[{"$f":"MAX(A16:A25)","v":5004.719032138124},null,null,null,null,"Maximum"]
[{"$f":"MIN(A16:A26)","v":5001.9732791899542},null,null,null,null,"Minimum"]
[{"$f":"A26-A27","v":2.7457529481698657},null,null,null,null,"Difference"]
[{"$f":"1-(A28/A25)","v":0.99945124727388901},null,null,null,null,"Accuracy"]

{"sheet":"H48","index":26,"n_rows":15,"n_cols":7,"rows_kept":15,"cut":false,"hidden":false,"merged":[]}
["Table 2c."]
["Sample",1,2,3,4,5,6]
["206Pb/204Pb",19.130600000000001,19.104299999999999,19.139600000000002,19.130199999999999,19.117699999999999,19.1188]
["207Pb/204Pb",15.525,15.5182,15.543100000000001,15.5322,15.51,15.5389]
["207Pb/206Pb",{"$f":"(B4/B3)","v":0.8115270822661077},{"$f":"(C4/C3)","v":0.81228833299309589},0.81209116177976548,0.81192041902332446,0.81129006104290791,0.81275498462246587]
["Age (Ma)",{"$f":"[1]!AgePb76(B5)","v":4942.1025770643455},{"$f":"[1]!AgePb76(C5)","v":4943.4367036361737},{"$f":"[1]!AgePb76(D5)","v":4943.0912797550709},{"$f":"[1]!AgePb76(E5)","v":4942.792083763864},{"$f":"[1]!AgePb76(F5)","v":4941.68691482144},{"$f":"[1]!AgePb76(G5)","v":4944.2538745940792}]
[]
[]
["Pb Age (Ma)","Historic Age","Age Ratio 106"]
[4942,2,{"$f":"A10/B10","v":2471}]
[4943,2,{"$f":"A11/B11","v":2471.5}]
[4943,2,2471.5]
[4943,2,2471.5]
[4942,2,2471]
[4944,2,2472]

{"sheet":"H49","index":27,"n_rows":58,"n_cols":16,"rows_kept":58,"cut":false,"hidden":false,"merged":[]}
["Table 1.  ",null,null,null,"Table 3.",null,null,null,null,null,"207Pb/206Pb"]
["3550 yr B.P. to A.D. 79: PROTOHISTORIC activity",null,null,null,"Sample",null,"206Pb/204Pb","207Pb/204Pb","208Pb/204Pb","207Pb/206Pb","Age (Ma)","Eruption Date",null,"472 AD to 1139 AD","79 AD to 472 AD","1550 BC to 79 AD"]
["Sample ","Lithotype Locality Eruption ",null,null,"R-1(1)","res",19.033999999999999,15.679,39.140999999999998,{"$f":"(H3/G3)","v":0.82373647157717778},{"$f":"[1]!AgePb76(J3)","v":4963.3412533205737},"472 AD to 1139 AD",null,4963.3412533205737,4960.0434132406799,4966.9855044653168]
[null,null,null,null,"R-1(1)","L1",19.053000000000001,15.709,39.225000000000001,{"$f":"(H4/G4)","v":0.82448958169317166},{"$f":"[1]!AgePb76(J4)","v":4964.640337275091},"472 AD to 1139 AD",null,4964.640337275091,4959.3296063901589,4965.0515385346789]
["S-11(1)","Pumice S.Pietro a Terzigno (300m a.s.l.)","I",null,"R-1(1)","L2",19.024000000000001,15.672000000000001,39.110999999999997,0.82380151387720768,{"$f":"[1]!AgePb76(J5)","v":4963.4534984162983},"472 AD to 1139 AD",null,4963.4534984162983,4959.9462880155615,4965.9038203457822]
["S-12(1)","Pumice S.Pietro a Terzigno (300m a.s.l.)","II",null,"R-3(1)A","res",18.977,15.647,39.005000000000003,0.8245244243031038,{"$f":"[1]!AgePb76(J6)","v":4964.7004088086624},"472 AD to 1139 AD",null,4964.7004088086624,4959.6020503037016,4965.6040787131587]
["S-13(1)a ","Pumice S.Pietro a Terzigno (300m a.s.l.)","III Unit A",null,"R-3(1)A","L1",18.972999999999999,15.641,38.994,0.82438201654983401,{"$f":"[1]!AgePb76(J7)","v":4964.4548690678921},"472 AD to 1139 AD",null,4964.4548690678921,4959.1511295692753,4965.3429092056795]
["S-13(1)b ","Pumice/scoria S.Pietro a Terzigno (300m a.s.l.)","III Unit A",null,"R-3(1)A","L2",18.965,15.63,38.96,0.82414974953862385,{"$f":"[1]!AgePb76(J8)","v":4964.0542970467723},"472 AD to 1139 AD",null,4964.0542970467723,4959.0536633835191,4965.354222700299]
["S-14(1)","Pumice/scoria S.Pietro a Terzigno (300m a.s.l.)","III Unit B",null,"R-3(1)B","res",19.013999999999999,15.67,39.106000000000002,0.82412958872409803,{"$f":"[1]!AgePb76(J9)","v":4964.0195216693346},"472 AD to 1139 AD",null,4964.0195216693346,4959.9138977698412,4965.9973304261657]
["S-15(1)b ","Pumice S.Pietro a Terzigno (300m a.s.l.)","III Unit C",null,"R-3(1)B","L1",18.975999999999999,15.632,38.987000000000002,0.82377740303541314,{"$f":"[1]!AgePb76(J10)","v":4963.4118908429864},"472 AD to 1139 AD",null,4963.4118908429864,4959.3263733112117,4966.1545422676609]
["S-16(1)","Pumice Pozzelle Boscoreale III Unit D",null,null,"R-3(1)B","L2",19,15.656000000000001,39.07,0.82400000000000007,{"$f":"[1]!AgePb76(J11)","v":4963.795972561601},"472 AD to 1139 AD",null,4963.795972561601,4960.2536173197386,4966.3407005796153]
["S17(1)a ","Pumice Lag. Zabatta, S.Gius. Ves III Unit E",null,null,"R-3(1)D","res",19.041,15.686999999999999,39.180999999999997,0.82385378919174412,{"$f":"[1]!AgePb76(J12)","v":4963.5437043826396},"472 AD to 1139 AD",null,4963.5437043826396,4961.2849454044017,4966.1430100226298]
["S17(1)b ","Pumice Lag. Zabatta, S.Gius. Ves III Unit E",null,null,"R-3(1)D","L1",19.032,15.675000000000001,39.142000000000003,0.82361286254728883,{"$f":"[1]!AgePb76(J13)","v":4963.1279122092756},"472 AD to 1139 AD",null,4963.1279122092756,4959.7680477016829,4966.7442427774349]
["S-18(1)","Pumice Lag. Zabatta, S.Gius. Ves I",null,null,"R-3(1)D","L2",19.02,15.662000000000001,39.101999999999997,0.82344900105152474,{"$f":"[1]!AgePb76(J14)","v":4962.8450454941722},"472 AD to 1139 AD",null,4962.8450454941722,4960.4328182877261,4965.526890403893]
["S-11(2)","Pumice/scoria Lag. Fossa dei Leoni S.G. II",null,null,"R-3(1)E","res",19,15.635,39.012,0.82289473684210523,{"$f":"[1]!AgePb76(J15)","v":4961.8878004316275},"472 AD to 1139 AD",null,4961.8878004316275,null,4966.2699737211515]
["S-12(2)","Pumice/scoria Pozzelle Boscoreale III Unit A",null,null,"R-3(1)E","L1",18.989999999999998,15.621,38.963999999999999,0.82259083728278048,{"$f":"[1]!AgePb76(J16)","v":4961.3626580248447},"472 AD to 1139 AD",null,4961.3626580248447,null,4965.965565430296]
["S-13(2)","Pumice/scoria Pozzelle Boscoreale III Unit B",null,null,"R-3(1)E","L2",19.030999999999999,15.672000000000001,39.134999999999998,0.82349850244338196,{"$f":"[1]!AgePb76(J17)","v":4962.9305038237799},"472 AD to 1139 AD",null,4962.9305038237799,null,4965.4540909957923]
["S-14(2)","Pumice Pozzelle Boscoreale III Unit C",null,null,"R-4(1)B","res",19.004999999999999,15.663,39.07,0.82415153906866623,{"$f":"[1]!AgePb76(J18)","v":4964.0573837624188},"472 AD to 1139 AD",null,4964.0573837624188,null,4967.111453389999]
["S-15(2)a ","Pumice Pozzelle Boscoreale II",null,null,"R-4(1)B","L1",18.981000000000002,15.647,39.012999999999998,0.82435066645592958,{"$f":"[1]!AgePb76(J19)","v":4964.4008091156884},"472 AD to 1139 AD",null,4964.4008091156884,null,4967.2104280326712]
["S-18bis ","Pumice Camaldoli della Torre >A.D.79",null,null,"R-4(1)B","L2",19.042999999999999,15.64,39.017000000000003,0.82129916504752409,{"$f":"[1]!AgePb76(J20)","v":4959.1283277238954},"472 AD to 1139 AD",null,4959.1283277238954,null,4966.9697101017446]
[null,null,null,null,"S20(1)","res",19.048999999999999,15.654999999999999,39.088999999999999,0.82182791747598294,{"$f":"[1]!AgePb76(J21)","v":4960.0434132406799},"79 AD to 472 AD",{"$f":"K22/1922","v":2.5802963612852023},null,null,4965.6223281211323]
["A.D. 79 to A.D. 472: ANCIENT HISTORIC activity",null,null,null,"S20(1)","L1",19.033000000000001,15.634,39.018999999999998,0.82141543634739655,{"$f":"[1]!AgePb76(J22)","v":4959.3296063901589},"79 AD to 472 AD",{"$f":"K23/1922","v":2.5806172154087208},null,null,4965.6814235592728]
["S20(1)","Dark Sand Terzigno (300m a.s.l.)","Unit A",null,"S20(1)","L2",19.042999999999999,15.648999999999999,39.066000000000003,0.82177177965656667,{"$f":"[1]!AgePb76(J23)","v":4959.9462880155615},"79 AD to 472 AD",2.580438111500365,null,null,4965.7882096517187]
["S20(2)","Scoria Terzigno (300m a.s.l.)","Unit A",null,"S20(3)","res",19.061,15.66,39.103000000000002,0.82157284507633388,{"$f":"[1]!AgePb76(J24)","v":4959.6020503037016},"79 AD to 472 AD",2.5802035013367717]
["S20(3)","Dark Sand Terzigno (300m a.s.l.)","Unit B",null,"S20(3)","L1",19.05,15.646000000000001,39.058,0.82131233595800524,{"$f":"[1]!AgePb76(J25)","v":4959.1511295692753},"79 AD to 472 AD",2.5801527905221224]
["S20(4)","Dark Sand Terzigno (300m a.s.l.)","Unit C",null,"S20(3)","L2",19.044,15.64,39.037999999999997,0.82125603864734298,{"$f":"[1]!AgePb76(J26)","v":4959.0536633835191},"79 AD to 472 AD",2.5806003630436218]
["S20(5)","Scoria Terzigno (300m a.s.l.)","Unit D",null,"S20(4)","res",19.041,15.647,39.049999999999997,0.82175305918806785,{"$f":"[1]!AgePb76(J27)","v":4959.9138977698412},"79 AD to 472 AD",2.5802946791421495]
["S20(6)","Dark Sand Terzigno (300m a.s.l.)","Unit E",null,"S20(4)","L1",19.044,15.643000000000001,39.043999999999997,0.82141356857802983,{"$f":"[1]!AgePb76(J28)","v":4959.3263733112117},"79 AD to 472 AD",2.5807771161913311]
["S20(7)","Dark Sand Terzigno (300m a.s.l.)","Unit E",null,"S20(4)","L2",19.062000000000001,15.667999999999999,39.124000000000002,0.82194942818172267,{"$f":"[1]!AgePb76(J29)","v":4960.2536173197386},"79 AD to 472 AD",2.5813137072863692]
[null,null,null,null,"S20(6)","res",19.018999999999998,15.644,39.018999999999998,0.82254587517745426,{"$f":"[1]!AgePb76(J30)","v":4961.2849454044017},"79 AD to 472 AD",2.5805244785128423]
["A.D. 472 to A.D. 1139: MEDIEVAL activity",null,null,null,"S20(6)","L1",19.032,15.638,39.018999999999998,0.82166876839007985,{"$f":"[1]!AgePb76(J31)","v":4959.7680477016829},"79 AD to 472 AD",2.5808703529072456]
["R-1(1)","Dark scoria Terzigno (300m a.s.l.)","I",null,"S20(6)","L2",19.045000000000002,15.656000000000001,39.073999999999998,0.82205303229194004,{"$f":"[1]!AgePb76(J32)","v":4960.4328182877261},"79 AD to 472 AD",2.5842796589309662]
["R-2(1)","Dark scoria Terzigno (300m a.s.l.)","II",null,"S11(1)","res",18.978000000000002,15.673,39.103999999999999,0.82585098535145951,{"$f":"[1]!AgePb76(J33)","v":4966.9855044653168},"1550 BC to 79 AD"]
["R-3(1)","A Dark scoria Terzigno (300m a.s.l.)","III",null,"S11(1)","L1",18.942,15.622,38.927999999999997,0.82472811741104424,{"$f":"[1]!AgePb76(J34)","v":4965.0515385346789},"1550 BC to 79 AD"]
["R-3(1)","B Dark scoria Terzigno (300m a.s.l.)","III",null,"S11(1)","L2",18.966999999999999,15.651999999999999,39.029000000000003,0.8252227553118574,{"$f":"[1]!AgePb76(J35)","v":4965.9038203457822},"1550 BC to 79 AD"]
["R-3(1)","C Dark scoria Terzigno (300m a.s.l.)","III",null,"S12(1)","res",18.971,15.651999999999999,39.03,0.82504875863159555,{"$f":"[1]!AgePb76(J36)","v":4965.6040787131587},"1550 BC to 79 AD"]
["R-3(1)D ","Dark Sand Terzigno (300m a.s.l.)","III",null,"S12(1)","L1",18.966000000000001,15.645,39.005000000000003,0.82489718443530524,{"$f":"[1]!AgePb76(J37)","v":4965.3429092056795},"1550 BC to 79 AD"]
["R-3(1)E ","Dark scoria Terzigno (300m a.s.l.)","III",null,"S12(1)","L2",18.960999999999999,15.641,38.993000000000002,0.82490374980222569,{"$f":"[1]!AgePb76(J38)","v":4965.354222700299},"1550 BC to 79 AD"]
["R-3(1)F ","Dark scoria Terzigno (300m a.s.l.)","III",null,"S13(1)b","res",18.95,15.638999999999999,38.988,0.82527704485488129,{"$f":"[1]!AgePb76(J39)","v":4965.9973304261657},"1550 BC to 79 AD"]
["R-4(1)A ","Dark scoria Terzigno (300m a.s.l.)","IV",null,"S13(1)b","L1",18.937000000000001,15.63,38.954000000000001,0.82536832655647674,{"$f":"[1]!AgePb76(J40)","v":4966.1545422676609},"1550 BC to 79 AD"]
["R-4(1)B"," Dark scoria Terzigno (300m a.s.l.)","IV",null,"S13(1)b","L2",18.943000000000001,15.637,38.978000000000002,0.82547642928786358,{"$f":"[1]!AgePb76(J41)","v":4966.3407005796153},"1550 BC to 79 AD"]
[null,null,null,null,"S14(1)","res",18.942,15.634,38.97,0.82536163023967901,{"$f":"[1]!AgePb76(J42)","v":4966.1430100226298},"1550 BC to 79 AD"]
[null,null,null,null,"S14(1)","L1",18.957000000000001,15.653,39.03,0.82571081922245082,{"$f":"[1]!AgePb76(J43)","v":4966.7442427774349},"1550 BC to 79 AD"]
[null,null,null,null,"S14(1)","L2",18.949000000000002,15.632999999999999,38.96,0.82500395799250603,{"$f":"[1]!AgePb76(J44)","v":4965.526890403893},"1550 BC to 79 AD"]
[null,null,null,null,"S15(1)b","res",18.95,15.641999999999999,38.994999999999997,0.82543535620052766,{"$f":"[1]!AgePb76(J45)","v":4966.2699737211515},"1550 BC to 79 AD"]
[null,null,null,null,"S15(1)b","L1",18.948,15.637,38.975000000000001,0.82525860249102811,{"$f":"[1]!AgePb76(J46)","v":4965.965565430296},"1550 BC to 79 AD"]
[null,null,null,null,"S15(1)b","L2",18.933,15.619,38.917000000000002,0.82496170707230765,{"$f":"[1]!AgePb76(J47)","v":4965.4540909957923},"1550 BC to 79 AD"]
[null,null,null,null,"S16(1)","res",18.963000000000001,15.662000000000001,39.058,0.82592416811685909,{"$f":"[1]!AgePb76(J48)","v":4967.111453389999},"1550 BC to 79 AD"]
[null,null,null,null,"S16(1)","L1",18.998000000000001,15.692,39.156999999999996,0.82598168228234548,{"$f":"[1]!AgePb76(J49)","v":4967.2104280326712},"1550 BC to 79 AD"]
[null,null,null,null,"S16(1)","L2",18.977,15.672000000000001,39.088999999999999,0.82584180850503242,{"$f":"[1]!AgePb76(J50)","v":4966.9697101017446},"1550 BC to 79 AD"]
[null,null,null,null,"S18(1)a","res",18.954999999999998,15.638999999999999,38.979999999999997,0.82505935109469797,{"$f":"[1]!AgePb76(J51)","v":4965.6223281211323},"1550 BC to 79 AD"]
[null,null,null,null,"S18(1)a","L1",18.952999999999999,15.638,38.972000000000001,0.82509365271988611,{"$f":"[1]!AgePb76(J52)","v":4965.6814235592728},"1550 BC to 79 AD"]
[null,null,null,null,"S18(1)a","L2",18.954000000000001,15.64,38.981000000000002,0.82515563997045482,{"$f":"[1]!AgePb76(J53)","v":4965.7882096517187},"1550 BC to 79 AD"]
[null,null,null,null,null,null,null,null,null,"Average",{"$f":"AVERAGE(K3:K53)","v":4963.6173336886495}]
[null,null,null,null,null,null,null,null,null,"Maximum",{"$f":"MAX(K3:K54)","v":4967.2104280326712}]
[null,null,null,null,null,null,null,null,null,"Minimum",{"$f":"MIN(K3:K55)","v":4959.0536633835191}]
[null,null,null,null,null,null,null,null,null,"Difference",{"$f":"K55-K56","v":8.1567646491521373}]
[null,null,null,null,null,null,null,null,null,"Accuracy",{"$f":"1-(K57/K54)","v":0.99835668946641165}]

{"sheet":"H50","index":28,"n_rows":27,"n_cols":12,"rows_kept":27,"cut":false,"hidden":false,"merged":[]}
["Table 7",null,null,null,null,null,null,null,null,null,null,4981.5598075033467]
["Sample No.","Material",null,null,null,"206Pb/204Pb","207Pb/204Pb","208Pb/204Pb","207Pb/206Pb","Age (Ma)",null,4981.5302533756758]
["AC-1","marble,","metadolostone","whole","rock",19.16,15.641999999999999,38.853000000000002,{"$f":"(G3/F3)","v":0.8163883089770354},{"$f":"[1]!AgePb76(I3)","v":4950.5993071813009},null,4968.9359188502422]
["AC-2","marble,","metalimestone","whole","rock",19.018999999999998,15.648999999999999,38.856999999999999,{"$f":"(G4/F4)","v":0.82280877017719123},{"$f":"[1]!AgePb76(I4)","v":4961.7392698279145},null,4967.4073799136186]
["SKM-2","marble,","metalimestone","whole","rock",19.042000000000002,15.664999999999999,38.770000000000003,0.82265518327906717,{"$f":"[1]!AgePb76(I5)","v":4961.4738659574978},null,4961.7392698279145]
["SKM-11b","marble,","metalimestone","whole","rock",18.93,15.638,38.770000000000003,0.82609614368726891,{"$f":"[1]!AgePb76(I6)","v":4967.4073799136186},null,4961.6210817745568]
["SKM-12","marble,","metalimestone","whole","rock",19.11,15.65,38.874000000000002,0.81894296180010473,{"$f":"[1]!AgePb76(I7)","v":4955.0429349449669},null,4961.4738659574978]
["SKM-14","marble,","metalimestone","whole","rock",18.734000000000002,15.631,38.534999999999997,0.83436532507739936,{"$f":"[1]!AgePb76(I8)","v":4981.5598075033467},null,4960.1926998285689]
["S19(3)","marble,","metalimestone","whole","rock",19.085000000000001,15.702,39.1,0.8227403720199109,{"$f":"[1]!AgePb76(I9)","v":4961.6210817745568},null,4959.6894045510435]
["SKM-13","hornfels","whole","rock",null,18.725999999999999,15.624000000000001,38.441000000000003,0.83434796539570655,{"$f":"[1]!AgePb76(I10)","v":4981.5302533756758},null,4959.5436612202948]
["SKM-3","skarn","wollastonite",null,null,19.047000000000001,15.654999999999999,38.914999999999999,0.82191421221189687,{"$f":"[1]!AgePb76(I11)","v":4960.1926998285689},null,4959.1923560892274]
["SKM-10","skarn","vesuvianite",null,null,19.062999999999999,15.661,38.924999999999997,0.82153910717095946,{"$f":"[1]!AgePb76(I12)","v":4959.5436612202948},null,4955.0429349449669]
["SKM-11c","skarn","vesuvianite",null,null,19.202000000000002,15.659000000000001,39.069000000000003,0.81548797000312467,{"$f":"[1]!AgePb76(I13)","v":4949.0297099425334},null,4950.5993071813009]
["SKM-14","skarn","anorthite",null,null,null,null,null,".",".",null,4949.0297099425334]
["S21(5)","skarn","whole","rock",null,19.071999999999999,15.67,38.997999999999998,0.82162332214765099,{"$f":"[1]!AgePb76(I15)","v":4959.6894045510435},"Average",{"$f":"AVERAGE(L1:L14)","v":4962.6826893543421}]
["N403a","pyroxenite","whole","rock",null,18.928999999999998,15.654,38.841999999999999,0.82698504939510808,{"$f":"[1]!AgePb76(I16)","v":4968.9359188502422},"Maximum",{"$f":"MAX(L1:L15)","v":4981.5598075033467}]
["HB86-472-B","pyroxenite","whole","rock",null,18.934999999999999,15.552,38.661000000000001,0.82133614998679694,{"$f":"[1]!AgePb76(I17)","v":4959.1923560892274},"Minimum",{"$f":"MIN(L1:L16)","v":4949.0297099425334}]
[null,null,null,null,null,null,null,null,null,null,"Difference",{"$f":"L16-L17","v":32.530097560813374}]
[null,null,null,null,null,null,null,null,null,null,"Accuracy",{"$f":"1-(L18/L15)","v":0.99344505792590865}]
["Pb Age (Ma)","Pb Age (Ma)"]
[4981.5598075033467,4960.1926998285689]
[4981.5302533756758,4959.6894045510435]
[4968.9359188502422,4959.5436612202948]
[4967.4073799136186,4959.1923560892274]
[4961.7392698279145,4955.0429349449669]
[4961.6210817745568,4950.5993071813009]
[4961.4738659574978,4949.0297099425334]