{"text_format":"1","workbook":"xlsx","n_sheets":50,"sheets":["Index","Exc_01","Exc_02","Exc_03","Exc_04","Exc_05","Exc_06","Exc_07","Exc_08","Exc_09","Exc_10","Exc_11","Exc_12","Exc_13","Exc_14","Exc_15","Exc_16","Exc_17","Exc_18","Exc_19","Exc_20","Exc_21","Exc_22","Exc_23","Exc_24","Exc_25","Exc_26","Exc_27","Exc_28","Exc_29","Exc_30","Exc_31","Exc_32","Exc_33","Exc_34","Exc_35","Exc_36","Exc_37","Exc_38","Exc_39","Exc_40","Exc_41","Exc_42","Exc_43","Exc_44","Exc_45","Exc_46","Exc_47","Exc_48","GD_03_B"],"not_rendered":{"charts":0,"images":0,"macros":1,"external_links":1,"defined_names":0,"comments":0,"pivot_tables":0},"unopened":[],"bounds":{"document_bytes":16777216,"sheet_cells":100000,"rows_first":2000,"rows_last":500,"rows_between":2000,"halvings":0,"cell_chars":16384,"cell_head_chars":4096},"cells_cut":0,"cells_raw":0,"read":"whole","date_system":"1900"}

{"sheet":"Index","index":0,"n_rows":72,"n_cols":17,"rows_kept":72,"cut":false,"hidden":false,"merged":[]}
["Number","Spreadsheet","File Location","Magazine","Title","Method","MAXIMUM","MINIMUM","DIFFERENCE","AVERAGE","4600 To 4999","5000 To 5999 ","6,000 To 9999","10,000 To 19,999","Over 19,999","Total"]
[1,"Excellent_01","C:\\Essays\\Geo_Dating\\Lead_206_207\\Excellent_01.pdf","Contributions Mineral Petrology (1985) 90, Pages 162-171","Pre-Hercynian mantle lead transfer","Pb-207/Pb-206",5038.3891951634678,5021.3542033738631,17.034991789604646,5026.166671617827,null,16,null,null,null,{"$f":"SUM(K2:O2)","v":16},"Ex_01"]
[2,"Excellent_02","C:\\Essays\\Geo_Dating\\Lead_206_207\\Excellent_02.pdf","Mineralogy and Petrology (1993) 47, Pages 103-126","Sr, Nd and Pb Isotopic Compositions","Pb-207/Pb-206",4989.7047954819063,4984.6606300142048,5.0441654677015322,4986.9331594244186,12,null,null,null,null,12,"Ex_02"]
[3,"Excellent_03","C:\\Essays\\Geo_Dating\\Lead_206_207\\Excellent_03.pdf","Contributions Mineral Petrology (1984) 85, Pages 376-390","Pb isotopic and REE geochemistry","Pb-207/Pb-206",4987.4953928892046,4904.8689453281722,82.626447561032364,4931.9301747003847,6,null,null,null,null,6,"Ex_03"]
[4,"Excellent_04","C:\\Essays\\Geo_Dating\\Lead_206_207\\Excellent_04.pdf","Mineralium Deposita (1999) 34, Pages 273-283","Damaran-Lufilian Fold Belt of Central Africa","Pb-207/Pb-206",5046.475897291436,5028.5053882028988,17.970509088537256,5040.7221514307412,null,18,null,null,null,18,"Ex_04"]
[5,"Excellent_04","C:\\Essays\\Geo_Dating\\Lead_206_207\\Excellent_04.pdf","Mineralium Deposita (1999) 34, Pages 273-283","Damaran-Lufilian Fold Belt of Central Africa","Pb-207/Pb-206",5046.3709153401105,5043.3963059584503,2.9746093816602297,5044.7191837081646,null,6,null,null,null,6,"Ex_04"]
[6,"Excellent_05","C:\\Essays\\Geo_Dating\\Lead_206_207\\Excellent_05.pdf","Chinese Journal Of Geochemistry, Volume 16, Number 1, 1997, Pages 80-85","Bayan Obo Deposit","Pb-207/Pb-206",5237.3724072839759,5065.1133887031083,172.25901858086763,5151.2428979935421,null,2,null,null,null,2,"Ex_05"]
[7,"Excellent_06","C:\\Essays\\Geo_Dating\\Lead_206_207\\Excellent_06.pdf","Isotope Geoscience, 1 (1983) Pages 23-38","U-Ph And Ph-Pb Dating Of Kimberlites","Pb-207/Pb-206",5075.7750459336139,4532.867189857895,542.90785607571888,4960.7602491742791,5,9,null,null,null,14,"Ex_06"]
[8,"Excellent_07","C:\\Essays\\Geo_Dating\\Lead_206_207\\Excellent_07.pdf","Chemical Geology 211 (2004) Pages 87–109","U–Pb Zircon Ages","Pb-207/Pb-206",5149.7596799567345,5039.9629747114468,109.79670524528774,5078.5531168068001,null,15,null,null,null,15,"Ex_07"]
[9,"Excellent_08","C:\\Essays\\Geo_Dating\\Lead_206_207\\Excellent_08.pdf","Earth and Planetary. Science Letters, 94 (1989) Pages 78-96","Cenozoic-Cretaceous Magmatism","Pb-207/Pb-206",6488.8778829334888,4930.3885299504445,1558.4893529830442,5017.9568587810054,28,3,1,null,null,32,"Ex_08"]
[10,"Excellent_09","C:\\Essays\\Geo_Dating\\Lead_206_207\\Excellent_09.pdf","Chemical Geology 233 (2006) Pages 1–45","Lead Isotope Planetary Profiling","Pb-207/Pb-206",5493.3603176128236,4834.7996346729178,658.56068293990575,5233.5713335846685,3,10,null,null,null,13,"Ex_09"]
[11,"Excellent_10","C:\\Essays\\Geo_Dating\\Lead_206_207\\Excellent_10.pdf","Chemical Geology 236 (2007) Pages 27–41","U–Pb Step-Leaching Ages","Pb-207/Pb-206",5014.2292515070221,3978.4467514020707,1035.7825001049514,4671.2481790817346,14,4,null,null,null,18,"Ex_10"]
[11,"Excellent_11","C:\\Essays\\Geo_Dating\\Lead_206_207\\Excellent_11.pdf","Chemical Geology, 66 (1987) Pages 193-208","Pb-Pb Isotope Systematics","Pb-207/Pb-206",4756.4966265459107,4604.029661738914,152.46696480699666,4657.0684032272038,8,null,null,null,null,8,"Ex_11"]
[11,"Excellent_11","C:\\Essays\\Geo_Dating\\Lead_206_207\\Excellent_11.pdf","Chemical Geology, 66 (1987) Pages 193-208","Pb-Pb Isotope Systematics","Pb-207/Pb-206",5288.6751497113082,3719.1595290230039,1569.5156206883044,4606.2603133259918,2,12,null,null,null,14,"Ex_11"]
[11,"Excellent_11","C:\\Essays\\Geo_Dating\\Lead_206_207\\Excellent_11.pdf","Chemical Geology, 66 (1987) Pages 193-208","Pb-Pb Isotope Systematics","Pb-207/Pb-206",5288.6751497113082,4925.1333136193061,363.54183609200209,5124.4078793361696,2,12,null,null,null,14,"Ex_11"]
[11,"Excellent_11","C:\\Essays\\Geo_Dating\\Lead_206_207\\Excellent_11.pdf","Chemical Geology, 66 (1987) Pages 193-208","Pb-Pb Isotope Systematics","Pb-207/Pb-206",5266.7302763170783,3829.387178012892,1437.3430983041862,4470.9512130084422,1,7,null,null,null,8,"Ex_11"]
[12,"Excellent_12","C:\\Essays\\Geo_Dating\\Lead_206_207\\Excellent_12.pdf","Chemical Geology, 93 (1991) Pages 231-243","Pb Isotopic Systematics Of Volcanic Rocks","Pb-207/Pb-206",4964.2533040411818,4909.3390182941348,54.914285747046961,4934.4929973453727,41,null,null,null,null,41,"Ex_12"]
[13,"Excellent_13","C:\\Essays\\Geo_Dating\\Lead_206_207\\Excellent_13.pdf","Earfh and Planetary Science Letters, 94 (1989) Pages 236-244","U/Pb Whole-Rock And Mineral Dating","Pb-206/U-238",15172.539976111717,204.40565276480632,14968.134323346911,2182.3752482026503,null,null,null,3,null,3,"Ex_13"]
[13,"Excellent_13","C:\\Essays\\Geo_Dating\\Lead_206_207\\Excellent_13.pdf","Earfh and Planetary Science Letters, 94 (1989) Pages 236-244","U/Pb Whole-Rock And Mineral Dating","Pb-207/Pb-206",5016.3845719394067,667.54136668053536,4348.8432052588714,3643.5563739732511,10,3,null,null,null,13,"Ex_13"]
[14,"Excellent_14","C:\\Essays\\Geo_Dating\\Lead_206_207\\Excellent_14.pdf","Earth and Planetary Science Letters, 47 (1980) Pages 370-382","Speculations About The Age Of The Earth","Pb-207/Pb-206",5300.3122510607545,4373.8889608489126,926.42329021184196,5078.7411081041791,6,30,null,null,null,36,"Ex_14"]
[14,"Excellent_14","C:\\Essays\\Geo_Dating\\Lead_206_207\\Excellent_14.pdf","Earth and Planetary Science Letters, 47 (1980) Pages 370-382","Speculations About The Age Of The Earth","Pb-207/Pb-206",5271.9031965172044,4828.4975475646788,443.40564895252555,5169.7187002691226,1,9,null,null,null,10,"Ex_14"]
[14,"Excellent_14","C:\\Essays\\Geo_Dating\\Lead_206_207\\Excellent_14.pdf","Earth and Planetary Science Letters, 47 (1980) Pages 370-382","Speculations About The Age Of The Earth","Pb-207/Pb-206",5254.4680582337351,5163.5037510770044,90.964307156730683,5223.0332821263391,null,6,null,null,null,6,"Ex_14"]
[15,"Excellent_15","C:\\Essays\\Geo_Dating\\Lead_206_207\\Excellent_15.pdf","Earth and Planetary Science Letters, 42 (1979) Pages 368-378","Rb-Sr And U-Th-Pb Isotopic Study","Pb-207/Pb-206",5127.2447141571702,4845.3523340663896,281.89238009078053,5035.002127512168,5,7,null,null,null,12,"Ex_15"]
[16,"Excellent_16","C:\\Essays\\Geo_Dating\\Lead_206_207\\Excellent_16.pdf","Earth and Planetarv Science Letters, 46 (1980) Pages 221-232","U-Pb Ages Of Uraniferous Opals","Pb-207/Pb-206",5039.6284702309686,4711.6112396459612,328.01723058500738,4910.0831412626449,18,2,null,null,null,20,"Ex_16"]
[17,"Excellent_17","C:\\Essays\\Geo_Dating\\Lead_206_207\\Excellent_17.pdf","Earth and Planetary Science Letters 244 (2006) Page 251–269","The South Pacific Superplume Activity","Pb-207/Pb-206",5056.8627590808555,4838.2769711109413,218.58578796991424,4945.5317142870817,17,6,null,null,null,23,"Ex_17"]
[18,"Excellent_18","C:\\Essays\\Geo_Dating\\Lead_206_207\\Excellent_18.pdf","Gondwana Research 11 (2007) Page 69–91","Ivisaartoq Greenstone Belt","Pb-207/U-235",5406.5718351903397,5162.0222367444467,244.54959844589303,5291.3417091332494,null,5,null,null,null,5,"Ex_18"]
[19,"Excellent_19","C:\\Essays\\Geo_Dating\\Lead_206_207\\Excellent_19.pdf","Gondwana Research 11 (2007) Page 382–395","The Genesis Of Pb–Zn Deposits","Pb-207/Pb-206",5071.7019278201142,5053.6455760966255,18.05635172348866,5063.5356239193907,null,47,null,null,null,47,"Ex_19"]
[20,"Excellent_20","C:\\Essays\\Geo_Dating\\Lead_206_207\\Excellent_20.pdf","Gondwana Research 14 (2008) Page 644–662","Geochronological Problems","Pb-207/Pb-206",4897.8911026826527,2613.6442418895281,2284.2468607931246,4063.3539580512779,8,null,null,null,null,8,"Ex_20"]
[21,"Excellent_21","C:\\Essays\\Geo_Dating\\Lead_206_207\\Excellent_21.pdf","Geochemistry And Geophysics Geosystems, 2006, Volume 7, Number 8, Pages 1-29","Contribution Of Slab Melting","Pb-207/Pb-206",5008.8742554723594,4991.6977720182667,17.176483454092704,5001.3307686456983,13,31,null,null,null,44,"Ex_21"]
[22,"Excellent_22","C:\\Essays\\Geo_Dating\\Lead_206_207\\Excellent_22.pdf","Earth and Planetary Science Letters, 42 (1979) Pages 368-378","Sr–Nd–Pb Isotopic Systematics Of Mafic Igneous Rocks","Pb-207/Pb-206",5127.2447141571702,4845.3523340663896,281.89238009078053,5035.002127512168,5,7,null,null,null,{"$f":"SUM(K30:O30)","v":12},"Ex_22"]
[23,"Excellent_23","C:\\Essays\\Geo_Dating\\Lead_206_207\\Excellent_23.pdf","Earth and Planetarv Science Letters, 46 (1980) Pages 221-232","Lead Isotopic Study Of Young Volcanic Rocks","Pb-207/Pb-206",5039.6284702309686,4711.6112396459612,328.01723058500738,4910.0831412626449,18,2,null,null,null,20,"Ex_23"]
[24,"Excellent_24","C:\\Essays\\Geo_Dating\\Lead_206_207\\Excellent_24.pdf","Earth and Planetary Science Letters 244 (2006) Page 251–269","Sr–Nd–Pb Isotopic Compositions","Pb-207/Pb-206",5056.8627590808555,4838.2769711109413,218.58578796991424,4945.5317142870817,17,6,null,null,null,23,"Ex_24"]
[25,"Excellent_25","C:\\Essays\\Geo_Dating\\Lead_206_207\\Excellent_25.pdf","Gondwana Research 11 (2007) Page 69–91","Sm–Nd, Rb–Sr, And Pb–Pb Isotopic Evidence","Pb-207/U-235",5406.5718351903397,5162.0222367444467,244.54959844589303,5291.3417091332494,null,5,null,null,null,5,"Ex_25"]
[26,"Excellent_26","C:\\Essays\\Geo_Dating\\Lead_206_207\\Excellent_26.pdf","Gondwana Research 11 (2007) Page 382–395","High Precision U-Pb Geochronology","Pb-207/Pb-206",5071.7019278201142,5053.6455760966255,18.05635172348866,5063.5356239193907,null,47,null,null,null,47,"Ex_26"]
[27,"Excellent_27","C:\\Essays\\Geo_Dating\\Lead_206_207\\Excellent_27.pdf","Gondwana Research 14 (2008) Page 644–662","Precise Lead Isotope Ratios","Pb-207/Pb-206",4897.8911026826527,2613.6442418895281,2284.2468607931246,4063.3539580512779,8,null,null,null,null,8,"Ex_27"]
[28,"Excellent_28","C:\\Essays\\Geo_Dating\\Lead_206_207\\Excellent_28.pdf","Geochemistry And Geophysics Geosystems, 2006, Volume 7, Number 8, Pages 1-29","Sr–Nd–Pb–O Isotopic Constraints","Pb-207/Pb-206",5008.8742554723594,4991.6977720182667,17.176483454092704,5001.3307686456983,13,31,null,null,null,44,"Ex_28"]
[29,"Excellent_29","C:\\Essays\\Geo_Dating\\Lead_206_207\\Excellent_29.pdf","Contributions to Mineralogy and Petrology, Volume 114, 1993, Pages 171 - 188","Sr, Nd And Pb Isotope Evidence","Pb-207/Pb-206",5060.5466683951017,4929.5257446684182,131.02092372668358,5008.5517990203398,8,14,null,null,null,22,"Ex_29"]
[30,"Excellent_30","C:\\Essays\\Geo_Dating\\Lead_206_207\\Excellent_30.pdf","Nature, Volume 368, 1994, Page 514 - 519 ","Lead Isotope Ratios In Arc Magams","Pb-207/Pb-206",4976.0545664768233,4959.0298681299846,17.024698346838704,4963.7566575795254,23,null,null,null,null,23,"Ex_30"]
[31,"Excellent_31","C:\\Essays\\Geo_Dating\\Lead_206_207\\Excellent_31.pdf","Science, Volume 282, 1998, Page 1481","Pb Isotopic Variability In Melt Inclusions","Pb-207/Pb-206",4963.795972561601,4742.9791524664488,220.81682009515225,4886.6670257255919,81,null,null,null,null,81,"Ex_31"]
[32,"Excellent_32","C:\\Essays\\Geo_Dating\\Lead_206_207\\Excellent_32.pdf","Earth and Planetary Science Letters, 59 (1982) Pages 327-342","Correlated Nd, Sr And Pb Isotope Variations","Pb-207/Pb-206",5060.7582810861395,5003.9220483242707,56.836232761868814,5032.5224840257843,null,9,null,null,null,9,"Ex_32"]
[33,"Excellent_33","C:\\Essays\\Geo_Dating\\Lead_206_207\\Excellent_33.pdf","Earth and Planetary Science Letters, 76 (1985) Pages 57-70","Sr, Nd And Pb Isotopes In Minor Elements","Pb-207/Pb-206",5163,5014,149,5097.125,null,16,null,null,null,16,"Ex_33"]
[34,"Excellent_34","C:\\Essays\\Geo_Dating\\Lead_206_207\\Excellent_34.pdf","Geological Society Of London, Special Publications, 2004, Volume 229, Pages 133-150.","Pin Procking The Elephant","Pb-207/Pb-206",5005.6166851716598,4941.7908020261766,63.825883145483203,4986.874176128842,32,8,null,null,null,40,"Ex_34"]
[34,"Excellent_34","C:\\Essays\\Geo_Dating\\Lead_206_207\\Excellent_34.pdf","Geological Society Of London, Special Publications, 2004, Volume 229, Pages 133-150.","Pin Procking The Elephant","Pb-208/Th-232",14459.006585293409,12090.2420379181,2368.7645473753091,13131.436445453364,null,null,null,3,null,3,"Ex_34"]
[34,"Excellent_34","C:\\Essays\\Geo_Dating\\Lead_206_207\\Excellent_34.pdf","Geological Society Of London, Special Publications, 2004, Volume 229, Pages 133-150.","Pin Procking The Elephant","Pb-206/U-238",6936,4579,2357,5671,null,1,1,null,null,2,"Ex_34"]
[35,"Excellent_35","C:\\Essays\\Geo_Dating\\Lead_206_207\\Excellent_35.pdf","Journal Analytical Atomic Spectrometry, 2002, Volume 17, Pages 922–928","The Use Of Pb Isotope Ratios","Pb-207/Pb-206",5181.9425992609958,4981.5181621581451,200.42443710285079,5105.6915071908625,5,21,null,null,null,26,"Ex_35"]
[36,"Excellent_36","C:\\Essays\\Geo_Dating\\Lead_206_207\\Excellent_36.pdf","Journal of Petrology, 2011, Volume 52, Number 2, Pages 401-430","Continental Intraplatevolcanism","Pb-207/Pb-206",4968.2851527854536,4919.8445596551137,48.440593130339948,4950.339494613685,5,null,null,null,null,5,"Ex_36"]
[37,"Excellent_37","C:\\Essays\\Geo_Dating\\Lead_206_207\\Excellent_37.pdf","Journal Of Petrology, 1998, Volume 39 Number 11-12, Pages 1847–1864","Geochemical And Nd, Pb, And Sr Isotope Data","Pb-207/Pb-206",5019.1598262585785,4807.2212716459053,211.93855461267322,4950.625317828064,14,1,null,null,null,15,"Ex_37"]
[38,"Excellent_38","C:\\Essays\\Geo_Dating\\Lead_206_207\\Excellent_38.pdf","Ore Geology Reviews 31 (2007) Pages 337–359","Isotopic Characteristics Of The Jinding Zn–Pb Deposit","Pb-207/Pb-206",5009.8977197555678,4975.6512848487191,34.246434906848663,5000.5792945471512,40,61,null,null,null,101,"Ex_38"]
[39,"Excellent_39","C:\\Essays\\Geo_Dating\\Lead_206_207\\Excellent_39.pdf","Journal Of Petrology, April 11, 2012, Pages 1-32","Chronology And Geochemistry Of Lavas","Pb-207/Pb-206",4971.0109042015019,4880.6973555813338,90.313548620168149,4919.2120380839042,46,null,null,null,null,46,"Ex_39"]
[39,"Excellent_39","C:\\Essays\\Geo_Dating\\Lead_206_207\\Excellent_39.pdf","Journal Of Petrology, April 11, 2012, Pages 1-32","Chronology And Geochemistry Of Lavas","Pb-206/U-238",9644.5969350275445,1165.5790483329736,8479.0178866945716,3693.8675138152535,null,null,3,null,null,3,"Ex_39"]
[39,"Excellent_39","C:\\Essays\\Geo_Dating\\Lead_206_207\\Excellent_39.pdf","Journal Of Petrology, April 11, 2012, Pages 1-32","Chronology And Geochemistry Of Lavas","Pb-208/Th-232",23849.566758499775,4129.3358820632138,19720.230876436563,8325.0032450240542,null,5,12,3,1,21,"Ex_39"]
[40,{"$f":"(\"Excellent_\" & A52)","v":"Excellent_40"},"C:\\Essays\\Geo_Dating\\Lead_206_207\\Excellent_40.pdf","Geochimica et Cosmochimica Acta, 1956, Volume 10, Pages 230 to 237","Age of meteorites and the earth",null,null,null,null,null,{"$f":"SUM(K45:K51)","v":110},88,15,3,1,217,"Ex_40"]
[41,"Excellent_41","C:\\Essays\\Geo_Dating\\Lead_206_207\\Excellent_41.pdf","Geochemistry, Geophysics And Geosystems, February 14, 2000","Pb Isotopic Evidence",null,null,null,null,null,null,null,null,null,null,null,"Ex_41"]
[42,"Excellent_42","C:\\Essays\\Geo_Dating\\Lead_206_207\\Excellent_42.pdf","Earth and Planetary Science Letters, 2012, Volume 337–338, Pages 164–173","Re–Os Isotopes",null,null,null,null,null,null,null,null,null,null,null,"Ex_42"]
[43,"Excellent_43","C:\\Essays\\Geo_Dating\\Lead_206_207\\Excellent_43.pdf","International Geology Review, Volume 45, 2003, Pages 780–797.","Geochemistry of Lavas from Mauritius",null,null,null,null,null,null,null,null,null,null,null,"Ex_43"]
[44,"Excellent_44","C:\\Essays\\Geo_Dating\\Lead_206_207\\Excellent_44.pdf","Chemical Geology, Volume 277 (2010), Pages 227–244","Isotopic (Sr, Nd, Pb, and Os) composition",null,null,null,null,null,null,null,null,null,null,null,"Ex_44"]
[45,"Excellent_45","C:\\Essays\\Geo_Dating\\Lead_206_207\\Excellent_45.pdf","????????????","Mantle Xenoliths from Eastern Paraguay",null,null,null,null,null,null,null,null,null,null,null,"Ex_45"]
[46,"Excellent_46","C:\\Essays\\Geo_Dating\\Lead_206_207\\Excellent_46.pdf","Earth and Planetary Science Letters, 2011, Volume 302, Pages 154–162","Geochemical portray of the Pacific Ridge",null,null,null,null,null,null,null,null,null,null,null,"Ex_46"]
[47,"Excellent_47","C:\\Essays\\Geo_Dating\\Lead_206_207\\Excellent_47.pdf","Geochemistry, Geophysics And Geosystems, 2005, Volume 6, Number 11","Isotope Anomaly In The Indian Ocean Mantle",null,null,null,null,null,null,null,null,null,null,null,"Ex_47"]
[48,"Excellent_48","C:\\Essays\\Geo_Dating\\Lead_206_207\\Excellent_48.pdf","????????????","The Hadean upper mantle conundrum",null,null,null,null,null,null,null,null,null,null,null,"Ex_48"]
[49,"Excellent_49","C:\\Essays\\Geo_Dating\\Lead_206_207\\Excellent_49.pdf",null,null,null,null,null,null,null,null,null,null,null,null,null,"Ex_49"]
[50,"Excellent_50","C:\\Essays\\Geo_Dating\\Lead_206_207\\Excellent_50.pdf",null,null,null,null,null,null,null,null,null,null,null,null,null,"Ex_50"]
[51,"Excellent_51","C:\\Essays\\Geo_Dating\\Lead_206_207\\Excellent_51.pdf",null,null,null,null,null,null,null,null,null,null,null,null,null,"Ex_51"]
[52,"Excellent_52","C:\\Essays\\Geo_Dating\\Lead_206_207\\Excellent_52.pdf",null,null,null,null,null,null,null,null,null,null,null,null,null,"Ex_52"]
[53,"Excellent_53","C:\\Essays\\Geo_Dating\\Lead_206_207\\Excellent_53.pdf",null,null,null,null,null,null,null,null,null,null,null,null,null,"Ex_53"]
[54,"Excellent_54","C:\\Essays\\Geo_Dating\\Lead_206_207\\Excellent_54.pdf",null,null,null,null,null,null,null,null,null,null,null,null,null,"Ex_54"]
[55,"Excellent_55","C:\\Essays\\Geo_Dating\\Lead_206_207\\Excellent_55.pdf",null,null,null,null,null,null,null,null,null,null,null,null,null,"Ex_55"]
[56,"Excellent_56","C:\\Essays\\Geo_Dating\\Lead_206_207\\Excellent_56.pdf",null,null,null,null,null,null,null,null,null,null,null,null,null,"Ex_56"]
[57,"Excellent_57","C:\\Essays\\Geo_Dating\\Lead_206_207\\Excellent_57.pdf",null,null,null,null,null,null,null,null,null,null,null,null,null,"Ex_57"]
[58,"Excellent_58","C:\\Essays\\Geo_Dating\\Lead_206_207\\Excellent_58.pdf",null,null,null,null,null,null,null,null,null,null,null,null,null,"Ex_58"]
[59,"Excellent_59","C:\\Essays\\Geo_Dating\\Lead_206_207\\Excellent_59.pdf",null,null,null,null,null,null,null,null,null,null,null,null,null,"Ex_59"]
[60,"Excellent_60","C:\\Essays\\Geo_Dating\\Lead_206_207\\Excellent_60.pdf",null,null,null,null,null,null,null,null,null,null,null,null,null,"Ex_60"]

{"sheet":"Exc_01","index":1,"n_rows":41,"n_cols":10,"rows_kept":41,"cut":false,"hidden":false,"merged":[[12,0,12,1]]}
["Location","U (ppm)","Pb (ppm)","206/204","207/204","208/204","206/204e","207/204","207/206","207/206"]
[null,null,null,null,null,null,null,null,"Ratio","Age"]
["3674/5",0.57999999999999996,80.099999999999994,18.097999999999999,15.602,38.17,18.073,15.601000000000001,{"$f":"(H3/G3)","v":0.86322137995905501},{"$f":"[1]!AgePb76($I$3)","v":5029.8039688558092}]
[null,null,null,5,5,9,6,5]
["2674/4",0.04,102.2,18.106000000000002,15.6,38.116,18.103999999999999,15.6,{"$f":"(H5/G5)","v":0.86168802474591255},{"$f":"[1]!AgePb76($I$5)","v":5027.2837340274782}]
[null,null,null,6,7,18,6,7]
["1180IK1",0.18,87.5,18.170000000000002,15.612,38.171999999999997,18.163,15.612,{"$f":"(H7/G7)","v":0.85954963387105654},{"$f":"[1]!AgePb76($I$7)","v":5023.761096745201}]
[null,null,null,6,6,11,6,6]
["2674/2",0.06,104,18.161000000000001,15.62,38.186999999999998,18.158999999999999,15.62,{"$f":"(H9/G9)","v":0.8601795253042569},{"$f":"[1]!AgePb76($I$9)","v":5024.7997021479569}]
[null,null,null,3,3,8,3,3]
["2674/1",0.04,92,18.114999999999998,15.606,38.142000000000003,18.113,15.606,{"$f":"(H11/G11)","v":0.86159112239827751},{"$f":"[1]!AgePb76($I$11)","v":5027.1243046457248}]
[null,null,null,5,6,20,5,6]
["Granite ' Lenzkirch-Steina' :"]
["6676/C",0.28000000000000003,83.5,18.198,15.619,38.249000000000002,18.187000000000001,15.618,{"$f":"(H14/G14)","v":0.85874525760158349},{"$f":"[1]!AgePb76($I$14)","v":5022.4336141001504}]
[null,null,null,5,4,11,5,4]
["Megacryst core",0.37,77.400000000000006,18.234999999999999,15.638999999999999,38.320999999999998,18.218,15.638,{"$f":"(H16/G16)","v":0.85838182017784603},{"$f":"[1]!AgePb76($I$16)","v":5021.8333909990461}]
[null,null,null,4,3,9,5,3]
["Megacryst rim",0.19,74,18.222999999999999,15.638999999999999,38.316000000000003,18.213999999999999,15.638,{"$f":"(H18/G18)","v":0.85857033051498854},{"$f":"[1]!AgePb76($I$18)","v":5022.1447527078735}]
[null,null,null,5,4,19,5,4]
["Granite Albtal' :"]
["1180ATV"]
["Ground mass",0.1,94.4,18.193999999999999,15.635,38.298999999999999,18.190999999999999,15.635,{"$f":"(H22/G22)","v":0.85949095706668133},{"$f":"[1]!AgePb76($I$22)","v":5023.6643055258892}]
[null,null,null,4,4,12,4,4]
["Megacryst core",0.09,80.5,18.196000000000002,15.621,38.249000000000002,18.192,15.621,{"$f":"(H24/G24)","v":0.85867414248021112},{"$f":"[1]!AgePb76($I$24)","v":5022.3161874914967}]
[null,null,null,5,7,20,5,7]
["Megacryst rim",0.09,78.8,18.2,15.631,38.283999999999999,18.196000000000002,15.631,{"$f":"(H26/G26)","v":0.85903495273686514},{"$f":"[1]!AgePb76($I$26)","v":5022.9118574144759}]
[null,null,null,3,5,11,3,5]
["Granite ' Schluchsee' :"]
["19878/B",0.11,85.2,18.149000000000001,15.62,38.213999999999999,18.145,15.62,{"$f":"(H29/G29)","v":0.86084320749517773},{"$f":"[1]!AgePb76($I$29)","v":5025.8931506924828}]
[null,null,null,5,5,15,5,5]
["Granite `Bdrhalde':"]
["21778/C",0.37,64.8,18.234000000000002,15.632,38.249000000000002,18.216000000000001,15.631,{"$f":"(H32/G32)","v":0.85809178743961345},{"$f":"[1]!AgePb76($I$32)","v":5021.3542033738631}]
[null,null,null,6,6,14,7,6]
["Diatexites:"]
["S 235",0.02,75.5,17.928000000000001,15.569000000000001,38.177,17.927,15.569000000000001,{"$f":"(H35/G35)","v":0.86846655882188883},{"$f":"[1]!AgePb76($I$35)","v":5038.3891951634678}]
[null,null,null,2,2,5,2,2]
["S 239-B",2.5000000000000001E-2,85.4,18.116,15.614000000000001,38.109000000000002,18.114999999999998,15.614000000000001,{"$f":"(H37/G37)","v":0.86193762075627944},{"$f":"[1]!AgePb76($I$37)","v":5027.6942962738403}]
[null,null,null,5,5,10,5,5]
["Orthogneiss:"]
["S 262-A",3.5999999999999997E-2,76.5,17.940999999999999,15.567,38.070999999999998,17.939,15.567,{"$f":"(H40/G40)","v":0.86777412341825078},{"$f":"[1]!AgePb76($I$40)","v":5037.2589857204766}]
[null,null,null,null,null,null,null,null,null,{"$f":"COUNT(J1:J40)","v":16}]

{"sheet":"Exc_02","index":2,"n_rows":17,"n_cols":13,"rows_kept":17,"cut":false,"hidden":false,"merged":[]}
[null,null,null,null,null,null,null,null,"Pb206/Pb204","Pb207/Pb204","Pb207/Pb206","Pb207/Pb206"]
[null,null,null,null,null,null,null,null,"Ratio","Ratio","Ratio","Age"]
["Dobu Island",null,null,null,0.70298899999999998,"± 10","0.513053 ± 11",3.53,18.521999999999998,15.542999999999999,{"$f":"(J3/I3)","v":0.83916423712342081},{"$f":"[1]!AgePb76($K$3)","v":4989.7047954819063},38.31]
["33703 (Basalt)",null,null,null,0.70298899999999998,"± 10","0.513053 ± 11",3.53,18.521999999999998,15.542999999999999,{"$f":"(J4/I4)","v":0.83916423712342081},{"$f":"[1]!AgePb76($K$4)","v":4989.7047954819063},38.31]
["33704 (Basalt)",19.12,496.4,0.1114,0.70313400000000004,"± 8","0.513018 ± 10",2.75,18.594000000000001,15.58,0.8379047004410024,{"$f":"[1]!AgePb76($K$5)","v":4987.5718373550408},38.44]
["33706 (Basalt)",9.6999999999999993,391.1,7.17E-2,0.703009,"± 10","0.513045 ± 12",3,18.619,15.595000000000001,0.83758526236639996,{"$f":"[1]!AgePb76($K$6)","v":4987.0303444541642},38.51]
["33707 (Hawaiite)",21.96,409.6,0.155,0.70315700000000003,"± 10","0.512984 ± 18",9.19,18.597999999999999,15.585000000000001,0.83799333261641051,{"$f":"[1]!AgePb76($K$7)","v":4987.7220426063859},38.450000000000003]
["33709 (Hawaiite)",24.45,356.6,0.1983,0.70343699999999998,"± 12","0.513001 ± 11",10.35,18.657,15.613,0.83684407996998444,{"$f":"[1]!AgePb76($K$8)","v":4985.7730893239495},38.590000000000003]
["33710 (Trachyte)",57.07,159,1.0382,0.70367599999999997,"± 10","0.512989 ± 11",11.68,18.619,15.581,0.83683334228476292,{"$f":"[1]!AgePb76($K$9)","v":4985.7548664768519},38.49]
["33711 (Trachyte)",40.590000000000003,156,0.72560000000000002,0.70362800000000003,"± 12","0.512987 ± 20",null,null,null,0]
["33731 (Comendite)",131.69999999999999,3.82,99.68,0.70584999999999998,"± 58","0.513034 ± 20",23.7,18.658999999999999,15.619,0.83707594190471091,{"$f":"[1]!AgePb76($K$11)","v":4986.1665199246409},38.619999999999997]
["33743 (Comendite)",189.2,1.81,302.3,0.70462999999999998,"± 30","0.513027 ± 16",45.61,18.619,15.569000000000001,0.83618883935764543,{"$f":"[1]!AgePb76($K$12)","v":4984.6606300142048},38.47]
["Kukuia Peninsula",126.8,237.9,1.5409999999999999,0.70402799999999999,"± 14","0.512919 ± 17",19.57,18.632000000000001,15.595000000000001,0.83700085873765562,{"$f":"[1]!AgePb76($K$13)","v":4986.0391291314054},38.53]
["33677 (Rhyolite)",null,null,null,null,null,null,null,null,null,0]
["33682 (Rhyolite)",123.8,74.78,4.7869999999999999,0.70386400000000005,"± 10","0.512867 ± 13",22.68,18.661000000000001,15.631,0.83762928031723916,{"$f":"[1]!AgePb76($K$15)","v":4987.1049741659726},38.630000000000003]
["33685 (Rhyolite)",140.80000000000001,69.540000000000006,6.0259999999999998,0.703901,"± 10","0.512923 ± 15",null,null,null,0]
["33687 (Rhyolite)",140.5,66.37,6.1230000000000002,0.70401100000000005,"± 8","0.512921 ± 25",22.99,18.626999999999999,15.59,0.83695710527728573,{"$f":"[1]!AgePb76($K$17)","v":4985.9648886765845},38.51]

{"sheet":"Exc_03","index":3,"n_rows":8,"n_cols":7,"rows_kept":8,"cut":false,"hidden":false,"merged":[]}
["Sample","Pb206/Pb204","Pb207/Pb204","Pb207/Pb206","Pb207/Pb206",null,"Table 2. "]
["Name","Ratio","Ratio","Ratio","Age"]
["SE6",18.632000000000001,15.611000000000001,{"$f":"(C3/B3)","v":0.83785959639330176},{"$f":"[1]!AgePb76($D$3)","v":4987.4953928892046}]
["SE31",19.149000000000001,15.635,{"$f":"(C4/B4)","v":0.81649172280536841},{"$f":"[1]!AgePb76($D$4)","v":4950.779474808709}]
["PH-i",19.298999999999999,15.611000000000001,0.8089020156484793,{"$f":"[1]!AgePb76($D$5)","v":4937.4917976512097}]
["31-219",19.786000000000001,15.65,0.79096330738906295,{"$f":"[1]!AgePb76($D$6)","v":4905.5509824357587}]
["7-320",19.797999999999998,15.651999999999999,0.79058490756642086,{"$f":"[1]!AgePb76($D$7)","v":4904.8689453281722}]
["43-49",19.773,15.638,0.79087644768118137,{"$f":"[1]!AgePb76($D$8)","v":4905.3944550892502}]

{"sheet":"Exc_04","index":4,"n_rows":31,"n_cols":11,"rows_kept":31,"cut":false,"hidden":false,"merged":[]}
[null,null,null,"Pb206/Pb204",null,"Pb207/Pb204","Pb207/Pb206","Pb207/Pb206","Table 1. "]
[null,null,null,"Ratio",null,"Ratio","Ratio","Age"]
["Kabwe","2012-06-05","880/72",17.992000000000001,1E-3,15.707000000000001,{"$f":"(F3/D3)","v":0.87299911071587377},{"$f":"[1]!AgePb76($G$3)","v":5045.763795617906},"‹",5.0000000000000001E-3]
["Kabwe","2012-06-05","910/12",17.978000000000002,1E-3,15.688000000000001,{"$f":"(F4/D4)","v":0.87262209367004107},{"$f":"[1]!AgePb76($G$4)","v":5045.1519284686401},"‹",2E-3]
["Kabwe","2012-06-05","910cd13",17.983000000000001,1E-3,15.694000000000001,0.87271311794472561,{"$f":"[1]!AgePb76($G$5)","v":5045.2996789430199},"‹",1E-3]
["Kabwe","2012-06-05","910cd14",18,3.0000000000000001E-3,15.718999999999999,0.87327777777777771,{"$f":"[1]!AgePb76($G$6)","v":5046.2158687617766},"‹",1.2E-2]
["Kabwe",1,"910/1",18.006,2E-3,15.726000000000001,0.87337554148617136,{"$f":"[1]!AgePb76($G$7)","v":5046.3744315952545},"‹",7.0000000000000001E-3]
["Kabwe",1,"910/2",18.007000000000001,1E-3,15.728,0.87343810740267669,{"$f":"[1]!AgePb76($G$8)","v":5046.475897291436},"‹",5.0000000000000001E-3]
["Kabwe",1,"910/5",18.003,1E-3,15.723000000000001,0.87335444092651227,{"$f":"[1]!AgePb76($G$9)","v":5046.3402102185182},"‹",2E-3]
["Kabwe","2012-04-03",302,18.003,1E-3,15.72,0.87318780203299451,{"$f":"[1]!AgePb76($G$10)","v":5046.0699205695164},"‹",4.0000000000000001E-3]
["Kabwe","2012-04-03",312,18.007999999999999,2E-3,15.723000000000001,0.87311195024433597,{"$f":"[1]!AgePb76($G$11)","v":5045.946870218294},"‹",7.0000000000000001E-3]
["Kabwe","2012-04-03",313,18.007000000000001,3.0000000000000001E-3,15.723000000000001,0.87316043760759698,{"$f":"[1]!AgePb76($G$12)","v":5046.0255300152139},"‹",1.6E-2]
["Kabwe","2012-04-03",315,17.983000000000001,2E-3,15.692,0.87260190179614083,{"$f":"[1]!AgePb76($G$13)","v":5045.1191508309239},"‹",5.0000000000000001E-3]
["Tsumeb","28/T1",null,18.103999999999999,2E-3,15.669,0.86549933716305794,{"$f":"[1]!AgePb76($G$14)","v":5033.5392767141775},38.256999999999998,"‹",3.0000000000000001E-3]
["Tsumeb","28/T2",null,18.094000000000001,1E-3,15.670999999999999,0.86608820603514969,{"$f":"[1]!AgePb76($G$15)","v":5034.5031841129767},38.247999999999998,"‹",3.0000000000000001E-3]
["Tsumeb","28/T3",null,18.143999999999998,1E-3,15.688000000000001,0.86463844797178147,{"$f":"[1]!AgePb76($G$16)","v":5032.1288513268482},38.344999999999999,"‹",4.0000000000000001E-3]
["Tsumeb","28/T4",null,18.103999999999999,4.0000000000000001E-3,15.667,0.86538886433937257,{"$f":"[1]!AgePb76($G$17)","v":5033.3583684645228},38.255000000000003,"‹",8.9999999999999993E-3]
["Kipushi","K1",null,18.010000000000002,null,15.6,0.86618545252637413,{"$f":"[1]!AgePb76($G$18)","v":5034.6622979747754}]
["Kipushi","K2",null,18.05,null,15.6,0.8642659279778393,{"$f":"[1]!AgePb76($G$19)","v":5031.5180764266297}]
["Kipushi","K3",null,18.100000000000001,null,15.61,0.86243093922651926,{"$f":"[1]!AgePb76($G$20)","v":5028.5053882028988}]
[]
[]
[]
[null,"Pb206/Pb204","Pb207/Pb204","Pb207/Pb206","Pb207/Pb206"]
[null,"Ratio","Ratio","Ratio","Age"]
["KD203",18.013999999999999,15.722,{"$f":"(C26/B26)","v":0.87276562673476188},{"$f":"[1]!AgePb76($D$26)","v":5045.3849036992397},0.09,null,null,"Table 2. "]
["KD272",17.998000000000001,15.686,0.87154128236470718,{"$f":"[1]!AgePb76($D$27)","v":5043.3963059584503},0.14000000000000001]
["KD294",18.016999999999999,15.71,0.87195426541599608,{"$f":"[1]!AgePb76($D$28)","v":5044.0674101363038},0.2]
["KD400",18.001999999999999,15.7,0.87212531940895455,{"$f":"[1]!AgePb76($D$29)","v":5044.3452768726165},0.3]
["KD405",17.998000000000001,15.701000000000001,0.87237470830092234,{"$f":"[1]!AgePb76($D$30)","v":5044.7502902422684},1.49]
["KD411",17.981999999999999,15.705,0.8733733733733734,{"$f":"[1]!AgePb76($D$31)","v":5046.3709153401105},4.3099999999999996]

{"sheet":"Exc_05","index":5,"n_rows":6,"n_cols":5,"rows_kept":6,"cut":false,"hidden":false,"merged":[]}
[]
[]
["Pb206/Pb204","Pb207/Pb204","Pb207/Pb206","Pb207/Pb206","Table 4. "]
["Ratio","Ratio","Ratio","Age"]
[15.57,15.57,{"$f":"(B5/A5)","v":1},{"$f":"[1]!AgePb76($C$5)","v":5237.3724072839759}]
[17.48,15.47,{"$f":"(B6/A6)","v":0.88501144164759726},{"$f":"[1]!AgePb76($C$6)","v":5065.1133887031083}]

{"sheet":"Exc_06","index":6,"n_rows":17,"n_cols":8,"rows_kept":17,"cut":false,"hidden":false,"merged":[]}
["Sample","Pb206/Pb204",null,"Pb207/Pb204",null,"Pb207/Pb206","Pb207/Pb206","TABLE II"]
["Name","Ratio",null,"Ratio",null,"Ratio","Age"]
["Kao 3",19.97,0.04,15.7,0.04,{"$f":"(D3/B3)","v":0.78617926890335499},{"$f":"[1]!AgePb76($F$3)","v":4896.9024404789998}]
["Kao 4",23.06,0.42,15.91,0.06,{"$f":"(D4/B4)","v":0.68993928881179534},{"$f":"[1]!AgePb76($F$4)","v":4709.9059449588112}]
["Jag-K4 (Jagersfontein)",19.18,0.02,15.61,0.02,0.81386861313868608,{"$f":"[1]!AgePb76($F$5)","v":4946.2019761330512}]
["Jag-K7 (Jagersfontein)",19.28,0.01,15.54,0.01,0.80601659751037336,{"$f":"[1]!AgePb76($F$6)","v":4932.4053271656167}]
["Jag-K9 (Jagersfontein)",26.05,0.02,15.9,0.01,0.61036468330134352,{"$f":"[1]!AgePb76($F$7)","v":4532.867189857895}]
["Jag-K/ 0 (Jagersfontein)",19.5,0.03,15.56,0.02,0.79794871794871802,{"$f":"[1]!AgePb76($F$8)","v":4918.0796463524857}]
["NE-K2 (New Elands)",17.407,8.9999999999999993E-3,15.493,8.0000000000000002E-3,0.89004423507784225,{"$f":"[1]!AgePb76($F$9)","v":5073.1375950091424}]
["NE-K4 (New Elands)",17.478999999999999,4.0000000000000001E-3,15.481999999999999,4.0000000000000001E-3,0.88574861262085935,{"$f":"[1]!AgePb76($F$10)","v":5066.2917435228874}]
["NE-K6 (New_Elands)",17.382999999999999,6.0000000000000001E-3,15.475,5.0000000000000001E-3,0.89023758844848422,{"$f":"[1]!AgePb76($F$11)","v":5073.444913907505}]
["NE-K10 (New Elands)",17.36,0.01,15.48,0.01,0.89170506912442404,{"$f":"[1]!AgePb76($F$12)","v":5075.7750459336139}]
["SW Main 15/0 ",17.864999999999998,1.4999999999999999E-2,15.631,1.2999999999999999E-2,0.87495102155051785,{"$f":"[1]!AgePb76($F$13)","v":5048.9271064199747}]
["SW Male 14/1",17.986000000000001,8.9999999999999993E-3,15.541,8.0000000000000002E-3,0.86406093628377623,{"$f":"[1]!AgePb76($F$14)","v":5031.1818577206786}]
["Finsch D",17.87,0.02,15.52,0.03,0.86849468382764405,{"$f":"[1]!AgePb76($F$15)","v":5038.4350812481962}]
["Finsch E",17.881,1.2E-2,15.506,1.4999999999999999E-2,0.86717745092556342,{"$f":"[1]!AgePb76($F$16)","v":5036.2843147099347}]
["Finsch B",17.98,0.03,15.54,0.02,0.86429365962180194,{"$f":"[1]!AgePb76($F$17)","v":5031.5635541953934}]

{"sheet":"Exc_07","index":7,"n_rows":118,"n_cols":23,"rows_kept":118,"cut":false,"hidden":false,"merged":[[58,0,58,2],[100,0,100,2],[38,13,38,14],[40,0,40,2],[38,0,39,0],[38,5,39,5],[38,6,39,6],[38,11,38,12]]}
[]
[]
[null,"207/204Pb","206/204Pb","Pb207/Pb206","Pb207/Pb206","Table 1"]
[null,"Ratio","Ratio","Ratio","Age"]
[null,15.574999999999999,17.914000000000001,{"$f":"(B5/C5)","v":0.86943172937367408},{"$f":"[1]!AgePb76($D$5)","v":5039.9629747114468}]
[null,15.548,17.879000000000001,{"$f":"(B6/C6)","v":0.8696235807371776},{"$f":"[1]!AgePb76($D$6)","v":5040.2755811437337}]
[null,15.32,16.667999999999999,0.91912646988240942,{"$f":"[1]!AgePb76($D$7)","v":5118.5834523105741}]
[null,15.522,17.803000000000001,0.87187552659664103,{"$f":"[1]!AgePb76($D$8)","v":5043.9394843027967}]
[null,15.494999999999999,17.678999999999998,0.87646360088240283,{"$f":"[1]!AgePb76($D$9)","v":5051.3732811441905}]
[null,15.523999999999999,17.815999999999999,0.87135159407274365,{"$f":"[1]!AgePb76($D$10)","v":5043.0879462855683}]
[null,15.587,17.864999999999998,0.87248810523369724,{"$f":"[1]!AgePb76($D$11)","v":5044.9344088678781}]
[null,15.395,17.138000000000002,0.89829618391877686,{"$f":"[1]!AgePb76($D$12)","v":5086.1908061920885}]
[null,15.561,17.744,0.87697249774571684,{"$f":"[1]!AgePb76($D$13)","v":5052.1952728048427}]
[null,15.468999999999999,17.375,0.89030215827338122,{"$f":"[1]!AgePb76($D$14)","v":5073.5475264389406}]
[null,15.276999999999999,16.446000000000002,0.92891888605131934,{"$f":"[1]!AgePb76($D$15)","v":5133.5435663979906}]
[null,15.339,16.395,0.93559011893870092,{"$f":"[1]!AgePb76($D$16)","v":5143.6400137994651}]
[null,15.183,16.158000000000001,0.93965837356108417,{"$f":"[1]!AgePb76($D$17)","v":5149.7596799567345}]
[null,15.494,17.367999999999999,0.89210041455550448,{"$f":"[1]!AgePb76($D$18)","v":5076.4020978899089}]
[null,15.44,17.253,0.89491682605923606,{"$f":"[1]!AgePb76($D$19)","v":5080.8606598558617}]
[]
[]
[]
[]
[]
[]
[]
[]
[]
[]
[]
[]
[]
[]
[]
[]
[]
["Table 3"]
["Summary of zircon U–Th–Pb isotopic analyses",null,null,"Table 3"]
["Spots","Th","U","Pb","Th/U","Common\n206Pb (%)","204Pb/ 206Pb","207Pb/206Pb","207Pb/206Pb","207Pb/235U","207Pb/235U","206Pb/238U",null,"208Pb/232Th",null,"207Pb/206Pb",null,"207Pb/235U",null,"206Pb/238U",null,"208Pb/232Th"]
[null,"(ppm)",null,null,null,null,null,"Ratio","Age","Ratio","Age","Ratio","1a","Ratio","1a","Age","1a","Age","1a","Age","1a","Age","1a"]
["DMP-315 (LA-ICP-MS)"]
[5,156,145,5.77,1.08,0.77,1.0999999999999999E-2,8.4000000000000005E-2,{"$f":"[1]!AgePb76($H$42)","v":1292.5530298834781},0.26600000000000001,{"$f":"[1]!AgePb7U5(J42)","v":239.49060640908206},2.3E-2,1E-3,7.0000000000000001E-3,0,1299,177,240,26,146,5,144,8]
["6a",317,235,8.39,1.35,6.25,1.0999999999999999E-2,7.3999999999999996E-2,{"$f":"[1]!AgePb76($H$43)","v":1041.4675277520432},0.20799999999999999,{"$f":"[1]!AgePb7U5(J43)","v":191.87297508516338},2.1000000000000001E-2,1E-3,6.0000000000000001E-3,0,1034,406,192,32,131,4,125,3]
["7a",209,236,13.6,0.89,16.100000000000001,2.3E-2,9.2999999999999999E-2,{"$f":"[1]!AgePb76($H$44)","v":1487.8875016221064},0.25900000000000001,{"$f":"[1]!AgePb7U5(J44)","v":233.86074535432809},0.02,1E-3,6.0000000000000001E-3,0,1478,442,234,43,129,5,120,4]
["8a",153,137,7.07,1.1200000000000001,18.5,2.8000000000000001E-2,6.6000000000000003E-2,{"$f":"[1]!AgePb76($H$45)","v":806.37570116184168},0.19400000000000001,{"$f":"[1]!AgePb7U5(J45)","v":180.03656899061815},2.1000000000000001E-2,1E-3,7.0000000000000001E-3,0,809,651,180,52,136,6,131,6]
["9a",145,330,13.4,0.44,5.34,1.2E-2,7.3999999999999996E-2,{"$f":"[1]!AgePb76($H$46)","v":1041.4675277520432},0.28999999999999998,{"$f":"[1]!AgePb7U5(J46)","v":258.55939318026174},2.8000000000000001E-2,1E-3,8.9999999999999993E-3,0,1040,296,259,31,181,5,173,4]
[11,227,225,8.0500000000000007,1.01,null,1.4E-2,0.1,{"$f":"[1]!AgePb76($H$47)","v":1624.083156511595},0.29199999999999998,{"$f":"[1]!AgePb7U5(J47)","v":260.13241139301431},2.1000000000000001E-2,1E-3,1.4E-2,1E-3,1626,88,260,15,135,3,272,12]
[12,132,137,4.1900000000000004,0.96,null,1.2E-2,5.2999999999999999E-2,{"$f":"[1]!AgePb76($H$48)","v":328.79678831034431},0.153,{"$f":"[1]!AgePb7U5(J48)","v":144.55728414166828},2.1000000000000001E-2,1E-3,6.0000000000000001E-3,0,320,235,144,18,134,4,130,7]
["13a",352,234,13.3,1.5,24.2,1.7000000000000001E-2,8.3000000000000004E-2,{"$f":"[1]!AgePb76($H$49)","v":1269.2158280898509},0.22600000000000001,{"$f":"[1]!AgePb7U5(J49)","v":206.89123979694332},0.02,1E-3,6.0000000000000001E-3,0,1260,566,207,48,127,5,119,3]
[14,155,160,4.79,0.97,null,4.0000000000000001E-3,4.4999999999999998E-2,{"$f":"[1]!AgePb76($H$50)","v":-55.655118772438385},0.13600000000000001,{"$f":"[1]!AgePb7U5(J50)","v":129.47486449607524},2.1999999999999999E-2,1E-3,6.0000000000000001E-3,0,null,221,129,18,139,5,121,7]
["15a",220,222,17.5,0.99,40.200000000000003,2.1999999999999999E-2,4.5999999999999999E-2,{"$f":"[1]!AgePb76($H$51)","v":-2.3826360927936632},0.11700000000000001,{"$f":"[1]!AgePb7U5(J51)","v":112.34860139824708},1.7999999999999999E-2,1E-3,6.0000000000000001E-3,1E-3,null,927,112,59,118,6,125,25]
["17a",384,1870,91.2,0.21,25.6,0.02,8.5999999999999993E-2,{"$f":"[1]!AgePb76($H$52)","v":1338.1827085168666},0.21199999999999999,{"$f":"[1]!AgePb7U5(J52)","v":195.22961633459175},1.7999999999999999E-2,1E-3,5.0000000000000001E-3,1E-3,1329,552,195,44,115,5,107,15]
[18,113,138,4.49,0.82,null,5.0000000000000001E-3,5.5E-2,{"$f":"[1]!AgePb76($H$53)","v":412.22310422703578},0.185,{"$f":"[1]!AgePb7U5(J53)","v":172.35393672853181},2.5000000000000001E-2,1E-3,6.0000000000000001E-3,0,397,190,173,17,157,4,129,7]
[19,110,162,5.09,0.68,0.12,1.2999999999999999E-2,7.0000000000000007E-2,{"$f":"[1]!AgePb76($H$54)","v":928.35311035525592},0.20799999999999999,{"$f":"[1]!AgePb7U5(J54)","v":191.87297508516338},2.1999999999999999E-2,1E-3,7.0000000000000001E-3,0,918,122,192,14,138,3,134,4]
["20a",171,270,10.7,0.63,13.2,1.4E-2,6.3E-2,{"$f":"[1]!AgePb76($H$55)","v":708.23070884661774},0.182,{"$f":"[1]!AgePb7U5(J55)","v":169.78008730660142},2.1000000000000001E-2,1E-3,6.0000000000000001E-3,0,711,515,170,38,134,5,130,6]
["21a",120,130,20.2,0.92,42,4.2999999999999997E-2,4.5999999999999999E-2,{"$f":"[1]!AgePb76($H$56)","v":-2.3826360927936632},0.111,{"$f":"[1]!AgePb7U5(J56)","v":106.87973869877945},1.7999999999999999E-2,1E-3,0.01,2E-3,null,352,107,21,112,5,195,50]
["23a",210,186,36.799999999999997,1.1299999999999999,68.7,3.6999999999999998E-2,7.8E-2,{"$f":"[1]!AgePb76($H$57)","v":1146.8732235692996},0.23,{"$f":"[1]!AgePb7U5(J57)","v":210.19867937688593},2.1000000000000001E-2,2E-3,6.0000000000000001E-3,2E-3,1148,1454,210,163,136,12,129,34]
["24a",173,160,12.4,1.08,41.3,2.4E-2,4.5999999999999999E-2,{"$f":"[1]!AgePb76($H$58)","v":-2.3826360927936632},0.108,{"$f":"[1]!AgePb7U5(J58)","v":104.13422178513697},1.7000000000000001E-2,1E-3,5.0000000000000001E-3,1E-3,null,986,104,61,109,5,110,21]
["DMP-315 (SHRIMP)b",null,null,null,null,null,null,null,null,null,{"$f":"[1]!AgePb7U5(J59)","v":0}]
["4.1-rim",325,974,20.8,0.33,0.21,0,5.0999999999999997E-2,{"$f":"[1]!AgePb76($H$60)","v":240.82988143504966},0.16700000000000001,{"$f":"[1]!AgePb7U5(J60)","v":156.81205595209317},2.5000000000000001E-2,1E-3,null,null,142,57,null,null,158,4,157,6]
["5.1-rim",96.5,173,2.4,0.56000000000000005,1.72,3.0000000000000001E-3,6.3E-2,{"$f":"[1]!AgePb76($H$61)","v":708.23070884661774},0.05,{"$f":"[1]!AgePb7U5(J61)","v":49.540705863260442},1.4999999999999999E-2,1E-3,null,null,null,null,null,null,97,4,64,24]
["5.2-core",599,505,6.59,1.19,0.71,null,5.1999999999999998E-2,{"$f":"[1]!AgePb76($H$62)","v":285.4098980202682},0.11,{"$f":"[1]!AgePb7U5(J62)","v":105.96539099786044},1.4999999999999999E-2,0,null,null,331,87,null,null,96.6,3,100,3]
["7.1-rim",182,254,3.84,0.72,1.71,1E-3,5.2999999999999999E-2,{"$f":"[1]!AgePb76($H$63)","v":328.79678831034431},9.8000000000000004E-2,{"$f":"[1]!AgePb7U5(J63)","v":94.928510014051852},1.7000000000000001E-2,0,null,null,null,null,null,null,109,3,112,6]
["8.1-rim",188,251,3.55,0.75,0.44,0,5.0999999999999997E-2,{"$f":"[1]!AgePb76($H$64)","v":240.82988143504966},0.10199999999999999,{"$f":"[1]!AgePb7U5(J64)","v":98.620816094555337},1.6E-2,0,null,null,null,null,null,null,104,3,102,6]
["14.1-rim",574,386,6.63,1.48,1.68,1E-3,5.6000000000000001E-2,{"$f":"[1]!AgePb76($H$65)","v":452.36845225238858},0.124,{"$f":"[1]!AgePb7U5(J65)","v":118.69193427577746},1.9E-2,1E-3,null,null,21,180,null,null,124,3,126,4]
["15.1-rim",335,278,4.8099999999999996,1.21,0.36,0,4.8000000000000001E-2,{"$f":"[1]!AgePb76($H$66)","v":99.269113745120706},0.125,{"$f":"[1]!AgePb7U5(J66)","v":119.59489836663802},0.02,1E-3,null,null,null,null,null,null,128,4,128,6]
["1.1-core",82,1819,56.8,0.05,0.14000000000000001,0,5.1999999999999998E-2,{"$f":"[1]!AgePb76($H$67)","v":285.4098980202682},0.25,{"$f":"[1]!AgePb7U5(J67)","v":226.5761804479969},3.5999999999999997E-2,1E-3,null,null,202,37,null,null,229,5,216,23]
["6.1-core",810,733,22.5,1.1100000000000001,0.15,1E-3,5.8999999999999997E-2,{"$f":"[1]!AgePb76($H$68)","v":567.09604422188295},0.224,{"$f":"[1]!AgePb7U5(J68)","v":205.23347117848843},3.5000000000000003E-2,1E-3,null,null,3,170,null,null,223,6,208,8]
["11.1-core",2306,1831,56.5,1.26,0.11,0,5.0999999999999997E-2,{"$f":"[1]!AgePb76($H$69)","v":240.82988143504966},0.23899999999999999,{"$f":"[1]!AgePb7U5(J69)","v":217.60126176271035},3.5999999999999997E-2,1E-3,null,null,123,52,null,null,226,5,224,6]
["12.1-rim",64.599999999999994,134,4.5999999999999996,0.48,1.1100000000000001,1E-3,0.05,{"$f":"[1]!AgePb76($H$70)","v":194.99313028453997},0.185,{"$f":"[1]!AgePb7U5(J70)","v":172.35393672853181},3.9E-2,1E-3,null,null,null,null,null,null,244,8,220,15]
["13.1-core",325,804,24.7,0.4,0.32,0,5.3999999999999999E-2,{"$f":"[1]!AgePb76($H$71)","v":371.04957200069128},0.24199999999999999,{"$f":"[1]!AgePb7U5(J71)","v":220.05684470862266},3.5000000000000003E-2,1E-3,null,null,176,82,null,null,225,5,219,9]
["2.1-core",113,213,12.8,0.53,2.5499999999999998,1E-3,7.1999999999999995E-2,{"$f":"[1]!AgePb76($H$72)","v":985.94052790944033},0.51,{"$f":"[1]!AgePb7U5(J72)","v":418.44915553316036},6.7000000000000004E-2,2E-3,null,null,422,250,null,null,418,11,440,41]
["10.2-rim",74.2,125,7.5,0.59,0.4,1E-3,0.06,{"$f":"[1]!AgePb76($H$73)","v":603.57458941479069},0.48099999999999998,{"$f":"[1]!AgePb7U5(J73)","v":398.7587300458564},6.9000000000000006E-2,2E-3,null,null,237,220,null,null,427,11,395,29]
["3.1-rim",42.4,359,103,0.12,null,0,0.113,{"$f":"[1]!AgePb76($H$74)","v":1848.2136426313393},5.17,{"$f":"[1]!AgePb7U5(J74)","v":1847.6913620523901},0.33300000000000002,8.0000000000000002E-3,null,null,1844,13,null,null,1851,39,1699,76]
["9.1-core",6.7,20.3,8.33,0.33,0.64,1E-3,0.17499999999999999,{"$f":"[1]!AgePb76($H$75)","v":2606.0461321624289},10.92,{"$f":"[1]!AgePb7U5(J75)","v":2516.3402159082129},0.47099999999999997,1.6E-2,null,null,2541,54,null,null,2487,70,2440,260]
["10.1-core",436,991,489,0.44,null,0,0.24099999999999999,{"$f":"[1]!AgePb76($H$76)","v":3126.585342412001},19.059999999999999,{"$f":"[1]!AgePb7U5(J76)","v":3044.8573717152758},0.57499999999999996,1.7000000000000001E-2,null,null,3123,4,null,null,2927,71,2778,220]
[]
[]
[null,null,null,null,null,null,null,"207Pb/206Pb","207Pb/206Pb",null,null,null,null,null,null,"207Pb/206Pb"]
["DMP-06 (LA-ICP-MS)",null,null,null,null,null,null,"Ratio","Age",null,null,null,null,null,null,"Age"]
[17,24.3,30.9,0.66,0.79,null,1.7999999999999999E-2,4.3999999999999997E-2,{"$f":"[1]!AgePb76($H$81)","v":-110.69418927745281},9.2999999999999999E-2,{"$f":"[1]!AgePb7U5(J81)","v":90.294165806367957},1.4999999999999999E-2,1E-3,5.0000000000000001E-3,1E-3,null,null,90,70,98,8,109,24]
["23a",79.3,51.3,1.45,1.55,9.25,1.4E-2,5.1999999999999998E-2,{"$f":"[1]!AgePb76($H$82)","v":285.4098980202682},0.10199999999999999,{"$f":"[1]!AgePb7U5(J82)","v":98.620816094555337},1.4E-2,1E-3,4.0000000000000001E-3,0,283,877,99,46,91,6,90,8]
[14,27.3,27,0.52,1.01,null,0.04,4.3999999999999997E-2,{"$f":"[1]!AgePb76($H$83)","v":-110.69418927745281},9.6000000000000002E-2,{"$f":"[1]!AgePb7U5(J83)","v":93.077309768821507},1.6E-2,2E-3,4.0000000000000001E-3,1E-3,null,null,93,69,102,13,89,25]
["15a",36.5,32.200000000000003,0.97,1.1399999999999999,14.6,3.5000000000000003E-2,7.9000000000000001E-2,{"$f":"[1]!AgePb76($H$84)","v":1172.1349086572129},0.15,{"$f":"[1]!AgePb7U5(J84)","v":141.91190777799525},1.4E-2,2E-3,4.0000000000000001E-3,1E-3,1160,1310,142,97,89,10,84,16]
[11,53,41.5,1.07,1.28,null,5.0000000000000001E-3,0.05,{"$f":"[1]!AgePb76($H$85)","v":194.99313028453997},0.114,{"$f":"[1]!AgePb7U5(J85)","v":109.61785196232154},1.7000000000000001E-2,1E-3,6.0000000000000001E-3,1E-3,189,696,109,48,106,7,121,13]
[13,23.4,29.7,0.75,0.79,null,0,9.6000000000000002E-2,{"$f":"[1]!AgePb76($H$86)","v":1547.7722104963741},0.23,{"$f":"[1]!AgePb7U5(J86)","v":210.19867937688593},1.7000000000000001E-2,1E-3,7.0000000000000001E-3,1E-3,1554,518,210,58,111,9,150,22]
[25,48.3,34.9,0.97,1.39,null,1.7000000000000001E-2,5.5E-2,{"$f":"[1]!AgePb76($H$87)","v":412.22310422703578},0.13200000000000001,{"$f":"[1]!AgePb7U5(J87)","v":125.89326271106391},1.7999999999999999E-2,1E-3,6.0000000000000001E-3,1E-3,403,861,126,63,112,9,128,16]
[5,42.5,35.700000000000003,1.04,1.19,null,5.7000000000000002E-2,7.2999999999999995E-2,{"$f":"[1]!AgePb76($H$88)","v":1013.9527306527029},0.193,{"$f":"[1]!AgePb7U5(J88)","v":179.18580810862477},1.9E-2,2E-3,6.0000000000000001E-3,1E-3,1016,658,179,65,122,12,119,19]
[12,4.95,8.5500000000000007,0.37,0.57999999999999996,null,3.4000000000000002E-2,6.6000000000000003E-2,{"$f":"[1]!AgePb76($H$89)","v":806.37570116184168},0.17399999999999999,{"$f":"[1]!AgePb7U5(J89)","v":162.88442037457955},1.9E-2,3.0000000000000001E-3,1.2999999999999999E-2,4.0000000000000001E-3,799,1212,163,137,122,20,259,75]
[21,48.7,38.4,1.28,1.27,null,1.4999999999999999E-2,8.5999999999999993E-2,{"$f":"[1]!AgePb76($H$90)","v":1338.1827085168666},0.24099999999999999,{"$f":"[1]!AgePb7U5(J90)","v":219.23897671977483},0.02,1E-3,8.0000000000000002E-3,1E-3,1339,404,219,48,130,8,161,14]
["19a",37.299999999999997,31.8,1.54,1.17,27.9,2.1000000000000001E-2,5.3999999999999999E-2,{"$f":"[1]!AgePb76($H$91)","v":371.04957200069128},0.11799999999999999,{"$f":"[1]!AgePb7U5(J91)","v":113.25722164076491},1.6E-2,1E-3,5.0000000000000001E-3,1E-3,373,1247,113,96,101,9,100,24]
["20a",6.85,9.32,0.47,0.74,28.4,7.8E-2,4.5999999999999999E-2,{"$f":"[1]!AgePb76($H$92)","v":-2.3826360927936632},0.1,{"$f":"[1]!AgePb7U5(J92)","v":96.776341376173974},1.6E-2,2E-3,1.0999999999999999E-2,5.0000000000000001E-3,null,1113,96,73,100,10,216,100]
[8,35.6,44.8,1.52,0.79,null,1.0999999999999999E-2,0.09,{"$f":"[1]!AgePb76($H$93)","v":1425.5297113435308},0.27900000000000003,{"$f":"[1]!AgePb7U5(J93)","v":249.86396161517547},2.1999999999999999E-2,2E-3,1.0999999999999999E-2,2E-3,1427,555,250,74,143,13,228,33]
[24,38.1,31.9,0.97,1.2,null,2.8000000000000001E-2,5.3999999999999999E-2,{"$f":"[1]!AgePb76($H$94)","v":371.04957200069128},0.16900000000000001,{"$f":"[1]!AgePb7U5(J94)","v":158.55072598865956},2.3E-2,2E-3,4.0000000000000001E-3,1E-3,362,662,158,64,145,11,84,24]
["6a",5.12,8.9499999999999993,0.72,0.56999999999999995,44.5,7.1999999999999995E-2,4.5999999999999999E-2,{"$f":"[1]!AgePb76($H$95)","v":-2.3826360927936632},0.08,{"$f":"[1]!AgePb7U5(J95)","v":78.144936930627395},1.2999999999999999E-2,1E-3,0.04,1.0999999999999999E-2,null,357,78,14,81,9,783,207]
[26,25.5,23.9,0.85,1.07,null,0,9.6000000000000002E-2,{"$f":"[1]!AgePb76($H$96)","v":1547.7722104963741},0.30199999999999999,{"$f":"[1]!AgePb7U5(J96)","v":267.961155289006},2.3E-2,2E-3,8.9999999999999993E-3,1E-3,1551,567,268,79,145,12,180,24]
[9,3.44,5.49,0.2,0.63,null,0.13600000000000001,0.14899999999999999,{"$f":"[1]!AgePb76($H$97)","v":2334.4813457442892},0.46899999999999997,{"$f":"[1]!AgePb7U5(J97)","v":390.49794099785771},2.3E-2,4.0000000000000001E-3,8.0000000000000002E-3,5.0000000000000001E-3,2333,1062,391,189,146,25,165,106]
[7,4.29,7.39,0.28000000000000003,0.57999999999999996,null,9.7000000000000003E-2,7.4999999999999997E-2,{"$f":"[1]!AgePb76($H$98)","v":1068.5015336558342},0.23599999999999999,{"$f":"[1]!AgePb7U5(J98)","v":215.13972588262072},2.3E-2,3.0000000000000001E-3,1.6E-2,4.0000000000000001E-3,1059,1337,215,181,146,20,323,85]
[18,12.6,21.9,0.75,0.57999999999999996,null,1.6E-2,0.11700000000000001,{"$f":"[1]!AgePb76($H$99)","v":1910.8921735333104},0.371,{"$f":"[1]!AgePb7U5(J99)","v":320.39437536698722},2.3E-2,2E-3,1.2999999999999999E-2,2E-3,1912,489,320,88,146,14,267,47]
[27,4.0999999999999996,7.13,0.2,0.57999999999999996,null,3.9E-2,null,null,null,{"$f":"[1]!AgePb7U5(J100)","v":0},2.3E-2,6.0000000000000001E-3,1.2999999999999999E-2,7.0000000000000001E-3,null,null,null,null,148,35,262,133]
["DMP-508 (LA-ICP-MS)",null,null,null,null,null,null,null,null,null,{"$f":"[1]!AgePb7U5(J101)","v":0}]
["27c",52.2,49,1.1000000000000001,1.07,null,1.4999999999999999E-2,6.7000000000000004E-2,{"$f":"[1]!AgePb76($H$102)","v":837.77358160661993},0.13800000000000001,{"$f":"[1]!AgePb7U5(J102)","v":131.26093892891211},1.4999999999999999E-2,1E-3,5.0000000000000001E-3,1E-3,848,631,131,46,95,7,99,12]
["28r",40.9,68,1.45,0.6,null,0,6.2E-2,{"$f":"[1]!AgePb76($H$103)","v":674.10867823409296},0.113,{"$f":"[1]!AgePb7U5(J103)","v":108.70596770412527},1.2999999999999999E-2,1E-3,0.01,1E-3,664,549,109,35,85,6,198,21]
["16rs",19.7,33.700000000000003,0.7,0.57999999999999996,null,8.0000000000000002E-3,6.9000000000000006E-2,{"$f":"[1]!AgePb76($H$104)","v":898.74014760492696},0.151,{"$f":"[1]!AgePb7U5(J104)","v":142.79446589810186},1.6E-2,2E-3,4.0000000000000001E-3,1E-3,893,790,143,63,102,11,89,29]
["15c",18.100000000000001,26,0.72,0.7,null,0,0.108,{"$f":"[1]!AgePb76($H$105)","v":1765.9484464729935},0.26800000000000002,{"$f":"[1]!AgePb7U5(J105)","v":241.09342134846341},1.7999999999999999E-2,3.0000000000000001E-3,6.0000000000000001E-3,2E-3,1771,893,241,111,114,17,111,38]
["16r",11.1,19.399999999999999,0.52,0.56999999999999995,null,6.6000000000000003E-2,7.4999999999999997E-2,{"$f":"[1]!AgePb76($H$106)","v":1068.5015336558342},0.189,{"$f":"[1]!AgePb7U5(J106)","v":175.77561832628811},1.7999999999999999E-2,3.0000000000000001E-3,8.0000000000000002E-3,3.0000000000000001E-3,1065,1147,176,111,117,19,160,56]
[9,4.32,21.8,1.05,0.2,null,3.5000000000000003E-2,6.3E-2,{"$f":"[1]!AgePb76($H$107)","v":708.23070884661774},0.161,{"$f":"[1]!AgePb7U5(J107)","v":151.57811109890284},1.9E-2,1E-3,5.0000000000000001E-3,1E-3,697,441,151,36,119,7,104,15]
["31a",24.6,36.200000000000003,1.1299999999999999,0.68,4.82,1.2E-2,4.5999999999999999E-2,{"$f":"[1]!AgePb76($H$108)","v":-2.3826360927936632},0.12,{"$f":"[1]!AgePb7U5(J108)","v":115.07202650860869},1.9E-2,1E-3,6.0000000000000001E-3,1E-3,null,456,115,30,120,4,126,19]
[22,41,43.4,1.18,0.94,null,1.4999999999999999E-2,4.9000000000000002E-2,{"$f":"[1]!AgePb76($H$109)","v":147.83096914446409},0.13300000000000001,{"$f":"[1]!AgePb7U5(J109)","v":126.78984824680842},0.02,1E-3,6.0000000000000001E-3,1E-3,127,256,127,18,127,4,126,11]
[13,52.1,49,1.41,1.06,null,0,0.06,{"$f":"[1]!AgePb76($H$110)","v":603.57458941479069},0.16400000000000001,{"$f":"[1]!AgePb7U5(J110)","v":154.19845591637917},0.02,2E-3,6.0000000000000001E-3,1E-3,591,585,154,53,127,10,116,16]
[20,35.299999999999997,33.6,0.99,1.05,null,1.2999999999999999E-2,8.7999999999999995E-2,{"$f":"[1]!AgePb76($H$111)","v":1382.4841775845721},0.245,{"$f":"[1]!AgePb7U5(J111)","v":222.50650344384528},0.02,3.0000000000000001E-3,5.0000000000000001E-3,1E-3,1372,1012,222,114,129,18,108,28]
["26r",27.8,31.1,0.91,0.89,null,3.3000000000000002E-2,6.3E-2,{"$f":"[1]!AgePb76($H$112)","v":708.23070884661774},0.18099999999999999,{"$f":"[1]!AgePb7U5(J112)","v":168.92068560209705},2.1000000000000001E-2,2E-3,6.0000000000000001E-3,1E-3,698,453,169,43,133,10,115,23]
["29s",43.3,38.700000000000003,1.26,1.1200000000000001,null,1.4E-2,4.9000000000000002E-2,{"$f":"[1]!AgePb76($H$113)","v":147.83096914446409},0.14299999999999999,{"$f":"[1]!AgePb7U5(J113)","v":135.71242809836383},2.1000000000000001E-2,2E-3,8.0000000000000002E-3,1E-3,147,691,136,61,135,12,152,20]
["15cs",34.6,43.9,0.63,0.79,null,2E-3,5.0999999999999997E-2,{"$f":"[1]!AgePb76($H$114)","v":240.82988143504966},0.16300000000000001,{"$f":"[1]!AgePb7U5(J114)","v":153.32575878207587},2.3E-2,2E-3,null,null,251,694,147,11,153,53]
["22s",58.6,54,1.83,1.0900000000000001,null,8.0000000000000002E-3,6.2E-2,{"$f":"[1]!AgePb76($H$115)","v":674.10867823409296},0.19900000000000001,{"$f":"[1]!AgePb7U5(J115)","v":184.27971370805426},2.3E-2,1E-3,7.0000000000000001E-3,1E-3,687,449,184,45,147,9,137,14]
[30,39.299999999999997,46.8,1.49,0.84,null,4.0000000000000001E-3,5.2999999999999999E-2,{"$f":"[1]!AgePb76($H$116)","v":328.79678831034431},0.17,{"$f":"[1]!AgePb7U5(J116)","v":159.41894583912747},2.3E-2,2E-3,7.0000000000000001E-3,1E-3,310,530,159,53,149,11,132,20]
[12,24.8,37.299999999999997,1.2,0.66,null,2.3E-2,5.3999999999999999E-2,{"$f":"[1]!AgePb76($H$117)","v":371.04957200069128},0.17399999999999999,{"$f":"[1]!AgePb7U5(J117)","v":162.88442037457955},2.4E-2,2E-3,8.0000000000000002E-3,1E-3,353,669,163,67,150,13,170,28]
["25ca",44.4,41.1,2.21,1.08,1.97,2E-3,7.6999999999999999E-2,{"$f":"[1]!AgePb76($H$118)","v":1121.1896725129056},0.23899999999999999,{"$f":"[1]!AgePb7U5(J118)","v":217.60126176271035},2.1999999999999999E-2,1E-3,8.0000000000000002E-3,1E-3,1125,141,218,18,143,4,154,11]

{"sheet":"Exc_08","index":8,"n_rows":43,"n_cols":6,"rows_kept":43,"cut":false,"hidden":false,"merged":[]}
["Sample","Pb206/Pb204","Pb207/Pb204","Pb207/Pb206","Pb207/Pb206","TABLE 3"]
["Number","Ratio","Ratio","Ratio","Age"]
["TL-3",19.09,15.659000000000001,{"$f":"(C3/B3)","v":0.82027239392352025},{"$f":"[1]!AgePb76($D$3)","v":4957.3495555176623}]
["TL-8",null,null,0]
["Rhyolites ",19.103999999999999,15.667999999999999,{"$f":"(C5/B5)","v":0.82014237855946404},{"$f":"[1]!AgePb76($D$5)","v":4957.1241488230962}]
["74-77",15.657999999999999,38.93,2.4862689998722698,{"$f":"[1]!AgePb76($D$6)","v":6488.8778829334888}]
["A98-3",null,null,0]
["Imp-1F",19.154,15.701000000000001,0.81972433956353763,{"$f":"[1]!AgePb76($D$8)","v":4956.3991400882733}]
["Lower basalts",18.873999999999999,15.63,0.82812334428314094,{"$f":"[1]!AgePb76($D$9)","v":4970.8907527123902}]
["84-4",19.041,15.611000000000001,0.81986240218475925,{"$f":"[1]!AgePb76($D$10)","v":4956.6386267848047}]
["Ttg -1",null,null,0]
["Salmon Creek",19.010000000000002,15.613,0.82130457653866373,{"$f":"[1]!AgePb76($D$12)","v":4959.1376962944387}]
["SCV 14",18.815999999999999,15.571999999999999,0.827593537414966,{"$f":"[1]!AgePb76($D$13)","v":4969.9812522833017}]
["SCV 16",null,null,0]
["SCV 17",18.917000000000002,15.603999999999999,0.82486652217582057,{"$f":"[1]!AgePb76($D$15)","v":4965.2900704788472}]
["SCV 19",18.88,15.593999999999999,0.82595338983050848,{"$f":"[1]!AgePb76($D$16)","v":4967.1617411982124}]
["SCV 20",18.863,15.586,0.8262736574245878,{"$f":"[1]!AgePb76($D$17)","v":4967.7127675470938}]
["SCV 22",18.818999999999999,15.597,0.82879005260640848,{"$f":"[1]!AgePb76($D$18)","v":4972.0343884976946}]
["SCV 24",18.831,15.576000000000001,0.82714672614306206,{"$f":"[1]!AgePb76($D$19)","v":4969.2137462242035}]
["SCV 27",18.864999999999998,15.601000000000001,0.82698118208322302,{"$f":"[1]!AgePb76($D$20)","v":4968.9292725054347}]
["SCV 28",18.891999999999999,15.616,0.82659326699131908,{"$f":"[1]!AgePb76($D$21)","v":4968.2624354569161}]
["SCV 33",18.896000000000001,15.595000000000001,0.82530694326841658,{"$f":"[1]!AgePb76($D$22)","v":4966.0488256369754}]
["SCV 35",18.869,15.596,0.8265408871694313,{"$f":"[1]!AgePb76($D$23)","v":4968.1723675662479}]
["SCV 38",18.872,15.582000000000001,0.82566765578635015,{"$f":"[1]!AgePb76($D$24)","v":4966.6699387180379}]
["SCV 47",18.855,15.603999999999999,0.8275788915407053,{"$f":"[1]!AgePb76($D$25)","v":4969.95610144686}]
["SCV 53",18.838999999999999,15.571999999999999,0.82658315197197307,{"$f":"[1]!AgePb76($D$26)","v":4968.2450430018662}]
["SCV 54",18.901,15.592000000000001,0.82492989788900062,{"$f":"[1]!AgePb76($D$27)","v":4965.3992803500905}]
["SCV 58",18.908000000000001,15.624000000000001,0.82631690289824411,{"$f":"[1]!AgePb76($D$28)","v":4967.7871547898549}]
["Challis volcanics",18.864999999999998,15.593,0.82655711635303475,{"$f":"[1]!AgePb76($D$29)","v":4968.2002745399741}]
["L71-2S",null,null,0]
["L72-1S",null,null,0]
["L73-1S",19.120999999999999,15.675000000000001,0.81977930024580314,{"$f":"[1]!AgePb76($D$32)","v":4956.4944813288193}]
["TM 71-2S",18.869,15.670999999999999,0.83051566060734539,{"$f":"[1]!AgePb76($D$33)","v":4974.9898693325231}]
["TCV-4",18.402999999999999,15.606,0.8480139107754171,{"$f":"[1]!AgePb76($D$34)","v":5004.5960120552436}]
["Challis intrusive",17.657,15.577,0.88219969417228294,{"$f":"[1]!AgePb76($D$35)","v":5060.6092809078154}]
["L70-14",17.632999999999999,15.6,0.8847048148358192,{"$f":"[1]!AgePb76($D$36)","v":5064.6229445137633}]
["Idaho batholith",null,null,0]
["84-13",19.021000000000001,15.617000000000001,0.82103990326481258,{"$f":"[1]!AgePb76($D$38)","v":4958.6794073729807}]
["84-14",null,null,0]
["LC72-1F",19.224,15.657999999999999,0.81450270495214316,{"$f":"[1]!AgePb76($D$40)","v":4947.3099444529516}]
["LC72-4F",19.567,15.749000000000001,0.80487555578269543,{"$f":"[1]!AgePb76($D$41)","v":4930.3885299504445}]
["L82-9",19.349,15.695,0.81115303116440129,{"$f":"[1]!AgePb76($D$42)","v":4941.4465476818323}]
[null,"-","-",null,{"$f":"COUNT(E1:E42)","v":32}]

{"sheet":"Exc_09","index":9,"n_rows":16,"n_cols":6,"rows_kept":16,"cut":false,"hidden":false,"merged":[]}
[null,"Pb 206/204","Pb 207/204","Pb207/Pb206","Pb207/Pb206","Table 1"]
[null,"Ratio","Ratio","Ratio","Age"]
[null,9.3070000000000004,10.294,{"$f":"(C3/B3)","v":1.1060492102718384},{"$f":"[1]!AgePb76($D$3)","v":5378.6056274892626}]
[null,10.37,12.33,{"$f":"(C4/B4)","v":1.1890067502410802},{"$f":"[1]!AgePb76($D$4)","v":5479.4697551705767}]
[null,14.01,14.37,1.025695931477516,{"$f":"[1]!AgePb76($D$5)","v":5272.9975839393537}]
[]
[null,14.01,14.37,1.025695931477516,{"$f":"[1]!AgePb76($D$7)","v":5272.9975839393537}]
[null,10.7,12.85,1.2009345794392523,{"$f":"[1]!AgePb76($D$8)","v":5493.3603176128236}]
[null,14.7,14.79,1.0061224489795919,{"$f":"[1]!AgePb76($D$9)","v":5245.9477184028492}]
[null,16.14,15.38,0.95291201982651796,{"$f":"[1]!AgePb76($D$10)","v":5169.503630081932}]
[null,11.45,13.66,1.1930131004366813,{"$f":"[1]!AgePb76($D$11)","v":5484.1516410003533}]
[null,18.649999999999999,15.7,0.8418230563002681,{"$f":"[1]!AgePb76($D$12)","v":4994.196216752377}]
[null,17.579999999999998,15.4,0.87599544937428908,{"$f":"[1]!AgePb76($D$13)","v":5050.6166557579318}]
[null,11.86,13.93,1.1745362563237773,{"$f":"[1]!AgePb76($D$14)","v":5462.4199546170494}]
[null,19.899999999999999,15.65,0.78643216080402012,{"$f":"[1]!AgePb76($D$15)","v":4897.3610171639139}]
[null,21.15,15.92,0.75271867612293153,{"$f":"[1]!AgePb76($D$16)","v":4834.7996346729178}]

{"sheet":"Exc_10","index":10,"n_rows":35,"n_cols":9,"rows_kept":35,"cut":false,"hidden":false,"merged":[]}
["Sample","206/204Pb","207/204Pb","207/206Pb","207/206Pb","238U/204Pb","206Pb/238U","206Pb/238U","Table 1"]
["Name","Ratio","Ratio","Ratio","Age","Ratio","Ratio","Age"]
["GS-5"]
["Leachate 1",18.71,15.67,{"$f":"(C4/B4)","v":0.8375200427578835},{"$f":"[1]!AgePb76($D$4)","v":4986.919760981732},8.3699999999999992,{"$f":"(B4/F4)","v":2.2353643966547194},{"$f":"[1]!AgePb6U8(G4)","v":7569.002827027819}]
["Leachate 2",18.68,15.67,{"$f":"(C5/B5)","v":0.83886509635974305},{"$f":"[1]!AgePb76($D$5)","v":4989.1985247181738},6.55,{"$f":"(B5/F5)","v":2.8519083969465648},{"$f":"[1]!AgePb6U8(G5)","v":8693.4324770720759}]
["Leachate 3",18.73,15.68,0.83715963694607576,{"$f":"[1]!AgePb76($D$6)","v":4986.3085078524919},7.25,2.5834482758620689,{"$f":"[1]!AgePb6U8(G6)","v":8227.7230773625797}]
["Leachate 4",19.46,15.71,0.80729701952723532,{"$f":"[1]!AgePb76($D$7)","v":4934.6648663749729},25.2,0.77222222222222225,{"$f":"[1]!AgePb6U8(G7)","v":3688.8589969033633}]
["Bulk",19.05,15.71,0.82467191601049872,{"$f":"[1]!AgePb76($D$8)","v":4964.9546667919667},13.7,1.3905109489051095,{"$f":"[1]!AgePb6U8(G8)","v":5618.0959177900513}]
["Whole rock",18.62,15.69,0.84264232008592899,{"$f":"[1]!AgePb76($D$9)","v":4995.5771246409513},5.28,3.5265151515151514,{"$f":"[1]!AgePb6U8(G9)","v":9733.778315676358}]
["Leachate 1",18.350000000000001,15.65,0.85286103542234326,{"$f":"[1]!AgePb76($D$10)","v":5012.6823932499119},1.25,14.680000000000001,{"$f":"[1]!AgePb6U8(G10)","v":17743.020241239403}]
["Leachate 2",18.47,15.65,0.84731997834325945,{"$f":"[1]!AgePb76($D$11)","v":5003.4343198579581},4.55,4.0593406593406591,{"$f":"[1]!AgePb6U8(G11)","v":10451.159840972619}]
["Leachate 3",18.86,15.69,0.83191940615058324,{"$f":"[1]!AgePb76($D$12)","v":4977.3892802684331},13.4,1.407462686567164,{"$f":"[1]!AgePb6U8(G12)","v":5663.647804932777}]
["Leachate 4",32.049999999999997,16.39,0.51138845553822154,{"$f":"[1]!AgePb76($D$13)","v":4274.3755982795028},304,0.10542763157894736,{"$f":"[1]!AgePb6U8(G13)","v":646.1386430926874}]
["Bulk",19.36,15.73,0.8125,{"$f":"[1]!AgePb76($D$14)","v":4943.807423432324},18.100000000000001,1.0696132596685082,{"$f":"[1]!AgePb6U8(G14)","v":4688.8751570937147}]
["Whole rock",18.45,15.66,0.84878048780487814,{"$f":"[1]!AgePb76($D$15)","v":5005.8781432805072},5.91,3.1218274111675126,{"$f":"[1]!AgePb6U8(G15)","v":9130.0345619577074}]
["Leachate 1",21.2,15.8,0.74528301886792458,{"$f":"[1]!AgePb76($D$16)","v":4820.5994789421111},59.3,0.35750421585160203,{"$f":"[1]!AgePb6U8(G16)","v":1970.3328181842896}]
["Leachate 2",25.18,16,0.63542494042891184,{"$f":"[1]!AgePb76($D$17)","v":4591.1690684362766},138,0.18246376811594203,{"$f":"[1]!AgePb6U8(G17)","v":1080.420311641898}]
["Leachate 3",32.76,16.37,0.49969474969474975,{"$f":"[1]!AgePb76($D$18)","v":4240.3090095354482},318,0.1030188679245283,{"$f":"[1]!AgePb6U8(G18)","v":632.0763650667401}]
["Leachate 4",35.75,16.559999999999999,0.46321678321678317,{"$f":"[1]!AgePb76($D$19)","v":4128.2097910515249},389,9.1902313624678669E-2,{"$f":"[1]!AgePb6U8(G19)","v":566.77786903203901}]
["Residue",32.67,16.61,0.50841750841750832,{"$f":"[1]!AgePb76($D$20)","v":4265.8010291636201},271,0.12055350553505535,{"$f":"[1]!AgePb6U8(G20)","v":733.74868396654153}]
["Bulk",26.44,16.170000000000002,0.61157337367624809,{"$f":"[1]!AgePb76($D$21)","v":4535.737715498637},143,0.18489510489510491,{"$f":"[1]!AgePb6U8(G21)","v":1093.6615735257953}]
["Whole rock",18.329999999999998,15.65,0.85379159847244968,{"$f":"[1]!AgePb76($D$22)","v":5014.2292515070221},4.4800000000000004,4.0915178571428568,{"$f":"[1]!AgePb6U8(G22)","v":10492.028943557796}]
["Leachate 1",20.38,15.76,0.77330716388616294,{"$f":"[1]!AgePb76($D$23)","v":4873.3512175909636},44.2,0.4610859728506787,{"$f":"[1]!AgePb6U8(G23)","v":2444.3511764478753}]
["Leachate 2",24.03,15.96,0.66416978776529334,{"$f":"[1]!AgePb76($D$24)","v":4655.0798556275058},133,0.18067669172932332,{"$f":"[1]!AgePb6U8(G24)","v":1070.6703734092416}]
["Leachate 3",30.76,16.190000000000001,0.52633289986996101,{"$f":"[1]!AgePb76($D$25)","v":4316.7055826850865},271,0.11350553505535056,{"$f":"[1]!AgePb6U8(G25)","v":693.07447906779612}]
["Leachate 4",20.75,15.79,0.76096385542168665,{"$f":"[1]!AgePb76($D$26)","v":4850.3719320658647},60.3,0.34411276948590386,{"$f":"[1]!AgePb6U8(G26)","v":1906.4247829076255}]
["Residue",28.38,16.29,0.57399577167019022,{"$f":"[1]!AgePb76($D$27)","v":4443.5133463924722},195,0.14553846153846153,{"$f":"[1]!AgePb6U8(G27)","v":875.9052283573493}]
["Bulk",25.26,16.100000000000001,0.63737133808392721,{"$f":"[1]!AgePb76($D$28)","v":4595.5936094761491},137,0.18437956204379563,{"$f":"[1]!AgePb6U8(G28)","v":1090.856155608664}]
["Whole rock",18.77,15.68,0.83537559936068195,{"$f":"[1]!AgePb76($D$29)","v":4983.2786323484997},9.67,1.9410548086866597,{"$f":"[1]!AgePb6U8(G29)","v":6954.1872391286852}]
["Leachate 1",25.46,16.149999999999999,0.63432835820895517,{"$f":"[1]!AgePb76($D$30)","v":4588.6699165359396},127,0.2004724409448819,{"$f":"[1]!AgePb6U8(G30)","v":1177.8577282935471}]
["Leachate 2",31.83,16.13,0.50675463399308829,{"$f":"[1]!AgePb76($D$31)","v":4260.9780365066927},367,8.6730245231607619E-2,{"$f":"[1]!AgePb6U8(G31)","v":536.17026836960372}]
["Leachate 3",35.979999999999997,16.77,0.4660922734852696,{"$f":"[1]!AgePb76($D$32)","v":4137.3888108057408},409,8.7970660146699256E-2,{"$f":"[1]!AgePb6U8(G32)","v":543.52413404164338}]
["Leachate 4",40.15,16.82,0.41892901618929018,{"$f":"[1]!AgePb76($D$33)","v":3978.4467514020707},492,8.1605691056910568E-2,{"$f":"[1]!AgePb6U8(G33)","v":505.69984202897751}]
["Bulk",34.869999999999997,16.68,0.47834815027244054,{"$f":"[1]!AgePb76($D$34)","v":4175.8333971586071},355,9.8225352112676051E-2,{"$f":"[1]!AgePb6U8(G34)","v":604.00039160057202}]
["Whole rock",19.43,15.85,0.815748841996912,{"$f":"[1]!AgePb76($D$35)","v":4949.4846881563344},12.7,1.5299212598425198,{"$f":"[1]!AgePb6U8(G35)","v":5983.4854450489711}]

{"sheet":"Exc_11","index":11,"n_rows":94,"n_cols":9,"rows_kept":94,"cut":false,"hidden":false,"merged":[]}
[null,null,"206/204Pb","207/204Pb","207/206Pb","207/206Pb","TABLE 2"]
[null,null,"Ratio","Ratio","Ratio","Age"]
[97998,"HCl2",25.24,16.899000000000001,{"$f":"(D3/C3)","v":0.66953248811410471},{"$f":"[1]!AgePb76($E$3)","v":4666.6747739507118}]
[97999,"HC13",26.306999999999999,17.11,{"$f":"(D4/C4)","v":0.6503972326757137},{"$f":"[1]!AgePb76($E$4)","v":4624.8360865250006}]
[98000,"HC14",23.204000000000001,16.536999999999999,0.71267884847440088,{"$f":"[1]!AgePb76($E$5)","v":4756.4966265459107}]
[98001,"HC15",23.384,16.584,0.70920287375983571,{"$f":"[1]!AgePb76($E$6)","v":4749.4784932837265}]
[98002,"HC16",26.488,17.152000000000001,0.64753850800362434,{"$f":"[1]!AgePb76($E$7)","v":4618.4725021263248}]
[98003,"HC17",26.626000000000001,17.196000000000002,0.64583489821978524,{"$f":"[1]!AgePb76($E$8)","v":4614.6658930037829}]
[98004,"HC18",26.832000000000001,17.202000000000002,0.64110017889087656,{"$f":"[1]!AgePb76($E$9)","v":4604.029661738914}]
[98005,"HC19",26.335999999999999,17.094000000000001,0.64907351154313497,{"$f":"[1]!AgePb76($E$10)","v":4621.8931886432611}]
[]
[]
[]
[]
[]
[null,"206/204Pb","207/204Pb","207/206Pb","207/206Pb","TABLE 3"]
[null,"Ratio","Ratio","Ratio","Age"]
[null,18.045000000000002,15.646000000000001,{"$f":"(C18/B18)","v":0.86705458575782757},{"$f":"[1]!AgePb76($D$18)","v":5036.0835247435953}]
[null,46.26,20.640999999999998,{"$f":"(C19/B19)","v":0.44619541720709033},{"$f":"[1]!AgePb76($D$19)","v":4072.5737426444543}]
[null,42.591000000000001,20.259,0.47566387264915122,{"$f":"[1]!AgePb76($D$20)","v":4167.5054741244203}]
[null,16.398,15.388999999999999,0.93846810586656904,{"$f":"[1]!AgePb76($D$21)","v":5147.9721294973788}]
[null,18.687999999999999,15.803000000000001,0.84562285958904115,{"$f":"[1]!AgePb76($D$22)","v":5000.5889592519634}]
[null,58.292999999999999,22.713000000000001,0.38963511913951937,{"$f":"[1]!AgePb76($D$23)","v":3869.5553519132432}]
[null,55.963999999999999,22.366,0.39964977485526409,{"$f":"[1]!AgePb76($D$24)","v":3907.7613454979155}]
[null,17.100999999999999,15.547000000000001,0.90912812116250519,{"$f":"[1]!AgePb76($D$25)","v":5103.1334665677159}]
[null,18.632000000000001,15.723000000000001,0.84387075998282524,{"$f":"[1]!AgePb76($D$26)","v":4997.6450477795397}]
[null,46.070999999999998,20.684000000000001,0.44895921512448184,{"$f":"[1]!AgePb76($D$27)","v":4081.7629786715602}]
[null,47.942999999999998,21.087,0.43983480382954759,{"$f":"[1]!AgePb76($D$28)","v":4051.1879902463629}]
[null,16.218,15.253,0.94049821186336169,{"$f":"[1]!AgePb76($D$29)","v":5151.0195115613369}]
[]
[null,16.337,15.382999999999999,0.94160494582848742,{"$f":"[1]!AgePb76($D$31)","v":5152.6778922588519}]
[null,72.341999999999999,25.672999999999998,0.35488374664786704,{"$f":"[1]!AgePb76($D$32)","v":3728.0942489484823}]
[null,50.152000000000001,21.742000000000001,0.43352209283777315,{"$f":"[1]!AgePb76($D$33)","v":4029.6274836152725}]
[null,15.55,15.25,0.98070739549839225,{"$f":"[1]!AgePb76($D$34)","v":5209.9830067982148}]
[null,14.89,15.121,1.0155137676292814,{"$f":"[1]!AgePb76($D$35)","v":5258.9949279341636}]
[null,32.982999999999997,18.477,0.56019767759148653,{"$f":"[1]!AgePb76($D$36)","v":4408.0070311374475}]
[null,29.19,17.788,0.60938677629325111,{"$f":"[1]!AgePb76($D$37)","v":4530.5402803091392}]
[null,14.452999999999999,14.991,1.0372241057219955,{"$f":"[1]!AgePb76($D$38)","v":5288.6751497113082}]
[null,15.613,15.207000000000001,0.97399602895023385,{"$f":"[1]!AgePb76($D$39)","v":5200.3211908277044}]
[null,32.814,18.405000000000001,0.56088864509051017,{"$f":"[1]!AgePb76($D$40)","v":4409.8073935055309}]
[null,31.614000000000001,18.190000000000001,0.5753779970898969,{"$f":"[1]!AgePb76($D$41)","v":4447.019425070227}]
[null,15.115,15.138999999999999,1.001587826662256,{"$f":"[1]!AgePb76($D$42)","v":5239.6016901104813}]
[null,19.995999999999999,16.035,0.8019103820764153,{"$f":"[1]!AgePb76($D$43)","v":4925.1333136193061}]
[null,73.674999999999997,25.992999999999999,0.35280624363759755,{"$f":"[1]!AgePb76($D$44)","v":3719.1595290230039}]
[null,66.614999999999995,24.968,0.37481047812054347,{"$f":"[1]!AgePb76($D$45)","v":3810.976187714331}]
[null,18.262,15.765000000000001,0.86326798817216077,{"$f":"[1]!AgePb76($D$46)","v":5029.8805000448056}]
[]
[]
[null,null,null,"206/204Pb","207/204Pb","207/206Pb","207/206Pb","TABLE 4"]
[null,null,null,"Ratio","Ratio","Ratio","Age"]
[null,"Kellys Rock:"]
[null,null,"HC/4-KF",18.045000000000002,15.646000000000001,{"$f":"(E52/D52)","v":0.86705458575782757},{"$f":"[1]!AgePb76($F$52)","v":5036.0835247435953}]
[null,null,"HC14-AWKF",16.398,15.388999999999999,{"$f":"(E53/D53)","v":0.93846810586656904},{"$f":"[1]!AgePb76($F$53)","v":5147.9721294973788}]
[null,null,"HC16-KF",18.687999999999999,15.803000000000001,0.84562285958904115,{"$f":"[1]!AgePb76($F$54)","v":5000.5889592519634}]
[null,null,"HC16-AWKF",17.100999999999999,15.547000000000001,0.90912812116250519,{"$f":"[1]!AgePb76($F$55)","v":5103.1334665677159}]
[null,null,"HC18-KF",18.632000000000001,15.723000000000001,0.84387075998282524,{"$f":"[1]!AgePb76($F$56)","v":4997.6450477795397}]
[null,null,"HC / 8-AWKF",16.218,15.253,0.94049821186336169,{"$f":"[1]!AgePb76($F$57)","v":5151.0195115613369}]
[null,"Milky Soak:"]
[null,null,"HC50-KF",16.337,15.382999999999999,0.94160494582848742,{"$f":"[1]!AgePb76($F$59)","v":5152.6778922588519}]
[null,null,"HC50-AWKF",15.55,15.25,0.98070739549839225,{"$f":"[1]!AgePb76($F$60)","v":5209.9830067982148}]
[null,null,"HC52-KF",14.89,15.121,1.0155137676292814,{"$f":"[1]!AgePb76($F$61)","v":5258.9949279341636}]
[null,null,"HC52-AWKF",14.452999999999999,14.991,1.0372241057219955,{"$f":"[1]!AgePb76($F$62)","v":5288.6751497113082}]
[null,null,"HC54-KF",15.613,15.207000000000001,0.97399602895023385,{"$f":"[1]!AgePb76($F$63)","v":5200.3211908277044}]
[null,null,"HC54-AWKF",15.115,15.138999999999999,1.001587826662256,{"$f":"[1]!AgePb76($F$64)","v":5239.6016901104813}]
[null,null,"HC56-KF",19.995999999999999,16.035,0.8019103820764153,{"$f":"[1]!AgePb76($F$65)","v":4925.1333136193061}]
[null,null,"HC56-AWKF",18.262,15.765000000000001,0.86326798817216077,{"$f":"[1]!AgePb76($F$66)","v":5029.8805000448056}]
[]
[]
[]
[null,null,null,null,"206/204Pb","207/204Pb","207/206Pb","207/206Pb","TABLE 6"]
[null,"UWA No.","Field No.","Sample","Ratio","Ratio","Ratio","Age"]
["Kellys Rock:"]
[null,98000,"HC14","WRW/",48.545000000000002,20.992000000000001,{"$f":"(F73/E73)","v":0.43242352456483674},{"$f":"[1]!AgePb76($G$73)","v":4025.8404726788044}]
[null,null,null,"WRW2",52.558999999999997,21.692,0.41271713693182904,{"$f":"[1]!AgePb76($G$74)","v":3956.0667543780619}]
[null,null,null,"AWWR",17.702000000000002,15.613,0.88199073551011176,{"$f":"[1]!AgePb76($G$75)","v":5060.2739445741718}]
[null,98002,"HC16","WRW/",51.749000000000002,21.532,0.41608533498231848,{"$f":"[1]!AgePb76($G$76)","v":3968.2469267365709}]
[null,null,null,"WRW2",61.365000000000002,23.282,0.37940193921616555,{"$f":"[1]!AgePb76($G$77)","v":3829.387178012892}]
[null,null,null,"AWWR",18.353999999999999,15.656000000000001,0.85300207039337483,{"$f":"[1]!AgePb76($G$78)","v":5012.9169483548922}]
[null,98004,"HC18","WRW/",44.960999999999999,20.462,0.45510553590889885,{"$f":"[1]!AgePb76($G$79)","v":4101.9797896973241}]
[null,null,null,"WRW2",45.926000000000002,20.553999999999998,0.44754605234507683,{"$f":"[1]!AgePb76($G$80)","v":4077.0721313600293}]
[null,null,null,"AWWR",17.074000000000002,15.475,0.906348834485182,{"$f":"[1]!AgePb76($G$81)","v":5098.8067650809498}]
["Milky Soak:"]
[null,87950,"HC50","WRW/",58.953000000000003,23.175999999999998,0.39312672807151455,{"$f":"[1]!AgePb76($G$83)","v":3882.9968092819099}]
[null,null,null,"WRW2",56.558,22.738,0.40202977474451007,{"$f":"[1]!AgePb76($G$84)","v":3916.6869160594542}]
[null,null,null,"AWWR",15.045999999999999,15.103,1.0037883822942975,{"$f":"[1]!AgePb76($G$85)","v":5242.6850665276761}]
[null,87952,"HC52","WRWI",31.594999999999999,18.181000000000001,0.57543915176451976,{"$f":"[1]!AgePb76($G$86)","v":4447.1743371527182}]
[null,null,null,"WRW2",30.896999999999998,18.038,0.58381072596044925,{"$f":"[1]!AgePb76($G$87)","v":4468.2149144365312}]
[null,null,null,"AWWR",14.769,15.081,1.0211253300832825,{"$f":"[1]!AgePb76($G$88)","v":5266.7302763170783}]
[null,87954,"HC54","WRW/",30.875,18.001999999999999,0.58306072874493919,{"$f":"[1]!AgePb76($G$89)","v":4466.343204956238}]
[null,null,null,"WRW2",24.527000000000001,16.849,0.68695723080686588,{"$f":"[1]!AgePb76($G$90)","v":4703.6745509812699}]
[null,null,null,"AWWR",14.826000000000001,15.025,1.0134223661135842,{"$f":"[1]!AgePb76($G$91)","v":5256.1004437291031}]
[null,87956,"HC56","WRW/",51.863,21.927,0.42278695794689858,{"$f":"[1]!AgePb76($G$92)","v":3992.1643293198622}]
[null,null,null,"WRW2",46.112000000000002,20.896000000000001,0.45315752949340737,{"$f":"[1]!AgePb76($G$93)","v":4095.6046234988721}]
[null,null,null,"AWWR",18.337,15.731,0.85788296886077331,{"$f":"[1]!AgePb76($G$94)","v":5021.0090900428713}]

{"sheet":"Exc_12","index":12,"n_rows":26,"n_cols":13,"rows_kept":26,"cut":false,"hidden":false,"merged":[]}
["Sample","Rock","207Pb/204Pb","207Pb/204Pb","206Pb/204Pb","206Pb/204Pb","207/206Pb","207/206Pb","207Pb/204Pb","206Pb/204Pb","207/206Pb","207/206Pb","TABLE 1"]
[null,null,"Ratio","Error","Ratio","Error","Ratio","Age","Ratio","Ratio","Ratio","Age"]
["L2","Olivine-nephelinite",15.624000000000001,1.2E-2,19.061,1.4E-2,{"$f":"(C3/E3)","v":0.8196841718692619},{"$f":"[1]!AgePb76($G$3)","v":4956.3294561993125},15.619,18.949000000000002,{"$f":"(I3/J3)","v":0.82426513272468194},{"$f":"[1]!AgePb76($K$3)","v":4964.2533040411818}]
[null,null,15.59,1.2999999999999999E-2,19.146000000000001,1.2E-2,{"$f":"(C4/E4)","v":0.81426929907030188},{"$f":"[1]!AgePb76($G$4)","v":4946.902213825676},null,null,0]
[334,"Olivine-melilitite",15.629,1.0999999999999999E-2,19.254999999999999,1.0999999999999999E-2,0.8116852765515451,{"$f":"[1]!AgePb76($G$5)","v":4942.3799292866743},null,null,0]
[null,null,15.632,1.0999999999999999E-2,19.09,0.01,0.81885804085908853,{"$f":"[1]!AgePb76($G$6)","v":4954.8954582854158},15.627000000000001,18.983000000000001,{"$f":"(I6/J6)","v":0.82321024074171634},{"$f":"[1]!AgePb76($K$6)","v":4962.4327771918088}]
["LI","Limburgite",15.622,0.01,19.062999999999999,8.0000000000000002E-3,0.81949325919320148,{"$f":"[1]!AgePb76($G$7)","v":4955.9982066182247},15.618,18.98,0.82286617492096947,{"$f":"[1]!AgePb76($K$7)","v":4961.8384538381169}]
[426,"Carbonatite",15.632999999999999,1.7999999999999999E-2,19.329999999999998,1.2999999999999999E-2,0.80874288670460426,{"$f":"[1]!AgePb76($G$8)","v":4937.2117853031677},15.629,19.245000000000001,0.81210704078981544,{"$f":"[1]!AgePb76($K$8)","v":4943.1191014655478}]
["MF-Ca","Carbonatite",15.641,1.0999999999999999E-2,19.693000000000001,1.7000000000000001E-2,0.79424160869344429,{"$f":"[1]!AgePb76($G$9)","v":4911.4453743138301},15.64,19.661999999999999,0.79544298647136613,{"$f":"[1]!AgePb76($K$9)","v":4913.5989725828704}]
[null,null,15.618,1.2999999999999999E-2,19.672999999999998,1.4E-2,0.79387993696945058,{"$f":"[1]!AgePb76($G$10)","v":4910.796359984296},null,null,0]
[229,"Bergalite",15.629,1.4E-2,19.707000000000001,1.2999999999999999E-2,0.79306845283401828,{"$f":"[1]!AgePb76($G$11)","v":4909.3390182941348},15.622999999999999,19.57,0.79831374552887069,{"$f":"[1]!AgePb76($K$11)","v":4918.7311279315863}]
[2171,"Bergalite",15.664,1.2E-2,19.579999999999998,1.7000000000000001E-2,0.8,{"$f":"[1]!AgePb76($G$12)","v":4921.7365552639512},15.659000000000001,19.466999999999999,0.80438691118302774,{"$f":"[1]!AgePb76($K$12)","v":4929.5239176513469}]
[null,null,15.661,1.2999999999999999E-2,19.584099999999999,1.7999999999999999E-2,0.79967933170275884,{"$f":"[1]!AgePb76($G$13)","v":4921.165544507815},null,null,0]
[166,"Tinguaite",15.654,0.01,19.641999999999999,8.0000000000000002E-3,0.7969656857753793,{"$f":"[1]!AgePb76($G$14)","v":4916.3236050750538},15.65,19.558,0.80018406790060337,{"$f":"[1]!AgePb76($K$14)","v":4922.0642130765082}]
[null,null,15.644,1.2E-2,19.614000000000001,10.012,0.79759355562353418,{"$f":"[1]!AgePb76($G$15)","v":4917.4454672654019},15.641,19.542000000000002,0.80037867157916276,{"$f":"[1]!AgePb76($K$15)","v":4922.4105383358019}]
[396,"Hauynophyre",15.616,1.6E-2,19.643999999999998,2.1999999999999999E-2,0.79495011199348409,{"$f":"[1]!AgePb76($G$16)","v":4912.7158613879492},null,null,0]
[null,null,15.646000000000001,0.01,19.611000000000001,8.9999999999999993E-3,0.79781755137422872,{"$f":"[1]!AgePb76($G$17)","v":4917.8454698492824},15.638999999999999,19.454000000000001,0.80389637092628763,{"$f":"[1]!AgePb76($K$17)","v":4928.6553889228853}]
[156,"Phonolite",15.612,0.01,19.128,8.0000000000000002E-3,0.81618569636135507,{"$f":"[1]!AgePb76($G$18)","v":4950.2462450072126},15.611000000000001,19.097000000000001,0.81745823951405983,{"$f":"[1]!AgePb76($K$18)","v":4952.4621684640188}]
[515,"Phonolite",15.632999999999999,0.01,19.425000000000001,8.9999999999999993E-3,0.80478764478764475,{"$f":"[1]!AgePb76($G$19)","v":4930.2330206224833},null,null,0]
[null,null,15.638999999999999,0.01,19.411999999999999,8.9999999999999993E-3,0.80563568926437257,{"$f":"[1]!AgePb76($G$20)","v":4931.7324077752583},15.635,19.326000000000001,0.80901376384145707,{"$f":"[1]!AgePb76($K$20)","v":4937.6884011129687}]
[204,"Essexite",15.670999999999999,1.0999999999999999E-2,19.381,0.01,0.80857540890562918,{"$f":"[1]!AgePb76($G$21)","v":4936.9170185279245},15.666,19.265999999999998,0.81314232326378089,{"$f":"[1]!AgePb76($K$21)","v":4944.9317787330783}]
[null,null,15.654,1.2999999999999999E-2,19.341000000000001,1.4E-2,0.80936869861951288,{"$f":"[1]!AgePb76($G$22)","v":4938.3126617926755},15.651,19.260999999999999,0.81257463267743113,{"$f":"[1]!AgePb76($K$22)","v":4943.9381127965426}]
[476,"Tephrite",15.628,0.01,19.350000000000001,1.6E-2,0.80764857881136942,{"$f":"[1]!AgePb76($G$23)","v":4935.2845900897246},15.625,19.29,0.81000518403317789,{"$f":"[1]!AgePb76($K$23)","v":4939.4313858813912}]
[435,"Tephrite",15.704000000000001,1.2E-2,19.649000000000001,0.01,0.79922642373657693,{"$f":"[1]!AgePb76($G$24)","v":4920.3586406994382},15.693,19.417000000000002,0.80820930112787759,{"$f":"[1]!AgePb76($K$24)","v":4936.2724298288858}]
[309,"Mondhaldeite",15.635999999999999,1.2E-2,19.387,1.2E-2,0.80651983287770146,{"$f":"[1]!AgePb76($G$25)","v":4933.293833316543},null,null,0]
[null,null,15.664999999999999,0.01,19.329999999999998,8.9999999999999993E-3,0.81039834454216242,{"$f":"[1]!AgePb76($G$26)","v":4940.121960767},15.662000000000001,19.276,0.81251296949574603,{"$f":"[1]!AgePb76($K$26)","v":4943.8301352472672}]

{"sheet":"Exc_13","index":13,"n_rows":39,"n_cols":11,"rows_kept":39,"cut":false,"hidden":false,"merged":[]}
["I.D.\nNo.","Sample No.","(ppm)","U/Th gamma","Pb (ppm)","238u/206 pb","206Pb/238U","Age","207pb/ 206pb","Age","204 pb/ 206 Pb"]
[1,"2260 WR",10.199999999999999,0.36,28.5,1.2070000000000001,{"$f":"(1/F2)","v":0.82850041425020704},{"$f":"[1]!AgePb6U8(G2)","v":3890.3863668603058},0.81349000000000005,{"$f":"[1]!AgePb76($I$2)","v":4945.5399758154845},5.1979999999999998E-2]
[2,"2265 WR",19.7,0.45,14.4,4.2030000000000003,{"$f":"(1/F3)","v":0.23792529145848201},{"$f":"[1]!AgePb6U8(G3)","v":1375.9021839496327},0.69467999999999996,{"$f":"[1]!AgePb76($I$3)","v":4719.7532203566889},4.3880000000000002E-2]
[3,"2266 WR",18.899999999999999,0.54,23.5,2.5859999999999999,0.38669760247486468,{"$f":"[1]!AgePb6U8(G4)","v":2107.4945678212762},0.75556999999999996,{"$f":"[1]!AgePb76($I$4)","v":4840.2052820161716},4.7910000000000001E-2]
[4,"2272 WR",14.4,0.37,24.7,1.9330000000000001,0.5173305742369374,{"$f":"[1]!AgePb6U8(G5)","v":2687.8490879556498},0.78883000000000003,{"$f":"[1]!AgePb76($I$5)","v":4901.7013073483549},5.0310000000000001E-2]
[5,"2274 WR",12.9,0.35,21.9,1.94,0.51546391752577325,{"$f":"[1]!AgePb6U8(G6)","v":2679.9136713963157},0.78149999999999997,{"$f":"[1]!AgePb76($I$6)","v":4888.3889230329141},4.9799999999999997E-2]
[6,"2256 WR",16.7,0.5,15.3,3.4020000000000001,0.29394473838918284,{"$f":"[1]!AgePb6U8(G7)","v":1661.2118557975825},0.71748999999999996,{"$f":"[1]!AgePb76($I$7)","v":4766.150440639818},4.5400000000000003E-2]
[7,"2144 WR",12.6,0.36,37.700000000000003,1.1299999999999999,0.88495575221238942,{"$f":"[1]!AgePb6U8(G8)","v":4086.4099725839455},0.81813000000000002,{"$f":"[1]!AgePb76($I$8)","v":4953.6304494564502},5.2240000000000002E-2]
[8,"1952 WR",15.6,null,18.3,3.0289999999999999,0.33014196104324861,{"$f":"[1]!AgePb6U8(G9)","v":1839.0696158846733},0.76634999999999998,{"$f":"[1]!AgePb76($I$9)","v":4860.447692284959},4.8550000000000003E-2]
[9,"2279 WR",21.7,0.56000000000000005,22.6,3.0459999999999998,0.3282994090610637,{"$f":"[1]!AgePb6U8(G10)","v":1830.1336617088389},0.74177000000000004,{"$f":"[1]!AgePb76($I$10)","v":4813.83788683288},4.7050000000000002E-2]
[10,"2261 WR",11.9,0.33,25.5,1.5620000000000001,0.6402048655569782,{"$f":"[1]!AgePb6U8(G11)","v":3189.8220922291598},0.80296999999999996,{"$f":"[1]!AgePb76($I$11)","v":4927.0136588683699},5.1229999999999998E-2]
[11,"2257 Kfs",0.93,0.28000000000000003,18.600000000000001,0.105,9.5238095238095237,{"$f":"[1]!AgePb6U8(G12)","v":15172.539976111717},0.85509000000000002,{"$f":"[1]!AgePb76($I$12)","v":5016.3845719394067},5.4730000000000001E-2]
[12,"2261 Kfs",2.0529999999999999,0.28000000000000003,35.700000000000003,0.19900000000000001,5.0251256281407031,{"$f":"[1]!AgePb6U8(G13)","v":11577.362322662511},0.84984999999999999,{"$f":"[1]!AgePb76($I$13)","v":5007.6648924278297},5.4399999999999997E-2]
[13,"2274 Kfs",1.3640000000000001,0.28000000000000003,19.899999999999999,0.23699999999999999,4.2194092827004219,{"$f":"[1]!AgePb6U8(G14)","v":10651.953142674338},0.84828000000000003,{"$f":"[1]!AgePb76($I$14)","v":5005.0411965331468},5.4289999999999998E-2]
[14,"2257 Ap f",139,null,32.200000000000003,10.35,9.6618357487922704E-2,{"$f":"[1]!AgePb6U8(G15)","v":594.56067181971696},0.42347000000000001,{"$f":"[1]!AgePb76($I$15)","v":3994.5787589492688},2.5329999999999998E-2]
[15,"2257 Ap g",408,null,48.9,13.81,7.2411296162201294E-2,{"$f":"[1]!AgePb6U8(G16)","v":450.66662922486114},0.26419999999999999,{"$f":"[1]!AgePb76($I$16)","v":3271.926457212373},1.444E-2]
[16,"2261 Ap f",105,null,25.9,8.6999999999999993,0.1149425287356322,{"$f":"[1]!AgePb6U8(G17)","v":701.38829878355637},0.36825999999999998,{"$f":"[1]!AgePb76($I$17)","v":3784.2764326471679},2.154E-2]
[17,"2261 Ap g",317,null,36.799999999999997,13.18,7.5872534142640363E-2,{"$f":"[1]!AgePb6U8(G18)","v":471.43911058578698},0.21734999999999999,{"$f":"[1]!AgePb76($I$18)","v":2961.1622919629262},1.124E-2]
[18,"2274 Ap f",114,null,29.7,8.59,0.11641443538998836,{"$f":"[1]!AgePb6U8(G19)","v":709.89300821391009},0.40209,{"$f":"[1]!AgePb76($I$19)","v":3916.9120243270922},2.384E-2]
[19,"2256 Ap f",138,null,25.4,10.57,9.46073793755913E-2,{"$f":"[1]!AgePb6U8(G20)","v":582.72838886987222},0.30397000000000002,{"$f":"[1]!AgePb76($I$20)","v":3490.5721669093837},1.7149999999999999E-2]
[20,"2253 Ap f",106,null,31.2,8.17,0.12239902080783353,{"$f":"[1]!AgePb6U8(G21)","v":744.35698563392123},0.45699000000000001,{"$f":"[1]!AgePb76($I$21)","v":4108.118818185304},2.7650000000000001E-2]
[21,"2257 Zr f",2200,null,92.5,23.8,4.2016806722689072E-2,{"$f":"[1]!AgePb6U8(G22)","v":265.32198223050801},6.3380000000000006E-2,{"$f":"[1]!AgePb76($I$22)","v":721.00611183768171},6.9180000000000001E-4]
[22,"2257 Zr g",1645,null,79,21.53,4.6446818392940084E-2,{"$f":"[1]!AgePb6U8(G23)","v":292.67006006692276},6.3259999999999997E-2,{"$f":"[1]!AgePb76($I$23)","v":716.98294230305657},6.3299999999999999E-4]
[23,"2261 Zr f",3023,null,96.6,31.04,3.2216494845360828E-2,{"$f":"[1]!AgePb6U8(G24)","v":204.40565276480632},6.1870000000000001E-2,{"$f":"[1]!AgePb76($I$24)","v":669.61820211869633},5.844E-4]
[24,"2261 Zr g",1706,null,94.5,18.510000000000002,5.4024851431658562E-2,{"$f":"[1]!AgePb6U8(G25)","v":339.18470942539068},6.762E-2,{"$f":"[1]!AgePb76($I$25)","v":856.92877921255933},9.8999999999999999E-4]
[25,"2274 Zr f",1582,null,74.2,21.74,4.5998160073597062E-2,{"$f":"[1]!AgePb6U8(G26)","v":289.90560276761687},6.5790000000000001E-2,{"$f":"[1]!AgePb76($I$26)","v":799.70149197248145},8.7710000000000002E-4]
[26,"2256 Zr f",2114,null,91,23.15,4.3196544276457888E-2,{"$f":"[1]!AgePb6U8(G27)","v":272.61627440024915},6.1809999999999997E-2,{"$f":"[1]!AgePb76($I$27)","v":667.54136668053536},5.8659999999999995E-4]
[27,"2253 Zr f",2425,null,125.7,23.43,4.2680324370465213E-2,{"$f":"[1]!AgePb6U8(G28)","v":269.42551329537343},0.12934999999999999,{"$f":"[1]!AgePb76($I$28)","v":2089.1533813768337},5.1970000000000002E-3]
[28,"2253 Zr p",2492,null,109.8,24.35,4.1067761806981518E-2,{"$f":"[1]!AgePb6U8(G29)","v":259.44806129633082},8.3549999999999999E-2,{"$f":"[1]!AgePb76($I$29)","v":1282.0954124705715},2.055E-3]
[29,"2257 Mu",6.3,null,2.5,7.282,0.13732491073880801,{"$f":"[1]!AgePb6U8(G30)","v":829.51771390900069},0.59184999999999999,{"$f":"[1]!AgePb76($I$30)","v":4488.1169029008433},3.6850000000000001E-2]
[30,"2257 Bi",15.6,null,7.5,6.9770000000000003,0.14332807797047442,{"$f":"[1]!AgePb6U8(G31)","v":863.4544784650634},0.60882999999999998,{"$f":"[1]!AgePb76($I$31)","v":4529.213649641174},3.7990000000000003E-2]
["3-1","2261 Mu",6.4,null,3.3,5.9580000000000002,0.16784155756965424,{"$f":"[1]!AgePb6U8(G32)","v":1000.2077191855578},0.63266,{"$f":"[1]!AgePb76($I$32)","v":4584.8587625118562},3.9579999999999997E-2]
[32,"2261 Bi",17.600000000000001,null,6.2,9.3510000000000009,0.10694043417816275,{"$f":"[1]!AgePb6U8(G33)","v":654.95467492862815},0.54518999999999995,{"$f":"[1]!AgePb76($I$33)","v":4368.3016053552128},3.3619999999999997E-2]
[33,"2274 Mu",8.6999999999999993,null,3.7,7.2880000000000003,0.13721185510428099,{"$f":"[1]!AgePb6U8(G34)","v":828.87687709569684},0.62644999999999995,{"$f":"[1]!AgePb76($I$34)","v":4570.5774231126097},3.9190000000000003E-2]
[34,"2274 Bi",13.1,null,6,7.3179999999999996,0.13664935774801859,{"$f":"[1]!AgePb6U8(G35)","v":825.68750829140913},0.54340999999999995,{"$f":"[1]!AgePb76($I$35)","v":4363.5142358504554},3.3520000000000001E-2]
[null,null,null,null,null,null,"Average",{"$f":"AVERAGE(H2:H35)","v":2182.3752482026503}]
[null,null,null,null,null,null,"Maximum",{"$f":"MAX(H2:H36)","v":15172.539976111717}]
[null,null,null,null,null,null,"Minimum",{"$f":"MIN(H2:H37)","v":204.40565276480632}]
[null,null,null,null,null,null,"Difference",{"$f":"(H37-H38)","v":14968.134323346911}]

{"sheet":"Exc_14","index":14,"n_rows":68,"n_cols":11,"rows_kept":68,"cut":false,"hidden":false,"merged":[]}
["TABLE 1","206Pb/204Pb",null,"207Pb/204Pb",null,"207/206Pb","207/206Pb"]
["A. Stillwater complex","Ratio",null,"Ratio",null,"Ratio","Age"]
["STILL 16",15.616,"± 0.016",15.247,"± 0.02",{"$f":"(D3/B3)","v":0.97637038934426235},{"$f":"[1]!AgePb76($F$3)","v":5203.7473941918015}]
["STILL 17 ",16.704000000000001,"± 0.020",15.454000000000001,"± 0.020",{"$f":"(D4/B4)","v":0.92516762452107282},{"$f":"[1]!AgePb76($F$4)","v":5127.8325019114936}]
["G unit)",20.149000000000001,"± 0.030",16.085000000000001,"± 0.028",0.79830264529257033,{"$f":"[1]!AgePb76($F$5)","v":4918.7113215010277}]
["STILL 19 ",33.950000000000003,"± 0.030",18.579999999999998,"± 0.013",0.54727540500736371,{"$f":"[1]!AgePb76($F$6)","v":4373.8889608489126}]
["G-H sequence",17.667000000000002,"± 0.017",15.606999999999999,"± 0.018",0.88339842644478395,{"$f":"[1]!AgePb76($F$7)","v":5062.5313767035705}]
["STILL 21 ",16.422000000000001,"± 0.020",15.416,"± 0.030",0.93874071367677503,{"$f":"[1]!AgePb76($F$8)","v":5148.3817452490548}]
["STILL 22 ",17.154,"± 0.013",15.567,"± 0.015",0.90748513466246938,{"$f":"[1]!AgePb76($F$9)","v":5100.5774167663603}]
["STILL 28 ",16.427,"± 0.015",15.292999999999999,"± 0.017",0.9309673099166007,{"$f":"[1]!AgePb76($F$10)","v":5136.6518622630001}]
[null,15.836,"± 0.012",15.205,"± 0.014",0.96015407931295782,{"$f":"[1]!AgePb76($F$11)","v":5180.1696803127224}]
["STILL 30 ",16.952999999999999,"± 0.013",15.401999999999999,"± 0.015",0.90851176782870291,{"$f":"[1]!AgePb76($F$12)","v":5102.1751590741724}]
["B. Eltjdrvi Complex",16.361999999999998,"± 0.021",15.327999999999999,"± 0.028",0.93680479159027019,{"$f":"[1]!AgePb76($F$13)","v":5145.4701294875977}]
["A 547 peridotite",16.119,"± 0.015",15.297000000000001,"± 0.017",0.94900428066257214,{"$f":"[1]!AgePb76($F$14)","v":5163.7126459862911}]
["A 548 pyroxenite",14.936,"± 0.011",15.085000000000001,"± 0.015",1.0099758971612214,{"$f":"[1]!AgePb76($F$15)","v":5251.3167579465789}]
["A 549 peridotite",14.345000000000001,"± 0.016",15.003,"± 0.018",1.045869640989892,{"$f":"[1]!AgePb76($F$16)","v":5300.3122510607545}]
["A 550 dunite",15.156000000000001,"± 0.018",14.955,"± 0.020",0.98673792557403006,{"$f":"[1]!AgePb76($F$17)","v":5218.6052170594276}]
["A 551 serpentinite",15.305999999999999,"± 0.015",15.058,"± 0.019",0.98379720371096302,{"$f":"[1]!AgePb76($F$18)","v":5214.4076731018731}]
["C. Porttivaara Complex",15.724,"± 0.020",15.089,"± 0.025",0.95961587382345459,{"$f":"[1]!AgePb76($F$19)","v":5179.3799485111094}]
["Por 1 metaperidotite",15.871,"± 0.015",15.081,"± 0.018",0.9502236784071576,{"$f":"[1]!AgePb76($F$20)","v":5165.5224095712638}]
["Por 2 gabbro",16.3,"± 0.03",15.4,"± 0.03",0.94478527607361962,{"$f":"[1]!AgePb76($F$21)","v":5157.4319823127353}]
["Por 3 olivine gabbro",17.420000000000002,"± 0.02",15.47,"± 0.02",0.88805970149253721,{"$f":"[1]!AgePb76($F$22)","v":5069.9792468981523}]
["Por 4 gabbro",18.940000000000001,"± 0.025",15.74,"± 0.03",0.83104540654699044,{"$f":"[1]!AgePb76($F$23)","v":4975.8958658127822}]
["Por 5 gabbro",18.007000000000001,"± 0.011",15.457000000000001,"± 0.015",0.85838840450935749,{"$f":"[1]!AgePb76($F$24)","v":5021.8442675344995}]
["Por 6 anorthositic gabbro",17.411999999999999,"± 0.020",15.526,"± 0.020",0.89168389616356536,{"$f":"[1]!AgePb76($F$25)","v":5075.7414554739971}]
["D. Bushveld Complex",17.425999999999998,"± 0.023",15.516999999999999,"± 0.026",0.89045105015494097,{"$f":"[1]!AgePb76($F$26)","v":5073.7841111068574}]
["anorthosite",17.620999999999999,"± 0.012",15.5,"± 0.010",0.87963225696612002,{"$f":"[1]!AgePb76($F$27)","v":5056.4832093766063}]
["chromitite",17.61,"± 0.013",15.484999999999999,"± 0.015",0.87932992617830774,{"$f":"[1]!AgePb76($F$28)","v":5055.9964995916835}]
["B44 gabbro",18.670999999999999,"± 0.004",15.581,"± 0.007",0.83450270472925925,{"$f":"[1]!AgePb76($F$29)","v":4981.793667535936}]
["E. Duluth gabbro",18.670999999999999,"± 0.015",15.582000000000001,"± 0.017",0.83455626372449254,{"$f":"[1]!AgePb76($F$30)","v":4981.8848294037634}]
["North Shore",18.122,"± 0.015",15.512,"± 0.019",0.85597616157157053,{"$f":"[1]!AgePb76($F$31)","v":5017.85358796725}]
["CL 1 diabase",17.655000000000001,"± 0.012",15.465999999999999,"± 0.016",0.87601246105918995,{"$f":"[1]!AgePb76($F$32)","v":5050.6441575152676}]
["CL 2 anorthosite",17.408000000000001,"± 0.016",15.464,"± 0.018",0.88832720588235292,{"$f":"[1]!AgePb76($F$33)","v":5070.4054114047749}]
[null,17.427,"± 0.018",15.49,"± 0.020",0.88885063407356402,{"$f":"[1]!AgePb76($F$34)","v":5071.2388976465518}]
["Duluth Complex",18.117000000000001,"± 0.027",15.544,"± 0.027",0.85797869404426785,{"$f":"[1]!AgePb76($F$35)","v":5021.1673056043246}]
["Anorthositic series",18.113,"± 0.022",18.539000000000001,"± 0.020",1.0235190194887651,{"$f":"[1]!AgePb76($F$36)","v":5270.016242332309}]
["62 10 32 4A ",17.776,"± 0.012",15.496,"± 0.016",0.8717371737173718,{"$f":"[1]!AgePb76($F$37)","v":5043.7146746579983}]
[null,18.963999999999999,"± 0.018",15.61,"± 0.016",0.82313857835899606,{"$f":"[1]!AgePb76($F$38)","v":4962.3090126893549}]
["62 11 33 lA ",18.952000000000002,"± 0.018",15.595000000000001,"± 0.018",0.82286829886027857,{"$f":"[1]!AgePb76($F$39)","v":4961.842123442806}]
[]
["Troctolitic series",17.449000000000002,1.4999999999999999E-2,15.307,1.2999999999999999E-2,0.87724224883947499,{"$f":"[1]!AgePb76($F$41)","v":5052.6307809247273}]
["Bald Eagle Intrusion",17.492000000000001,0.03,15.356,0.03,0.87788703407271895,{"$f":"[1]!AgePb76($F$42)","v":5053.6711992026285}]
["CL3 gabbro",17.510000000000002,4.3999999999999997E-2,15.35,0.04,0.87664191890348364,{"$f":"[1]!AgePb76($F$43)","v":5051.6613655481542}]
["M 6651 troctolite",17.302,1.2E-2,15.223000000000001,2.1999999999999999E-2,0.8798404808692637,{"$f":"[1]!AgePb76($F$44)","v":5056.818317195025}]
[]
[]
["TABLE 2A",null,null,"206Pb/204Pb","207Pb/204Pb","207/206Pb","207/206Pb"]
[null,null,null,"Ratio","Ratio","Ratio","Age"]
[null,11,"U.B.",15.85,15.14,{"$f":"(E49/D49)","v":0.955205047318612},{"$f":"[1]!AgePb76($F$49)","v":5172.8900387316853}]
[null,13,"U.B.",15.74,15,{"$f":"(E50/D50)","v":0.95298602287166456},{"$f":"[1]!AgePb76($F$50)","v":5169.613054524475}]
[null,12,"U.B.",15.51,15.07,0.97163120567375894,{"$f":"[1]!AgePb76($F$51)","v":5196.8999565150325}]
[null,14,"U.B.",15.37,14.94,0.97202342225113858,{"$f":"[1]!AgePb76($F$52)","v":5197.4679925199534}]
[null,16,"U.B.",14.46,14.82,1.0248962655601659,{"$f":"[1]!AgePb76($F$53)","v":5271.9031965172044}]
[null,17,"B.",15.38,15.01,0.97594278283485036,{"$f":"[1]!AgePb76($F$54)","v":5203.1310088713799}]
[null,18,"B.",14.89,14.84,0.99664204163868364,{"$f":"[1]!AgePb76($F$55)","v":5232.6455396684614}]
[null,19,"U.B.",15.56,14.95,0.96079691516709509,{"$f":"[1]!AgePb76($F$56)","v":5181.112327021141}]
[null,25,"U.B.",14.88,14.94,1.004032258064516,{"$f":"[1]!AgePb76($F$57)","v":5243.0263407572093}]
[null,27,"B.",21.15,15.85,0.74940898345153673,{"$f":"[1]!AgePb76($F$58)","v":4828.4975475646788}]
[]
[]
[null,null,"206Pb/204Pb","207Pb/204Pb","207/206Pb","207/206Pb","TABLE 2B"]
[null,null,"Ratio","Ratio","Ratio","Age"]
[1,"B",14.7,14.88,{"$f":"(D63/C63)","v":1.0122448979591838},{"$f":"[1]!AgePb76($E$63)","v":5254.4680582337351},3.9100000000000003E-2,0.375,6.04,0.61899999999999999,1.677]
[2,"B",14.83,14.91,{"$f":"(D64/C64)","v":1.0053944706675657},{"$f":"[1]!AgePb76($E$64)","v":5244.9309802883718},3.1800000000000002E-2,0.92800000000000005,6.11,0.20300000000000001,1.6970000000000001]
[3,"B",14.72,14.89,1.0115489130434783,{"$f":"[1]!AgePb76($E$65)","v":5253.5022343125347},3.8E-3,0.11940000000000001,7.2,0.22,2]
[4,"B",15.38,14.98,0.97399219765929779,{"$f":"[1]!AgePb76($E$66)","v":5200.3156551361035},4.1300000000000003E-2,0.29899999999999999,12.2,1.68,3.38]
[5,"B",15.84,15.03,0.94886363636363635,{"$f":"[1]!AgePb76($E$67)","v":5163.5037510770044},6.25E-2,0.28699999999999998,16.850000000000001,3.56,4.68]
[6,"B",15.12,14.95,0.98875661375661372,{"$f":"[1]!AgePb76($E$68)","v":5221.4790137102873},0,1.55,9.4499999999999993,0,2.48]

{"sheet":"Exc_15","index":15,"n_rows":16,"n_cols":6,"rows_kept":16,"cut":false,"hidden":false,"merged":[]}
[]
[null,null,"206Pb/204Pb","207Pb/204Pb","207/206Pb","207/206Pb"]
["Sample","Pb","Ratio","Ratio","Ratio","Age"]
[]
["DRL-41 b",27.3,16.777999999999999,15.516,{"$f":"(D5/C5)","v":0.92478245321254027},{"$f":"[1]!AgePb76($E$5)","v":5127.2447141571702}]
["DRL-45",14.3,17.411999999999999,15.6,{"$f":"(D6/C6)","v":0.89593383873190902},{"$f":"[1]!AgePb76($E$6)","v":5082.4670012855859}]
["DRL-48",17.100000000000001,17.324999999999999,15.635999999999999,0.90251082251082249,{"$f":"[1]!AgePb76($E$7)","v":5092.8086983794738}]
["DRL-49",15.4,16.907,15.574,0.9211569172532087,{"$f":"[1]!AgePb76($E$8)","v":5121.6992488228325}]
["DRL-50",16.600000000000001,16.89,15.565,0.9215512137359384,{"$f":"[1]!AgePb76($E$9)","v":5122.3034675625768}]
["DRL-65 b",22.9,17.420000000000002,15.62,0.89667049368541896,{"$f":"[1]!AgePb76($E$10)","v":5083.6293189976186}]
["DRL-93",28.5,18.77,15.86,0.84496537027171015,{"$f":"[1]!AgePb76($E$11)","v":4999.4849932234856}]
["DRL-107",33.9,21.216000000000001,16.088000000000001,0.75829562594268474,{"$f":"[1]!AgePb76($E$12)","v":4845.3523340663896}]
["DRL-122 b",28.6,19.902999999999999,15.94,0.8008842888006833,{"$f":"[1]!AgePb76($E$13)","v":4923.3099383017752}]
["DRL-92",28.1,18.763999999999999,15.84,0.84416968663397995,{"$f":"[1]!AgePb76($E$14)","v":4998.1477692171202}]
["DRL-113 a,b",27.1,17.439,15.621,0.89575090314811634,{"$f":"[1]!AgePb76($E$15)","v":5082.1782026049877}]
["DRL-121 a",31.2,19.611000000000001,15.907,0.81112640864820762,{"$f":"[1]!AgePb76($E$16)","v":4941.3998435270114}]

{"sheet":"Exc_16","index":16,"n_rows":17,"n_cols":10,"rows_kept":17,"cut":false,"hidden":false,"merged":[]}
["Sample","Pb206/Pb204","Pb207/Pb204","Pb207/Pb206","Pb207/Pb206","Pb206/Pb204","Pb207/Pb204","Pb207/Pb206","Pb207/Pb206","TABLE 2."]
["Number","Ratio","Ratio","Ratio","Age","Ratio","Ratio","Ratio","Age"]
["TR7-4-I",19.62,15.7,{"$f":"(C3/B3)","v":0.80020387359836898},{"$f":"[1]!AgePb76($D$3)","v":4922.0994642630321},17.97,15.62,{"$f":"(G3/F3)","v":0.86922648859209795},{"$f":"[1]!AgePb76($H$3)","v":5039.6284702309686}]
["TR7-8-1",21.55,15.79,{"$f":"(C4/B4)","v":0.73271461716937347},{"$f":"[1]!AgePb76($D$4)","v":4796.2500249686682},20.170000000000002,15.72,{"$f":"(G4/F4)","v":0.77937530986613779},{"$f":"[1]!AgePb76($H$4)","v":4884.5053002117211}]
["TR-8-2",22.83,15.77,0.69075777485764345,{"$f":"[1]!AgePb76($D$5)","v":4711.6112396459612},19.78,15.65,0.79120323559150652,{"$f":"[1]!AgePb76($H$5)","v":4905.9832549942621}]
["TR7-1O",19.440000000000001,15.64,0.80452674897119336,{"$f":"[1]!AgePb76($D$6)","v":4929.7714049967699},18.39,15.62,0.84937466014138108,{"$f":"[1]!AgePb76($H$6)","v":5006.8710748583926}]
["HCL-Leaches",null,null,null,null,19.079999999999998,15.65,0.82023060796645708,{"$f":"[1]!AgePb76($H$7)","v":4957.2771156494373}]
[]
["TABLE 3",null,null,null,null,"TABLE 3"]
["Pb206/Pb204","Pb207/Pb204","Pb207/Pb206","Pb207/Pb206",null,"Pb206/Pb204","Pb207/Pb204","Pb207/Pb206","Pb207/Pb206"]
["Ratio","Ratio","Ratio","Age",null,"Ratio","Ratio","Ratio","Age"]
[20.59,15.73,{"$f":"(B12/A12)","v":0.76396308887809616},{"$f":"[1]!AgePb76($C$12)","v":4855.9918841337958},null,19.440000000000001,15.67,{"$f":"(G12/F12)","v":0.80606995884773658},{"$f":"[1]!AgePb76($H$12)","v":4932.499569250901}]
[22.23,15.84,{"$f":"(B13/A13)","v":0.71255060728744934},{"$f":"[1]!AgePb76($C$13)","v":4756.2383526456679},null,19.3,15.7,0.81347150259067347,{"$f":"[1]!AgePb76($H$13)","v":4945.5076249325321}]
[20.170000000000002,15.74,{"$f":"(B14/A14)","v":0.7803668815071888},{"$f":"[1]!AgePb76($C$14)","v":4886.3191494490275},null,19.02,15.69,0.82492113564668768,{"$f":"[1]!AgePb76($H$14)","v":4965.3841816690228}]
[19.649999999999999,15.74,{"$f":"(B15/A15)","v":0.80101781170483466},{"$f":"[1]!AgePb76($C$15)","v":4923.5473501275228},null,19.649999999999999,15.74,0.80101781170483466,{"$f":"[1]!AgePb76($H$15)","v":4923.5473501275228}]
[19.25,15.66,{"$f":"(B16/A16)","v":0.81350649350649351},{"$f":"[1]!AgePb76($C$16)","v":4945.5688213302401},null,18.96,15.65,0.82542194092827004,{"$f":"[1]!AgePb76($H$16)","v":4966.2468721377409}]
[null,null,null,null,null,19.27,15.69,0.81421899325376235,{"$f":"[1]!AgePb76($H$17)","v":4946.8143196297287}]

{"sheet":"Exc_17","index":17,"n_rows":5,"n_cols":24,"rows_kept":5,"cut":false,"hidden":false,"merged":[]}
["Table 2"]
["206Pb/204",18.387,18.483000000000001,20.332999999999998,20.256,20.872,18.635999999999999,20.459,20.43,19.841999999999999,18.952000000000002,19.452000000000002,18.783999999999999,18.219000000000001,18.172999999999998,18.100999999999999,18.084,17.588999999999999,20.167999999999999,19.835000000000001,17.991,20.27,19.082000000000001,18.782]
["207Pb/204",15.531000000000001,15.531000000000001,15.657999999999999,15.651999999999999,15.749000000000001,15.534000000000001,15.708,15.705,15.603999999999999,15.617000000000001,15.608000000000001,15.574,15.477,15.484999999999999,15.465,15.473000000000001,15.476000000000001,15.725,15.618,15.49,15.662000000000001,15.58,15.542]
["207Pb/206",{"$f":"(B3/B2)","v":0.84467286669929842},{"$f":"(C3/C2)","v":0.84028566791105341},0.77007819800324595,0.77270932069510267,0.75455155231889615,0.83354797166773997,0.76777946136174791,0.7687224669603524,0.78641266001411148,0.82402912621359226,0.80238535883199669,0.82910988074957415,0.84949777704594098,0.85208826280746164,0.85437268659190102,0.85561822605618232,0.87986809938029464,0.77970051566838561,0.78739601714141672,0.86098604857984551,0.7726689689195857,0.81647626035006815,0.82749440954104991]
["Age",{"$f":"[1]!AgePb76(B4)","v":4998.9935679675546},{"$f":"[1]!AgePb76(C4)","v":4991.6010181114989},{"$f":"[1]!AgePb76(D4)","v":4867.3778674482373},{"$f":"[1]!AgePb76(E4)","v":4872.247258300722},{"$f":"[1]!AgePb76(F4)","v":4838.2769711109413},{"$f":"[1]!AgePb76(G4)","v":4980.1675883214348},{"$f":"[1]!AgePb76(H4)","v":4863.1090896493915},{"$f":"[1]!AgePb76(I4)","v":4864.8619059998091},{"$f":"[1]!AgePb76(J4)","v":4897.3256613669464},{"$f":"[1]!AgePb76(K4)","v":4963.8462204596972},{"$f":"[1]!AgePb76(L4)","v":4925.9765104520784},{"$f":"[1]!AgePb76(M4)","v":4972.5826575727415},{"$f":"[1]!AgePb76(N4)","v":5007.076725359163},{"$f":"[1]!AgePb76(O4)","v":5011.3964643478694},{"$f":"[1]!AgePb76(P4)","v":5015.1942760810325},{"$f":"[1]!AgePb76(Q4)","v":5017.2604222585587},{"$f":"[1]!AgePb76(R4)","v":5056.8627590808555},{"$f":"[1]!AgePb76(S4)","v":4885.1004591483934},{"$f":"[1]!AgePb76(T4)","v":4899.1073692198279},{"$f":"[1]!AgePb76(U4)","v":5026.1283712541263},{"$f":"[1]!AgePb76(V4)","v":4872.1727131464686},{"$f":"[1]!AgePb76(W4)","v":4950.7525376537023},{"$f":"[1]!AgePb76(X4)","v":4969.8110142918003}]

{"sheet":"Exc_18","index":18,"n_rows":19,"n_cols":20,"rows_kept":19,"cut":false,"hidden":false,"merged":[]}
[null,null,null,"206Pb/204Pb",null,"206Pb/238U",null,"Pb207/U235","Age",null,"208Pb/232Th"]
["493026-05",134,93,8745,0.66,0.56220000000000003,1.3,181.62299999999999,{"$f":"[1]!AgePb7U5(H2)","v":5287.5299980786385},0.94,0.14130000000000001,{"$f":"[1]!AgePb8Th2(K2)","v":2671.4090667492123},0.64,0.23430000000000001,0.5,2876,76,3082,15,4.0999999999999996]
["493026-07",116,75,12159,0.59,0.52300000000000002,1.8,160.38900000000001,{"$f":"[1]!AgePb7U5(H3)","v":5162.0222367444467},0.95,0.152,{"$f":"[1]!AgePb8Th2(K3)","v":2860.0214709186339},1.9,0.22239999999999999,0.6,2712,100,2998,19,5.8]
["493026-08",60,44,14205,0.8,0.58160000000000001,1.5,183.70099999999999,{"$f":"[1]!AgePb7U5(H4)","v":5299.0184305992825},0.87,0.13650000000000001,{"$f":"[1]!AgePb8Th2(K4)","v":2586.2226237586838},0.62,0.2291,0.9,2955,88,3046,27,1.8]
["493026-10",52,41,21922,0.83,0.64139999999999997,1.9,204.339,{"$f":"[1]!AgePb7U5(H5)","v":5406.5718351903397},0.96,0.1208,{"$f":"[1]!AgePb8Th2(K5)","v":2305.0574237627125},2,0.23100000000000001,0.5,3195,120,3059,16,"−2.7"]
["493026-11",202,135,0.42,0.57540000000000002,1.4,184.16499999999999,184.16499999999999,{"$f":"[1]!AgePb7U5(H6)","v":5301.5660450535379},0.1444,0.1444,{"$f":"[1]!AgePb8Th2(K6)","v":2726.2351125582254},0.2321,0.5,2930,2930,80,3067,17,2.7]
[]
[]
[]
[]
[]
[]
[null,null,null,null,null,null,null,"207Pb/235U","208Pb/232Th","206Pb/238U","207Pb/206Pb"]
[null,null,null,null,null,null,null,"Age","Age","Age","Age"]
[null,null,null,null,null,null,null,5287.5299980786385,2671.4090667492123,2876,3082]
[null,null,null,null,null,null,null,5162.0222367444467,2860.0214709186339,2712,2998]
[null,null,null,null,null,null,null,5299.0184305992825,2586.2226237586838,2955,3046]
[null,null,null,null,null,null,null,5406.5718351903397,2305.0574237627125,3195,3059]
[null,null,null,null,null,null,null,5301.5660450535379,2726,2930,3067]

{"sheet":"Exc_19","index":19,"n_rows":53,"n_cols":5,"rows_kept":53,"cut":false,"hidden":false,"merged":[]}
["Sample","206Pb/204Pb","207Pb/204Pb","207Pb/206Pb","207Pb/206Pb"]
["Name","Ratio","Ratio","Ratio","Age"]
["Morro Agudo"]
["MA-N-7",17.63,15.66,{"$f":"(C4/B4)","v":0.8882586500283608},{"$f":"[1]!AgePb76($D$4)","v":5070.2962072104665}]
["MA-N-8",17.649999999999999,15.64,{"$f":"(C5/B5)","v":0.88611898016997181},{"$f":"[1]!AgePb76($D$5)","v":5066.8833769767216}]
["MA-IC-11",17.649999999999999,15.64,0.88611898016997181,{"$f":"[1]!AgePb76($D$6)","v":5066.8833769767216}]
["MA-IC-24",17.690000000000001,15.68,0.88637648388920287,{"$f":"[1]!AgePb76($D$7)","v":5067.29456465161}]
["MA-IC-25",17.59,15.64,0.88914155770324055,{"$f":"[1]!AgePb76($D$8)","v":5071.7019278201142}]
["MA-IC-39",17.62,15.61,0.88592508513053336,{"$f":"[1]!AgePb76($D$9)","v":5066.5736774010757}]
["MA-IC-40",17.66,15.64,0.88561721404303517,{"$f":"[1]!AgePb76($D$10)","v":5066.0817814138418}]
["MA-IC-46",17.63,15.65,0.88769143505388548,{"$f":"[1]!AgePb76($D$11)","v":5069.3923343447759}]
["MA-N-4a",17.79,15.79,0.88757729061270374,{"$f":"[1]!AgePb76($D$12)","v":5069.2103679574057}]
["MA-N-4c",17.850000000000001,15.77,0.88347338935574216,{"$f":"[1]!AgePb76($D$13)","v":5062.651483329284}]
["MA-IC-9",17.75,15.68,0.88338028169014082,{"$f":"[1]!AgePb76($D$14)","v":5062.5023032983736}]
["MA-IC-10",17.79,15.74,0.88476672287802138,{"$f":"[1]!AgePb76($D$15)","v":5064.7219798635406}]
["MA-IC-34",17.77,15.7,0.88351153629712997,{"$f":"[1]!AgePb76($D$16)","v":5062.7125987426043}]
["MA-IC-37",17.82,15.79,0.88608305274971932,{"$f":"[1]!AgePb76($D$17)","v":5066.8259971964972}]
["MA-IC-47",17.82,15.77,0.88496071829405154,{"$f":"[1]!AgePb76($D$18)","v":5065.0322700352353}]
["MA-IC-48",17.84,15.79,0.88508968609865468,{"$f":"[1]!AgePb76($D$19)","v":5065.2385104598698}]
["MA-IC-4",17.68,15.61,0.88291855203619907,{"$f":"[1]!AgePb76($D$20)","v":5061.7622589794337}]
["MA-IC-12",17.760000000000002,15.72,0.88513513513513509,{"$f":"[1]!AgePb76($D$21)","v":5065.3111832400664}]
["MA-IC-14",17.72,15.65,0.88318284424379245,{"$f":"[1]!AgePb76($D$22)","v":5062.1859076169148}]
["MA-IC-16",17.760000000000002,15.7,0.88400900900900892,{"$f":"[1]!AgePb76($D$23)","v":5063.5093461837769}]
["MA-IC-19A",17.71,15.63,0.88255223037831732,{"$f":"[1]!AgePb76($D$24)","v":5061.1748391688898}]
["MA-IC-19B",17.739999999999998,15.63,0.88105975197294262,{"$f":"[1]!AgePb76($D$25)","v":5058.7788795688002}]
["MA-IC-33",17.7,15.65,0.88418079096045199,{"$f":"[1]!AgePb76($D$26)","v":5063.7843600108072}]
["MA-IC-33B",17.73,15.66,0.88324873096446699,{"$f":"[1]!AgePb76($D$27)","v":5062.2915001531082}]
["MA-IC-41",17.77,15.76,0.88688801350590885,{"$f":"[1]!AgePb76($D$28)","v":5068.1110108172879}]
["JK 1a",18,15.94,0.88555555555555554,{"$f":"[1]!AgePb76($D$29)","v":5065.9832457746288}]
["JK 2a",17.87,15.77,0.8824846110800223,{"$f":"[1]!AgePb76($D$30)","v":5061.0663790937533}]
["MA-IC-44",17.73,15.66,0.88324873096446699,{"$f":"[1]!AgePb76($D$31)","v":5062.2915001531082}]
["MA-IC-45",17.79,15.75,0.88532883642495785,{"$f":"[1]!AgePb76($D$32)","v":5065.6208662485806}]
["MA-IC-50",17.809999999999999,15.76,0.88489612577203824,{"$f":"[1]!AgePb76($D$33)","v":5064.9289641394298}]
["MA-IC-51",17.75,15.68,0.88338028169014082,{"$f":"[1]!AgePb76($D$34)","v":5062.5023032983736}]
["MA-IC-53",17.68,15.66,0.8857466063348417,{"$f":"[1]!AgePb76($D$35)","v":5066.2885379219379}]
["MA-IC-52",17.739999999999998,15.66,0.88275084554678696,{"$f":"[1]!AgePb76($D$36)","v":5061.4933631737986}]
["GHI 1b",17.850000000000001,15.79,0.88459383753501386,{"$f":"[1]!AgePb76($D$37)","v":5064.4453938332963}]
["Vazante"]
["VZ-IC-F797",17.72,15.67,0.88431151241534989,{"$f":"[1]!AgePb76($D$39)","v":5063.9936001791748}]
["VZ-IC-F1106",17.73,15.67,0.88381274675690913,{"$f":"[1]!AgePb76($D$40)","v":5063.1950712969046}]
["VZ-IC-F1136",17.760000000000002,15.71,0.884572072072072,{"$f":"[1]!AgePb76($D$41)","v":5064.410568870896}]
["VZ 01",17.7,15.65,0.88418079096045199,{"$f":"[1]!AgePb76($D$42)","v":5063.7843600108072}]
["Fagundes"]
["FG-64-14A",17.82,15.7,0.88103254769921435,{"$f":"[1]!AgePb76($D$44)","v":5058.735167069568}]
["FG-76-15",17.829999999999998,15.68,0.87941671340437477,{"$f":"[1]!AgePb76($D$45)","v":5056.1362329094545}]
["FG-76-42",17.760000000000002,15.66,0.88175675675675669,{"$f":"[1]!AgePb76($D$46)","v":5059.8983560227134}]
["FG-79-2",17.829999999999998,15.71,0.88109927089175555,{"$f":"[1]!AgePb76($D$47)","v":5058.8423769932397}]
["FG-IC-F64",17.809999999999999,15.67,0.87984278495227408,{"$f":"[1]!AgePb76($D$48)","v":5056.8220248299813}]
["FG-IC-F76",17.77,15.65,0.88069780528981434,{"$f":"[1]!AgePb76($D$49)","v":5058.1971774513704}]
["Ambrósia"]
["AM-IC-F104",17.739999999999998,15.69,0.8844419391206314,{"$f":"[1]!AgePb76($D$51)","v":5064.202335857628}]
["AM-IC-F98",17.739999999999998,15.63,0.88105975197294262,{"$f":"[1]!AgePb76($D$52)","v":5058.7788795688002}]
["AM-73-15",17.850000000000001,15.67,0.87787114845938363,{"$f":"[1]!AgePb76($D$53)","v":5053.6455760966255}]

{"sheet":"Exc_20","index":20,"n_rows":25,"n_cols":10,"rows_kept":25,"cut":false,"hidden":false,"merged":[]}
[null,"206/204",null,"207/204","Pb207/Pb206","Pb207/Pb206",null,null,null,"Table 5"]
[null,"Ratio",null,"Ratio","Ratio","Age"]
["O6-19M-step1",20.715,2.8000000000000001E-2,16.297000000000001,{"$f":"(D3/B3)","v":0.78672459570359643},{"$f":"[1]!AgePb76($E$3)","v":4897.8911026826527},2.3E-2,39.426000000000002,5.8000000000000003E-2]
["O6-19M-step2",22.643000000000001,3.1E-2,16.686,{"$f":"(D4/B4)","v":0.73691648633131646},{"$f":"[1]!AgePb76($E$4)","v":4804.4397979492132},2.3E-2,45.551000000000002,6.5000000000000002E-2]
["O6-19M-step3",53.997999999999998,7.0000000000000007E-2,20.827000000000002,0.3856994703507538,{"$f":"[1]!AgePb76($E$5)","v":3854.2452792114386},2.7E-2,103.462,0.14000000000000001]
["O6-19M-step4",331.64600000000002,0.151,61.872,0.18656036858578121,{"$f":"[1]!AgePb76($E$6)","v":2712.0736535466863},2.8000000000000001E-2,628.88800000000003,0.28999999999999998]
["O6-19M-residue",78.876000000000005,0.10100000000000001,24.306999999999999,0.30816724986054056,{"$f":"[1]!AgePb76($E$7)","v":3511.7667895822105},3.1E-2,42.247,5.5E-2]
["Intrafolial"]
["O6-19L-step1",21.908999999999999,3.1E-2,16.643999999999998,0.75968779953443788,{"$f":"[1]!AgePb76($E$9)","v":4847.9737007079775},2.4E-2,38.734999999999999,5.8000000000000003E-2]
["O6-19L-step2",23.34,3.3000000000000002E-2,16.885000000000002,0.72343616109682951,{"$f":"[1]!AgePb76($E$10)","v":4777.9866305960495},2.4E-2,38.820999999999998,0.06]
["O6-19L-step3",24.547999999999998,3.4000000000000002E-2,17.074000000000002,0.6955352778230407,{"$f":"[1]!AgePb76($E$11)","v":4721.5221273569723},2.4E-2,43.289000000000001,6.5000000000000002E-2]
["O6-19L-step4",40.432000000000002,6.8000000000000005E-2,19.077000000000002,0.47182924416303917,{"$f":"[1]!AgePb76($E$12)","v":4155.5196814158517},3.4000000000000002E-2,63.621000000000002,0.121]
["O6-19L-residue",29.143999999999998,3.6999999999999998E-2,17.073,0.58581526214658253,{"$f":"[1]!AgePb76($E$13)","v":4473.2048063909742},2.1999999999999999E-2,38.777000000000001,0.05]
["Quartzo-feldspathic"]
["RB24-step1",23.745999999999999,3.5000000000000003E-2,16.489000000000001,0.69439063421207792,{"$f":"[1]!AgePb76($E$15)","v":4719.1542195765714},2.4E-2,44.183999999999997,6.7000000000000004E-2]
["RB24-step2",25.402000000000001,3.4000000000000002E-2,16.853999999999999,0.66349106369577193,{"$f":"[1]!AgePb76($E$16)","v":4653.6052149067355},2.3E-2,49.026000000000003,7.0999999999999994E-2]
["RB24-step3",33.188000000000002,0.17899999999999999,18.135000000000002,0.54643244546221525,{"$f":"[1]!AgePb76($E$17)","v":4371.6332186708705},0.104,81.454999999999998,0.54400000000000004]
["RB24-step4",63.348999999999997,9.6000000000000002E-2,23.405999999999999,0.36947702410456362,{"$f":"[1]!AgePb76($E$18)","v":3789.2763128083293},3.6999999999999998E-2,187.08,0.31900000000000001]
["RB24-residue",26.053000000000001,3.2000000000000001E-2,16.826000000000001,0.6458373315932906,{"$f":"[1]!AgePb76($E$19)","v":4614.67133789737},2.1000000000000001E-2,41.45,5.1999999999999998E-2]
["Metapelite"]
["TOV13-step1",70.343999999999994,9.7000000000000003E-2,23.614000000000001,0.33569316501762769,{"$f":"[1]!AgePb76($E$21)","v":3643.2772388475396},3.3000000000000002E-2,55.655999999999999,0.08]
["TOV13-step2",34.253,0.05,18.77,0.54798119872711881,{"$f":"[1]!AgePb76($E$22)","v":4375.7747684841088},2.9000000000000001E-2,52.845999999999997,8.5000000000000006E-2]
["TOV13-step3",236.328,0.33200000000000002,43.563000000000002,0.18433279171321215,{"$f":"[1]!AgePb76($E$23)","v":2692.2445765488033},6.3E-2,510.93299999999999,0.76900000000000002]
["TOV13-step4",261.77999999999997,0.33800000000000002,46.021000000000001,0.17580029032011615,{"$f":"[1]!AgePb76($E$24)","v":2613.6442418895281},0.06,638.37199999999996,0.83699999999999997]
["TOV13-residue",144.738,0.247,32.981999999999999,0.22787381337312937,{"$f":"[1]!AgePb76($E$25)","v":3037.1744619556771},5.8000000000000003E-2,67.161000000000001,0.11899999999999999]

{"sheet":"Exc_21","index":21,"n_rows":35,"n_cols":11,"rows_kept":35,"cut":false,"hidden":false,"merged":[]}
[null,null,"Pb206/Pb204","Pb207/Pb204","Pb207/Pb206","Pb207/Pb206","Pb206/Pb204","Pb207/Pb204","Pb207/Pb206","Pb207/Pb206","Table 3."]
[null,null,"Ratio","Ratio","Ratio","Age","Ratio","Ratio","Ratio","Age"]
["TYO",101,18.355,15.561999999999999,{"$f":"(D3/C3)","v":0.84783437755379998},{"$f":"[1]!AgePb76($E$3)","v":5004.2955575340138},18.32,15.56,{"$f":"(H3/G3)","v":0.8493449781659389},{"$f":"[1]!AgePb76($I$3)","v":5006.8214903088437}]
["TYO",102,18.41,15.577,{"$f":"(D4/C4)","v":0.84611624117327533},{"$f":"[1]!AgePb76($E$4)","v":5001.4167794024943},18.38,15.58,0.84766050054406972,{"$f":"[1]!AgePb76($I$4)","v":5004.0045044384851}]
["TYO",103,18.411000000000001,15.577999999999999,0.84612459942425711,{"$f":"[1]!AgePb76($E$5)","v":5001.4307988744149},18.38,15.58,0.84766050054406972,{"$f":"[1]!AgePb76($I$5)","v":5004.0045044384851}]
["TYO",104,18.407,15.573,0.84603683381322325,{"$f":"[1]!AgePb76($E$6)","v":5001.2835804126344},18.37,15.57,0.84757757212847029,{"$f":"[1]!AgePb76($I$6)","v":5003.8656680525592}]
["Ryozen"]
["RZ-1",0.70454600000000001,18.302,15.548,0.84952464211561585,{"$f":"[1]!AgePb76($E$8)","v":5007.1215956964979},18.29,15.55,0.850191361399672,{"$f":"[1]!AgePb76($I$8)","v":5008.2346751030973}]
["RZ-4",0.70460500000000004,18.332999999999998,15.555999999999999,0.84852451862761147,{"$f":"[1]!AgePb76($E$9)","v":5005.4501612533422},18.329999999999998,15.56,0.84888161483906177,{"$f":"[1]!AgePb76($I$9)","v":5006.0471905227068}]
["RZ-5",0.70485200000000003,18.387,15.564,0.84646761298743678,{"$f":"[1]!AgePb76($E$10)","v":5002.0060159517616},18.38,15.56,0.84657236126224167,{"$f":"[1]!AgePb76($I$10)","v":5002.1816243702642}]
["RZ-6",0.70487699999999998,18.401,15.577,0.84653007988696272,{"$f":"[1]!AgePb76($E$11)","v":5002.1107432558201},18.39,15.58,0.84719956498096793,{"$f":"[1]!AgePb76($I$11)","v":5003.2326364477258}]
["RZ-13",0.70438500000000004,18.276,15.542,0.85040490260450863,{"$f":"[1]!AgePb76($E$12)","v":5008.590983441447},18.27,15.54,0.85057471264367812,{"$f":"[1]!AgePb76($I$12)","v":5008.8742554723594}]
["RZ-16",0.70485699999999996,18.425000000000001,15.577999999999999,0.84548168249660782,{"$f":"[1]!AgePb76($E$13)","v":5000.3519908992885},18.41,15.58,0.84627919608908198,{"$f":"[1]!AgePb76($I$13)","v":5001.6900806241174}]
["Takadate"]
[1908,0.28310200000000002]
[1909,0.70439300000000005,18.41,15.583,0.84644215100488862,{"$f":"[1]!AgePb76($E$16)","v":5001.9633259523807},18.399999999999999,15.58,0.84673913043478266,{"$f":"[1]!AgePb76($I$16)","v":5002.4611619835523}]
[1910,0.70422200000000001,18.373999999999999,15.593999999999999,0.84869924893871773,{"$f":"[1]!AgePb76($E$17)","v":5005.7423262516131},18.37,15.59,0.84866630375612406,{"$f":"[1]!AgePb76($I$17)","v":5005.687243792584}]
[1911,0.28315000000000001]
[1912,0.70421100000000003,18.396000000000001,15.581,0.84697760382691878,{"$f":"[1]!AgePb76($E$19)","v":5002.8607882488022},18.38,15.58,0.84766050054406972,{"$f":"[1]!AgePb76($I$19)","v":5004.0045044384851}]
["Tomari"]
["TM-0",0.70476300000000003,18.436,15.581,0.84513994358863087,{"$f":"[1]!AgePb76($E$21)","v":4999.7782017847358},18.420000000000002,15.58,0.84581976112920731,{"$f":"[1]!AgePb76($I$21)","v":5000.9193919482495}]
["TM-1",0.70433599999999996,18.402000000000001,15.565,0.84583197478534933,{"$f":"[1]!AgePb76($E$22)","v":5000.9398857512761},18.39,15.56,0.84611201740076125,{"$f":"[1]!AgePb76($I$22)","v":5001.409694723181}]
["TM-2",0.70430099999999995,18.408000000000001,15.573,0.84599087353324642,{"$f":"[1]!AgePb76($E$23)","v":5001.2064799440013},18.399999999999999,15.57,0.84619565217391313,{"$f":"[1]!AgePb76($I$23)","v":5001.5499712205392}]
["TM-3",0.28313899999999997]
["SKD-1",0.28312999999999999]
["Mitaki"]
[1903,0.28316200000000002]
[1904,0.704399,18.452000000000002,15.586,0.84467808367656616,{"$f":"[1]!AgePb76($E$28)","v":4999.0023344160281},18.45,15.59,0.84498644986449867,{"$f":"[1]!AgePb76($I$28)","v":4999.5204013459124}]
[1905,0.70440899999999995,18.451000000000001,15.584,0.84461546799631448,{"$f":"[1]!AgePb76($E$29)","v":4998.8971131510789},18.45,15.58,0.84444444444444444,{"$f":"[1]!AgePb76($I$29)","v":4998.6096778205865}]
[1906,0.70449899999999999,18.454999999999998,15.587,0.84459496071525342,{"$f":"[1]!AgePb76($E$30)","v":4998.8626503002715},18.45,15.59,0.84498644986449867,{"$f":"[1]!AgePb76($I$30)","v":4999.5204013459124}]
[1907,0.28314299999999998]
["Iwate"]
[95072606,0.70432899999999998,18.556999999999999,15.596,0.84043757072802727,{"$f":"[1]!AgePb76($E$33)","v":4991.8576631664446},18.559999999999999,15.6,0.84051724137931039,{"$f":"[1]!AgePb76($I$33)","v":4991.9922497812549}]
[95073105,0.70424399999999998,18.553999999999998,15.6,0.84078904818368017,{"$f":"[1]!AgePb76($E$34)","v":4992.4513075729737},18.55,15.6,0.84097035040431267,{"$f":"[1]!AgePb76($I$34)","v":4992.7574234313015}]
[2082708,0.70426999999999995,18.545999999999999,15.585000000000001,0.84034293109026215,{"$f":"[1]!AgePb76($E$35)","v":4991.6977720182667},18.55,15.59,0.84043126684636116,{"$f":"[1]!AgePb76($I$35)","v":4991.84701352088}]

{"sheet":"Exc_22","index":22,"n_rows":76,"n_cols":16,"rows_kept":76,"cut":false,"hidden":false,"merged":[]}
["Sample","206Pb/204Pb","207Pb/204Pb","207Pb/206Pb","207Pb/206Pb","208Pb/204Pb","238U/204Pb","206Pb/238U","206Pb/238U",null,null,null,null,null,null,5004]
["Name","Ratio","Ratio","Ratio","Age","Ratio","Ratio","Ratio","Age","206Pb/204Pb","207Pb/204Pb","208Pb/204Pb","_7/4","_8/4",null,5034]
["JN2",16.626000000000001,15.226000000000001,{"$f":"(C3/B3)","v":0.91579453867436544},{"$f":"[1]!AgePb76($D$3)","v":5113.4546431642939},36.456000000000003,3.6684999999999999,{"$f":"(B3/G3)","v":4.5320975875698517},{"$f":"[1]!AgePb6U8(H3)","v":11027.023717682261},16.559999999999999,15.223000000000001,36.369,"−6.3",72.2,null,5045]
["JN4",16.91,15.22,{"$f":"(C4/B4)","v":0.90005913660555892},{"$f":"[1]!AgePb76($D$4)","v":5088.9630191118986},36.587000000000003,4.6363000000000003,{"$f":"(B4/G4)","v":3.647304963009296},{"$f":"[1]!AgePb6U8(H4)","v":9903.5453584634161},16.827000000000002,15.215999999999999,36.476999999999997,"−9.9",50.7,null,5051]
["JN14",16.827000000000002,15.266,0.90723242408034699,{"$f":"[1]!AgePb76($D$5)","v":5100.183831134148},36.734000000000002,0.46439999999999998,36.23385012919897,{"$f":"[1]!AgePb6U8(H5)","v":23318.087331090999},16.818999999999999,15.266,36.723999999999997,"−4.8",76.3,null,5062]
["JN6",16.939,15.288,0.90253261703760557,{"$f":"[1]!AgePb76($D$6)","v":5092.842835275208},36.692,5.6669,2.9891122130265226,{"$f":"[1]!AgePb6U8(H6)","v":8919.0569098690448},16.837,15.282999999999999,36.585999999999999,"−3.3",60.4,null,5065]
["JN7",16.734999999999999,15.269,0.91239916342993732,{"$f":"[1]!AgePb76($D$7)","v":5108.2077929180587},36.408000000000001,5.0007000000000001,3.346531485592017,{"$f":"[1]!AgePb6U8(H7)","v":9472.2202572525202},16.645,15.265000000000001,36.29,"−3.0",54,null,5068]
["JN8-1",16.742999999999999,15.269,0.91196320850504697,{"$f":"[1]!AgePb76($D$8)","v":5107.5326161518169},36.518000000000001,2.7323,6.1278044138637773,{"$f":"[1]!AgePb6U8(H8)","v":12660.778408764427},16.693999999999999,15.266,36.378999999999998,"−3.4",56.9,null,5074]
["JN9",16.827999999999999,15.272,0.90753506061326361,{"$f":"[1]!AgePb76($D$9)","v":5100.6551604987362},36.598999999999997,3.2050999999999998,5.2503822033633893,{"$f":"[1]!AgePb6U8(H9)","v":11813.973340317243},16.771000000000001,15.269,36.505000000000003,"−4.0",60.2,null,5079]
["JN10",16.744,15.263999999999999,0.91161012900143334,{"$f":"[1]!AgePb76($D$10)","v":5106.9855403403553},36.472000000000001,4.1712999999999996,4.0140963248867267,{"$f":"[1]!AgePb6U8(H10)","v":10393.251962853143},16.669,15.26,36.378,"−3.9",59.9,null,5082]
["JN13",16.701000000000001,15.247999999999999,0.91299922160349678,{"$f":"[1]!AgePb76($D$11)","v":5109.1365624672007},36.454000000000001,3.3801999999999999,4.9408319034376671,{"$f":"[1]!AgePb6U8(H11)","v":11486.537789860426},16.64,15.244999999999999,36.374000000000002,"−5.0",62.9,null,5083]
["Taihangshan","region:","Guyi",0,null,"and","Fushan",0,0,"gabbro","(t=155","Ma)",null,null,null,5085]
["FS10",16.968,15.21,0.8963932107496464,{"$f":"[1]!AgePb76($D$13)","v":5083.1919319989001},37.039000000000001,6.2489999999999997,2.7153144503120501,{"$f":"[1]!AgePb6U8(H13)","v":8460.6821467170812},16.815999999999999,15.202999999999999,36.790999999999997,"−11.1",83.4,null,5089]
["HXY3",17.416,15.257,0.87603353238401471,{"$f":"[1]!AgePb76($D$14)","v":5050.6782214601335},38.006999999999998,1.1529,15.106253794778384,{"$f":"[1]!AgePb6U8(H14)","v":17915.923487687789},17.388000000000002,15.256,37.963999999999999,"−12.0",131.5,null,5092]
["HXY6",17.193000000000001,15.18,0.88291746641074842,{"$f":"[1]!AgePb76($D$15)","v":5061.7605184927679},37.731000000000002,1.0245,16.781844802342608,{"$f":"[1]!AgePb6U8(H15)","v":18553.927360937847},17.167999999999999,15.179,37.691000000000003,"−17.3",130.6,null,5092]
["HXY7",17.16,15.223000000000001,0.8871212121212122,{"$f":"[1]!AgePb76($D$16)","v":5068.4830505339705},37.661000000000001,0.58499999999999996,29.333333333333336,{"$f":"[1]!AgePb6U8(H16)","v":21996.758858009609},17.146000000000001,15.223000000000001,37.631999999999998,"−12.7",127.6,null,5093]
["Taihangshan","region:","Donggang",0,null,"gabbro","(t=155",0,0,"Ma)",null,null,null,null,null,5096]
["GY1",17.474,15.25,0.87272519171340279,{"$f":"[1]!AgePb76($D$18)","v":5045.3192758388468},37.613999999999997,11.563800000000001,1.5110949687818882,{"$f":"[1]!AgePb6U8(H18)","v":5935.3353783088733},17.192,15.237,37.246000000000002,"−11.8",83.4,null,5096]
["GY2",18.062999999999999,15.308,0.84747827049770252,{"$f":"[1]!AgePb76($D$19)","v":5003.6994011133947},39.18,12.111599999999999,1.491380164470425,{"$f":"[1]!AgePb6U8(H19)","v":5884.5243502880166},17.768000000000001,15.292999999999999,38.072000000000003,"−12.4",96.3,null,5099]
["GY3",17.605,15.243,0.86583357000852035,{"$f":"[1]!AgePb76($D$20)","v":5034.0864610098506},38.058,6.9071999999999996,2.5487896687514482,{"$f":"[1]!AgePb6U8(H20)","v":8165.0707943577618},17.437000000000001,15.234999999999999,37.262,"−14.6",55.3,null,5099]
["DG1",17.236000000000001,15.257,0.88518217683917377,{"$f":"[1]!AgePb76($D$21)","v":5065.3863985190701},37.529000000000003,6.9183000000000003,2.4913634852492663,{"$f":"[1]!AgePb6U8(H21)","v":8059.9022940850218},17.068000000000001,15.249000000000001,37.335999999999999,"−9.3",107.4,null,5100]
["DG2",17.021999999999998,15.273,0.89725061684878404,{"$f":"[1]!AgePb76($D$22)","v":5084.5439434280415},36.933999999999997,6.5121000000000002,2.6139033491500436,{"$f":"[1]!AgePb6U8(H22)","v":8282.278474497547},16.863,15.265000000000001,36.709000000000003,"−5.4",69.5,null,5101]
["DG3",17.154,15.273,0.89034627492130114,{"$f":"[1]!AgePb76($D$23)","v":5073.6176308240956},37.378999999999998,3.9239000000000002,4.3716710415657891,{"$f":"[1]!AgePb6U8(H23)","v":10837.318556253082},17.058,15.268000000000001,37.235999999999997,"−7.2",98.5,null,5102]
["DG4",17.082999999999998,15.295,0.8953345431130364,{"$f":"[1]!AgePb76($D$24)","v":5081.5206657208919},37.261000000000003,3.8168000000000002,4.4757388388178576,{"$f":"[1]!AgePb6U8(H24)","v":10961.013468668674},16.989999999999998,15.29,37.17,"−4.3",100.2,null,5104]
["Taihangshan","region:","Laiyuan",0,null,"gabbro","(t=140",0,0,"Ma)",null,null,null,null,null,5106]
["WLG-01",16.928000000000001,15.265000000000001,0.90176039697542532,{"$f":"[1]!AgePb76($D$26)","v":5091.6327690413964},36.981999999999999,6.0229999999999997,2.8105595218329738,{"$f":"[1]!AgePb6U8(H26)","v":8623.8584011632229},16.795000000000002,15.259,36.838999999999999,"−5.3",90.7,null,5106]
["WLG-02",16.635000000000002,15.182,0.91265404268109407,{"$f":"[1]!AgePb76($D$27)","v":5108.6023738757567},36.493000000000002,2.6019999999999999,6.3931591083781711,{"$f":"[1]!AgePb6U8(H27)","v":12896.40694816265},16.577999999999999,15.179,36.454000000000001,"−10.9",78.400000000000006,null,5106]
["WLG-03",16.742999999999999,15.282999999999999,0.91279937884489049,{"$f":"[1]!AgePb76($D$28)","v":5108.8273178749114},36.845999999999997,3.0459999999999998,5.4967170059093888,{"$f":"[1]!AgePb6U8(H28)","v":12063.155347582895},16.675999999999998,15.28,36.765000000000001,"−1.9",97.8,null,5107]
["WLG-04",16.728999999999999,15.249000000000001,0.91153087452926063,{"$f":"[1]!AgePb76($D$29)","v":5106.8627093615814},36.744999999999997,1.512,11.064153439153438,{"$f":"[1]!AgePb6U8(H29)","v":16053.108976292902},16.695,15.247,36.716000000000001,"−5.3",90.4,null,5107]
["WLG-06",16.719000000000001,15.233000000000001,0.91111908606974101,{"$f":"[1]!AgePb76($D$30)","v":5106.2243249106987},36.743000000000002,5.4420000000000002,3.0722160970231536,{"$f":"[1]!AgePb6U8(H30)","v":9051.9732270985078},16.600000000000001,15.228,36.610999999999997,"−6.3",91.5,null,5108]
["WLG-08",16.867000000000001,15.218999999999999,0.90229442105887225,{"$f":"[1]!AgePb76($D$31)","v":5092.4697000836923},36.725999999999999,6.7779999999999996,2.4884921805842435,{"$f":"[1]!AgePb6U8(H31)","v":8054.5985683221888},16.719000000000001,15.212,36.53,"−9.1",69,null,5108]
["WLG-09",16.678000000000001,15.254,0.9146180597193907,{"$f":"[1]!AgePb76($D$32)","v":5111.638975648315},36.643000000000001,1.1160000000000001,14.944444444444445,{"$f":"[1]!AgePb6U8(H32)","v":17850.832927403426},16.652999999999999,15.253,36.624000000000002,"−4.3",86.3,null,5109]
["LMG-01",16.693000000000001,15.202999999999999,0.91074102917390509,{"$f":"[1]!AgePb76($D$33)","v":5105.637964287951},36.866,4.3470000000000004,3.8401196227283183,{"$f":"[1]!AgePb6U8(H33)","v":10165.60474367674},16.597999999999999,15.199,36.706000000000003,"−9.1",101.2,null,5109]
["LMG-02",16.802,15.2,0.90465420783240091,{"$f":"[1]!AgePb76($D$34)","v":5096.1617190928519},36.747999999999998,7.7350000000000003,2.1722042663219132,{"$f":"[1]!AgePb6U8(H34)","v":7441.9126407472513},16.632000000000001,15.192,36.426000000000002,"−10.2",69.099999999999994,null,5109]
["LMG-03",16.681000000000001,15.089,0.90456207661411181,{"$f":"[1]!AgePb76($D$35)","v":5096.0177662318611},36.444000000000003,2.0129999999999999,8.2866368604073539,{"$f":"[1]!AgePb6U8(H35)","v":14366.326962789606},16.635999999999999,15.087,36.360999999999997,"−20.8",62,null,5109]
["LMG-04",16.786000000000001,15.218999999999999,0.90664839747408543,{"$f":"[1]!AgePb76($D$36)","v":5099.2737905549548},36.665999999999997,2.7250000000000001,6.16,{"$f":"[1]!AgePb6U8(H36)","v":12689.830658968925},16.725999999999999,15.215999999999999,36.579000000000001,"−8.8",73,null,5112]
["LMG-06",16.640999999999998,15.194000000000001,0.91304609098010947,{"$f":"[1]!AgePb76($D$37)","v":5109.2090796102029},36.689,1.6819999999999999,9.8935790725326989,{"$f":"[1]!AgePb6U8(H37)","v":15395.155775969584},16.603999999999999,15.192,36.634999999999998,"−9.9",93.4,null,5113]
["LMG-07",16.658999999999999,15.173,0.91079896752506162,{"$f":"[1]!AgePb76($D$38)","v":5105.7278425449704},36.917999999999999,2.5110000000000001,6.6344086021505371,{"$f":"[1]!AgePb6U8(H38)","v":13103.403557660629},16.603999999999999,15.17,36.847999999999999,"−12.1",114.7,null,5118]
["LMG-10",16.863,15.284000000000001,0.90636304334934481,{"$f":"[1]!AgePb76($D$39)","v":5098.8289207176276},36.972999999999999,6.0389999999999997,2.7923497267759565,{"$f":"[1]!AgePb6U8(H39)","v":8592.9786150870823},16.73,15.276999999999999,36.802,"−2.7",94.8,null,5885]
["LMG-11",16.774000000000001,15.26,0.90974126624537965,{"$f":"[1]!AgePb76($D$40)","v":5104.0861028634636},36.808,6.907,2.4285507456203854,{"$f":"[1]!AgePb6U8(H40)","v":7942.869613196126},16.623000000000001,15.253,36.627000000000002,"−4.0",90.3,null,5935]
["LMG-12",17.030999999999999,15.218,0.89354706124126604,{"$f":"[1]!AgePb76($D$41)","v":5078.6940948312758},37.511000000000003,4.3280000000000003,3.9350739371534189,{"$f":"[1]!AgePb6U8(H41)","v":10290.847090878242},16.936,15.212999999999999,37.387999999999998,"−11.4",128.5,null,7442]
["LMG-13",16.824999999999999,15.282,0.9082912332838039,{"$f":"[1]!AgePb76($D$42)","v":5101.8321040870742},36.920999999999999,6.7759999999999998,2.4830283353010625,{"$f":"[1]!AgePb6U8(H42)","v":8044.4939672229611},16.675999999999998,15.275,36.713000000000001,"−2.4",92.4,null,7943]
["LMG-14",16.579000000000001,15.228,0.91851136980517523,{"$f":"[1]!AgePb76($D$43)","v":5117.6381190479042},37.106000000000002,3.1030000000000002,5.3428939735739602,{"$f":"[1]!AgePb6U8(H43)","v":11908.68736187301},16.510000000000002,15.225,36.909999999999997,"−5.6",132.19999999999999,null,8044]
[null,null,null,null,null,null,null,null,null,null,null,null,null,null,null,8055]
[null,null,null,null,null,null,null,null,null,null,null,null,null,null,null,8060]
[null,null,null,null,null,null,null,null,null,null,null,null,null,null,null,8165]
[null,null,null,null,null,null,null,null,null,null,null,null,null,null,null,8282]
[null,null,null,null,null,null,null,null,null,null,null,null,null,null,null,8461]
[null,null,null,null,null,null,null,null,null,null,null,null,null,null,null,8593]
[null,null,null,null,null,null,null,null,null,null,null,null,null,null,null,8624]
[null,null,null,null,null,null,null,null,null,null,null,null,null,null,null,8919]
[null,null,null,null,null,null,null,null,null,null,null,null,null,null,null,9052]
[null,null,null,null,null,null,null,null,null,null,null,null,null,null,null,9472]
[null,null,null,null,null,null,null,null,null,null,null,null,null,null,null,9904]
[null,null,null,null,null,null,null,null,null,null,null,null,null,null,null,10166]
[null,null,null,null,null,null,null,null,null,null,null,null,null,null,null,10291]
[null,null,null,null,null,null,null,null,null,null,null,null,null,null,null,10393]
[null,null,null,null,null,null,null,null,null,null,null,null,null,null,null,10837]
[null,null,null,null,null,null,null,null,null,null,null,null,null,null,null,10961]
[null,null,null,null,null,null,null,null,null,null,null,null,null,null,null,11027]
[null,null,null,null,null,null,null,null,null,null,null,null,null,null,null,11487]
[null,null,null,null,null,null,null,null,null,null,null,null,null,null,null,11814]
[null,null,null,null,null,null,null,null,null,null,null,null,null,null,null,11909]
[null,null,null,null,null,null,null,null,null,null,null,null,null,null,null,12063]
[null,null,null,null,null,null,null,null,null,null,null,null,null,null,null,12661]
[null,null,null,null,null,null,null,null,null,null,null,null,null,null,null,12690]
[null,null,null,null,null,null,null,null,null,null,null,null,null,null,null,12896]
[null,null,null,null,null,null,null,null,null,null,null,null,null,null,null,13103]
[null,null,null,null,null,null,null,null,null,null,null,null,null,null,null,14366]
[null,null,null,null,null,null,null,null,null,null,null,null,null,null,null,15395]
[null,null,null,null,null,null,null,null,null,null,null,null,null,null,null,16053]
[null,null,null,null,null,null,null,null,null,null,null,null,null,null,null,17851]
[null,null,null,null,null,null,null,null,null,null,null,null,null,null,null,17916]
[null,null,null,null,null,null,null,null,null,null,null,null,null,null,null,18554]
[null,null,null,null,null,null,null,null,null,null,null,null,null,null,null,21997]
[null,null,null,null,null,null,null,null,null,null,null,null,null,null,null,23318]

{"sheet":"Exc_23","index":23,"n_rows":233,"n_cols":8,"rows_kept":233,"cut":false,"hidden":false,"merged":[]}
[null,"206Pb/204Pb","207Pb/204Pb","207Pb/206Pb","207Pb/206Pb","TABLE 1.",null,4840]
[null,"Ratio","Ratio","Ratio","Age",null,null,4841]
["AmphD-1",18.193000000000001,15.478,{"$f":"(C3/B3)","v":0.85076677843126469},{"$f":"[1]!AgePb76($D$3)","v":5009.1945815014469},null,null,4844]
["AmphD-3",18.16,15.459,{"$f":"(C4/B4)","v":0.85126651982378854},{"$f":"[1]!AgePb76($D$4)","v":5010.0276870791977},null,null,4845]
["AmphD-4",18.588000000000001,15.534000000000001,0.83570045190445452,{"$f":"[1]!AgePb76($D$5)","v":4983.8308492247634},null,null,4846]
["V21-40",18.347999999999999,15.5,0.84477872247656427,{"$f":"[1]!AgePb76($D$6)","v":4999.1714335111419},null,null,4846]
["KD-11",18.404,15.505000000000001,0.84247989567485337,{"$f":"[1]!AgePb76($D$7)","v":4995.3034639980215},null,null,4846]
[1154,18.332999999999998,15.464,0.84350624556810139,{"$f":"[1]!AgePb76($D$8)","v":4997.0317677310113},null,null,4846]
[112373,18.395,15.465,0.84071758630062521,{"$f":"[1]!AgePb76($D$9)","v":4992.3306300151671},null,null,4849]
["(Ca",null,null,0,null,null,null,4850]
["Mid-Atlantic",null,null,0,null,null,null,4853]
["V25-1-103",18.311,15.465999999999999,0.8446289115832013,{"$f":"[1]!AgePb76($D$12)","v":4998.9197048557689},null,null,4853]
["V25-1-97",18.323,15.481999999999999,0.84494897123833423,{"$f":"[1]!AgePb76($D$13)","v":4999.4574465499427},null,null,4867]
["V25-1-3",18.315000000000001,15.471,0.8447174447174447,{"$f":"[1]!AgePb76($D$14)","v":4999.0684736470685},null,null,4874]
["V25-1-9",18.318000000000001,15.484999999999999,0.84534337809804549,{"$f":"[1]!AgePb76($D$15)","v":5000.1198036556589},null,null,4881]
["V25-1-6",18.361999999999998,15.507,0.84451584794684675,{"$f":"[1]!AgePb76($D$16)","v":4998.7296915553979},null,null,4885]
["V25-1-10",18.341999999999999,15.493,0.84467342710718574,{"$f":"[1]!AgePb76($D$17)","v":4998.9945096625261},null,null,4888]
["A150-7-1",18.172999999999998,15.461,0.85076762229681402,{"$f":"[1]!AgePb76($D$18)","v":5009.1959887252706},null,null,4890]
["Indian",null,null,0,null,null,null,4890]
["DP",18.122,15.5,0.85531398300408346,{"$f":"[1]!AgePb76($D$20)","v":5016.7560277427528},null,null,4892]
["TP13/29",18.178999999999998,15.53,0.85428241377413505,{"$f":"[1]!AgePb76($D$21)","v":5015.0444039565873},null,null,4892]
["DP",18.242999999999999,15.5,0.8496409581757387,{"$f":"[1]!AgePb76($D$22)","v":5007.3158506838008},null,null,4899]
["DP",18.100000000000001,15.492000000000001,0.85591160220994478,{"$f":"[1]!AgePb76($D$23)","v":5017.7466205702522},null,null,4899]
[null,null,null,null,null,null,null,4902]
[null,null,null,null,null,null,null,4904]
[null,null,null,null,null,null,null,4905]
[null,null,null,null,null,null,null,4906]
[null,"206Pb/204Pb","207Pb/204Pb","207Pb/206Pb","207Pb/206Pb","TABLE 2.",null,4907]
[null,"Ratio","Ratio","Ratio","Age",null,null,4907]
["GCUl",19.59,15.619,{"$f":"(C30/B30)","v":0.79729453802960693},{"$f":"[1]!AgePb76($D$3)","v":5009.1945815014469},null,null,4909]
["GCU21",19.54,15.590999999999999,{"$f":"(C31/B31)","v":0.79790174002047087},{"$f":"[1]!AgePb76($D$31)","v":4917.9957796404715},null,null,4909]
["GCU23A",19.428999999999998,15.599,0.80287199547068822,{"$f":"[1]!AgePb76($D$32)","v":4926.8398557392529},null,null,4910]
["GCU29A",19.225000000000001,15.555999999999999,0.80915474642392704,{"$f":"[1]!AgePb76($D$33)","v":4937.9363967021436},null,null,4911]
["GCU64",19.745999999999999,15.635,0.79180593537931743,{"$f":"[1]!AgePb76($D$34)","v":4907.0685087106258},null,null,4912]
["GC53",20.045000000000002,15.663,0.78139186829633323,{"$f":"[1]!AgePb76($D$35)","v":4888.1915457974965},null,null,4913]
["GCU32",19.734999999999999,15.62,0.79148720547251072,{"$f":"[1]!AgePb76($D$36)","v":4906.4946960568441},null,null,4914]
["CL13",19.498000000000001,15.616,0.80090265668273664,{"$f":"[1]!AgePb76($D$37)","v":4923.3426000088766},null,null,4915]
["GCU14",19.5,15.61,0.80051282051282047,{"$f":"[1]!AgePb76($D$38)","v":4922.649223505895},null,null,4915]
["GCU15",19.547999999999998,15.632,0.79967260077757318,{"$f":"[1]!AgePb76($D$39)","v":4921.1535562075123},null,null,4915]
["GCU6",19.594000000000001,15.63,0.79769317137899354,{"$f":"[1]!AgePb76($D$40)","v":4917.6233718256244},null,null,4917]
["Lanzarote",null,null,0,null,null,null,4917]
["LZ137",19.23,15.576000000000001,0.80998439937597499,{"$f":"[1]!AgePb76($D$42)","v":4939.3948683197468},null,null,4918]
["LZ139",19.254000000000001,15.57,0.8086631349330009,{"$f":"[1]!AgePb76($D$43)","v":4937.0714274987386},null,null,4918]
["LZ17260(a)f",19.109000000000002,15.558999999999999,0.81422366424198012,{"$f":"[1]!AgePb76($D$44)","v":4946.8224810118018},null,null,4918]
["LZ17260(6)",19.114999999999998,15.573,0.81470049699189129,{"$f":"[1]!AgePb76($D$45)","v":4947.6553649383786},null,null,4918]
["LZ110",19.242999999999999,15.577,0.80948916489112932,{"$f":"[1]!AgePb76($D$46)","v":4938.5244721567178},null,null,4918]
["LZU8",19.199000000000002,15.565,0.8107193082973071,{"$f":"[1]!AgePb76($D$47)","v":4940.6854600202796},null,null,4919]
["LZ105",19.573,15.601000000000001,0.79706738874980843,{"$f":"[1]!AgePb76($D$48)","v":4916.5053892398437},null,null,4921]
["LZ3",19.446999999999999,15.61,0.80269450300817602,{"$f":"[1]!AgePb76($D$49)","v":4926.5250297035618},null,null,4921]
["LZ106",19.204000000000001,15.565,0.81050822745261397,{"$f":"[1]!AgePb76($D$50)","v":4940.3149031563244},null,null,4922]
["Fuerteventura",null,null,0,null,null,null,4923]
["FV18",19.338999999999999,15.597,0.80650498991674857,{"$f":"[1]!AgePb76($D$52)","v":4933.2676352100962},null,null,4923]
["FV4",19.760999999999999,15.62,0.79044582764030158,{"$f":"[1]!AgePb76($D$53)","v":4904.6181769253071},null,null,4924]
["FV23",19.606999999999999,15.616,0.79645024736063652,{"$f":"[1]!AgePb76($D$54)","v":4915.4019293095216},null,null,4925]
["Tenerife",null,null,0,null,null,null,4927]
["TF67",19.809999999999999,15.632,0.78909641595153968,{"$f":"[1]!AgePb76($D$56)","v":4902.1826753822534},null,null,4927]
["TF104",19.751999999999999,15.641,0.79186917780477928,{"$f":"[1]!AgePb76($D$57)","v":4907.1823354518901},null,null,4932]
["TFAR",19.672999999999998,15.62,0.79398159914603772,{"$f":"[1]!AgePb76($D$58)","v":4910.9788229841433},null,null,4932]
["TF86",20.021999999999998,15.661,0.7821895914494057,{"$f":"[1]!AgePb76($D$59)","v":4889.6469788736904},null,null,4933]
["TF96",19.684000000000001,15.605,0.79277585856533228,{"$f":"[1]!AgePb76($D$60)","v":4908.8131598525133},null,null,4935]
["TF85",19.86,15.641,0.7875629405840886,{"$f":"[1]!AgePb76($D$61)","v":4899.409576328555},null,null,4937]
["Hierro",null,null,0,null,null,null,4938]
["H7",19.46,15.603,0.80179856115107906,{"$f":"[1]!AgePb76($D$63)","v":4924.9347275736809},null,null,4939]
["H16",19.602,15.603999999999999,0.79604122028364444,{"$f":"[1]!AgePb76($D$64)","v":4914.6700799909913},null,null,4939]
["La","Palma",null,0,null,null,null,4940]
["LP26",19.873999999999999,15.644,0.78715910234477215,{"$f":"[1]!AgePb76($D$66)","v":4898.6783289051164},null,null,4940]
["LP19A",19.616,15.587999999999999,0.79465742251223492,{"$f":"[1]!AgePb76($D$67)","v":4912.1911571953206},null,null,4941]
["LP9A",19.616,15.598000000000001,0.7951672104404568,{"$f":"[1]!AgePb76($D$68)","v":4913.1049207956585},null,null,4943]
["LP15",19.582999999999998,15.62,0.79763059796762503,{"$f":"[1]!AgePb76($D$69)","v":4917.5116242401491},null,null,4945]
["La","Gomera",null,0,null,null,null,4947]
["LG150",19.986999999999998,15.641,0.78255866313103528,{"$f":"[1]!AgePb76($D$71)","v":4890.3198094999207},null,null,4948]
["LG58",19.765999999999998,15.612,0.78984114135383998,{"$f":"[1]!AgePb76($D$72)","v":4903.5273495152387},null,null,4955]
["LZ137t",19.202999999999999,15.555999999999999,0.81008175805863669,{"$f":"[1]!AgePb76($D$73)","v":4939.5659138617093},null,null,4958]
["TFAR",19.645,15.59,0.7935861542377195,{"$f":"[1]!AgePb76($D$74)","v":4910.2689397222775},null,null,4962]
["FV231:",19.585000000000001,15.597,0.79637477661475609,{"$f":"[1]!AgePb76($D$75)","v":4915.2669238144545},null,null,4963]
[null,null,null,null,null,null,null,4963]
[null,null,null,null,null,null,null,4964]
[null,"206Pb/204Pb","207Pb/204Pb","207Pb/206Pb","207Pb/206Pb","TABLE 4.",null,4965]
[null,"Ratio","Ratio","Ratio","Age",null,null,4967]
["V22-170",19.010999999999999,15.715999999999999,{"$f":"(C80/B80)","v":0.82667929093682602},{"$f":"[1]!AgePb76($D$80)","v":4968.4103417606484},null,null,4968]
["V22-171",18.995000000000001,15.705,0.82679652540142134,{"$f":"[1]!AgePb76($D$81)","v":4968.6118839063602},null,null,4969]
["V23-96",18.837,15.67,0.83187344056909274,{"$f":"[1]!AgePb76($D$82)","v":4977.3107798334859},null,null,4969]
["V23-97",18.879000000000001,15.7,0.83161184384766129,{"$f":"[1]!AgePb76($D$83)","v":4976.8639348003417},null,null,4971]
["V23-95",18.989000000000001,15.708,0.82721575649059975,{"$f":"[1]!AgePb76($D$84)","v":4969.332351264532},null,null,4972]
["V27-143",19.071999999999999,15.707000000000001,0.82356333892617462,{"$f":"[1]!AgePb76($D$85)","v":4963.0424281231844},null,null,4973]
["V27-159",18.864999999999998,15.680999999999999,0.83122183938510474,{"$f":"[1]!AgePb76($D$86)","v":4976.1974733205625},null,null,4974]
["V27-142",19.111999999999998,15.689,0.8208978652155714,{"$f":"[1]!AgePb76($D$87)","v":4958.4333998844422},null,null,4976]
["V27-166",18.934000000000001,15.691000000000001,0.82872081968944755,{"$f":"[1]!AgePb76($D$88)","v":4971.9156755641052},null,null,4976]
["V27-176",18.89,15.712,0.83176283748014823,{"$f":"[1]!AgePb76($D$89)","v":4977.1218719868348},null,null,4977]
["V22-93",18.872,15.723000000000001,0.83313904196693522,{"$f":"[1]!AgePb76($D$90)","v":4979.4705032068578},null,null,4977]
["V25-72",19.02,15.704000000000001,0.82565720294426925,{"$f":"[1]!AgePb76($D$91)","v":4966.6519439642298},null,null,4977]
["V24-258",18.966000000000001,15.73,0.82937888853738262,{"$f":"[1]!AgePb76($D$92)","v":4973.0436332439995},null,null,4979]
["V25-58",18.884,15.691000000000001,0.83091506036856599,{"$f":"[1]!AgePb76($D$93)","v":4975.6729985789234},null,null,4981]
[null,null,null,null,null,null,null,4981]
[null,null,null,null,null,null,null,4982]
[null,null,null,null,null,null,null,4983]
[null,"206Pb/204Pb","207Pb/204Pb","207Pb/206Pb","207Pb/206Pb","TABLE 5.",null,4984]
[null,"Ratio","Ratio","Ratio","Age",null,null,4984]
["Faial 373",19.561,15.641,{"$f":"(C99/B99)","v":0.79960124737999083},{"$f":"[1]!AgePb76($D$99)","v":4921.0264636641095},null,null,4985]
["Flores 3F/196",19.954000000000001,15.638,0.78370251578630845,{"$f":"[1]!AgePb76($D$100)","v":4892.4029485689389},null,null,4985]
["San forges",19.963999999999999,15.637,0.78325986776197165,{"$f":"[1]!AgePb76($D$101)","v":4891.5971998049636},null,null,4985]
["Terceira",19.617000000000001,15.606,0.79553448539532035,{"$f":"[1]!AgePb76($D$102)","v":4913.7628523075673},null,null,4986]
["Santa",19.561,15.606,0.7978119728030264,{"$f":"[1]!AgePb76($D$103)","v":4917.8355093129094},null,null,4986]
["Ascension",null,null,0,null,null,null,4986]
[2716,19.716000000000001,15.63,0.79275715155203896,{"$f":"[1]!AgePb76($D$105)","v":4908.7795320695213},null,null,4987]
[2740,19.565999999999999,15.625999999999999,0.79863027701114175,{"$f":"[1]!AgePb76($D$106)","v":4919.295799708766},null,null,4987]
[2765,19.503,15.625,0.80115879608265395,{"$f":"[1]!AgePb76($D$107)","v":4923.797983205659},null,null,4988]
[2775,19.486000000000001,15.59,0.80006158267474081,{"$f":"[1]!AgePb76($D$108)","v":4921.8461870247584},null,null,4989]
["St",null,null,0,null,null,null,4992]
[2882,20.896000000000001,15.791,0.75569486983154666,{"$f":"[1]!AgePb76($D$110)","v":4840.4415176343155},null,null,4992]
[2928,20.908000000000001,15.81,0.75616988712454558,{"$f":"[1]!AgePb76($D$111)","v":4841.3398013808728},null,null,4992]
[2935,20.821999999999999,15.79,0.75833253289789648,{"$f":"[1]!AgePb76($D$112)","v":4845.4218934869759},null,null,4993]
[2933,20.827000000000002,15.778,0.75757430258798675,{"$f":"[1]!AgePb76($D$113)","v":4843.9921136977509},null,null,4994]
[2894,20.83,15.797000000000001,0.75837734037446003,{"$f":"[1]!AgePb76($D$114)","v":4845.5063383590523},null,null,4995]
[2878,20.739000000000001,15.782,0.76098172525194074,{"$f":"[1]!AgePb76($D$115)","v":4850.4054863504698},null,null,4997]
["237/5t",20.709,15.786,0.76227727075184704,{"$f":"[1]!AgePb76($D$116)","v":4852.8359048165694},null,null,4997]
[167,20.797000000000001,15.805999999999999,0.76001346348030963,{"$f":"[1]!AgePb76($D$117)","v":4848.5861644142751},null,null,4997]
[662,20.701000000000001,15.786,0.76257185643205638,{"$f":"[1]!AgePb76($D$118)","v":4853.3879275605314},null,null,4997]
[11,20.814,15.787000000000001,0.7584798693187278,{"$f":"[1]!AgePb76($D$119)","v":4845.6995460067637},null,null,4998]
[145,20.800999999999998,15.782999999999999,0.75876159800009624,{"$f":"[1]!AgePb76($D$120)","v":4846.2302980026607},null,null,4999]
["2894§",20.8,15.776,0.75846153846153841,{"$f":"[1]!AgePb76($D$121)","v":4845.6650050069393},null,null,4999]
["Gough",null,null,0,null,null,null,4999]
["G95",18.323,15.598000000000001,0.85127981225781801,{"$f":"[1]!AgePb76($D$123)","v":5010.049839450121},null,null,4999]
["G111",18.552,15.606,0.84120310478654592,{"$f":"[1]!AgePb76($D$124)","v":4993.1503098244311},null,null,4999]
["G8",18.295000000000002,15.61,0.85323858977862788,{"$f":"[1]!AgePb76($D$125)","v":5013.3102110535419},null,null,4999]
["G18",18.622,15.602,0.83782622704328213,{"$f":"[1]!AgePb76($D$126)","v":4987.4388341278836},null,null,4999]
["G15",18.28,15.585000000000001,0.8525711159737418,{"$f":"[1]!AgePb76($D$127)","v":5012.2000991401337},null,null,4999]
["G1321:",18.3,15.59,0.85191256830601092,{"$f":"[1]!AgePb76($D$128)","v":5011.1039278778189},null,null,5000]
["G19D.1:",18.47,15.6,0.84461288576069304,{"$f":"[1]!AgePb76($D$129)","v":4998.8927737070744},null,null,5000]
["G3t.",18.64,15.6,0.83690987124463512,{"$f":"[1]!AgePb76($D$130)","v":4985.8847377906859},null,null,5001]
["Discovery",null,null,0,null,null,null,5001]
["BM1954,",18.245999999999999,15.609,0.85547517264057882,{"$f":"[1]!AgePb76($D$132)","v":5017.0232824470932},null,null,5001]
["Tristan",null,null,0,null,null,null,5001]
["TR230",18.547000000000001,15.529,0.83727826602685063,{"$f":"[1]!AgePb76($D$134)","v":4986.5097352431221},null,null,5002]
["TR2.2",18.587,15.545999999999999,0.83639102598590409,{"$f":"[1]!AgePb76($D$135)","v":4985.0039987262535},null,null,5002]
["TR1",18.536999999999999,15.519,0.83719048389707074,{"$f":"[1]!AgePb76($D$136)","v":4986.3608356392224},null,null,5002]
["TR3",18.567,15.53,0.836430225669198,{"$f":"[1]!AgePb76($D$137)","v":4985.0705604023833},null,null,5003]
["TR4",18.504000000000001,15.515000000000001,0.83846735840899267,{"$f":"[1]!AgePb76($D$138)","v":4988.5250892917002},null,null,5006]
["TR6",18.565999999999999,15.523,0.83609824410212219,{"$f":"[1]!AgePb76($D$139)","v":4984.5067456371798},null,null,5006]
["Bouvet",null,null,0,null,null,null,5007]
["148(1)",19.428000000000001,15.651999999999999,0.80564134239242324,{"$f":"[1]!AgePb76($D$141)","v":4931.7423971676335},null,null,5007]
["149(1)",19.245000000000001,15.632999999999999,0.81231488698363208,{"$f":"[1]!AgePb76($D$142)","v":4943.4832167088853},null,null,5008]
["149(4)",19.661000000000001,15.672000000000001,0.79711103199226896,{"$f":"[1]!AgePb76($D$143)","v":4916.5833897174653},null,null,5008]
["aospb/204pb",null,null,0,null,null,null,5008]
[202,18.995999999999999,15.552,0.81869867340492741,{"$f":"[1]!AgePb76($D$145)","v":4954.6186513202802},null,null,5008]
[779,19.143999999999998,15.57,0.81330965315503556,{"$f":"[1]!AgePb76($D$146)","v":4945.2245263958685},null,null,5009]
["Fernando",null,null,0,null,null,null,5009]
[64646,19.393000000000001,15.622,0.80554839375032228,{"$f":"[1]!AgePb76($D$148)","v":4931.5781422685805},null,null,5009]
[67166,19.609000000000002,15.641,0.79764393900759845,{"$f":"[1]!AgePb76($D$149)","v":4917.5354503019553},null,null,5009]
["Oahu",null,null,0,null,null,null,5010]
[23,18.16,15.465999999999999,0.85165198237885453,{"$f":"[1]!AgePb76($D$151)","v":5010.6699266996693},null,null,5010]
[35,18.166,15.465,0.85131564461081133,{"$f":"[1]!AgePb76($D$152)","v":5010.1095536642442},null,null,5010]
[21,18.158000000000001,15.468999999999999,0.8519110034144729,{"$f":"[1]!AgePb76($D$153)","v":5011.1013219998904},null,null,5010]
[43,18.143000000000001,15.464,0.85233974535633572,{"$f":"[1]!AgePb76($D$154)","v":5011.815078681333},null,null,5010]
[24,18.164000000000001,15.465,0.85140938119356957,{"$f":"[1]!AgePb76($D$155)","v":5010.2657520035973},null,null,5010]
[4,18.166,15.465999999999999,0.8513706925024771,{"$f":"[1]!AgePb76($D$156)","v":5010.2012851578938},null,null,5011]
["Kauai",null,null,0,null,null,null,5011]
["K22",18.114000000000001,15.46,0.85348349343049579,{"$f":"[1]!AgePb76($D$158)","v":5013.7172923654934},null,null,5011]
["K16",18.157,15.446,0.85069119347909894,{"$f":"[1]!AgePb76($D$159)","v":5009.0685305923098},null,null,5011]
["K17",18.135999999999999,15.45,0.85189677988531098,{"$f":"[1]!AgePb76($D$160)","v":5011.0776365593483},null,null,5012]
["K23",18.361999999999998,15.46,0.84195621392005238,{"$f":"[1]!AgePb76($D$161)","v":4994.4207573658023},null,null,5012]
["K24",18.247,15.45,0.84671452841562989,{"$f":"[1]!AgePb76($D$162)","v":5002.4199278853339},null,null,5013]
["Easter",null,null,0,null,null,null,5014]
[26,18.789000000000001,15.56,{"$f":"(C164/B164)","v":0.82814412688275052},{"$f":"[1]!AgePb76($D$164)","v":4970.9264168474465},null,null,5015]
[13,19.29,15.573,0.80730948678071546,{"$f":"[1]!AgePb76($D$165)","v":4934.686848381969},null,null,5017]
["Guadalupe",null,null,0,null,null,null,5017]
["GU22",20.038,15.619,0.77946900888312209,{"$f":"[1]!AgePb76($D$167)","v":4884.6768058438738},null,null,5018]
["GU44",20.088000000000001,15.615,0.77732974910394259,{"$f":"[1]!AgePb76($D$168)","v":4880.7556461472632},null,null,5018]
["GU52",20.175999999999998,15.612,0.7737906423473434,{"$f":"[1]!AgePb76($D$169)","v":4874.2433296775262},null,null,5021]
["GU77",20.303000000000001,15.635,0.77008323893020736,{"$f":"[1]!AgePb76($D$170)","v":4867.3872135761749},null,null,5022]
[null,null,null,null,null,null,null,5026]
[null,null,null,null,null,null,null,5239]
[null,null,null,null,null,null,null,"207Pb/206Pb"]
[null,null,null,null,null,null,null,"207Pb/206Pb"]
[null,"206Pb/204Pb","207Pb/204Pb","207Pb/206Pb","207Pb/206Pb","TABLE 6.",null,"207Pb/206Pb"]
[null,"Ratio","Ratio","Ratio","Age",null,null,"207Pb/206Pb"]
["K8A1a",17.952000000000002,15.457000000000001,{"$f":"(C177/B177)","v":0.86101827094474148},{"$f":"[1]!AgePb76($D$177)","v":5026.1814270309969},null,null,"207Pb/206Pb"]
["K10A2b",18.059999999999999,15.461,0.85609080841638985,{"$f":"[1]!AgePb76($D$178)","v":5018.0435234197521},null,null,"Age"]
["K11A1b",18.015000000000001,15.468,0.85861781848459617,{"$f":"[1]!AgePb76($D$179)","v":5022.2231769365435},null,null,"Age"]
["TPY6458",18.004999999999999,15.45,0.85809497361843934,{"$f":"[1]!AgePb76($D$180)","v":5021.35946846361},null,null,"Age"]
["Shiukuran","River","area",0,null,null,null,"Age"]
["D-1",18.323,15.571,0.84980625443431745,{"$f":"[1]!AgePb76($D$182)","v":5007.5918570370004},null,null,"Age"]
["S16A2b",18.346,15.598000000000001,0.85021258039899705,{"$f":"[1]!AgePb76($D$183)","v":5008.2700847306742}]
["S3A2c",18.303000000000001,15.56,0.85013385783751294,{"$f":"[1]!AgePb76($D$184)","v":5008.1387101703322}]
["Lanhsu",null,null,0]
["WLY005",18.315000000000001,15.590999999999999,0.85126945126945119,{"$f":"[1]!AgePb76($D$186)","v":5010.0325724817667}]
["WLY009",18.350000000000001,15.603,0.85029972752043592,{"$f":"[1]!AgePb76($D$187)","v":5008.4155033821589}]
["LPT2",18.398,15.62,0.84900532666594197,{"$f":"[1]!AgePb76($D$188)","v":5006.2539621539081}]
["Tatun","Volcano","Group",0]
["Al",18.478000000000002,15.627000000000001,0.84570841000108232,{"$f":"[1]!AgePb76($D$190)","v":5000.7325367481408}]
["A99",18.46,15.629,0.84664138678223178,{"$f":"[1]!AgePb76($D$191)","v":5002.2973316792895}]
["A87",18.483000000000001,15.631,0.84569604501433748,{"$f":"[1]!AgePb76($D$192)","v":5000.7117857991279}]
["A17",18.483000000000001,15.632999999999999,0.84580425255640312,{"$f":"[1]!AgePb76($D$193)","v":5000.8933690141457}]
["A24",18.47,15.612,0.84526258798050902,{"$f":"[1]!AgePb76($D$194)","v":4999.9841534724728}]
["A41",18.617000000000001,18.64,1.0012354299833486,{"$f":"[1]!AgePb76($D$195)","v":5239.1072535805251}]
["B1",18.523,15.622999999999999,0.84343788803109643,{"$f":"[1]!AgePb76($D$196)","v":4996.916727724516}]
["B5",18.45,15.606999999999999,0.84590785907859078,{"$f":"[1]!AgePb76($D$197)","v":5001.0672081285447}]
["B7",18.440000000000001,15.613,0.84669197396963114,{"$f":"[1]!AgePb76($D$198)","v":5002.3821244942947}]
["Chiaopanshan","area",null,0]
["TPYb71-11",18.375,15.612,0.84963265306122449,{"$f":"[1]!AgePb76($D$200)","v":5007.3019815672105}]
["TPYb71-18",18.366,15.593,0.84901448328432971,{"$f":"[1]!AgePb76($D$201)","v":5006.269265230525}]
["Tsaolingshan",null,null,0]
["TPYb71-15",18.465,15.64,0.84700785269428658,{"$f":"[1]!AgePb76($D$203)","v":5002.9114698148778}]
["Keelungshan","Volcano","Group",0]
["CI",18.518999999999998,15.645,0.84480803499109025,{"$f":"[1]!AgePb76($D$205)","v":4999.2206820584424}]
["W",18.504000000000001,15.622,0.84424989191526145,{"$f":"[1]!AgePb76($D$206)","v":4998.2826226863499}]
["P2",18.442,15.56,0.84372627697646674,{"$f":"[1]!AgePb76($D$207)","v":4997.4019949190806}]
["Penghu","Islands",null,0]
["PY234",18.745000000000001,15.557,0.82992798079487862,{"$f":"[1]!AgePb76($D$209)","v":4973.9840727040091}]
["PY60",18.684000000000001,15.589,0.83435024619995712,{"$f":"[1]!AgePb76($D$210)","v":4981.5341363862335}]
["Y123",18.686,15.587999999999999,0.83420742802097825,{"$f":"[1]!AgePb76($D$211)","v":4981.2909703471933}]
["Y122",18.71,15.61,0.83431320149652588,{"$f":"[1]!AgePb76($D$212)","v":4981.4710673354148}]
["Tonga",null,null,0]
["Late",null,null,0]
["WM1",18.564,15.54,0.83710407239818996,{"$f":"[1]!AgePb76($D$215)","v":4986.2142447512033}]
["WM2",18.555,15.555999999999999,0.83837240635947186,{"$f":"[1]!AgePb76($D$216)","v":4988.3642697488012}]
["Kao",null,null,0]
["WM5",18.611000000000001,15.545999999999999,0.83531244962656492,{"$f":"[1]!AgePb76($D$218)","v":4983.1712576173468}]
["WM7",18.613,15.561999999999999,0.83608230806425621,{"$f":"[1]!AgePb76($D$219)","v":4984.4796749781735}]
[]
[]
[null,"206Pb/204Pb","207Pb/204Pb","207Pb/206Pb","207Pb/206Pb","TABLE 8."]
[null,"Ratio","Ratio","Ratio","Age"]
["V21-108",18.593,15.68,0.84332813424407038,{"$f":"[1]!AgePb76($D$224)","v":4996.7320005787242}]
["V21-111",18.614999999999998,15.647,0.84055868922911636,{"$f":"[1]!AgePb76($D$225)","v":4992.0622617455556}]
["Trench",null,null,0]
["V21-113",18.617999999999999,15.651,0.84063809216886887,{"$f":"[1]!AgePb76($D$227)","v":4992.1963756079658}]
["RC10-199",18.943999999999999,15.622999999999999,0.82469383445945943,{"$f":"[1]!AgePb76($D$228)","v":4964.9924474387808}]
["Trench",null,null,0]
["RC10-208",18.934999999999999,15.605,0.82413519936625301,{"$f":"[1]!AgePb76($D$230)","v":4964.0291995535981}]
["Trench",null,null,0]
["RC10-229",19.036999999999999,15.673999999999999,0.82334401428796555,{"$f":"[1]!AgePb76($D$232)","v":4962.6637801211727}]
["RC10-230",19.027999999999999,15.654,0.82268236283371876,{"$f":"[1]!AgePb76($D$233)","v":4961.5208370745959}]

{"sheet":"Exc_24","index":24,"n_rows":13,"n_cols":11,"rows_kept":13,"cut":false,"hidden":false,"merged":[]}
["206Pb/204Pb",18.026,17.734999999999999,17.483000000000001,18.001000000000001,17.367000000000001,17.175999999999998,17.3,17.280999999999999,17.062999999999999,17.439]
["207Pb/204Pb",15.531000000000001,15.3,15.444000000000001,15.372,15.534000000000001,15.443,15.489000000000001,15.472,15.287000000000001,15.496]
["207Pb/206Pb",{"$f":"(B1/B2)","v":1.1606464490374091},1.1591503267973855,1.1320253820253821,1.171025240697372,1.1179992275009656,1.1122191284076928,1.1169216863580604,1.1169208893485005,1.1161771439785437,1.1253871966959215]
["Age",{"$f":"[1]!AgePb76(B3)","v":5445.845098814948},{"$f":"[1]!AgePb76(C3)","v":5444.0473150113849},{"$f":"[1]!AgePb76(D3)","v":5411.0226256201749},{"$f":"[1]!AgePb76(E3)","v":5458.2497844794671},{"$f":"[1]!AgePb76(F3)","v":5393.6172234073838},{"$f":"[1]!AgePb76(G3)","v":5386.3774986999479},{"$f":"[1]!AgePb76(H3)","v":5392.2705709143638},{"$f":"[1]!AgePb76(I3)","v":5392.2695743483891},{"$f":"[1]!AgePb76(J3)","v":5391.3392821230436},{"$f":"[1]!AgePb76(K3)","v":5402.8136302232842}]
["Table 2"]
[]
[]
["206Pb/204Pb",17.117000000000001,17.207999999999998,17.129000000000001,17.093,16.986999999999998,16.811,16.745000000000001,16.940000000000001,16.968]
["207Pb/204Pb",15.414,15.414999999999999,15.404999999999999,15.375999999999999,15.436999999999999,15.298,15.243,15.382999999999999,15.423999999999999]
["207Pb/206Pb",{"$f":"(B8/B9)","v":1.1104839756065914},1.1163152773272786,1.1119117169750083,1.1116675338189386,1.1004081103841419,1.0989018172310105,1.098537033392377,1.1012156276409024,1.1001037344398341]
["Age",{"$f":"[1]!AgePb76(B10)","v":5384.1964339975193},{"$f":"[1]!AgePb76(C10)","v":5391.5121115866732},{"$f":"[1]!AgePb76(D10)","v":5385.9913480141422},{"$f":"[1]!AgePb76(E10)","v":5385.6845404709529},{"$f":"[1]!AgePb76(F10)","v":5371.4597783218023},{"$f":"[1]!AgePb76(G10)","v":5369.5451515309342},{"$f":"[1]!AgePb76(H10)","v":5369.0810640452237},{"$f":"[1]!AgePb76(I10)","v":5372.4850641085341},{"$f":"[1]!AgePb76(J10)","v":5371.0731134420748}]
[]
["Table 2"]

{"sheet":"Exc_25","index":25,"n_rows":43,"n_cols":6,"rows_kept":43,"cut":false,"hidden":false,"merged":[]}
[]
[null,null,"206Pb/204Pb","207Pb/204Pb","207Pb/206Pb","207Pb/206Pb"]
["Pare","Mts","Ratio","Ratio","Ratio","Age"]
[1,"A16G",17.361999999999998,15.452,{"$f":"(D4/C4)","v":0.88998963253081453},{"$f":"[1]!AgePb76($E$4)","v":5073.0507960381383}]
[2,"A26-2",17.962,15.555,0.86599487807593811,{"$f":"[1]!AgePb76($E$5)","v":5034.3504638853728}]
["Usambara","Mts",null,null,0]
[3,"T121G",17.994,15.555,0.86445481827275761,{"$f":"[1]!AgePb76($E$7)","v":5031.8278113675551}]
[4,"T135G",17.539000000000001,15.465999999999999,0.88180626033411247,{"$f":"[1]!AgePb76($E$8)","v":5059.9778292219435}]
[5,"T139G",17.677,15.483000000000001,0.8758839169542344,{"$f":"[1]!AgePb76($E$9)","v":5050.4363340327191}]
[6,"T137-1",17.385000000000002,15.507999999999999,0.89203336209375883,{"$f":"[1]!AgePb76($E$10)","v":5076.2957676567139}]
[7,"A108G",17.359000000000002,15.478999999999999,0.89169883057779808,{"$f":"[1]!AgePb76($E$11)","v":5075.7651486977538}]
[8,"A114-1",17.244,15.461,0.89660171653908605,{"$f":"[1]!AgePb76($E$12)","v":5083.5208430809635}]
["Umba","Steppe",null,null,0]
[9,"A125G",18.152999999999999,15.583,0.85842560458326456,{"$f":"[1]!AgePb76($E$14)","v":5021.9057159846834}]
[10,"A144-1",17.97,15.52,0.86366165831942132,{"$f":"[1]!AgePb76($E$15)","v":5030.5267357438361}]
["Wami","River",null,null,0]
[11,"T144-2",17.050999999999998,15.425000000000001,0.9046390241041582,{"$f":"[1]!AgePb76($E$17)","v":5096.1379959442884}]
["Uluguru","Mts",null,null,0]
[12,"P1",17.745999999999999,15.712999999999999,0.88543897216274092,{"$f":"[1]!AgePb76($E$19)","v":5065.7969154572365}]
[13,"P9-2",18.175000000000001,15.561999999999999,0.85623108665749648,{"$f":"[1]!AgePb76($E$20)","v":5018.2758856743421}]
[14,"T28-1",16.495999999999999,15.281000000000001,0.92634578079534446,{"$f":"[1]!AgePb76($E$21)","v":5129.6288104686655}]
[15,"T25-1",16.780999999999999,15.398999999999999,0.91764495560455284,{"$f":"[1]!AgePb76($E$22)","v":5116.3054083633797}]
[16,"P8-7",17.594000000000001,15.646000000000001,0.88928043651244737,{"$f":"[1]!AgePb76($E$23)","v":5071.9229088243928}]
[17,"P88-5",17.329999999999998,15.497,0.89422965954991351,{"$f":"[1]!AgePb76($E$24)","v":5079.7742044678116}]
[18,"T9",17.439,15.637,0.89666838694879292,{"$f":"[1]!AgePb76($E$25)","v":5083.6259963651728}]
["T9","b",17.291,15.59,0.90162512289630437,{"$f":"[1]!AgePb76($E$26)","v":5091.4206819423325}]
[19,"P20-1",17.811,15.513999999999999,0.87103475380382911,{"$f":"[1]!AgePb76($E$27)","v":5042.5727278497343}]
[20,"T46G",15.651999999999999,15.292999999999999,0.97706363404037821,{"$f":"[1]!AgePb76($E$28)","v":5204.7460846455469}]
[21,"P94G",17.282,15.583,0.90168961925703039,{"$f":"[1]!AgePb76($E$29)","v":5091.5218056409003}]
["Usagaran","belt",null,null,0]
[22,"T73-3",16.209,15.56,0.9599605157628478,{"$f":"[1]!AgePb76($E$31)","v":5179.8857102391585}]
[27,"T70G",15.946999999999999,15.579000000000001,0.97692355929014874,{"$f":"[1]!AgePb76($E$32)","v":5204.5443529586837}]
[28,"A167-9",16.04,15.436,0.96234413965087284,{"$f":"[1]!AgePb76($E$33)","v":5183.3784247154599}]
[29,"A167-16",16.539000000000001,15.664,0.94709474575246377,{"$f":"[1]!AgePb76($E$34)","v":5160.8736669607379}]
["Lowland","migmatites",null,null,0]
[30,"P6-3",14.805999999999999,14.972,1.0112116709442118,{"$f":"[1]!AgePb76($E$36)","v":5253.0339881265591}]
[31,"A154G",14.401999999999999,15.106999999999999,1.0489515345090961,{"$f":"[1]!AgePb76($E$37)","v":5304.4360180388212}]
[32,"A156-5",14.262,14.949,1.0481699621371476,{"$f":"[1]!AgePb76($E$38)","v":5303.391436841207}]
["Craton",null,null,null,0]
[33,"T71-1",14.122999999999999,15.058,1.0662040642922892,{"$f":"[1]!AgePb76($E$40)","v":5327.2873334435499}]
[34,"A159-1",14.084,15.002000000000001,1.0651803464924738,{"$f":"[1]!AgePb76($E$41)","v":5325.9423245044809}]
[35,"A164-1",15.294,15.144,0.9901922322479404,{"$f":"[1]!AgePb76($E$42)","v":5223.5189824458002}]
[36,"A183-1",13.946,14.932,1.0707012763516421,{"$f":"[1]!AgePb76($E$43)","v":5333.1798865945366}]

{"sheet":"Exc_26","index":26,"n_rows":7,"n_cols":5,"rows_kept":7,"cut":false,"hidden":false,"merged":[]}
[null,"206Pb/204Pb","207Pb/204Pb","207Pb/206Pb","207Pb/206Pb"]
[null,"Ratio","Ratio","Ratio","Age"]
["Feldspar A",18.47,15.56,{"$f":"(C3/B3)","v":0.84244721169463999},{"$f":"[1]!AgePb76($D$3)","v":4995.2483896452486}]
["Feldspar B",18.440000000000001,15.57,0.84436008676789587,{"$f":"[1]!AgePb76($D$4)","v":4998.4678770488981}]
["Ds28K",18.38,15.5,0.84330794341675741,{"$f":"[1]!AgePb76($D$5)","v":4996.6980145153511}]
["S293",18.420000000000002,15.54,0.84364820846905531,{"$f":"[1]!AgePb76($D$6)","v":4997.2706477589936}]
["Stacey-Kramers",18.66,15.63,0.83762057877813512,{"$f":"[1]!AgePb76($D$7)","v":4987.0902215753413}]

{"sheet":"Exc_27","index":27,"n_rows":29,"n_cols":9,"rows_kept":29,"cut":false,"hidden":false,"merged":[]}
[null,null,null,"Ratio","Age",null,"Ratio","Age","Table 3"]
["208Pb/204Pb","207Pb/204Pb","206Pb/204Pb","207Pb/206Pb","207Pb/206Pb","208Pb/206Pb","207Pb/206Pb","207Pb/206Pb"]
[0.11,0.11,0.1,{"$f":"(B3/C3)","v":1.0999999999999999},{"$f":"[1]!AgePb76($D$3)","v":5370.9413083193713},4.1000000000000002E-2,4.7E-2,{"$f":"[1]!AgePb76($G$3)","v":49.227056031649049}]
[5.3999999999999999E-2,5.5E-2,5.5E-2,{"$f":"(B4/C4)","v":1},{"$f":"[1]!AgePb76($D$4)","v":5237.3724072839759},1.4999999999999999E-2,1.6E-2,{"$f":"[1]!AgePb76($G$4)","v":{"$error":"#NUM!"}}]
[0.1,0.11,0.11,1,{"$f":"[1]!AgePb76($D$5)","v":5237.3724072839759},4.5999999999999999E-2,4.8000000000000001E-2,{"$f":"[1]!AgePb76($G$5)","v":99.269113745120706}]
[4.9000000000000002E-2,0.05,0.05,1,{"$f":"[1]!AgePb76($D$6)","v":5237.3724072839759},1.4E-2,1.4999999999999999E-2,{"$f":"[1]!AgePb76($G$6)","v":{"$error":"#NUM!"}}]
[35.520000000000003,15.353,15.984999999999999,0.96046293400062566,{"$f":"[1]!AgePb76($D$7)","v":5180.622664411545},2.222,0.96099999999999997,{"$f":"[1]!AgePb76($G$7)","v":5181.4099894374649}]
[35.598999999999997,15.37,15.994,0.9609853695135675,{"$f":"[1]!AgePb76($D$8)","v":5181.3885476881997},2.226,0.96099999999999997,{"$f":"[1]!AgePb76($G$8)","v":5181.4099894374649}]
["−0.22",-0.11,-0.06,1.8333333333333335,{"$f":"[1]!AgePb76($D$9)","v":6075.9057697206272},"−0.18",0]
[0.13,0.1,0.11,0.90909090909090917,{"$f":"[1]!AgePb76($D$10)","v":5103.075628693593},4.2999999999999997E-2,4.3999999999999997E-2,{"$f":"[1]!AgePb76($G$10)","v":-110.69418927745281}]
[5.1999999999999998E-2,5.2999999999999999E-2,5.2999999999999999E-2,1,{"$f":"[1]!AgePb76($D$11)","v":5237.3724072839759},1.4999999999999999E-2,1.6E-2,{"$f":"[1]!AgePb76($G$11)","v":{"$error":"#NUM!"}}]
[]
[]
[]
["Table 4"]
[]
["Sample","Ratio","Age","Ratio","Age"]
["Number","207Pb/206Pb","207Pb/206Pb","207Pb/206Pb","207Pb/206Pb"]
["Z5199",0.85189999999999999,{"$f":"[1]!AgePb76($B$19)","v":5011.0829988261412},0.85370000000000001,{"$f":"[1]!AgePb76($D$19)","v":5014.0770684716808}]
["Z5221",0.8458,{"$f":"[1]!AgePb76($B$20)","v":5000.8862332596409},0.84299999999999997,{"$f":"[1]!AgePb76($D$20)","v":4996.1795638399935}]
["Z5232",0.85499999999999998,{"$f":"[1]!AgePb76($B$21)","v":5016.2352858800568},0.85109999999999997,{"$f":"[1]!AgePb76($D$21)","v":5009.7501440271199}]
["Z5237",0.84389999999999998,{"$f":"[1]!AgePb76($B$22)","v":4997.6942306757774},0.84179999999999999,{"$f":"[1]!AgePb76($D$22)","v":4994.1573336143338}]
["Z5277",0.85019999999999996,{"$f":"[1]!AgePb76($B$23)","v":5008.2490910526558},0.8478,{"$f":"[1]!AgePb76($D$23)","v":5004.2380179023767}]
["H15",0.85019999999999996,{"$f":"[1]!AgePb76($B$24)","v":5008.2490910526558},0.85029999999999994,{"$f":"[1]!AgePb76($D$24)","v":5008.4159580322594}]
["EB1007",0.8609,{"$f":"[1]!AgePb76($B$25)","v":5025.986677521134},0.8599,{"$f":"[1]!AgePb76($D$25)","v":5024.3389025846109}]
["EB72086",0.86270000000000002,{"$f":"[1]!AgePb76($B$26)","v":5028.9475582189525},0.86199999999999999,{"$f":"[1]!AgePb76($D$26)","v":5027.7968846206631}]
["EB72087",0.86129999999999995,{"$f":"[1]!AgePb76($B$27)","v":5026.645218608428},0.86029999999999995,{"$f":"[1]!AgePb76($D$27)","v":5024.9982565657065}]
["EB72096",0.85880000000000001,{"$f":"[1]!AgePb76($B$28)","v":5022.5239987321484},0.85780000000000001,{"$f":"[1]!AgePb76($D$28)","v":5020.8719430971223}]
["BH2",0.96130000000000004,{"$f":"[1]!AgePb76($B$29)","v":5181.8495791100913},0.96099999999999997,{"$f":"[1]!AgePb76($D$29)","v":5181.4099894374649}]

{"sheet":"Exc_28","index":28,"n_rows":27,"n_cols":19,"rows_kept":27,"cut":false,"hidden":false,"merged":[]}
["Sample","Model","206Pb/204Pb","207Pb/204Pb","207Pb/206Pb","207Pb/206Pb",null,"208Pb/204Pb",null,"238U/204Pb","206Pb/238U","206Pb/238U","232Th/204Pb","208Pb/232Th","208Pb/232Th"]
["Number","Age","Ratio","Ratio","Ratio","Age",null,"Ratio",null,"Ratio","Ratio","Age","Ratio","Ratio","Age"]
["TE118/93",18,18.603400000000001,15.723100000000001,{"$f":"(D3/C3)","v":0.84517346291538109},{"$f":"[1]!AgePb76($E$3)","v":4999.8344925653437},6.1999999999999998E-3,39.582000000000001,1.6999999999999999E-3,36.65,{"$f":"(C3/J3)","v":0.50759618008185547},{"$f":"[1]!AgePb6U8(K3)","v":2646.3590564598026},1.3933,{"$f":"(H3/M3)","v":28.408813607981052},{"$f":"[1]!AgePb8Th2(N3)","v":68343.494936901567},18.500900000000001,15.718400000000001,39.5807,2.1280000000000001]
["TE126/93",23,18.562999999999999,15.698600000000001,{"$f":"(D4/C4)","v":0.84569304530517708},{"$f":"[1]!AgePb76($E$4)","v":5000.7067516317838},8.0000000000000002E-3,39.422800000000002,2.0500000000000001E-2,15.78,1.1763624841571609,{"$f":"[1]!AgePb6U8(K4)","v":5013.0855626954799},1.4339,{"$f":"(H4/M4)","v":27.493409582258181},{"$f":"[1]!AgePb8Th2(N4)","v":67704.35205267508},18.506599999999999,15.696,39.421199999999999,2.1240000000000001]
["TE137/93",18,18.521100000000001,15.7332,0.84947438327097202,{"$f":"[1]!AgePb76($E$5)","v":5007.0376515891485},4.1999999999999997E-3,39.755600000000001,1.14E-2,23.51,0.78779668226286681,{"$f":"[1]!AgePb6U8(K5)","v":3745.2632258155195},1.2677,31.360416502327048,{"$f":"[1]!AgePb8Th2(N5)","v":70276.623810157776},18.455400000000001,15.7301,39.754399999999997,2.1469999999999998]
["TE138/93",18,18.457100000000001,15.679500000000001,0.84951048647945782,{"$f":"[1]!AgePb76($E$6)","v":5007.0979529838241},5.5999999999999999E-3,39.553400000000003,1.44E-2,17.12,1.0781016355140187,{"$f":"[1]!AgePb6U8(K6)","v":4715.260607496888},1.1726000000000001,33.731366194780833,{"$f":"[1]!AgePb8Th2(N6)","v":71705.774706020122},18.409199999999998,15.677300000000001,39.552399999999999,2.1429999999999998]
["TE025/93",23,18.796800000000001,15.757899999999999,0.83832886448757227,{"$f":"[1]!AgePb76($E$7)","v":4988.2905167490944},2.0999999999999999E-3,39.482100000000003,5.3E-3,13.73,1.3690313182811362,{"$f":"[1]!AgePb6U8(K7)","v":5559.9106857821498},0.35270000000000001,111.94244400340233,{"$f":"[1]!AgePb8Th2(N7)","v":95540.744696299647},18.747699999999998,15.755599999999999,39.481699999999996,2.1]
["TE150/93",25,18.589200000000002,15.6761,0.84329072794956206,{"$f":"[1]!AgePb76($E$8)","v":4996.6690360225384},1.37E-2,39.136099999999999,3.5200000000000002E-2,9.6,1.9363750000000002,{"$f":"[1]!AgePb6U8(K8)","v":6943.9215303258161},0.29020000000000001,134.85906271536871,{"$f":"[1]!AgePb8Th2(N8)","v":99274.745726908324},18.5519,15.6744,39.1357,2.105]
[]
["Table 9"]
[]
[]
[]
[]
[]
[]
[]
[]
[]
[]
[]
[]
[]
[]
[]
[]
[null,null,null,null,null,null,null,"h"]

{"sheet":"Exc_29","index":29,"n_rows":27,"n_cols":8,"rows_kept":27,"cut":false,"hidden":false,"merged":[]}
[null,null,null,"206Pb/204Pb","207Pb/204Pb","207Pb/206Pb","207Pb/206Pb","Table 3A. "]
[null,null,null,"Ratio","Ratio","Ratio","Age"]
[85.6,"(Kh)",3.67,18.52,15.554,{"$f":"(E3/D3)","v":0.83984881209503248},{"$f":"[1]!AgePb76($F$3)","v":4990.8626603126086}]
[557,"(Mk)",1.68,18.701000000000001,15.564,{"$f":"(E4/D4)","v":0.83225495962782736},{"$f":"[1]!AgePb76($F$4)","v":4977.9622019115222}]
[819,"(Mr2)",1.99,18.431000000000001,15.568,0.84466388150398775,{"$f":"[1]!AgePb76($F$5)","v":4998.9784693863057}]
[1151,"(Mrl)",0.14000000000000001,18.416,15.554,0.84459165942658554,{"$f":"[1]!AgePb76($F$6)","v":4998.8571023428449}]
[1337,"(Nd2)",7.39,17.89,15.507,0.86679709334823918,{"$f":"[1]!AgePb76($F$7)","v":5035.6626248896837}]
[1373,"(Nd2)",7.81,18.247,15.548999999999999,0.85214007782101164,{"$f":"[1]!AgePb76($F$8)","v":5011.4827256255094}]
[1591,"(Ndl)",7.62,18.396999999999998,15.571,0.84638799804315923,{"$f":"[1]!AgePb76($F$9)","v":5001.8725276264049}]
[1709,"(Ndl)",6.91,18.681000000000001,15.57,0.83346715914565594,{"$f":"[1]!AgePb76($F$10)","v":4980.0298594610103}]
[1761,"(GPBU)",4.63,19.507999999999999,15.692,0.80438794340783271,{"$f":"[1]!AgePb76($F$11)","v":4929.5257446684182}]
[1862,"(Gd)",2.29,18.297999999999998,15.564,0.85058476336211619,{"$f":"[1]!AgePb76($F$12)","v":5008.8910198976846}]
[2200,"(Yg)",0.66,19.117000000000001,15.821,0.8275880106711303,{"$f":"[1]!AgePb76($F$13)","v":4969.9717614592128}]
[]
[]
[]
[-2,128,3.52,17.815999999999999,15.407999999999999,0.86484059272563985,{"$f":"[1]!AgePb76($F$17)","v":5032.4601661424031},"Table 3B. "]
[7,197,2.31,17.899000000000001,15.435,0.86233867813844345,{"$f":"[1]!AgePb76($F$18)","v":5028.3537341416686}]
[-11,249,1.4,17.945,15.401,0.85823349122318193,{"$f":"[1]!AgePb76($F$19)","v":5021.5883456644351}]
[-16,308,1.67,17.998999999999999,15.428000000000001,0.85715873104061346,{"$f":"[1]!AgePb76($F$20)","v":5019.8114546374763}]
[-25,454,4.59,17.577000000000002,15.365,0.87415372361608912,{"$f":"[1]!AgePb76($F$21)","v":5047.6358929545759}]
[-28,484,3.75,17.439,15.384,0.88216067435059353,{"$f":"[1]!AgePb76($F$22)","v":5060.5466683951017}]
[-33,525,2.57,17.646000000000001,15.382,0.87169896860478291,{"$f":"[1]!AgePb76($F$23)","v":5043.6525884847106}]
[-34,565,7.64,17.965,15.429,0.8588366267742833,{"$f":"[1]!AgePb76($F$24)","v":5022.5844694210373}]
[-38,666,8.3699999999999992,18.300999999999998,15.489000000000001,0.84634719414239667,{"$f":"[1]!AgePb76($F$25)","v":5001.804107607888}]
[-41,751,7.99,18.064,15.445,0.85501550044286978,{"$f":"[1]!AgePb76($F$26)","v":5016.2609981809728}]
[-44,820,2.0099999999999998,18.422999999999998,15.456,0.83895131086142327,{"$f":"[1]!AgePb76($F$27)","v":4989.3444552359897}]

{"sheet":"Exc_30","index":30,"n_rows":27,"n_cols":5,"rows_kept":27,"cut":false,"hidden":false,"merged":[]}
["Sample ","206Pb/204Pb","207Pb/204Pb","207Pb/206Pb","207Pb/206Pb"]
["Name","Ratio","Ratio","Ratio","Age"]
["87-03-01 ",18.869,15.557,{"$f":"(C3/B3)","v":0.82447400498171608},{"$f":"[1]!AgePb76($D$3)","v":4964.6134808667357}]
["87-06-01 ",18.884,15.577999999999999,{"$f":"(C4/B4)","v":0.82493115865282773},{"$f":"[1]!AgePb76($D$4)","v":4965.4014528245916}]
["87-08-02 ",18.872,15.561999999999999,0.82460788469690549,{"$f":"[1]!AgePb76($D$5)","v":4964.8442904386629}]
["87-08-09 ",18.873999999999999,15.566000000000001,0.82473243615555802,{"$f":"[1]!AgePb76($D$6)","v":4965.0589822635711}]
["87-17-02 ",18.870999999999999,15.564,0.82475756451698379,{"$f":"[1]!AgePb76($D$7)","v":4965.1022923411965}]
["Qaf70 ",18.861000000000001,15.557,0.82482371030168067,{"$f":"[1]!AgePb76($D$8)","v":4965.2162914402043}]
["Qcb1 ",18.893000000000001,15.565,0.82385010321283014,{"$f":"[1]!AgePb76($D$9)","v":4963.5373440791409}]
["Qcb7 ",18.867000000000001,15.564,0.82493242168866265,{"$f":"[1]!AgePb76($D$10)","v":4965.4036292105438}]
["Qcb12 ",18.885999999999999,15.564,0.82410250979561583,{"$f":"[1]!AgePb76($D$11)","v":4963.9728118179264}]
["Qcb16 ",18.878,15.569000000000001,0.82471660133488722,{"$f":"[1]!AgePb76($D$12)","v":4965.0316893809768}]
["Qcf3 ",0,0,0]
["Qdf1 ",18.899000000000001,15.56,0.82332398539605267,{"$f":"[1]!AgePb76($D$14)","v":4962.6291963558851}]
["Qef1 ",18.853999999999999,15.557,0.82512994590007427,{"$f":"[1]!AgePb76($D$15)","v":4965.74394723964}]
["Recheshnoi ",null,null,0]
["LUM16 ",18.940999999999999,15.574,0.82223747426218263,{"$f":"[1]!AgePb76($D$17)","v":4960.7517826978383}]
["LUM17 ",18.984000000000002,15.597,0.82158659924146638,{"$f":"[1]!AgePb76($D$18)","v":4959.6258534535291}]
["LUM18 ",18.972999999999999,15.590999999999999,0.82174669266852896,{"$f":"[1]!AgePb76($D$19)","v":4959.9028822079799}]
["LUM19",18.73,15.535,0.82941804591564339,{"$f":"[1]!AgePb76($D$20)","v":4973.1107206487659}]
["LUM20",18.992000000000001,15.602,0.82150379106992411,{"$f":"[1]!AgePb76($D$21)","v":4959.4825380744396}]
["LUM21 ",18.678000000000001,15.523999999999999,0.83113823749866145,{"$f":"[1]!AgePb76($D$22)","v":4976.0545664768233}]
["LUM22 ",18.928000000000001,15.585000000000001,0.82338334742180896,{"$f":"[1]!AgePb76($D$23)","v":4962.7316938002459}]
["LUM33 ",18.977,15.589,0.8214680929546293,{"$f":"[1]!AgePb76($D$24)","v":4959.420750920247}]
["LUM37 ",18.960999999999999,15.58,0.82168661990401359,{"$f":"[1]!AgePb76($D$25)","v":4959.7989378640505}]
["LUM42 ",18.992000000000001,15.606999999999999,0.8217670598146587,{"$f":"[1]!AgePb76($D$26)","v":4959.938121796079}]
["ABy9(23)t",18.981000000000002,15.587999999999999,0.82124229492650536,{"$f":"[1]!AgePb76($D$27)","v":4959.0298681299846}]

{"sheet":"Exc_31","index":31,"n_rows":86,"n_cols":6,"rows_kept":86,"cut":false,"hidden":false,"merged":[]}
["Sample ","207Pb/206Pb","207Pb/206Pb","TABLE 2A"]
["Name","Ratio","Age"]
[1,0.754,{"$f":"[1]!AgePb76($B$3)","v":4837.2315130314528}]
[2,0.74299999999999999,{"$f":"[1]!AgePb76($B$4)","v":4816.2091763307817}]
[5,0.76500000000000001,{"$f":"[1]!AgePb76($B$5)","v":4857.9293760906912}]
[6,0.73099999999999998,{"$f":"[1]!AgePb76($B$6)","v":4792.8936922778048}]
[8,0.72799999999999998,{"$f":"[1]!AgePb76($B$7)","v":4787.0009836346708}]
[8,0.745,{"$f":"[1]!AgePb76($B$8)","v":4820.0560060451326}]
[9,0.76800000000000002,{"$f":"[1]!AgePb76($B$9)","v":4863.5192223626136}]
[10,0.79300000000000004,{"$f":"[1]!AgePb76($B$10)","v":4909.2160114909293}]
[11,0.79300000000000004,{"$f":"[1]!AgePb76($B$11)","v":4909.2160114909293}]
[12,0.80400000000000005,{"$f":"[1]!AgePb76($B$12)","v":4928.8389169129059}]
[13,0.72899999999999998,{"$f":"[1]!AgePb76($B$13)","v":4788.9680951836599}]
[16,0.73499999999999999,{"$f":"[1]!AgePb76($B$14)","v":4800.7106130384091}]
[19,0.81200000000000006,{"$f":"[1]!AgePb76($B$15)","v":4942.9315434472674}]
[23,0.73799999999999999,{"$f":"[1]!AgePb76($B$16)","v":4806.5435710159991}]
[25,0.745,{"$f":"[1]!AgePb76($B$17)","v":4820.0560060451326}]
["33A",0.72699999999999998,{"$f":"[1]!AgePb76($B$18)","v":4785.0309856762515}]
[36,0.81299999999999994,{"$f":"[1]!AgePb76($B$19)","v":4944.6827303380096}]
[39,0.79200000000000004,{"$f":"[1]!AgePb76($B$20)","v":4907.4177647854458}]
[42,0.74399999999999999,{"$f":"[1]!AgePb76($B$21)","v":4818.133969954456}]
[43,0.72699999999999998,{"$f":"[1]!AgePb76($B$22)","v":4785.0309856762515}]
[44,0.73499999999999999,{"$f":"[1]!AgePb76($B$23)","v":4800.7106130384091}]
["45A",0.72099999999999997,{"$f":"[1]!AgePb76($B$24)","v":4773.1499131466562}]
[46,0.80600000000000005,{"$f":"[1]!AgePb76($B$25)","v":4932.3760127540654}]
[48,0.80500000000000005,{"$f":"[1]!AgePb76($B$26)","v":4930.6086334860865}]
[49,0.79300000000000004,{"$f":"[1]!AgePb76($B$27)","v":4909.2160114909293}]
[50,0.748,{"$f":"[1]!AgePb76($B$28)","v":4825.8056466422795}]
[52,0.70599999999999996,{"$f":"[1]!AgePb76($B$29)","v":4742.9791524664488}]
[55,0.77600000000000002,{"$f":"[1]!AgePb76($B$30)","v":4878.3124834238133}]
[56,0.753,{"$f":"[1]!AgePb76($B$31)","v":4835.3339490205462}]
[57,0.80300000000000005,{"$f":"[1]!AgePb76($B$32)","v":4927.0668569371455}]
["57B",0.8,{"$f":"[1]!AgePb76($B$33)","v":4921.7365552639512}]
[58,0.78300000000000003,{"$f":"[1]!AgePb76($B$34)","v":4891.1239386153629}]
[60,0.747,{"$f":"[1]!AgePb76($B$35)","v":4823.8918366692114}]
[61,0.81299999999999994,{"$f":"[1]!AgePb76($B$36)","v":4944.6827303380096}]
[62,0.79600000000000004,{"$f":"[1]!AgePb76($B$37)","v":4914.5963046411625}]
[67,0.72699999999999998,{"$f":"[1]!AgePb76($B$38)","v":4785.0309856762515}]
[]
["Sample ","207Pb/206Pb","207Pb/206Pb"]
["Name","Ratio","Age"]
[1,0.73099999999999998,{"$f":"[1]!AgePb76($B$42)","v":4792.8936922778048},1.8660000000000001,1.9E-2,"TABLE 2B"]
[2,0.75,{"$f":"[1]!AgePb76($B$43)","v":4829.625094267948},1.9159999999999999,2.1999999999999999E-2]
[12,0.748,{"$f":"[1]!AgePb76($B$44)","v":4825.8056466422795},1.899,2.5000000000000001E-2]
[24,0.76,{"$f":"[1]!AgePb76($B$45)","v":4848.5608497063313},1.923,1.2E-2]
[25,0.73699999999999999,{"$f":"[1]!AgePb76($B$46)","v":4804.6020672085069},1.871,2.7E-2]
[25,0.73099999999999998,{"$f":"[1]!AgePb76($B$47)","v":4792.8936922778048},1.8660000000000001,5.0000000000000001E-3]
[28,0.73199999999999998,{"$f":"[1]!AgePb76($B$48)","v":4794.8521943463356},1.865,1.2999999999999999E-2]
["31E",0.74,{"$f":"[1]!AgePb76($B$49)","v":4810.4181720839997},1.891,8.9999999999999993E-3]
[32,0.72699999999999998,{"$f":"[1]!AgePb76($B$50)","v":4785.0309856762515},1.865,7.0000000000000001E-3]
[35,0.80800000000000005,{"$f":"[1]!AgePb76($B$51)","v":4935.9037836460539},2.0030000000000001,2.1999999999999999E-2]
[44,0.75,{"$f":"[1]!AgePb76($B$52)","v":4829.625094267948},1.909,1.2E-2]
[48,0.73599999999999999,{"$f":"[1]!AgePb76($B$53)","v":4802.6577505611867},1.8839999999999999,1.7000000000000001E-2]
[54,0.73899999999999999,{"$f":"[1]!AgePb76($B$54)","v":4808.4822699852521},1.885,8.9999999999999993E-3]
[1,0.81399999999999995,{"$f":"[1]!AgePb76($B$55)","v":4946.431627862964},2.0270000000000001,7.0000000000000001E-3]
["E1",0.81899999999999995,{"$f":"[1]!AgePb76($B$56)","v":4955.1419803381323},2.0449999999999999,1.4E-2]
["E2",0.81499999999999995,{"$f":"[1]!AgePb76($B$57)","v":4948.1782419113797},2.0329999999999999,0.01]
[3,0.82099999999999995,{"$f":"[1]!AgePb76($B$58)","v":4958.6103001668189},2.0430000000000001,1.6E-2]
[4,0.82199999999999995,{"$f":"[1]!AgePb76($B$59)","v":4960.341092899399},2.0390000000000001,1.2E-2]
[4,0.81399999999999995,{"$f":"[1]!AgePb76($B$60)","v":4946.431627862964},2.028,4.0000000000000001E-3]
[6,0.81899999999999995,{"$f":"[1]!AgePb76($B$61)","v":4955.1419803381323},2.032,1.0999999999999999E-2]
[7,0.82299999999999995,{"$f":"[1]!AgePb76($B$62)","v":4962.06964846751},2.036,1.0999999999999999E-2]
[14,0.82299999999999995,{"$f":"[1]!AgePb76($B$63)","v":4962.06964846751},2.044,1.4999999999999999E-2]
[20,0.81599999999999995,{"$f":"[1]!AgePb76($B$64)","v":4949.9225783499642},2.0219999999999998,8.0000000000000002E-3]
[21,0.81,{"$f":"[1]!AgePb76($B$65)","v":4939.4222778980275},2.024,7.0000000000000001E-3]
["21b",0.81799999999999995,{"$f":"[1]!AgePb76($B$66)","v":4953.4044417524683},2.028,8.9999999999999993E-3]
[22,0.81399999999999995,{"$f":"[1]!AgePb76($B$67)","v":4946.431627862964},2.0150000000000001,8.9999999999999993E-3]
[24,0.81699999999999995,{"$f":"[1]!AgePb76($B$68)","v":4951.6646430230039},2.0209999999999999,1.0999999999999999E-2]
[28,0.80900000000000005,{"$f":"[1]!AgePb76($B$69)","v":4937.6641873472918},2.0230000000000001,7.0000000000000001E-3]
[35,0.81699999999999995,{"$f":"[1]!AgePb76($B$70)","v":4951.6646430230039},2.0350000000000001,8.0000000000000002E-3]
[38,0.81599999999999995,{"$f":"[1]!AgePb76($B$71)","v":4949.9225783499642},2.04,2.3E-2]
[39,0.81399999999999995,{"$f":"[1]!AgePb76($B$72)","v":4946.431627862964},2.0339999999999998,1.0999999999999999E-2]
[40,0.81599999999999995,{"$f":"[1]!AgePb76($B$73)","v":4949.9225783499642},2.0329999999999999,1.2999999999999999E-2]
[50,0.82399999999999995,{"$f":"[1]!AgePb76($B$74)","v":4963.795972561601},2.0409999999999999,1.2999999999999999E-2]
[51,0.80900000000000005,{"$f":"[1]!AgePb76($B$75)","v":4937.6641873472918},2.048,0.02]
[52,0.81599999999999995,{"$f":"[1]!AgePb76($B$76)","v":4949.9225783499642},2.028,6.0000000000000001E-3]
[54,0.81100000000000005,{"$f":"[1]!AgePb76($B$77)","v":4941.1780612788325},2.0270000000000001,2.1999999999999999E-2]
[59,0.81599999999999995,{"$f":"[1]!AgePb76($B$78)","v":4949.9225783499642},2.0259999999999998,8.0000000000000002E-3]
[60,0.81699999999999995,{"$f":"[1]!AgePb76($B$79)","v":4951.6646430230039},2.0329999999999999,8.0000000000000002E-3]
[61,0.81,{"$f":"[1]!AgePb76($B$80)","v":4939.4222778980275},2.0129999999999999,8.9999999999999993E-3]
["62E",0.81499999999999995,{"$f":"[1]!AgePb76($B$81)","v":4948.1782419113797},2.0299999999999998,7.0000000000000001E-3]
[62,0.82,{"$f":"[1]!AgePb76($B$82)","v":4956.8772645576782},2.036,1.4E-2]
[63,0.81799999999999995,{"$f":"[1]!AgePb76($B$83)","v":4953.4044417524683},2.032,8.0000000000000002E-3]
[65,0.81200000000000006,{"$f":"[1]!AgePb76($B$84)","v":4942.9315434472674},2.0089999999999999,1.2999999999999999E-2]
[68,0.81399999999999995,{"$f":"[1]!AgePb76($B$85)","v":4946.431627862964},2.0230000000000001,8.9999999999999993E-3]
[69,0.81499999999999995,{"$f":"[1]!AgePb76($B$86)","v":4948.1782419113797},2.0230000000000001,1.7000000000000001E-2]

{"sheet":"Exc_32","index":32,"n_rows":14,"n_cols":5,"rows_kept":14,"cut":false,"hidden":false,"merged":[]}
["Sample ","206Pb/204Pb","207Pb/204Pb","207Pb/206Pb","207Pb/206Pb"]
["Name","Ratio","Ratio","Ratio","Age"]
[29.8,17.648,15.472,{"$f":"(C3/B3)","v":0.87669990933816866},{"$f":"[1]!AgePb76($D$3)","v":5051.7550394830369}]
[31.1,17.640999999999998,15.477,{"$f":"(C4/B4)","v":0.87733121705118766},{"$f":"[1]!AgePb76($D$4)","v":5052.7743872866977}]
[32.5,null,null,0]
[44.9,17.649999999999999,15.483000000000001,0.87722379603399447,{"$f":"[1]!AgePb76($D$6)","v":5052.6009937416256}]
[45.7,17.535,15.471,0.88229255774165949,{"$f":"[1]!AgePb76($D$7)","v":5060.7582810861395}]
[33.799999999999997,18.029,15.491,0.85922680126462925,{"$f":"[1]!AgePb76($D$8)","v":5023.2284763848565}]
[9.23,18.18,15.507999999999999,0.85302530253025299,{"$f":"[1]!AgePb76($D$9)","v":5012.955581745352}]
[24.1,18.07,15.494,0.85744327614831206,{"$f":"[1]!AgePb76($D$10)","v":5020.2821205657428}]
[9.4,18.315000000000001,15.523999999999999,0.84761124761124751,{"$f":"[1]!AgePb76($D$11)","v":5003.9220483242707}]
[0.17599999999999999,null,null,0]
[28.3,18.16,15.507,0.85390969162995589,{"$f":"[1]!AgePb76($D$13)","v":5014.425427614342}]
[null,null,null,0]

{"sheet":"Exc_33","index":33,"n_rows":24,"n_cols":8,"rows_kept":24,"cut":false,"hidden":false,"merged":[]}
["Table 2"]
["Ratio"]
["206Pb/204Pb",17.573,17.384]
["207Pb/204Pb",15.753,15.714]
["207Pb/206Pb",{"$f":"(B4/B3)","v":0.89643202640414266},{"$f":"(C4/C3)","v":0.90393465255407268}]
["Age",{"$f":"[1]!AgePb76(B5)","v":5083.2531685727108},{"$f":"[1]!AgePb76(C5)","v":5095.0370173727279}]
[]
["Ratio"]
["206Pb/204Pb",17.228000000000002,17.574999999999999,17.292999999999999,17.274000000000001]
["207Pb/204Pb",15.76,15.737,15.736000000000001,15.728]
["207Pb/206Pb",{"$f":"(B10/B9)","v":0.91478987694450886},{"$f":"(C10/C9)","v":0.8954196301564723},{"$f":"(D10/D9)","v":0.90996356907419196},{"$f":"(E10/E9)","v":0.91050133148083823}]
["Age",{"$f":"[1]!AgePb76(B11)","v":5111.904296553007},{"$f":"[1]!AgePb76(C11)","v":5081.6550658516944},{"$f":"[1]!AgePb76(D11)","v":5104.4313240724987},{"$f":"[1]!AgePb76(E11)","v":5105.2660630851733}]
[]
["Ratio"]
["206Pb/204Pb",16.145,16.469000000000001,16.146000000000001,16.036999999999999,16.024999999999999,16.643000000000001]
["207Pb/204Pb",15.193,15.526999999999999,15.218,15.209,15.19,15.276999999999999]
["207Pb/206Pb",{"$f":"(B16/B15)","v":0.94103437596779194},0.94280162729977524,0.9425244642635946,0.94836939577227664,0.94789391575663029,0.91792345130084707]
["Age",{"$f":"[1]!AgePb76(B17)","v":5151.8231822232701},{"$f":"[1]!AgePb76(C17)","v":5154.468733735248},{"$f":"[1]!AgePb76(D17)","v":5154.0541717224105},{"$f":"[1]!AgePb76(E17)","v":5162.769409760971},{"$f":"[1]!AgePb76(F17)","v":5162.0625604072993},{"$f":"[1]!AgePb76(G17)","v":5116.7339333421705}]
[]
["Ratio"]
["206Pb/204Pb",17.739000000000001,17.869,17.908999999999999,18.245000000000001,17.795999999999999,17.888999999999999,17.994]
["207Pb/204Pb",15.481999999999999,15.545,15.518000000000001,15.574,15.523999999999999,15.57,15.534000000000001]
["207Pb/206Pb",{"$f":"(B22/B21)","v":0.87276622132025472},0.86994235827410604,0.86649170807973652,0.8536037270485064,0.87233086086761069,0.87036726479959758,0.86328776258752926]
["Age",{"$f":"[1]!AgePb76(B23)","v":5045.3858687141956},{"$f":"[1]!AgePb76(C23)","v":5040.7948417968682},{"$f":"[1]!AgePb76(D23)","v":5035.163266785833},{"$f":"[1]!AgePb76(E23)","v":5013.9171004980999},{"$f":"[1]!AgePb76(F23)","v":5044.6790898923455},{"$f":"[1]!AgePb76(G23)","v":5041.4866633748015},{"$f":"[1]!AgePb76(H23)","v":5029.9129685230264}]

{"sheet":"Exc_34","index":34,"n_rows":46,"n_cols":10,"rows_kept":46,"cut":false,"hidden":false,"merged":[]}
["Sample","206Pb/204Pb","207Pb/204Pb","207Pb/206Pb","207Pb/206Pb","206Pb/204Pb","207Pb/204Pb","207Pb/206Pb","207Pb/206Pb","Table 2"]
["Name","Ratio","Ratio","Ratio","Age","Ratio","Ratio","Ratio","Age"]
["Site I183A",18.399999999999999,15.555999999999999,{"$f":"(C3/B3)","v":0.84543478260869565},{"$f":"[1]!AgePb76($D$3)","v":5000.2732592717648},18.914999999999999,15.581,{"$f":"(G3/F3)","v":0.82373777425323813},{"$f":"[1]!AgePb76($H$3)","v":4963.3435014731322}]
["54-3 (28-34) tuff",null,null,0,null,null,null,0]
["54 1 (2-6) Unit 2B",18.516999999999999,15.528,{"$f":"(C5/B5)","v":0.83858076362261713},{"$f":"[1]!AgePb76($D$5)","v":4988.7171374592763},18.829000000000001,15.542999999999999,{"$f":"(G5/F5)","v":0.82548196930267137},{"$f":"[1]!AgePb76($H$5)","v":4966.3502400641855}]
["55-1 (77-78) Unit 3B",18.495000000000001,15.513999999999999,0.83882130305487956,{"$f":"[1]!AgePb76($D$6)","v":4989.1243921103742},18.634,15.521000000000001,0.83293978748524211,{"$f":"[1]!AgePb76($H$6)","v":4979.1307107818047}]
["55-3 (120-122) Unit 4B",18.428999999999998,15.509,0.84155407238591362,{"$f":"[1]!AgePb76($D$7)","v":4993.7425202813902},18.759,15.525,0.82760275067967382,{"$f":"[1]!AgePb76($H$7)","v":4969.9970736510913}]
["61-2 (6-7) Unit 6",18.369,15.510999999999999,0.84441178071751322,{"$f":"[1]!AgePb76($D$8)","v":4998.5547736166163},18.7,15.528,0.8303743315508022,{"$f":"[1]!AgePb76($H$8)","v":4974.7480579277681}]
["67-3 (93-95) Unit 8",18.510000000000002,15.525,0.83873581847649914,{"$f":"[1]!AgePb76($D$9)","v":4988.9796733312196},18.651,15.532,0.83277036083856093,{"$f":"[1]!AgePb76($H$9)","v":4978.8417163646936}]
["Site 1185B",18.32,15.518000000000001,0.84705240174672491,{"$f":"[1]!AgePb76($D$10)","v":5002.9861076460993},18.456,15.525,0.84118985695708715,{"$f":"[1]!AgePb76($H$10)","v":4993.1279507591762}]
["5-5 (142-143) Unit 2",null,null,0,null,null,null,0]
["6-4 (95-96) Unit 5",18.317,15.513999999999999,0.84697275754763335,{"$f":"[1]!AgePb76($D$12)","v":5002.8526681950534},18.823,15.539,0.82553259310418103,{"$f":"[1]!AgePb76($H$12)","v":4966.437407251784}]
["15-2 (113-114) Unit 9",18.36,15.515000000000001,0.84504357298474952,{"$f":"[1]!AgePb76($D$13)","v":4999.616348313999},18.574000000000002,15.537000000000001,0.83649187035641215,{"$f":"[1]!AgePb76($H$13)","v":4985.1752273419979}]
["17-3 (33-34) Unit 10",18.398,15.516,0.84335253831938251,{"$f":"[1]!AgePb76($D$14)","v":4996.7730774074153},18.59,15.525,0.83512641204948901,{"$f":"[1]!AgePb76($H$14)","v":4982.8548841324182}]
["28-1 (56-57) Unit 12",18.39,15.515000000000001,0.84366503534529635,{"$f":"[1]!AgePb76($D$15)","v":4997.2989594008586},18.879000000000001,15.539,0.82308384978017901,{"$f":"[1]!AgePb76($H$15)","v":4962.2144859943037}]
["Site 1186A",null,null,0,null,null,null,0]
["32-2 (100-101) Unit 1",18.279,15.512,0.84862410416324752,{"$f":"[1]!AgePb76($D$17)","v":5005.6166851716598},19.172999999999998,15.555999999999999,0.81134929327700411,{"$f":"[1]!AgePb76($H$17)","v":4941.7908020261766}]
["34-1 (84-86) Unit 2B",18.465,15.509,0.83991334958028707,{"$f":"[1]!AgePb76($D$18)","v":4990.9717649058075},18.663,15.519,0.83153833788779941,{"$f":"[1]!AgePb76($H$18)","v":4976.7383491043274}]
["38-1 (38-40) Unit 4",18.427,15.521000000000001,0.84229662994518917,{"$f":"[1]!AgePb76($D$19)","v":4994.9946215684122},18.553999999999998,15.528,0.83690848334590928,{"$f":"[1]!AgePb76($H$19)","v":4985.8823826086336}]
["GRS-39-1 Unit 4",18.376000000000001,15.518000000000001,0.84447104919460159,{"$f":"[1]!AgePb76($D$20)","v":4998.6543958706616},18.792000000000002,15.538,0.82684120902511704,{"$f":"[1]!AgePb76($H$20)","v":4968.6886931968857}]
["Site I187A",null,null,0,null,null,null,0]
["3-4 (93-95) Unit 3 G",18.335999999999999,15.521000000000001,0.84647687609075051,{"$f":"[1]!AgePb76($D$22)","v":5002.0215462922706},18.573,15.532999999999999,0.83632154202336717,{"$f":"[1]!AgePb76($H$22)","v":4984.8860057237544}]
["7-7 (97-98) Unit 4",18.356999999999999,15.513999999999999,0.8451271994334586,{"$f":"[1]!AgePb76($D$23)","v":4999.7567992277745},18.567,15.523999999999999,0.83610707168632514,{"$f":"[1]!AgePb76($H$23)","v":4984.5217408802491}]
["10-1 (124-126) Unit 6 G",18.32,15.522,0.84727074235807864,{"$f":"[1]!AgePb76($D$24)","v":5003.3518569304761},18.594999999999999,15.54,0.83570852379671956,{"$f":"[1]!AgePb76($H$24)","v":4983.8445677308664}]
["14-2 (4-6) Unit 9 G",18.332999999999998,15.516999999999999,0.84639720722194955,{"$f":"[1]!AgePb76($D$25)","v":5001.8879691013008},18.573,15.529,0.83610617563129275,{"$f":"[1]!AgePb76($H$25)","v":4984.52021877692}]
["16-2 (87-89) Unit 12 G",18.34,15.516999999999999,0.84607415485278081,{"$f":"[1]!AgePb76($D$26)","v":5001.3461848878105},18.574000000000002,15.528,0.83600732206309891,{"$f":"[1]!AgePb76($H$26)","v":4984.3522883732612}]
[]
[]
["Table 3"]
["238U/204pb",9,9.5,9.5]
["232Th/204Pb",36,36.575000000000003,36.575000000000003]
["OJP source 206Pb/204Pb",9.3109999999999999,12.792,18.361000000000001]
["OW source 207Pb/204Pb",10.301,14.21,15.522]
["OW source 208Pb/204Pb",29.475999999999999,32.478000000000002,38.218000000000004]
["OW source 207Pb/206Pb",{"$f":"(B33/B32)","v":1.1063258511438083},{"$f":"(C33/C32)","v":1.110850531582239},{"$f":"(D33/D32)","v":0.84537879200479271}]
["OW source Pb/Pb Age",{"$f":"[1]!AgePb76(B35)","v":5378.9550727333672},{"$f":"[1]!AgePb76(C35)","v":5384.6574892512544},{"$f":"[1]!AgePb76(D35)","v":5000.1792608313135}]
["OW source 208Pb/232Th",{"$f":"(B34/B31)","v":0.81877777777777772},{"$f":"(C34/C31)","v":0.88798359535201643},{"$f":"(D34/D31)","v":1.0449213943950786}]
["OW source Pb/Th Age",{"$f":"[1]!AgePb8Th2(B37)","v":12090.2420379181},{"$f":"[1]!AgePb8Th2(C37)","v":12845.060713148589},{"$f":"[1]!AgePb8Th2(D37)","v":14459.006585293409}]
["OJP source 206Pb/238U",{"$f":"(B32/B30)","v":1.0345555555555555},{"$f":"(C32/C30)","v":1.3465263157894736},{"$f":"(D32/D30)","v":1.9327368421052633}]
["OJP source Pb/U Age",{"$f":"[1]!AgePb6U8(B39)","v":4578.7422712222869},{"$f":"[1]!AgePb6U8(C39)","v":5498.3791851783708},{"$f":"[1]!AgePb6U8(D39)","v":6935.9294946364917}]
[]
[]
[]
["207Pb/206Pb Age",5378.9550727333672,5384.6574892512544,5000.1792608313135]
["208Pb/232Th Age",12090.2420379181,12845.060713148589,14459.006585293409]
["206Pb/238U Age",4578.7422712222869,5498.3791851783708,6935.9294946364917]

{"sheet":"Exc_35","index":35,"n_rows":26,"n_cols":9,"rows_kept":26,"cut":false,"hidden":false,"merged":[]}
["Sample","207Pb/204Pb","207Pb/204Pb","206Pb/204Pb","206Pb/204Pb","207Pb/206Pb","207Pb/206Pb","207Pb/206Pb","207Pb/206Pb"]
["Number","Ratio A","Ratio B","Ratio A","Ratio B","Ratio A","Age A","Ratio B","Age B"]
["O’Brien"]
["OBB1",15.539,15.682,18.411999999999999,18.571999999999999,{"$f":"(B4/D4)","v":0.84396046056919405},{"$f":"[1]!AgePb76($F$4)","v":4997.7959220669736},{"$f":"(C4/E4)","v":0.84438940340297231},{"$f":"[1]!AgePb76($H$4)","v":4998.5171584607951}]
["Sparkes"]
["S1P2",15.54,null,18.613,null,{"$f":"(B6/D6)","v":0.83490033847311018},{"$f":"[1]!AgePb76($F$6)","v":4982.4703250439461}]
["S2P2",15.734,15.694000000000001,18.858000000000001,18.760000000000002,{"$f":"(B7/D7)","v":0.83434086329409263},{"$f":"[1]!AgePb76($F$7)","v":4981.5181621581451},{"$f":"(C7/E7)","v":0.83656716417910448},{"$f":"[1]!AgePb76($H$7)","v":4985.3030581242401}]
["Outer"]
["A068",15.551,15.541,17.053999999999998,17.079999999999998,{"$f":"(B9/D9)","v":0.91186818341738018},{"$f":"[1]!AgePb76($F$9)","v":5107.3854024779739},{"$f":"(C9/E9)","v":0.90989461358313828},{"$f":"[1]!AgePb76($H$9)","v":5104.3242504377595}]
["A072",15.558,null,17.263000000000002,null,{"$f":"(B10/D10)","v":0.90123385274865309},{"$f":"[1]!AgePb76($F$10)","v":5090.8070459304881}]
["A050",15.532999999999999,15.547000000000001,17.218,17.277999999999999,{"$f":"(B11/D11)","v":0.90213729817632704},{"$f":"[1]!AgePb76($F$11)","v":5092.2235091367456},{"$f":"(C11/E11)","v":0.89981479337886339},{"$f":"[1]!AgePb76($H$11)","v":5088.5791374061828}]
["Middle"]
["A034",15.428000000000001,15.448,16.48,16.495000000000001,{"$f":"(B13/D13)","v":0.93616504854368932},{"$f":"[1]!AgePb76($F$13)","v":5144.5065587130712},{"$f":"(C13/E13)","v":0.93652622006668684},{"$f":"[1]!AgePb76($H$13)","v":5145.0506351798249}]
["A036",15.429,15.422000000000001,16.503,16.504999999999999,{"$f":"(B14/D14)","v":0.93492092346846034},{"$f":"[1]!AgePb76($F$14)","v":5142.6306790915569},{"$f":"(C14/E14)","v":0.9343835201454106},{"$f":"[1]!AgePb76($H$14)","v":5141.8195698754653}]
["A038",15.486000000000001,16.672000000000001]
["A057",15.499000000000001,15.545,17.105,17.170999999999999,{"$f":"(B16/D16)","v":0.90610932475884243},{"$f":"[1]!AgePb76($F$16)","v":5098.4332462789962},{"$f":"(C16/E16)","v":0.90530545687496367},{"$f":"[1]!AgePb76($H$16)","v":5097.1788374260068}]
["Inner"]
["A096",15.436,15.414,16.460999999999999,16.446999999999999,{"$f":"(B18/D18)","v":0.93773160804325384},{"$f":"[1]!AgePb76($F$18)","v":5146.8648503451432},{"$f":"(C18/E18)","v":0.93719219310512558},{"$f":"[1]!AgePb76($H$18)","v":5146.053288783135}]
["A093",15.375999999999999,null,16.449000000000002,null,{"$f":"(B19/D19)","v":0.93476807100735593},{"$f":"[1]!AgePb76($F$19)","v":5142.4000273146385}]
["A074",15.468,15.42,16.442,16.411999999999999,{"$f":"(B20/D20)","v":0.94076146454202647},{"$f":"[1]!AgePb76($F$20)","v":5151.414168618765},{"$f":"(C20/E20)","v":0.93955642213014867},{"$f":"[1]!AgePb76($H$20)","v":5149.606662660849}]
["Inner"]
["A100",15.442,null,16.388000000000002,null,{"$f":"(B22/D22)","v":0.94227483524530131},{"$f":"[1]!AgePb76($F$22)","v":5153.6806827677883}]
["A084",15.477,15.417999999999999,16.472999999999999,16.431999999999999,{"$f":"(B23/D23)","v":0.9395374248770717},{"$f":"[1]!AgePb76($F$23)","v":5149.57814803985},{"$f":"(C23/E23)","v":0.93829113924050633},{"$f":"[1]!AgePb76($H$23)","v":5147.7061550750805}]
["Battery"]
[1,15.427,null,16.047000000000001,null,{"$f":"(B25/D25)","v":0.96136349473421823},{"$f":"[1]!AgePb76($F$25)","v":5181.9425992609958}]
[2,15.379,null,16.016999999999999,null,{"$f":"(B26/D26)","v":0.96016732222014112},{"$f":"[1]!AgePb76($F$26)","v":5180.1891062880259}]

{"sheet":"Exc_36","index":36,"n_rows":11,"n_cols":5,"rows_kept":11,"cut":false,"hidden":false,"merged":[]}
["Sample","206Pb/204Pb","207Pb/204Pb","207Pb/206Pb","207Pb/206Pb"]
["Name","Ratio","Ratio","Ratio","Age"]
["S7-05",19.32,15.622,{"$f":"(C3/B3)","v":0.80859213250517592},{"$f":"[1]!AgePb76($D$3)","v":4936.9464555658324}]
["S10-05",null,null,0]
["S59-05",18.815000000000001,15.551,{"$f":"(C5/B5)","v":0.82652139250597922},{"$f":"[1]!AgePb76($D$5)","v":4968.1388446502669}]
["S68-05",null,null,0]
["S76-05",19.585999999999999,15.648,0.79893801695088329,{"$f":"[1]!AgePb76($D$7)","v":4919.8445596551137}]
["S92-05",18.829999999999998,15.565,0.8266064790228359,{"$f":"[1]!AgePb76($D$8)","v":4968.2851527854536}]
["S101-05",18.981000000000002,15.582000000000001,0.82092618934724193,{"$f":"[1]!AgePb76($D$9)","v":4958.4824604117612}]
["S103-05",null,null,0]
["S105-05",null,null,0]

{"sheet":"Exc_37","index":37,"n_rows":17,"n_cols":5,"rows_kept":17,"cut":false,"hidden":false,"merged":[]}
["Sample","206Pb/204Pb","207Pb/204Pb","207Pb/206Pb","207Pb/206Pb"]
["Name","Ratio","Ratio","Ratio","Age"]
["95-AMD-001",18.145,15.545999999999999,{"$f":"(C3/B3)","v":0.85676494902176903},{"$f":"[1]!AgePb76($D$3)","v":5019.1598262585785}]
["95-AMD-002",19.158999999999999,15.8,{"$f":"(C4/B4)","v":0.82467769716582295},{"$f":"[1]!AgePb76($D$4)","v":4964.9646318246032}]
["95-BHUJ-016",18.867999999999999,15.586,0.82605469578121693,{"$f":"[1]!AgePb76($D$5)","v":4967.3360645251551}]
["95-BHUJ-017",18.478999999999999,15.491,0.83830293847069648,{"$f":"[1]!AgePb76($D$6)","v":4988.2466002703259}]
["95-BHUJ-018",18.641999999999999,15.497,0.83129492543718486,{"$f":"[1]!AgePb76($D$7)","v":4976.3223921624822}]
["95-BHUJ-019",18.652999999999999,15.542,0.83321717686163088,{"$f":"[1]!AgePb76($D$8)","v":4979.603724543842}]
["95-BMR-037",19.582000000000001,15.669,0.80017362884281484,{"$f":"[1]!AgePb76($D$9)","v":4922.0456327377678}]
["95-BMR-038",21.265000000000001,15.701000000000001,0.73834940042323072,{"$f":"[1]!AgePb76($D$10)","v":4807.2212716459053}]
["95-BMR-039",19.547000000000001,15.598000000000001,0.7979741136747327,{"$f":"[1]!AgePb76($D$11)","v":4918.1249815414276}]
["95-BMR-054",18.983000000000001,15.635999999999999,0.82368434915450661,{"$f":"[1]!AgePb76($D$12)","v":4963.2512975738746}]
["95-BMR-055",19.027999999999999,15.613,0.82052764347277696,{"$f":"[1]!AgePb76($D$13)","v":4957.791969337718}]
["95-BMR-056",19.021000000000001,15.635,0.8219862257504863,{"$f":"[1]!AgePb76($D$14)","v":4960.3172677369321}]
["95-MUN-030",19.262,15.631,0.81149413352715194,{"$f":"[1]!AgePb76($D$15)","v":4942.0448028495148}]
["95-MUN-031",19.14,15.657999999999999,0.81807732497387664,{"$f":"[1]!AgePb76($D$16)","v":4953.5388774299745}]
["95-MUN-034",19.273,15.611000000000001,0.8099932548124319,{"$f":"[1]!AgePb76($D$17)","v":4939.4104269828731}]

{"sheet":"Exc_38","index":38,"n_rows":116,"n_cols":6,"rows_kept":116,"cut":false,"hidden":false,"merged":[]}
[null,null,null,null,null,"Table 3"]
["Sample","Mineral","206Pb/204Pb","207Pb/204Pb","207Pb/206Pb","207Pb/206Pb"]
["Name","Type","Ratio","Ratio","Ratio","Age"]
["BTW1","Galena",18.443999999999999,15.625,{"$f":"(D4/C4)","v":0.84715896768596843},{"$f":"[1]!AgePb76($E$4)","v":5003.1646321401149}]
["BTW","Sphalerite",18.565999999999999,15.627000000000001,{"$f":"(D5/C5)","v":0.84169988150382424},{"$f":"[1]!AgePb76($E$5)","v":4993.9884763447153}]
["BTW2","Galena",18.393999999999998,15.583,0.84717842774817886,{"$f":"[1]!AgePb76($E$6)","v":5003.1972300162097}]
["BTW2","Sphalerite",18.542999999999999,15.676,0.84538639918028369,{"$f":"[1]!AgePb76($E$7)","v":5000.192032337929}]
["BTW3","Pyrite",18.413,15.597,0.84706457394232337,{"$f":"[1]!AgePb76($E$8)","v":5003.0065003126429}]
["BTW4","Galena",18.405000000000001,15.598000000000001,0.84748709589785387,{"$f":"[1]!AgePb76($E$9)","v":5003.7141788713552}]
["BTW5","Galena",18.373999999999999,15.504,0.84380102318493522,{"$f":"[1]!AgePb76($E$10)","v":4997.5277403457267}]
["BTW5","Sphalerite",18.425999999999998,15.683999999999999,0.85118853793552596,{"$f":"[1]!AgePb76($E$11)","v":5009.8977197555678}]
["BTW7","Galena",18.443000000000001,15.628,0.8473675649297836,{"$f":"[1]!AgePb76($E$12)","v":5003.5140154522414}]
["BTW8","Galena",18.405000000000001,15.552,0.84498777506112466,{"$f":"[1]!AgePb76($E$13)","v":4999.5226272932559}]
["Yn16","Galena",18.266999999999999,15.465,0.846608638528494,{"$f":"[1]!AgePb76($E$14)","v":5002.242437111563}]
["Yn23","Galena",18.265999999999998,15.436,0.8450673382240228,{"$f":"[1]!AgePb76($E$15)","v":4999.6562636183362}]
["Yn25","Galena",18.238,15.404,0.84461015462221734,{"$f":"[1]!AgePb76($E$16)","v":4998.8881840166605}]
["Yn30","Galena",18.321000000000002,15.496,0.84580535996943396,{"$f":"[1]!AgePb76($E$17)","v":5000.8952272378074}]
["Yn31","Galena",18.347000000000001,15.521000000000001,0.84596936828909353,{"$f":"[1]!AgePb76($E$18)","v":5001.1704023868087}]
["Yn38","Galena",18.370999999999999,15.54,0.84589842686843397,{"$f":"[1]!AgePb76($E$19)","v":5001.051382965501}]
["Yn41","Galena",18.289000000000001,15.45,0.84477008037618229,{"$f":"[1]!AgePb76($E$20)","v":4999.1569133973717}]
["Yn42","Galena",18.350000000000001,15.532,0.84643051771117161,{"$f":"[1]!AgePb76($E$21)","v":5001.9438209173795}]
["Yn45","Galena",18.350999999999999,15.516,0.84551250613045614,{"$f":"[1]!AgePb76($E$22)","v":5000.4037325234449}]
["Yn46","Galena",18.309999999999999,15.483000000000001,0.84560349535772805,{"$f":"[1]!AgePb76($E$23)","v":5000.5564585195261}]
["Yn55","Galena",18.344999999999999,15.513,0.84562551103843009,{"$f":"[1]!AgePb76($E$24)","v":5000.5934093566011}]
["Yn59","Galena",18.187000000000001,15.39,0.84620883048331219,{"$f":"[1]!AgePb76($E$25)","v":5001.5720732085656}]
["Yn61","Galena",18.324000000000002,15.494999999999999,0.8456123117223312,{"$f":"[1]!AgePb76($E$26)","v":5000.5712559158555}]
["Yn87","Galena",18.332000000000001,15.488,0.8448614444686886,{"$f":"[1]!AgePb76($E$27)","v":4999.3104117331004}]
["Yn93","Galena",18.32,15.43,0.84224890829694321,{"$f":"[1]!AgePb76($E$28)","v":4994.9141885449762}]
["Yn13-1","Galena",18.312000000000001,15.473000000000001,0.84496505024027957,{"$f":"[1]!AgePb76($E$29)","v":4999.4844556483713}]
["Yn16-1","Galena",18.292000000000002,15.497999999999999,0.84725563087688593,{"$f":"[1]!AgePb76($E$30)","v":5003.3265464337901}]
["Yn16-2","Galena",18.213000000000001,15.372999999999999,0.84406742436721016,{"$f":"[1]!AgePb76($E$31)","v":4997.9758104062757}]
["Yn30-1","Galena",18.373999999999999,15.266999999999999,0.83090236203330792,{"$f":"[1]!AgePb76($E$32)","v":4975.6512848487191}]
["Yn30-2","Gelena",18.169,15.351000000000001,0.84490065496174804,{"$f":"[1]!AgePb76($E$33)","v":4999.3762828122981}]
["Yn31-1","Galena",18.282,15.452,0.84520293184553108,{"$f":"[1]!AgePb76($E$34)","v":4999.8839793415436}]
["Yn41-1","Galena",18.401,15.548,0.84495407858268579,{"$f":"[1]!AgePb76($E$35)","v":4999.466025796225}]
["Yn42-1","Galena",18.346,15.526,0.84628801918674368,{"$f":"[1]!AgePb76($E$36)","v":5001.704876762039}]
["Yn46-2","Galena",18.312999999999999,15.481999999999999,0.84541036422213733,{"$f":"[1]!AgePb76($E$37)","v":5000.2322658805906}]
["After","Zhou","and","Zhou"]
["TY37","Galena",18.283000000000001,15.462,0.84570365913690304,{"$f":"[1]!AgePb76($E$39)","v":5000.7245638751438}]
["TY38","Galena",18.221,15.422000000000001,0.84638603808792057,{"$f":"[1]!AgePb76($E$40)","v":5001.8692412517548}]
["TY39","Galena",18.207000000000001,15.377000000000001,0.84456527709122864,{"$f":"[1]!AgePb76($E$41)","v":4998.8127648672626}]
["TY40","Galena",18.213999999999999,15.398999999999999,0.84544855605578129,{"$f":"[1]!AgePb76($E$42)","v":5000.2963814692957}]
["TY41","Galena",18.138000000000002,15.352,0.84639982357481525,{"$f":"[1]!AgePb76($E$43)","v":5001.8923560339736}]
["TY42","Galena",18.16,15.361000000000001,0.84587004405286348,{"$f":"[1]!AgePb76($E$44)","v":5001.0037617461712}]
["TY43","Galena",18.245999999999999,15.41,0.84456867258577228,{"$f":"[1]!AgePb76($E$45)","v":4998.8184713307246}]
["TY44","Galena",18.288,15.420999999999999,0.8432305336832896,{"$f":"[1]!AgePb76($E$46)","v":4996.5677071334021}]
["TY45","Galena",18.286000000000001,15.452,0.84501804659302193,{"$f":"[1]!AgePb76($E$47)","v":4999.5734737083867}]
["TY46","Galena",18.22,15.406000000000001,0.84555433589462137,{"$f":"[1]!AgePb76($E$48)","v":5000.4739462163889}]
["Ding1","Galena",18.193999999999999,15.395,0.84615807409035948,{"$f":"[1]!AgePb76($E$49)","v":5001.4869451686409}]
["Ding2","Galena",18.149999999999999,15.33,0.84462809917355375,{"$f":"[1]!AgePb76($E$50)","v":4998.9183396268891}]
["Ding3","Galena",18.521999999999998,15.634,0.84407731346506865,{"$f":"[1]!AgePb76($E$51)","v":4997.9924403559753}]
["Ding4","Galena",18.416,15.637,0.84909860990443098,{"$f":"[1]!AgePb76($E$52)","v":5006.4098543592672}]
[]
[]
[]
["After","Zhou","and","Zhou"]
["Yn-9","Galena",18.39,15.6,0.84828711256117451,{"$f":"[1]!AgePb76($E$57)","v":5005.0530942724808}]
["Yn-10","Galena",18.170000000000002,15.340999999999999,0.84430379746835427,{"$f":"[1]!AgePb76($E$58)","v":4998.3732493559219}]
["Yn-13","Galena",18.311,15.47,0.84484735951067669,{"$f":"[1]!AgePb76($E$59)","v":4999.2867491265415}]
["Yn-26","Galena",18.36,15.58,0.84858387799564272,{"$f":"[1]!AgePb76($E$60)","v":5005.5494226905821}]
["Yn-26-1","Galena",18.41,15.62,0.84845192829983695,{"$f":"[1]!AgePb76($E$61)","v":5005.3287648238775}]
["Yn38-2","Galena",18.28,15.45,0.84518599562363228,{"$f":"[1]!AgePb76($E$62)","v":4999.8555387969518}]
["Yn41-2","Galena",18.399999999999999,15.55,0.84510869565217406,{"$f":"[1]!AgePb76($E$63)","v":4999.7257233341679}]
["Yn42-2","Galena",18.350000000000001,15.53,0.84632152588555853,{"$f":"[1]!AgePb76($E$64)","v":5001.7610652557287}]
["After","Ye","et","al."]
["J26","Galena",18.196000000000002,15.398,0.84622994064629575,{"$f":"[1]!AgePb76($E$66)","v":5001.6074773347409}]
["J27","Galena",18.298999999999999,15.468999999999999,0.84534674025903056,{"$f":"[1]!AgePb76($E$67)","v":5000.1254485742866}]
["J28","Galena",18.222999999999999,15.425000000000001,0.84645777314382931,{"$f":"[1]!AgePb76($E$68)","v":5001.9895184618545}]
["J61","Galena",18.161000000000001,15.362,{"$f":"(D69/C69)","v":0.84587853091790088},{"$f":"[1]!AgePb76($E$69)","v":5001.0180013450999}]
["J65","Galena",18.204999999999998,15.375999999999999,0.84460313100796491,{"$f":"[1]!AgePb76($E$70)","v":4998.8763807291098}]
["J66","Galena",18.234999999999999,15.401,0.84458459007403341,{"$f":"[1]!AgePb76($E$71)","v":4998.8452219147075}]
["J69","Galena",18.286000000000001,15.42,0.84326807393634473,{"$f":"[1]!AgePb76($E$72)","v":4996.6309019633327}]
["J72","Galena",18.184000000000001,15.39,0.84634843818741745,{"$f":"[1]!AgePb76($E$73)","v":5001.806193675513}]
["J27","Sphalerite",18.326000000000001,15.489000000000001,0.84519262250354688,{"$f":"[1]!AgePb76($E$74)","v":4999.8666672112968}]
["J28","Sphalerite",18.285,15.47,0.84604867377631943,{"$f":"[1]!AgePb76($E$75)","v":5001.3034417707622}]
["J60","Sphalerite",18.231999999999999,15.435,0.84658841597191758,{"$f":"[1]!AgePb76($E$76)","v":5002.208537734833}]
["J61","Sphalerite",18.216999999999999,15.374000000000001,0.84393698193994626,{"$f":"[1]!AgePb76($E$77)","v":4997.7564332078437}]
["J65","Sphalerite",18.399999999999999,15.606999999999999,0.84820652173913047,{"$f":"[1]!AgePb76($E$78)","v":5004.9182774771634}]
["J70","Sphalerite",18.315000000000001,15.461,0.84417144417144407,{"$f":"[1]!AgePb76($E$79)","v":4998.150724405592}]
["J27","Pyrite",18.350999999999999,15.499000000000001,0.84458612609667061,{"$f":"[1]!AgePb76($E$80)","v":4998.8478032925523}]
["J29","Pyrite",18.344999999999999,15.523999999999999,0.84622512946306894,{"$f":"[1]!AgePb76($E$81)","v":5001.5994085199391}]
["J60","Pyrite",18.402000000000001,15.542,0.84458211064014777,{"$f":"[1]!AgePb76($E$82)","v":4998.8410550673516}]
["J62","Pyrite",18.262,15.468,0.84700470923228555,{"$f":"[1]!AgePb76($E$83)","v":5002.9062030765408}]
["J69","Pyrite",18.353999999999999,15.521000000000001,0.84564672550942577,{"$f":"[1]!AgePb76($E$84)","v":5000.6290144867889}]
["After","Zhang",-1993]
["82j-2","Galena",18.399999999999999,15.612,0.84847826086956524,{"$f":"[1]!AgePb76($E$86)","v":5005.3728033699708}]
["82j-5","Galena",18.440999999999999,15.632,0.84767637329862811,{"$f":"[1]!AgePb76($E$87)","v":5004.0310765060813}]
["82j-7","Galena",18.285,15.491,0.84719715613891167,{"$f":"[1]!AgePb76($E$88)","v":5003.2286015061209}]
["82j-9","Galena",18.303000000000001,15.500999999999999,0.84691034256679221,{"$f":"[1]!AgePb76($E$89)","v":5002.7480860309415}]
["82j-11","Galena",18.420000000000002,15.628,0.84842562432138968,{"$f":"[1]!AgePb76($E$90)","v":5005.284772644447}]
["82j-18","Galena",18.231999999999999,15.476000000000001,0.84883720930232565,{"$f":"[1]!AgePb76($E$91)","v":5005.9729634161749}]
["82j-19","Galena",18.283000000000001,15.493,0.84739922332221185,{"$f":"[1]!AgePb76($E$92)","v":5003.5670326840973}]
["82j-26","Galena",18.321000000000002,15.45,0.8432945799901751,{"$f":"[1]!AgePb76($E$93)","v":4996.675520149256}]
["82j-27","Galena",18.506,15.64,0.84513130876472498,{"$f":"[1]!AgePb76($E$94)","v":4999.7637004834933}]
["82j-31","Pyrite",18.558,15.617000000000001,0.84152387110680038,{"$f":"[1]!AgePb76($E$95)","v":4993.6915700178706}]
["83j-33","Pyrite",18.600000000000001,15.622,0.83989247311827953,{"$f":"[1]!AgePb76($E$96)","v":4990.9364729357958}]
["82j-35","Galena",18.492999999999999,15.619,0.84458984480614296,{"$f":"[1]!AgePb76($E$97)","v":4998.8540527854266}]
["Lan38","Galena",18.22,15.43,0.84687156970362243,{"$f":"[1]!AgePb76($E$98)","v":5002.6831143335557}]
["Lan39","Galena",18.21,15.38,0.84459088412959915,{"$f":"[1]!AgePb76($E$99)","v":4998.8557994196135}]
["Lan40","Galena",18.21,15.4,0.84568918176825914,{"$f":"[1]!AgePb76($E$100)","v":5000.7002677447881}]
["Lan42","Galena",18.170000000000002,15.36,0.84534947716015396,{"$f":"[1]!AgePb76($E$101)","v":5000.1300436918318}]
["Lan43","Galena",18.27,15.41,0.84345922276956764,{"$f":"[1]!AgePb76($E$102)","v":4996.9526333647391}]
["Lan44","Galena",18.29,15.42,0.84308365226899951,{"$f":"[1]!AgePb76($E$103)","v":4996.3204199238253}]
["Lan46","Galena",18.22,15.41,0.84577387486278821,{"$f":"[1]!AgePb76($E$104)","v":5000.8423946590328}]
[]
[]
[null,null,null,null,"Table 4"]
["Sample","206Pb/204Pb","207Pb/204Pb","207Pb/206Pb","207Pb/206Pb"]
["Name","Ratio","Ratio","Ratio","Age"]
["JB308",18.591999999999999,15.742000000000001,{"$f":"(C110/B110)","v":0.84670826161790025},{"$f":"[1]!AgePb76($D$110)","v":5002.4094242451729}]
["JB439",18.488,15.635999999999999,0.84573777585460841,{"$f":"[1]!AgePb76($D$111)","v":5000.7818172991128}]
["JB453-1",18.548999999999999,15.693,0.84602943554908616,{"$f":"[1]!AgePb76($D$112)","v":5001.2711697871155}]
["No. 1",18.516999999999999,15.705,0.84813954744289033,{"$f":"[1]!AgePb76($D$113)","v":5004.8062288093897}]
["No. 2",18.707000000000001,15.891,0.84946811354038587,{"$f":"[1]!AgePb76($D$114)","v":5007.0271792923859}]
["No. 3",18.544,15.765000000000001,0.85014020707506477,{"$f":"[1]!AgePb76($D$115)","v":5008.1493064464712}]
["No. 5",18.888000000000002,15.988,0.84646336298178726,{"$f":"[1]!AgePb76($D$116)","v":5001.9988904137754}]

{"sheet":"Exc_39","index":39,"n_rows":115,"n_cols":19,"rows_kept":115,"cut":false,"hidden":false,"merged":[]}
["Sample","206Pb/204Pb","207Pb/204Pb","207Pb/206Pb","207Pb/206Pb","208Pb/204Pb","206Pb/238U","206Pb/238U","238U/204Pb","232Th/204Pb","208Pb/232Th","208Pb/232Th","206Pb/204Pb","207Pb/204Pb","207Pb/206Pb","207Pb/206Pb",null,null,4881]
["Name","Ratio","Ratio","Ratio","Age","Ratio","Ratio","Age","Ratio","Ratio","Ratio","Age","Ratio","Ratio","Ratio","Age",null,null,4886]
["79-1g",19.728999999999999,15.64,{"$f":"(C3/B3)","v":0.79274164934867464},{"$f":"[1]!AgePb76($D$3)","v":4908.7516646224431},39.529000000000003,{"$f":"(B3/I3)","v":0.65544850498338869},{"$f":"[1]!AgePb6U8(G3)","v":3249.4567097832373},30.1,117.8,{"$f":"(F3/J3)","v":0.33556027164685914},{"$f":"[1]!AgePb8Th2(K3)","v":5848.4261333558334},19.588999999999999,15.632999999999999,{"$f":"(N3/M3)","v":0.7980499259788657},{"$f":"[1]!AgePb76($D$3)","v":4908.7516646224431},null,null,4896]
["84-1wr",19.466000000000001,15.617000000000001,0.80227062570635976,{"$f":"[1]!AgePb76($D$4)","v":4925.7728804942535},39.277000000000001,{"$f":"(B4/I4)","v":0.68158263305322131},{"$f":"[1]!AgePb6U8(G4)","v":3350.4296113117753},28.56,93.3,{"$f":"(F4/J4)","v":0.42097534833869243},{"$f":"[1]!AgePb8Th2(K4)","v":7101.4350855299908},19.446000000000002,15.616,0.80304432788234081,{"$f":"[1]!AgePb76($D$4)","v":4925.7728804942535},null,null,4897]
["85-1g",19.763999999999999,15.643000000000001,0.7914895770087027,{"$f":"[1]!AgePb76($D$5)","v":4906.498966465485},39.56,0.58404255319148923,{"$f":"[1]!AgePb6U8(G5)","v":2965.2226102817685},33.840000000000003,108.2,0.36561922365988908,{"$f":"[1]!AgePb8Th2(K5)","v":6298.2914497949123},19.738,15.641999999999999,0.79248150775154524,{"$f":"[1]!AgePb76($D$5)","v":4906.498966465485},null,null,4899]
["86-1g",19.827000000000002,15.616,0.78761285116255597,{"$f":"[1]!AgePb76($D$6)","v":4899.4999238602622},39.523000000000003,0.70333451578573969,{"$f":"[1]!AgePb6U8(G6)","v":3433.2816099682641},28.19,86.6,0.45638568129330259,{"$f":"[1]!AgePb8Th2(K6)","v":7598.9450367906129},19.707000000000001,15.61,0.79210432841122436,{"$f":"[1]!AgePb76($D$6)","v":4899.4999238602622},null,null,4906]
["91-1g",20.148,15.661,0.77729799483819728,{"$f":"[1]!AgePb76($D$7)","v":4880.6973555813338},39.981999999999999,0.55064225198141559,{"$f":"[1]!AgePb6U8(G7)","v":2827.8433600413091},36.590000000000003,121.4,0.32934102141680394,{"$f":"[1]!AgePb8Th2(K7)","v":5754.0848272379963},20.012,15.654999999999999,0.78228063162102734,{"$f":"[1]!AgePb76($D$7)","v":4880.6973555813338},null,null,4907]
["101-2g",18.742000000000001,15.522,0.82819336250133391,{"$f":"[1]!AgePb76($D$8)","v":4971.0109042015019},38.322000000000003,3.4643253234750464,{"$f":"[1]!AgePb6U8(G8)","v":9644.5969350275445},5.41,17,2.2542352941176471,{"$f":"[1]!AgePb8Th2(K8)","v":23849.566758499775},18.719000000000001,15.521000000000001,0.82915754046690526,{"$f":"[1]!AgePb76($D$8)","v":4971.0109042015019},null,null,4907]
["103-3g",19.722000000000001,15.625999999999999,0.79231315282425707,{"$f":"[1]!AgePb76($D$9)","v":4907.981150609402},39.460999999999999,0.54420529801324502,{"$f":"[1]!AgePb6U8(G9)","v":2801.0276086897848},36.24,116.5,0.33872103004291843,{"$f":"[1]!AgePb8Th2(K9)","v":5896.2042039125299},19.582000000000001,15.619,0.79762026350730253,{"$f":"[1]!AgePb76($D$9)","v":4907.981150609402},null,null,4908]
["104-1g",19.501999999999999,15.606999999999999,0.80027689467746899,{"$f":"[1]!AgePb76($D$10)","v":4922.2294228663222},39.225000000000001,0.72390497401633247,{"$f":"[1]!AgePb6U8(G10)","v":3510.6659225932735},26.94,85.2,0.460387323943662,{"$f":"[1]!AgePb8Th2(K10)","v":7654.405071437046},19.401,15.602,0.80418535127055313,{"$f":"[1]!AgePb76($D$10)","v":4922.2294228663222},null,null,4908]
["112-1wr",19.143000000000001,15.654,0.81774016611816325,{"$f":"[1]!AgePb76($D$11)","v":4952.9526006644892},38.823999999999998,0.68343448768297033,{"$f":"[1]!AgePb6U8(G11)","v":3357.5248638619114},28.01,43,0.9028837209302325,{"$f":"[1]!AgePb8Th2(K11)","v":13003.951155436354},19.041,15.648999999999999,0.82185809568825163,{"$f":"[1]!AgePb76($D$11)","v":4952.9526006644892},null,null,4909]
["115-1wr",20.065999999999999,15.651,0.77997607893949972,{"$f":"[1]!AgePb76($D$12)","v":4885.6045604426017},39.941000000000003,0.80813532017720502,{"$f":"[1]!AgePb6U8(G12)","v":3818.1860074132164},24.83,161.69999999999999,0.24700680272108846,{"$f":"[1]!AgePb8Th2(K12)","v":4461.7710349173749},20.003,15.648,0.78228265760135973,{"$f":"[1]!AgePb76($D$12)","v":4885.6045604426017},null,null,4910]
["121-1wr",19.513999999999999,15.628,0.80086092036486634,{"$f":"[1]!AgePb76($D$13)","v":4923.2683834743966},39.398000000000003,0.78149779735682823,{"$f":"[1]!AgePb6U8(G13)","v":3722.5106827714017},24.97,101.9,0.38663395485770363,{"$f":"[1]!AgePb8Th2(K13)","v":6606.9569495696733},19.440000000000001,15.625,0.80375514403292181,{"$f":"[1]!AgePb76($D$13)","v":4923.2683834743966},null,null,4918]
["122-1wr",19.402999999999999,15.617000000000001,0.80487553471112727,{"$f":"[1]!AgePb76($D$14)","v":4930.3884926782575},39.171999999999997,0.6999639249639249,{"$f":"[1]!AgePb6U8(G14)","v":3420.5126847868119},27.72,76.099999999999994,0.51474375821287777,{"$f":"[1]!AgePb8Th2(K14)","v":8393.0528178472505},19.327000000000002,15.613,0.80783360066228582,{"$f":"[1]!AgePb76($D$14)","v":4930.3884926782575},null,null,4922]
["126-1g",19.446000000000002,15.617000000000001,0.80309575233981279,{"$f":"[1]!AgePb76($D$15)","v":4927.2366374445237},39.171999999999997,0.63653027823240593,{"$f":"[1]!AgePb6U8(G15)","v":3175.3638459975582},30.55,93.8,0.41761194029850746,{"$f":"[1]!AgePb8Th2(K15)","v":7053.5366089946383},19.370999999999999,15.614000000000001,0.8060502813484075,{"$f":"[1]!AgePb76($D$15)","v":4927.2366374445237},null,null,4922]
["127-4g",19.745999999999999,15.637,0.79190722171579064,{"$f":"[1]!AgePb76($D$16)","v":4907.2508040407174},39.531999999999996,0.57168500289519397,{"$f":"[1]!AgePb6U8(G16)","v":2914.7351754432229},34.54,109.2,0.36201465201465199,{"$f":"[1]!AgePb8Th2(K16)","v":6244.8704474879332},19.681000000000001,15.634,0.79437020476601794,{"$f":"[1]!AgePb76($D$16)","v":4907.2508040407174},null,null,4923]
["129-1g",19.908000000000001,15.646000000000001,0.78591520996584285,{"$f":"[1]!AgePb76($D$17)","v":4896.4234466205271},39.734000000000002,0.63522654754307595,{"$f":"[1]!AgePb6U8(G17)","v":3170.2263074225798},31.34,128.30000000000001,0.30969602494154325,{"$f":"[1]!AgePb8Th2(K17)","v":5453.1595403291922},19.861999999999998,15.644,0.78763467928708097,{"$f":"[1]!AgePb76($D$17)","v":4896.4234466205271},null,null,4926]
["130-4g",18.728000000000002,15.507999999999999,0.82806492951730015,{"$f":"[1]!AgePb76($D$18)","v":4970.7905045225871},38.183999999999997,1.6632326820603909,{"$f":"[1]!AgePb6U8(G18)","v":6314.5249246044896},11.26,29.1,1.3121649484536082,{"$f":"[1]!AgePb8Th2(K18)","v":16941.572364872944},18.709,15.507,0.8288524239670747,{"$f":"[1]!AgePb76($D$18)","v":4970.7905045225871},null,null,4927]
["131-1wr",18.951000000000001,15.62,0.82423091129755677,{"$f":"[1]!AgePb76($D$19)","v":4964.1942837703018},38.597000000000001,2.0268449197860963,{"$f":"[1]!AgePb6U8(G19)","v":7139.5377689821216},9.35,33.9,1.1385545722713866,{"$f":"[1]!AgePb8Th2(K19)","v":15363.924553971348},18.936,15.619,0.82483100971694123,{"$f":"[1]!AgePb76($D$19)","v":4964.1942837703018},null,null,4930]
["137-2g",19.890999999999998,15.634,0.78598361067819622,{"$f":"[1]!AgePb76($D$20)","v":4896.5475396096781},39.674999999999997,0.60828746177370019,{"$f":"[1]!AgePb6U8(G20)","v":3063.1421404617508},32.700000000000003,106.1,0.3739396795475966,{"$f":"[1]!AgePb8Th2(K20)","v":6421.0670336186404},19.870999999999999,15.632999999999999,0.78672437220069447,{"$f":"[1]!AgePb76($D$20)","v":4896.5475396096781},null,null,4953]
["138-1g",19.727,15.627000000000001,0.7921630252952806,{"$f":"[1]!AgePb76($D$21)","v":4907.7110893131676},39.527999999999999,0.66153588195841717,{"$f":"[1]!AgePb6U8(G21)","v":3273.1178385324783},29.82,106.2,0.37220338983050844,{"$f":"[1]!AgePb8Th2(K21)","v":6395.5080673761668},19.707000000000001,15.625999999999999,0.79291622266199824,{"$f":"[1]!AgePb76($D$21)","v":4907.7110893131676},null,null,4964]
["139-1g",19.751000000000001,15.635999999999999,0.79165611867753527,{"$f":"[1]!AgePb76($D$22)","v":4906.7988228262029},39.625999999999998,0.59152440850554056,{"$f":"[1]!AgePb6U8(G22)","v":2995.5990614992884},33.39,104.5,0.37919617224880381,{"$f":"[1]!AgePb8Th2(K22)","v":6498.2485211075427},19.736999999999998,15.635,0.7921669959973654,{"$f":"[1]!AgePb76($D$22)","v":4906.7988228262029},null,null,4971]
["D-58wr",19.687999999999999,15.622,0.7934782608695653,{"$f":"[1]!AgePb76($D$23)","v":4910.0751894732239},39.197000000000003,0.19818804107106905,{"$f":"[1]!AgePb6U8(G23)","v":1165.5790483329736},99.34,69.3,0.56561327561327568,{"$f":"[1]!AgePb8Th2(K23)","v":9060.6895731745226},19.355,15.606999999999999,0.80635494704210797,{"$f":"[1]!AgePb76($D$23)","v":4910.0751894732239},null,null,4971]
["D-62wr",19.559000000000001,15.609,0.79804693491487289,{"$f":"[1]!AgePb76($D$24)","v":4918.2549698898747},39.304000000000002,0.65966273187183821,{"$f":"[1]!AgePb6U8(G24)","v":3265.8463055904854},29.65,127.1,0.30923682140047209,{"$f":"[1]!AgePb8Th2(K24)","v":5446.0715182277745},19.436,15.603,0.80278863963778557,{"$f":"[1]!AgePb76($D$24)","v":4918.2549698898747},null,null,5446]
["D-72wr",19.510999999999999,15.611000000000001,0.80011275690636063,{"$f":"[1]!AgePb76($D$25)","v":4921.9372824582042},39.213000000000001,0.44657816433966585,{"$f":"[1]!AgePb6U8(G25)","v":2380.0217943535758},43.69,173,0.22666473988439306,{"$f":"[1]!AgePb8Th2(K25)","v":4129.3358820632138},19.501999999999999,15.611000000000001,0.80048200184596463,{"$f":"[1]!AgePb76($D$25)","v":4921.9372824582042},null,null,5453]
[null,null,null,"Average",{"$f":"AVERAGE(E3:E25)","v":4919.2120380839024},null,null,{"$f":"AVERAGE(H3:H25)","v":3693.8675138152535},null,null,null,{"$f":"AVERAGE(L3:L25)","v":8325.0032450240542},null,null,null,{"$f":"AVERAGE(P3:P25)","v":4919.2120380839024},null,null,5754]
[null,null,null,"Maximum",{"$f":"MAX(E3:E26)","v":4971.0109042015019},null,null,{"$f":"MAX(H3:H26)","v":9644.5969350275445},null,null,null,{"$f":"MAX(L3:L26)","v":23849.566758499775},null,null,null,{"$f":"MAX(P3:P26)","v":4971.0109042015019},null,null,5848]
[null,null,null,"Minimum",{"$f":"MIN(E3:E27)","v":4880.6973555813338},null,null,{"$f":"MIN(H3:H27)","v":1165.5790483329736},null,null,null,{"$f":"MIN(L3:L27)","v":4129.3358820632138},null,null,null,{"$f":"MIN(P3:P27)","v":4880.6973555813338},null,null,5896]
[null,null,null,"Difference",{"$f":"(E27-E28)","v":90.313548620168149},null,null,{"$f":"(H27-H28)","v":8479.0178866945716},null,null,null,{"$f":"(L27-L28)","v":19720.230876436563},null,null,null,{"$f":"(P27-P28)","v":90.313548620168149},null,null,6245]
[null,"Age","Age",null,null,null,null,null,null,null,null,null,null,null,null,null,null,null,6298]
[null,23849.566758499775,6498.2485211075427,null,null,null,null,null,null,null,null,null,null,null,null,null,null,null,6315]
[null,16941.572364872944,6421.0670336186404,null,"Chronology","207Pb/206Pb","206Pb/238U","208Pb/232Th",null,null,null,null,null,null,null,null,null,null,6396]
[null,15363.924553971348,6395.5080673761668,null,"Summary","Age","Age","Age",null,null,null,null,null,null,null,null,null,null,6421]
[null,13003.951155436354,6298.2914497949123,null,"Average",4919.2120380839024,3693.8675138152535,8325.0032450240542,null,null,null,null,null,null,null,null,null,null,6498]
[null,9060.6895731745226,6244.8704474879332,null,"Maximum",4971.0109042015019,9644.5969350275445,23849.566758499775,null,null,null,null,null,null,null,null,null,null,6607]
[null,8393.0528178472505,5896.2042039125299,null,"Minimum",4880.6973555813338,1165.5790483329736,4129.3358820632138,null,null,null,null,null,null,null,null,null,null,7054]
[null,7654.405071437046,5848.4261333558334,null,"Difference",90.313548620168149,8479.0178866945716,19720.230876436563,null,null,null,null,null,null,null,null,null,null,7101]
[null,7598.9450367906129,5754.0848272379963,null,null,null,null,null,null,null,null,null,null,null,null,null,null,null,7140]
[null,7101.4350855299908,5453.1595403291922,null,null,null,null,null,null,null,null,null,null,null,null,null,null,null,7599]
[null,7053.5366089946383,5446.0715182277745,null,null,null,null,null,null,null,null,null,null,null,null,null,null,null,7654]
[null,6606.9569495696733,null,null,null,null,null,null,null,null,null,null,null,null,null,null,null,null,8393]
[null,null,null,null,null,null,null,null,null,null,null,null,null,null,null,null,null,null,9061]
[null,null,null,null,null,null,null,null,null,null,null,null,null,null,null,null,null,null,9645]
[null,null,null,null,null,null,null,null,null,null,null,null,null,null,null,null,null,null,13004]
[null,null,null,null,null,null,null,null,null,null,null,null,null,null,null,null,null,null,15364]
[null,null,null,null,null,null,null,null,null,null,null,null,null,null,null,null,null,null,16942]
[null,null,null,null,null,null,null,null,null,null,null,null,null,null,null,null,null,null,23850]
[]
[]
[]
[]
[]
[]
[]
[]
[]
[]
[]
[]
[]
[]
[]
[]
[]
[]
[]
[]
[4881]
[4886]
[4896]
[4897]
[4899]
[4906]
[4907]
[4907]
[4908]
[4908]
[4909]
[4910]
[4918]
[4922]
[4922]
[4923]
[4926]
[4927]
[4930]
[4953]
[4964]
[4971]
[4971]
[5446]
[5453]
[5754]
[5848]
[5896]
[6245]
[6298]
[6315]
[6396]
[6421]
[6498]
[6607]
[7054]
[7101]
[7140]
[7599]
[7654]
[8393]
[9061]
[9645]
[13004]
[15364]
[16942]
[23850]
[{"$f":"cou","v":{"$error":"#NAME?"}}]

{"sheet":"Exc_40","index":40,"n_rows":7,"n_cols":5,"rows_kept":7,"cut":false,"hidden":false,"merged":[]}
["Sample","Ratio","Ratio","Ratio","Age"]
["Name","206Pb/204Pb","207Pb/204Pb","207Pb/206Pb","207Pb/206Pb"]
["Xuevo Laredo, Mexico ",50.28,34.86,{"$f":"(C3/B3)","v":0.69331742243436756},{"$f":"[1]!AgePb76($D$3)","v":4716.9302878927383}]
["Forest City, Iowa ",19.27,15.95,{"$f":"(C4/B4)","v":0.82771146860404776},{"$f":"[1]!AgePb76($D$4)","v":4970.1837540587794}]
["Modoc, Kansas ",19.48,15.76,0.80903490759753593,{"$f":"[1]!AgePb76($D$5)","v":4937.7255969937796}]
["Henbury, Australia ",9.5500000000000007,10.38,1.086910994764398,{"$f":"[1]!AgePb76($D$6)","v":5354.2043817223512}]
["Canyon Diablo, Arizona ",9.4600000000000009,10.34,1.0930232558139534,{"$f":"[1]!AgePb76($D$7)","v":5362.0464362752655}]

{"sheet":"Exc_41","index":41,"n_rows":33,"n_cols":5,"rows_kept":33,"cut":false,"hidden":false,"merged":[]}
["Sample","Pb-206/204","Pb-207/204","Pb-207/206","Age"]
["NAL20",18.053999999999998,15.427,{"$f":"(C2/B2)","v":0.85449207931760285},{"$f":"[1]!AgePb76($D$2)","v":5015.392467636404}]
[]
["NAL36",18.387,15.47,{"$f":"(C4/B4)","v":0.84135530537880021},{"$f":"[1]!AgePb76($D$4)","v":4993.4071600115121}]
["NAL36",18.388999999999999,15.475,0.84153570069063033,{"$f":"[1]!AgePb76($D$5)","v":4993.7115270336217}]
["NAL71",18.484000000000002,15.483000000000001,0.83764336723652888,{"$f":"[1]!AgePb76($D$6)","v":4987.12885678574}]
["SAL56",18.585999999999999,15.577,0.83810394920908216,{"$f":"[1]!AgePb76($D$7)","v":4987.9094812467765}]
["SAL9",18.513999999999999,15.529,0.83877066004105005,{"$f":"[1]!AgePb76($D$8)","v":4989.0386592970344}]
[]
["MIL10",18.603000000000002,15.462999999999999,0.83121001988926502,{"$f":"[1]!AgePb76($D$10)","v":4976.177270315563}]
["MIL10",18.606999999999999,15.452,0.83044015693018758,{"$f":"[1]!AgePb76($D$11)","v":4974.8606893774831}]
["MIL10"]
["MIL15",18.513000000000002,15.474,0.83584508183438655,{"$f":"[1]!AgePb76($D$13)","v":4984.076632279548}]
["MIL15"]
["MIL15"]
["MIL27",18.623000000000001,15.481,0.83128389625731613,{"$f":"[1]!AgePb76($D$16)","v":4976.3035418116797}]
["MIL27"]
["MIL 51",18.280999999999999,15.455,0.84541327060882887,{"$f":"[1]!AgePb76($D$18)","v":5000.2371451651597}]
["MIL 51",18.276,15.432,0.84438608010505589,{"$f":"[1]!AgePb76($D$19)","v":4998.5115720715248}]
["MIL52",18.443000000000001,15.454000000000001,0.83793309114569214,{"$f":"[1]!AgePb76($D$20)","v":4987.6199530172198}]
["MIL54",18.393999999999998,15.436,0.83918669131238455,{"$f":"[1]!AgePb76($D$21)","v":4989.7427895846668}]
["MIL62",18.178999999999998,15.417999999999999,0.84812145882611811,{"$f":"[1]!AgePb76($D$22)","v":5004.7759647606708}]
["MIL62"]
["MIL83",18.155000000000001,15.465999999999999,0.85188653263563752,{"$f":"[1]!AgePb76($D$24)","v":5011.0605722764858}]
["MIL83"]
[]
["SAL109",19.164000000000001,15.647,0.81647881444374859,{"$f":"[1]!AgePb76($D$27)","v":4950.7569871796268}]
["SAL109"]
["VMG41",19.14,15.635999999999999,0.81692789968652035,{"$f":"[1]!AgePb76($D$29)","v":4951.5391154813633}]
[]
["D8B-1",18.553000000000001,15.51,0.83598339891122719,{"$f":"[1]!AgePb76($D$31)","v":4984.3116450449952}]
["D8B-1"]
["HEN5",18.323,15.554,0.8488784587676691,{"$f":"[1]!AgePb76($D$33)","v":5006.0419150543903}]

{"sheet":"Exc_42","index":42,"n_rows":18,"n_cols":8,"rows_kept":18,"cut":false,"hidden":false,"merged":[]}
["Sample","Ratio","Ratio","Ratio","Age","Model Age","Age","Age"]
["Number","206Pb/204Pb","207Pb/204Pb","207Pb/206Pb","207Pb/206Pb","187-Re/188-Os","Difference","Ratio"]
["B-208",18.327999999999999,15.635,{"$f":"(C3/B3)","v":0.85306634657354874},{"$f":"[1]!AgePb76($D$3)","v":5013.0238323380236},139,{"$f":"(E3-F3)","v":4874.0238323380236},{"$f":"(E3/F3)","v":36.064919657108085}]
["B-448",18.413,15.617000000000001,{"$f":"(C4/B4)","v":0.84815076304784665},{"$f":"[1]!AgePb76($D$4)","v":5004.8249932838071},135,{"$f":"(E4-F4)","v":4869.8249932838071},{"$f":"(E4/F4)","v":37.0727777280282}]
["B-3064",18.379000000000001,15.613,0.8495021491920125,{"$f":"[1]!AgePb76($D$5)","v":5007.0840278687019},139,4868.0840278687019,36.022187250853968]
["B-3006",18.442,15.625,0.84725084047283372,{"$f":"[1]!AgePb76($D$6)","v":5003.3185227981903},138,4865.3185227981903,36.255931324624569]
["B-418",18.387,15.609,0.84891499428944361,{"$f":"[1]!AgePb76($D$7)","v":5006.1029840033589},133,4873.1029840033589,37.639872060175634]
["B-509",18.367000000000001,15.635999999999999,0.85130941362225721,{"$f":"[1]!AgePb76($D$8)","v":5010.0991699834767},142,4868.0991699834767,35.282388521010397]
[]
["KS-624",17.888999999999999,15.545999999999999,{"$f":"(C10/B10)","v":0.86902565822572531},{"$f":"[1]!AgePb76($D$10)","v":5039.301072756537},136,4903.301072756537,37.053684358503951]
["KS-660",17.887,15.513,0.8672779113322524,{"$f":"[1]!AgePb76($D$11)","v":5036.4484677022783},139,4897.4484677022783,36.233442213685457]
["KS-685",17.907,15.537000000000001,0.86764952253308769,{"$f":"[1]!AgePb76($D$12)","v":5037.0555075919974},140,4897.0555075919974,35.978967911371413]
["KS-700",17.882000000000001,15.532,0.86858293255787933,{"$f":"[1]!AgePb76($D$13)","v":5038.5790492466904},138,4900.5790492466904,36.511442385845584]
["FL-98",17.908999999999999,15.536,0.8674967893238037,{"$f":"[1]!AgePb76($D$14)","v":5036.8060459623593},133,4903.8060459623593,37.870722150092931]
[]
["TR-7",18.541,15.532999999999999,{"$f":"(C16/B16)","v":0.83776495334663714},{"$f":"[1]!AgePb76($D$16)","v":4987.3349731784792},9.6999999999999993,4977.6349731784794,514.15824465757521]
["TR-6",18.533999999999999,15.545999999999999,0.83878277759792819,{"$f":"[1]!AgePb76($D$17)","v":4989.0591734314094},9.4,4979.6591734314097,530.75097589695838]
["TR-1",18.533999999999999,15.545999999999999,0.83878277759792819,{"$f":"[1]!AgePb76($D$18)","v":4989.0591734314094},5,4984.0591734314094,997.81183468628183]

{"sheet":"Exc_43","index":43,"n_rows":12,"n_cols":5,"rows_kept":12,"cut":false,"hidden":false,"merged":[]}
["Sample","Ratio","Ratio","Ratio","Age"]
["Number","206Pb/204Pb","207Pb/204Pb","207Pb/206Pb","207Pb/206Pb"]
["A168 ",18.940000000000001,15.595000000000001,{"$f":"(C3/B3)","v":0.82338965153115096},{"$f":"[1]!AgePb76($D$3)","v":4962.7425783294693}]
["A169 ",18.77,15.596,{"$f":"(C4/B4)","v":0.83090037293553543},{"$f":"[1]!AgePb76($D$4)","v":4975.6478835258513}]
["A215 ",19.024000000000001,15.609,0.82048990748528172,{"$f":"[1]!AgePb76($D$5)","v":4957.7265722803158}]
["B5 ",19.004000000000001,15.598000000000001,0.82077457377394236,{"$f":"[1]!AgePb76($D$6)","v":4958.2198245074505}]
["B18 ",18.974,15.595000000000001,0.82191419837672608,{"$f":"[1]!AgePb76($D$7)","v":4960.1926758955888}]
["B33 ","na ","na ",0]
["B34 ",18.634,15.569000000000001,0.83551572394547602,{"$f":"[1]!AgePb76($D$9)","v":4983.5168581272701}]
["C20 ",18.687999999999999,15.569000000000001,0.83310145547945214,{"$f":"[1]!AgePb76($D$10)","v":4979.4064128704313}]
["C29 ",18.617000000000001,15.58,0.83686952785088897,{"$f":"[1]!AgePb76($D$11)","v":4985.8162757444761}]
["C52",18.608000000000001,15.571,0.83679062768701629,{"$f":"[1]!AgePb76($D$12)","v":4985.6823733851452}]

{"sheet":"Exc_44","index":44,"n_rows":9,"n_cols":14,"rows_kept":9,"cut":false,"hidden":false,"merged":[]}
["Sample","AL/B1b-03","AL/B7-03","AL/B9-03","AL/B16-98","AL/WM1e-98","117-KHG-91","JSH/B006","AL/B7-98","5-mk-91","P4-KHG-90","AL/307","sk221-AVL","sk229-AVL"]
["232Th/204Pb",33,28.1,22.3,31,24.8,50.2,48.5,58.3,19.5,17.8,23.1,12,10.7]
["208Pb/232Th",{"$f":"(B9/B2)","v":1.1436363636363638},{"$f":"(C9/C2)","v":1.3427046263345195},1.6901345291479819,1.2187096774193549,1.5129032258064516,0.75278884462151385,0.78886597938144321,0.65660377358490574,1.9646153846153847,2.1106741573033707,1.6419913419913419,3.0975000000000001,3.4728971962616821]
["Age",{"$f":"[1]!AgePb8Th2(B3)","v":15411.897368587252},{"$f":"[1]!AgePb8Th2(C3)","v":17206.79302961264},{"$f":"[1]!AgePb8Th2(D3)","v":20001.843419887387},{"$f":"[1]!AgePb8Th2(E3)","v":16107.646296492649},{"$f":"[1]!AgePb8Th2(F3)","v":18624.330437424076},{"$f":"[1]!AgePb8Th2(G3)","v":11343.267204846605},{"$f":"[1]!AgePb8Th2(H3)","v":11755.065952809216},{"$f":"[1]!AgePb8Th2(I3)","v":10202.518182697304},{"$f":"[1]!AgePb8Th2(J3)","v":21965.584750372585},{"$f":"[1]!AgePb8Th2(K3)","v":22937.634634397902},{"$f":"[1]!AgePb8Th2(L3)","v":19636.845457880863},{"$f":"[1]!AgePb8Th2(M3)","v":28506.862690972161},{"$f":"[1]!AgePb8Th2(N3)","v":30278.652673317163}]
["206Pb/204Pb",18.111000000000001,18.122,17.960999999999999,18.103000000000002,17.824999999999999,17.701000000000001,18.256,18.260000000000002,18.350999999999999,17.809000000000001,17.202999999999999,17.38,17.373999999999999]
["207Pb/204Pb",15.491,15.504,15.473000000000001,15.489000000000001,15.492000000000001,15.436999999999999,15.542999999999999,15.598000000000001,15.597,15.523,15.44,15.535,15.541]
["207Pb/206Pb",{"$f":"(B6/B5)","v":0.85533653580696811},{"$f":"(C6/C5)","v":0.85553470919324581},0.86147764601080135,0.8556040435286969,0.86911640953716696,0.87209762160329918,0.85139132340052581,0.85421686746987946,0.84992643452672878,0.87163793587511929,0.89751787478928091,0.8938434982738781,0.89449752503741231]
["Age",{"$f":"[1]!AgePb76(B7)","v":5016.7934238277076},{"$f":"[1]!AgePb76(C7)","v":5017.1219813740181},{"$f":"[1]!AgePb76(D7)","v":5026.9375824893141},{"$f":"[1]!AgePb76(E7)","v":5017.2369137465566},{"$f":"[1]!AgePb76(F7)","v":5039.4490272103294},{"$f":"[1]!AgePb76(G7)","v":5044.3002874080576},{"$f":"[1]!AgePb76(H7)","v":5010.2356627463541},{"$f":"[1]!AgePb76(I7)","v":5014.9355725774685},{"$f":"[1]!AgePb76(J7)","v":5007.7924940773692},{"$f":"[1]!AgePb76(K7)","v":5043.5533997299472},{"$f":"[1]!AgePb76(L7)","v":5084.9650923835388},{"$f":"[1]!AgePb76(M7)","v":5079.1632695039225},{"$f":"[1]!AgePb76(N7)","v":5080.1978226544061}]
["208Pb/204Pb",37.74,37.729999999999997,37.69,37.78,37.520000000000003,37.79,38.26,38.28,38.31,37.57,37.93,37.17,37.159999999999997]

{"sheet":"Exc_45","index":45,"n_rows":233,"n_cols":11,"rows_kept":233,"cut":false,"hidden":false,"merged":[]}
["Location","Asunción","Misiones","Belén","Las-Conchas","Finca","Betanzos","Ayopaya"]
["(206Pb/204Pb)",18.89,18.309999999999999,19.29,18.63,19.13,19.39,19.2]
["(207Pb/204Pb)",15.67,15.68,15.57,15.56,15.58,15.59,15.64]
["(207Pb/206Pb)",{"$f":"(B3/B2)","v":0.8295394388565378},{"$f":"(C3/C2)","v":0.85636264336428181},0.80715396578538112,0.83521202361782076,0.81442760062728703,0.80402269210933464,0.81458333333333344]
["Age",{"$f":"[1]!AgePb76(B4)","v":4973.3186788940093},{"$f":"[1]!AgePb76(C4)","v":5018.4937645178434},{"$f":"[1]!AgePb76(D4)","v":4934.4126110876305},{"$f":"[1]!AgePb76(E4)","v":4983.0004835377413},{"$f":"[1]!AgePb76(F4)","v":4947.1787602334771},{"$f":"[1]!AgePb76(G4)","v":4928.8791014768112},{"$f":"[1]!AgePb76(H4)","v":4947.4507631869019}]
[]
[]
[]
[]
[]
[]
[]
[]
[]
[]
[]
[]
[]
[]
[]
[]
[]
[]
[]
[]
[]
[]
[]
[]
[]
[]
[]
[]
[]
[]
[]
[]
[]
[]
[]
[]
[]
[]
[]
[]
[]
[]
[]
[]
[]
[]
[]
[null,null,null,null,null,"207/206",null,null,null,null,"Table 1."]
[null,null,null,null,null,"Ratio"]
[1.1000000000000001,2626,0.23,4.3999999999999999E-5,55.890999999999998,5.0099999999999999E-2,1.7899999999999999E-2,114.1,1.2,{"$f":"(#REF!/H55)","v":{"$error":"#REF!"}}]
[2.1,1887,0.04,0,5.8920000000000003,7.5700000000000003E-2,0.1691,1007.3,11.2,{"$f":"(#REF!/H56)","v":{"$error":"#REF!"}}]
[3.1,1001,0.21,2.3900000000000001E-4,57.981000000000002,5.4399999999999997E-2,1.7100000000000001E-2,109.4,1.2,{"$f":"(#REF!/H57)","v":{"$error":"#REF!"}}]
[4.0999999999999996,2039,0.14000000000000001,1.8E-5,10.349,0.10340000000000001,9.1300000000000006E-2,563.5,8.6999999999999993,{"$f":"(#REF!/H58)","v":{"$error":"#REF!"}}]
[5.0999999999999996,1225,0.19,7.2000000000000002E-5,55.23,5.0700000000000002E-2,1.8100000000000002E-2,115.3,1.2,{"$f":"(#REF!/H59)","v":{"$error":"#REF!"}}]
[8.1,2542,0.19,1.2999999999999999E-5,56.465000000000003,5.0099999999999999E-2,1.77E-2,112.9,1.2,{"$f":"(#REF!/H60)","v":{"$error":"#REF!"}}]
[9.1,954,0.01,6.7999999999999999E-5,55.865000000000002,5.1299999999999998E-2,1.78E-2,113.9,1.4,{"$f":"(#REF!/H61)","v":{"$error":"#REF!"}}]
[10.1,1375,0.09,2.8E-5,17.713999999999999,5.5899999999999998E-2,5.6300000000000003E-2,353,4.2,{"$f":"(#REF!/H62)","v":{"$error":"#REF!"}}]
[11.1,1864,0.26,4.0000000000000003E-5,55.27,5.0999999999999997E-2,1.7999999999999999E-2,115.2,1.2,{"$f":"(#REF!/H63)","v":{"$error":"#REF!"}}]
[12.1,1769,0,3.6999999999999998E-5,54.345999999999997,4.9599999999999998E-2,1.84E-2,117.4,1.2,{"$f":"(#REF!/H64)","v":{"$error":"#REF!"}}]
[14.1,2448,7.0000000000000007E-2,1.8100000000000001E-4,57.572000000000003,5.2699999999999997E-2,1.7299999999999999E-2,110.4,1.1000000000000001,{"$f":"(#REF!/H65)","v":{"$error":"#REF!"}}]
[15.1,1504,0.2,2.6499999999999999E-4,54.975000000000001,4.9599999999999998E-2,1.8200000000000001E-2,116,1.2,{"$f":"(#REF!/H66)","v":{"$error":"#REF!"}}]
[16.100000000000001,2859,0.19,4.8999999999999998E-5,53.701000000000001,4.8000000000000001E-2,1.8599999999999998E-2,119,1.2,{"$f":"(#REF!/H67)","v":{"$error":"#REF!"}}]
[17.100000000000001,772,0.13,1.93E-4,56.642000000000003,4.9799999999999997E-2,1.7600000000000001E-2,112.6,1.2,{"$f":"(#REF!/H68)","v":{"$error":"#REF!"}}]
[18.100000000000001,957,0.39,1.1E-5,52.368000000000002,4.9099999999999998E-2,1.9099999999999999E-2,121.8,1.4,{"$f":"(#REF!/H69)","v":{"$error":"#REF!"}}]
[19.100000000000001,300,0.89,"‐",59.162999999999997,5.2400000000000002E-2,1.6799999999999999E-2,107.5,1.3,{"$f":"(#REF!/H70)","v":{"$error":"#REF!"}}]
[20.100000000000001,2426,0.1,6.0300000000000002E-4,54.685000000000002,5.74E-2,1.8100000000000002E-2,115.5,1.2,{"$f":"(#REF!/H71)","v":{"$error":"#REF!"}}]
[21.1,376,0.06,4.0000000000000003E-5,8.52,7.9299999999999995E-2,0.115,701.8,20.3,{"$f":"(#REF!/H72)","v":{"$error":"#REF!"}}]
["Cores"]
[6.1,2732,0.1,3.3000000000000003E-5,56.37,4.9799999999999997E-2,1.77E-2,113.1,1.3,{"$f":"(#REF!/H74)","v":{"$error":"#REF!"}}]
[7.1,932,0.23,4.8999999999999998E-5,54.718000000000004,5.04E-2,1.8200000000000001E-2,116.4,1.3,{"$f":"(#REF!/H75)","v":{"$error":"#REF!"}}]
[9.1999999999999993,129,0.2,2.3499999999999999E-4,11.476000000000001,6.2100000000000002E-2,8.6699999999999999E-2,536.1,8,{"$f":"(#REF!/H76)","v":{"$error":"#REF!"}}]
[13.1,1962,0.18,2.0000000000000002E-5,52.954000000000001,5.0299999999999997E-2,1.8800000000000001E-2,120.3,1.4,{"$f":"(#REF!/H77)","v":{"$error":"#REF!"}}]
[14.2,275,0.41,1.35E-4,10.225,6.0400000000000002E-2,9.7699999999999995E-2,601.20000000000005,6.9,{"$f":"(#REF!/H78)","v":{"$error":"#REF!"}}]
[20.2,1845,0.18,"‐",9.6170000000000009,5.9900000000000002E-2,0.1041,638.5,7.4,{"$f":"(#REF!/H79)","v":{"$error":"#REF!"}}]
["Sample","M5‐F57B","S","29.734,","145°"]
["Rims"]
[2.1,2291,2.9000000000000001E-2,4.2400000000000001E-4,58.901000000000003,5.3199999999999997E-2,1.6899999999999998E-2,107.8,1.1000000000000001,{"$f":"(#REF!/H82)","v":{"$error":"#REF!"}}]
[3.1,1178,0.02,1.5070000000000001E-3,60.112000000000002,6.9900000000000004E-2,1.6199999999999999E-2,103.5,1.2,{"$f":"(#REF!/H83)","v":{"$error":"#REF!"}}]
[4.0999999999999996,1570,2.3E-2,1.2650000000000001E-3,59.438000000000002,6.3200000000000006E-2,1.6500000000000001E-2,105.5,1.1000000000000001,{"$f":"(#REF!/H84)","v":{"$error":"#REF!"}}]
[5.0999999999999996,1572,0.01,9.1E-4,56.420999999999999,6.2199999999999998E-2,1.7399999999999999E-2,111.3,1.2,{"$f":"(#REF!/H85)","v":{"$error":"#REF!"}}]
[6.1,1094,1.6E-2,7.1299999999999998E-4,61.018000000000001,5.91E-2,1.6199999999999999E-2,103.4,1.2,{"$f":"(#REF!/H86)","v":{"$error":"#REF!"}}]
[7.1,1564,2.4E-2,1.0280000000000001E-3,61.293999999999997,6.1199999999999997E-2,1.6E-2,102.6,1.1000000000000001,{"$f":"(#REF!/H87)","v":{"$error":"#REF!"}}]
[8.1,1258,1.4999999999999999E-2,3.5E-4,60.91,5.5500000000000001E-2,1.6299999999999999E-2,104,1.2,{"$f":"(#REF!/H88)","v":{"$error":"#REF!"}}]
[9.1,1419,2.5000000000000001E-2,3.6200000000000002E-4,60.667000000000002,5.1799999999999999E-2,1.6400000000000001E-2,104.9,1.1000000000000001,{"$f":"(#REF!/H89)","v":{"$error":"#REF!"}}]
[10.1,1401,0.02,6.96E-4,59.68,5.6099999999999997E-2,1.66E-2,106.1,1.2,{"$f":"(#REF!/H90)","v":{"$error":"#REF!"}}]
[11.1,1457,5.0000000000000001E-3,4.3199999999999998E-4,58.58,5.5100000000000003E-2,1.6899999999999998E-2,108.2,1.2,{"$f":"(#REF!/H91)","v":{"$error":"#REF!"}}]
[12.1,1215,1.4999999999999999E-2,2.2569999999999999E-3,58.436,7.7499999999999999E-2,1.6500000000000001E-2,105.4,1.2,{"$f":"(#REF!/H92)","v":{"$error":"#REF!"}}]
[13.1,1109,8.0000000000000002E-3,5.7899999999999998E-4,59.137,5.4800000000000001E-2,1.6799999999999999E-2,107.2,1.2,{"$f":"(#REF!/H93)","v":{"$error":"#REF!"}}]
[14.1,1629,2.7E-2,4.0900000000000002E-4,60.966999999999999,5.2600000000000001E-2,1.6299999999999999E-2,104.3,1.1000000000000001,{"$f":"(#REF!/H94)","v":{"$error":"#REF!"}}]
[15.1,1277,0.02,5.6899999999999995E-4,60.064,5.67E-2,1.6500000000000001E-2,105.3,1.2,{"$f":"(#REF!/H95)","v":{"$error":"#REF!"}}]
["Cores"]
[1.1000000000000001,1280,6.0000000000000001E-3,1.1039999999999999E-3,52.920999999999999,6.9000000000000006E-2,1.84E-2,117.6,3,{"$f":"(#REF!/H97)","v":{"$error":"#REF!"}}]
["Sample","M5‐R136A","S","32.877,","144°"]
["Rims"]
[1.1000000000000001,3143,6.9000000000000006E-2,1.6699999999999999E-4,58.494999999999997,5.0999999999999997E-2,1.7000000000000001E-2,108.9,1.1000000000000001,{"$f":"(#REF!/H100)","v":{"$error":"#REF!"}}]
[2.1,3082,3.1E-2,3.6000000000000002E-4,58.279000000000003,5.5199999999999999E-2,1.7000000000000001E-2,108.7,1.1000000000000001,{"$f":"(#REF!/H101)","v":{"$error":"#REF!"}}]
[3.1,692,0.496,6.4800000000000003E-4,57.545000000000002,5.5399999999999998E-2,1.72E-2,110.1,1.2,{"$f":"(#REF!/H102)","v":{"$error":"#REF!"}}]
[5.0999999999999996,1500,3.3000000000000002E-2,4.6999999999999997E-5,17.105,5.5399999999999998E-2,5.8400000000000001E-2,365.6,4.0999999999999996,{"$f":"(#REF!/H103)","v":{"$error":"#REF!"}}]
[6.1,1307,2.3E-2,4.08E-4,58.35,5.2999999999999999E-2,1.7000000000000001E-2,108.9,1.2,{"$f":"(#REF!/H104)","v":{"$error":"#REF!"}}]
[7.1,1646,1.0999999999999999E-2,7.4999999999999993E-5,62.314,0.05,1.6E-2,102.4,1.1000000000000001,{"$f":"(#REF!/H105)","v":{"$error":"#REF!"}}]
[9.1,163,0.36399999999999999,9.9799999999999997E-4,56.981000000000002,7.2300000000000003E-2,1.7000000000000001E-2,108.8,1.8,{"$f":"(#REF!/H106)","v":{"$error":"#REF!"}}]
[10.1,658,4.4999999999999998E-2,1.1360000000000001E-3,57.957999999999998,5.3699999999999998E-2,1.7100000000000001E-2,109.5,1.3,{"$f":"(#REF!/H107)","v":{"$error":"#REF!"}}]
[11.1,2484,6.0000000000000001E-3,1.9100000000000001E-4,61.456000000000003,5.11E-2,1.6199999999999999E-2,103.7,1.1000000000000001,{"$f":"(#REF!/H108)","v":{"$error":"#REF!"}}]
[12.1,1407,0.29599999999999999,1.4300000000000001E-4,59.518999999999998,5.0900000000000001E-2,1.67E-2,107,1.2,{"$f":"(#REF!/H109)","v":{"$error":"#REF!"}}]
[13.1,1341,3.6999999999999998E-2,3.4299999999999999E-4,61.079000000000001,5.2600000000000001E-2,1.6299999999999999E-2,104.1,1.1000000000000001,{"$f":"(#REF!/H110)","v":{"$error":"#REF!"}}]
[15.1,1380,1.4E-2,4.0499999999999998E-4,62.162999999999997,5.3900000000000003E-2,1.6E-2,102.1,1.1000000000000001,{"$f":"(#REF!/H111)","v":{"$error":"#REF!"}}]
[16.100000000000001,3099,1.4999999999999999E-2,1.83E-4,57.378,5.0599999999999999E-2,1.7399999999999999E-2,111.1,1.2,{"$f":"(#REF!/H112)","v":{"$error":"#REF!"}}]
[17.100000000000001,2219,1.7000000000000001E-2,1.7699999999999999E-4,60.445,5.1299999999999998E-2,1.6500000000000001E-2,105.4,1.2,{"$f":"(#REF!/H113)","v":{"$error":"#REF!"}}]
[18.100000000000001,2813,0.158,1.73E-4,59.93,5.2499999999999998E-2,1.66E-2,106.1,1.1000000000000001,{"$f":"(#REF!/H114)","v":{"$error":"#REF!"}}]
[19.100000000000001,1517,1.4999999999999999E-2,1.37E-4,60.213999999999999,5.2900000000000003E-2,1.6500000000000001E-2,105.5,1.2,{"$f":"(#REF!/H115)","v":{"$error":"#REF!"}}]
[20.100000000000001,2624,0.22800000000000001,1.2300000000000001E-4,59.688000000000002,5.0200000000000002E-2,1.67E-2,106.8,1.1000000000000001,{"$f":"(#REF!/H116)","v":{"$error":"#REF!"}}]
[21.1,1372,1.4E-2,1.66E-4,59.935000000000002,5.0299999999999997E-2,1.66E-2,106.4,1.2,{"$f":"(#REF!/H117)","v":{"$error":"#REF!"}}]
[22.1,1732,1.6E-2,3.9100000000000002E-4,58.841000000000001,5.6000000000000001E-2,1.6799999999999999E-2,107.6,1.2,{"$f":"(#REF!/H118)","v":{"$error":"#REF!"}}]
[]
["Cores"]
[1.2,895,0.19400000000000001,2.6200000000000003E-4,57.354999999999997,5.1999999999999998E-2,1.7399999999999999E-2,110.9,1.2,{"$f":"(#REF!/H121)","v":{"$error":"#REF!"}}]
[2.2000000000000002,384,0.247,2.34E-4,19.100000000000001,5.5399999999999998E-2,5.2200000000000003E-2,328,3.8,{"$f":"(#REF!/H122)","v":{"$error":"#REF!"}}]
[4.0999999999999996,446,0.307,2.7599999999999999E-4,16.879000000000001,5.8999999999999997E-2,5.8900000000000001E-2,368.8,3.9,{"$f":"(#REF!/H123)","v":{"$error":"#REF!"}}]
[4.2,122,0.01,7.5199999999999996E-4,10.631,7.17E-2,9.2600000000000002E-2,571,7.4,{"$f":"(#REF!/H124)","v":{"$error":"#REF!"}}]
[7.2,414,0.41899999999999998,1.588E-3,58.174999999999997,5.62E-2,1.7000000000000001E-2,108.8,1.5,{"$f":"(#REF!/H125)","v":{"$error":"#REF!"}}]
[8.1,470,9.1999999999999998E-2,1.7899999999999999E-4,23.303999999999998,5.6899999999999999E-2,4.2599999999999999E-2,269.10000000000002,3.1,{"$f":"(#REF!/H126)","v":{"$error":"#REF!"}}]
[14.1,271,0.36,3.9500000000000001E-4,17.355,6.2700000000000006E-2,5.7000000000000002E-2,357.2,4.3,{"$f":"(#REF!/H127)","v":{"$error":"#REF!"}}]
[17.2,2418,0.72499999999999998,1.5319999999999999E-3,58.951999999999998,6.8699999999999997E-2,1.6500000000000001E-2,105.7,1.2,{"$f":"(#REF!/H128)","v":{"$error":"#REF!"}}]
[23.1,1304,0.54200000000000004,6.1008E-2,25.783999999999999,0.33069999999999999]
[24.1,393,0.11,6.9999999999999999E-4,26.105,5.74E-2,3.7999999999999999E-2,240.4,3,{"$f":"(#REF!/H130)","v":{"$error":"#REF!"}}]
[25.1,198,0.91,4.3399999999999998E-4,17.166,6.1199999999999997E-2,5.7700000000000001E-2,361.7,4.8,{"$f":"(#REF!/H131)","v":{"$error":"#REF!"}}]
[26.1,990,0.73899999999999999,5.5999999999999999E-5,17.015999999999998,5.4600000000000003E-2,5.8700000000000002E-2,367.8,3.9,{"$f":"(#REF!/H132)","v":{"$error":"#REF!"}}]
["Sample","M5‐R136C","S","32.877,","144°"]
["Rims"]
[1.1000000000000001,889,5.0999999999999997E-2,6.9999999999999999E-6,17.187000000000001,5.5199999999999999E-2,5.8099999999999999E-2,364,4.2,{"$f":"(#REF!/H135)","v":{"$error":"#REF!"}}]
[3.1,2376,8.9999999999999993E-3,"‐",62.365000000000002,4.8800000000000003E-2,1.6E-2,102.5,1.1000000000000001,{"$f":"(#REF!/H136)","v":{"$error":"#REF!"}}]
[4.0999999999999996,536,0.36299999999999999,2.4899999999999998E-4,59.453000000000003,4.8599999999999997E-2,1.6799999999999999E-2,107.5,1.3,{"$f":"(#REF!/H137)","v":{"$error":"#REF!"}}]
[5.0999999999999996,2748,2.5999999999999999E-2,"‐",59.329000000000001,4.8899999999999999E-2,1.6799999999999999E-2,107.7,1.1000000000000001,{"$f":"(#REF!/H138)","v":{"$error":"#REF!"}}]
[6.1,3372,1.4E-2,1.5939999999999999E-3,58.811,6.8400000000000002E-2,1.66E-2,105.9,1.1000000000000001,{"$f":"(#REF!/H139)","v":{"$error":"#REF!"}}]
[7.1,1342,1.7999999999999999E-2,1.64E-4,61.343000000000004,5.0700000000000002E-2,1.6199999999999999E-2,103.9,1.1000000000000001,{"$f":"(#REF!/H140)","v":{"$error":"#REF!"}}]
[8.1999999999999993,2066,2.5999999999999999E-2,"‐",16.535,5.4100000000000002E-2,6.0499999999999998E-2,378.6,3.9,{"$f":"(#REF!/H141)","v":{"$error":"#REF!"}}]
[9.1,1001,2.3E-2,1.7899999999999999E-4,60.171999999999997,4.8000000000000001E-2,1.66E-2,106.3,1.2,{"$f":"(#REF!/H142)","v":{"$error":"#REF!"}}]
[10.1,2804,4.0000000000000001E-3,"‐",59.764000000000003,4.8099999999999997E-2,1.67E-2,107,1.1000000000000001,{"$f":"(#REF!/H143)","v":{"$error":"#REF!"}}]
[11.1,2254,8.0000000000000002E-3,"‐",59.994999999999997,4.82E-2,1.67E-2,106.6,1.1000000000000001,{"$f":"(#REF!/H144)","v":{"$error":"#REF!"}}]
[12.1,1524,0.32300000000000001,"‐",21.427,5.3199999999999997E-2,4.6600000000000003E-2,293.7,3,{"$f":"(#REF!/H145)","v":{"$error":"#REF!"}}]
["Cores"]
[1.2,785,0.29299999999999998,4.6E-5,18.713000000000001,5.4899999999999997E-2,5.33E-2,334.9,3.6,{"$f":"(#REF!/H147)","v":{"$error":"#REF!"}}]
[2.1,1305,2.5999999999999999E-2,"‐",16.623999999999999,5.2999999999999999E-2,6.0199999999999997E-2,377.1,6.1,{"$f":"(#REF!/H148)","v":{"$error":"#REF!"}}]
[3.2,628,0.52,3.5E-4,59.652000000000001,5.1499999999999997E-2,1.67E-2,106.7,1.4,{"$f":"(#REF!/H149)","v":{"$error":"#REF!"}}]
[6.2,953,0.61599999999999999,3.1000000000000001E-5,16.901,5.4300000000000001E-2,5.91E-2,370.5,4,{"$f":"(#REF!/H150)","v":{"$error":"#REF!"}}]
[8.1,188,0.40200000000000002,"‐",17.149999999999999,5.7599999999999998E-2,5.8000000000000003E-2,363.7,4.8,{"$f":"(#REF!/H151)","v":{"$error":"#REF!"}}]
[9.1999999999999993,611,0.55600000000000005,3.21E-4,58.603999999999999,4.8800000000000003E-2,1.7100000000000001E-2,109,1.3,{"$f":"(#REF!/H152)","v":{"$error":"#REF!"}}]
[10.199999999999999,395,0.499,"‐",58.948999999999998,4.9599999999999998E-2,1.6899999999999998E-2,108.3,1.4,{"$f":"(#REF!/H153)","v":{"$error":"#REF!"}}]
[13.1,568,0.159,2.1999999999999999E-5,48.17,5.0299999999999997E-2,2.07E-2,132.19999999999999,1.6,{"$f":"(#REF!/H154)","v":{"$error":"#REF!"}}]
[14.1,450,0.32100000000000001,2.5900000000000001E-4,17.498000000000001,5.3900000000000003E-2,5.7099999999999998E-2,358.2,4.0999999999999996,{"$f":"(#REF!/H155)","v":{"$error":"#REF!"}}]
[15.1,1331,0.314,1.7100000000000001E-4,58,4.9000000000000002E-2,1.72E-2,110.1,1.2,{"$f":"(#REF!/H156)","v":{"$error":"#REF!"}}]
[16.100000000000001,750,0.45700000000000002,"‐",58.783999999999999,4.7100000000000003E-2,1.7000000000000001E-2,108.9,1.3,{"$f":"(#REF!/H157)","v":{"$error":"#REF!"}}]
[17.100000000000001,607,0.41399999999999998,2.02E-4,59.472000000000001,4.9099999999999998E-2,1.6799999999999999E-2,107.4,1.4,{"$f":"(#REF!/H158)","v":{"$error":"#REF!"}}]
[18.100000000000001,1300,0.53300000000000003,"‐",58.875,4.8399999999999999E-2,1.7000000000000001E-2,108.5,1.2,{"$f":"(#REF!/H159)","v":{"$error":"#REF!"}}]
[19.100000000000001,1059,0.61499999999999999,6.8999999999999997E-5,17.059000000000001,5.4600000000000003E-2,5.8599999999999999E-2,366.9,3.9,{"$f":"(#REF!/H160)","v":{"$error":"#REF!"}}]
["Sample","M5‐R136B","S","32.877,","144°"]
["Rims"]
[1.1000000000000001,3773,5.2999999999999999E-2,3.0709999999999999E-3,57.795999999999999,9.1300000000000006E-2,1.6400000000000001E-2,104.6,1.1000000000000001,{"$f":"(#REF!/H163)","v":{"$error":"#REF!"}}]
[2.1,1958,1.2E-2,"‐",57.274999999999999,4.8500000000000001E-2,1.7500000000000002E-2,111.5,1.2,{"$f":"(#REF!/H164)","v":{"$error":"#REF!"}}]
[3.1,1743,2.5000000000000001E-2,2.5000000000000001E-4,59.478999999999999,5.0099999999999999E-2,1.6799999999999999E-2,107.2,1.2,{"$f":"(#REF!/H165)","v":{"$error":"#REF!"}}]
[4.0999999999999996,1676,2.7E-2,"‐",59.792999999999999,4.9399999999999999E-2,1.67E-2,106.8,1.2,{"$f":"(#REF!/H166)","v":{"$error":"#REF!"}}]
["Cores"]
[1.2,1043,0.45500000000000002,"‐",59.139000000000003,4.9200000000000001E-2,1.6899999999999998E-2,108,1.2,{"$f":"(#REF!/H168)","v":{"$error":"#REF!"}}]
[4.2,1739,0.61399999999999999,3.0499999999999999E-4,59.688000000000002,5.4399999999999997E-2,1.66E-2,106.3,1.2,{"$f":"(#REF!/H169)","v":{"$error":"#REF!"}}]
[5.0999999999999996,1730,0.65200000000000002,"‐",59.008000000000003,4.9000000000000002E-2,1.6899999999999998E-2,108.2,1.2,{"$f":"(#REF!/H170)","v":{"$error":"#REF!"}}]
[6.1,355,0.84299999999999997,"‐",59.994999999999997,4.8300000000000003E-2,1.67E-2,106.5,1.5,{"$f":"(#REF!/H171)","v":{"$error":"#REF!"}}]
[7.1,645,0.32,2.4000000000000001E-5,7.7080000000000002,6.9800000000000001E-2,0.129,782,15,{"$f":"(#REF!/H172)","v":{"$error":"#REF!"}}]
[8.1,553,0.35499999999999998,"‐",54.101999999999997,4.9200000000000001E-2,1.8499999999999999E-2,118,2.1,{"$f":"(#REF!/H173)","v":{"$error":"#REF!"}}]
[9.1,2072,0.71899999999999997,7.2000000000000002E-5,56.942,4.8899999999999999E-2,1.7500000000000002E-2,112.1,1.2,{"$f":"(#REF!/H174)","v":{"$error":"#REF!"}}]
[10.1,345,0.47799999999999998,"‐",58.847000000000001,5.0299999999999997E-2,1.6899999999999998E-2,108.3,1.5,{"$f":"(#REF!/H175)","v":{"$error":"#REF!"}}]
[11.1,588,0.61899999999999999,3.01E-4,59.872999999999998,4.7699999999999999E-2,1.67E-2,106.8,1.4,{"$f":"(#REF!/H176)","v":{"$error":"#REF!"}}]
[12.1,854,0.59799999999999998,2.1900000000000001E-4,59.898000000000003,5.04E-2,1.66E-2,106.4,1.3,{"$f":"(#REF!/H177)","v":{"$error":"#REF!"}}]
[13.1,726,0.42499999999999999,3.6999999999999999E-4,59.896000000000001,4.9000000000000002E-2,1.67E-2,106.6,1.3,{"$f":"(#REF!/H178)","v":{"$error":"#REF!"}}]
[14.1,551,0.60199999999999998,"‐",58.039000000000001,5.2299999999999999E-2,1.7100000000000001E-2,109.6,1.4,{"$f":"(#REF!/H179)","v":{"$error":"#REF!"}}]
["Sample","C5‐R60B","S","32.877,","144°"]
["Rims"]
[3.1,137,0.47,"‐",65.652000000000001,5.6399999999999999E-2,1.5100000000000001E-2,96.4,1.5,{"$f":"(#REF!/H182)","v":{"$error":"#REF!"}}]
[4.0999999999999996,124,0.6,3.5100000000000002E-4,64.837000000000003,5.2699999999999997E-2,1.5299999999999999E-2,98.1,1.4,{"$f":"(#REF!/H183)","v":{"$error":"#REF!"}}]
[7.1,2615,0.2,1.4E-5,18.212,5.5300000000000002E-2,5.4800000000000001E-2,343.8,3.5,{"$f":"(#REF!/H184)","v":{"$error":"#REF!"}}]
[]
[9.1,449,0.09,3.3599999999999998E-4,66.763000000000005,5.2499999999999998E-2,1.49E-2,95.3,1.6,{"$f":"(#REF!/H186)","v":{"$error":"#REF!"}}]
[10.1,143,0.87,3.1E-4,60.417999999999999,5.4300000000000001E-2,1.6400000000000001E-2,105,1.6,{"$f":"(#REF!/H187)","v":{"$error":"#REF!"}}]
[11.1,766,0.45,4.4000000000000002E-4,63.533000000000001,5.0500000000000003E-2,1.5699999999999999E-2,100.4,1.1000000000000001,{"$f":"(#REF!/H188)","v":{"$error":"#REF!"}}]
[12.1,1379,0.49,1.12E-4,62.738,4.82E-2,1.5900000000000001E-2,101.9,1.1000000000000001,{"$f":"(#REF!/H189)","v":{"$error":"#REF!"}}]
[13.1,909,0.45,1.3300000000000001E-4,61.661999999999999,4.9700000000000001E-2,1.6199999999999999E-2,103.5,1.3,{"$f":"(#REF!/H190)","v":{"$error":"#REF!"}}]
[14.1,933,0.03,1.46E-4,63.128999999999998,4.9000000000000002E-2,1.5800000000000002E-2,101.2,1.1000000000000001,{"$f":"(#REF!/H191)","v":{"$error":"#REF!"}}]
[18.100000000000001,463,0.23,"‐",10.201000000000001,6.0499999999999998E-2,9.8000000000000004E-2,602.5,6.5,{"$f":"(#REF!/H192)","v":{"$error":"#REF!"}}]
[19.100000000000001,736,0.48,1.8900000000000001E-4,62.256,4.8300000000000003E-2,1.61E-2,102.7,1.2,{"$f":"(#REF!/H193)","v":{"$error":"#REF!"}}]
[21.1,1185,0.02,1.16E-4,62.38,4.8500000000000001E-2,1.6E-2,102.5,1.1000000000000001,{"$f":"(#REF!/H194)","v":{"$error":"#REF!"}}]
["Cores"]
[1.1000000000000001,118,0.65,"‐",64.159000000000006,5.1999999999999998E-2,1.55E-2,99.2,2.7,{"$f":"(#REF!/H196)","v":{"$error":"#REF!"}}]
[2.1,1710,0.63,5.1E-5,63.174999999999997,5.0700000000000002E-2,1.5800000000000002E-2,100.9,1.2,{"$f":"(#REF!/H197)","v":{"$error":"#REF!"}}]
[5.0999999999999996,1353,0.81,"‐",60.911999999999999,5.1499999999999997E-2,1.6299999999999999E-2,104.5,1.4,{"$f":"(#REF!/H198)","v":{"$error":"#REF!"}}]
[6.1,58,0.68,3.2320000000000001E-3,63.322000000000003,6.8099999999999994E-2,1.54E-2,98.5,1.8,{"$f":"(#REF!/H199)","v":{"$error":"#REF!"}}]
[8.1,2720,1.22,1.7E-5,61.792999999999999,5.11E-2,1.61E-2,103.1,1.1000000000000001,{"$f":"(#REF!/H200)","v":{"$error":"#REF!"}}]
[15.1,605,0.71,2.4000000000000001E-5,61.923999999999999,5.0500000000000003E-2,1.61E-2,103,1.2,{"$f":"(#REF!/H201)","v":{"$error":"#REF!"}}]
[16.100000000000001,208,1.07,2.9599999999999998E-4,61.494999999999997,5.1700000000000003E-2,1.6199999999999999E-2,103.5,1.5,{"$f":"(#REF!/H202)","v":{"$error":"#REF!"}}]
[17.100000000000001,569,0.74,3.1000000000000001E-5,17.965,5.4800000000000001E-2,5.5599999999999997E-2,348.6,3.8,{"$f":"(#REF!/H203)","v":{"$error":"#REF!"}}]
[20.100000000000001,114,0.69,2.421E-3,59.392000000000003,5.6300000000000003E-2,1.67E-2,106.5,1.8,{"$f":"(#REF!/H204)","v":{"$error":"#REF!"}}]
[22.1,939,0.57999999999999996,6.0000000000000002E-6,62.908000000000001,4.7600000000000003E-2,1.5900000000000001E-2,101.7,1.2,{"$f":"(#REF!/H205)","v":{"$error":"#REF!"}}]
["Sample","M5‐G174","S","33.237,","145°"]
["Rims"]
[1.1000000000000001,125,0.31,1.2999999999999999E-5,7.3380000000000001,7.3400000000000007E-2,0.1351,816.9,42.1,{"$f":"(#REF!/H208)","v":{"$error":"#REF!"}}]
[3.1,331,0.28000000000000003,7.4999999999999993E-5,10.76,5.8500000000000003E-2,9.2999999999999999E-2,573.29999999999995,7.1,{"$f":"(#REF!/H209)","v":{"$error":"#REF!"}}]
[4.0999999999999996,936,0.06,3.8999999999999999E-5,15.592000000000001,5.5199999999999999E-2,6.4100000000000004E-2,400.5,4.7,{"$f":"(#REF!/H210)","v":{"$error":"#REF!"}}]
[5.0999999999999996,420,0.53,8.0000000000000007E-5,9.9459999999999997,6.1100000000000002E-2,0.1004,617,6.5,{"$f":"(#REF!/H211)","v":{"$error":"#REF!"}}]
[8.1,387,0.85,1.5300000000000001E-4,16.907,5.6300000000000003E-2,5.8999999999999997E-2,369.4,4,{"$f":"(#REF!/H212)","v":{"$error":"#REF!"}}]
[9.1,72,1.38,6.8000000000000005E-4,66.254999999999995,5.8599999999999999E-2,1.49E-2,95.3,1.7,{"$f":"(#REF!/H213)","v":{"$error":"#REF!"}}]
[12.1,577,0.44,9.2E-5,18.434999999999999,5.4199999999999998E-2,5.4199999999999998E-2,340.2,3.6,{"$f":"(#REF!/H214)","v":{"$error":"#REF!"}}]
[14.1,353,0.23,5.8999999999999998E-5,11.388999999999999,5.8099999999999999E-2,8.7800000000000003E-2,542.70000000000005,16.5,{"$f":"(#REF!/H215)","v":{"$error":"#REF!"}}]
[15.1,1334,0.19,1.05E-4,59.645000000000003,4.9000000000000002E-2,1.67E-2,107.1,1.2,{"$f":"(#REF!/H216)","v":{"$error":"#REF!"}}]
[26.1,399,1.44,3.6000000000000001E-5,63.395000000000003,5.2999999999999999E-2,1.5699999999999999E-2,100.3,1.3,{"$f":"(#REF!/H217)","v":{"$error":"#REF!"}}]
["Cores"]
[2.1,608,0.18,"‐",9.8620000000000001,6.0699999999999997E-2,0.1014,622.4,7,{"$f":"(#REF!/H219)","v":{"$error":"#REF!"}}]
[6.1,538,0.39,2.3900000000000001E-4,63.424999999999997,4.8599999999999997E-2,1.5800000000000002E-2,100.8,1.2,{"$f":"(#REF!/H220)","v":{"$error":"#REF!"}}]
[7.1,1365,0.05,7.3999999999999996E-5,60.268999999999998,4.8099999999999997E-2,1.66E-2,106.1,1.3,{"$f":"(#REF!/H221)","v":{"$error":"#REF!"}}]
[10.1,114,0.85,1.9900000000000001E-4,58.298999999999999,5.7000000000000002E-2,1.7000000000000001E-2,108.4,1.8,{"$f":"(#REF!/H222)","v":{"$error":"#REF!"}}]
[11.1,477,0.83,9.1000000000000003E-5,8.2569999999999997,6.9000000000000006E-2,0.1203,732.4,7.7,{"$f":"(#REF!/H223)","v":{"$error":"#REF!"}}]
[13.1,563,0.33,3.3000000000000003E-5,6.0229999999999997,7.1400000000000005E-2,0.16619999999999999,991,10.199999999999999,{"$f":"(#REF!/H224)","v":{"$error":"#REF!"}}]
[16.100000000000001,454,2.7,7.5100000000000004E-4,62.863,5.7099999999999998E-2,1.5699999999999999E-2,100.6,1.2,{"$f":"(#REF!/H225)","v":{"$error":"#REF!"}}]
[17.100000000000001,247,0.12,4.5000000000000003E-5,5.1109999999999998,7.9000000000000001E-2,0.19550000000000001,1150.9000000000001,12.3,{"$f":"(#REF!/H226)","v":{"$error":"#REF!"}}]
[18.100000000000001,64,1.05,2.715E-3,64.856999999999999,7.9699999999999993E-2,1.4800000000000001E-2,94.7,1.9,{"$f":"(#REF!/H227)","v":{"$error":"#REF!"}}]
[19.100000000000001,301,0.39,1.3100000000000001E-4,9.6210000000000004,7.1400000000000005E-2,0.1026,629.6,7,{"$f":"(#REF!/H228)","v":{"$error":"#REF!"}}]
[22.1,474,0.18,1.6000000000000001E-4,18.22,5.3800000000000001E-2,5.4899999999999997E-2,344.3,3.9,{"$f":"(#REF!/H229)","v":{"$error":"#REF!"}}]
[23.1,346,0.56000000000000005,1.0900000000000001E-4,12.45,5.7000000000000002E-2,8.0299999999999996E-2,498.1,5.5,{"$f":"(#REF!/H230)","v":{"$error":"#REF!"}}]
[24.1,265,1.75,2.7980000000000001E-3,62.545999999999999,8.9300000000000004E-2,1.52E-2,97,1.5,{"$f":"(#REF!/H231)","v":{"$error":"#REF!"}}]
[25.1,174,0.77,1.5139999999999999E-3,66.099000000000004,5.8900000000000001E-2,1.49E-2,95.5,1.5,{"$f":"(#REF!/H232)","v":{"$error":"#REF!"}}]
[27.1,181,1.35,2.6059999999999998E-3,64.287999999999997,6.4399999999999999E-2,1.52E-2,97.5,1.5,{"$f":"(#REF!/H233)","v":{"$error":"#REF!"}}]

{"sheet":"Exc_46","index":46,"n_rows":68,"n_cols":5,"rows_kept":68,"cut":false,"hidden":false,"merged":[]}
["Sample Number","206Pb/204Pb","207Pb/204Pb","207Pb/206Pb","Age"]
["PAC2DR38-1",18.670999999999999,15.532999999999999,{"$f":"(C2/B2)","v":0.83193187295806326},{"$f":"[1]!AgePb76($D$2)","v":4977.4105704001186}]
["PAC2DR37-1",18.722000000000001,15.54,{"$f":"(C3/B3)","v":0.83003952569169948},{"$f":"[1]!AgePb76($D$3)","v":4974.1750366895421}]
["PAC2DR36-1",18.724,15.538,0.82984405041657761,{"$f":"[1]!AgePb76($D$4)","v":4973.8403665707565}]
["PAC2DR35-2",18.736000000000001,15.55,0.82995303159692568,{"$f":"[1]!AgePb76($D$5)","v":4974.0269618551401}]
["PAC2DR34-1",18.797999999999998,15.548999999999999,0.82716246409192473,{"$f":"[1]!AgePb76($D$6)","v":4969.2407874320561}]
["PAC2DR33-1",18.817,15.561999999999999,0.82701812191103785,{"$f":"[1]!AgePb76($D$7)","v":4968.9927557779965}]
["PAC2DR32-1",18.809000000000001,15.539,0.8261470572598224,{"$f":"[1]!AgePb76($D$8)","v":4967.4949767500193}]
["PAC2DR31-3",18.832999999999998,15.554,0.82589072372962358,{"$f":"[1]!AgePb76($D$9)","v":4967.0538964384286}]
["PAC2DR30-1",18.887,15.565,0.82411182294700058,{"$f":"[1]!AgePb76($D$10)","v":4963.9888767409657}]
["PAC2DR29-1",18.797999999999998,15.538,0.82657729545696357,{"$f":"[1]!AgePb76($D$11)","v":4968.2349728065828}]
["PAC2DR28-2",18.725000000000001,15.539,0.82985313751668888,{"$f":"[1]!AgePb76($D$12)","v":4973.855926307695}]
["PAC2DR27-1",19.167999999999999,15.581,0.81286519198664442,{"$f":"[1]!AgePb76($D$13)","v":4944.4467899523115}]
["PAC2DR22-1",18.725999999999999,15.539,0.82980882195877392,{"$f":"[1]!AgePb76($D$14)","v":4973.78004357596}]
["PAC2DR22-3",18.760999999999999,15.54,0.82831405575395767,{"$f":"[1]!AgePb76($D$15)","v":4971.2179888694491}]
["PAC2DR21-2",18.768000000000001,15.544,0.82821824381926679,{"$f":"[1]!AgePb76($D$16)","v":4971.0535980235127}]
["PAC2DR9-1",18.768000000000001,15.54,0.82800511508951402,{"$f":"[1]!AgePb76($D$17)","v":4970.6878465208429}]
["PAC2DR9-2",18.797999999999998,15.552,0.82732205553782323,{"$f":"[1]!AgePb76($D$18)","v":4969.5149692451059}]
["PAC2DR20-1",18.748999999999999,15.54,0.82884420502426792,{"$f":"[1]!AgePb76($D$19)","v":4972.127235716308}]
["PAC2DR8-1",18.795999999999999,15.55,0.82730368163439039,{"$f":"[1]!AgePb76($D$20)","v":4969.4834053158511}]
["PAC2DR8-2",18.670000000000002,15.535,0.83208355650776644,{"$f":"[1]!AgePb76($D$21)","v":4977.6695801104179}]
["PAC2DR7-4",18.741,15.528,0.82855770769969594,{"$f":"[1]!AgePb76($D$22)","v":4971.6359475215586}]
["PAC2DR6-1",18.792000000000002,15.542999999999999,0.82710727969348652,{"$f":"[1]!AgePb76($D$23)","v":4969.1459662691659}]
["PAC2DR6-6",18.696000000000002,15.537000000000001,0.83103337612323491,{"$f":"[1]!AgePb76($D$24)","v":4975.8752976270343}]
["PAC2DR5-2g",18.673999999999999,15.537000000000001,0.83201242369069306,{"$f":"[1]!AgePb76($D$25)","v":4977.5481223614634}]
["PAC2DR4-2",18.530999999999999,15.513,0.83713776914359728,{"$f":"[1]!AgePb76($D$26)","v":4986.2714107667407}]
["PAC2DR3-3",18.701000000000001,15.526,0.83022298272819628,{"$f":"[1]!AgePb76($D$27)","v":4974.4890543796664}]
["PAC2DR2",18.724,15.53,0.82941679128391366,{"$f":"[1]!AgePb76($D$28)","v":4973.1085711702708}]
["PAC2DR1-1",18.821999999999999,15.547000000000001,0.82600148762086922,{"$f":"[1]!AgePb76($D$29)","v":4967.2445088327358}]
["PACANTARCTIC"]
["PAC1DR14-2",18.494,15.489000000000001,0.83751486968746625,{"$f":"[1]!AgePb76($D$31)","v":4986.9109893615596}]
["PAC1DR14-3",18.776,15.523999999999999,0.8268001704303366,{"$f":"[1]!AgePb76($D$32)","v":4968.6181497247435}]
["PAC1DR14-4",18.768999999999998,15.523,0.82705525067931174,{"$f":"[1]!AgePb76($D$33)","v":4969.0565607186645}]
["PAC1DR13-2g",18.507999999999999,15.503,0.83763777825805064,{"$f":"[1]!AgePb76($D$34)","v":4987.1193814188618}]
["PAC1DR13-3",18.507999999999999,15.505000000000001,0.83774583963691385,{"$f":"[1]!AgePb76($D$35)","v":4987.302573154534}]
["PAC1DR12-1g",18.064,15.467000000000001,0.85623339238263951,{"$f":"[1]!AgePb76($D$36)","v":5018.2797046281612}]
["PAC1DR12-3g",18.193999999999999,15.473000000000001,0.85044520171485116,{"$f":"[1]!AgePb76($D$37)","v":5008.6582146488627}]
["PAC1DR12-3r",18.192,15.47,0.85037379067722074,{"$f":"[1]!AgePb76($D$38)","v":5008.5390769429532}]
["PAC1DR11-1g",18.420000000000002,15.491,0.84098805646036912,{"$f":"[1]!AgePb76($D$39)","v":4992.7873150850082}]
["PAC1DR11-3",18.396999999999998,15.491,0.84203946295591681,{"$f":"[1]!AgePb76($D$40)","v":4994.5611191234266}]
["PAC1DR10-1g",18.425999999999998,15.492000000000001,0.84076847932269627,{"$f":"[1]!AgePb76($D$41)","v":4992.4165740900526}]
["PAC1DR10-3",18.399999999999999,15.483000000000001,0.84146739130434789,{"$f":"[1]!AgePb76($D$42)","v":4993.596282057787}]
["PAC1DR09-g",18.638000000000002,15.510999999999999,0.83222448760596623,{"$f":"[1]!AgePb76($D$43)","v":4977.9101843314547}]
["PAC1DR09-1",18.376000000000001,15.47,0.84185894645189374,{"$f":"[1]!AgePb76($D$44)","v":4994.2567411989876}]
["PAC1DR08-2",18.405999999999999,15.48,0.84103009888079983,{"$f":"[1]!AgePb76($D$45)","v":4992.858289108899}]
["PAC1DR08-3",18.398,15.475,0.8411240352212197,{"$f":"[1]!AgePb76($D$46)","v":4993.0168543730915}]
["PAC1DR07-1g",18.609000000000002,15.505000000000001,0.83319898973614914,{"$f":"[1]!AgePb76($D$47)","v":4979.5727163681595}]
["PAC1DR07-2g",18.62,15.509,0.83292158968850694,{"$f":"[1]!AgePb76($D$48)","v":4979.0996734310138}]
["PAC1DR07-3",18.631,15.500999999999999,0.83200042939187369,{"$f":"[1]!AgePb76($D$49)","v":4977.5276412679568}]
["PAC1DR06-g",18.498000000000001,15.491,0.83744188560925503,{"$f":"[1]!AgePb76($D$50)","v":4986.7872291373915}]
["PAC1DR06-2",18.491,15.493,0.8378670704667136,{"$f":"[1]!AgePb76($D$51)","v":4987.508060603328}]
["PAC1DR05-1g",18.489000000000001,15.494999999999999,0.83806587700795054,{"$f":"[1]!AgePb76($D$52)","v":4987.8449712734673}]
["PAC1DR05-3",18.489999999999998,15.496,0.83807463493780432,{"$f":"[1]!AgePb76($D$53)","v":4987.8598110857965}]
["PAC1DR05-r",18.481999999999999,15.488,0.83800454496266641,{"$f":"[1]!AgePb76($D$54)","v":4987.7410430052132}]
["PAC1DR03-1",18.504999999999999,15.497999999999999,0.83750337746554981,{"$f":"[1]!AgePb76($D$55)","v":4986.8915025842389}]
["PAC1DR03-2",18.498000000000001,15.494,0.83760406530435716,{"$f":"[1]!AgePb76($D$56)","v":4987.0622241817946}]
["PAC1DR02-g",18.271999999999998,15.510999999999999,0.84889448336252193,{"$f":"[1]!AgePb76($D$57)","v":5006.0687004313195}]
["PAC1DR02-1",18.369,15.497999999999999,0.84370406663400288,{"$f":"[1]!AgePb76($D$58)","v":4997.3646282149366}]
["PAC1CV09",18.236000000000001,15.587999999999999,0.8547927177012502,{"$f":"[1]!AgePb76($D$59)","v":5015.8913962032157}]
["PAC1CV08",18.486999999999998,15.503,0.83858927895277768,{"$f":"[1]!AgePb76($D$60)","v":4988.7315567896321}]
["PAC1CV06-r",18.344000000000001,15.475,0.84360008722197988,{"$f":"[1]!AgePb76($D$61)","v":4997.1896792414136}]
["PAC1CV06-g",18.350000000000001,15.476000000000001,0.84337874659400547,{"$f":"[1]!AgePb76($D$62)","v":4996.8171896500162}]
["PAC1CV04-g",18.157,15.462,0.85157239632097814,{"$f":"[1]!AgePb76($D$63)","v":5010.5373494372661}]
["PAC1CV03-r",18.475000000000001,15.500999999999999,0.8390257104194857,{"$f":"[1]!AgePb76($D$64)","v":4989.4703744449362}]
["PAC1CV03-g",18.492000000000001,15.486000000000001,0.83744321868916283,{"$f":"[1]!AgePb76($D$65)","v":4986.78948976425}]
["PAC1CV02-g",18.390999999999998,15.484999999999999,0.84198792887825569,{"$f":"[1]!AgePb76($D$66)","v":4994.4742320031546}]
["PAC1CV01-r",18.446999999999999,15.557,{"$f":"(C67/B67)","v":0.84333495961402949},{"$f":"[1]!AgePb76($D$67)","v":4996.7434891376251}]
["PAC1CV01-g",18.760999999999999,15.590999999999999,0.83103246095623895,{"$f":"[1]!AgePb76($D$68)","v":4975.8737329705464}]

{"sheet":"Exc_47","index":47,"n_rows":125,"n_cols":5,"rows_kept":125,"cut":false,"hidden":false,"merged":[]}
["Sample","206Pb/204Pb","207Pb/204Pb","207Pb/206Pb","Age"]
["ED-DR1-1-1",18.1419,15.4664,{"$f":"(C2/B2)","v":0.85252371581807862},{"$f":"[1]!AgePb76($D$2)","v":5012.1212302730437}]
["ED-DR1-1-1",18.142600000000002,15.4674,{"$f":"(C3/B3)","v":0.85254594159602248},{"$f":"[1]!AgePb76($D$3)","v":5012.1582122066748}]
["ED-DR1-1-1",18.144100000000002,15.469099999999999,0.85256915471144878,{"$f":"[1]!AgePb76($D$4)","v":5012.1968358985787}]
["ED-DR2",17.984100000000002,15.4557,0.85940914474452423,{"$f":"[1]!AgePb76($D$5)","v":5023.5293390489232}]
["ED-DR2-1-1",17.988099999999999,15.4594,0.8594237301326989,{"$f":"[1]!AgePb76($D$6)","v":5023.5534016857937}]
["ED-DR3-2-1",17.971599999999999,15.458,0.86013487947650746,{"$f":"[1]!AgePb76($D$7)","v":5024.7261138347158}]
["ED-DR3-2-1",17.973099999999999,15.458299999999999,0.86007978590226508,{"$f":"[1]!AgePb76($D$8)","v":5024.6352992397078}]
["Glass"]
["ED-DR6-4-1",17.890599999999999,15.458500000000001,0.8640571026125452,{"$f":"[1]!AgePb76($D$10)","v":5031.1755690887421}]
["ED-DR7-2-5",18.073499999999999,15.4831,0.85667413616621024,{"$f":"[1]!AgePb76($D$11)","v":5019.0095045054231}]
["ED-DR8-2",17.778300000000002,15.441000000000001,0.86853073690960325,{"$f":"[1]!AgePb76($D$12)","v":5038.4938997215031}]
["ED-DR8-2",17.781400000000001,15.4444,0.86857052875476615,{"$f":"[1]!AgePb76($D$13)","v":5038.5588147577519}]
["ED-DR8-2",17.7742,15.434100000000001,0.86834287900439966,{"$f":"[1]!AgePb76($D$14)","v":5038.1873922156037}]
["ED-DR9-3-1",17.918399999999998,15.458299999999999,0.86270537547995363,{"$f":"[1]!AgePb76($D$15)","v":5028.9563907019256}]
["ED-DR9-3-1",17.912099999999999,15.4551,0.86283015391830109,{"$f":"[1]!AgePb76($D$16)","v":5029.161398477142}]
["ED-DR10-1-4",17.827400000000001,15.446899999999999,0.86646959175202209,{"$f":"[1]!AgePb76($D$17)","v":5035.1270954840493}]
["ED-DR11-1-9",18.041699999999999,15.4971,0.85896007582434031,{"$f":"[1]!AgePb76($D$18)","v":5022.7882632489127}]
["ED-DR11-1-9",18.038499999999999,15.493600000000001,0.85891842448097133,{"$f":"[1]!AgePb76($D$19)","v":5022.7195072919949}]
["ED-DR11-1-9",18.040400000000002,15.501899999999999,0.85928804239373835,{"$f":"[1]!AgePb76($D$20)","v":5023.3295304380481}]
["ED-DR11-1-2",18.0428,15.4991,0.85901855587824505,{"$f":"[1]!AgePb76($D$21)","v":5022.8847932267181}]
["ED-DR12-1-2",17.890899999999998,15.453799999999999,0.86377991045727165,{"$f":"[1]!AgePb76($D$22)","v":5030.7207934140597}]
["ED-DR12-1-2",17.885899999999999,15.4488,0.86374183015671568,{"$f":"[1]!AgePb76($D$23)","v":5030.6583048157381}]
["ED-DR12-1-2",17.888100000000001,15.451499999999999,0.86378653965485419,{"$f":"[1]!AgePb76($D$24)","v":5030.731671423905}]
["ED-DR12-1-2",17.887,15.4529,0.86391792922234023,{"$f":"[1]!AgePb76($D$25)","v":5030.9472534443712}]
["ED-DR12-3-2",17.8856,15.448,0.86371158921143265,{"$f":"[1]!AgePb76($D$26)","v":5030.6086782741131}]
["ED-DR12-3-2",17.8841,15.446,0.86367220044620641,{"$f":"[1]!AgePb76($D$27)","v":5030.5440370460765}]
["ED-DR13",17.8093,15.448700000000001,0.86745127545720491,{"$f":"[1]!AgePb76($D$28)","v":5036.7316984095369}]
["ED-DR13",17.8109,15.448600000000001,0.86736773548781931,{"$f":"[1]!AgePb76($D$29)","v":5036.5952238983009}]
["ED-DR16",17.797599999999999,15.4343,0.86721243313705221,{"$f":"[1]!AgePb76($D$30)","v":5036.3414781734755}]
["ED-DR19-1-3",17.8003,15.434799999999999,0.86710898130930369,{"$f":"[1]!AgePb76($D$31)","v":5036.1724233212226}]
["ED-DR19-1-3",17.796199999999999,15.428900000000001,0.86697721985592435,{"$f":"[1]!AgePb76($D$32)","v":5035.9570755550776}]
["ED-DR20-1-1",18.027999999999999,15.4664,0.85790991790548043,{"$f":"[1]!AgePb76($D$33)","v":5021.0536335949801}]
["ED-DR20-1-1",18.028300000000002,15.4642,0.85777361148860398,{"$f":"[1]!AgePb76($D$34)","v":5020.8283201203931}]
["ED-DR26-1",17.992899999999999,15.487399999999999,0.86075062941493585,{"$f":"[1]!AgePb76($D$35)","v":5025.7406775477357}]
["ED-DR27",17.9282,15.4535,0.86196606463560199,{"$f":"[1]!AgePb76($D$36)","v":5027.7410758011656}]
["ED-DR28-2-5",17.746099999999998,15.4337,0.86969531333645145,{"$f":"[1]!AgePb76($D$37)","v":5040.3924448700991}]
["ED-DR29-1-1",17.681899999999999,15.4307,0.87268336547542968,{"$f":"[1]!AgePb76($D$38)","v":5045.2513865759538}]
["ED-DR29-1-1",17.678999999999998,15.428000000000001,0.87267379376661591,{"$f":"[1]!AgePb76($D$39)","v":5045.2358499990432}]
["ED-DR29-1-2",17.677499999999998,15.427899999999999,0.87274218639513512,{"$f":"[1]!AgePb76($D$40)","v":5045.3468593656307}]
["ED-DR32-4-4",17.4498,15.4023,0.88266341161503292,{"$f":"[1]!AgePb76($D$41)","v":5061.3531526067709}]
["ED-DR34-1-3",17.4023,15.3962,0.88472213443050629,{"$f":"[1]!AgePb76($D$42)","v":5064.6506517050402}]
["ED-DR34-1-3",17.405200000000001,15.397600000000001,0.88465516052673909,{"$f":"[1]!AgePb76($D$43)","v":5064.543506356852}]
["ED-DR35",17.401800000000001,15.400600000000001,0.88500040225723775,{"$f":"[1]!AgePb76($D$44)","v":5065.0957345205625}]
["ED-DR36",17.432300000000001,15.401400000000001,0.88349787463501661,{"$f":"[1]!AgePb76($D$45)","v":5062.6907116443736}]
["ED-DR36",17.431999999999999,15.400499999999999,0.88346145020651679,{"$f":"[1]!AgePb76($D$46)","v":5062.6323549810077}]
["ED-DR38-1-1",17.4224,15.401300000000001,0.88399416842685286,{"$f":"[1]!AgePb76($D$47)","v":5063.4855845356733}]
["ED-DR41-1-1",17.363099999999999,15.392300000000001,0.88649492314160494,{"$f":"[1]!AgePb76($D$48)","v":5067.4836485477763}]
["ED-DR42",17.404,15.398,0.88473914042748791,{"$f":"[1]!AgePb76($D$49)","v":5064.6778566554904}]
["ED-DR42",17.403199999999998,15.396599999999999,0.8846993656339065,{"$f":"[1]!AgePb76($D$50)","v":5064.6142269806269}]
["ED-DR46-1-6",17.428999999999998,15.3963,0.88337254001950782,{"$f":"[1]!AgePb76($D$51)","v":5062.4898985990549}]
["ED-DR48",17.535399999999999,15.418100000000001,0.87925567708749164,{"$f":"[1]!AgePb76($D$52)","v":5055.876941907346}]
["ED-DR48",17.531199999999998,15.413399999999999,0.8791982294423657,{"$f":"[1]!AgePb76($D$53)","v":5055.784430967532}]
["ED-DR49",17.495999999999999,15.413399999999999,0.88096707818930042,{"$f":"[1]!AgePb76($D$54)","v":5058.6299631733355}]
["ED-DR51-1-1",17.9864,15.473000000000001,0.86026108615398311,{"$f":"[1]!AgePb76($D$55)","v":5024.9341258606964}]
["ED-DR51-1-1",17.983499999999999,15.469799999999999,0.86022187004754358,{"$f":"[1]!AgePb76($D$56)","v":5024.8694939092757}]
["ED-DR",18.127800000000001,15.486700000000001,0.85430664504242104,{"$f":"[1]!AgePb76($D$57)","v":5015.0846346794324}]
["ED-DR",18.131499999999999,15.4885,0.85423158591401704,{"$f":"[1]!AgePb76($D$58)","v":5014.9600114714249}]
["ED-DR53-2-3",18.078600000000002,15.4773,0.85611164581328192,{"$f":"[1]!AgePb76($D$59)","v":5018.0780418391023}]
["ED-DR55-2-1",17.8978,15.4733,0.86453642347104109,{"$f":"[1]!AgePb76($D$60)","v":5031.9616021672118}]
["ED-DR55-2-1",17.896899999999999,15.472,0.86450726103403386,{"$f":"[1]!AgePb76($D$61)","v":5031.9137922209338}]
["ED-DR55-2-1",17.896799999999999,15.4727,0.86455120468463642,{"$f":"[1]!AgePb76($D$62)","v":5031.9858343657397}]
["ED-DR57-1-1",18.159800000000001,15.4969,0.85336292249914647,{"$f":"[1]!AgePb76($D$63)","v":5013.5168936555438}]
["ED-DR57-1-1",18.1586,15.496700000000001,0.85340830240216758,{"$f":"[1]!AgePb76($D$64)","v":5013.5923222796309}]
["ED-DR60",17.8398,15.4596,0.866579221740154,{"$f":"[1]!AgePb76($D$65)","v":5035.3063859565391}]
["ED-DR61-2-4",17.8931,15.4613,0.8640928626118447,{"$f":"[1]!AgePb76($D$66)","v":5031.2342274999501}]
["ED-DR63-1",17.775400000000001,15.4535,{"$f":"(C67/B67)","v":0.86937565399372163},{"$f":"[1]!AgePb76($D$67)","v":5039.8715905440504}]
["ED-DR63-1",17.773099999999999,15.450799999999999,0.86933624409922861,{"$f":"[1]!AgePb76($D$68)","v":5039.8073618164199}]
["ED-DR66",18.1221,15.4854,0.85450361713046508,{"$f":"[1]!AgePb76($D$69)","v":5015.4116188118815}]
["ED-DR68",17.601500000000001,15.4278,0.87650484333721546,{"$f":"[1]!AgePb76($D$70)","v":5051.4399165504519}]
["ED-DR68",17.604399999999998,15.428599999999999,0.87640589852536877,{"$f":"[1]!AgePb76($D$71)","v":5051.2800459011223}]
["ED-DR68-1",17.602399999999999,15.427300000000001,0.87643162296050547,{"$f":"[1]!AgePb76($D$72)","v":5051.3216121475116}]
["ED-DR70-1-1",18.100300000000001,15.495200000000001,0.85607420871477269,{"$f":"[1]!AgePb76($D$73)","v":5018.0160243627515}]
["ED-DR71",18.2224,15.507300000000001,0.85100206339450346,{"$f":"[1]!AgePb76($D$74)","v":5009.5868835282499}]
["ED-DR72",18.2028,15.501200000000001,0.8515832729030699,{"$f":"[1]!AgePb76($D$75)","v":5010.5554688076118}]
["ED-DR72",18.201899999999998,15.5009,0.85160889797218975,{"$f":"[1]!AgePb76($D$76)","v":5010.5981568088537}]
["ED-DR73-2",18.225999999999999,15.490399999999999,0.84990672665423017,{"$f":"[1]!AgePb76($D$77)","v":5007.7595944439872}]
["ED-DR75-1-1",18.144400000000001,15.4871,0.85354709993165934,{"$f":"[1]!AgePb76($D$78)","v":5013.8229994390931}]
["SW-DR32-1-1",18.161100000000001,15.488799999999999,0.85285582921739311,{"$f":"[1]!AgePb76($D$79)","v":5012.6737340278878}]
["SW-DR32-1-3",18.165600000000001,15.4922,0.85283172589950229,{"$f":"[1]!AgePb76($D$80)","v":5012.6336434452396}]
["SW-DR30-1-4",18.143799999999999,15.4948,0.85399971340072089,{"$f":"[1]!AgePb76($D$81)","v":5014.5749522417573}]
["SW-DR20-1-1",18.406700000000001,15.5268,0.84354066725703136,{"$f":"[1]!AgePb76($D$82)","v":4997.0896927998674}]
["SW-DR20-1-1",18.404800000000002,15.524900000000001,0.84352451534382333,{"$f":"[1]!AgePb76($D$83)","v":4997.0625125553634}]
["SW-DR20-1-1",18.406099999999999,15.526199999999999,0.84353556701310983,{"$f":"[1]!AgePb76($D$84)","v":4997.0811102307107}]
["SW-DR19-1-6",18.412199999999999,15.5253,0.84320722129892145,{"$f":"[1]!AgePb76($D$85)","v":4996.5284618295564}]
["SW-DR17-1-3",18.425599999999999,15.525,0.84257771795762426,{"$f":"[1]!AgePb76($D$86)","v":4995.4682865076065}]
["SW-DR17-1-3",18.426300000000001,15.526199999999999,0.84261083342830623,{"$f":"[1]!AgePb76($D$87)","v":4995.5240787492648}]
["SW-DR15-2-5",17.157699999999998,15.430199999999999,0.89931634193394228,{"$f":"[1]!AgePb76($D$88)","v":5087.7956896447304}]
["SW-DR14-1-4",17.272600000000001,15.440899999999999,0.89395342913053033,{"$f":"[1]!AgePb76($D$89)","v":5079.3372165336041}]
["SW-DR14-1-4",17.273800000000001,15.4427,0.89399553080387639,{"$f":"[1]!AgePb76($D$90)","v":5079.4038293198391}]
["SW-DR13-1-2",16.585000000000001,15.3599,0.92613204703044916,{"$f":"[1]!AgePb76($D$91)","v":5129.3031151352388}]
["SW-DR13-1-2",16.585000000000001,15.3599,0.92613204703044916,{"$f":"[1]!AgePb76($D$92)","v":5129.3031151352388}]
["SW-DR13-1-19",16.582599999999999,15.3558,0.92601883902403725,{"$f":"[1]!AgePb76($D$93)","v":5129.1305723741434}]
["SW-DR10",17.243400000000001,15.4496,0.89597179210596511,{"$f":"[1]!AgePb76($D$94)","v":5082.5269100872229}]
["SW-DR16-3-3",17.203299999999999,15.4382,0.89739759232240335,{"$f":"[1]!AgePb76($D$95)","v":5084.7755659780596}]
["SW-DR9-1-3",18.226900000000001,15.4992,0.85034756321700344,{"$f":"[1]!AgePb76($D$96)","v":5008.4953180218818}]
["SW-DR8-2-1",18.356200000000001,15.5229,0.84564888157679685,{"$f":"[1]!AgePb76($D$97)","v":5000.6326330513366}]
["SW-DR8-2-3",18.346900000000002,15.506600000000001,0.8451891055164632,{"$f":"[1]!AgePb76($D$98)","v":4999.8607612022042}]
["SW-DR6-2-2",18.289000000000001,15.509499999999999,0.84802340204494497,{"$f":"[1]!AgePb76($D$99)","v":5004.611894114465}]
["SW-DR5-1-2",18.366299999999999,15.5162,0.84481904357437265,{"$f":"[1]!AgePb76($D$100)","v":4999.2391773325489}]
["SWR-DR4-1-2",18.2423,15.5023,0.84979964149257492,{"$f":"[1]!AgePb76($D$101)","v":5007.5808160554589}]
["SWR-DR4-1-2",18.2423,15.5023,0.84979964149257492,{"$f":"[1]!AgePb76($D$102)","v":5007.5808160554589}]
["SW-DR32-1-1",18.161100000000001,15.488799999999999,0.85285582921739311,{"$f":"[1]!AgePb76($D$103)","v":5012.6737340278878}]
["SW-DR32-1-3",18.165600000000001,15.4922,0.85283172589950229,{"$f":"[1]!AgePb76($D$104)","v":5012.6336434452396}]
["SW-DR30-1-4",18.143799999999999,15.4948,0.85399971340072089,{"$f":"[1]!AgePb76($D$105)","v":5014.5749522417573}]
["SW-DR20-1-1",18.406700000000001,15.5268,0.84354066725703136,{"$f":"[1]!AgePb76($D$106)","v":4997.0896927998674}]
["SW-DR20-1-1",18.404800000000002,15.524900000000001,0.84352451534382333,{"$f":"[1]!AgePb76($D$107)","v":4997.0625125553634}]
["SW-DR20-1-1",18.406099999999999,15.526199999999999,0.84353556701310983,{"$f":"[1]!AgePb76($D$108)","v":4997.0811102307107}]
["SW-DR19-1-6",18.412199999999999,15.5253,0.84320722129892145,{"$f":"[1]!AgePb76($D$109)","v":4996.5284618295564}]
["SW-DR17-1-3",18.425599999999999,15.525,0.84257771795762426,{"$f":"[1]!AgePb76($D$110)","v":4995.4682865076065}]
["SW-DR17-1-3",18.426300000000001,15.526199999999999,0.84261083342830623,{"$f":"[1]!AgePb76($D$111)","v":4995.5240787492648}]
["SW-DR15-2-5",17.157699999999998,15.430199999999999,0.89931634193394228,{"$f":"[1]!AgePb76($D$112)","v":5087.7956896447304}]
["SW-DR14-1-4",17.272600000000001,15.440899999999999,0.89395342913053033,{"$f":"[1]!AgePb76($D$113)","v":5079.3372165336041}]
["SW-DR14-1-4",17.273800000000001,15.4427,0.89399553080387639,{"$f":"[1]!AgePb76($D$114)","v":5079.4038293198391}]
["SW-DR13-1-2",16.585000000000001,15.3599,0.92613204703044916,{"$f":"[1]!AgePb76($D$115)","v":5129.3031151352388}]
["SW-DR13-1-2",16.585000000000001,15.3599,0.92613204703044916,{"$f":"[1]!AgePb76($D$116)","v":5129.3031151352388}]
["SW-DR13-1-19",15.3558,36.866500000000002,2.4008192344260801,{"$f":"[1]!AgePb76($D$117)","v":6441.7160123093254}]
["SW-DR10",15.4496,37.427300000000002,2.4225416839270921,{"$f":"[1]!AgePb76($D$118)","v":6453.8682673510857}]
["SW-DR16-3-3",17.203299999999999,15.4382,0.89739759232240335,{"$f":"[1]!AgePb76($D$119)","v":5084.7755659780596}]
["SW-DR9-1-3",18.226900000000001,15.4992,0.85034756321700344,{"$f":"[1]!AgePb76($D$120)","v":5008.4953180218818}]
["SW-DR8-2-1",18.356200000000001,15.5229,0.84564888157679685,{"$f":"[1]!AgePb76($D$121)","v":5000.6326330513366}]
["SW-DR8-2-3",18.346900000000002,15.506600000000001,0.8451891055164632,{"$f":"[1]!AgePb76($D$122)","v":4999.8607612022042}]
["SW-DR6-2-2",18.289000000000001,15.509499999999999,0.84802340204494497,{"$f":"[1]!AgePb76($D$123)","v":5004.611894114465}]
["SW-DR5-1-2",18.366299999999999,15.5162,0.84481904357437265,{"$f":"[1]!AgePb76($D$124)","v":4999.2391773325489}]
["SWR-DR4-1-2",18.2423,15.5023,0.84979964149257492,{"$f":"[1]!AgePb76($D$125)","v":5007.5808160554589}]

{"sheet":"Exc_48","index":48,"n_rows":60,"n_cols":5,"rows_kept":60,"cut":false,"hidden":false,"merged":[]}
["Sample","206Pb/204Pb","207Pb/204Pb","207Pb/206Pb","Age"]
[242670,13.317,14.175000000000001,{"$f":"(C2/B2)","v":1.0644289254336563},{"$f":"[1]!AgePb76($D$2)","v":5324.9542036048897}]
["242671B",13.521000000000001,14.284000000000001,{"$f":"(C3/B3)","v":1.0564307373714963},{"$f":"[1]!AgePb76($D$3)","v":5314.3907151316553}]
[242718,13.039,14.016999999999999,1.0750057519748446,{"$f":"[1]!AgePb76($D$4)","v":5338.7954965978724}]
[242725,12.988,14.002000000000001,1.0780720665229444,{"$f":"[1]!AgePb76($D$5)","v":5342.7813558398275}]
[242733,14.427,14.38,0.99674221944964314,{"$f":"[1]!AgePb76($D$6)","v":5232.7867995653651}]
[242742,17.631,15.39,0.87289433384379789,{"$f":"[1]!AgePb76($D$7)","v":5045.5937796536937}]
[242744,16.422000000000001,14.863,0.90506637437583726,{"$f":"[1]!AgePb76($D$8)","v":5096.8055293983571}]
[462901,12.349,13.754,1.1137743946878289,{"$f":"[1]!AgePb76($D$9)","v":5388.329402639295}]
[462902,12.159000000000001,13.679,1.125010280450695,{"$f":"[1]!AgePb76($D$10)","v":5402.345993815522}]
[462903,12.571999999999999,13.756,1.0941775373846645,{"$f":"[1]!AgePb76($D$11)","v":5363.5221921030588}]
[462904,12.709,13.801,1.0859233613974348,{"$f":"[1]!AgePb76($D$12)","v":5352.9328809995868}]
[462945,12.372,13.686,1.1062075654704171,{"$f":"[1]!AgePb76($D$13)","v":5378.8056687533281}]
[462946,14.936999999999999,14.172000000000001,0.94878489656557552,{"$f":"[1]!AgePb76($D$14)","v":5163.3867868201005}]
[462947,14.997999999999999,14.157,0.94392585678090413,{"$f":"[1]!AgePb76($D$15)","v":5156.1489591721411}]
[462948,13.513999999999999,13.864000000000001,1.0258990676335653,{"$f":"[1]!AgePb76($D$16)","v":5273.2754435580273}]
[462949,14.975,14.132999999999999,0.94377295492487479,{"$f":"[1]!AgePb76($D$17)","v":5155.9205631011764}]
[462965,12.964,13.927,1.0742826288182659,{"$f":"[1]!AgePb76($D$18)","v":5337.853771244676}]
[462966,null,null,0]
[462967,12.355,13.776999999999999,1.1150951031970862,{"$f":"[1]!AgePb76($D$20)","v":5389.984675695282}]
["242717a",null,null,0]
["242719C",12.307,13.771000000000001,1.1189566913138864,{"$f":"[1]!AgePb76($D$22)","v":5394.8126626050325}]
["242790a",11.789,13.439,1.1399609805751125,{"$f":"[1]!AgePb76($D$23)","v":5420.7697524460136}]
[242729,12.545,13.834,1.1027500996412913,{"$f":"[1]!AgePb76($D$24)","v":5374.4311650475938}]
[242737,15.587999999999999,14.896000000000001,0.95560687708493719,{"$f":"[1]!AgePb76($D$25)","v":5173.4825863655224}]
[242743,15.413,14.696,0.95348082787257504,{"$f":"[1]!AgePb76($D$26)","v":5170.3444658396947}]
[243689,13.164,14.183,1.0774080826496506,{"$f":"[1]!AgePb76($D$27)","v":5341.9192678306463}]
[462906,12.391999999999999,13.808,1.1142672692059394,{"$f":"[1]!AgePb76($D$28)","v":5388.9473749571489}]
["242673B",13.07,14.244999999999999,1.0899005355776588,{"$f":"[1]!AgePb76($D$29)","v":5358.0457684757712}]
["242727H",13.275,14.106,1.0625988700564972,{"$f":"[1]!AgePb76($D$30)","v":5322.5445928159679}]
["Residues",null,null,0]
[242670,12.459,13.848000000000001,1.1114856730074645,{"$f":"[1]!AgePb76($D$32)","v":5385.4559926066213}]
["242671B",15.792,14.888999999999999,0.94281914893617014,{"$f":"[1]!AgePb76($D$33)","v":5154.4949370955201}]
[242718,12.678000000000001,13.879,1.0947310301309354,{"$f":"[1]!AgePb76($D$34)","v":5364.2292536623891}]
[242725,12.475,13.868,1.1116633266533067,{"$f":"[1]!AgePb76($D$35)","v":5385.6792536929461}]
[242733,13.282999999999999,14.06,1.0584958217270195,{"$f":"[1]!AgePb76($D$36)","v":5317.1262069426048}]
[242742,20.276,16.163,0.79714933912014208,{"$f":"[1]!AgePb76($D$37)","v":4916.6518495899718}]
[242744,13.711,14.154999999999999,1.0323827583691925,{"$f":"[1]!AgePb76($D$38)","v":5282.1137575532657}]
[462901,12.369,13.781000000000001,1.1141563586385319,{"$f":"[1]!AgePb76($D$39)","v":5388.8083390055845}]
[462902,12.603999999999999,13.817,1.0962392891145669,{"$f":"[1]!AgePb76($D$40)","v":5366.1540738212861}]
[462903,12.257,13.708,1.1183813331157706,{"$f":"[1]!AgePb76($D$41)","v":5394.0944297960514}]
[462904,13.246,13.925000000000001,1.0512607579646687,{"$f":"[1]!AgePb76($D$42)","v":5307.5175307543213}]
[462945,12.436,13.768000000000001,1.1071083949823095,{"$f":"[1]!AgePb76($D$43)","v":5379.9430623075805}]
[462946,12.295,13.722,1.1160634404229361,{"$f":"[1]!AgePb76($D$44)","v":5391.1970017744634}]
[462947,12.199,13.698,1.1228789245020083,{"$f":"[1]!AgePb76($D$45)","v":5399.6985307401601}]
[462948,12.180999999999999,13.651,1.1206797471471965,{"$f":"[1]!AgePb76($D$46)","v":5396.9612669671278}]
[462949,12.239000000000001,13.667999999999999,1.1167579050576026,{"$f":"[1]!AgePb76($D$47)","v":5392.0657660649758}]
[462965,12.417999999999999,13.763,1.108310516991464,{"$f":"[1]!AgePb76($D$48)","v":5381.4593512505407}]
[462966,12.449,13.73,1.102899831311752,{"$f":"[1]!AgePb76($D$49)","v":5374.6209100084197}]
[462967,null,null,0]
["242717a",12.375,13.824,1.1170909090909091,{"$f":"[1]!AgePb76($D$51)","v":5392.4821469115959}]
["242719C",12.465999999999999,13.815,1.1082143430129954,{"$f":"[1]!AgePb76($D$52)","v":5381.3381066283628}]
["242790a",13.704000000000001,14.087,1.0279480443666082,{"$f":"[1]!AgePb76($D$53)","v":5276.0748896557707}]
[242729,12.803000000000001,13.888999999999999,1.084823869405608,{"$f":"[1]!AgePb76($D$54)","v":5351.5159356324148}]
[242737,15.733000000000001,14.891999999999999,0.94654547765842489,{"$f":"[1]!AgePb76($D$55)","v":5160.0559266863675}]
[242743,15.959,14.808,0.92787768657184033,{"$f":"[1]!AgePb76($D$56)","v":5131.9608571906874}]
[243689,14.69,14.564,0.99142273655547997,{"$f":"[1]!AgePb76($D$57)","v":5225.2650030956684}]
[462906,12.33,13.811999999999999,1.1201946472019464,{"$f":"[1]!AgePb76($D$58)","v":5396.3567126254511}]
["242673B",14.038,14.483000000000001,1.0316996723179941,{"$f":"[1]!AgePb76($D$59)","v":5281.1853681081857}]
["242727H",14.144,14.303000000000001,1.0112415158371042,{"$f":"[1]!AgePb76($D$60)","v":5253.0754331347644}]

{"sheet":"GD_03_B","index":49,"n_rows":244,"n_cols":8,"rows_kept":244,"cut":false,"hidden":false,"merged":[]}
[null,"207Pb/206Pb","206Pb/238U","207Pb/235U","208Pb/232Th","206Pb/238U","207Pb/235U","208Pb/232Th"]
[null,"Age","Age","Age","Age","Percent","Percent","Percent"]
[1,-375,14.2,12.2,13.9,{"$f":"(ABS(B3/C3))*100","v":2640.8450704225352},{"$f":"(ABS(B3/D3) * 100)","v":3073.7704918032791},{"$f":"(ABS(B3/E3)) * 100","v":2697.8417266187053}]
[2,-352,14.5,12.5,14.4,{"$f":"(ABS(B4/C4))*100","v":2427.5862068965516},{"$f":"(ABS(B4/D4) * 100)","v":2816},{"$f":"(ABS(B4/E4)) * 100","v":2444.4444444444443}]
[3,-195.5,14.5,13.3,14.2,1348.2758620689656,1469.9248120300751,1376.7605633802818]
[4,107.1,14.5,15.1,14.2,738.62068965517244,709.27152317880791,754.22535211267609]
[5,216,14.6,15.8,13.6,1479.4520547945206,1367.0886075949368,1588.2352941176471]
[6,128.5,14.6,15.3,14.6,880.13698630136992,839.86928104575168,880.13698630136992]
[7,-462.4,14.8,12.3,13.5,3124.3243243243237,3759.3495934959342,3425.1851851851852]
[8,-68.099999999999994,14.9,14.4,15.6,457.04697986577179,472.91666666666663,436.53846153846149]
[9,-752.6,14.9,11.1,13.4,5051.0067114093954,6780.1801801801803,5616.4179104477607]
[10,-799.5,15,11,13.4,5330,7268.1818181818189,5966.4179104477607]
[11,-443.9,15,12.5,13.9,2959.333333333333,3551.2,3193.5251798561148]
[12,-96.2,15.1,14.4,16.3,637.08609271523176,668.05555555555554,590.18404907975457]
[13,-365.8,15.1,13,13.5,2422.5165562913908,2813.8461538461538,2709.62962962963]
[14,-479.3,15.3,12.6,13.9,3132.6797385620912,3803.9682539682544,3448.201438848921]
[15,-562.29999999999995,16.600000000000001,13.2,15.5,3387.3493975903607,4259.8484848484841,3627.7419354838707]
[16,518,13.6,16.899999999999999,15.2,3808.8235294117644,3065.0887573964501,3407.8947368421054]
[17,581.6,13.9,17.7,13.3,4184.1726618705043,3285.8757062146892,4372.9323308270677]
[18,1053,13.9,22.2,20.399999999999999,7575.5395683453226,4743.2432432432433,5161.7647058823532]
[19,503.6,13.9,17.2,13.2,3623.0215827338129,2927.9069767441865,3815.1515151515155]
[20,636.29999999999995,14,18.3,13.8,4545,3477.0491803278687,4610.869565217391]
[21,312.3,14,15.9,10.5,2230.7142857142858,1964.1509433962262,2974.2857142857142]
[22,288.60000000000002,14.2,15.9,13.5,2032.3943661971832,1815.0943396226417,2137.7777777777778]
[23,403,14.2,16.8,13.9,2838.0281690140846,2398.8095238095239,2899.2805755395684]
[24,421.7,14.4,17.100000000000001,13.4,2928.4722222222222,2466.081871345029,3147.0149253731342]
[25,1118.7,14.4,23.8,16.3,7768.75,4700.4201680672268,6863.19018404908]
[26,993.1,14.4,22.4,13.6,6896.5277777777774,4433.4821428571431,7302.2058823529424]
[27,643.6,14.5,19.100000000000001,13.3,4438.620689655173,3369.6335078534025,4839.0977443609027]
[28,735.6,14.5,20,13.6,5073.1034482758623,3678,5408.8235294117649]
[29,1156.8,14.6,24.5,13.3,7923.2876712328762,4721.6326530612241,8697.7443609022539]
[30,1061.5999999999999,15.1,24.3,15.4,7030.4635761589398,4368.7242798353909,6893.5064935064929]
[31,1468.6,15.4,30.4,14.6,9536.363636363636,4830.9210526315792,10058.904109589041]
[32,1616.3,15.7,33.4,15.7,10294.904458598727,4839.2215568862275,10294.904458598727]
[33,1965.2,16.100000000000001,41.4,15.4,12206.211180124223,4746.8599033816427,12761.038961038961]
[34,2343.4,16.100000000000001,51.1,16,14555.27950310559,4585.9099804305288,14646.25]
[37,2370.5,18.7,60,13.2,12676.470588235294,3950.8333333333335,17958.333333333336]
[40,1595.8,44.9,92.1,18.3,3554.1202672605791,1732.6818675352879,8720.2185792349719]
[43,1407.1,104.4,185.7,79.599999999999994,1347.7969348659003,757.72751750134626,1767.713567839196]
[46,1197.5,210.5,316.8,446.4,568.88361045130637,377.99873737373736,268.25716845878139]
[49,666.8,239,283.2,75.599999999999994,278.99581589958154,235.45197740112994,882.01058201058197]
[52,567,358.5,387.8,431.2,158.15899581589957,146.20938628158845,131.49350649350652]
[55,791.5,372.8,437.1,224.7,212.31223175965664,181.07984442919241,352.24744103248781]
[58,549.9,445.1,462.5,504.4,123.5452707256796,118.8972972972973,109.02061855670102]
[61,616.1,454.3,482,433.5,135.61523222540174,127.8215767634855,142.1222606689735]
[64,654.5,456.8,491.1,470.7,143.27933450087565,133.27224597841581,139.048226046314]
[66,351.7,13.2,15.2,null,2664.3939393939395,2313.8157894736842]
[67,352.6,13.2,15.3,null,2671.2121212121215,2304.5751633986929]
[68,419,13.2,15.7,null,3174.2424242424245,2668.7898089171977]
[69,422,13.2,15.8,null,3196.9696969696975,2670.8860759493673]
[70,358.4,13.3,15.4,null,2694.7368421052629,2327.272727272727]
[71,482.6,13.3,16.3,null,3628.5714285714284,2960.7361963190183]
[73,551.1,13.3,16.8,null,4143.6090225563912,3280.3571428571431]
[74,472.6,13.3,16.2,null,3553.3834586466164,2917.2839506172841]
[75,463.3,13.4,16.2,null,3457.4626865671639,2859.8765432098767]
[76,381.1,13.4,15.7,null,2844.0298507462689,2427.3885350318474]
[77,250.7,13.4,14.9,null,1870.8955223880598,1682.5503355704698]
[78,508.8,13.5,16.7,null,3768.8888888888891,3046.7065868263476]
[79,417.4,13.5,16,null,3091.8518518518517,2608.75]
[80,746.3,13.5,18.7,null,5528.1481481481478,3990.9090909090905]
[81,249.4,13.5,15,null,1847.4074074074074,1662.666666666667]
[82,294.89999999999998,13.6,15.3,null,2168.3823529411766,1927.4509803921567]
[83,349.4,13.7,15.8,null,2550.3649635036495,2211.3924050632909]
[84,664.2,13.7,18.3,null,4848.175182481752,3629.5081967213114]
[85,325.7,13.8,15.8,null,2360.1449275362315,2061.3924050632909]
[86,388.1,13.9,16.3,null,2792.0863309352521,2380.9815950920247]
[88,545.20000000000005,12.2,15.4,null,4468.8524590163943,3540.2597402597407]
[89,404.9,12.3,14.6,null,{"$f":"(ABS(B68/C68))*100","v":3291.8699186991867},{"$f":"(ABS(B68/D68) * 100)","v":2773.2876712328766}]
[90,850.1,12.4,18.100000000000001,null,6855.6451612903229,4696.6850828729275]
[91,572.6,12.5,16,null,4580.8,3578.75]
[92,876.8,12.7,18.7,null,6903.9370078740167,4688.770053475936]
[93,1072.0999999999999,13,21,null,8246.9230769230762,5105.2380952380954]
[94,1546.8,13,26.9,null,11898.461538461539,5750.1858736059485]
[95,1041.8,13.1,20.9,null,7952.6717557251914,4984.6889952153115]
[96,1487.2,13.5,26.9,null,11016.296296296296,5528.6245353159857]
[97,1619.7,13.6,29.2,null,11909.558823529413,5546.9178082191784]
[98,2500,14.2,49.4,null,17605.633802816901,5060.7287449392716]
[101,800.1,14.2,20.2,null,5634.5070422535218,3960.8910891089108]
[104,1014.6,14.8,23.2,null,6855.405405405405,4373.2758620689656]
[107,511.2,15.1,18.7,null,3385.4304635761587,2733.6898395721923]
[110,396.2,16.600000000000001,19.5,null,2386.7469879518067,2031.7948717948716]
[113,445.3,17.100000000000001,20.5,null,2604.0935672514615,2172.1951219512198]
[116,3556.9,20.9,135.1,null,17018.66028708134,2632.7905255366395]
[118,1622.1,21.8,46.3,null,7440.8256880733943,3503.4557235421166]
[121,2646.7,22,82.2,null,12030.454545454544,3219.8296836982963]
[122,1557.3,22.3,45.7,null,6983.4080717488787,3407.6586433260391]
[123,1668.2,22.6,49.1,null,7381.4159292035401,3397.5560081466397]
[124,1886.8,22.6,55.3,null,8348.6725663716807,3411.9349005424956]
[125,2024.6,23.5,61.8,null,8615.3191489361707,3276.0517799352747]
[126,1833,23.5,55.7,null,7800,3290.8438061041288]
[127,2142.8000000000002,23.7,66.5,null,9041.3502109704659,3222.2556390977443]
[128,1960.7,23.8,60.5,null,8238.2352941176468,3240.8264462809916]
[129,2357,24.1,76.2,null,9780.0829875518666,3093.1758530183724]
[130,2980.4,25.5,115.2,null,11687.843137254902,2587.1527777777778]
[131,2469.6,25.9,87,null,9535.135135135135,2838.6206896551721]
[132,3134.8,29,142.4,null,10809.655172413793,2201.4044943820222]
[133,2028,35.4,92,null,5728.8135593220341,2204.3478260869565]
[134,919.7,135,188.1,null,681.25925925925935,488.94205209994686]
[135,1427.7,163.1,280.60000000000002,null,875.3525444512569,508.80256593014968]
[136,808,175.4,227.5,null,460.66134549600912,355.16483516483515]
[137,886.3,177.7,238.2,null,498.76195835678107,372.08228379513014]
[140,771.3,203.5,256.2,null,379.017199017199,301.0538641686183]
[141,743.2,232.8,285.5,null,319.24398625429558,260.31523642732049]
[143,655.5,280.10000000000002,324.3,null,234.02356301320958,202.12765957446811]
[144,653,304.60000000000002,348.6,null,214.37951411687459,187.32071141709693]
[145,645.9,388.3,427.7,null,166.34045840844706,151.01706803834463]
[148,517,427.5,441.8,null,120.93567251461988,117.02127659574468]
[149,648.6,473.9,505.1,null,136.86431736653304,128.41021579885171]
[150,591.70000000000005,503.4,519.70000000000005,null,117.54072308303537,113.85414662305176]
[154,285.5,16.7,18.7,null,1709.5808383233532,1526.7379679144385]
[157,565.79999999999995,17.399999999999999,22.1,null,3251.724137931034,2560.1809954751129]
[160,422.5,18.100000000000001,21.5,null,2334.2541436464085,1965.1162790697676]
[161,409.8,18.600000000000001,22,null,2203.2258064516127,1862.727272727273]
[162,449,19,22.8,null,2363.1578947368421,1969.2982456140348]
[165,1561.2,19.3,39.700000000000003,null,8089.1191709844561,3932.4937027707806]
[166,696.8,19.399999999999999,26.1,null,3591.7525773195875,2669.7318007662834]
[167,128.4,19.8,20.7,null,648.4848484848485,620.28985507246387]
[168,435.6,20,23.9,null,2178,1822.5941422594144]
[169,206.4,20,21.6,null,1032,955.55555555555554]
[170,469.8,20.2,24.5,null,2325.742574257426,1917.5510204081634]
[171,559.20000000000005,20.2,25.5,null,2768.3168316831689,2192.9411764705883]
[172,577.70000000000005,20.2,25.8,null,2859.90099009901,2239.1472868217056]
[173,1199.9000000000001,20.5,35,null,5853.1707317073178,3428.2857142857147]
[174,804.2,20.5,29,null,3922.9268292682932,2773.1034482758623]
[175,1273,20.7,36.799999999999997,null,6149.7584541062806,3459.239130434783]
[176,858.5,20.8,30.2,null,4127.4038461538457,2842.7152317880796]
[177,445.6,21.1,25.3,null,2111.8483412322275,1761.2648221343875]
[178,1201.3,21.8,37.299999999999997,null,5510.5504587155965,3220.6434316353884]
[179,1046.8,21.8,34.6,null,4801.8348623853208,3025.4335260115604]
[180,1599.8,22.1,46.4,null,7238.9140271493206,3447.844827586207]
[181,1404.6,22.2,42.1,null,6327.0270270270266,3336.3420427553442]
[182,1896.9,32.700000000000003,79.400000000000006,null,{"$f":"(ABS(B132/C132))*100","v":5800.9174311926599},{"$f":"(ABS(B132/D132) * 100)","v":2389.04282115869}]
[185,670.6,32.9,43.4,null,2038.2978723404258,1545.1612903225807]
[186,764.3,34.6,47.6,null,2208.9595375722542,1605.6722689075627]
[187,963.3,36.200000000000003,54.7,null,2661.0497237569057,1761.0603290676415]
[188,1272.5999999999999,49.7,86.2,null,2560.5633802816897,1476.3341067285382]
[189,1494.5,55.1,106.4,null,2712.3411978221416,1404.6052631578948]
[190,981.7,94.6,138.80000000000001,null,1037.7378435517971,707.27665706051869]
[191,643.79999999999995,118.5,147.5,null,543.29113924050625,436.47457627118644]
[192,708,133.80000000000001,169.9,null,529.14798206278022,416.71571512654504]
[195,592.6,140.69999999999999,169.5,null,421.17981520966595,349.61651917404134]
[198,1121.9000000000001,148.6,224.7,null,754.97981157469724,499.28793947485542]
[199,525.9,192.4,220,null,273.33679833679832,239.0454545454545]
[200,595,229.1,264.89999999999998,null,259.71191619380181,224.61306153265386]
[201,693.1,230.3,277,null,300.9552757273122,250.21660649819495]
[204,930.2,381.6,470.3,null,243.76310272536688,197.78864554539658]
[207,496.6,418.9,431.1,null,118.54857961327288,115.19369055903503]
[210,499.5,454.1,461.7,null,109.99779784188503,108.18713450292398]
[211,539.20000000000005,471.9,483.6,null,114.2614960796779,111.49710504549215]
[212,567.4,494.9,508,null,114.64942412608607,111.69291338582677]
[213,679.7,497.7,531.6,null,136.56821378340368,127.85929270127916]
[214,600.79999999999995,504.1,522,null,119.18270184487203,115.09578544061301]
[218,780.1,15.9,22.2,null,4906.2893081761003,3513.963963963964]
[219,783.8,18.8,26.4,null,4169.1489361702124,2968.939393939394]
[221,1566.7,19.7,40.799999999999997,null,7952.7918781725884,3839.9509803921574]
[222,1968.7,20.2,51.7,null,9746.0396039603966,3807.9303675048359]
[223,804.9,21.1,29.9,null,3814.6919431279621,2691.9732441471574]
[224,1121.4000000000001,21.3,35,null,5264.788732394366,3204]
[225,956.1,21.3,32.4,null,4488.7323943661968,2950.9259259259261]
[226,855.9,21.5,31.1,null,3980.9302325581393,2752.0900321543409]
[227,1154.4000000000001,21.7,36.299999999999997,null,5319.8156682027657,3180.1652892561988]
[228,1212.8,21.7,37.4,null,5588.9400921658989,3242.7807486631018]
[229,880,21.8,31.9,null,4036.6972477064214,2758.6206896551726]
[230,1557.5,22.1,45.4,null,7047.5113122171952,3430.6167400881059]
[231,1576.5,22.1,45.9,null,7133.4841628959266,3434.6405228758172]
[232,1637,22.2,47.4,null,7373.8738738738748,3453.5864978902955]
[233,1324.9,22.3,40.5,null,5941.2556053811659,3271.358024691358]
[234,1549.7,22.4,45.8,null,6918.3035714285725,3383.6244541484716]
[235,1489.7,22.4,44.4,null,6650.4464285714294,3355.1801801801803]
[236,1557.1,22.5,46.2,null,6920.4444444444434,3370.3463203463202]
[237,1504.1,22.6,45,null,6655.3097345132737,3342.4444444444439]
[238,1633.9,22.6,48.2,null,7229.646017699115,3389.8340248962654]
[239,1663.2,22.7,49.3,null,7326.8722466960353,3373.6308316430027]
[240,1584.4,22.8,47.4,null,6949.1228070175439,3342.6160337552747]
[243,1999,22.8,59.2,null,8767.5438596491222,3376.6891891891887]
[244,1590.2,22.8,47.7,null,6974.561403508771,3333.7526205450736]
[245,1477.8,22.9,45.1,null,6453.2751091703067,3276.7184035476716]
[248,928.5,30.5,45.5,null,3044.2622950819673,2040.6593406593406]
[251,1655.6,32.700000000000003,70,null,5062.9969418960236,2365.1428571428573]
[254,1608.3,40.799999999999997,84.5,null,3941.9117647058824,1903.3136094674558]
[257,4181.7,43.3,374.6,null,9657.5057736720555,1116.3107314468766]
[258,828.2,86,118.3,null,963.0232558139536,700.08453085376163]
[259,581.20000000000005,107.9,131.4,null,538.64689527340136,442.31354642313551]
[260,789.4,115.5,153.5,null,683.4632034632034,514.26710097719865]
[261,656.4,128.80000000000001,160.4,null,509.62732919254654,409.2269326683292]
[262,955.4,171.5,237.6,null,557.08454810495618,402.10437710437708]
[263,550.79999999999995,212.2,242.8,null,259.56644674835059,226.85337726523883]
[264,652.4,224.3,266.10000000000002,null,290.86045474810521,245.17098835024424]
[265,496.1,305.8,329,null,162.23021582733813,150.790273556231]
[266,691.6,334.5,383.6,null,206.7563527653214,180.29197080291971]
[267,506,364,384,null,139.01098901098899,131.77083333333331]
[268,586.1,513.20000000000005,526.79999999999995,null,114.20498830865159,111.2566438876234]
[269,546.4,524.1,528.29999999999995,null,104.25491318450678,103.42608366458452]
[270,564.29999999999995,528.4,535.20000000000005,null,106.79409538228614,105.43721973094169]
[271,566.5,532.9,539.29999999999995,null,106.30512291236631,105.04357500463566]
[272,528.1,536.20000000000005,534.70000000000005,null,{"$f":"(ABS(B196/C196))*100","v":98.489369638194702},{"$f":"(ABS(B196/D196) * 100)","v":98.765662988591728}]
[276,2172.8000000000002,18,51.8,null,12071.111111111113,4194.594594594595]
[279,1007.5,19.3,30.1,null,5220.2072538860102,3347.176079734219]
[280,1030.8,19.899999999999999,31.4,null,5179.8994974874377,3282.802547770701]
[283,1593.8,20.2,42.2,null,7890.0990099009905,3776.7772511848334]
[284,1381.3,20.399999999999999,38.200000000000003,null,6771.0784313725499,3615.9685863874342]
[285,1063,20.5,32.799999999999997,null,5185.3658536585363,3240.853658536586]
[286,983.1,20.5,31.5,null,4795.6097560975613,3120.9523809523807]
[287,1166.0999999999999,20.5,34.6,null,5688.292682926829,3370.2312138728316]
[288,1408.9,20.9,39.700000000000003,null,6741.1483253588531,3548.8664987405541]
[289,1844.4,21.2,50.7,null,8700.0000000000018,3637.8698224852074]
[290,1417.9,21.2,40.5,null,6688.2075471698117,3500.9876543209875]
[292,1785.5,22.6,52.4,null,7900.4424778761058,3407.4427480916029]
[293,2443.5,24.1,80,null,10139.004149377593,3054.375]
[294,621.29999999999995,289.39999999999998,329.2,null,214.68555632342779,188.73025516403402]
[297,791.1,297,360.2,null,266.36363636363637,219.62798445308164]
[298,655.9,354.1,397.1,null,185.23016097147698,165.17250062956433]
[299,668.9,387.9,431.1,null,172.44135086362465,155.1612154952447]
[300,572.4,397.7,424.4,null,143.92758360573296,134.8727615457116]
[301,637.29999999999995,411.4,447.5,null,154.91006319883326,142.41340782122904]
[302,619.29999999999995,435.2,465.7,null,142.30238970588235,132.98260682843031]
[305,797.7,464.3,524.79999999999995,null,171.80702132242084,152.00076219512198]
[306,545.79999999999995,464.7,478.6,null,117.45211964708413,114.04095277893856]
[307,535.6,466.6,478.4,null,114.78782683240463,111.95652173913044]
[308,575.79999999999995,490.9,506.2,null,117.29476471786515,113.74950612406163]
[310,47.9,16.399999999999999,16.600000000000001,null,292.07317073170731,288.55421686746985]
[311,105.6,16.600000000000001,17.3,null,636.14457831325296,610.40462427745661]
[312,63.4,16.8,17.2,null,377.38095238095235,368.60465116279067]
[313,-32.9,17.100000000000001,16.8,null,192.39766081871343,195.83333333333331]
[316,494.9,17.3,21.2,null,2860.6936416184967,2334.433962264151]
[317,8.8000000000000007,17.399999999999999,17.3,null,50.574712643678168,50.867052023121381]
[318,-23,17.899999999999999,17.600000000000001,null,128.49162011173186,130.68181818181816]
[319,-90.5,18.399999999999999,17.600000000000001,null,491.84782608695656,514.20454545454538]
[322,458.4,18.5,22.3,null,2477.8378378378379,2055.605381165919]
[323,29,18.7,18.8,null,155.0802139037433,154.25531914893617]
[324,64.7,19,19.399999999999999,null,340.5263157894737,333.50515463917532]
[325,79.599999999999994,19.399999999999999,19.899999999999999,null,410.30927835051546,400]
[326,1052,19.399999999999999,30.9,null,5422.6804123711345,3404.53074433657]
[327,42.5,19.399999999999999,19.600000000000001,null,219.07216494845363,216.83673469387753]
[328,1066.8,19.5,31.2,null,5470.7692307692305,3419.2307692307695]
[329,-12.1,19.5,19.3,null,62.051282051282051,62.694300518134717]
[330,-50.9,19.5,19,null,261.02564102564105,267.89473684210526]
[331,-2.2999999999999998,19.600000000000001,19.399999999999999,null,11.734693877551019,11.855670103092782]
[332,15.9,19.600000000000001,19.600000000000001,null,81.122448979591837,81.122448979591837]
[333,-6.8,19.600000000000001,19.399999999999999,null,34.6938775510204,35.051546391752581]
[334,-82.6,19.600000000000001,18.8,null,421.42857142857133,439.36170212765956]
[335,-50.8,19.7,19.100000000000001,null,257.86802030456852,265.96858638743453]
[336,188.3,19.8,21.2,null,951.01010101010104,888.20754716981139]
[337,1082.4000000000001,19.8,32,null,5466.666666666667,3382.5000000000005]