{"text_format":"1","workbook":"xlsx","n_sheets":8,"sheets":["Index","Good_A","Good_B","Good_C","Good_D","Good_E","Good_F","Sheet1"],"not_rendered":{"charts":0,"images":0,"macros":1,"external_links":1,"defined_names":0,"comments":0,"pivot_tables":0},"unopened":[],"bounds":{"document_bytes":16777216,"sheet_cells":100000,"rows_first":2000,"rows_last":500,"rows_between":2000,"halvings":0,"cell_chars":16384,"cell_head_chars":4096},"cells_cut":0,"cells_raw":0,"read":"whole","date_system":"1900"}

{"sheet":"Index","index":0,"n_rows":21,"n_cols":18,"rows_kept":21,"cut":false,"hidden":false,"merged":[]}
["Number","Essay's Title","Magazine Reference","Essay [Adobe Acrobat]","Workbook","Negative","Earth","Galaxy","Universe","K/Ar","40Ar/39Ar","Re/Os","Pb 207","Th-232","U-235","U-238","Sm/Nd","Rb/Sr"]
[1,"Re–Os Isotopes of the Parana Continental Flood Basalts ","Earth And Planetary Science Letters, Volume 337–338, 2012, Pages 164–173","C:\\Essays\\Geo_Dating\\Good\\GOOD_A.pdf","GOOD_A",null,14,null,null,null,null,null,14]
[2,"Insights from Dike Geochemistry","Journal Of Petrology, Volume 0, Number 0, Pages 1-29, 2010 ","C:\\Essays\\Geo_Dating\\Good\\GOOD_B.pdf","GOOD_B",null,80,null,null,null,null,null,80]
[3,null,null,"C:\\Essays\\Geo_Dating\\Good\\GOOD_C.pdf","GOOD_C"]
[4,"Evidence From Sr–Nd–Pb Isotopic Systematics","Geology Magazine, Volume 141, Number 1, 2004, Pages 55–62","C:\\Essays\\Geo_Dating\\Good\\GOOD_D.pdf","GOOD_D"]
[5,"Lu-Hf and U-Pb Isotopic Studies","Geochimica Et Cosmochimica Acta, Volume 64, Number 24, Pages 4205–4225, 2000","C:\\Essays\\Geo_Dating\\Good\\GOOD_E.pdf","GOOD_E"]
[6,"Siberian Meimechites and Kimberlites","Geochemistry, Geophysics And Geosystems, Volume 7, Number 11, 2006","C:\\Essays\\Geo_Dating\\Good\\GOOD_F.pdf","GOOD_F"]
[7,"East Mariana Basin Tholeiites","Earth And Planetary Science Letters, Volume 123, 1994, Pages 139-154","C:\\Essays\\Geo_Dating\\Good\\GOOD_G.pdf","GOOD_G"]
[8,"Mantle Xenoliths from intracratonic Eastern Paraguay","http://ees.elsevier.com/lithos/download.aspx?id=48550&guid=fd055aeb-90c3-4095-a14c-c91a93e48fa5&scheme=1","C:\\Essays\\Geo_Dating\\Good\\GOOD_H.pdf","GOOD_H"]
[9," Trace Element and Pb Isotopic Evidence","Geochemistry, Geophysics And Geosystems, Volume 1, February 14, 2000","C:\\Essays\\Geo_Dating\\Good\\GOOD_I.pdf","GOOD_I"]
[10,"Evolution of the Solonker Suture Zone","Journal Of Asian Earth Sciences, Volume 34, 2009, Pages 245–257","C:\\Essays\\Geo_Dating\\Good\\GOOD_J.pdf","GOOD_J"]
[11,"Lavas and their Mantle Xenoliths","DOI 10.1007/S00710-009-0061-6","C:\\Essays\\Geo_Dating\\Good\\GOOD_K.pdf","GOOD_K"]
[12,"Geochemical portray of the Paciﬁc Ridge","Earth And Planetary Science Letters, Volume 302, 2011, Pages 154–162","C:\\Essays\\Geo_Dating\\Good\\GOOD_L.pdf","GOOD_L"]
[13,"Chronology and Geochemistry of Lavas ","Journal Of Petrology, Volume 0, Number 0, Pages 1-32, 2012 ","C:\\Essays\\Geo_Dating\\Good\\GOOD_M.pdf","GOOD_M"]
[14,"Isotopic (Sr, Nd, Pb, and Os) Composition ","Chemical Geology, Volume 277, 2010, Pages 227–244","C:\\Essays\\Geo_Dating\\Good\\GOOD_N.pdf","GOOD_N"]
[15,"U–Pb Geochronology","Chemical Geology, Volume 167, 2000, Pages 405–425","C:\\Essays\\Geo_Dating\\Good\\GOOD_O.pdf","GOOD_O"]
[16,"Genesis of Plio-Pleistocene Volcanic Rocks ","Earth And Planetary Science Letters ,Volume 180, 2000, Pages 259-270","C:\\Essays\\Geo_Dating\\Good\\GOOD_P.pdf","GOOD_P"]
[17,"Trans-North China Orogen: U-Pb Dating","Journal Of Petrology, Volume 51, Numbers 1 & 2, Pages 537-571, 2010 ","C:\\Essays\\Geo_Dating\\Good\\GOOD_Q.pdf","GOOD_Q"]
[18,"Isotope Evidence for Recycled Oceanic Crust","Journal Of Petrology, Page 1 Of 45, Doi:10.1093/petrology/egl025","C:\\Essays\\Geo_Dating\\Good\\GOOD_R.pdf","GOOD_R"]
[19,"100 million years of mantle geochemical history ","Earth and Planetary Science Letters, 2008,  doi:10.1016/j.epsl.2008.08.023","C:\\Essays\\Geo_Dating\\Good\\GOOD_S.pdf","GOOD_S"]
[null,null,null,null,null,{"$f":"SUM(F2:F20)","v":0},94,0,0,0,0,0,94,0,0,0,0,{"$f":"SUM(R2:R20)","v":0}]

{"sheet":"Good_A","index":1,"n_rows":22,"n_cols":8,"rows_kept":22,"cut":false,"hidden":false,"merged":[]}
["Sample ","206Pb/204Pb","207Pb/204Pb","207Pb/206Pb","207Pb/206Pb","187Re/188Os","Pb Versus Re","Pb Versus Re"]
["Number","Ratio","Ratio","Ratio","Age","Age","Age  Ratio","Age  Difference"]
["B-208",18.328759999999999,15.635770000000001,{"$f":"(C3/B3)","v":0.85307298475183269},{"$f":"[1]!AgePb76(D3)","v":5013.0348703868976},139,{"$f":"(E3/F3)","v":36.064999067531637},{"$f":"(E3-F3)","v":4874.0348703868976}]
["B-448",18.41376,15.61777,{"$f":"(C4/B4)","v":0.84815757346679876},{"$f":"[1]!AgePb76(D4)","v":5004.8363874520473},135,{"$f":"(E4/F4)","v":37.072862129274426},{"$f":"(E4-F4)","v":4869.8363874520473}]
["B-3064",18.379760000000001,15.613770000000001,0.84950891632970182,{"$f":"[1]!AgePb76(D5)","v":5007.0953304973427},139,36.022268564729082,4868.0953304973427]
["B-3006",18.44276,15.625769999999999,0.84725767726739376,{"$f":"[1]!AgePb76(D6)","v":5003.3299739988106},138,36.25601430433921,4865.3299739988106]
["B-418",18.38776,15.609769999999999,0.84892178275113439,{"$f":"[1]!AgePb76(D7)","v":5006.1143305769092},133,37.639957372758715,4873.1143305769092]
["B-509",18.36778,15.63678,0.85131572786694965,{"$f":"[1]!AgePb76(D8)","v":5010.109692406556},142,35.282462622581377,4868.109692406556]
["KS-624 ",17.889710000000001,15.546709999999999,0.86903085628554055,{"$f":"[1]!AgePb76(D9)","v":5039.3095477445731},136,37.053746674592446,4903.3095477445731]
["KS-660 ",17.887740000000001,15.51374,0.86728340192780085,{"$f":"[1]!AgePb76(D10)","v":5036.4574387913244},139,36.233506753894417,4897.4574387913244]
["KS-685 ",17.90774,15.53773,0.86765443322272939,{"$f":"[1]!AgePb76(D11)","v":5037.0635275276936},140,35.979025196626381,4897.0635275276936]
["KS-700 ",17.882729999999999,15.532719999999999,0.86858773800197175,{"$f":"[1]!AgePb76(D12)","v":5038.5868883491075},138,36.51149919093556,4900.5868883491075]
["FL-98 ",17.90972,15.536709999999999,0.86750155781329907,{"$f":"[1]!AgePb76(D13)","v":5036.8138351186235},133,37.870780715177624,4903.8138351186235]
["TR-7 ",18.541,15.532999999999999,0.83776495334663714,{"$f":"[1]!AgePb76(D14)","v":4987.3349731784792},9.6999999999999993,514.15824465757521,4977.6349731784794]
["TR-6 ",18.533999999999999,15.545999999999999,0.83878277759792819,{"$f":"[1]!AgePb76(D15)","v":4989.0591734314094},9.4,530.75097589695838,4979.6591734314097]
["TR-1 ",18.533999999999999,15.545999999999999,0.83878277759792819,{"$f":"[1]!AgePb76(D16)","v":4989.0591734314094},5,997.81183468628183,4984.0591734314094]
[]
[]
[]
["Earth And Planetary Science Letters, "]
["Volume 337–338, "]
["2012, Pages 164–173"]

{"sheet":"Good_B","index":2,"n_rows":87,"n_cols":29,"rows_kept":87,"cut":false,"hidden":false,"merged":[]}
["Table 2",null,null,null,null,null,"Table 2:",null,null,null,null,null,null,null,null,null,null,null,null,null,null,null,null,null,null,null,null,null,4749]
["Sample","(87Sr/86Sr)o","(87Sr/86Sr)t","(143Nd/144Nd)o","(143Nd/144Nd)t","206Pb/204Pb","207Pb/204Pb","207Pb/206Pb","207Pb/206Pb, Age",null,null,"Rubidium","Table 2",null,null,null,null,null,null,null,null,"Table 2",null,null,null,null,null,null,4770]
["Tem-04",0.70857999999999999,0.70843999999999996,0.51226499999999997,0.51219899999999996,18.922999999999998,15.553000000000001,{"$f":"(G3/F3)","v":0.8219098451619723},{"$f":"[1]!AgePb76(H3)","v":4960.1851453997915},null,null,"Strontium","Initial","Today","Today","The Ratio","Half","Decay","2.303/Delta","Age","Age","Age",null,null,null,null,null,null,4791]
["M-8",0.70903000000000005,0.70881000000000005,0.51206600000000002,0.51200400000000001,18.298999999999999,15.425000000000001,{"$f":"(G4/F4)","v":0.84294223728072581},{"$f":"[1]!AgePb76(H4)","v":4996.0822926538904},null,null,"Dating","87Sr/86Sr","87Sr/86Sr","87Rb/86Sr","Plus One","Life","Constant","Constant","Years","Million Years","Billion Years",null,null,null,null,null,null,4813]
["JEB-434",0.72267000000000003,0.72236,0.51182899999999998,0.51176600000000005,20.937999999999999,16.079999999999998,0.76798166013945934,{"$f":"[1]!AgePb76(H5)","v":4863.4851207570237},null,null,null,0.70843999999999996,0.70857999999999999,0.1565,{"$f":"1+((N5-M5)/O5)","v":1.0008945686900961},48800000000,{"$f":"(0.693/Q5)","v":1.4200819672131146E-11},{"$f":"(2.303/R5)","v":162173737373.7374},{"$f":"(LOG(P5))*(S5)","v":62977345.290451787},{"$f":"(T5/1000000)","v":62.977345290451787},{"$f":"(U5/1000)","v":6.2977345290451792E-2},null,null,null,null,null,null,4830]
["M-12",0.70777000000000001,0.70767999999999998,0.51259100000000002,0.51251800000000003,19.707000000000001,15.749000000000001,0.79915765971482211,{"$f":"[1]!AgePb76(H6)","v":4920.236087721255},null,null,null,0.70881000000000005,0.70903000000000005,0.23749999999999999,{"$f":"1+((N6-M6)/O6)","v":1.0009263157894737},48800000000,1.4200819672131146E-11,{"$f":"(2.303/R6)","v":162173737373.7374},{"$f":"(LOG(P6))*(S6)","v":65211296.419191569},{"$f":"(T6/1000000)","v":65.211296419191569},{"$f":"(U6/1000)","v":6.5211296419191572E-2},null,null,null,null,null,null,4855]
["M-13",0.70752999999999999,0.70745999999999998,0.51260700000000003,0.51253899999999997,19.863,15.746,0.79273020188289789,{"$f":"[1]!AgePb76(H7)","v":4908.7310857788425},null,null,null,0.72236,0.72267000000000003,0.34410000000000002,{"$f":"1+((N7-M7)/O7)","v":1.0009009009009009},48800000000,{"$f":"(0.693/Q7)","v":1.4200819672131146E-11},{"$f":"(2.303/R7)","v":162173737373.7374},{"$f":"(LOG(P7))*(S7)","v":63422930.220961958},{"$f":"(T7/1000000)","v":63.422930220961959},{"$f":"(U7/1000)","v":6.3422930220961959E-2},null,null,null,null,null,null,4863]
["CH-24",0.70774000000000004,0.70767999999999998,0.51250600000000002,0.51243899999999998,20.850999999999999,15.922000000000001,0.76360846002589811,{"$f":"[1]!AgePb76(H8)","v":4855.3286088803497},null,null,null,0.70767999999999998,0.70777000000000001,9.2499999999999999E-2,1.0009729729729733,48800000000,1.4200819672131146E-11,162173737373.7374,68494298.256804019,68.494298256804015,6.8494298256804018E-2,null,null,null,null,null,null,4864]
["KOP-21",0.70753999999999995,0.70750999999999997,0.51238300000000003,0.512324,18.041,15.478999999999999,0.85799013358461274,{"$f":"[1]!AgePb76(H9)","v":5021.1862117397659},null,null,null,0.70745999999999998,0.70752999999999999,7.6700000000000004E-2,1.0009126466753586,48800000000,1.4200819672131146E-11,162173737373.7374,64249449.266524568,64.249449266524564,6.4249449266524566E-2,null,null,null,null,null,null,4872]
["BOR-4",0.70731999999999995,0.70709999999999995,0.51246199999999997,0.51239000000000001,18.263000000000002,15.516999999999999,0.84964135136615004,{"$f":"[1]!AgePb76(H10)","v":5007.3165072881147},null,null,null,0.70767999999999998,0.70774000000000004,7.0199999999999999E-2,1.0008547008547017,48800000000,1.4200819672131146E-11,162173737373.7374,60171861.200366333,60.171861200366337,6.0171861200366335E-2,null,null,null,null,null,null,4876]
["DDW-13",0.70967000000000002,0.70945999999999998,0.51198100000000002,0.51192000000000004,17.076000000000001,15.439,0.90413445771843526,{"$f":"[1]!AgePb76(H11)","v":5095.3494182218328},null,null,null,0.70750999999999997,0.70753999999999995,3.5000000000000003E-2,1.0008571428571422,48800000000,1.4200819672131146E-11,162173737373.7374,60343707.176416799,60.3437071764168,6.0343707176416801E-2,null,null,null,null,null,null,4907]
["JEB-134",0.70864000000000005,0.70850000000000002,0.51229000000000002,0.512216,17.497,15.46,0.88358004229296461,{"$f":"[1]!AgePb76(H12)","v":5062.8223455280959},null,null,null,0.70709999999999995,0.70731999999999995,0.24260000000000001,1.0009068425391592,48800000000,1.4200819672131146E-11,162173737373.7374,63841028.783877604,63.841028783877604,6.384102878387761E-2,null,null,null,null,null,null,4909]
["JEB-297",0.70948,0.70925000000000005,0.51228899999999999,0.51223799999999997,18.015000000000001,15.545,0.86289203441576456,{"$f":"[1]!AgePb76(H13)","v":5029.2630548741035},null,null,null,0.70945999999999998,0.70967000000000002,0.2273,1.0009238891333041,48800000000,1.4200819672131146E-11,162173737373.7374,65040542.177235,65.040542177234997,6.5040542177234997E-2,null,null,null,null,null,null,4910]
["JEB-136",0.71555999999999997,0.71496000000000004,0.51215699999999997,0.51208799999999999,22.806999999999999,16.169,0.70894900688385154,{"$f":"[1]!AgePb76(H14)","v":4748.9644865851305},null,null,null,0.70850000000000002,0.70864000000000005,0.14949999999999999,1.0009364548494986,48800000000,1.4200819672131146E-11,162173737373.7374,65924737.681748599,65.924737681748596,6.5924737681748599E-2,null,null,null,null,null,null,4912]
["JEB-185",0.71658999999999995,0.71636,0.51209899999999997,0.51203200000000004,21.663,16.055,0.74112542122513037,{"$f":"[1]!AgePb76(H15)","v":4812.5935422312832},null,null,null,0.70925000000000005,0.70948,0.2447,1.0009399264405392,48800000000,1.4200819672131146E-11,162173737373.7374,66169016.682912834,66.16901668291284,6.6169016682912835E-2,null,null,null,null,null,null,4913]
["JEB-211",0.71869000000000005,0.71813000000000005,0.51164600000000005,0.51158999999999999,18.949000000000002,15.682,0.82758984642989075,{"$f":"[1]!AgePb76(H16)","v":4969.9749139311343},null,null,null,0.71496000000000004,0.71555999999999997,0.66239999999999999,1.0009057971014492,48800000000,1.4200819672131146E-11,162173737373.7374,63767464.067201391,63.767464067201388,6.3767464067201393E-2,null,null,null,null,null,null,4914]
["JEB-353",0.71304000000000001,0.71267999999999998,0.51222299999999998,0.51214999999999999,19.914999999999999,15.805999999999999,0.79367311072056235,{"$f":"[1]!AgePb76(H17)","v":4910.4250720141536},null,null,null,0.71636,0.71658999999999995,0.25190000000000001,1.000913060738388,48800000000,1.4200819672131146E-11,162173737373.7374,64278585.608471811,64.278585608471815,6.4278585608471814E-2,null,null,null,null,null,null,4916]
["BEL-13",0.70570999999999995,0.70564000000000004,0.51274200000000003,0.51266800000000001,18.89,15.637,0.82779248279512974,{"$f":"[1]!AgePb76(H18)","v":4970.3228472204173},null,null,null,0.71813000000000005,0.71869000000000005,0.60840000000000005,1.0009204470742932,48800000000,1.4200819672131146E-11,162173737373.7374,64798337.324474454,64.79833732447446,6.4798337324474459E-2,null,null,null,null,null,null,4920]
["JEB-300",0.70769000000000004,0.70748999999999995,0.512463,0.51239599999999996,18.837,15.632,0.82985613420396032,{"$f":"[1]!AgePb76(H19)","v":4973.8610574611139},null,null,null,0.71267999999999998,0.71304000000000001,0.38819999999999999,1.0009273570324575,48800000000,1.4200819672131146E-11,162173737373.7374,65284564.462115124,65.284564462115128,6.5284564462115127E-2,null,null,null,null,null,null,4932]
[null,null,null,null,null,null,null,null,null,null,null,null,0.70564000000000004,0.70570999999999995,8.4199999999999997E-2,1.0008313539192388,48800000000,1.4200819672131146E-11,162173737373.7374,58528894.536573298,58.528894536573297,5.8528894536573298E-2,null,null,null,null,null,null,4944]
[null,null,null,null,null,null,null,null,null,null,null,null,0.70748999999999995,0.70769000000000004,0.21510000000000001,1.0009298000929805,48800000000,1.4200819672131146E-11,162173737373.7374,65456472.416828632,65.456472416828632,6.5456472416828629E-2,null,null,null,null,null,null,4947]
["Table 3",null,null,null,null,null,"Table 3:",null,null,null,null,null,null,null,null,null,null,null,null,null,null,null,null,null,null,null,null,null,4947]
["Sample","(87Sr/86Sr)o","(87Sr/86Sr)t","(143Nd/144Nd)o","(143Nd/144Nd)t","206Pb/204Pb","207Pb/204Pb","207Pb/206Pb","207Pb/206Pb, Age",null,null,null,null,null,null,null,null,null,null,null,null,null,null,null,null,null,null,null,4948]
["AL82-12",null,0.70443999999999996,null,0.51279399999999997,null,null,null,null,null,null,"Neodymium","Table 2",null,null,null,null,null,null,null,null,"Table 2",null,null,null,null,null,null,4949]
["DDH-011",0.70438999999999996,0.70433999999999997,0.51233700000000004,0.51226899999999997,16.341999999999999,15.148999999999999,{"$f":"(G25/F25)","v":0.92699791947130095},{"$f":"[1]!AgePb76(H25)","v":5130.6220714843375},null,null,"Samarium","Initial","Today","Today","The Ratio","Half","Decay","2.303/Delta","Age","Age","Age",null,null,null,null,null,null,4951]
["DDH-030",0.70506000000000002,0.70504999999999995,0.51266800000000001,0.51259999999999994,17.266999999999999,15.335000000000001,0.8881102681415417,{"$f":"[1]!AgePb76(H26)","v":5070.0598156788128},null,null,"Dating","143Nd/144Nd","143Nd/144Nd","147Sm/144Nd","Plus One","Life","Constant","Constant","Years","Million Years","Billion Years",null,null,null,null,null,null,4952]
["DDH-034",0.70669000000000004,0.70665,0.51264200000000004,0.51256699999999999,18.940999999999999,15.637,0.82556359220738085,{"$f":"[1]!AgePb76(H27)","v":4966.4907806169422},null,null,null,0.51219899999999996,0.51226499999999997,0.1545,{"$f":"1+((N27-M27)/O27)","v":1.0004271844660195},106000000000,{"$f":"(0.693/Q27)","v":6.5377358490566029E-12},{"$f":"(2.303/R27)","v":352262626262.62628},{"$f":"(LOG(P27))*(S27)","v":65339165.926249415},{"$f":"(T27/1000000)","v":65.339165926249422},{"$f":"(U27/1000)","v":6.5339165926249415E-2},null,null,null,null,null,null,4952]
["DDH-036",0.71365999999999996,0.71326999999999996,0.51210500000000003,0.51203600000000005,19.388999999999999,15.752000000000001,0.81241941306926613,{"$f":"[1]!AgePb76(H28)","v":4943.6662932315485},null,null,null,0.51200400000000001,0.51206600000000002,0.1464,{"$f":"1+((N28-M28)/O28)","v":1.0004234972677597},106000000000,6.5377358490566029E-12,{"$f":"(2.303/R28)","v":352262626262.62628},{"$f":"(LOG(P28))*(S28)","v":64775317.092934445},{"$f":"(T28/1000000)","v":64.775317092934444},{"$f":"(U28/1000)","v":6.4775317092934437E-2},null,null,null,null,null,null,4954]
["DDH-039",0.70479999999999998,0.70455000000000001,0.512706,0.51263800000000004,17.451000000000001,15.378,0.88121024583118446,{"$f":"[1]!AgePb76(H29)","v":5059.0206709511058},null,null,null,0.51176600000000005,0.51182899999999998,0.1474,1.0004274084124825,106000000000,6.5377358490566029E-12,352262626262.62628,65373411.902766302,65.373411902766307,6.5373411902766312E-2,null,null,null,null,null,null,4958]
["DDH-040",0.70457999999999998,0.70437000000000005,0.51275800000000005,0.51268999999999998,17.617000000000001,15.388999999999999,0.87353124822614514,{"$f":"[1]!AgePb76(H30)","v":5046.6269332735237},null,null,null,0.51251800000000003,0.51259100000000002,0.1706,{"$f":"1+((N30-M30)/O30)","v":1.0004279015240327},106000000000,{"$f":"(0.693/Q30)","v":6.5377358490566029E-12},{"$f":"(2.303/R30)","v":352262626262.62628},{"$f":"(LOG(P30))*(S30)","v":65448818.677660473},{"$f":"(T30/1000000)","v":65.448818677660469},{"$f":"(U30/1000)","v":6.5448818677660475E-2},null,null,null,null,null,null,4960]
["DDH-095",0.70677000000000001,0.70650000000000002,0.512629,0.51256100000000004,19.754000000000001,15.741,0.7968512706287334,{"$f":"[1]!AgePb76(H31)","v":4916.1190696282647},null,null,null,0.51253899999999997,0.51260700000000003,0.15959999999999999,1.0004260651629078,106000000000,6.5377358490566029E-12,352262626262.62628,65168001.562622443,65.168001562622436,6.5168001562622438E-2,null,null,null,null,null,null,4966]
["DDH-116",0.70428999999999997,0.70423000000000002,0.51287300000000002,0.51279799999999998,18.420999999999999,15.536,0.843385266815048,{"$f":"[1]!AgePb76(H32)","v":4996.8281638804056},null,null,null,0.51243899999999998,0.51250600000000002,0.157,1.0004267515923568,106000000000,6.5377358490566029E-12,352262626262.62628,65272970.702802874,65.27297070280288,6.5272970702802885E-2,null,null,null,null,null,null,4968]
["IND-005",0.7056,0.70542000000000005,0.51268400000000003,0.51261400000000001,18.526,15.593999999999999,0.8417359386807729,{"$f":"[1]!AgePb76(H33)","v":4994.04929190649},null,null,null,0.512324,0.51238300000000003,0.13950000000000001,1.0004229390681005,106000000000,6.5377358490566029E-12,352262626262.62628,64689956.645187393,64.689956645187394,6.4689956645187396E-2,null,null,null,null,null,null,4970]
["JH-35",0.70459000000000005,0.70452000000000004,0.51286399999999999,0.51278299999999999,18.404,15.557,0.84530536839817438,{"$f":"[1]!AgePb76(H34)","v":5000.0559854027024},null,null,null,0.51239000000000001,0.51246199999999997,0.16819999999999999,1.0004280618311532,106000000000,6.5377358490566029E-12,352262626262.62628,65473332.885435529,65.473332885435525,6.5473332885435526E-2,null,null,null,null,null,null,4970]
["JH-40",0.70665,0.70647000000000004,0.51268800000000003,0.51261400000000001,18.861000000000001,15.638,0.82911828641111285,{"$f":"[1]!AgePb76(H35)","v":4972.5970640429541},null,null,null,0.51192000000000004,0.51198100000000002,0.1424,1.0004283707865167,106000000000,6.5377358490566029E-12,352262626262.62628,65520578.411249161,65.520578411249161,6.5520578411249156E-2,null,null,null,null,null,null,4973]
["JH-48",0.70828999999999998,0.70803000000000005,0.51243700000000003,0.51237100000000002,18.907,15.622,0.82625482625482627,{"$f":"[1]!AgePb76(H36)","v":4967.6803744521967},null,null,null,0.512216,0.51229000000000002,0.17399999999999999,1.000425287356322,106000000000,6.5377358490566029E-12,352262626262.62628,65049058.897211716,65.049058897211722,6.5049058897211728E-2,null,null,null,null,null,null,4974]
["JH-72",0.71059000000000005,0.71018000000000003,0.51225399999999999,0.51218600000000003,19.902000000000001,15.835000000000001,0.79564867852477139,{"$f":"[1]!AgePb76(H37)","v":4913.9673504935372},null,null,null,0.51223799999999997,0.51228899999999999,0.11990000000000001,1.0004253544620518,106000000000,6.5377358490566029E-12,352262626262.62628,65059320.750678718,65.059320750678722,6.5059320750678717E-2,null,null,null,null,null,null,4978]
["JW-32",0.70935999999999999,0.70886000000000005,0.51243899999999998,0.51237600000000005,19.297000000000001,15.727,0.81499714981603355,{"$f":"[1]!AgePb76(H38)","v":4948.1732669793555},null,null,null,0.51208799999999999,0.51215699999999997,0.1623,1.0004251386321625,106000000000,6.5377358490566029E-12,352262626262.62628,65026315.895997562,65.026315895997556,6.5026315895997555E-2,null,null,null,null,null,null,4986]
["ORL-5",0.70499000000000001,0.70496000000000003,0.51276600000000006,0.51269100000000001,17.550999999999998,15.398,0.87732892712665955,{"$f":"[1]!AgePb76(H39)","v":5052.7706912419198},null,null,null,0.51203200000000004,0.51209899999999997,0.1578,1.0004245880861846,106000000000,6.5377358490566029E-12,352262626262.62628,64942125.995257989,64.942125995257982,6.4942125995257977E-2,null,null,null,null,null,null,4993]
["AM-2",0.70413999999999999,0.70406999999999997,0.51286100000000001,0.51278800000000002,18.141999999999999,15.467000000000001,0.85255208907507452,{"$f":"[1]!AgePb76(H40)","v":5012.1684409440149},null,null,null,0.51158999999999999,0.51164600000000005,0.1323,1.0004232804232809,106000000000,6.5377358490566029E-12,352262626262.62628,64742157.024952248,64.742157024952249,6.4742157024952243E-2,null,null,null,null,null,null,4994]
["AM-30",0.70938000000000001,0.70920000000000005,0.512243,0.51216399999999995,17.677,15.6,0.88250268710754087,{"$f":"[1]!AgePb76(H41)","v":5061.0953735632602},null,null,null,0.51214999999999999,0.51222299999999998,0.1709,1.0004271503803392,106000000000,6.5377358490566029E-12,352262626262.62628,65333953.530654326,65.333953530654327,6.5333953530654326E-2,null,null,null,null,null,null,4994]
["BOR-13",0.70486000000000004,0.70467000000000002,0.51271299999999997,0.51264699999999996,17.898,15.446,0.8630014526762767,{"$f":"[1]!AgePb76(H42)","v":5029.4427866900169},null,null,null,0.51266800000000001,0.51274200000000003,0.17480000000000001,1.0004233409610985,106000000000,6.5377358490566029E-12,352262626262.62628,64751414.527455702,64.751414527455708,6.4751414527455711E-2,null,null,null,null,null,null,4994]
["BOR-14",0.70489000000000002,0.70479000000000003,0.51270400000000005,0.51263000000000003,17.898,15.454000000000001,0.86344842999217797,{"$f":"[1]!AgePb76(H43)","v":5030.1767461045001},null,null,null,0.51239599999999996,0.512463,0.15790000000000001,1.0004243191893607,106000000000,6.5377358490566029E-12,352262626262.62628,64901006.075951703,64.901006075951699,6.49010060759517E-2,null,null,null,null,null,null,4995]
["BOR-20",0.70465999999999995,0.70452000000000004,0.51274699999999995,0.51267099999999999,18.030999999999999,15.471,0.85802229493649829,{"$f":"[1]!AgePb76(H44)","v":5021.2393633921038},null,null,null,null,null,null,null,null,null,null,null,null,null,null,null,null,null,null,null,4995]
["BOR-29",0.70620000000000005,0.70613999999999999,0.51266900000000004,0.51259900000000003,18.527999999999999,15.59,0.84142918825561319,{"$f":"[1]!AgePb76(H45)","v":4993.5318252429088},null,null,null,null,null,null,null,null,null,null,null,null,null,null,null,null,null,null,null,4996]
["DDH-5",0.70435000000000003,0.70421,0.51282799999999995,0.51274699999999995,18,15.465,0.85916666666666663,{"$f":"[1]!AgePb76(H46)","v":5023.1292407785713},null,null,null,null,null,null,null,null,null,null,null,null,null,null,null,null,null,null,null,4997]
["DDH-13",0.70454000000000006,0.70450999999999997,0.51284099999999999,0.51276699999999997,18.332000000000001,15.567,0.84917084878900284,{"$f":"[1]!AgePb76(H47)","v":5006.5305653621081},null,null,null,null,null,null,null,null,null,null,null,null,null,null,null,null,null,null,null,5000]
["DDH-081",0.70616000000000001,0.70608000000000004,0.51267099999999999,0.51260099999999997,18.498999999999999,15.565,0.84139683226120332,{"$f":"[1]!AgePb76(H48)","v":4993.4772312428831},null,null,null,null,null,null,null,null,null,null,null,null,null,null,null,null,null,null,null,5007]
["DDH-089",0.70555999999999996,0.70550000000000002,0.51272600000000002,0.51265499999999997,19.779,15.71,0.79427675817786547,{"$f":"[1]!AgePb76(H49)","v":4911.5084327498625},null,null,null,null,null,null,null,null,null,null,null,null,null,null,null,null,null,null,null,5007]
["IGA-6",0.70865,0.70853999999999995,0.51242900000000002,0.51236400000000004,19.280999999999999,15.718999999999999,0.81525854468129244,{"$f":"[1]!AgePb76(H50)","v":4948.629448892706},null,null,null,null,null,null,null,null,null,null,null,null,null,null,null,null,null,null,null,5008]
["IGA-13",0.70657000000000003,0.70647000000000004,0.51257699999999995,0.51250799999999996,19.516999999999999,15.723000000000001,0.8056053696777169,{"$f":"[1]!AgePb76(H51)","v":4931.6788301030583},null,null,null,null,null,null,null,null,null,null,null,null,null,null,null,null,null,null,null,5012]
["IGA-19",0.71214999999999995,0.71204000000000001,0.51187000000000005,0.51180400000000004,18.951000000000001,15.547000000000001,0.82037887182734426,{"$f":"[1]!AgePb76(H52)","v":4957.5341271956513},null,null,null,null,null,null,null,null,null,null,null,null,null,null,null,null,null,null,null,5019]
["JEB-008",0.70479999999999998,0.70469999999999999,0.51268100000000005,0.51260399999999995,17.152000000000001,15.314,0.89284048507462677,{"$f":"[1]!AgePb76(H53)","v":5077.5751217949992},null,null,null,null,null,null,null,null,null,null,null,null,null,null,null,null,null,null,null,5021]
["JEB-016",0.70752000000000004,0.70728000000000002,0.51236999999999999,0.512297,17.516999999999999,15.465999999999999,0.88291374093737507,{"$f":"[1]!AgePb76(H54)","v":5061.7545457556062},null,null,null,null,null,null,null,null,null,null,null,null,null,null,null,null,null,null,null,5021]
["JEB-182",0.70516000000000001,0.70508000000000004,0.51269299999999995,0.51261999999999996,18.007000000000001,15.47,0.85911034597656466,{"$f":"[1]!AgePb76(H55)","v":5023.0362922898976},null,null,null,null,null,null,null,null,null,null,null,null,null,null,null,null,null,null,null,5021]
["JEB-284",0.70750999999999997,0.70728999999999997,0.51236800000000005,0.51229499999999994,17.527999999999999,15.462,0.88213144682793254,{"$f":"[1]!AgePb76(H56)","v":5060.4997670087714},null,null,null,null,null,null,null,null,null,null,null,null,null,null,null,null,null,null,null,5023]
["JEB-327",0.70759000000000005,0.70733000000000001,0.51367499999999999,0.51360300000000003,17.521000000000001,15.475,0.88322584327378573,{"$f":"[1]!AgePb76(H57)","v":5062.2548204265304},null,null,null,null,null,null,null,null,null,null,null,null,null,null,null,null,null,null,null,5023]
["JEB-332",0.70623999999999998,0.70608000000000004,0.51265700000000003,0.51257900000000001,18.484999999999999,15.558,0.84165539626724373,{"$f":"[1]!AgePb76(H58)","v":4993.9134418466901},null,null,null,null,null,null,null,null,null,null,null,null,null,null,null,null,null,null,null,5029]
["JEB-333",0.70913999999999999,0.70903000000000005,0.51200500000000004,0.51193,16.579999999999998,15.404999999999999,0.92913148371531973,{"$f":"[1]!AgePb76(H59)","v":5133.8665013878872},null,null,null,null,null,null,null,null,null,null,null,null,null,null,null,null,null,null,null,5029]
["JEB-393",0.70699000000000001,0.70667999999999997,0.51261900000000005,0.512544,20.448,15.843999999999999,0.77484350547730829,{"$f":"[1]!AgePb76(H60)","v":4876.1840148287529},null,null,null,null,null,null,null,null,null,null,null,null,null,null,null,null,null,null,null,5030]
["JEB-396",0.70489999999999997,0.70474000000000003,0.51266800000000001,0.51259299999999997,17.774999999999999,15.343999999999999,0.86323488045007035,{"$f":"[1]!AgePb76(H61)","v":5029.8261372590487},null,null,null,null,null,null,null,null,null,null,null,null,null,null,null,null,null,null,null,5030]
["JEB-397",0.70523999999999998,0.70513999999999999,0.51263300000000001,0.51257200000000003,17.780999999999999,15.452999999999999,0.86907373038636748,{"$f":"[1]!AgePb76(H62)","v":5039.3794482148396},null,null,null,null,null,null,null,null,null,null,null,null,null,null,null,null,null,null,null,5031]
["JEB-426",0.70508999999999999,0.70496000000000003,0.51269399999999998,0.51263199999999998,18.216999999999999,15.489000000000001,0.85024976670143282,{"$f":"[1]!AgePb76(H63)","v":5008.3321378495639},null,null,null,null,null,null,null,null,null,null,null,null,null,null,null,null,null,null,null,5037]
["JEB-438",0.70687999999999995,0.70665,0.51263700000000001,0.51256999999999997,20.498999999999999,15.834,0.77242792331333243,{"$f":"[1]!AgePb76(H64)","v":4871.7273233690639},null,null,null,null,null,null,null,null,null,null,null,null,null,null,null,null,null,null,null,5037]
["JEB-442",0.70577999999999996,0.70565,0.51266,0.51259100000000002,19.225999999999999,15.653,0.81415791116196823,{"$f":"[1]!AgePb76(H65)","v":4946.707589388946},null,null,null,null,null,null,null,null,null,null,null,null,null,null,null,null,null,null,null,5039]
["JEB-453",0.70835000000000004,0.70809,0.51225100000000001,0.512181,19.024999999999999,15.551,0.8173981603153746,{"$f":"[1]!AgePb76(H66)","v":4952.3576330019941},null,null,null,null,null,null,null,null,null,null,null,null,null,null,null,null,null,null,null,5042]
["JEB-455",0.70642000000000005,0.70642000000000005,0.51266199999999995,0.51258400000000004,18.492999999999999,15.576000000000001,0.84226464067485007,{"$f":"[1]!AgePb76(H67)","v":4994.9407054046405},null,null,null,null,null,null,null,null,null,null,null,null,null,null,null,null,null,null,null,5047]
["JH-20",0.70821000000000001,0.70752000000000004,0.51256199999999996,0.51249699999999998,20.683,15.893000000000001,0.76840883817628003,{"$f":"[1]!AgePb76(H68)","v":4864.2792013311528},null,null,null,null,null,null,null,null,null,null,null,null,null,null,null,null,null,null,null,5053]
["JH-22",0.70631999999999995,0.70611999999999997,0.51265899999999998,0.51258899999999996,18.489000000000001,15.574999999999999,0.84239277408188651,{"$f":"[1]!AgePb76(H69)","v":4995.1566541538105},null,null,null,null,null,null,null,null,null,null,null,null,null,null,null,null,null,null,null,5059]
["JH-25",0.71165999999999996,0.71148,0.51221700000000003,0.51215500000000003,18.893000000000001,15.722,0.83216005928121517,{"$f":"[1]!AgePb76(H70)","v":4977.8001946286604},null,null,null,null,null,null,null,null,null,null,null,null,null,null,null,null,null,null,null,5060]
["JH-28",0.70435000000000003,0.70431999999999995,0.512849,0.51277399999999995,18.041,15.473000000000001,0.85765755778504515,{"$f":"[1]!AgePb76(H71)","v":5020.6364542631054},null,null,null,null,null,null,null,null,null,null,null,null,null,null,null,null,null,null,null,5060]
["TRM-59",0.70574000000000003,0.70565999999999995,0.512355,0.51229199999999997,17.754000000000001,15.343,0.86419961698772096,{"$f":"[1]!AgePb76(H72)","v":5031.4093252089906},null,null,null,null,null,null,null,null,null,null,null,null,null,null,null,null,null,null,null,5061]
["UDD-9",0.71711999999999998,0.71691000000000005,0.51202999999999999,0.51195999999999997,19.323,15.731999999999999,0.81415929203539816,{"$f":"[1]!AgePb76(H73)","v":4946.7100023171215},null,null,null,null,null,null,null,null,null,null,null,null,null,null,null,null,null,null,null,5062]
["DD-1",0.71606000000000003,0.71536999999999995,0.51204700000000003,0.51198999999999995,22.065999999999999,16.113,0.73021843560228406,{"$f":"[1]!AgePb76(H74)","v":4791.361004969338},null,null,null,null,null,null,null,null,null,null,null,null,null,null,null,null,null,null,null,5062]
["DD-10",0.70891999999999999,0.7087,0.51250399999999996,0.51243799999999995,21.233000000000001,15.93,0.7502472566288324,{"$f":"[1]!AgePb76(H75)","v":4830.0965316105276},null,null,null,null,null,null,null,null,null,null,null,null,null,null,null,null,null,null,null,5063]
["DD-14",0.70940999999999999,0.70911999999999997,0.51226000000000005,0.51220399999999999,19.260000000000002,15.759,0.81822429906542049,{"$f":"[1]!AgePb76(H76)","v":4953.7943664479708},null,null,null,null,null,null,null,null,null,null,null,null,null,null,null,null,null,null,null,5070]
["DD-15",0.71101000000000003,0.71064000000000005,0.512293,0.51222400000000001,19.300999999999998,15.763999999999999,0.81674524636029222,{"$f":"[1]!AgePb76(H77)","v":4951.2210610371849},null,null,null,null,null,null,null,null,null,null,null,null,null,null,null,null,null,null,null,5078]
["DD-23",0.70642000000000005,0.70638000000000001,0.51266999999999996,0.51255700000000004,19.835999999999999,15.775,0.79527122403710437,{"$f":"[1]!AgePb76(H78)","v":4913.2912822038206},null,null,null,null,null,null,null,null,null,null,null,null,null,null,null,null,null,null,null,5095]
["DHD-8",0.7046,0.70454000000000006,0.51280099999999995,0.51272899999999999,17.698,15.41,0.87071985535088714,{"$f":"[1]!AgePb76(H79)","v":5042.0604699217565},null,null,null,null,null,null,null,null,null,null,null,null,null,null,null,null,null,null,null,5131]
["DHD-9",0.70454000000000006,0.70448,0.51279799999999998,0.51272700000000004,17.791,15.438000000000001,0.86774211680062951,{"$f":"[1]!AgePb76(H80)","v":5037.2067206195024},null,null,null,null,null,null,null,null,null,null,null,null,null,null,null,null,null,null,null,5134]
["DHD-11",0.70642000000000005,0.70630000000000004,0.51268100000000005,0.51261100000000004,19.177,15.67,0.81712468060697707,{"$f":"[1]!AgePb76(H81)","v":4951.8816857130296}]
["DND-2",0.70953999999999995,0.70936999999999995,0.512297,0.51223200000000002,18.167999999999999,15.563000000000001,0.85661602818141791,{"$f":"[1]!AgePb76(H82)","v":5018.9133099715}]
["NBD-1",0.71526000000000001,0.71494999999999997,0.51185899999999995,0.51180199999999998,18.882999999999999,15.8,0.83673145157019546,{"$f":"[1]!AgePb76(H83)","v":4985.5819361243466}]
["NBD-4",0.71006999999999998,0.70960000000000001,0.51231000000000004,0.51224199999999998,20.030999999999999,15.863,0.79192252009385455,{"$f":"[1]!AgePb76(H84)","v":4907.2783359315827}]
["NBD-10",0.71118999999999999,0.71092999999999995,0.51236000000000004,0.512297,22.36,16.085000000000001,0.71936493738819329,{"$f":"[1]!AgePb76(H85)","v":4769.8938880333453}]
["TAP-001",0.70638999999999996,0.70591999999999999,0.51268199999999997,0.51261900000000005,17.637,15.555999999999999,0.88200941203152461,{"$f":"[1]!AgePb76(H86)","v":5060.3039200382964}]
["TAP-002",0.70472999999999997,0.70460999999999996,0.51274799999999998,0.512679,17.763999999999999,15.414999999999999,0.86776626885836516,{"$f":"[1]!AgePb76(H87)","v":5037.2461598321934}]

{"sheet":"Good_C","index":3,"n_rows":0,"n_cols":0,"rows_kept":0,"cut":false,"hidden":false,"merged":[]}

{"sheet":"Good_D","index":4,"n_rows":185,"n_cols":11,"rows_kept":185,"cut":false,"hidden":false,"merged":[]}
["Table 2"]
["Sample","87Rb/86Sr","87Sr/86Sr ","(87Sr/86Sr)i ",null,"147Sm/144Nd","143Nd/144Nd ","(143Nd/144Nd)i "]
["JN2",0.1013,0.70487599999999995,0.70470999999999995,null,0.14680000000000001,0.512266,0.51215599999999994]
["JN4",0.1396,0.70486499999999996,0.70463699999999996,null,0.14610000000000001,0.51228799999999997,0.51217800000000002]
["JN14",6.3E-2,0.704793,0.70469000000000004,null,0.14960000000000001,0.51223300000000005,0.51212000000000002]
["JN6",0.12670000000000001,0.70541600000000004,0.70520899999999997,null,0.15529999999999999,0.512262,0.51214499999999996]
["JN7",0.2266,0.70567599999999997,0.70530599999999999,null,9.8100000000000007E-2,0.512208,0.51213399999999998]
["JN8-1",0.1709,0.70548599999999995,0.70520700000000003,null,0.1216,0.51236700000000002,0.51227599999999995]
["JN9",9.4E-2,0.70550599999999997,0.70535199999999998,null,0.1265,0.51220100000000002,0.51210599999999995]
["JN10",0.16289999999999999,0.70535700000000001,0.70509100000000002,null,0.16969999999999999,0.51223099999999999,0.51210299999999997]
["JN13",0.1182,0.70567599999999997,0.70548299999999997,null,0.1295,0.51219899999999996,0.51210199999999995]
["FS10",2.4799999999999999E-2,0.70645199999999997,0.70639700000000005,null,0.1288,0.51172600000000001,0.51159500000000002]
["HXY3",0.12659999999999999,0.706453,0.70617399999999997,null,0.1305,0.51190400000000003,0.511772]
["HXY6",0.1198,0.70671600000000001,0.70645199999999997,null,0.1265,0.51183999999999996,0.51171199999999994]
["HXY7",0.1167,0.70662100000000005,0.70636399999999999,null,0.12479999999999999,0.51185000000000003,0.51172300000000004]
["GY1",2.9399999999999999E-2,0.706677,0.70661200000000002,null,0.13170000000000001,0.51192199999999999,0.51178800000000002]
["GY2",0.14799999999999999,0.70627200000000001,0.70594599999999996,null,0.14050000000000001,0.51194200000000001,0.51180000000000003]
["GY3",0.1464,0.70638299999999998,0.70606000000000002,null,0.13020000000000001,0.51193599999999995,0.51180400000000004]
["DG1",0.15820000000000001,0.70544700000000005,0.705098,null,0.1244,0.51190599999999997,0.51178000000000001]
["DG2",0.1777,0.70552700000000002,0.70513499999999996,null,0.12089999999999999,0.51180400000000004,0.51168100000000005]
["DG3",0.14119999999999999,0.70516900000000005,0.70485799999999998,null,0.13220000000000001,0.51188299999999998,0.51174900000000001]
["DG4",0.1258,0.70519100000000001,0.70491400000000004,null,0.1298,0.51190000000000002,0.511768]
["WLG-01",0.21759999999999999,0.70648599999999995,0.70605300000000004,null,0.13420000000000001,0.511965,0.51184200000000002]
["WLG-02",0.1018,0.70610099999999998,0.70589800000000003,null,0.159,0.51203100000000001,0.51188500000000003]
["WLG-03",0.14599999999999999,0.70628299999999999,0.70599299999999998,null,0.14510000000000001,0.51201200000000002,0.51187899999999997]
["WLG-04",0.11559999999999999,0.70628000000000002,0.70604999999999996,null,0.14180000000000001,0.51195900000000005,0.51182899999999998]
["WLG-05",8.0500000000000002E-2,0.70621900000000004,0.70605899999999999,null,0.1109,0.51188400000000001,0.51178199999999996]
["WLG-06",0.1638,0.70631200000000005,0.705986,null,0.10100000000000001,0.51186699999999996,0.51177499999999998]
["WLG-08",0.30859999999999999,0.70628999999999997,0.70567599999999997,null,0.1032,0.51193100000000002,0.51183599999999996]
["WLG-09",2.0999999999999999E-3,0.70586000000000004,0.70585600000000004,null,0.15190000000000001,0.51203799999999999,0.51189899999999999]
["LMG-01",7.8899999999999998E-2,0.70645599999999997,0.70629900000000001,null,0.1134,0.51174299999999995,0.51163899999999995]
["LMG-02",0.1101,0.70603400000000005,0.70581499999999997,null,0.13830000000000001,0.51174699999999995,0.51161999999999996]
["LMG-03",9.1800000000000007E-2,0.70612399999999997,0.70594100000000004,null,0.13339999999999999,0.51177600000000001,0.51165400000000005]
["LMG-04",8.2699999999999996E-2,0.705924,0.70575900000000003,null,0.12039999999999999,0.51174500000000001,0.51163499999999995]
["LMG-05",6.6299999999999998E-2,0.70599999999999996,0.70586800000000005,null,0.1157,0.51173299999999999,0.51162700000000005]
["LMG-06",2.3599999999999999E-2,0.70602399999999998,0.70597699999999997,null,0.1313,0.51180300000000001,0.511683]
["LMG-07",7.2800000000000004E-2,0.70582400000000001,0.70567899999999995,null,0.12640000000000001,0.51178199999999996,0.51166599999999995]
["LMG-10",8.5099999999999995E-2,0.70623499999999995,0.70606599999999997,null,9.6500000000000002E-2,0.51177499999999998,0.511687]
["LMG-11",8.4400000000000003E-2,0.70638800000000002,0.70621999999999996,null,0.1021,0.51178599999999996,0.51169200000000004]
["LMG-12",6.2799999999999995E-2,0.70596899999999996,0.70584400000000003,null,9.98E-2,0.51179699999999995,0.51170599999999999]
["LMG-13",6.4699999999999994E-2,0.70628400000000002,0.70615499999999998,null,9.8799999999999999E-2,0.511791,0.51170099999999996]
["LMG-14",0.1757,0.70633800000000002,0.70598799999999995,null,9.9199999999999997E-2,0.51169900000000001,0.51160799999999995]
[]
[]
["Table 3",null,null,null,null,null,"Age",null,"Age"]
["Sample","206Pb/204Pb","207Pb/204Pb","208Pb/204Pb","238U/204Pb","207Pb/206Pb","207Pb/206Pb","206Pb/238U","206Pb/238U"]
["JN2",16.626000000000001,15.226000000000001,36.456000000000003,3.6684999999999999,{"$f":"(C47/B47)","v":0.91579453867436544},{"$f":"[1]!AgePb76(F47)","v":5113.4546431642939},{"$f":"(B47/E47)","v":4.5320975875698517},{"$f":"[1]!AgePb6U8(H47)","v":11027.023717682261}]
["JN4",16.91,15.22,36.587000000000003,4.6363000000000003,{"$f":"(C48/B48)","v":0.90005913660555892},{"$f":"[1]!AgePb76(F48)","v":5088.9630191118986},{"$f":"(B48/E48)","v":3.647304963009296},{"$f":"[1]!AgePb6U8(H48)","v":9903.5453584634161}]
["JN14",16.827000000000002,15.266,36.734000000000002,0.46439999999999998,0.90723242408034699,{"$f":"[1]!AgePb76(F49)","v":5100.183831134148},36.23385012919897,{"$f":"[1]!AgePb6U8(H49)","v":23318.087331090999}]
["JN6",16.939,15.288,36.692,5.6669,0.90253261703760557,{"$f":"[1]!AgePb76(F50)","v":5092.842835275208},2.9891122130265226,{"$f":"[1]!AgePb6U8(H50)","v":8919.0569098690448}]
["JN7",16.734999999999999,15.269,36.408000000000001,5.0007000000000001,0.91239916342993732,{"$f":"[1]!AgePb76(F51)","v":5108.2077929180587},3.346531485592017,{"$f":"[1]!AgePb6U8(H51)","v":9472.2202572525202}]
["JN8-1",16.742999999999999,15.269,36.518000000000001,2.7323,0.91196320850504697,{"$f":"[1]!AgePb76(F52)","v":5107.5326161518169},6.1278044138637773,{"$f":"[1]!AgePb6U8(H52)","v":12660.778408764427}]
["JN9",16.827999999999999,15.272,36.598999999999997,3.2050999999999998,0.90753506061326361,{"$f":"[1]!AgePb76(F53)","v":5100.6551604987362},5.2503822033633893,{"$f":"[1]!AgePb6U8(H53)","v":11813.973340317243}]
["JN10",16.744,15.263999999999999,36.472000000000001,4.1712999999999996,0.91161012900143334,{"$f":"[1]!AgePb76(F54)","v":5106.9855403403553},4.0140963248867267,{"$f":"[1]!AgePb6U8(H54)","v":10393.251962853143}]
["JN13",16.701000000000001,15.247999999999999,36.454000000000001,3.3801999999999999,0.91299922160349678,{"$f":"[1]!AgePb76(F55)","v":5109.1365624672007},4.9408319034376671,{"$f":"[1]!AgePb6U8(H55)","v":11486.537789860426}]
["FS10",16.968,15.21,37.039000000000001,6.2489999999999997,0.8963932107496464,{"$f":"[1]!AgePb76(F56)","v":5083.1919319989001},2.7153144503120501,{"$f":"[1]!AgePb6U8(H56)","v":8460.6821467170812}]
["HXY3",17.416,15.257,38.006999999999998,1.1529,0.87603353238401471,{"$f":"[1]!AgePb76(F57)","v":5050.6782214601335},15.106253794778384,{"$f":"[1]!AgePb6U8(H57)","v":17915.923487687789}]
["HXY6",17.193000000000001,15.18,37.731000000000002,1.0245,0.88291746641074842,{"$f":"[1]!AgePb76(F58)","v":5061.7605184927679},16.781844802342608,{"$f":"[1]!AgePb6U8(H58)","v":18553.927360937847}]
["HXY7",17.16,15.223000000000001,37.661000000000001,0.58499999999999996,0.8871212121212122,{"$f":"[1]!AgePb76(F59)","v":5068.4830505339705},29.333333333333336,{"$f":"[1]!AgePb6U8(H59)","v":21996.758858009609}]
[null,null,null,null,null," "," "," "," "]
["GY1",17.474,15.25,37.613999999999997,11.563800000000001,0.87272519171340279,{"$f":"[1]!AgePb76(F61)","v":5045.3192758388468},1.5110949687818882,{"$f":"[1]!AgePb6U8(H61)","v":5935.3353783088733}]
["GY2",18.062999999999999,15.308,39.18,12.111599999999999,0.84747827049770252,{"$f":"[1]!AgePb76(F62)","v":5003.6994011133947},1.491380164470425,{"$f":"[1]!AgePb6U8(H62)","v":5884.5243502880166}]
["GY3",17.605,15.243,38.058,6.9071999999999996,0.86583357000852035,{"$f":"[1]!AgePb76(F63)","v":5034.0864610098506},2.5487896687514482,{"$f":"[1]!AgePb6U8(H63)","v":8165.0707943577618}]
["DG1",17.236000000000001,15.257,37.529000000000003,6.9183000000000003,0.88518217683917377,{"$f":"[1]!AgePb76(F64)","v":5065.3863985190701},2.4913634852492663,{"$f":"[1]!AgePb6U8(H64)","v":8059.9022940850218}]
["DG2",17.021999999999998,15.273,36.933999999999997,6.5121000000000002,0.89725061684878404,{"$f":"[1]!AgePb76(F65)","v":5084.5439434280415},2.6139033491500436,{"$f":"[1]!AgePb6U8(H65)","v":8282.278474497547}]
["DG3",17.154,15.273,37.378999999999998,3.9239000000000002,0.89034627492130114,{"$f":"[1]!AgePb76(F66)","v":5073.6176308240956},4.3716710415657891,{"$f":"[1]!AgePb6U8(H66)","v":10837.318556253082}]
["DG4",17.082999999999998,15.295,37.261000000000003,3.8168000000000002,0.8953345431130364,{"$f":"[1]!AgePb76(F67)","v":5081.5206657208919},4.4757388388178576,{"$f":"[1]!AgePb6U8(H67)","v":10961.013468668674}]
[null,null,null,null,null," "," "," "," "]
["WLG-01",16.928000000000001,15.265000000000001,36.981999999999999,6.0229999999999997,0.90176039697542532,{"$f":"[1]!AgePb76(F69)","v":5091.6327690413964},2.8105595218329738,{"$f":"[1]!AgePb6U8(H69)","v":8623.8584011632229}]
["WLG-02",16.635000000000002,15.182,36.493000000000002,2.6019999999999999,0.91265404268109407,{"$f":"[1]!AgePb76(F70)","v":5108.6023738757567},6.3931591083781711,{"$f":"[1]!AgePb6U8(H70)","v":12896.40694816265}]
["WLG-03",16.742999999999999,15.282999999999999,36.845999999999997,3.0459999999999998,0.91279937884489049,{"$f":"[1]!AgePb76(F71)","v":5108.8273178749114},5.4967170059093888,{"$f":"[1]!AgePb6U8(H71)","v":12063.155347582895}]
["WLG-04",16.728999999999999,15.249000000000001,36.744999999999997,1.512,0.91153087452926063,{"$f":"[1]!AgePb76(F72)","v":5106.8627093615814},11.064153439153438,{"$f":"[1]!AgePb6U8(H72)","v":16053.108976292902}]
["WLG-06",16.719000000000001,15.233000000000001,36.743000000000002,5.4420000000000002,0.91111908606974101,{"$f":"[1]!AgePb76(F73)","v":5106.2243249106987},3.0722160970231536,{"$f":"[1]!AgePb6U8(H73)","v":9051.9732270985078}]
["WLG-08",16.867000000000001,15.218999999999999,36.725999999999999,6.7779999999999996,0.90229442105887225,{"$f":"[1]!AgePb76(F74)","v":5092.4697000836923},2.4884921805842435,{"$f":"[1]!AgePb6U8(H74)","v":8054.5985683221888}]
["WLG-09",16.678000000000001,15.254,36.643000000000001,1.1160000000000001,0.9146180597193907,{"$f":"[1]!AgePb76(F75)","v":5111.638975648315},14.944444444444445,{"$f":"[1]!AgePb6U8(H75)","v":17850.832927403426}]
["LMG-01",16.693000000000001,15.202999999999999,36.866,4.3470000000000004,0.91074102917390509,{"$f":"[1]!AgePb76(F76)","v":5105.637964287951},3.8401196227283183,{"$f":"[1]!AgePb6U8(H76)","v":10165.60474367674}]
["LMG-02",16.802,15.2,36.747999999999998,7.7350000000000003,0.90465420783240091,{"$f":"[1]!AgePb76(F77)","v":5096.1617190928519},2.1722042663219132,{"$f":"[1]!AgePb6U8(H77)","v":7441.9126407472513}]
["LMG-03",16.681000000000001,15.089,36.444000000000003,2.0129999999999999,0.90456207661411181,{"$f":"[1]!AgePb76(F78)","v":5096.0177662318611},8.2866368604073539,{"$f":"[1]!AgePb6U8(H78)","v":14366.326962789606}]
["LMG-04",16.786000000000001,15.218999999999999,36.665999999999997,2.7250000000000001,0.90664839747408543,{"$f":"[1]!AgePb76(F79)","v":5099.2737905549548},6.16,{"$f":"[1]!AgePb6U8(H79)","v":12689.830658968925}]
["LMG-06",16.640999999999998,15.194000000000001,36.689,1.6819999999999999,0.91304609098010947,{"$f":"[1]!AgePb76(F80)","v":5109.2090796102029},9.8935790725326989,{"$f":"[1]!AgePb6U8(H80)","v":15395.155775969584}]
["LMG-07",16.658999999999999,15.173,36.917999999999999,2.5110000000000001,0.91079896752506162,{"$f":"[1]!AgePb76(F81)","v":5105.7278425449704},6.6344086021505371,{"$f":"[1]!AgePb6U8(H81)","v":13103.403557660629}]
["LMG-10",16.863,15.284000000000001,36.972999999999999,6.0389999999999997,0.90636304334934481,{"$f":"[1]!AgePb76(F82)","v":5098.8289207176276},2.7923497267759565,{"$f":"[1]!AgePb6U8(H82)","v":8592.9786150870823}]
["LMG-11",16.774000000000001,15.26,36.808,6.907,0.90974126624537965,{"$f":"[1]!AgePb76(F83)","v":5104.0861028634636},2.4285507456203854,{"$f":"[1]!AgePb6U8(H83)","v":7942.869613196126}]
["LMG-12",17.030999999999999,15.218,37.511000000000003,4.3280000000000003,0.89354706124126604,{"$f":"[1]!AgePb76(F84)","v":5078.6940948312758},3.9350739371534189,{"$f":"[1]!AgePb6U8(H84)","v":10290.847090878242}]
["LMG-13",16.824999999999999,15.282,36.920999999999999,6.7759999999999998,0.9082912332838039,{"$f":"[1]!AgePb76(F85)","v":5101.8321040870742},2.4830283353010625,{"$f":"[1]!AgePb6U8(H85)","v":8044.4939672229611}]
["LMG-14",16.579000000000001,15.228,37.106000000000002,3.1030000000000002,0.91851136980517523,{"$f":"[1]!AgePb76(F86)","v":5117.6381190479042},5.3428939735739602,{"$f":"[1]!AgePb6U8(H86)","v":11908.68736187301}]
[]
[]
[]
[]
[]
[]
[]
[]
["Rubidium","Table 2",null,null,null,null,null,null,null,null,"Table 2"]
["Strontium","Initial","Today","Today","The Ratio","Half","Decay","2.303/Delta","Age","Age","Age"]
["Dating","87Sr/86Sr","87Sr/86Sr","87Rb/86Sr","Plus One","Life","Constant","Constant","Years","Million Years","Billion Years"]
[null,0.70470999999999995,0.70487599999999995,0.1013,{"$f":"1+((C98-B98)/D98)","v":1.0016386969397828},48800000000,{"$f":"(0.693/F98)","v":1.4200819672131146E-11},{"$f":"(2.303/G98)","v":162173737373.7374},{"$f":"(LOG(E98))*(H98)","v":115320862.94250767},{"$f":"(I98/1000000)","v":115.32086294250767},{"$f":"(J98/1000)","v":0.11532086294250768}]
[null,0.70463699999999996,0.70486499999999996,0.1396,{"$f":"1+((C99-B99)/D99)","v":1.0016332378223496},48800000000,1.4200819672131146E-11,{"$f":"(2.303/G99)","v":162173737373.7374},{"$f":"(LOG(E99))*(H99)","v":114936998.96214844},{"$f":"(I99/1000000)","v":114.93699896214844},{"$f":"(J99/1000)","v":0.11493699896214844}]
[null,0.70469000000000004,0.704793,6.3E-2,1.00163492063492,48800000000,1.4200819672131146E-11,162173737373.7374,115055328.04319067,115.05532804319067,0.11505532804319067]
[null,0.70520899999999997,0.70541600000000004,0.12670000000000001,{"$f":"1+((C101-B101)/D101)","v":1.0016337805840574},48800000000,{"$f":"(0.693/F101)","v":1.4200819672131146E-11},{"$f":"(2.303/G101)","v":162173737373.7374},{"$f":"(LOG(E101))*(H101)","v":114975163.95555791},{"$f":"(I101/1000000)","v":114.97516395555792},{"$f":"(J101/1000)","v":0.11497516395555792}]
[null,0.70530599999999999,0.70567599999999997,0.2266,1.0016328331862312,48800000000,1.4200819672131146E-11,162173737373.7374,114908546.43524204,114.90854643524204,0.11490854643524205]
[null,0.70520700000000003,0.70548599999999995,0.1709,1.0016325336454062,48800000000,1.4200819672131146E-11,162173737373.7374,114887483.81628063,114.88748381628064,0.11488748381628064]
[null,0.70535199999999998,0.70550599999999997,9.4E-2,1.0016382978723404,48800000000,1.4200819672131146E-11,162173737373.7374,115292802.13747461,115.29280213747461,0.11529280213747461]
[null,0.70509100000000002,0.70535700000000001,0.16289999999999999,1.0016329036218539,48800000000,1.4200819672131146E-11,162173737373.7374,114913499.21056876,114.91349921056876,0.11491349921056876]
[null,0.70548299999999997,0.70567599999999997,0.1182,1.00163282571912,48800000000,1.4200819672131146E-11,162173737373.7374,114908021.37528074,114.90802137528074,0.11490802137528074]
[null,0.70639700000000005,0.70645199999999997,2.4799999999999999E-2,1.0022177419354805,48800000000,1.4200819672131146E-11,162173737373.7374,156025187.51331371,156.02518751331371,0.15602518751331371]
[null,0.70617399999999997,0.706453,0.12659999999999999,1.0022037914691946,48800000000,1.4200819672131146E-11,162173737373.7374,155044807.3924135,155.0448073924135,0.1550448073924135]
[null,0.70645199999999997,0.70671600000000001,0.1198,1.0022036727879804,48800000000,1.4200819672131146E-11,162173737373.7374,155036466.91709024,155.03646691709022,0.15503646691709022]
[null,0.70636399999999999,0.70662100000000005,0.1167,1.0022022279348763,48800000000,1.4200819672131146E-11,162173737373.7374,154934927.92338747,154.93492792338748,0.15493492792338748]
[null,0.70661200000000002,0.706677,2.9399999999999999E-2,1.0022108843537409,48800000000,1.4200819672131146E-11,162173737373.7374,155543267.2042101,155.54326720421011,0.15554326720421011]
[null,0.70594599999999996,0.70627200000000001,0.14799999999999999,1.002202702702703,48800000000,1.4200819672131146E-11,162173737373.7374,154968292.88661623,154.96829288661624,0.15496829288661623]
[null,0.70606000000000002,0.70638299999999998,0.1464,1.0022062841530053,48800000000,1.4200819672131146E-11,162173737373.7374,155219983.73239392,155.21998373239393,0.15521998373239393]
[null,0.705098,0.70544700000000005,0.15820000000000001,1.0022060682680154,48800000000,1.4200819672131146E-11,162173737373.7374,155204812.17342389,155.20481217342387,0.15520481217342388]
[null,0.70513499999999996,0.70552700000000002,0.1777,1.0022059651097359,48800000000,1.4200819672131146E-11,162173737373.7374,155197562.60887456,155.19756260887456,0.15519756260887457]
[null,0.70485799999999998,0.70516900000000005,0.14119999999999999,1.0022025495750713,48800000000,1.4200819672131146E-11,162173737373.7374,154957531.63302168,154.95753163302169,0.1549575316330217]
[null,0.70491400000000004,0.70519100000000001,0.1258,1.002201907790143,48800000000,1.4200819672131146E-11,162173737373.7374,154912429.3021774,154.9124293021774,0.15491242930217741]
[null,0.70605300000000004,0.70648599999999995,0.21759999999999999,1.0019898897058819,48800000000,1.4200819672131146E-11,162173737373.7374,140010981.71512231,140.01098171512231,0.1400109817151223]
[null,0.70589800000000003,0.70610099999999998,0.1018,1.0019941060903728,48800000000,1.4200819672131146E-11,162173737373.7374,140307356.18534216,140.30735618534217,0.14030735618534218]
[null,0.70599299999999998,0.70628299999999999,0.14599999999999999,1.0019863013698631,48800000000,1.4200819672131146E-11,162173737373.7374,139758752.50530457,139.75875250530459,0.13975875250530459]
[null,0.70604999999999996,0.70628000000000002,0.11559999999999999,1.0019896193771631,48800000000,1.4200819672131146E-11,162173737373.7374,139991979.95891309,139.99197995891308,0.13999197995891308]
[null,0.70605899999999999,0.70621900000000004,8.0500000000000002E-2,1.0019875776397522,48800000000,1.4200819672131146E-11,162173737373.7374,139848463.4229452,139.8484634229452,0.13984846342294521]
[null,0.705986,0.70631200000000005,0.1638,1.0019902319902323,48800000000,1.4200819672131146E-11,162173737373.7374,140035041.3186408,140.03504131864079,0.14003504131864081]
[null,0.70567599999999997,0.70628999999999997,0.30859999999999999,1.0019896305897602,48800000000,1.4200819672131146E-11,162173737373.7374,139992768.10700402,139.99276810700403,0.13999276810700403]
[null,0.70585600000000004,0.70586000000000004,2.0999999999999999E-3,1.0019047619047639,48800000000,1.4200819672131146E-11,162173737373.7374,134026984.78592037,134.02698478592038,0.13402698478592037]
[null,0.70629900000000001,0.70645599999999997,7.8899999999999998E-2,1.001989860583016,48800000000,1.4200819672131146E-11,162173737373.7374,140008934.63135761,140.00893463135762,0.14000893463135761]
[null,0.70581499999999997,0.70603400000000005,0.1101,1.0019891008174395,48800000000,1.4200819672131146E-11,162173737373.7374,139955529.70911112,139.95552970911112,0.13995552970911113]
[null,0.70594100000000004,0.70612399999999997,9.1800000000000007E-2,1.001993464052287,48800000000,1.4200819672131146E-11,162173737373.7374,140262226.67721501,140.26222667721501,0.14026222667721502]
[null,0.70575900000000003,0.705924,8.2699999999999996E-2,1.0019951632406283,48800000000,1.4200819672131146E-11,162173737373.7374,140381664.28583041,140.3816642858304,0.1403816642858304]
[null,0.70586800000000005,0.70599999999999996,6.6299999999999998E-2,1.001990950226243,48800000000,1.4200819672131146E-11,162173737373.7374,140085527.0171054,140.08552701710539,0.14008552701710539]
[null,0.70597699999999997,0.70602399999999998,2.3599999999999999E-2,1.0019915254237297,48800000000,1.4200819672131146E-11,162173737373.7374,140125958.33452708,140.12595833452707,0.14012595833452707]
[null,0.70567899999999995,0.70582400000000001,7.2800000000000004E-2,1.001991758241759,48800000000,1.4200819672131146E-11,162173737373.7374,140142323.38490626,140.14232338490626,0.14014232338490626]
[null,0.70606599999999997,0.70623499999999995,8.5099999999999995E-2,1.0019858989424204,48800000000,1.4200819672131146E-11,162173737373.7374,139730465.2553122,139.7304652553122,0.13973046525531219]
[null,0.70621999999999996,0.70638800000000002,8.4400000000000003E-2,1.0019905213270148,48800000000,1.4200819672131146E-11,162173737373.7374,140055379.16367653,140.05537916367652,0.14005537916367652]
[null,0.70584400000000003,0.70596899999999996,6.2799999999999995E-2,1.0019904458598714,48800000000,1.4200819672131146E-11,162173737373.7374,140050074.48415741,140.05007448415742,0.14005007448415743]
[null,0.70615499999999998,0.70628400000000002,6.4699999999999994E-2,1.0019938176197842,48800000000,1.4200819672131146E-11,162173737373.7374,140287079.29872081,140.28707929872081,0.14028707929872081]
[null,0.70598799999999995,0.70633800000000002,0.1757,1.0019920318725104,48800000000,1.4200819672131146E-11,162173737373.7374,140161557.20418391,140.16155720418391,0.14016155720418391]
[]
[]
[]
[]
[]
["Neodymium","Table 2",null,null,null,null,null,null,null,null,"Table 2"]
["Samarium","Initial","Today","Today","The Ratio","Half","Decay","2.303/Delta","Age","Age","Age"]
["Dating","143Nd/144Nd","143Nd/144Nd","147Sm/144Nd","Plus One","Life","Constant","Constant","Years","Million Years","Billion Years"]
[null,0.51215599999999994,0.512266,0.14680000000000001,{"$f":"1+((C146-B146)/D146)","v":1.0007493188010903},106000000000,{"$f":"(0.693/F146)","v":6.5377358490566029E-12},{"$f":"(2.303/G146)","v":352262626262.62628},{"$f":"(LOG(E146))*(H146)","v":114592144.70835872},{"$f":"(I146/1000000)","v":114.59214470835872},{"$f":"(J146/1000)","v":0.11459214470835871}]
[null,0.51217800000000002,0.51228799999999997,0.14610000000000001,{"$f":"1+((C147-B147)/D147)","v":1.0007529089664609},106000000000,{"$f":"(0.693/F147)","v":6.5377358490566029E-12},{"$f":"(2.303/G147)","v":352262626262.62628},{"$f":"(LOG(E147))*(H147)","v":115140976.48853302},{"$f":"(I147/1000000)","v":115.14097648853301},{"$f":"(J147/1000)","v":0.11514097648853301}]
[null,0.51212000000000002,0.51223300000000005,0.14960000000000001,1.0007553475935831,106000000000,6.5377358490566029E-12,352262626262.62628,115513770.46739571,115.5137704673957,0.11551377046739571]
[null,0.51214499999999996,0.512262,0.15529999999999999,1.0007533805537672,106000000000,6.5377358490566029E-12,352262626262.62628,115213068.31408405,115.21306831408405,0.11521306831408405]
[null,0.51213399999999998,0.512208,9.8100000000000007E-2,1.0007543323139656,106000000000,6.5377358490566029E-12,352262626262.62628,115358564.34520829,115.35856434520829,0.11535856434520829]
[null,0.51227599999999995,0.51236700000000002,0.1216,1.0007483552631584,106000000000,6.5377358490566029E-12,352262626262.62628,114444847.4707706,114.4448474707706,0.11444484747077059]
[null,0.51210599999999995,0.51220100000000002,0.1265,1.0007509881422931,106000000000,6.5377358490566029E-12,352262626262.62628,114847338.6308555,114.8473386308555,0.1148473386308555]
[null,0.51210299999999997,0.51223099999999999,0.16969999999999999,1.0007542722451386,106000000000,6.5377358490566029E-12,352262626262.62628,115349381.59933703,115.34938159933702,0.11534938159933703]
[null,0.51210199999999995,0.51219899999999996,0.1295,1.0007490347490349,106000000000,6.5377358490566029E-12,352262626262.62628,114548721.33341146,114.54872133341145,0.11454872133341144]
[null,0.51159500000000002,0.51172600000000001,0.1288,1.0010170807453416,106000000000,6.5377358490566029E-12,352262626262.62628,155519750.12942317,155.51975012942316,0.15551975012942315]
[null,0.511772,0.51190400000000003,0.1305,1.0010114942528738,106000000000,6.5377358490566029E-12,352262626262.62628,154665962.57225239,154.6659625722524,0.1546659625722524]
[null,0.51171199999999994,0.51183999999999996,0.1265,1.00101185770751,106000000000,6.5377358490566029E-12,352262626262.62628,154721509.74381214,154.72150974381213,0.15472150974381213]
[null,0.51172300000000004,0.51185000000000003,0.12479999999999999,1.0010176282051282,106000000000,6.5377358490566029E-12,352262626262.62628,155603418.53575686,155.60341853575684,0.15560341853575685]
[null,0.51178800000000002,0.51192199999999999,0.13170000000000001,1.0010174639331813,106000000000,6.5377358490566029E-12,352262626262.62628,155578312.82076064,155.57831282076063,0.15557831282076062]
[null,0.51180000000000003,0.51194200000000001,0.14050000000000001,1.0010106761565833,106000000000,6.5377358490566029E-12,352262626262.62628,154540931.94312325,154.54093194312324,0.15454093194312324]
[null,0.51180400000000004,0.51193599999999995,0.13020000000000001,1.001013824884792,106000000000,6.5377358490566029E-12,352262626262.62628,155022155.26017082,155.02215526017082,0.15502215526017082]
[null,0.51178000000000001,0.51190599999999997,0.1244,1.0010128617363341,106000000000,6.5377358490566029E-12,352262626262.62628,154874956.46782759,154.87495646782759,0.15487495646782759]
[null,0.51168100000000005,0.51180400000000004,0.12089999999999999,1.001017369727047,106000000000,6.5377358490566029E-12,352262626262.62628,155563915.27628461,155.5639152762846,0.1555639152762846]
[null,0.51174900000000001,0.51188299999999998,0.13220000000000001,1.0010136157337366,106000000000,6.5377358490566029E-12,352262626262.62628,154990190.53975806,154.99019053975806,0.15499019053975807]
[null,0.511768,0.51190000000000002,0.1298,1.0010169491525425,106000000000,6.5377358490566029E-12,352262626262.62628,155499638.76455316,155.49963876455317,0.15549963876455317]
[null,0.51184200000000002,0.511965,0.13420000000000001,1.0009165424739195,106000000000,6.5377358490566029E-12,352262626262.62628,140153686.88991916,140.15368688991916,0.14015368688991917]
[null,0.51188500000000003,0.51203100000000001,0.159,1.0009182389937106,106000000000,6.5377358490566029E-12,352262626262.62628,140412992.29839653,140.41299229839652,0.14041299229839652]
[null,0.51187899999999997,0.51201200000000002,0.14510000000000001,1.0009166092350106,106000000000,6.5377358490566029E-12,352262626262.62628,140163891.03029096,140.16389103029096,0.14016389103029095]
[null,0.51182899999999998,0.51195900000000005,0.14180000000000001,1.0009167842031035,106000000000,6.5377358490566029E-12,352262626262.62628,140190634.1337299,140.1906341337299,0.1401906341337299]
[null,0.51178199999999996,0.51188400000000001,0.1109,1.0009197475202889,106000000000,6.5377358490566029E-12,352262626262.62628,140643563.42191747,140.64356342191746,0.14064356342191747]
[null,0.51177499999999998,0.51186699999999996,0.10100000000000001,1.0009108910891087,106000000000,6.5377358490566029E-12,352262626262.62628,139289895.00635678,139.28989500635677,0.13928989500635677]
[null,0.51183599999999996,0.51193100000000002,0.1032,1.0009205426356595,106000000000,6.5377358490566029E-12,352262626262.62628,140765092.89047679,140.76509289047678,0.14076509289047678]
[null,0.51189899999999999,0.51203799999999999,0.15190000000000001,1.0009150757077023,106000000000,6.5377358490566029E-12,352262626262.62628,139929497.92608389,139.92949792608388,0.13992949792608389]
[null,0.51163899999999995,0.51174299999999995,0.1134,1.0009171075837742,106000000000,6.5377358490566029E-12,352262626262.62628,140240061.43461591,140.24006143461591,0.1402400614346159]
[null,0.51161999999999996,0.51174699999999995,0.13830000000000001,1.0009182935647143,106000000000,6.5377358490566029E-12,352262626262.62628,140421333.22321555,140.42133322321556,0.14042133322321557]
[null,0.51165400000000005,0.51177600000000001,0.13339999999999999,1.0009145427286354,106000000000,6.5377358490566029E-12,352262626262.62628,139848034.26628846,139.84803426628847,0.13984803426628847]
[null,0.51163499999999995,0.51174500000000001,0.12039999999999999,1.000913621262459,106000000000,6.5377358490566029E-12,352262626262.62628,139707191.84616786,139.70719184616786,0.13970719184616787]
[null,0.51162700000000005,0.51173299999999999,0.1157,1.0009161624891956,106000000000,6.5377358490566029E-12,352262626262.62628,140095607.87617999,140.09560787618,0.14009560787618]
[null,0.511683,0.51180300000000001,0.1313,1.0009139375476011,106000000000,6.5377358490566029E-12,352262626262.62628,139755534.77992129,139.75553477992131,0.13975553477992131]
[null,0.51166599999999995,0.51178199999999996,0.12640000000000001,1.0009177215189873,106000000000,6.5377358490566029E-12,352262626262.62628,140333898.6643742,140.3338986643742,0.14033389866437421]
[null,0.511687,0.51177499999999998,9.6500000000000002E-2,1.0009119170984453,106000000000,6.5377358490566029E-12,352262626262.62628,139446716.85000378,139.44671685000378,0.13944671685000379]
[null,0.51169200000000004,0.51178599999999996,0.1021,1.0009206660137113,106000000000,6.5377358490566029E-12,352262626262.62628,140783950.60941651,140.78395060941651,0.14078395060941651]
[null,0.51170599999999999,0.51179699999999995,9.98E-2,1.000911823647294,106000000000,6.5377358490566029E-12,352262626262.62628,139432433.18368435,139.43243318368434,0.13943243318368434]
[null,0.51170099999999996,0.511791,9.8799999999999999E-2,1.0009109311740894,106000000000,6.5377358490566029E-12,352262626262.62628,139296021.85476127,139.29602185476128,0.13929602185476128]
[null,0.51160799999999995,0.51169900000000001,9.9199999999999997E-2,1.0009173387096781,106000000000,6.5377358490566029E-12,352262626262.62628,140275387.99389815,140.27538799389816,0.14027538799389816]

{"sheet":"Good_E","index":5,"n_rows":0,"n_cols":0,"rows_kept":0,"cut":false,"hidden":false,"merged":[]}

{"sheet":"Good_F","index":6,"n_rows":128,"n_cols":16,"rows_kept":128,"cut":false,"hidden":false,"merged":[]}
[]
[]
["Table 2"]
["87Rb/86Sr ",4.5699999999999998E-2,0.19570000000000001,0.1061,4.7300000000000002E-2,0.18140000000000001,5.9700000000000003E-2," ",3.09E-2,9.3899999999999997E-2,2.9000000000000001E-2,0.13600000000000001," ",7.7999999999999996E-3,9.1999999999999998E-3," "]
["87Sr/86Sr (m) ",0.70361200000000002,0.70391300000000001,0.70441399999999998,0.70342499999999997,0.70511199999999996,0.70397799999999999,0.70447099999999996,0.70396300000000001,0.70423999999999998,0.70323400000000003,0.70365800000000001,0.70325000000000004,0.70371399999999995,0.70382900000000004]
["87Sr/86Sr (i) ",0.70344899999999999,0.70321400000000001,0.70403499999999997,0.70325599999999999,0.70446399999999998,0.70376499999999997,null,0.70385299999999995,0.703905,0.70313000000000003,0.70317200000000002,null,0.70368600000000003,0.70379599999999998," "]
[]
["147Sm/144Nd",0.1077,0.1075,0.1047,8.9700000000000002E-2,9.3399999999999997E-2,8.0500000000000002E-2,7.8899999999999998E-2,7.8799999999999995E-2,0.108,9.7000000000000003E-2,0.11650000000000001,0.1069,6.6100000000000006E-2,6.93E-2]
["143Nd/144Nd (m)",0.51280000000000003,0.51278900000000005,0.51265700000000003,0.51282799999999995,0.51256699999999999,0.51264100000000001,0.51255300000000004,0.51258099999999995,0.51270800000000005,0.51279600000000003,0.51276299999999997,0.51275099999999996,0.51260499999999998,0.51258300000000001]
["143Nd/144Nd (i)",0.51262300000000005,0.51261199999999996,0.51248499999999997,0.51268100000000005,0.51241400000000004,0.51250899999999999,0.51242299999999996,0.51245200000000002,0.51253099999999996,0.51263700000000001,0.51257200000000003,0.512575,0.51249599999999995,0.51246899999999995]
[]
["176Lu/177Hf ",2.7100000000000002E-3,2.8600000000000001E-3,3.5200000000000001E-3,2.7100000000000002E-3,3.3800000000000002E-3,2.9099999999999998E-3,3.0599999999999998E-3,3.0500000000000002E-3,4.7299999999999998E-3,3.1800000000000001E-3,3.32E-3,3.3999999999999998E-3,6.4599999999999996E-3,8.7299999999999999E-3]
["176Hf/177Hf (m) ",0.28292899999999999,0.28286600000000001,0.28274100000000002,0.28292299999999998,0.28267599999999998,0.28272900000000001,0.28268399999999999,0.28269699999999998,0.28280499999999997,0.28288000000000002,0.28283900000000001,0.28285700000000003,0.28271299999999999,0.28273500000000001]
["176Hf/177Hf (i) ",0.282916,0.28285199999999999,0.28272399999999998,0.28290999999999999,0.28266000000000002,0.28271499999999999,0.282669,0.28268199999999999,0.28278199999999998,0.28286499999999998,0.28282299999999999,0.28283999999999998,0.28268199999999999,0.28269300000000003]
[]
["187Re/188Os ",1.2E-2,0.84599999999999997,1.028,0.65400000000000003,6.4820000000000002,0.875,0.45400000000000001,0.80700000000000005,13.91,12.648,0.64800000000000002,2.1,1.804,0.89300000000000002,3.516]
["187Os/188Os (m) ",0.12327,0.12887999999999999,0.14618999999999999,0.14409,0.17776,0.14080999999999999,0.14499999999999999,0.14446000000000001,0.20695,0.17569000000000001,0.12740000000000001,0.12817000000000001,0.13067000000000001,0.12648999999999999,0.1424]
["187Os/188Os (i) ",0.12322,0.12534000000000001,0.14188000000000001,0.14135,0.15060000000000001,0.13714000000000001,0.1431,0.14108000000000001,0.14865,0.12268999999999999,0.12469,0.11937,0.12311,0.12275,0.12766]
[]
["238U/204Pb ",59.6,27.3,14.4,28.3,14.6,7.31,27.3,20.8,16.2,174,15.5,7.18,408,245]
["206Pb/204Pb ",20.684999999999999,19.13,18.003,19.273,18.597999999999999,18.536999999999999,19.384,19.37,18.433,24.978000000000002,18.47,18.344000000000001,38.097999999999999,26.564]
["207Pb/204Pb ",15.802,15.53,15.44,15.537000000000001,15.528,15.532,15.576000000000001,15.569000000000001,15.493,15.864000000000001,15.523,15.473000000000001,16.536000000000001,15.944000000000001]
["208Pb/204Pb ",39.78,39.25,38.69,39.450000000000003,39.380000000000003,39.549999999999997,39.81,39.75,38.5,47.25,38.42,38.369999999999997,224.27,120.88]
["206Pb/238U",{"$f":"(B21/B20)","v":0.34706375838926173},{"$f":"(C21/C20)","v":0.70073260073260069},{"$f":"(D21/D20)","v":1.2502083333333334},0.68102473498233218,1.2738356164383562,2.5358413132694939,0.71003663003662998,0.93125000000000002,1.1378395061728395,0.14355172413793105,1.1916129032258065,2.5548746518105854,9.3377450980392157E-2,0.10842448979591837]
["206Pb/238U, Age",{"$f":"[1]!AgePb6U8(B24)","v":1920.5623202600739},{"$f":"[1]!AgePb6U8(C24)","v":3423.4269127536909},{"$f":"[1]!AgePb6U8(D24)","v":5228.188909089391},{"$f":"[1]!AgePb6U8(E24)","v":3348.290531915507},{"$f":"[1]!AgePb6U8(F24)","v":5295.523638547862},{"$f":"[1]!AgePb6U8(G24)","v":8141.5069543873578},{"$f":"[1]!AgePb6U8(H24)","v":3458.5965599303354},{"$f":"[1]!AgePb6U8(I24)","v":4242.8200590744145},{"$f":"[1]!AgePb6U8(J24)","v":4897.9580500457078},{"$f":"[1]!AgePb6U8(K24)","v":864.71533688790953},{"$f":"[1]!AgePb6U8(L24)","v":5058.0999725852798},{"$f":"[1]!AgePb6U8(M24)","v":8176.1147651633701},{"$f":"[1]!AgePb6U8(N24)","v":575.48096322513334},{"$f":"[1]!AgePb6U8(O24)","v":663.59148099959975}]
["207Pb/206Pb ",{"$f":"(B22/B21)","v":0.76393521875755377},{"$f":"(C22/C21)","v":0.81181390486147409},0.85763483863800472,0.80615368650443631,0.83492848693407895,0.83789178399956843,0.8035493190260008,0.80376871450696952,0.84050344490858786,0.63511890463607978,0.84044396318354087,0.84349105974705629,0.43403853220641508,0.60021081162475531]
["207Pb/206Pb, Age ",{"$f":"[1]!AgePb76(B26)","v":4855.939769513956},{"$f":"[1]!AgePb76(C26)","v":4942.6054029432826},{"$f":"[1]!AgePb76(D26)","v":5020.5988905927788},{"$f":"[1]!AgePb76(E26)","v":4932.647428273478},{"$f":"[1]!AgePb76(F26)","v":4982.5182125947376},{"$f":"[1]!AgePb76(G26)","v":4987.5499464081113},{"$f":"[1]!AgePb76(H26)","v":4928.0405736382008},{"$f":"[1]!AgePb76(I26)","v":4928.429273690399},{"$f":"[1]!AgePb76(J26)","v":4991.9689445496124},{"$f":"[1]!AgePb76(K26)","v":4590.4720670973002},{"$f":"[1]!AgePb76(L26)","v":4991.8684623601466},{"$f":"[1]!AgePb76(M26)","v":4997.0062121224601},{"$f":"[1]!AgePb76(N26)","v":4031.4041516324787},{"$f":"[1]!AgePb76(O26)","v":4508.5087867497077}]
[]
[]
["Table 3"]
["87Rb/86Sr ",0.1668,5.4199999999999998E-2,0.56969999999999998,5.1999999999999998E-3,9.5899999999999999E-2,0.46260000000000001,0.61880000000000002,0.1158,7.5600000000000001E-2]
["87Sr/86Sr (m) ",0.70563699999999996,0.70530899999999996,0.70563900000000002,0.70420300000000002,0.70744899999999999,0.70621999999999996,0.70727899999999999,0.70708499999999996,0.70400099999999999]
["87Sr/86Sr (i) ",0.70526699999999998,0.70518700000000001,0.70387699999999997,0.70418499999999995,0.70695600000000003,0.703816,0.70406400000000002,0.70646500000000001,0.70348999999999995]
[]
["147Sm/144Nd",8.3299999999999999E-2,8.4500000000000006E-2,8.6999999999999994E-2,9.0700000000000003E-2,8.9800000000000005E-2,8.1000000000000003E-2,8.1299999999999997E-2,7.9399999999999998E-2,7.8899999999999998E-2]
["143Nd/144Nd (m)",0.51277399999999995,0.512737,0.51270000000000004,0.51264399999999999,0.51262600000000003,0.51256500000000005,0.51257799999999998,0.51254699999999997,0.51256100000000004]
["143Nd/144Nd (i)",0.51268899999999995,0.51265000000000005,0.51257600000000003,0.51249599999999995,0.51241400000000004,0.51237100000000002,0.51238399999999995,0.51235200000000003,0.51231599999999999]
[]
["176Lu/177Hf ",3.32E-3,1.372E-2,3.4199999999999999E-3,2.64E-3,6.1700000000000001E-3,2.8500000000000001E-3,3.2499999999999999E-3,3.3700000000000002E-3,1.58E-3]
["176Hf/177Hf (m) ",0.28285100000000002,0.28287000000000001,0.28290399999999999,0.28281200000000001,0.28269100000000003,0.28270699999999999,0.28268399999999999,0.28265299999999999]
["176Hf/177Hf (i) ",0.28284100000000001,0.282856,0.282891,0.28276899999999999,0.28267100000000001,0.28268399999999999,0.28265899999999999,0.282638]
[]
["238U/204Pb "," ",30.85,61.49,null,14.6,59.41,32.799999999999997,84.61,28.54]
["206Pb/204Pb ",19.599,19.413,21.003,18.77,19.995999999999999,21.231000000000002,20.698,22.501000000000001,21.83]
["207Pb/204Pb ",15.595000000000001,15.582000000000001,15.656000000000001,15.497,15.574,15.662000000000001,15.632,15.763,15.725]
["208Pb/204Pb ",39.86,39.35,41.8,38.729999999999997,39.89,41.87,41.05,43.34,42.01]
["206Pb/238U",{"$f":"(B44/B43)","v":{"$error":"#VALUE!"}},{"$f":"(C44/C43)","v":0.62927066450567259},{"$f":"(D44/D43)","v":0.34156773459099038},{"$error":"#DIV/0!"},1.3695890410958904,0.35736408012119175,0.63103658536585372,0.26593783240751684,0.76489138051857042]
["206Pb/238U, Age",0,{"$f":"[1]!AgePb6U8(C47)","v":3146.7040747571473},{"$f":"[1]!AgePb6U8(D47)","v":1894.207131607234},0,{"$f":"[1]!AgePb6U8(F47)","v":5561.428136857211},{"$f":"[1]!AgePb6U8(G47)","v":1969.6673177899756},{"$f":"[1]!AgePb6U8(H47)","v":3153.6873787946779},{"$f":"[1]!AgePb6U8(I47)","v":1520.1496663528142},{"$f":"[1]!AgePb6U8(J47)","v":3662.1379384939164}]
["207Pb/206Pb ",{"$f":"(B45/B44)","v":0.79570386244196134},{"$f":"(C45/C44)","v":0.80265801267192094},0.74541732133504734,0.82562599893446986,0.77885577115423088,0.73769488012811457,0.75524205237220987,0.70054664237145015,0.72033898305084754]
["207Pb/206Pb, Age ",{"$f":"[1]!AgePb76(B49)","v":4914.0661632036981},{"$f":"[1]!AgePb76(C49)","v":4926.4602960412994},{"$f":"[1]!AgePb76(D49)","v":4820.8572990542298},{"$f":"[1]!AgePb76(E49)","v":4966.5982242650507},{"$f":"[1]!AgePb76(F49)","v":4883.5539437493098},{"$f":"[1]!AgePb76(G49)","v":4805.9514773346891},{"$f":"[1]!AgePb76(H49)","v":4839.584654393042},{"$f":"[1]!AgePb76(I49)","v":4731.8402491515144},{"$f":"[1]!AgePb76(J49)","v":4771.8345299946495}]
[]
[]
["Rubidium","Table 2",null,null,null,null,null,null,null,null,"Table 2"]
["Strontium","Initial","Today","Today","The Ratio","Half","Decay","2.303/Delta","Age","Age","Age"]
["Dating","87Sr/86Sr","87Sr/86Sr","87Rb/86Sr","Plus One","Life","Constant","Constant","Years","Million Years","Billion Years"]
[null,0.70344899999999999,0.70361200000000002,4.5699999999999998E-2,{"$f":"1+((C56-B56)/D56)","v":1.0035667396061274},48800000000,{"$f":"(0.693/F56)","v":1.4200819672131146E-11},{"$f":"(2.303/G56)","v":162173737373.7374},{"$f":"(LOG(E56))*(H56)","v":250762668.00579122},{"$f":"(I56/1000000)","v":250.76266800579123},{"$f":"(J56/1000)","v":0.25076266800579122}]
[null,0.70321400000000001,0.70391300000000001,0.19570000000000001,{"$f":"1+((C57-B57)/D57)","v":1.0035717935615738},48800000000,1.4200819672131146E-11,{"$f":"(2.303/G57)","v":162173737373.7374},{"$f":"(LOG(E57))*(H57)","v":251117357.96366835},{"$f":"(I57/1000000)","v":251.11735796366835},{"$f":"(J57/1000)","v":0.25111735796366835}]
[null,0.70403499999999997,0.70441399999999998,0.1061,1.0035721017907635,48800000000,1.4200819672131146E-11,162173737373.7374,251138989.6356155,251.1389896356155,0.25113898963561548]
[null,0.70325599999999999,0.70342499999999997,4.7300000000000002E-2,1.0035729386892172,48800000000,1.4200819672131146E-11,162173737373.7374,251197723.5358341,251.19772353583411,0.25119772353583414]
[null,0.70446399999999998,0.70511199999999996,0.18140000000000001,1.0035722160970231,48800000000,1.4200819672131146E-11,162173737373.7374,251147011.7018908,251.14701170189079,0.2511470117018908]
[null,0.70376499999999997,0.70397799999999999,5.9700000000000003E-2,1.0035678391959801,48800000000,1.4200819672131146E-11,162173737373.7374,250839838.10573983,250.83983810573983,0.25083983810573984]
[null,0,0.70447099999999996,0,0,48800000000,1.4200819672131146E-11,162173737373.7374,0,0,0]
[null,0.70385299999999995,0.70396300000000001,3.09E-2,{"$f":"1+((C63-B63)/D63)","v":1.0035598705501636},48800000000,{"$f":"(0.693/F63)","v":1.4200819672131146E-11},{"$f":"(2.303/G63)","v":162173737373.7374},{"$f":"(LOG(E63))*(H63)","v":250280590.22151473},{"$f":"(I63/1000000)","v":250.28059022151473},{"$f":"(J63/1000)","v":0.25028059022151472}]
[null,0.703905,0.70423999999999998,9.3899999999999997E-2,1.00356762513312,48800000000,1.4200819672131146E-11,162173737373.7374,250824815.00873649,250.82481500873649,0.25082481500873649]
[null,0.70313000000000003,0.70323400000000003,2.9000000000000001E-2,1.0035862068965515,48800000000,1.4200819672131146E-11,162173737373.7374,252128885.59721079,252.1288855972108,0.25212888559721081]
[null,0.70317200000000002,0.70365800000000001,0.13600000000000001,1.0035735294117647,48800000000,1.4200819672131146E-11,162173737373.7374,251239180.6735971,251.2391806735971,0.25123918067359713]
[null,0,0.70325000000000004,0,0,48800000000,1.4200819672131146E-11,162173737373.7374,0,0,0]
[null,0.70368600000000003,0.70371399999999995,7.7999999999999996E-3,1.003589743589733,48800000000,1.4200819672131146E-11,162173737373.7374,252377088.45219526,252.37708845219527,0.25237708845219525]
[null,0.70379599999999998,0.70382900000000004,9.1999999999999998E-3,1.0035869565217457,48800000000,1.4200819672131146E-11,162173737373.7374,252181493.88471618,252.18149388471619,0.25218149388471617]
[]
[]
["Neodymium","Table 2",null,null,null,null,null,null,null,null,"Table 2"]
["Samarium","Initial","Today","Today","The Ratio","Half","Decay","2.303/Delta","Age","Age","Age"]
["Dating","143Nd/144Nd","143Nd/144Nd","147Sm/144Nd","Plus One","Life","Constant","Constant","Years","Million Years","Billion Years"]
[null,0.51262300000000005,0.51280000000000003,0.1077,{"$f":"1+((C75-B75)/D75)","v":1.0016434540389971},106000000000,{"$f":"(0.693/F75)","v":6.5377358490566029E-12},{"$f":"(2.303/G75)","v":352262626262.62628},{"$f":"(LOG(E75))*(H75)","v":251218614.21641502},{"$f":"(I75/1000000)","v":251.21861421641501},{"$f":"(J75/1000)","v":0.251218614216415}]
[null,0.51261199999999996,0.51278900000000005,0.1075,{"$f":"1+((C76-B76)/D76)","v":1.0016465116279079},106000000000,6.5377358490566029E-12,{"$f":"(2.303/G76)","v":352262626262.62628},{"$f":"(LOG(E76))*(H76)","v":251685613.43568638},{"$f":"(I76/1000000)","v":251.68561343568638},{"$f":"(J76/1000)","v":0.25168561343568635}]
[null,0.51248499999999997,0.51265700000000003,0.1047,{"$f":"1+((C77-B77)/D77)","v":1.0016427889207264},106000000000,{"$f":"(0.693/F77)","v":6.5377358490566029E-12},{"$f":"(2.303/G77)","v":352262626262.62628},{"$f":"(LOG(E77))*(H77)","v":251117027.54161787},{"$f":"(I77/1000000)","v":251.11702754161786},{"$f":"(J77/1000)","v":0.25111702754161785}]
[null,0.51268100000000005,0.51282799999999995,8.9700000000000002E-2,1.0016387959866209,106000000000,6.5377358490566029E-12,352262626262.62628,250507166.31915069,250.50716631915068,0.25050716631915071]
[null,0.51241400000000004,0.51256699999999999,9.3399999999999997E-2,1.0016381156316911,106000000000,6.5377358490566029E-12,352262626262.62628,250403251.99296278,250.40325199296277,0.25040325199296276]
[null,0.51250899999999999,0.51264100000000001,8.0500000000000002E-2,1.0016397515527953,106000000000,6.5377358490566029E-12,352262626262.62628,250653115.04343414,250.65311504343416,0.25065311504343418]
[null,0.51242299999999996,0.51255300000000004,7.8899999999999998E-2,1.0016476552598235,106000000000,6.5377358490566029E-12,352262626262.62628,251860285.08294791,251.86028508294791,0.25186028508294789]
[null,0.51245200000000002,0.51258099999999995,7.8799999999999995E-2,1.0016370558375627,106000000000,6.5377358490566029E-12,352262626262.62628,250241383.70391664,250.24138370391663,0.25024138370391663]
[null,0.51253099999999996,0.51270800000000005,0.108,1.0016388888888899,106000000000,6.5377358490566029E-12,352262626262.62628,250521355.78487682,250.52135578487682,0.25052135578487683]
[null,0.51263700000000001,0.51279600000000003,9.7000000000000003E-2,1.0016391752577323,106000000000,6.5377358490566029E-12,352262626262.62628,250565094.43786576,250.56509443786575,0.25056509443786573]
[null,0.51257200000000003,0.51276299999999997,0.11650000000000001,1.0016394849785402,106000000000,6.5377358490566029E-12,352262626262.62628,250612399.74801916,250.61239974801916,0.25061239974801913]
[null,0.512575,0.51275099999999996,0.1069,1.0016463985032737,106000000000,6.5377358490566029E-12,352262626262.62628,251668335.43013993,251.66833543013993,0.25166833543013994]
[null,0.51249599999999995,0.51260499999999998,6.6100000000000006E-2,1.0016490166414527,106000000000,6.5377358490566029E-12,352262626262.62628,252068214.28737926,252.06821428737928,0.2520682142873793]
[null,0.51246899999999995,0.51258300000000001,6.93E-2,1.0016450216450226,106000000000,6.5377358490566029E-12,352262626262.62628,251458041.86868194,251.45804186868193,0.25145804186868193]
[]
[]
[]
["Lutetium","Table 2"]
["Hafnium","Initial","Today","Today","The Ratio","Half","Decay","2.303/Delta","Age","Age","Age"]
["Dating","176Hf/177Hf","176Hf/177Hf","176Lu/177Hf","Plus One","Life","Constant","Constant","Years","Million Years","Billion Years"]
[null,0.282916,0.28292899999999999,2.7100000000000002E-3,{"$f":"1+((C95-B95)/D95)","v":1.0047970479704742},37300000000,{"$f":"(0.693/F95)","v":1.8579088471849864E-11},{"$f":"(2.303/G95)","v":123956565656.56567},{"$f":"(LOG(E95))*(H95)","v":257625185.94110292},{"$f":"(I95/1000000)","v":257.62518594110293},{"$f":"(J95/1000)","v":0.25762518594110295}]
[null,0.28285199999999999,0.28286600000000001,2.8600000000000001E-3,{"$f":"1+((C96-B96)/D96)","v":1.0048951048951098},37300000000,1.8579088471849864E-11,{"$f":"(2.303/G96)","v":123956565656.56567},{"$f":"(LOG(E96))*(H96)","v":262878490.43236384},{"$f":"(I96/1000000)","v":262.87849043236383},{"$f":"(J96/1000)","v":0.26287849043236383}]
[null,0.28272399999999998,0.28274100000000002,3.5200000000000001E-3,1.0048295454545582,37300000000,1.8579088471849864E-11,123956565656.56567,259366263.8805441,259.36626388054407,0.25936626388054407]
[null,0.28290999999999999,0.28292299999999998,2.7100000000000002E-3,{"$f":"1+((C98-B98)/D98)","v":1.0047970479704742},37300000000,{"$f":"(0.693/F98)","v":1.8579088471849864E-11},{"$f":"(2.303/G98)","v":123956565656.56567},{"$f":"(LOG(E98))*(H98)","v":257625185.94110292},{"$f":"(I98/1000000)","v":257.62518594110293},{"$f":"(J98/1000)","v":0.25762518594110295}]
[null,0.28266000000000002,0.28267599999999998,3.3800000000000002E-3,1.0047337278106392,37300000000,1.8579088471849864E-11,123956565656.56567,254232597.46174172,254.2325974617417,0.25423259746174171]
[null,0.28271499999999999,0.28272900000000001,2.9099999999999998E-3,1.0048109965635788,37300000000,1.8579088471849864E-11,123956565656.56567,258372499.54342982,258.3724995434298,0.25837249954342978]
[null,0.282669,0.28268399999999999,3.0599999999999998E-3,1.0049019607843095,37300000000,1.8579088471849864E-11,123956565656.56567,263245768.863392,263.24576886339202,0.26324576886339202]
[null,0.28268199999999999,0.28269699999999998,3.0500000000000002E-3,1.004918032786881,37300000000,1.8579088471849864E-11,123956565656.56567,264106756.02001324,264.10675602001322,0.26410675602001321]
[null,0.28278199999999998,0.28280499999999997,4.7299999999999998E-3,1.0048625792811829,37300000000,1.8579088471849864E-11,123956565656.56567,261136019.07859188,261.13601907859186,0.26113601907859185]
[null,0.28286499999999998,0.28288000000000002,3.1800000000000001E-3,1.0047169811320888,37300000000,1.8579088471849864E-11,123956565656.56567,253335302.62494633,253.33530262494634,0.25333530262494636]
[null,0.28282299999999999,0.28283900000000001,3.32E-3,1.0048192771084385,37300000000,1.8579088471849864E-11,123956565656.56567,258816135.35048041,258.81613535048041,0.25881613535048043]
[null,0.28283999999999998,0.28285700000000003,3.3999999999999998E-3,1.0050000000000132,37300000000,1.8579088471849864E-11,123956565656.56567,268497576.33742768,268.49757633742769,0.26849757633742771]
[null,0.28268199999999999,0.28271299999999999,6.4599999999999996E-3,1.0047987616099077,37300000000,1.8579088471849864E-11,123956565656.56567,257716996.91051644,257.71699691051646,0.25771699691051647]
[null,0.28269300000000003,0.28273500000000001,8.7299999999999999E-3,1.0048109965635723,37300000000,1.8579088471849864E-11,123956565656.56567,258372499.54308486,258.37249954308487,0.25837249954308489]
[]
[]
["Rhenium","Table 2",null,null,null,null,null,null,null,null,"Table 2"]
["Osmium","Initial","Today","Today","The Ratio","Half","Decay","2.303/Delta","Age","Age","Age"]
["Dating","187Os/188Os","187Os/188Os","187Re/188Os","Plus One","Life","Constant","Constant","Years","Million Years","Billion Years"]
[null,0.12322,0.12327,1.2E-2,{"$f":"1+((C114-B114)/D114)","v":1.0041666666666673},41600000000,{"$f":"(0.693/F114)","v":1.6658653846153847E-11},{"$f":"(2.303/G114)","v":138246464646.46463},{"$f":"(LOG(E114))*(H114)","v":249645585.20159426},{"$f":"(I114/1000000)","v":249.64558520159426},{"$f":"(J114/1000)","v":0.24964558520159424}]
[null,0.12534000000000001,0.12887999999999999,0.84599999999999997,1.0041843971631206,41600000000,1.6658653846153847E-11,138246464646.46463,250705691.96745643,{"$f":"(I115/1000000)","v":250.70569196745643},{"$f":"(J115/1000)","v":0.25070569196745646}]
[null,0.14188000000000001,0.14618999999999999,1.028,1.0041926070038911,41600000000,1.6658653846153847E-11,138246464646.46463,251196552.18435684,251.19655218435685,0.25119655218435682]
[null,0.14135,0.14409,0.65400000000000003,1.0041896024464831,41600000000,1.6658653846153847E-11,138246464646.46463,251016912.4179129,251.01691241791289,0.25101691241791291]
[null,0.15060000000000001,0.17776,6.4820000000000002,1.0041900647948163,41600000000,1.6658653846153847E-11,138246464646.46463,251044555.84103376,251.04455584103377,0.25104455584103375]
[null,0.13714000000000001,0.14080999999999999,0.875,1.0041942857142856,41600000000,1.6658653846153847E-11,138246464646.46463,251296920.52452794,251.29692052452793,0.25129692052452796]
[null,0.1431,0.14499999999999999,0.45400000000000001,1.0041850220264317,41600000000,1.6658653846153847E-11,138246464646.46463,250743052.21686614,250.74305221686615,0.25074305221686616]
[null,0.14108000000000001,0.14446000000000001,0.80700000000000005,1.004188351920694,41600000000,1.6658653846153847E-11,138246464646.46463,250942144.45506993,250.94214445506992,0.2509421444550699]
[null,0.14865,0.20695,13.91,1.0041912293314161,41600000000,1.6658653846153847E-11,138246464646.46463,251114182.46144477,251.11418246144476,0.25111418246144473]
[null,0.12268999999999999,0.17569000000000001,12.648,1.004190385831752,41600000000,1.6658653846153847E-11,138246464646.46463,251063750.36549219,251.06375036549218,0.25106375036549217]
[null,0.12469,0.12740000000000001,0.64800000000000002,1.0041820987654322,41600000000,1.6658653846153847E-11,138246464646.46463,250568271.77596477,250.56827177596477,0.2505682717759648]
[null,0.11937,0.12817000000000001,2.1,1.0041904761904763,41600000000,1.6658653846153847E-11,138246464646.46463,251069152.83541104,251.06915283541105,0.25106915283541104]
[null,0.12311,0.13067000000000001,1.804,1.004190687361419,41600000000,1.6658653846153847E-11,138246464646.46463,251081778.56141198,251.08177856141197,0.25108177856141195]
[null,0.12275,0.12648999999999999,0.89300000000000002,1.0041881298992161,41600000000,1.6658653846153847E-11,138246464646.46463,250928869.95411757,250.92886995411757,0.25092886995411756]
[null,0.12766,0.1424,3.516,1.0041922639362912,41600000000,1.6658653846153847E-11,138246464646.46463,251176040.51042962,251.17604051042963,0.25117604051042963]

{"sheet":"Sheet1","index":7,"n_rows":94,"n_cols":19,"rows_kept":94,"cut":false,"hidden":false,"merged":[]}
["C0n02.6.1",1.39,52.8,85.7,0.78200000000000003,7.5999999999999998E-2,12.3,2.2000000000000002,20.5,1.8,16.100000000000001,1.8,49.9,5.6]
["C0n02.7.1",7.4999999999999997E-2,15.1,12.7,0.28399999999999997,2.1000000000000001E-2,19.8,2.6,20.6,1.2,17.899999999999999,2.5,60.1,7.4]
["C0n02.7.2",9.2999999999999999E-2,23.3,48.5,0.106,1.7000000000000001E-2,11.9,2,17.899999999999999,2.1,17.2,2.9,40.299999999999997,6.3]
["C0n02.7.3",0.53600000000000003,42.1,33.200000000000003,0.82599999999999996,6.2E-2,20.8,2.7,19.399999999999999,2,14.5,2.2000000000000002,61,6.8]
["C0n02.7.4",0.41599999999999998,31.5,26.7,0.80700000000000005,5.5E-2,20.399999999999999,2.4,19.2,2.2999999999999998,14.7,1.7,58,7.2]
["C0n02.7.5",0.27,83.6,166,8.7999999999999995E-2,9.1000000000000004E-3,11.5,1.8,18.399999999999999,1.4,14.4,1.5,44,5.8]
["C0n02.8.1",0.123,12.9,18,0.379,2.7E-2,14.8,2.1,17.8,1,16.600000000000001,2.7,48.1,5.3]
["C0n02.9.1",0.151,53.8,89.9,9.1999999999999998E-2,2.3E-2,12,"l.6",18.3,2.6,12.6,2,50.1,4.9000000000000004]
["C0n02.9.2",0.41299999999999998,57.2,161,0.13200000000000001,7.0000000000000001E-3,7.9,0.62,19.3,1.5,14,1.4,45.1,2.5]
["C0n02.9.3",0.30199999999999999,41.7,497,3.4500000000000003E-2,5.4000000000000003E-3,2.1800000000000002,0.4,17.5,1.6,15.1,1.8,38.5,3.2]
["C0n02.9.4",0.1,24,101,4.99E-2,6.1000000000000004E-3,6.74,0.86,19.7,1.3,15.7,2.6,35.200000000000003,2.9]
["C0n02.9.5",0.11600000000000001,24.8,188,3.3700000000000001E-2,4.4000000000000003E-3,3.81,0.53,18.2,1.2,13.8,2.5,34.6,2.6]
["C0n02.9.8",0.219,47.3,83.8,0.13200000000000001,0.02,12.8,1.6,19.600000000000001,1.5,16.100000000000001,1.5,44,5.5]
["C0n02.9.9",0.255,55.2,78.599999999999994,0.16200000000000001,1.7999999999999999E-2,15.3,1.9,19.8,1.8,14.8,2.7,45.9,4.5999999999999996]
["C0n02.10.1",0.16600000000000001,28.8,144,6.4000000000000001E-2,1.4E-2,6.07,1.06,17.8,1.6,16.100000000000001,2.1,32.9,2.8]
[]
[]
["BRYCE"]
["WRf",1.02,5.0000000000000001E-3,3.4049999999999998,1.4999999999999999E-2,1.22054,2.0000000000000002E-5,2.4725000000000001,1E-4,1.218,2.4697,0.93,0.70418599999999998,6.9999999999999999E-6,9.8799999999999999E-2,5.0000000000000001E-4,295,3.7]
["WR",null,null,null,null,1.2206300000000001,3.0000000000000001E-5,2.4723999999999999,1E-4,null,null,null,null,null,null,null,null,"—"]
["Mt-r1ch",0.80500000000000005,2E-3,2.629,1.4E-2,1.2274799999999999,9.0000000000000006E-5,2.4689000000000001,2.0000000000000001E-4,1.2255,2.4666999999999999,0.83,0.70415099999999997,1.1E-5,0.16350000000000001,1.1000000000000001E-3,226,"—"]
["plag",0.105,0,0.20499999999999999,0,1.2195199999999999,3.0000000000000001E-5,2.468,1E-4,1.2193000000000001,2.4679000000000002,0.15,0.70399199999999995,1.0000000000000001E-5,4.1999999999999997E-3,1E-4,689,4.0999999999999996]
["CRB-16"]
["WR",0.97899999999999998,2E-3,3.5569999999999999,3.4000000000000002E-2,1.2221200000000001,5.0000000000000002E-5,2.4733000000000001,1E-4,1.2197,2.4704000000000002,1.06,0.70437099999999997,1.1E-5,0.1474,8.0000000000000004E-4,436,"—"]
["WR",0.93400000000000005,7.0000000000000001E-3,3.5649999999999999,3.3000000000000002E-2,1.2220500000000001,9.0000000000000006E-5,2.4727999999999999,4.0000000000000002E-4,1.2197,2.4699,1.02,null,null,null,null,null,"—"]
["WR",null,null,null,null,1.2217899999999999,8.0000000000000007E-5,2.4716999999999998,2.9999999999999997E-4,null,null,1.02,null,null,null,null,null,"—"]
["Mt-r1ch",0.90800000000000003,4.0000000000000001E-3,3.4529999999999998,2.4E-2,1.22302,4.0000000000000003E-5,2.4731000000000001,2.0000000000000001E-4,1.2208000000000001,2.4702999999999999,1,null,null,null,null,null,"—"]
["Mt-r1ch",0.93500000000000005,4.0000000000000001E-3,3.4489999999999998,1.9E-2,1.2230399999999999,2.0000000000000002E-5,2.4727000000000001,1E-4,1.2206999999999999,2.4699,1.05,0.70435400000000004,1.1E-5,0.2036,6.9999999999999999E-4,118,"—"]
["Mt-r1ch",1.095,1E-3,3.5510000000000002,2E-3,1.2207300000000001,4.0000000000000003E-5,2.4710999999999999,1E-4,1.218,2.4681999999999999,0.49,0.70443199999999995,1.1E-5,0.20100000000000001,5.9999999999999995E-4,306,"—"]
["plag",0.13,1E-3,0.27400000000000002,0,1.2144600000000001,1.0000000000000001E-5,2.4634999999999998,0,1.2141,2.4632000000000001,0.18,0.70398099999999997,7.9999999999999996E-6,6.7000000000000002E-3,1E-4,1027,0.6]
["Wrh",null,null,null,null,null,null,null,null,null,null,null,0.70439200000000002,1.0000000000000001E-5,0.13950000000000001,null,259,3.1]
["Mt-r1ch",null,null,null,null,null,null,null,null,null,null,null,0.70438400000000001,1.0000000000000001E-5,0.155,null,217,3.2]
["WR",0.66100000000000003,3.0000000000000001E-3,1.357,1E-3,1.1918599999999999,3.0000000000000001E-5,2.4428000000000001,1E-4,null,null,0.28299999999999997,0.70255500000000004,1.0000000000000001E-5,2.06E-2,1E-4,124,"—"]
["WR1",null,null,null,null,1.19275,3.0000000000000001E-5,2.444,1E-4,null,null,null,0.70249700000000004,1.0000000000000001E-5,null,null,null,"—"]
["Mt-r1ch",0.49299999999999999,2E-3,1.159,1.6E-2,1.20147,2.0000000000000002E-5,2.4456000000000002,1E-4,null,null,0.39900000000000002,0.70257199999999997,1.0000000000000001E-5,2.98E-2,1E-4,155,"—"]
["plag",9.0999999999999998E-2,0,0.125,0,1.1845300000000001,4.0000000000000003E-5,2.4373,2.0000000000000001E-4,null,null,4.4999999999999998E-2,0.70238,1.0000000000000001E-5,1.6999999999999999E-3,1E-4,203,"—"]
["Wrh",null,null,null,null,null,null,null,null,null,null,null,0.70239700000000005,7.9999999999999996E-6,1.3899999999999999E-2,null,null,10]
[5,"dV1-Mt.","Etna"]
["MAG",1.601,8.0000000000000002E-3,6.7930000000000001,3.4000000000000002E-2,1.2422899999999999,1.9000000000000001E-4,2.4992999999999999,4.0000000000000002E-4,1.2422,2.4992000000000001,0.20300000000000001,0.70317799999999997,5.0000000000000004E-6,null,null,null,"—"]
["mag",1.895,8.9999999999999993E-3,8.2230000000000008,4.1000000000000002E-2,1.24678,3.0000000000000001E-5,2.5030000000000001,1E-4,1.2466999999999999,2.5028000000000001,0.17399999999999999,0.70320099999999996,5.0000000000000004E-6,null,null,null,"—"]
["wkly",1.361,7.0000000000000001E-3,5.9480000000000004,0.03,1.23987,1.4999999999999999E-4,2.4962,5.9999999999999995E-4,1.2398,2.4962,0.17100000000000001,null,null,null,null,null,"—"]
["wkly",1.4730000000000001,7.0000000000000001E-3,6.3140000000000001,3.2000000000000001E-2,1.2436100000000001,8.0000000000000007E-5,2.5004,2.9999999999999997E-4,1.2435,2.5003000000000002,0.16400000000000001,0.70318400000000003,3.9999999999999998E-6,null,null,null,"—"]
["Plag",0.221,1E-3,0.996,5.0000000000000001E-3,1.2019,9.0000000000000006E-5,2.4653,2.9999999999999997E-4,1.2019,2.4653,0.82099999999999995,0.70320800000000006,6.0000000000000002E-6,null,null,null,"—"]
["n0nmagn",null,null,null,null,1.2118,1E-4,2.4784000000000002,6.9999999999999999E-4,null,null,null,null,null,null,null,null,"—"]
["cru5","hed",null,null,null,1.2514000000000001,1.7000000000000001E-4,2.5062000000000002,1E-3,null,null,null,null,null,null,null,null,null,"—"]
[]
[]
["Canadian_Mineralogist"]
["l",114,0.45019999999999999,0.1298,0.74,3.9670999999999998,5.7700000000000001E-2,0.28620000000000001,4.3E-3,0.10050000000000001,1.4E-3,1627,12,1623,21,1634,14,99]
["l-1b",94,0.33810000000000001,9.7500000000000003E-2,0.77,4.0715000000000003,7.2800000000000004E-2,0.28860000000000002,4.1000000000000003E-3,0.1023,1.8E-3,1649,15,1635,20,1667,17,98]
["1-2a",349,0.255,7.2900000000000006E-2,0.24,3.8292999999999999,6.5199999999999994E-2,0.27329999999999999,4.0000000000000001E-3,0.1016,1E-3,1599,14,1557,20,1654,10,94]
["1-2b",62,0.39150000000000001,0.1129,2.12,4.2519,0.1268,0.30349999999999999,6.4000000000000003E-3,0.1016,3.5000000000000001E-3,1684,25,1708,31,1654,32,103]
["1·3",153,0.17219999999999999,4.9000000000000002E-2,2.0699999999999998,2.3275999999999999,0.1014,0.13289999999999999,4.7000000000000002E-3,0.127,1E-4,1421,31,304,27,2051,43,39]
["2013-04-01",4721,0.42020000000000002,0.1212,1.7,0.66159999999999997,1.11E-2,7.2900000000000006E-2,1.1000000000000001E-3,6.5799999999999997E-2,5.9999999999999995E-4,516,7,454,7,801,10,57]
["2013-05-01",113,0.2195,6.4000000000000001E-2,0.31,4.1116999999999999,0.06,0.2797,4.5999999999999999E-3,0.10680000000000001,1.5E-3,1658,12,1590,23,1745,13,91]
["1-6a",145,0.23799999999999999,6.9400000000000003E-2,1.1100000000000001,0.49280000000000002,2.86E-2,5.8999999999999997E-2,2E-3,6.0600000000000001E-2,2.8999999999999998E-3,407,19,369,12,625,56,59]
["1-6b",195,0.2417,7.22E-2,0.13,4.0792000000000002,6.2899999999999998E-2,0.27900000000000003,4.7000000000000002E-3,0.106,1.4E-3,1650,13,1586,24,1732,13,92]
["2013-07-01",409,0.1537,4.48E-2,1.8,2.4961000000000002,8.8800000000000004E-2,0.1812,1E-4,9.6699999999999994E-2,2E-3,1271,26,1106,33,1562,20,11]
["1·8a",216,0.25509999999999999,7.3800000000000004E-2,0.71,4.5202999999999998,3.85E-2,0.29770000000000002,2.2000000000000001E-3,0.1101,1E-3,1735,7,1680,11,1802,8,93]
["1·8b",192,0.26390000000000002,7.6300000000000007E-2,1.22,4.4851000000000001,5.8999999999999997E-2,0.30309999999999998,3.0999999999999999E-3,0.10730000000000001,1.2999999999999999E-3,1128,11,1101,15,1754,12,97]
["1·9",737,0.41789999999999999,0.12089999999999999,0.9,1.5648,5.3499999999999999E-2,0.13039999999999999,4.0000000000000001E-3,8.7099999999999997E-2,1.1999999999999999E-3,956,21,790,23,1362,13,58]
["1-10a",198,0.11119999999999999,4.9500000000000002E-2,0.24,4.2098000000000004,4.4999999999999998E-2,0.28960000000000002,3.3E-3,0.10539999999999999,1.2999999999999999E-3,1676,9,1640,17,1722,12,95]
["1-10b",114,0.35,0.1012,0.89,3.1244999999999998,5.9900000000000002E-2,0.2671,4.0000000000000001E-3,0.1011,1.6000000000000001E-3,1517,13,1526,20,1645,15,93]
["l-",274,0.2339,6.7599999999999993E-2,5.62,3.2431999999999999,0.16569999999999999,0.23649999999999999,5.1000000000000004E-3,9.9500000000000005E-2,3.3E-3,1468,40,1368,27,1614,32,85]
["l-",191,0.21890000000000001,6.3299999999999995E-2,0.39,4.1622000000000003,6.4899999999999999E-2,0.2959,4.0000000000000001E-3,0.10199999999999999,1.5E-3,1667,13,1671,20,1661,14,101]
["1·12",329,0.31109999999999999,0.09,0.2,4.2191999999999998,6.8599999999999994E-2,0.29609999999999997,4.1999999999999997E-3,0.1033,1.1000000000000001E-3,1678,13,1612,21,1685,10,99]
[1,229,0.3306,9.5600000000000004E-2,2.59,4.6710000000000003,8.4900000000000003E-2,0.31019999999999998,4.3E-3,0.10920000000000001,1.8E-3,1762,15,1742,21,1786,15,97]
["1-14a",177,0.4839,0.1399,2.6,5.0392999999999999,0.14560000000000001,0.32929999999999998,3.8999999999999998E-3,0.111,2.8999999999999998E-3,1826,24,1835,19,1816,24,101]
["1-14b",128,0.37309999999999999,0.1076,0.9,4.0340999999999996,0.24279999999999999,0.29099999999999998,5.5999999999999999E-3,0.10050000000000001,4.3E-3,1641,49,1647,28,1634,40,101]
["l-15",160,0.3276,9.8699999999999996E-2,0.12,3.9969999999999999,0.24049999999999999,0.29099999999999998,5.5999999999999999E-3,9.9599999999999994E-2,4.3E-3,1634,49,1647,28,1617,41,102]
["2016-01-01",78,0.28989999999999999,8.3799999999999999E-2,8.24,4.0876000000000001,0.10199999999999999,0.29120000000000001,5.5999999999999999E-3,0.1018,2.7000000000000001E-3,1652,20,1647,28,1657,26,99]
["2017-01-01",57,3.4700000000000002E-2,0.01,8.9499999999999993,4.4154999999999998,0.1065,0.28760000000000002,5.4999999999999997E-3,0.1114,3.0000000000000001E-3,1715,20,1629,27,1822,24,89]
["1-18a",978,0.1565,4.5699999999999998E-2,1.44,4.0542999999999996,0.1028,0.2893,6.1000000000000004E-3,0.1016,1.4E-3,1645,21,1638,30,1654,13,99]
["1-19a",950,0.25269999999999998,7.3099999999999998E-2,2.4500000000000002,3.2347000000000001,8.6499999999999994E-2,0.2291,6.4999999999999997E-3,0.1024,2.5999999999999999E-3,1466,21,1330,34,1668,24,80]
["2020-01-01",1255,0.22800000000000001,6.59E-2,2.0499999999999998,2.2016,4.48E-2,0.1113,2.7000000000000001E-3,9.3200000000000005E-2,1.1999999999999999E-3,1182,14,1019,15,1493,12,68]
["2021-01-01",4096,0.29909999999999998,8.6499999999999994E-2,3.56,1.0267999999999999,4.87E-2,0.11260000000000001,2.0999999999999999E-3,6.6199999999999995E-2,2.3E-3,717,24,688,12,811,37,85]
["2022-01-01",398,0.30909999999999999,8.9399999999999993E-2,0.27,4.1070000000000002,6.5199999999999994E-2,0.29310000000000003,4.0000000000000001E-3,0.1016,1.1999999999999999E-3,1656,13,1657,20,1654,12,100]
["1·23",345,0.21940000000000001,6.3100000000000003E-2,0.49,4.0739999999999998,6.3299999999999995E-2,0.28920000000000001,3.2000000000000002E-3,0.1022,1.1999999999999999E-3,1649,13,1638,16,1664,11,98]
["2024-01-01",400,0.24279999999999999,7.0199999999999999E-2,0.49,4.1847000000000003,4.9500000000000002E-2,0.29570000000000002,3.2000000000000002E-3,0.1026,8.9999999999999998E-4,1671,10,1670,16,1672,9,100]
["2025-01-01",179,0.43269999999999997,0.12509999999999999,0.92,5.1604000000000001,0.15190000000000001,0.32940000000000003,4.0000000000000001E-3,0.11360000000000001,3.0000000000000001E-3,1846,25,1836,19,1858,24,99]
["2026-01-01",255,0.308,8.9099999999999999E-2,2.98,4.7267000000000001,0.1366,0.31640000000000001,3.8E-3,0.1084,2.8E-3,1172,24,1772,15,1772,24,100]
["2027-01-01",535,0.28220000000000001,8.1600000000000006E-2,4.3899999999999997,1.8290999999999999,4.87E-2,0.16220000000000001,6.3E-3,8.1799999999999998E-2,2.7000000000000001E-3,1056,17,969,35,1241,32,78]
["1-28a",432,0.25950000000000001,7.4999999999999997E-2,0.16,4.0140000000000002,4.9500000000000002E-2,0.29020000000000001,3.3999999999999998E-3,0.1003,1.1000000000000001E-3,1637,10,1642,17,1630,12,101]
["1·28b",371,0.3125,9.0399999999999994E-2,0.52,4.0799000000000003,5.5199999999999999E-2,0.29039999999999999,3.2000000000000002E-3,0.1019,1.2999999999999999E-3,1650,11,1644,16,1659,12,99]
["1-J0a",267,0.23430000000000001,6.7799999999999999E-2,0.08,4.1843000000000004,6.7100000000000007E-2,0.29780000000000001,3.5000000000000001E-3,0.1019,1.2999999999999999E-3,1671,13,1681,17,1659,12,101]
["1·30b",269,0.17699999999999999,5.1200000000000002E-2,0.46,4.3327999999999998,5.0900000000000001E-2,0.30869999999999997,3.0999999999999999E-3,0.1018,1.1000000000000001E-3,1700,10,1734,15,1657,10,105]
["1931-01-01",345,0.28789999999999999,8.3299999999999999E-2,0.13,4.0430000000000001,6.4600000000000005E-2,0.2888,3.3E-3,0.10150000000000001,1.9E-3,1643,13,1636,16,1652,18,99]
["1932-01-01",421,0.217,6.2700000000000006E-2,1.42,3.9441000000000002,6.5699999999999995E-2,0.28639999999999999,5.1999999999999998E-3,9.9900000000000003E-2,1.4E-3,1623,13,1624,26,1622,14,100]
["2-18b",234,0.23250000000000001,6.7199999999999996E-2,0.24,4.4516,6.9699999999999998E-2,0.29649999999999999,3.3E-3,0.1089,1.5E-3,1122,13,1674,16,1781,13,94]
["2·33",244,0.16889999999999999,4.8800000000000003E-2,0.02,3.9727999999999999,4.7199999999999999E-2,0.28789999999999999,3.0000000000000001E-3,0.10009999999999999,1.1000000000000001E-3,1629,10,1631,15,1625,10,100]
["1934-02-01",298,0.25540000000000002,7.3800000000000004E-2,0.11,4.0780000000000003,5.8999999999999997E-2,0.29149999999999998,3.3999999999999998E-3,0.10150000000000001,"0.00n",1650,12,1649,17,1651,12,100]
["2-19b",76,2.69E-2,7.7999999999999996E-3,9.11,4.9741,0.12,0.32950000000000002,2.9999999999999997E-4,0.1095,2.8999999999999998E-3,1815,20,1836,30,1791,24,103]
["1935-02-01",225,0.1764,5.1400000000000001E-2,1.8,4.1199000000000003,0.10440000000000001,0.29470000000000002,6.1999999999999998E-3,0.1014,1.4E-3,1658,21,1665,31,1650,13,101]
["2-6c",223,0.23169999999999999,6.6699999999999995E-2,0.42,4.1216999999999997,6.4000000000000001E-2,0.29239999999999999,3.3E-3,0.1022,1.1999999999999999E-3,1659,13,1654,16,1665,11,99]