{"text_format":"1","workbook":"xlsx","n_sheets":21,"sheets":["Index","Pb-206_01","Pb-206_02","Pb-206_04","Pb-206_05","Pb-206_06","Pb-206_07","Pb-206_08","Pb-206_09","Pb-206_12","Pb-206_13","Pb-206_14","Pb-206_15","Pb-206_16","Pb-206_17","Pb-206_18","Pb-206_19","Pb-206_22","Pb-206_23","Pb-206_24","Pb-206_25"],"not_rendered":{"charts":0,"images":0,"macros":1,"external_links":1,"defined_names":3,"comments":0,"pivot_tables":0},"unopened":[],"bounds":{"document_bytes":16777216,"sheet_cells":100000,"rows_first":2000,"rows_last":500,"rows_between":2000,"halvings":0,"cell_chars":16384,"cell_head_chars":4096},"cells_cut":0,"cells_raw":0,"read":"whole","date_system":"1900"}

{"sheet":"Index","index":0,"n_rows":34,"n_cols":16,"rows_kept":34,"cut":false,"hidden":false,"merged":[]}
["Number","Magazine Reference","Title","Spreadsheet","File Name","Method","MAXIMUM","MINIMUM","DIFFERENCE","AVERAGE","4600 To 4999","5000 To 5999 ","6,000 To 9999","10,000 To 19,999","Over 19,999","Total"]
[1,"Earth and Planetary Science Letters 258 (2007) 160–174","U–Pb and 40Ar/39Ar Dating","Pb-206_01","C:\\Essays\\Geo_Dating\\Lead_206_207\\Pb-206_01.pdf"]
[2,"Earth and Planetary Science Letters 142 (1996) 501-512","Pb Isotope Constraints","Pb-206_02","C:\\Essays\\Geo_Dating\\Lead_206_207\\Pb-206_02.pdf","Pb-207/Pb-206",5346.6165323649439,4861.767840573656,484.84869179128782,5180.1404056269184,8,22,null,null,null,{"$f":"SUM(K3:O3)","v":30}]
[3,"Earth and Planetary Science Letters 300 (2010) 152–163","The Solar System Primordial Lead","Pb-206_05","C:\\Essays\\Geo_Dating\\Lead_206_207\\Pb-206_05.pdf","Pb-207/Pb-206",5381.0426286081511,4964.4513918047587,416.59123680339235,5259.1096149227915,3,70,null,null,null,{"$f":"SUM(K4:O4)","v":73}]
[4,"Earth and Planetary Science Letters, 42 (1979) 58-70","Diamonds And Mantle-Derived Xenoliths","Pb-206_06","C:\\Essays\\Geo_Dating\\Lead_206_207\\Pb-206_06.pdf","Pb-207/Pb-206",5248.7323472795088,4884.5053002117211,364.22704706778768,4994.9977794464521,9,5,null,null,null,{"$f":"SUM(K5:O5)","v":14}]
[5,"Earth and Planetary Science Letters, 107 (1991) 618-624","Complete Pb/U Analysis","Pb-206_07","C:\\Essays\\Geo_Dating\\Lead_206_207\\Pb-206_07.pdf"]
[6,"Meteoritics & Planetary Science 46, Nr 1, 35–52 (2011)","Disturbance Of Isotope Systematics","Pb-206_08","C:\\Essays\\Geo_Dating\\Lead_206_207\\Pb-206_08.pdf","Pb-207/Pb-206",5110.6341643687056,4182.5856783122417,928.04848605646384,4565.7347572945691,6,2,null,null,null,{"$f":"SUM(K7:O7)","v":8}]
[6,"Meteoritics & Planetary Science 46, Nr 1, 35–52 (2011)","Disturbance Of Isotope Systematics","Pb-206_08","C:\\Essays\\Geo_Dating\\Lead_206_207\\Pb-206_08.pdf","Pb-206⁄U-238",22145.502858161861,2268.1172642459301,19877.385593915929,8087.9994241754775,1,2,5,2,1,11]
[7,"Geochimica et Cosmochimica Acta, 1970, Vol. 34, pp. 1039 to 1106.","Model Lead And Radiometric Ages","Pb-206_09","C:\\Essays\\Geo_Dating\\Lead_206_207\\Pb-206_09.pdf","Pb-207/Pb-206",7797.3783311287089,5138.6914023008912,2658.6869288278176,5828.1013627790699,null,3,1,null,null,4]
[7,"Geochimica et Cosmochimica Acta, 1970, Vol. 34, pp. 1039 to 1106.","Model Lead And Radiometric Ages","Pb-206_09","C:\\Essays\\Geo_Dating\\Lead_206_207\\Pb-206_09.pdf","Pb-207/Pb-206",5226.3920781550269,5142.800369793099,83.591708361927886,5203.7732154822916,null,15,null,null,null,15]
[7,"Geochimica et Cosmochimica Acta, 1970, Vol. 34, pp. 1039 to 1106.","Model Lead And Radiometric Ages","Pb-206_09","C:\\Essays\\Geo_Dating\\Lead_206_207\\Pb-206_09.pdf","Pb-207/Pb-206",5239.2458852013806,4845.5534470434268,393.6924381579538,5160.9009832615648,1,27,null,null,null,28]
[7,"Geochimica et Cosmochimica Acta, 1970, Vol. 34, pp. 1039 to 1106.","Model Lead And Radiometric Ages","Pb-206_09","C:\\Essays\\Geo_Dating\\Lead_206_207\\Pb-206_09.pdf","Pb-207/Pb-206",6461.6188581689057,6338.4899223805687,123.128935788337,6385.8373019924884,null,null,32,null,null,32]
[8,"Geochimica et Cosmochimica Acta, Vol. 45. pp. 635 to 645, 1981","U-Th-Pb Systematics","Pb-206_12","C:\\Essays\\Geo_Dating\\Lead_206_207\\Pb-206_12.pdf","Pb-207/Pb-206",4747.1667854889474,2567.626081575736,2179.5407039132115,3774.7311989562645,2,null,null,null,null,2]
[9,"Geochimica et Cosmochimica Acta, Vol. 62, No. 21/22, pp. 3527–3540, 1998","The Influence of High U-Th","Pb-206_13","C:\\Essays\\Geo_Dating\\Lead_206_207\\Pb-206_13.pdf","Pb-207/Pb-206",5042.3004571523506,1325.1586943238447,3717.1417628285062,4179.6559471161227,8,1,null,null,null,9]
[9,"Geochimica et Cosmochimica Acta, Vol. 62, No. 21/22, pp. 3527–3540, 1998","The Influence of High U-Th","Pb-206_13","C:\\Essays\\Geo_Dating\\Lead_206_207\\Pb-206_13.pdf","Pb-206⁄U-238",14007.743347241527,177.34887867644906,13830.394468565079,1620.7380438168314,null,null,null,1,null,1]
[9,"Geochimica et Cosmochimica Acta, Vol. 62, No. 21/22, pp. 3527–3540, 1998","The Influence of High U-Th","Pb-206_13","C:\\Essays\\Geo_Dating\\Lead_206_207\\Pb-206_13.pdf","Pb-208/Th-232",37154.259564917855,160.96350381065614,36993.296061107198,4084.0780074447539,null,null,null,null,1,1]
[9,"Geochimica et Cosmochimica Acta, Vol. 62, No. 21/22, pp. 3527–3540, 1998","The Influence of High U-Th","Pb-206_13","C:\\Essays\\Geo_Dating\\Lead_206_207\\Pb-206_13.pdf","Pb-206⁄U-238",29040.11258249942,270.48862272941761,28769.623959770001,5341.968525240397,null,null,2,1,1,4]
[9,"Geochimica et Cosmochimica Acta, Vol. 62, No. 21/22, pp. 3527–3540, 1998","The Influence of High U-Th","Pb-206_13","C:\\Essays\\Geo_Dating\\Lead_206_207\\Pb-206_13.pdf","Pb-208/Th-232",14316.140942057915,287.90908407649141,14028.231857981424,3578.8079169266875,null,null,null,2,null,2]
[9,"Geochimica et Cosmochimica Acta, Vol. 62, No. 21/22, pp. 3527–3540, 1998","The Influence of High U-Th","Pb-206_13","C:\\Essays\\Geo_Dating\\Lead_206_207\\Pb-206_13.pdf","Pb-207/Pb-206",4999.7813354625805,3923.9568709279497,1075.8244645346308,4708.8830514306337,9,null,null,null,null,9]
[10,"Geochimica et Cosmochimica Acta, Vol. 63, No. 3/4, pp. 473–488, 1999","Pb-Pb and Sm-Nd Isotope Results","Pb-206_14","C:\\Essays\\Geo_Dating\\Lead_206_207\\Pb-206_14.pdf","Pb-207/Pb-206",5402.4852519484302,4342.0632032699568,1060.4220486784734,5173.1152076035014,4,26,null,null,null,30]
[11,"Geochimica et Cosmochimica Acta, Vol. 61, No. 8, pp. 1713-1731, 1997","Ages Of Basaltic Achondrites","Pb-206_15","C:\\Essays\\Geo_Dating\\Lead_206_207\\Pb-206_15.pdf","Pb-207/Pb-206",5135.1394415456716,4556.7507625183289,578.38867902734273,4940.851957553411,19,7,null,null,null,26]
[11,"Geochimica et Cosmochimica Acta, Vol. 61, No. 8, pp. 1713-1731, 1997","Ages Of Basaltic Achondrites","Pb-206_15","C:\\Essays\\Geo_Dating\\Lead_206_207\\Pb-206_15.pdf","Pb-207/Pb-206",5081.4187069368072,4370.5281547465684,710.89055219023885,4685.6297564814267,14,3,null,null,null,17]
[12,"Geochimica et Cosmochimica Acta, 1992, Vol. 56, pp. 347-368","New Aspects Of Dating Eclogites","Pb-206_16","C:\\Essays\\Geo_Dating\\Lead_206_207\\Pb-206_16.pdf","Pb-207/Pb-206",5066.4987943298192,4986.9221940419675,79.576600287851761,5016.1668868048901,11,11,null,null,null,22]
[13,"Geochimica et Cosmochimica Acta, Vol. 61, No. 23, pp. 5005-5022, 1997","Dating Scheelite Stages","Pb-206_17","C:\\Essays\\Geo_Dating\\Lead_206_207\\Pb-206_17.pdf","Pb-207/Pb-206",5025.9049281329508,3830.5378647307739,1195.3670634021769,4914.3615745498346,4,13,null,null,null,17]
[14,"Earth and Planetary Sctence Letters, 113 (1992) 107-128","Sr, Nd, and Pb Isotopes","Pb-206_18","C:\\Essays\\Geo_Dating\\Lead_206_207\\Pb-206_18.pdf","Pb-207/Pb-206",5076.5830286010323,4945.1560080139889,131.42702058704344,5013.6565460258935,18,32,null,null,null,50]
[14,"Earth and Planetary Sctence Letters, 113 (1992) 107-128","Sr, Nd, and Pb Isotopes","Pb-206_18","C:\\Essays\\Geo_Dating\\Lead_206_207\\Pb-206_18.pdf","Pb-206⁄U-238",22200.704611067998,58.131890392618331,22142.57272067538,6853.117731156869,2,5,16,5,2,30]
[15,"Earth and Planetary Science Letters 174 (1999) 75-80","U-Pb Dating Of A Fossil Tooth","Pb-206_19","C:\\Essays\\Geo_Dating\\Lead_206_207\\Pb-206_19.pdf"]
[16,"Geochimica et Cosmochimica Acta 73 (2009) 469–488","Pb/Pb Geochronology","Pb-206_22","C:\\Essays\\Geo_Dating\\Lead_206_207\\Pb-206_22.pdf","Pb-207/Pb-206",5860.2015794846566,4397.0179927833351,1463.1835867013215,5506.9949094045032,null,22,null,null,null,{"$f":"SUM(K28:O28)","v":22}]
[17,"Geochimica et Cosmochimica Acta 72 (2008) 5799–5818","U, Th And Pb Isotope Compositions","Pb-206_23","C:\\Essays\\Geo_Dating\\Lead_206_207\\Pb-206_23.pdf","Pb-207/Pb-206",5007.9924058843444,4871.4812808926517,136.51112499169267,4915.2734307310293,22,3,null,null,null,25]
[17,"Geochimica et Cosmochimica Acta 72 (2008) 5799–5818","U, Th And Pb Isotope Compositions","Pb-206_23","C:\\Essays\\Geo_Dating\\Lead_206_207\\Pb-206_23.pdf","Pb-208/Th-232",42037.681237435281,1938.6895331083174,40098.991704326967,8096.5160602029064,1,1,null,4,2,8]
[17,"Geochimica et Cosmochimica Acta 72 (2008) 5799–5818","U, Th And Pb Isotope Compositions","Pb-206_23","C:\\Essays\\Geo_Dating\\Lead_206_207\\Pb-206_23.pdf","Pb-206⁄U-238",15306.784986236808,1436.9629029068892,13869.822083329918,4270.62832899369,null,1,1,3,null,5]
[18,"Geochimica et Cosmochimica Acta, Vol. 62, No. 16, pp. 2823–2835, 1998","Using The U-Pb System","Pb-206_24","C:\\Essays\\Geo_Dating\\Lead_206_207\\Pb-206_24.pdf","Pb-207/Pb-206",4982.0582951504057,4024.3563212755148,957.70197387489088,4615.9225938287718,34,null,null,null,null,34]
[19,"Geochimica et Cosmochimica Acta 71 (2007) 5514–5527","Pb Isotopic Compositions Of Rocks","Pb-206_25","C:\\Essays\\Geo_Dating\\Lead_206_207\\Pb-206_25.pdf","Pb-207/Pb-206",5265.0415677686033,5054.7901025677256,210.25146520087765,5243.3608635329147,null,113,null,null,null,113]
[null,null,null,null,null,null,null,null,null,null,{"$f":"SUM(K1:K33)","v":176},384,57,18,7,642]

{"sheet":"Pb-206_01","index":1,"n_rows":12,"n_cols":20,"rows_kept":12,"cut":false,"hidden":false,"merged":[]}
[null,null,null,null,null,null,null,null,null,null,null,"207Pb","207Pb",null,null,null,"206Pb"]
[null,null,null,null,null,null,null,"Pb-207/206","Pb-207/206",null,null,"235U","235U",null,null,null,"238U",null,null,"Earth and Planetary Science Letters 258 (2007) 160–174"]
[null,null,null,null,null,null,null,"Ratio","Ages",null,null,"Ratio","Age",null,null,null,"Age"]
["IT.Z02",4.5999999999999996,765,0.9,0.55000000000000004,360.9,1.6,6.6699999999999995E-2,{"$f":"[1]!AgePb76($H$4)","v":828.42010310836451},1.39E-3,2.1,1.72E-2,{"$f":"[1]!AgePb7U5(L4)","v":17.316093380542846},2.7000000000000001E-3,1.2,0.74,17.399999999999999,0.2]
["IT.Z03",7.4,797,1.1000000000000001,0.5,360.1,2.6,6.1899999999999997E-2,{"$f":"[1]!AgePb76($H$5)","v":670.65559810766626},1.07E-3,11.7,1.7299999999999999E-2,{"$f":"[1]!AgePb7U5(L5)","v":17.415909851820743},2.7200000000000002E-3,2,7.0000000000000007E-2,17.5,0.3]
["IT.Z04",4.5,1686,1.1000000000000001,0.55000000000000004,366.9,0.8,5.8400000000000001E-2,{"$f":"[1]!AgePb76($H$6)","v":544.80066569742303},8.4000000000000003E-4,4,1.7000000000000001E-2,{"$f":"[1]!AgePb7U5(L6)","v":17.116430996012394},2.6800000000000001E-3,0.6,0.6,17.3,0.1]
["IT.Z05",6,928,1.1000000000000001,0.54,362,1,6.3399999999999998E-2,{"$f":"[1]!AgePb76($H$7)","v":721.67564321929353},1.16E-3,1.1000000000000001,1.7299999999999999E-2,{"$f":"[1]!AgePb7U5(L7)","v":17.415909851820743},2.7000000000000001E-3,0.8,0.73,17.399999999999999,0.1]
["IT.Z06",3.2,2995,2.1,0.64,361.7,0.7,6.5000000000000002E-2,{"$f":"[1]!AgePb76($H$8)","v":774.33646950705031},1.24E-3,1,1.7399999999999999E-2,{"$f":"[1]!AgePb7U5(L8)","v":17.515716511679617},2.7000000000000001E-3,0.6,0.63,17.399999999999999,0.1]
["IT.Z07",3.9,629,1.2,0.66,349.7,0.5,8.4699999999999998E-2,{"$f":"[1]!AgePb76($H$9)","v":1308.6792754455898},2.5999999999999999E-3,1,1.7500000000000002E-2,{"$f":"[1]!AgePb7U5(L9)","v":17.615513362048102},2.7200000000000002E-3,0.4,0.54,17.5,0.1]
["IT.Z08",4.0999999999999996,734,1.3,0.56000000000000005,352.7,1,8.2100000000000006E-2,{"$f":"[1]!AgePb76($H$10)","v":1247.9031092457326},2.4299999999999999E-3,3.9,1.7299999999999999E-2,{"$f":"[1]!AgePb7U5(L10)","v":17.415909851820743},2.7100000000000002E-3,0.8,0.44,17.399999999999999,0.1]
["IT.Z09",7.9,619,5,0.51,329.7,13.3,0.12970000000000001,{"$f":"[1]!AgePb76($H$11)","v":2093.9035041569846},5.3200000000000001E-3,7.8,1.9599999999999999E-2,{"$f":"[1]!AgePb7U5(L11)","v":19.708984637075073},2.7299999999999998E-3,10.3,0.14000000000000001,17.600000000000001,1.8]
["IT.Z12",4.3,909,1.6,0.59,353.9,0.4,8.1299999999999997E-2,{"$f":"[1]!AgePb76($H$12)","v":1228.7058723210946},2.33E-3,4.0999999999999996,1.7500000000000002E-2,{"$f":"[1]!AgePb7U5(L12)","v":17.615513362048102},2.7000000000000001E-3,0.4,0.6,17.399999999999999,0.4]

{"sheet":"Pb-206_02","index":2,"n_rows":36,"n_cols":11,"rows_kept":36,"cut":false,"hidden":false,"merged":[]}
["Sample b","206pb/ 204 Pb",null,"207pb/ 204 Pb",null,"208 pb/ 204 Pb",null,"Pb-207/206","Pb-207/206",null,"Earth and Planetary Science Letters 142 (1996) 501-512"]
["Feldspars DKM-15-90",null,null,null,null,null,null,"Ratio","Ages"]
["1 R",13.601000000000001,1E-3,14.64,2E-3,33.423000000000002,4.0000000000000001E-3,{"$f":"(D3/B3)","v":1.0763914418057496},{"$f":"[1]!AgePb76($H$3)","v":5340.598218658457}]
["1 L",13.954000000000001,0.02,14.744999999999999,2.1000000000000001E-2,33.805,4.7E-2,{"$f":"(D4/B4)","v":1.0566862548373226},{"$f":"[1]!AgePb76($H$4)","v":5314.7294893943163}]
["1L (MS rep.)",13.952,1.7000000000000001E-2,14.739000000000001,1.7999999999999999E-2,33.756999999999998,4.1000000000000002E-2,1.0564076834862386,{"$f":"[1]!AgePb76($H$5)","v":5314.360145206766}]
["2R",13.538,8.9999999999999993E-3,14.635,8.9999999999999993E-3,33.417000000000002,2.1000000000000001E-2,1.0810311715172107,{"$f":"[1]!AgePb76($H$6)","v":5346.6165323649439}]
["3R",13.528,1E-3,14.609,2E-3,33.354999999999997,4.0000000000000001E-3,1.0799083382613837,{"$f":"[1]!AgePb76($H$7)","v":5345.1625787106423}]
["3L1",14.917,1E-3,15.007,2E-3,35.014000000000003,3.0000000000000001E-3,1.006033384728833,{"$f":"[1]!AgePb76($H$8)","v":5245.8233676837472}]
["3L2",13.692,5.0000000000000001E-3,14.676,6.0000000000000001E-3,33.581000000000003,1.4E-2,1.0718667835232252,{"$f":"[1]!AgePb76($H$9)","v":5334.7027530166824}]
["SR",13.61,4.0000000000000001E-3,14.637,5.0000000000000001E-3,33.429000000000002,8.9999999999999993E-3,1.0754592211609111,{"$f":"[1]!AgePb76($H$10)","v":5339.3857099453326}]
["5L",13.951000000000001,1.2E-2,14.726000000000001,1.4E-2,33.820999999999998,3.4000000000000002E-2,1.0555515733639167,{"$f":"[1]!AgePb76($H$11)","v":5313.2244267850801}]
["6R",13.747,4.0000000000000001E-3,14.683999999999999,4.0000000000000001E-3,33.555999999999997,1.0999999999999999E-2,1.0681603258892849,{"$f":"[1]!AgePb76($H$12)","v":5329.8537768795804}]
["6L",14.505000000000001,1.7000000000000001E-2,14.811,1.9E-2,34.091000000000001,5.0999999999999997E-2,1.0210961737331954,{"$f":"[1]!AgePb76($H$13)","v":5266.690201442706}]
["7R",13.561,3.0000000000000001E-3,14.61,3.0000000000000001E-3,33.345999999999997,7.0000000000000001E-3,1.0773541774205442,{"$f":"[1]!AgePb76($H$14)","v":5341.8492550127476}]
["71.",14.242000000000001,1.7000000000000001E-2,14.747999999999999,2.1000000000000001E-2,34.021000000000001,5.0999999999999997E-2,1.0355287178767025,{"$f":"[1]!AgePb76($H$15)","v":5286.3811072023937}]
["8R",13.545999999999999,2E-3,14.631,2E-3,33.427,7.0000000000000001E-3,1.08009744574044,{"$f":"[1]!AgePb76($H$16)","v":5345.4075650900459}]
["R d",13.78,null,14.647,null,33.523000000000003,null,1.0629172714078374,{"$f":"[1]!AgePb76($H$17)","v":5322.9641423744461}]
["R d",13.676,null,14.622999999999999,null,33.454000000000001,null,1.06924539338988,{"$f":"[1]!AgePb76($H$18)","v":5331.2751527876017}]
["DKM-16-90 d",13.853999999999999,null,14.679,null,33.770000000000003,null,1.0595495885664792,{"$f":"[1]!AgePb76($H$19)","v":5318.5198983666478}]
["DKM-17-90 d",14.143000000000001,null,14.743,null,33.945,null,1.0424238139008697,{"$f":"[1]!AgePb76($H$20)","v":5295.6863004702145}]
[3,20.576000000000001,2.1000000000000001E-2,15.782999999999999,1.7999999999999999E-2,39.247,4.8000000000000001E-2,0.76705870917573871,{"$f":"[1]!AgePb76($H$21)","v":4861.767840573656}]
["13 d",19.7,null,15.6,null,39.790999999999997,null,0.79187817258883253,{"$f":"[1]!AgePb76($H$22)","v":4907.1985239082969}]
["15 e",17.552,"0nin",15.301,4.0000000000000001E-3,37.198,3.9E-2,0.8717525068368277,{"$f":"[1]!AgePb76($H$23)","v":5043.7395913150622}]
["17 d",18.134,null,15.381,null,37.603000000000002,null,0.84818572846586526,{"$f":"[1]!AgePb76($H$24)","v":5004.8834911288059}]
["18 d",18.587,null,15.477,null,38.112000000000002,null,0.83267875396782698,{"$f":"[1]!AgePb76($H$25)","v":4978.6854346676719}]
["21 '",18.972000000000001,1.0999999999999999E-2,15.438000000000001,1.6E-2,38.005000000000003,0.04,0.81372549019607843,{"$f":"[1]!AgePb76($H$26)","v":4945.9517659769754}]
[22,18.922000000000001,3.0000000000000001E-3,15.568,3.0000000000000001E-3,39.198,8.0000000000000002E-3,0.82274600993552471,{"$f":"[1]!AgePb76($H$27)","v":4961.6308241611478}]
["23 e",17.957000000000001,1.2E-2,15.372999999999999,4.0000000000000001E-3,37.825000000000003,5.0000000000000001E-3,0.85610068496964964,{"$f":"[1]!AgePb76($H$28)","v":5018.0598846440598}]
[23,17.940000000000001,3.0000000000000001E-3,15.356999999999999,3.0000000000000001E-3,37.779000000000003,7.0000000000000001E-3,0.85602006688963206,{"$f":"[1]!AgePb76($H$29)","v":5017.9263291084899}]
[29,18.492000000000001,7.0000000000000001E-3,15.468,6.0000000000000001E-3,38.500999999999998,1.4E-2,0.83646982478909793,{"$f":"[1]!AgePb76($H$30)","v":4985.137796962671}]
["30 d",19.065999999999999,null,15.552,null,38.46,null,0.81569285639358025,{"$f":"[1]!AgePb76($H$31)","v":4949.3870585590548}]
[32,18.271999999999998,5.0000000000000001E-3,15.407999999999999,4.0000000000000001E-3,39.436,1.2E-2,0.84325744308231176,{"$f":"[1]!AgePb76($H$32)","v":4996.6130064093441}]
[null,null,null,null,null,null,null,"AVG",{"$f":"AVERAGE(I3:I32)","v":5180.1404056269184}]
[null,null,null,null,null,null,null,"MAX",{"$f":"MAX(I3:I32)","v":5346.6165323649439}]
[null,null,null,null,null,null,null,"MIN",{"$f":"MIN(I3:I32)","v":4861.767840573656}]
[null,null,null,null,null,null,null,"STD DEV",{"$f":"STDEV(I3:I32)","v":176.59461746392722}]

{"sheet":"Pb-206_04","index":3,"n_rows":49,"n_cols":8,"rows_kept":49,"cut":false,"hidden":false,"merged":[]}
[null,null,null,null,null,null,null,"Earth and Planetary Science Letters, 91 (1989) 286-296"]
[]
[null,"Pb-207/206","Pb-207/206","Pb-207/206","Pb-207/206"]
["Group a ","Ratio","Ages","Ratio","Ages"]
["15 medium (yes) no",0.26300000000000001,{"$f":"[1]!AgePb76($B$5)","v":3264.7667847900566},0.27300000000000002,{"$f":"[1]!AgePb76($D$5)","v":3323.341099159376}]
[4,0.26400000000000001,{"$f":"[1]!AgePb76($B$6)","v":3270.735716418259},0.27100000000000002,{"$f":"[1]!AgePb76($D$6)","v":3311.8207086661791}]
[1,0.27100000000000002,{"$f":"[1]!AgePb76($B$7)","v":3311.8207086661791},0.27200000000000002,{"$f":"[1]!AgePb76($D$7)","v":3317.5927642964702}]
[39,0.27500000000000002,{"$f":"[1]!AgePb76($B$8)","v":3334.7673630967884},0.27700000000000002,{"$f":"[1]!AgePb76($D$8)","v":3346.1009913007279}]
["Group b "]
[38,0.27800000000000002,{"$f":"[1]!AgePb76($B$10)","v":3351.7335233503309},0.28100000000000003,{"$f":"[1]!AgePb76($D$10)","v":3368.496131059198}]
[13,0.27600000000000002,{"$f":"[1]!AgePb76($B$11)","v":3340.4456648595719},0.28199999999999997,{"$f":"[1]!AgePb76($D$11)","v":3374.0392532116202}]
[6,0.27900000000000003,{"$f":"[1]!AgePb76($B$12)","v":3357.3434398328068},0.28299999999999997,{"$f":"[1]!AgePb76($D$12)","v":3379.5604546755717}]
[7,0.27800000000000002,{"$f":"[1]!AgePb76($B$13)","v":3351.7335233503309},0.28100000000000003,{"$f":"[1]!AgePb76($D$13)","v":3368.496131059198}]
[22,0.27200000000000002,{"$f":"[1]!AgePb76($B$14)","v":3317.5927642964702},0.28299999999999997,{"$f":"[1]!AgePb76($D$14)","v":3379.5604546755717}]
[24,0.26900000000000002,{"$f":"[1]!AgePb76($B$15)","v":3300.2046649267031},0.28399999999999997,{"$f":"[1]!AgePb76($D$15)","v":3385.059904220082}]
[35,0.27700000000000002,{"$f":"[1]!AgePb76($B$16)","v":3346.1009913007279},0.28399999999999997,{"$f":"[1]!AgePb76($D$16)","v":3385.059904220082}]
[8,0.28299999999999997,{"$f":"[1]!AgePb76($B$17)","v":3379.5604546755717}]
[20,0.27400000000000002,{"$f":"[1]!AgePb76($B$18)","v":3329.0659029436893},0.28399999999999997,{"$f":"[1]!AgePb76($D$18)","v":3385.059904220082}]
[40,0.26700000000000002,{"$f":"[1]!AgePb76($B$19)","v":3288.4914042305595},0.28399999999999997,{"$f":"[1]!AgePb76($D$19)","v":3385.059904220082}]
[19,0.28100000000000003,{"$f":"[1]!AgePb76($B$20)","v":3368.496131059198},0.28499999999999998,{"$f":"[1]!AgePb76($D$20)","v":3390.5377686935512}]
[29,0.28399999999999997,{"$f":"[1]!AgePb76($B$21)","v":3385.059904220082},0.28499999999999998,{"$f":"[1]!AgePb76($D$21)","v":3390.5377686935512}]
[21,0.25800000000000001,{"$f":"[1]!AgePb76($B$22)","v":3234.5347782956233},0.28599999999999998,{"$f":"[1]!AgePb76($D$22)","v":3395.9942130525992}]
[32,0.28399999999999997,{"$f":"[1]!AgePb76($B$23)","v":3385.059904220082},0.28699999999999998,{"$f":"[1]!AgePb76($D$23)","v":3401.4294003903633}]
[42,0.28299999999999997,{"$f":"[1]!AgePb76($B$24)","v":3379.5604546755717},0.28699999999999998,{"$f":"[1]!AgePb76($D$24)","v":3401.4294003903633}]
[12,0.28399999999999997,{"$f":"[1]!AgePb76($B$25)","v":3385.059904220082},0.28599999999999998,{"$f":"[1]!AgePb76($D$25)","v":3395.9942130525992}]
[30,0.28499999999999998,{"$f":"[1]!AgePb76($B$26)","v":3390.5377686935512},0.28699999999999998,{"$f":"[1]!AgePb76($D$26)","v":3401.4294003903633}]
[17,0.28499999999999998,{"$f":"[1]!AgePb76($B$27)","v":3390.5377686935512},0.28699999999999998,{"$f":"[1]!AgePb76($D$27)","v":3401.4294003903633}]
[25,0.27500000000000002,{"$f":"[1]!AgePb76($B$28)","v":3334.7673630967884},0.28699999999999998,{"$f":"[1]!AgePb76($D$28)","v":3401.4294003903633}]
["Group c "]
[31,0.28999999999999998,{"$f":"[1]!AgePb76($B$30)","v":3417.6090238348888},0.29299999999999998,{"$f":"[1]!AgePb76($D$30)","v":3433.6030322809297}]
[9,0.29399999999999998,{"$f":"[1]!AgePb76($B$31)","v":3438.8938362517174},0.29499999999999998,{"$f":"[1]!AgePb76($D$31)","v":3444.1646240894643}]
[28,0.27200000000000002,{"$f":"[1]!AgePb76($B$32)","v":3317.5927642964702},0.29399999999999998,{"$f":"[1]!AgePb76($D$32)","v":3438.8938362517174}]
[27,0.28199999999999997,{"$f":"[1]!AgePb76($B$33)","v":3374.0392532116202},0.29399999999999998,{"$f":"[1]!AgePb76($D$33)","v":3438.8938362517174}]
[34,0.27,{"$f":"[1]!AgePb76($B$34)","v":3306.0247403026628},0.29599999999999999,{"$f":"[1]!AgePb76($D$34)","v":3449.4155433067344}]
[37,0.28899999999999998,{"$f":"[1]!AgePb76($B$35)","v":3412.2366472233448},0.29699999999999999,{"$f":"[1]!AgePb76($D$35)","v":3454.6467398085929}]
[18,0.29799999999999999,{"$f":"[1]!AgePb76($B$36)","v":3459.8583579157316},0.3,{"$f":"[1]!AgePb76($D$36)","v":3470.2234284426036}]
[16,0.30199999999999999,{"$f":"[1]!AgePb76($B$37)","v":3480.5118786183266},0.30299999999999999,{"$f":"[1]!AgePb76($D$37)","v":3485.6277156764272}]
[36,0.29099999999999998,{"$f":"[1]!AgePb76($B$38)","v":3422.9607777108367},0.30399999999999999,{"$f":"[1]!AgePb76($D$38)","v":3490.7248082360275}]
[33,0.28599999999999998,{"$f":"[1]!AgePb76($B$39)","v":3395.9942130525992},0.30399999999999999,{"$f":"[1]!AgePb76($D$39)","v":3490.7248082360275}]
[3,0.30599999999999999,{"$f":"[1]!AgePb76($B$40)","v":3500.8632938218211},0.309,{"$f":"[1]!AgePb76($D$40)","v":3515.9337390309074}]
[10,0.29499999999999998,{"$f":"[1]!AgePb76($B$41)","v":3444.1646240894643},0.308,{"$f":"[1]!AgePb76($D$41)","v":3510.9283892823992}]
[14,0.312,{"$f":"[1]!AgePb76($B$42)","v":3530.8425160881548},0.316,{"$f":"[1]!AgePb76($D$42)","v":3550.4751907533769}]
[2,0.312,{"$f":"[1]!AgePb76($B$43)","v":3530.8425160881548},0.315,{"$f":"[1]!AgePb76($D$43)","v":3545.5929829588158}]
["Group d "]
[23,0.32700000000000001,{"$f":"[1]!AgePb76($B$45)","v":3603.075405177196},0.44800000000000001,{"$f":"[1]!AgePb76($D$45)","v":4078.5807193294941}]
[5,0.44700000000000001,{"$f":"[1]!AgePb76($B$46)","v":4075.2552464579835},0.45200000000000001,{"$f":"[1]!AgePb76($D$46)","v":4091.8022820038818}]
[41,0.42799999999999999,{"$f":"[1]!AgePb76($B$47)","v":4010.4846811463331},0.46,{"$f":"[1]!AgePb76($D$47)","v":4117.8676264193846}]
[11,0.38100000000000001,{"$f":"[1]!AgePb76($B$48)","v":3835.7378079452837},0.46200000000000002,{"$f":"[1]!AgePb76($D$48)","v":4124.3069623254332}]
[26,0.35799999999999998,{"$f":"[1]!AgePb76($B$49)","v":3741.3888380696385},0.47799999999999998,{"$f":"[1]!AgePb76($D$49)","v":4174.7561339640624}]

{"sheet":"Pb-206_05","index":4,"n_rows":79,"n_cols":14,"rows_kept":79,"cut":false,"hidden":false,"merged":[]}
["\n154 J. Blichert-Toft et al. / Earth and Planetary Science Letters 300 (2010) 152-163\n\nTable 1\nBlank-corrected Pb isotope compositions of troilite inclusions in iron meteorites.",null,null,null,null,null,null,null,"Pb-207/206","Pb-207/206"]
["Samples","Type","Collection","Sample weight (g)","Sample ID","ng Pb","204Pb/206Pb","2s%","Ratio","Ages","208Pb/206Pb","2s%",null,"Earth and Planetary Science Letters 300 (2010) 152–163"]
["Canyon Diablo #2619","IAB-IIICD","AMNH",1.1948000000000001,"CD-AMNH2619-L1-N1",">100",6.5394999999999995E-2,1.8E-3,0.89354,{"$f":"[1]!AgePb76($I$3)","v":5078.6829169020466},2.3012999999999999,3.4000000000000002E-2]
[null,null,null,null,"CD-AMNH2619-L2-N1",">100",6.7745E-2,2.8E-3,0.90568000000000004,{"$f":"[1]!AgePb76($I$4)","v":5097.7634462431979},2.35039,5.5E-2]
[null,null,null,null,"CD-AMNH2619-L3-N1",">100",6.8301000000000001E-2,2.5999999999999999E-3,0.90886999999999996,{"$f":"[1]!AgePb76($I$5)","v":5102.7322230590471},2.3616600000000001,5.0999999999999997E-2]
[null,null,null,null,"CD-AMNH2619-L4-N1",">100",7.2979000000000002E-2,2.7000000000000001E-3,0.93284,{"$f":"[1]!AgePb76($I$6)","v":5139.4871663783451},2.4599099999999998,5.2999999999999999E-2]
[null,null,null,null,"CD-AMNH2619-L5-N1",">100",9.2635999999999996E-2,7.1000000000000004E-3,1.0328900000000001,{"$f":"[1]!AgePb76($I$7)","v":5282.802735371044},2.8686699999999998,0.14699999999999999]
[null,null,null,null,"CD-AMNH2619-L6-N1",98,9.4402E-2,8.5000000000000006E-3,1.04088,{"$f":"[1]!AgePb76($I$8)","v":5293.6085232331252},2.8996300000000002,0.17299999999999999]
[null,null,null,null,"CD-AMNH2619-L7-CHF",5,8.3922999999999998E-2,0.12590000000000001,0.98934999999999995,{"$f":"[1]!AgePb76($I$9)","v":5222.3225763611263},2.6871800000000001,2.569]
[null,null,null,null,"CD-AMNH2619-L8-CHC",3,7.9740000000000005E-2,0.2102,0.96880999999999995,{"$f":"[1]!AgePb76($I$10)","v":5192.8069239553843},2.6038100000000002,4.258]
["Canyon Diablo #9","IAB–IIICD","AMNH",0.60799999999999998,"CD-AMNH9-B-L1-N1",">100",5.5851999999999999E-2,6.9999999999999999E-4,0.85177999999999998,{"$f":"[1]!AgePb76($I$11)","v":5010.8831553671334},2.1103299999999998,6.0000000000000001E-3]
[null,null,null,null,"CD-AMNH9-B-L2-N1",">100",5.5732999999999998E-2,4.0000000000000002E-4,0.85091000000000006,{"$f":"[1]!AgePb76($I$12)","v":5009.4333954867952},2.1094200000000001,3.0000000000000001E-3]
[null,null,null,null,"CD-AMNH9-B-R-CN",">100",5.8351E-2,5.9999999999999995E-4,0.86348000000000003,{"$f":"[1]!AgePb76($I$13)","v":5030.228570407362},2.1646800000000002,0.01]
["Canyon Diablo (Tilton)","IAB–IIICD","CIW",0.66569999999999996,"CD-Til-A-L1-N1",">100",8.6440000000000003E-2,7.4999999999999997E-3,0.98860000000000003,{"$f":"[1]!AgePb76($I$14)","v":5221.2562810523432},2.7266499999999998,0.151]
[null,null,null,null,"CD-Til-A-L1-N1-rr",">100",8.6393999999999999E-2,8.0000000000000002E-3,0.98850000000000005,{"$f":"[1]!AgePb76($I$15)","v":5221.114043723097},2.7264699999999999,0.16200000000000001]
[null,null,null,null,"CD-Til-A-L2-N1",">100",0.106115,1.0500000000000001E-2,1.10053,{"$f":"[1]!AgePb76($I$16)","v":5371.614589537754},3.1442600000000001,0.216]
[null,null,null,null,"CD-Til-A-L2-N1-rr",">100",0.106114,1.47E-2,1.1004499999999999,{"$f":"[1]!AgePb76($I$17)","v":5371.512984091908},3.1451600000000002,0.30199999999999999]
[null,null,null,null,"CD-Til-A-R-CN",">100",0.106375,1.0800000000000001E-2,1.1021399999999999,{"$f":"[1]!AgePb76($I$18)","v":5373.6577455566576},3.1491500000000001,0.219]
[null,null,null,null,"CD-Til-A-R-CN-rr",">100",0.106486,1.2E-2,1.10246,{"$f":"[1]!AgePb76($I$19)","v":5374.0634638176771},3.1532,0.246]
["Mundrabilla #63692","IAB–IIICD","Mainz",3.4578000000000002,"Mun63-G-L1-N1",25,6.4133999999999997E-2,7.1000000000000004E-3,0.88963999999999999,{"$f":"[1]!AgePb76($I$20)","v":5072.4948685774025},2.2389700000000001,0.111]
[null,null,null,null,"Mun63-G-L2-N1",21,6.4381999999999995E-2,9.1000000000000004E-3,0.90517000000000003,{"$f":"[1]!AgePb76($I$21)","v":5096.9673452811203},2.2858900000000002,0.18]
[null,null,null,null,"Mun63-G-L3-N1",8,6.2892000000000003E-2,2.1100000000000001E-2,0.89785999999999999,{"$f":"[1]!AgePb76($I$22)","v":5085.5040242543546},2.2555100000000001,0.41599999999999998]
[null,null,null,null,"Mun63-G-R-CN",7,6.4542000000000002E-2,3.0800000000000001E-2,0.90425999999999995,{"$f":"[1]!AgePb76($I$23)","v":5095.5456695827852},2.2871100000000002,0.60099999999999998]
["Mundrabilla #77992","IAB–IIICD","Mainz",3.7738999999999998,"Mun77-F-L1-N1",">100",8.7597999999999995E-2,8.8000000000000005E-3,1.0160899999999999,{"$f":"[1]!AgePb76($I$24)","v":5259.7913226145001},2.7496900000000002,0.17799999999999999]
[null,null,null,null,"Mun77-F-L2-N1",">100",9.7608E-2,7.0000000000000001E-3,1.0618799999999999,{"$f":"[1]!AgePb76($I$25)","v":5321.5968675045197},2.9607600000000001,0.14199999999999999]
[null,null,null,null,"Mun77-F-L3-N1",">100",9.6623000000000001E-2,1.15E-2,1.0993900000000001,{"$f":"[1]!AgePb76($I$26)","v":5370.1659762772861},3.0802800000000001,0.27]
[null,null,null,null,"Mun77-F-R-CN",">100",0.10363799999999999,1.0699999999999999E-2,1.08707,{"$f":"[1]!AgePb76($I$27)","v":5354.408974647341},3.0796000000000001,0.216]
["Nantan K","IAB–IIICD","Alain Carion",4.6931000000000003,"Nan-K-L1 -N1",">100",9.9561999999999998E-2,8.0000000000000002E-3,1.06803,{"$f":"[1]!AgePb76($I$28)","v":5329.6829550046159},3.0076700000000001,0.16300000000000001]
[null,null,null,null,"Nan-K-L2-N1",">100",0.10541399999999999,1.2699999999999999E-2,1.09694,{"$f":"[1]!AgePb76($I$29)","v":5367.0473620276889},3.1285799999999999,0.25900000000000001]
[null,null,null,null,"Nan-K-L3-N1",">100",0.106794,1.1299999999999999E-2,1.1037399999999999,{"$f":"[1]!AgePb76($I$30)","v":5375.6850963082961},3.1568100000000001,0.23200000000000001]
[null,null,null,null,"Nan-K-R-CN",">100",0.107401,1.18E-2,1.10734,{"$f":"[1]!AgePb76($I$31)","v":5380.2353307518233},3.1722600000000001,0.24099999999999999]
["Nantan N1","IAB–IIICD","Alain Carion",2.2208000000000001,"N1-L1-N1",">100",9.1516E-2,6.3E-3,1.02718,{"$f":"[1]!AgePb76($I$32)","v":5275.0262283153525},2.8384,0.128]
[null,null,null,null,"N1-L2-N1",">100",0.105476,9.7999999999999997E-3,1.09754,{"$f":"[1]!AgePb76($I$33)","v":5367.8117828232662},3.1314000000000002,0.20300000000000001]
[null,null,null,null,"N1-L3-N1",">100",0.106859,1.14E-2,1.1047199999999999,{"$f":"[1]!AgePb76($I$34)","v":5376.9253192668275},3.1614,0.23400000000000001]
[null,null,null,null,"N1 -L4-N1",">100",0.10738,1.23E-2,1.1070899999999999,{"$f":"[1]!AgePb76($I$35)","v":5379.9198464344472},3.1711399999999998,0.252]
[null,null,null,null,"N1-L5-N1",">100",0.10727100000000001,1.1599999999999999E-2,1.1066499999999999,{"$f":"[1]!AgePb76($I$36)","v":5379.3644115981087},3.1695600000000002,0.23699999999999999]
[null,null,null,null,"N1-L6-N1",">100",0.10731499999999999,1.14E-2,1.1068499999999999,{"$f":"[1]!AgePb76($I$37)","v":5379.6169108310305},3.1699600000000001,0.23400000000000001]
[null,null,null,null,"N1-L7-CN",">100",0.10734299999999999,9.4000000000000004E-3,1.1069500000000001,{"$f":"[1]!AgePb76($I$38)","v":5379.74314241293},3.1702900000000001,0.193]
[null,null,null,null,"N1-L8-CN",">100",0.107458,1.03E-2,1.1075299999999999,{"$f":"[1]!AgePb76($I$39)","v":5380.4750486242274},3.17333,0.21099999999999999]
[null,null,null,null,"N1-L9-CHB",">100",0.10746799999999999,1.12E-2,1.10762,{"$f":"[1]!AgePb76($I$40)","v":5380.5885840656774},3.1734599999999999,0.23]
["Nantan N2","IAB–IIICD","Alain Carion",3.0695000000000001,"N2-L1-N1",">100",0.105929,1.1599999999999999E-2,1.1000300000000001,{"$f":"[1]!AgePb76($I$41)","v":5370.9794277077135},3.1421700000000001,0.23899999999999999]
[null,null,null,null,"N2-L2-N1",">100",0.101905,1.1299999999999999E-2,1.07989,{"$f":"[1]!AgePb76($I$42)","v":5345.1388193150451},3.0579900000000002,0.23200000000000001]
[null,null,null,null,"N2-L3-N1",">100",0.107137,1.29E-2,1.1066400000000001,{"$f":"[1]!AgePb76($I$43)","v":5379.3517853737985},3.1701600000000001,0.26500000000000001]
[null,null,null,null,"N2-L4-N1",">100",0.10720200000000001,1.3100000000000001E-2,1.1067199999999999,{"$f":"[1]!AgePb76($I$44)","v":5379.4527918009026},3.17048,0.27100000000000002]
[null,null,null,null,"N2-L5-N1",">100",0.107062,1.15E-2,1.10616,{"$f":"[1]!AgePb76($I$45)","v":5378.7455851273044},3.1675800000000001,0.23499999999999999]
[null,null,null,null,"N2-L6-N1",">100",0.106846,1.15E-2,1.1052200000000001,{"$f":"[1]!AgePb76($I$46)","v":5377.5576393370247},3.16378,0.23599999999999999]
[null,null,null,null,"N2-L7-CN",">100",0.10745200000000001,1.17E-2,1.10762,{"$f":"[1]!AgePb76($I$47)","v":5380.5885840656774},3.17361,0.24099999999999999]
[null,null,null,null,"N2-L8-CN",">100",0.10735599999999999,1.0500000000000001E-2,1.1073299999999999,{"$f":"[1]!AgePb76($I$48)","v":5380.2227128207096},3.17292,0.217]
[null,null,null,null,"N2-L9-CHB",">100",0.107353,1.3899999999999999E-2,1.10798,{"$f":"[1]!AgePb76($I$49)","v":5381.0426286081511},3.1760600000000001,0.28599999999999998]
[null,null,null,null,"N2-R-CN",">100",0.107352,2.7300000000000001E-2,1.1073500000000001,{"$f":"[1]!AgePb76($I$50)","v":5380.2479485628255},3.17286,0.55800000000000005]
["Seeläsgen n° 3056","IAB–IIICD","MNHN",3.0247999999999999,"See-L1-N1",">100",7.7757999999999994E-2,3.8E-3,0.96638000000000002,{"$f":"[1]!AgePb76($I$51)","v":5189.2713354774614},2.56643,7.8E-2]
[null,null,null,null,"See-L2-N1",">100",9.4871999999999998E-2,8.0000000000000002E-3,1.04766,{"$f":"[1]!AgePb76($I$52)","v":5302.7094227334237},2.9144299999999999,0.16500000000000001]
[null,null,null,null,"See-L3-N2.5",">100",0.10623100000000001,1.12E-2,1.10164,{"$f":"[1]!AgePb76($I$53)","v":5373.0235620926032},3.1452800000000001,0.23]
[null,null,null,null,"See-L4-N7",">100",0.10700999999999999,1.4500000000000001E-2,1.1050199999999999,{"$f":"[1]!AgePb76($I$54)","v":5377.3047475024459},3.1589700000000001,0.29699999999999999]
[null,null,null,null,"See-L5-N7",">100",0.107213,1.38E-2,1.1060099999999999,{"$f":"[1]!AgePb76($I$55)","v":5378.5560906829924},3.1643400000000002,0.28199999999999997]
[null,null,null,null,"See-L6-N7",">100",0.10709200000000001,1.0999999999999999E-2,1.1054900000000001,{"$f":"[1]!AgePb76($I$56)","v":5377.8989668014301},3.1621100000000002,0.22600000000000001]
[null,null,null,null,"See-L7-R",">100",0.107102,1.4800000000000001E-2,1.1055699999999999,{"$f":"[1]!AgePb76($I$57)","v":5378.0000839886407},3.1617099999999998,0.30099999999999999]
[null,null,null,null,"See-RR",38,0.106817,2.92E-2,1.1043700000000001,{"$f":"[1]!AgePb76($I$58)","v":5376.4825156850184},3.1545800000000002,0.59799999999999998]
["Toluca #4937","IAB–IIICD","AMNH",0.61780000000000002,"Tol-C-L1 -N1",35,6.0739000000000001E-2,3.3E-3,0.877,{"$f":"[1]!AgePb76($I$59)","v":5052.2396811890103},2.2081900000000001,6.3E-2]
[null,null,null,null,"Tol-C-L2-N1",6,6.8779999999999994E-2,4.6600000000000003E-2,0.91935,{"$f":"[1]!AgePb76($I$60)","v":5118.9268245931389},2.3767499999999999,0.94399999999999995]
[null,null,null,null,"Tol-C-rR-CN",73,7.2935E-2,5.0000000000000001E-3,0.93845000000000001,{"$f":"[1]!AgePb76($I$61)","v":5147.9449194754507},2.4622199999999999,0.10199999999999999]
["Cape York ","IIIA","MNHN",2.3342999999999998,"CY-L1-N1",">100",7.1501999999999996E-2,4.1000000000000003E-3,0.94715000000000005,{"$f":"[1]!AgePb76($I$62)","v":5160.9559006777345},2.4310299999999998,8.2000000000000003E-2]
[null,null,null,null,"CY-L2-N1",37,7.4499999999999997E-2,1.1299999999999999E-2,0.96214,{"$f":"[1]!AgePb76($I$63)","v":5183.0796583295169},2.4915600000000002,0.22800000000000001]
[null,null,null,null,"CY-L3-N2.5",">100",9.7998000000000002E-2,9.7000000000000003E-3,1.06653,{"$f":"[1]!AgePb76($I$64)","v":5327.7152772444224},2.97784,0.19800000000000001]
[null,null,null,null,"CY-L4-N7",11,0.10209,0.1091,1.0840799999999999,{"$f":"[1]!AgePb76($I$65)","v":5350.5564315385227},3.0622199999999999,2.2440000000000002]
[null,null,null,null,"CY-L5-N7",58,0.10553999999999999,2.01E-2,1.0990599999999999,{"$f":"[1]!AgePb76($I$66)","v":5369.7463452786587},3.1336300000000001,0.41299999999999998]
[null,null,null,null,"CY-L6-N7",23,0.105061,5.1799999999999999E-2,1.097,{"$f":"[1]!AgePb76($I$67)","v":5367.1238239429185},3.1236700000000002,1.0660000000000001]
[null,null,null,null,"CY-L7-R",38,0.10592600000000001,0.03,1.1004100000000001,{"$f":"[1]!AgePb76($I$68)","v":5371.4621784486917},3.1414800000000001,0.61799999999999999]
[null,null,null,null,"CY-RR",2,7.0666000000000007E-2,0.25119999999999998,0.93752999999999997,{"$f":"[1]!AgePb76($I$69)","v":5146.5615845071698},2.4351500000000001,5.4829999999999997]
["Mt Edith #242","IIIB","AMNH",0.80349999999999999,"Mt Edith-D-L1-N1",">100",5.2557E-2,5.0000000000000001E-4,0.82494999999999996,{"$f":"[1]!AgePb76($I$70)","v":4965.4339187117303},2.0368300000000001,7.0000000000000001E-3]
[null,null,null,null,"Mt Edith-D-L2-N1",">100",5.2602999999999997E-2,2.9999999999999997E-4,0.82508000000000004,{"$f":"[1]!AgePb76($I$71)","v":4965.657902728216},2.0377100000000001,5.0000000000000001E-3]
[null,null,null,null,"Mt Edith-D-R-CN",">100",5.2491999999999997E-2,5.0000000000000001E-4,0.82438,{"$f":"[1]!AgePb76($I$72)","v":4964.4513918047587},2.0356999999999998,8.9999999999999993E-3]
["Seymchan","Pallasite","Luc Labenne",1.6777,"Seym-E-L1-N1",">100",5.5843999999999998E-2,5.0000000000000001E-4,0.86975000000000002,{"$f":"[1]!AgePb76($I$73)","v":5040.481531204523},2.11172,4.0000000000000001E-3]
[null,null,null,null,"Seym-E-L2-N1",46,5.5933999999999998E-2,1.1000000000000001E-3,0.86858999999999997,{"$f":"[1]!AgePb76($I$74)","v":5038.5905783218341},2.11313,1.0999999999999999E-2]
[null,null,null,null,"Seym-E-R-CN",">100",5.5948999999999999E-2,4.0000000000000002E-4,0.86634999999999995,{"$f":"[1]!AgePb76($I$75)","v":5034.9314859366814},2.1103200000000002,3.0000000000000001E-3]
[null,null,null,null,null,null,null,null,"AVG",{"$f":"AVERAGE(J3:J75)","v":5259.1096149227915}]
[null,null,null,null,null,null,null,null,"MAX",{"$f":"MAX(J3:J75)","v":5381.0426286081511}]
[null,null,null,null,null,null,null,null,"MIN",{"$f":"MIN(J3:J75)","v":4964.4513918047587}]
[null,null,null,null,null,null,null,null,"STD DEV",{"$f":"STDEV(J3:J75)","v":140.53549814991206}]

{"sheet":"Pb-206_06","index":5,"n_rows":20,"n_cols":7,"rows_kept":20,"cut":false,"hidden":false,"merged":[]}
["Sample","Pb isotope ratios","Pb isotope ratios","Pb-207/206","Pb-207/206",null,"Earth and Planetary Science Letters, 42 (1979) 58-70"]
[null,"206/204","207/204","Ratio","Ages"]
["HRV 67",18.73,15.32,{"$f":"(C3/B3)","v":0.81793913507741589},{"$f":"[1]!AgePb76($D$3)","v":4953.2986136913387}]
["HRV 173b",14.93,14.86,0.99531145344943062,{"$f":"[1]!AgePb76($D$4)","v":5230.7678633802652}]
["HRV 158a",16.809999999999999,15.215,0.90511600237953604,{"$f":"[1]!AgePb76($D$5)","v":5096.8830281176297}]
["10A",14.78,14.9,1.0081190798376185,{"$f":"[1]!AgePb76($D$6)","v":5248.7323472795088}]
["JJG 6",17.48,15.34,0.87757437070938216,{"$f":"[1]!AgePb76($D$7)","v":5053.1667903717935}]
["LBM 1",19.02,15.46,0.81282860147213465,{"$f":"[1]!AgePb76($D$8)","v":4944.3827422156437}]
["LBM 9",19.22,15.51,0.80697190426638921,{"$f":"[1]!AgePb76($D$9)","v":4934.0915022455538}]
["LBM 11\n)",17.649999999999999,15.35,0.86968838526912184,{"$f":"[1]!AgePb76($D$10)","v":5040.3811584012146}]
["LBM 90",20.170000000000002,15.72,0.77937530986613779,{"$f":"[1]!AgePb76($D$11)","v":4884.5053002117211}]
["LBM 38b",19.89,15.71,0.78984414278531923,{"$f":"[1]!AgePb76($D$12)","v":4903.5327661604615}]
["KD 771",19.61,15.66,0.79857215706272311,{"$f":"[1]!AgePb76($D$13)","v":4919.1921353165808}]
["KD 772",19.760000000000002,15.68,0.79352226720647767,{"$f":"[1]!AgePb76($D$14)","v":4910.1542175377244}]
["KD 773",19.62,15.6,0.7951070336391437,{"$f":"[1]!AgePb76($D$15)","v":4912.9970900301196}]
["KD 774",19.88,15.64,0.78672032193158958,{"$f":"[1]!AgePb76($D$16)","v":4897.8833572907879}]
[" ",null,null,"Average",{"$f":"AVERAGE(E3:E16)","v":4994.9977794464521}]
[null,null,null,"Maximum",{"$f":"MAX(E3:E16)","v":5248.7323472795088}]
[null,null,null,"Minimum",{"$f":"MIN(E3:E16)","v":4884.5053002117211}]
[null,null,null,"Std Deviation",{"$f":"STDEV(E3:E16)","v":121.99546510622982}]

{"sheet":"Pb-206_07","index":6,"n_rows":39,"n_cols":8,"rows_kept":39,"cut":false,"hidden":false,"merged":[]}
[null,null,null,null,null,null,null,"Earth and Planetary Science Letters, 107 (1991) 618-624"]
[]
["Sample","Pb-207/206","Pb-207/206"]
["Number","Ratio","Ages"]
[1,0.10839,{"$f":"[1]!AgePb76($B$5)","v":1772.5313341549563}]
[2,0.11964,{"$f":"[1]!AgePb76($B$6)","v":1950.851543395343}]
[3,0.12623000000000001,{"$f":"[1]!AgePb76($B$7)","v":2046.1160514867547}]
[4,6.096E-2,{"$f":"[1]!AgePb76($B$8)","v":637.82295492145295}]
[5,7.7670000000000003E-2,{"$f":"[1]!AgePb76($B$9)","v":1138.4449470514937}]
[6,8.7580000000000005E-2,{"$f":"[1]!AgePb76($B$10)","v":1373.2873785601482}]
[7,7.8579999999999997E-2,{"$f":"[1]!AgePb76($B$11)","v":1161.5755319562199}]
[8,0.10029,{"$f":"[1]!AgePb76($B$12)","v":1629.4677936629623}]
[9,7.1569999999999995E-2,{"$f":"[1]!AgePb76($B$13)","v":973.73803446453485}]
[10,8.3150000000000002E-2,{"$f":"[1]!AgePb76($B$14)","v":1272.7392277552867}]
[]
[]
[]
[]
[]
["Sample","238U/206Pb","Age","206Pb/238U","Age","238U/206Pb"]
["Number","Ratio","Million Years","Ratio","Million Years","Ratio"]
[1,1304,{"$f":"[1]!AgePb6U8(1/B22)","v":4.9416745862721188},{"$f":"(1/F22)","v":7.3529411764705881E-4},{"$f":"[1]!AgePb6U8(D22)","v":4.7382686309000919},1360]
[2,1400,{"$f":"[1]!AgePb6U8(1/B23)","v":4.6029378479095788},0,null,0]
[3,1316,{"$f":"[1]!AgePb6U8(1/B24)","v":4.8966308333186248},{"$f":"(1/F24)","v":8.9686098654708521E-4},{"$f":"[1]!AgePb6U8(D24)","v":5.7789463145025346},1115]
[4,2100,{"$f":"[1]!AgePb6U8(1/B25)","v":3.0689903850836107},0,null,0]
[5,1960,{"$f":"[1]!AgePb6U8(1/B26)","v":3.2881480856304726},0,null,0]
[6,1520,{"$f":"[1]!AgePb6U8(1/B27)","v":4.2396674873215598},0,null,0]
[7,1990,{"$f":"[1]!AgePb6U8(1/B28)","v":3.2385904635494844},0,null,0]
[8,1316,{"$f":"[1]!AgePb6U8(1/B29)","v":4.8966308333186248},0,null,0]
[9,2580,{"$f":"[1]!AgePb6U8(1/B30)","v":2.4981260464193542},{"$f":"(1/F30)","v":3.720238095238095E-4},{"$f":"[1]!AgePb6U8(D30)","v":2.397773575016422},2688]
[10,2320,{"$f":"[1]!AgePb6U8(1/B31)","v":2.7780281326768628},{"$f":"(1/F31)","v":4.3459365493263801E-4},{"$f":"[1]!AgePb6U8(D31)","v":2.800962104509451},2301]
[null,null,46517.163594852325]
[null,null,45237.751122908987]
[null,null,50906.84709923523]
[null,null,49905.131921236607]
[null,"AVG",{"$f":"AVERAGE(C22:C35)","v":13757.524511638188}]
[null,"MAX",{"$f":"MAX(C22:C35)","v":50906.84709923523}]
[null,"MIN",{"$f":"MIN(C22:C35)","v":2.4981260464193542}]
[null,"STD DEV",{"$f":"STDEV(C22:C35)","v":22604.555932558251}]

{"sheet":"Pb-206_08","index":7,"n_rows":44,"n_cols":16,"rows_kept":44,"cut":false,"hidden":false,"merged":[]}
["Table 4. U-Pb data for 10017.",null,null,null,null,null,null,null,null,null,null,null,null,null,"Pb-207/206","Pb-207/206"]
[null,"wt (mg)","U (ppm)","U (ng)","Pb (ppm)","Pb (ng)","238U⁄204Pb",null,"206Pb⁄204Pbb",null,"207Pb⁄204Pbb",null,"208Pb⁄204Pbb",null,"Ratio","Ages"]
["Plag(R)",3.07,8.7550000000000003E-2,0.26879999999999998,0.16239999999999999,0.49859999999999999,73.400000000000006,3.8,52.43,0.92,39.39,0.67,64.959999999999994,0.79,{"$f":"(K3/I3)","v":0.75128743086019456},{"$f":"[1]!AgePb76($O$3)","v":4832.0779900150128}]
["Plag(L)",null,null,6.1210000000000001E-2,null,0.37419999999999998,13.4,3.2,26.277000000000001,9.7000000000000003E-2,20.692,7.9000000000000001E-2,47.1,0.15,{"$f":"(K4/I4)","v":0.78745671119229743},{"$f":"[1]!AgePb76($O$4)","v":4899.2172608593637}]
["Px(R)",8.77,0.16900000000000001,1.482,0.38940000000000002,3.415,87.43,0.5,88.77,0.26,51.5,0.15,92.19,0.27,0.58015095189816379,{"$f":"[1]!AgePb76($O$5)","v":4459.0568934044359}]
["Px(L)",null,null,0.31619999999999998,null,2.2320000000000002,17.190000000000001,0.15,40.762999999999998,7.0000000000000007E-2,28.501999999999999,5.5E-2,70.13,0.15,0.6992125211588941,{"$f":"[1]!AgePb76($O$6)","v":4729.1010928653013}]
["WR(R)",20.14,0.68899999999999995,13.88,1.262,25.42,164.78,0.44,143.86000000000001,0.25,69.13,0.13,135.68,0.28999999999999998,0.48053663283748083,{"$f":"[1]!AgePb76($O$7)","v":4182.5856783122417}]
["WR(L)",null,null,2.9220000000000002,null,10.3,69.33,0.26,84.98,0.15,41.609000000000002,8.2000000000000003E-2,155.29,0.36,0.48963285478936219,{"$f":"[1]!AgePb76($O$8)","v":4210.2977891963756}]
["Ilm",28,1.6180000000000001,45.29,3.629,101.6,103.57,0.19,99.301000000000002,0.09,49.47,6.0999999999999999E-2,119.3,0.19,0.49818229423671462,{"$f":"[1]!AgePb76($O$9)","v":4235.8399028261256}]
["Plag(R)",4.87,1.4319999999999999E-2,6.9720000000000004E-2,0.1087,0.52959999999999996,30.6,3,90.7,2.7,70.2,2.1,107.2,2.6,0.77398015435501655,{"$f":"[1]!AgePb76($O$10)","v":4874.5928543265445}]
["Plag(L)",null,null,1.3350000000000001E-2,null,0.50480000000000003,2.9,4.8,40.53,0.23,25.95,0.13,61.52,0.3,0.64026646928201325,{"$f":"[1]!AgePb76($O$11)","v":4602.1480697654524}]
["Plag-rej",7.81,1.533E-2,0.1197,0.2281,1.782,19.3,1.4,119,1.4,73.42,0.83,139,1.5,0.61697478991596644,{"$f":"[1]!AgePb76($O$12)","v":4548.4915363948094}]
["Px(R)",3.09,3.6700000000000003E-2,0.1134,0.14349999999999999,0.44359999999999999,35.6,3,51.6,1.3,33.83,0.78,74.8,1.7,0.65562015503875959,{"$f":"[1]!AgePb76($O$13)","v":4636.3853914626834}]
["Px(L)",null,null,1.0370000000000001E-2,null,0.84009999999999996,1.45,0.62,43.56,0.15,27.18,0.13,64.239999999999995,0.24,0.62396694214876025,{"$f":"[1]!AgePb76($O$14)","v":4564.8244835525693}]
["Px-rej",11.32,5.2659999999999998E-2,0.59619999999999995,0.4526,5.1239999999999997,30.63,0.25,109.94,0.38,62.19,0.22,131.76,0.49,0.56567218482808801,{"$f":"[1]!AgePb76($O$15)","v":4422.2060428048626}]
["WR(R)",28.42,0.47145999999999999,13.4,0.44900000000000001,12.76,437.2,4.4000000000000004,184.36,0.46,92.34,0.25,204.6,0.62,0.50086786721631593,{"$f":"[1]!AgePb76($O$16)","v":4243.7653389861607}]
["WR(L)",null,null,3.7269999999999999,null,27.41,39.04,0.24,122.7,0.14000000000000001,63.225999999999999,9.1999999999999998E-2,145.65,0.25,0.51528932355338219,{"$f":"[1]!AgePb76($O$17)","v":4285.5525560073211}]
["Ilm",9.4600000000000009,0.4793,4.5339999999999998,1.2210000000000001,11.55,171.66,0.69,192.71,0.48,96.05,0.26,216.79,0.64,0.49841731098541847,{"$f":"[1]!AgePb76($O$18)","v":4236.5353101111177}]
["All Faraday runs: NBS 981 (n = 10)c",null,null,null,null,2,null,null,16.902000000000001,3.4000000000000002E-2,15.44,3.7999999999999999E-2,36.54,0.11,0.91350136078570576,{"$f":"[1]!AgePb76($O$19)","v":5109.9132760431658}]
["Faraday–Daly runs: NBS 981 (n = 17)",null,null,null,null,"0.5–2",null,null,16.888999999999999,8.1000000000000003E-2,15.436,9.0999999999999998E-2,36.53,0.24,0.91396767126532064,{"$f":"[1]!AgePb76($O$20)","v":5110.6341643687056}]
[null,null,null,null,null,null,null,null,null,null,null,null,null,null,"AVG",{"$f":"AVERAGE(P3:P20)","v":4565.7347572945691}]
[null,null,null,null,null,null,null,null,null,null,null,null,null,null,"MAX",{"$f":"MAX(P3:P20)","v":5110.6341643687056}]
[null,null,null,null,null,null,null,null,"206Pb⁄238U","206Pb⁄238U",null,null,null,null,"MIN",{"$f":"MIN(P3:P20)","v":4182.5856783122417}]
[null,"Meteoritics & Planetary Science 46, Nr 1, 35–52 (2011)",null,null,null,null,"238U⁄204Pb","206Pb⁄204Pb","Ratio","Age",null,null,null,null,"STD DEV",{"$f":"STDEV(P3:P20)","v":307.58843597874761}]
[null,null,null,null,null,null,73.400000000000006,52.43,{"$f":"(H25/G25)","v":0.71430517711171659},{"$f":"[1]!AgePb6U8(I25)","v":3474.6678741879564}]
[null,null,null,null,null,null,13.4,26.277000000000001,{"$f":"(H26/G26)","v":1.9609701492537315},{"$f":"[1]!AgePb6U8(I26)","v":6997.6919759091497}]
[null,null,null,null,null,null,87.43,88.77,1.0153265469518471,{"$f":"[1]!AgePb6U8(I27)","v":4517.5261260872176}]
[null,null,null,null,null,null,17.190000000000001,40.762999999999998,2.3713205351948803,{"$f":"[1]!AgePb6U8(I28)","v":7834.3562792407683}]
[null,null,null,null,null,null,164.78,143.86000000000001,0.87304284500546192,{"$f":"[1]!AgePb6U8(I29)","v":4045.5393925542312}]
[null,null,null,null,null,null,69.33,84.98,1.225732006346459,{"$f":"[1]!AgePb6U8(I30)","v":5157.6847905154846}]
[null,null,null,null,null,null,103.57,99.301000000000002,0.95878150043448884,{"$f":"[1]!AgePb6U8(I31)","v":4334.0699208080478}]
[null,null,null,null,null,null,30.6,90.7,2.9640522875816995,{"$f":"[1]!AgePb6U8(I32)","v":8878.4322771421084}]
[null,null,null,null,null,null,2.9,40.53,13.975862068965519,{"$f":"[1]!AgePb6U8(I33)","v":17446.831326699776}]
[null,null,null,null,null,null,19.3,119,6.1658031088082899,{"$f":"[1]!AgePb6U8(I34)","v":12695.053297404498}]
[null,null,null,null,null,null,35.6,51.6,1.449438202247191,{"$f":"[1]!AgePb6U8(I35)","v":5775.0761840899231}]
[null,null,null,null,null,null,1.45,43.56,30.04137931034483,{"$f":"[1]!AgePb6U8(I36)","v":22145.502858161861}]
[null,null,null,null,null,null,30.63,109.94,3.5892915442376756,{"$f":"[1]!AgePb6U8(I37)","v":9822.5667332731082}]
[null,null,null,null,null,null,437.2,184.36,0.42168344007319308,{"$f":"[1]!AgePb6U8(I38)","v":2268.1172642459301}]
[null,null,null,null,null,null,39.04,122.7,3.1429303278688527,{"$f":"[1]!AgePb6U8(I39)","v":9162.9546889462345}]
[null,null,null,null,null,null,171.66,192.71,1.1226261214027731,{"$f":"[1]!AgePb6U8(I40)","v":4851.9197975413645}]
[null,null,null,null,null,null,null,null,"Average",{"$f":"AVERAGE(J25:J40)","v":8087.9994241754775}]
[null,null,null,null,null,null,null,null,"Maximum",{"$f":"MAX(J25:J41)","v":22145.502858161861}]
[null,null,null,null,null,null,null,null,"Minimum",{"$f":"MIN(J25:J42)","v":2268.1172642459301}]
[null,null,null,null,null,null,null,null,"Std Deviation",{"$f":"STDEV(J25:J40)","v":5386.4793663890623}]

{"sheet":"Pb-206_09","index":8,"n_rows":124,"n_cols":10,"rows_kept":124,"cut":false,"hidden":false,"merged":[]}
[null,null,null,null,null,null,null,null,null,4846]
[null,null,null,null,null,null,null,null,null,5008]
[null,null,null,null,null,null,null,null,null,5056]
["Table 1. ",null,null,null,null,null,null,null,null,5074]
["CIT shelf lead","Pb206","Pb206","Pb207","Pb207/Pb206",null,null,null,null,5085]
[null,"Pb207","pb208","Pb206","Age",null,null,null,null,5089]
["This work-average of 16 analyses",1.0709,0,{"$f":"(1/B7)","v":0.93379400504248766},{"$f":"[1]!AgePb76($D$7)","v":5140.9292393015594},null,null,null,null,5089]
["TILTON anSTEIGE(1965)",1.0726,0,{"$f":"(1/B8)","v":0.93231400335633041},{"$f":"[1]!AgePb76($D$8)","v":5138.6914023008912},null,null,null,null,5114]
["Normalization factor",1.0014000000000001,0,{"$f":"(1/B9)","v":0.99860195725983614},{"$f":"[1]!AgePb76($D$9)","v":5235.406478385119},null,null,null,null,5139]
["Pecent standardeviation (this paper)",7.0000000000000007E-2,0,{"$f":"(1/B10)","v":14.285714285714285},{"$f":"[1]!AgePb76($D$10)","v":{"$error":"#NUM!"}},null,null,null,null,5140]
["Pecent standardeviation",0.15,0,{"$f":"(1/B11)","v":6.666666666666667},{"$f":"[1]!AgePb76($D$11)","v":7797.3783311287089},null,null,null,null,5141]
["(TILTON anSTEIGER, 1965)",null,null,null,null,null,null,null,null,5143]
[null,null,null,null,null,null,null,null,null,5157]
[null,null,null,null,null,null,null,null,null,5157]
[null,null,null,null,null,null,null,null,null,5158]
["Table 2.",null,null,null,null,null,null,null,null,5169]
["Province, Canadian Shield",null,null,null,null,null,null,null,null,5179]
[null,null,null,null,null,null,null,null,null,5180]
["Sample name annumber","Pb206","Pb206","Pb206","Pb207","Pb208","Pb-207/206","Pb-207/206",null,5182]
[null,"Pb207","Pb208","Pb204","Pb204","Pb204","Ratio","Ages",null,5184]
["1. Western NucleaMine",1.014,0.4395,15.57,15.36,35.43,{"$f":"(E21/D21)","v":0.98651252408477841},{"$f":"[1]!AgePb76($G$21)","v":5218.283950619727},null,5184]
[null,1.0152000000000001,0.43990000000000001,15.58,15.36,35.42,{"$f":"(E22/D22)","v":0.98587933247753523},{"$f":"[1]!AgePb76($G$22)","v":5217.3810424055109},null,5211]
["2, Hanson Lake",1.0125999999999999,0.43880000000000002,15.51,15.32,35.35,0.98774983881366862,{"$f":"[1]!AgePb76($G$23)","v":5220.0465490840998},null,5217]
["3.Flin Flon Mine",1.0113000000000001,0.43840000000000001,15.42,15.25,35.17,0.98897535667963687,{"$f":"[1]!AgePb76($G$24)","v":5221.7900426824308},null,5218]
["4.Paskwachi Bay",1.0083,0.43459999999999999,15.46,15.33,35.57,0.99159120310478654,{"$f":"[1]!AgePb76($G$25)","v":5225.5038699071793},null,5219]
["5.Stall Lake Mine",1.0079,0.43609999999999999,15.52,15.39,35.590000000000003,0.99162371134020622,{"$f":"[1]!AgePb76($G$26)","v":5225.5499580273445},null,5220]
["6.Chisel Lake",1.0123,0.43780000000000002,15.51,15.32,35.43,0.98774983881366862,{"$f":"[1]!AgePb76($G$27)","v":5220.0465490840998},null,5220]
["7.Sulphide Lake",1.0130999999999999,0.43709999999999999,15.51,15.31,35.479999999999997,0.98710509348807229,{"$f":"[1]!AgePb76($G$28)","v":5219.1283781309403},null,5221]
["8.Osborne Mine",1.0088999999999999,0.43790000000000001,15.42,15.29,35.21,0.99156939040207515,{"$f":"[1]!AgePb76($G$29)","v":5225.4729443412816},null,5221]
[null,1.0079,0.438,15.42,15.3,35.200000000000003,0.99221789883268485,{"$f":"[1]!AgePb76($G$30)","v":5226.3920781550269},null,5221]
["9.Brabant Lake",1.0108999999999999,0.43569999999999998,15.44,15.28,35.44,0.98963730569948183,{"$f":"[1]!AgePb76($G$31)","v":5222.7308202617069},null,5222]
["10.Compulsion River",1.0589,0.45379999999999998,16.55,15.63,36.47,0.94441087613293051,{"$f":"[1]!AgePb76($G$32)","v":5156.8731943076773},null,5223]
[null,1.0591999999999999,0.45419999999999999,16.55,15.63,36.44,0.94441087613293051,{"$f":"[1]!AgePb76($G$33)","v":5156.8731943076773},null,5223]
[null,1.0584,0.45350000000000001,16.54,15.63,36.47,0.94498186215235802,{"$f":"[1]!AgePb76($G$34)","v":5157.7252911265768},null,5223]
["11.Falconbridge",1.0693999999999999,0.45889999999999997,16.47,15.4,36.89,0.93503339404978758,{"$f":"[1]!AgePb76($G$35)","v":5142.800369793099},null,5223]
[null,null,null,null,null,null,"AVG",{"$f":"AVERAGE(H21:H35)","v":5203.7732154822916},null,5223]
[null,null,null,null,null,null,"MAX",{"$f":"MAX(H21:H35)","v":5226.3920781550269},null,5224]
[null,null,null,null,null,null,"MIN",{"$f":"MIN(H21:H35)","v":5142.800369793099},null,5225]
[null,null,null,null,null,null,"STD DEV",{"$f":"STDEV(H21:H35)","v":31.635668479656925},null,5226]
[null,null,null,null,null,null,null,null,null,5226]
["Table 3.",null,null,null,null,null,null,null,null,5226]
["antotal digestion",null,null,null,null,null,null,null,null,5229]
["Sample numbeand\nlocality","pb-206","pb-207","Pb-207/206","Pb-207/206",null,null,null,null,5235]
[null,"pb-204","pb-204","Ratio","Ages",null,null,null,null,5236]
["Churchill Province",null,null,null,null,null,null,null,null,5236]
["HL 8P (pegmatite,",15.54,14.91,{"$f":"(C46/B46)","v":0.95945945945945954},{"$f":"[1]!AgePb76($D$46)","v":5179.1503471572923},null,null,null,null,5239]
["Hanson Lake, Sask.)",15.54,14.92,{"$f":"(C47/B47)","v":0.96010296010296015},{"$f":"[1]!AgePb76($D$47)","v":5180.094691058518},null,null,null,null,6338]
[null,15.51,14.91,0.96131528046421666,{"$f":"[1]!AgePb76($D$48)","v":5181.8719656721105},null,null,null,null,6349]
["HL 9P (pegmatite,",15.71,15.12,0.9624443029917249,{"$f":"[1]!AgePb76($D$49)","v":5183.5249931695362},null,null,null,null,6356]
["Hanson Lake, Sask.)",15.72,15.13,0.96246819338422396,{"$f":"[1]!AgePb76($D$50)","v":5183.5599494627004},null,null,null,null,6358]
[null,15.46,15.17,0.98124191461836996,{"$f":"[1]!AgePb76($D$51)","v":5210.7495023917636},null,null,null,null,6359]
["HL 15P (pegmatite.",20.53,15.57,0.75840233804188983,{"$f":"[1]!AgePb76($D$52)","v":4845.5534470434268},null,null,null,null,6366]
["Hanson Lake, Sask.)",17.39,15.29,0.8792409430707302,{"$f":"[1]!AgePb76($D$53)","v":5055.8532155629937},null,null,null,null,6372]
[null,17.23,15.47,0.89785258270458501,{"$f":"[1]!AgePb76($D$54)","v":5085.492342487848},null,null,null,null,6376]
["CL3P (pegmatite, neaLa Ronge, Sask.)",17.04,15.34,0.90023474178403762,{"$f":"[1]!AgePb76($D$55)","v":5089.2388399089123},null,null,null,null,6378]
[null,15.78,15.03,0.95247148288973382,{"$f":"[1]!AgePb76($D$56)","v":5168.8520448905538},null,null,null,null,6382]
["CL7P (pegmatite, neaLa Ronge, Sask.)",16.399999999999999,15.02,0.9158536585365854,{"$f":"[1]!AgePb76($D$57)","v":5113.5458179918187},null,null,null,null,6383]
[null,15.54,14.5,0.93307593307593317,{"$f":"[1]!AgePb76($D$58)","v":5139.8439478700584},null,null,null,null,6383]
["CL14 (K-spafrom",15.11,15.02,0.99404367968232954,{"$f":"[1]!AgePb76($D$59)","v":5228.9763581458255},null,null,null,null,6384]
["granodiorite gneiss,",15.04,15.02,0.99867021276595747,{"$f":"[1]!AgePb76($D$60)","v":5235.5025268694235},null,null,null,null,6384]
["FosteLake, Sask.)",15.03,15.01,0.99866932801064545,{"$f":"[1]!AgePb76($D$61)","v":5235.5012818947434},null,null,null,null,6385]
[null,14.99,15.01,1.00133422281521,{"$f":"[1]!AgePb76($D$62)","v":5239.2458852013806},null,null,null,null,6387]
["CL18 (K-spafrom",15.32,15.14,0.98825065274151436,{"$f":"[1]!AgePb76($D$63)","v":5220.7593125662634},null,null,null,null,6387]
["granodiorite, Black",15.31,15.13,0.9882429784454605,{"$f":"[1]!AgePb76($D$64)","v":5220.7483933116091},null,null,null,null,6388]
["BeaIslanLake,",15.3,15.14,0.98954248366013076,{"$f":"[1]!AgePb76($D$65)","v":5222.5960977745517},null,null,null,null,6389]
["Sask.)",15.3,15.14,0.98954248366013076,{"$f":"[1]!AgePb76($D$66)","v":5222.5960977745517},null,null,null,null,6389]
["CL19 (K-spafrom",18.420000000000002,15.66,0.85016286644951133,{"$f":"[1]!AgePb76($D$67)","v":5008.1871221111433},null,null,null,null,6390]
["granite gneiss, Sand-",17.36,15.46,0.89055299539170518,{"$f":"[1]!AgePb76($D$68)","v":5073.9460747889698},null,null,null,null,6393]
["fly Lake, Sask.)",17.07,15.36,0.89982425307557112,{"$f":"[1]!AgePb76($D$69)","v":5088.5940013622585},null,null,null,null,6393]
["NB 3 (K-spafrom",15.31,15.16,0.99020248203788375,{"$f":"[1]!AgePb76($D$70)","v":5223.5335358295697},null,null,null,null,6394]
["granite, Wollaston",15.28,15.1,0.98821989528795817,{"$f":"[1]!AgePb76($D$71)","v":5220.7155492539141},null,null,null,null,6394]
["Lake, Sask.)",15.27,15.12,0.99017681728880158,{"$f":"[1]!AgePb76($D$72)","v":5223.4970948860255},null,null,null,null,6395]
[null,15.27,15.12,0.99017681728880158,{"$f":"[1]!AgePb76($D$73)","v":5223.4970948860255},null,null,null,null,6396]
[null,null,null,"AVG",{"$f":"AVERAGE(E46:E73)","v":5160.9009832615648},null,null,null,null,6399]
[null,null,null,"MAX",{"$f":"MAX(E46:E73)","v":5239.2458852013806},null,null,null,null,6399]
[null,null,null,"MIN",{"$f":"MIN(E46:E73)","v":4845.5534470434268},null,null,null,null,6412]
[null,null,null,"STD DEV",{"$f":"STDEV(E46:E73)","v":89.614349267851381},null,null,null,null,6426]
[null,null,null,null,null,null,null,null,null,6462]
[null,null,null,null,null,null,null,null,null,7797]
[]
["Table 4. "]
["Province, Canadian Shield"]
["Sample number pb2O6\nand locality pf,--2o4","pb-206","pb-207","Pb-207/206","Pb-207/206"]
[null,"pb-204","pb-204","Ratio","Ages"]
["La Ronge area (CLR series)"]
["CLR 1P 15.58",15.26,35.83,{"$f":"(C86/B86)","v":2.3479685452162515},{"$f":"[1]!AgePb76($D$86)","v":6411.6667072493938}]
["CLR 3P 15.91",15.02,34.659999999999997,{"$f":"(C87/B87)","v":2.3075898801597869},{"$f":"[1]!AgePb76($D$87)","v":6388.2317908678351}]
["CLR 7P 15.60",14.41,35.11,2.4365024288688408,{"$f":"[1]!AgePb76($D$88)","v":6461.6188581689057}]
["CLR 10P 16.05",14.49,33.049999999999997,2.2808833678398894,{"$f":"[1]!AgePb76($D$89)","v":6372.4968537916884}]
["CLR 12P 15.79",14.76,32.83,2.2242547425474255,{"$f":"[1]!AgePb76($D$90)","v":6338.4899223805687}]
["CLR 14 15.04",15.02,34.67,2.3082556591211718,{"$f":"[1]!AgePb76($D$91)","v":6388.6216353634127},null,null,"Geochimica et Cosmochimica Acta, 1970, Vol. 34, pp. 1039 to 1106."]
["15.03*",15.01,34.67,2.3097934710193204,{"$f":"[1]!AgePb76($D$92)","v":6389.5216496833891}]
["CLR 15 15.57",15.32,34.33,2.2408616187989554,{"$f":"[1]!AgePb76($D$93)","v":6348.5551016679356}]
["CLR 16P 15.47",15.29,35.17,2.3001962066710271,{"$f":"[1]!AgePb76($D$94)","v":6383.8945874967985}]
["15.46*",15.28,35.17,2.3017015706806285,{"$f":"[1]!AgePb76($D$95)","v":6384.7788213049125}]
["CLR 17P 15.49",15.31,35.19,2.2984977139124751,{"$f":"[1]!AgePb76($D$96)","v":6382.8961905246624}]
["CLR 18 15.31",15.13,34.17,2.2584269662921348,{"$f":"[1]!AgePb76($D$97)","v":6359.1172447343906}]
[15.3,15.14,34.17,2.2569352708058124,{"$f":"[1]!AgePb76($D$98)","v":6358.2235999068098}]
["CLR 19P 15.72",15.19,35.340000000000003,2.3265306122448983,{"$f":"[1]!AgePb76($D$99)","v":6399.2771420028012}]
["CLR 19 17.36",15.46,36.700000000000003,2.3738680465717983,{"$f":"[1]!AgePb76($D$100)","v":6426.4791022328809}]
["CLR 20 15.74",15.07,34.96,2.3198407431984074,{"$f":"[1]!AgePb76($D$101)","v":6395.3866179908127}]
["Nekweaga Bay area (NB series)"]
["NB 1P 15.75",15.32,35.33,2.3061357702349867,{"$f":"[1]!AgePb76($D$103)","v":6387.3799358878605}]
["NB 3 15.28",15.11,35.06,2.3203176704169426,{"$f":"[1]!AgePb76($D$104)","v":6395.6643624392291}]
[15.27,15.12,35.04,2.3174603174603177,{"$f":"[1]!AgePb76($D$105)","v":6393.9994610340473}]
["NB 4 16.74",15.21,35.380000000000003,2.3261012491781723,{"$f":"[1]!AgePb76($D$106)","v":6399.0277928210244}]
["Hanson Lake area (HL series)"]
["HL 8P 15.54",14.92,33.86,2.2694369973190347,{"$f":"[1]!AgePb76($D$108)","v":6365.6942382525058}]
["HL 9P 15.72",15.13,34.869999999999997,2.3046926635822866,{"$f":"[1]!AgePb76($D$109)","v":6386.533975512536}]
["HL 9 15.44",14.95,34.200000000000003,2.2876254180602009,{"$f":"[1]!AgePb76($D$110)","v":6376.4871104440499}]
["HL 10 15.89",15.24,35.19,2.3090551181102361,{"$f":"[1]!AgePb76($D$111)","v":6389.0896015337512}]
["15.49*",15.23,34.31,2.2527905449770191,{"$f":"[1]!AgePb76($D$112)","v":6355.7373546947811}]
["HL 12 16.45",15.16,34.729999999999997,2.2908970976253298,{"$f":"[1]!AgePb76($D$113)","v":6378.4190440917546}]
["HL 15P 17.39",15.29,35.14,2.2982341399607589,{"$f":"[1]!AgePb76($D$114)","v":6382.741189557968}]
["}lin Flon area (FF series)"]
["FF 6 16.03",15.28,35.39,2.3160994764397906,{"$f":"[1]!AgePb76($D$116)","v":6393.2057870694853}]
["15.94*",15.38,35.39,2.3010403120936278,{"$f":"[1]!AgePb76($D$117)","v":6384.3904794354266}]
["FF 7 15.84",14.96,34.65,2.3161764705882351,{"$f":"[1]!AgePb76($D$118)","v":6393.2507047539075}]
["FF 19 15.96",15.09,34.97,2.317428760768721,{"$f":"[1]!AgePb76($D$119)","v":6393.9810619204882}]
["FF 20 18.60",15.63,35.9,2.2968650031989761,{"$f":"[1]!AgePb76($D$120)","v":6381.9357389436}]
[null,null,null,"AVG",{"$f":"AVERAGE(E86:E120)","v":6385.8373019924884}]
[null,null,null,"MAX",{"$f":"MAX(E86:E120)","v":6461.6188581689057}]
[null,null,null,"MIN",{"$f":"MIN(E86:E120)","v":6338.4899223805687}]
[null,null,null,"STD DEV",{"$f":"STDEV(E86:E120)","v":22.481296875879949}]

{"sheet":"Pb-206_12","index":9,"n_rows":34,"n_cols":8,"rows_kept":34,"cut":false,"hidden":false,"merged":[]}
[null,"Pb-206/204","Pb-207/204","Pb-207/206","Pb-207/206",null,null,"Geochimica et Cosmochimica Acta, Vol. 45. pp. 635 to 645, 1981"]
[null,"Ratio","Ratio","Ratio","Ages"]
[null,42.06,19.96,{"$f":"(C3/B3)","v":0.47456015216357583},{"$f":"[1]!AgePb76($D$3)","v":4164.0663887908968}]
[null,42.22,20.05,{"$f":"(C4/B4)","v":0.47489341544291808},{"$f":"[1]!AgePb76($D$4)","v":4165.1057190357242}]
[null,72.540000000000006,23.29,0.32106424041907911,{"$f":"[1]!AgePb76($D$5)","v":3574.9395569956123}]
[null,72.459999999999994,23.22,0.32045266353850399,{"$f":"[1]!AgePb76($D$6)","v":3572.0079444154835}]
[null,142,32.18,0.22661971830985916,{"$f":"[1]!AgePb76($D$7)","v":3028.3278746845967}]
[null,102.6,26.83,0.2615009746588694,{"$f":"[1]!AgePb76($D$8)","v":3255.7713101223094}]
[null,50.92,20.47,0.40200314218381772,{"$f":"[1]!AgePb76($D$9)","v":3916.5873578527639}]
[null,51.97,20.65,0.3973446218972484,{"$f":"[1]!AgePb76($D$10)","v":3899.0608172678694}]
[null,53.44,21.5,0.40232035928143717,{"$f":"[1]!AgePb76($D$11)","v":3917.7727143858997}]
[null,52.69,21.41,0.40633896375023726,{"$f":"[1]!AgePb76($D$12)","v":3932.7012356870687}]
[null,35.82,18.829999999999998,0.52568397543271905,{"$f":"[1]!AgePb76($D$13)","v":4314.8946423523921}]
[null,36.020000000000003,18.95,0.52609661299278176,{"$f":"[1]!AgePb76($D$14)","v":4316.0464611678617}]
[null,56.14,20.92,0.37263982899893128,{"$f":"[1]!AgePb76($D$15)","v":3802.1858138313792}]
[null,39.619999999999997,18.510000000000002,0.46718828874305912,{"$f":"[1]!AgePb76($D$16)","v":4140.8712782665043}]
[null,24.66,17.36,0.70397404703974042,{"$f":"[1]!AgePb76($D$17)","v":4738.851756458721}]
[null,24.56,17.39,0.70806188925081437,{"$f":"[1]!AgePb76($D$18)","v":4747.1667854889474}]
[null,28.93,17.850000000000001,0.61700656757690986,{"$f":"[1]!AgePb76($D$19)","v":4548.5662145031401}]
[null,28.95,17.86,0.61692573402417961,{"$f":"[1]!AgePb76($D$20)","v":4548.3762460049702}]
[null,74.680000000000007,25.44,0.34065345474022496,{"$f":"[1]!AgePb76($D$21)","v":3665.7038123778684}]
[null,74.430000000000007,25.33,0.34031976353620846,{"$f":"[1]!AgePb76($D$22)","v":3664.2064710650648}]
[null,41.21,20.11,0.4879883523416646,{"$f":"[1]!AgePb76($D$23)","v":4205.329289936647}]
[null,41.31,20.18,0.48850157346889372,{"$f":"[1]!AgePb76($D$24)","v":4206.8818200664518}]
[null,782,135,0.17263427109974425,{"$f":"[1]!AgePb76($D$25)","v":2583.347416040137}]
[null,767.5,133.5,0.1739413680781759,{"$f":"[1]!AgePb76($D$26)","v":2595.9330900865384}]
[null,145.4,36.99,0.25440165061898212,{"$f":"[1]!AgePb76($D$27)","v":3212.367270443342}]
[null,147.6,37.590000000000003,0.2546747967479675,{"$f":"[1]!AgePb76($D$28)","v":3214.0623140684897}]
[null,861.9,147.4,0.17101751943380905,{"$f":"[1]!AgePb76($D$29)","v":2567.626081575736}]
[null,211.6,53.2,0.25141776937618149,{"$f":"[1]!AgePb76($D$30)","v":3193.7158878029845}]
[null,null,null,"AVG",{"$f":"AVERAGE(E3:E30)","v":3774.7311989562645}]
[null,null,null,"MAX",{"$f":"MAX(E3:E30)","v":4747.1667854889474}]
[null,null,null,"MIN",{"$f":"MIN(E3:E30)","v":2567.626081575736}]
[null,null,null,"STD DEV",{"$f":"STDEV(E3:E30)","v":629.96341105330043}]

{"sheet":"Pb-206_13","index":10,"n_rows":73,"n_cols":22,"rows_kept":73,"cut":false,"hidden":false,"merged":[]}
["Table 3","Page 3531",null,null,null,null,null,null,null,null,"238/204",null,"206/204",null,"207/204","Pb-207/206","Pb-207/206",null,"Geochimica et Cosmochimica Acta, Vol. 62, No. 21/22, pp. 3527–3540, 1998"]
["Leach","A",{"$f":"(A2 &\"-\" & B2)","v":"Leach-A"},1.7999999999999999E-2,0.65800000000000003,0.02,1.4259999999999999,0.58099999999999996,"—","—","—",null,"—","—","—","Ratio","Ages"]
["Leach","B",{"$f":"(A3 &\"-\" & B3)","v":"Leach-B"},4.8000000000000001E-2,2.37,7.0999999999999994E-2,0.122,0.05,0.72799999999999998,2,239.4,null,19.847000000000001,-5.1999999999999998E-2,15.693,{"$f":"(O3/M3)","v":0.79069884617322506},{"$f":"[1]!AgePb76($P$3)","v":4905.0743476213474},-0.191]
["Leach","C","Leach-C",4.5999999999999999E-2,2.6549999999999998,7.9000000000000001E-2,5.8000000000000003E-2,2.4E-2,0.66700000000000004,1.847,547.4,null,22.765999999999998,-0.17,15.821999999999999,{"$f":"(O4/M4)","v":0.69498374769392957},{"$f":"[1]!AgePb76($P$4)","v":4720.3817054368265},-0.51500000000000001]
["Leach","D","Leach-D",4.2999999999999997E-2,2.4140000000000001,7.1999999999999995E-2,4.9000000000000002E-2,0.02,0.61699999999999999,1.6180000000000001,622.70000000000005,null,23.379000000000001,-0.33,15.952999999999999,0.68236451516318053,{"$f":"[1]!AgePb76($P$5)","v":4694.0206608745766},-0.97199999999999998]
["Leach","D1","Leach-D1",0.52600000000000002,25.33,0.75800000000000001,0.68500000000000005,0.27900000000000003,10.11,20.57,541.70000000000005,null,24.43,-4.4999999999999998E-2,16.004999999999999,0.65513712648383127,{"$f":"[1]!AgePb76($P$6)","v":4635.3214280667853},-0.17100000000000001]
["Leach","E","Leach-E",0.318,0.33,0.01,0.112,4.4999999999999998E-2,17.170000000000002,1.2629999999999999,15146,null,570.41999999999996,-3.524,48.726999999999997,8.5423021633182564E-2,{"$f":"[1]!AgePb76($P$7)","v":1325.1586943238447},-0.59599999999999997]
["Leach","A","Leach-A",2.3E-2,0.248,6.7000000000000004E-2,2.2400000000000002,0.85199999999999998,2.3119999999999998,7.2110000000000003,149.30000000000001,null,17.997,-3.1E-2,15.673,0.87086736678335275,{"$f":"[1]!AgePb76($P$8)","v":5042.3004571523506},-0.129]
["Leach","B","Leach-B",1.2999999999999999E-2,0.129,3.5000000000000003E-2,3.2000000000000001E-2,1.2E-2,3.9E-2,2.7E-2,2.3119999999999998,268.7,18.561,-0.14199999999999999,15.545999999999999,0.83756263132374331,{"$f":"[1]!AgePb76($P$9)","v":4986.9919732996641},-0.34799999999999998]
["Leach","C","Leach-C",0.186,1.6220000000000001,0.44,6.3E-2,2.4E-2,0.64300000000000002,0.91600000000000004,802.5,1984,23.472000000000001,-0.154,15.863,0.67582651670074978,{"$f":"[1]!AgePb76($P$10)","v":4680.1571918356858},-0.30299999999999999]
["Leach","D","Leach-D",4.3999999999999997E-2,0.44500000000000001,0.121,2.5999999999999999E-2,0.01,0.18,0.29399999999999998,442.4,1260,21.555,-0.50800000000000001,15.974,0.74108095569473442,{"$f":"[1]!AgePb76($P$11)","v":4812.5076599761505},-0.68899999999999995]
["Leach","D1","Leach-D1",0.41699999999999998,1.2430000000000001,0.33700000000000002,0.23300000000000001,8.8999999999999996E-2,2.0910000000000002,3.7909999999999999,488.3,411.2,22.814,-5.6000000000000001E-2,15.863,0.69531866397825892,{"$f":"[1]!AgePb76($P$12)","v":4721.0743411812782},-0.187]
["Leach","E","Leach-E",0.318,"—","—",3.5000000000000003E-2,1.2999999999999999E-2,4.3449999999999998,0.34300000000000003,18853,"—",525.87,-10.06,48.021000000000001,9.1317245707113928E-2,{"$f":"[1]!AgePb76($P$13)","v":1453.2269585088427},-1.2929999999999999]
[null,null,null,null,null,null,null,null,null,null,null,null,null,null,null,"Average",{"$f":"AVERAGE(Q3:Q13)","v":4179.6559471161227}]
[null,null,null,null,null,null,null,null,null,null,null,null,null,null,null,"Maximum",{"$f":"MAX(Q3:Q13)","v":5042.3004571523506}]
[null,null,null,null,null,null,null,null,null,null,null,null,null,null,null,"Minimum",{"$f":"MIN(Q3:Q13)","v":1325.1586943238447}]
[null,null,null,null,null,null,null,null,null,null,null,null,null,null,null,"Std Deviation",{"$f":"STDEV(Q3:Q13)","v":1386.0906016796648}]
["Table 3","Page 3531"]
["U238/Pb204","Th232/Pb204","Pb208/Pb204","Pb206/Pb204","206-Pb/238-U","206-Pb/238-U","208-Pb/232-Th","208-Pb/232-Th",null,"Dating","206Pb/238U","208Pb/232Th","Pb207/Pb206"]
["Ratio","Ratio","Ratio","Ratio","Ratio","Age","Ratio","Age",null,"Summary","Age","Age","Ages"]
[null,null,null,null,null,null,null,null,null,"Average",1620.7380438168314,4084.0780074447539,4179.6559471161227]
[239.4,1377,43.058999999999997,19.847000000000001,{"$f":"(D22/A22)","v":8.2903091060985798E-2},{"$f":"[1]!AgePb6U8(E22)","v":513.42776520198663},{"$f":"(C22/B22)","v":3.1270152505446625E-2},{"$f":"[1]!AgePb8Th2(G22)","v":622.35877310314572},null,"Maximum",14007.743347241527,37154.259564917855,5042.3004571523506]
[547.4,3687,51.198,22.765999999999998,{"$f":"(D23/A23)","v":4.1589331384727805E-2},{"$f":"[1]!AgePb6U8(E23)","v":262.67687280276994},{"$f":"(C23/B23)","v":1.3886086248982913E-2},{"$f":"[1]!AgePb8Th2(G23)","v":278.73790562782773},null,"Minimum",177.34887867644906,160.96350381065614,1325.1586943238447]
[622.70000000000005,4033,52.012,23.379000000000001,3.7544563995503454E-2,{"$f":"[1]!AgePb6U8(E24)","v":237.59500692299727},1.2896603025043392E-2,{"$f":"[1]!AgePb8Th2(G24)","v":259.00252638544544},null,"Std Deviation",3930.7406926305025,11000.206282611509,1386.0906016796648]
[541.70000000000005,3038,50.639000000000003,24.43,4.5098763153036729E-2,{"$f":"[1]!AgePb6U8(E25)","v":284.36029747146307},1.6668531928900592E-2,{"$f":"[1]!AgePb8Th2(G25)","v":334.13110932171935}]
[15146,1833,77.001000000000005,570.41999999999996,3.7661428760068665E-2,{"$f":"[1]!AgePb6U8(E26)","v":238.32106368951503},4.2008183306055651E-2,{"$f":"[1]!AgePb8Th2(G26)","v":831.72909067292517}]
[149.30000000000001,852.8,0,0,0,null,0]
[0,0,0,0,0,null,0]
[0,0,0,0,0,null,0,null,null,null,null,null,null,null,null,null,null,null,null,null,null,4720]
[2.3119999999999998,7.2110000000000003,38.112000000000002,17.997,{"$f":"(D30/A30)","v":7.7841695501730106},{"$f":"[1]!AgePb6U8(E30)","v":14007.743347241527},{"$f":"(C30/B30)","v":5.2852586326445712},{"$f":"[1]!AgePb8Th2(G30)","v":37154.259564917855},null,null,null,null,null,null,null,null,null,null,null,null,null,4721]
[92.21,268.7,15.545999999999999,18.561,0.20129053248020823,{"$f":"[1]!AgePb6U8(E31)","v":1182.249299933133},5.7856345366579826E-2,{"$f":"[1]!AgePb8Th2(G31)","v":1136.8275854587919},null,null,null,null,null,null,null,null,null,null,null,null,null,4813]
[802.5,1984,15.863,23.472000000000001,2.9248598130841123E-2,{"$f":"[1]!AgePb6U8(E32)","v":185.84380104536189},7.9954637096774188E-3,{"$f":"[1]!AgePb8Th2(G32)","v":160.96350381065614},null,null,null,null,null,null,null,null,null,null,null,null,null,4835]
[442.4,1260,15.974,21.555,4.8722875226039783E-2,{"$f":"[1]!AgePb6U8(E33)","v":306.67600036343418},1.2677777777777777E-2,{"$f":"[1]!AgePb8Th2(G33)","v":254.635423467728},null,null,null,null,null,null,null,null,null,null,null,null,null,4882]
[488.3,411.2,15.863,22.814,4.6721277902928529E-2,{"$f":"[1]!AgePb6U8(E34)","v":294.36058811469411},3.8577334630350194E-2,{"$f":"[1]!AgePb8Th2(G34)","v":765.06981684032894},null,null,null,null,null,null,null,null,null,null,null,null,null,4897]
[18853,0,48.021000000000001,525.87,2.7893173500238688E-2,{"$f":"[1]!AgePb6U8(E35)","v":177.34887867644906},{"$f":"(B35/C35)","v":0},null,null,null,null,null,null,null,null,null,null,null,null,null,null,4905]
[61.53,94.08,15.742000000000001,19.294,0.31357061595969449,{"$f":"[1]!AgePb6U8(E36)","v":1758.2536043386447},0.16732568027210887,{"$f":"[1]!AgePb8Th2(G36)","v":3127.1427822858645},null,null,null,null,null,null,null,null,null,null,null,null,null,4961]
[null,null,null,null,"Average",{"$f":"AVERAGE(F22:F36)","v":1620.7380438168314},"Average",{"$f":"AVERAGE(H22:H36)","v":4084.0780074447539},null,null,null,null,null,null,null,null,null,null,null,null,null,4981]
[null,null,null,null,"Maximum",{"$f":"MAX(F22:F36)","v":14007.743347241527},"Maximum",{"$f":"MAX(H22:H36)","v":37154.259564917855},null,null,null,null,null,null,null,null,null,null,null,null,null,4981]
[null,null,null,null,"Minimum",{"$f":"MIN(F22:F36)","v":177.34887867644906},"Minimum",{"$f":"MIN(H22:H36)","v":160.96350381065614},null,null,null,null,null,null,null,null,null,null,null,null,null,4986]
[null,null,null,null,"Std Deviation",{"$f":"STDEV(F22:F36)","v":3930.7406926305025},"Std Deviation",{"$f":"STDEV(H22:H36)","v":11000.206282611509},null,null,null,null,null,null,null,null,null,null,null,null,null,4987]
[null,null,null,null,null,null,null,null,null,null,null,null,null,null,null,null,null,null,null,null,null,5000]
[null,null,null,null,null,null,null,null,null,null,null,null,null,null,null,null,null,null,null,null,null,5042]
["Table 2","Page 3529",null,null,null,null,null,null,null,null,null,null,null,null,null,null,null,null,null,null,null,7832]
[null,"238U/","232Th/","206Pb/","207Pb/","208Pb/","208Pb/",null,null,null,null,null,null,null,null,null,null,null,null,null,null,8025]
["Sample","204Pb","204Pb","204Pb","204Pb","204Pb","204Pb","206-Pb/238-U","206-Pb/238-U","208-Pb/232-Th","208-Pb/232-Th","207Pb/206Pb","207Pb/206Pb",null,null,null,null,null,null,null,null,13524]
["Number","Ratio","Ratio","Ratio","Ratio","Ratio","Ratio","Ratio","Age","Ratio","Age","Ratio","Age",null,null,null,null,null,null,null,null,14008]
["WR",7.59,38.01,18.765999999999998,15.648999999999999,39.17,39.17,{"$f":"(D47/B47)","v":2.4724637681159418},{"$f":"[1]!AgePb6U8(H47)","v":8024.9112757069133},{"$f":"(F47/C47)","v":1.0305182846619312},{"$f":"[1]!AgePb8Th2(J47)","v":14316.140942057915},{"$f":"(E47/D47)","v":0.83390173718426941},{"$f":"[1]!AgePb76($L$47)","v":4980.7703442582169},null,null,null,null,null,null,null,null,14316]
["plag",0.20899999999999999,0,18.696000000000002,15.653,39.156999999999996,39.156999999999996,{"$f":"(D48/B48)","v":89.454545454545467},{"$f":"[1]!AgePb6U8(H48)","v":29040.11258249942},0,null,{"$f":"(E48/D48)","v":0.83723791185280272},{"$f":"[1]!AgePb76($L$48)","v":4986.4412869187618},null,null,null,null,null,null,null,null,19484]
["grt core 1",635.70000000000005,442.8,40.512,17.23,41.637999999999998,41.637999999999998,6.372817366682397E-2,{"$f":"[1]!AgePb6U8(H49)","v":398.25871009112973},{"$f":"(F49/C49)","v":9.4033423667570004E-2},{"$f":"[1]!AgePb8Th2(J49)","v":1816.4983391935882},0.42530608214849924,{"$f":"[1]!AgePb76($L$49)","v":4001.0479621740078},null,null,null,null,null,null,null,null,29040]
["grt core 2",166.6,2131,20.98,15.797000000000001,49.786000000000001,49.786000000000001,0.12593037214885955,{"$f":"[1]!AgePb6U8(H50)","v":764.60719644190283},2.3362740497419054E-2,{"$f":"[1]!AgePb8Th2(J50)","v":466.78138778243004},0.75295519542421352,{"$f":"[1]!AgePb76($L$50)","v":4835.2488665924402},null,null,null,null,null,null,null,null,37154]
["grt rim",164.1,395.6,24.042000000000002,15.978999999999999,39.930999999999997,39.930999999999997,0.14650822669104208,{"$f":"[1]!AgePb6U8(H51)","v":881.36018548195807},0.10093781597573305,{"$f":"[1]!AgePb8Th2(J51)","v":1943.6559183312277},0.66462856667498538,{"$f":"[1]!AgePb76($L$51)","v":4656.0757151709031},null,null,null,null,null,null,null,null,{"$f":"COUNT(V29:V50)","v":22}]
["WR",7.9260000000000002,41.17,18.783999999999999,15.663,39.213000000000001,39.213000000000001,2.3699217764319958,{"$f":"[1]!AgePb6U8(H52)","v":7831.6811110628605},0.95246538741802278,{"$f":"[1]!AgePb8Th2(J52)","v":13523.858014347856},0.83384795570698478,{"$f":"[1]!AgePb76($L$52)","v":4980.6787273364544}]
["plag",0.94899999999999995,0,18.545999999999999,15.673999999999999,39.009,39.009,19.542676501580612,{"$f":"[1]!AgePb6U8(H53)","v":19484.315892388528},0,null,0.84514180955462093,{"$f":"[1]!AgePb76($L$53)","v":4999.7813354625805}]
["grt core 1",962.1,3692,42.314,17.094000000000001,56.424999999999997,56.424999999999997,4.3980875168901361E-2,{"$f":"[1]!AgePb6U8(H54)","v":277.46121185444781},1.5283044420368362E-2,{"$f":"[1]!AgePb8Th2(J54)","v":306.56766279959584},0.40397977028879334,{"$f":"[1]!AgePb76($L$54)","v":3923.9568709279497}]
["grt core 2",519,3168,26.457999999999998,16.081,56.033999999999999,56.033999999999999,5.0978805394990362E-2,{"$f":"[1]!AgePb6U8(H55)","v":320.52812608677397},1.7687499999999998E-2,{"$f":"[1]!AgePb8Th2(J55)","v":354.37890939468491},0.60779348401239708,{"$f":"[1]!AgePb76($L$55)","v":4526.7404677369514}]
["grt core 3",589,3772,25.24,15.965999999999999,54.113999999999997,54.113999999999997,4.2852292020373509E-2,{"$f":"[1]!AgePb6U8(H56)","v":270.48862272941761},1.4346235418875928E-2,{"$f":"[1]!AgePb8Th2(J56)","v":287.90908407649141},0.63256735340728998,{"$f":"[1]!AgePb76($L$56)","v":4584.6468071556901}]
["grt outer core",177.6,242.4,20.225000000000001,15.737,39.637,39.637,0.11387950450450451,{"$f":"[1]!AgePb6U8(H57)","v":695.23913577558312},0.16351897689768977,{"$f":"[1]!AgePb8Th2(J57)","v":3061.1220578070011},0.77809641532756479,{"$f":"[1]!AgePb76($L$57)","v":4882.1622281858863}]
["grt rim 1",151.80000000000001,390.4,19.965,15.693,39.692,39.692,0.13152173913043477,{"$f":"[1]!AgePb6U8(H58)","v":796.5408449436452},0.10167008196721312,{"$f":"[1]!AgePb8Th2(J58)","v":1957.0951945883651},0.78602554470323061,{"$f":"[1]!AgePb76($L$58)","v":4896.6236108882695}]
["grt rim 2",176.3,575.6,19.009,15.635999999999999,39.237000000000002,39.237000000000002,0.10782189449801474,{"$f":"[1]!AgePb6U8(H59)","v":660.08593306256864},6.8167129951355113E-2,{"$f":"[1]!AgePb8Th2(J59)","v":1332.8795758144138},0.82255773580935343,{"$f":"[1]!AgePb76($L$59)","v":4961.3054457901262}]
[null,null,null,null,null,null,null,"Average",{"$f":"AVERAGE(I47:I59)","v":5341.968525240397},"Average",{"$f":"AVERAGE(K47:K59)","v":3578.8079169266875},"Average",{"$f":"AVERAGE(M47:M59)","v":4708.8830514306337}]
[null,null,null,null,null,null,null,"Maximum",{"$f":"MAX(I47:I59)","v":29040.11258249942},"Maximum",{"$f":"MAX(K47:K59)","v":14316.140942057915},"Maximum",{"$f":"MAX(M47:M59)","v":4999.7813354625805}]
[null,null,null,null,null,null,null,"Minimum",{"$f":"MIN(I47:I59)","v":270.48862272941761},"Minimum",{"$f":"MIN(K47:K59)","v":287.90908407649141},"Minimum",{"$f":"MIN(M47:M59)","v":3923.9568709279497}]
[null,null,null,null,null,null,null,"Std Deviation",{"$f":"STDEV(I47:I59)","v":9041.8077075295914},"Std Deviation",{"$f":"STDEV(K47:K59)","v":5191.6776373972298},"Std Deviation",{"$f":"STDEV(M47:M59)","v":367.75811261512058}]
[]
[]
[]
[]
[null,null,null,null,null,null,null,"Dating","206Pb/238U","208Pb/232Th","Pb207/Pb206"]
[null,null,null,null,null,null,null,"Summary","Age","Age","Ages"]
[null,null,null,null,null,null,null,"Average",5341.968525240397,3578.8079169266875,4708.8830514306337]
[null,null,null,null,null,null,null,"Maximum",29040.11258249942,14316.140942057915,4999.7813354625805]
[null,null,null,null,null,null,null,"Minimum",270.48862272941761,287.90908407649141,3923.9568709279497]
[null,null,null,null,null,null,null,"Std Deviation",9041.8077075295914,5191.6776373972298,367.7581126151253]

{"sheet":"Pb-206_14","index":11,"n_rows":37,"n_cols":19,"rows_kept":37,"cut":false,"hidden":false,"merged":[]}
[null,null,null,null,null,"206Pb/204Pb",null,"207Pb/204Pb",null,"Pb-207/206","Pb-207/206",null,null,null,null,null,null,null,"Geochimica et Cosmochimica Acta, Vol. 63, No. 3/4, pp. 473–488, 1999"]
[null,null,null,null,null,"Ratio",null,"Ratio",null,"Ratio","Ages"]
["GGU","242573a","Mgt","bulk","[m]",12.4,1.4999999999999999E-2,13.816000000000001,1.7000000000000001E-2,{"$f":"(H3/F3)","v":1.1141935483870968},{"$f":"[1]!AgePb76($J$3)","v":5388.854961184933},0.97199999999999998,0.96299999999999997,1.0999999999999999E-2,1.5369999999999999]
["GGU","242573a","Mgt","1N","HBr",16.266999999999999,0.04,14.954000000000001,3.6999999999999998E-2,{"$f":"(H4/F4)","v":0.91928444089260475},{"$f":"[1]!AgePb76($J$4)","v":5118.8261261673815},36.204000000000001,9.0999999999999998E-2,0.98399999999999999,0.98199999999999998]
["GGU","242573a","Mgt","4N","HBr",14.557,4.3999999999999997E-2,14.361000000000001,4.3999999999999997E-2,0.98653568729820706,{"$f":"[1]!AgePb76($J$5)","v":5218.316968900358},34.302,0.107,0.99099999999999999,0.97299999999999998]
["GGU","242573a","Mgt","8.8N","HBr",12.343,2.4E-2,13.754,0.03,1.1143158065300169,{"$f":"[1]!AgePb76($J$6)","v":5389.0082160864104},32.070999999999998,6.7000000000000004E-2,0.92800000000000005,0.96499999999999997]
["GGU","242573a","Mgt","7N","HNO3",13.35,4.2000000000000003E-2,14.103999999999999,4.4999999999999998E-2,1.0564794007490637,{"$f":"[1]!AgePb76($J$7)","v":5314.4552414572008},33.271000000000001,0.108,0.99,0.97799999999999998]
["GGU","242573a","Mgt","residue","—",13.384,2.5000000000000001E-2,14.135999999999999,2.8000000000000001E-2,1.0561864913329349,{"$f":"[1]!AgePb76($J$8)","v":5314.0668040820619},33.286999999999999,6.5000000000000002E-2,0.94499999999999995,0.97]
["GGU","242573a","Mgt","1N","HBr",16.488,3.3000000000000002E-2,15.019,3.1E-2,0.91090490053372153,{"$f":"[1]!AgePb76($J$9)","v":5105.8921579988437},36.347999999999999,7.6999999999999999E-2,0.98399999999999999,0.97899999999999998]
["GGU","242573a","Mgt","1N","HBr",14.973000000000001,3.9E-2,14.488,3.7999999999999999E-2,0.96760836171775855,{"$f":"[1]!AgePb76($J$10)","v":5191.0597447842192},34.777999999999999,9.4E-2,0.98599999999999999,0.97599999999999998]
["GGU","242573a","Mgt","1.5N","HBr",14.302,4.9000000000000002E-2,14.253,4.9000000000000002E-2,0.99657390574744797,{"$f":"[1]!AgePb76($J$11)","v":5232.5494532393086},34.036000000000001,0.11799999999999999,0.99299999999999999,0.98899999999999999]
["GGU","242573a","Mgt","1.5N","HBr",14.394,0.04,14.298999999999999,0.04,0.99340002778935665,{"$f":"[1]!AgePb76($J$12)","v":5228.0658817826188},34.17,9.8000000000000004E-2,0.98699999999999999,0.97399999999999998]
["GGU","242573a","Mgt","4N","HBr",12.667,1.4E-2,13.699,1.6E-2,1.0814715402226258,{"$f":"[1]!AgePb76($J$13)","v":5347.1863297560976},32.289000000000001,0.04,0.95,0.93600000000000005]
["GGU","242573a","Mgt","8N","HBr",12.244,0.03,13.776,3.5000000000000003E-2,1.1251225089839922,{"$f":"[1]!AgePb76($J$14)","v":5402.4852519484302},32.125,8.2000000000000003E-2,0.99,0.98699999999999999]
["GGU","242573a","Trem","bulk","[t]",13.287000000000001,7.3999999999999996E-2,14.038,7.9000000000000001E-2,1.0565214119063746,{"$f":"[1]!AgePb76($J$15)","v":5314.5109445952376},0.99299999999999999,0.99199999999999999,5.7000000000000002E-3,0.30499999999999999]
["GGU","242573a","Trem","1N","HBr",16.785,4.2999999999999997E-2,15.132,3.9E-2,0.90151921358355669,{"$f":"[1]!AgePb76($J$16)","v":5091.2546103323521},36.628999999999998,9.6000000000000002E-2,0.98799999999999999,0.98399999999999999]
["GGU","242573a","Trem","mix",309,14.112,5.5E-2,14.254,5.6000000000000001E-2,1.0100623582766439,{"$f":"[1]!AgePb76($J$17)","v":5251.436976456619},0.13600000000000001,0.996,0.99399999999999999]
["GGU","242573a","Trem","4N","HBr",14.023,5.3999999999999999E-2,14.247999999999999,5.6000000000000001E-2,1.0160450688155174,{"$f":"[1]!AgePb76($J$18)","v":5259.7292416334076},33.904000000000003,0.13400000000000001,0.99,0.98899999999999999]
["GGU","242573a","Trem","8N","HBr",13.302,4.3999999999999997E-2,13.997999999999999,4.7E-2,1.0523229589535408,{"$f":"[1]!AgePb76($J$19)","v":5308.9325724679866},33.439,0.113,0.99,0.99399999999999999]
["GGU","242573a","Trem","7N","HhNO3",13.941000000000001,4.4999999999999998E-2,14.273,4.7E-2,1.0238146474427945,{"$f":"[1]!AgePb76($J$20)","v":5270.4215058775262},33.781999999999996,0.111,0.98699999999999999,0.98599999999999999]
["GGU","242573a","Trem","residue","—",12.523999999999999,5.1999999999999998E-2,13.846,5.8999999999999997E-2,1.1055573299265411,{"$f":"[1]!AgePb76($J$21)","v":5377.9840699753277},0.14099999999999999,0.98599999999999999,0.97399999999999998]
["GGU","242573b","Mgt,","vein","bulk",14.371,0.05,14.47,5.0999999999999997E-2,1.0068888734256489,{"$f":"[1]!AgePb76($J$22)","v":5247.0173128974602},0.121,0.99099999999999999,0.99]
["GGU","242573b","Mgt,","vein","1N",16.731999999999999,1.6E-2,15.218999999999999,1.6E-2,0.90957446808510634,{"$f":"[1]!AgePb76($J$23)","v":5103.8270179229148},36.637,4.1000000000000002E-2,0.96299999999999997,0.94299999999999995,0.94299999999999995]
["GGU","242573b","Mgt,","vein","4N",15.23,2.8000000000000001E-2,14.776,2.8000000000000001E-2,0.97019041365725533,{"$f":"[1]!AgePb76($J$24)","v":5194.8112146531566},35.225999999999999,6.9000000000000006E-2,0.98299999999999998,0.97699999999999998,0.97699999999999998]
["GGU","242573b","Mgt,","vein","8N",12.345000000000001,0.02,13.775,2.3E-2,1.1158363710004049,{"$f":"[1]!AgePb76($J$25)","v":5390.9128179145582},32.143999999999998,5.6000000000000001E-2,0.97599999999999998,0.97199999999999998,0.97199999999999998]
["GGU","242573b","Mgt,","vein","8N",12.662000000000001,2.1000000000000001E-2,13.856,2.4E-2,1.0942978992260306,{"$f":"[1]!AgePb76($J$26)","v":5363.6759809104033},32.664000000000001,5.8000000000000003E-2,0.97699999999999998,0.97,0.97]
["GGU","242573b","Mgt,","vein","8N",12.46,4.3999999999999997E-2,13.805,0.05,1.1079454253611556,{"$f":"[1]!AgePb76($J$27)","v":5380.9990286197972},32.292000000000002,0.11700000000000001,0.99,0.98099999999999998,0.98099999999999998]
["GGU","242573b","Py","bulk","—",13.975,8.9999999999999993E-3,14.291,1.0999999999999999E-2,1.0226118067978534,{"$f":"[1]!AgePb76($J$28)","v":5268.7718114127256},0.03,0.92100000000000004,0.91700000000000004]
[940081,"Mgt","1N","HBr","2h",21.204999999999998,0.09,16.268000000000001,7.0000000000000007E-2,0.76717755246404162,{"$f":"[1]!AgePb76($J$29)","v":4861.9890887028023},0.185,0.995,0.99399999999999999]
[940081,"Mgt","4N","HBr","6h",36.003,0.248,19.28,0.13300000000000001,0.53551092964475189,{"$f":"[1]!AgePb76($J$30)","v":4342.0632032699568},0.42499999999999999,0.997,0.996]
[940081,"Mgt","8N","HBr","12h",26.437000000000001,6.5000000000000002E-2,17.331,4.3999999999999997E-2,0.65555849756023754,{"$f":"[1]!AgePb76($J$31)","v":4636.2496257636622},0.106,0.99099999999999999,0.98299999999999998]
[940081,"Mgt","8N","HBr","24h",22.332999999999998,0.11,16.539000000000001,8.2000000000000003E-2,0.74056329198943283,{"$f":"[1]!AgePb76($J$32)","v":4811.5074217668425},0.19900000000000001,0.99299999999999999,0.99]
[940081,"Mgt","8N","HBr","36h",26.045000000000002,0.13,17.114999999999998,8.5999999999999993E-2,0.65713188711844872,{"$f":"[1]!AgePb76($J$33)","v":4639.7098531479551},0.221,0.996,0.99]
[null,null,null,null,null,null,null,null,null,"AVG",{"$f":"AVERAGE(K3:K33)","v":5173.1152076035014}]
[null,null,null,null,null,null,null,null,null,"MAX",{"$f":"MAX(K3:K33)","v":5402.4852519484302}]
[null,null,null,null,null,null,null,null,null,"MIN",{"$f":"MIN(K3:K33)","v":4342.0632032699568}]
[null,null,null,null,null,null,null,null,null,"STD DEV",{"$f":"STDEV(K3:K33)","v":256.9247699082772}]

{"sheet":"Pb-206_15","index":12,"n_rows":78,"n_cols":12,"rows_kept":78,"cut":false,"hidden":false,"merged":[]}
["Table 1.",null,null,null,null,null,null,"Pb-207/206","Pb-207/206",null,null,"Geochimica et Cosmochimica Acta, Vol. 61, No. 8, pp. 1713-1731, 1997"]
["Moama",null,null,null,null,null,null,"Ratio","Ages"]
["Whole Rock",314,70,0.38,19.044,16.422999999999998,5.2503000000000001E-2,0.86253999999999997,{"$f":"[1]!AgePb76($H$3)","v":5028.684634517489}]
["*HBr leach",null,274,0.32,17.106000000000002,15.47,5.8465000000000003E-2,0.90444999999999998,{"$f":"[1]!AgePb76($H$4)","v":5095.8426282038818}]
["HF-HBr leach",null,67,0.38,17.184000000000001,15.518000000000001,5.8219E-2,0.90347,{"$f":"[1]!AgePb76($H$5)","v":5094.3102372251287}]
["Pyroxene (HBr, HF-HBr)",149,59,0.54,21.015000000000001,17.721,4.7530000000000003E-2,0.84336999999999995,{"$f":"[1]!AgePb76($H$6)","v":4996.8024680539138}]
["Plagioclase (HBr, HF-HBr)",104,49,0.77,15.941000000000001,14.798999999999999,6.2876000000000001E-2,0.92996999999999996,{"$f":"[1]!AgePb76($H$7)","v":5135.1394415456716}]
["Moore County***"]
["*Whole Rock I (2 mm depth)",129,285,0.78,21.041,16.923999999999999,4.7510999999999998E-2,0.80425999999999997,{"$f":"[1]!AgePb76($H$9)","v":4929.2992684104875}]
["Whole Rock A (10 mm depth)",103,25,0.97,48.52,33.802999999999997,0.19661000000000001,0.69289000000000001,{"$f":"[1]!AgePb76($H$10)","v":4716.0435491787166}]
["*HBr leach 1",null,172,0.97,19.343,16.013999999999999,5.1681999999999999E-2,0.82776000000000005,{"$f":"[1]!AgePb76($H$11)","v":4970.2670792885592}]
["*HBr leach 2",null,4,0.97,18.812999999999999,15.59,5.2787000000000001E-2,0.82416999999999996,{"$f":"[1]!AgePb76($H$12)","v":4964.0892261456202}]
["Whole Rock B (10 mm depth)",684,25,0.23,45.890999999999998,32.207999999999998,2.1562000000000001E-2,0.70091999999999999,{"$f":"[1]!AgePb76($H$13)","v":4732.6058113929521}]
["*HBr leach 1",null,216,0.15,19.335000000000001,15.901,5.1716999999999999E-2,0.82238999999999995,{"$f":"[1]!AgePb76($H$14)","v":4961.0154953675765}]
["*HBr leach 2",null,21,0.15,18.744,15.534000000000001,5.3342000000000001E-2,0.82864000000000004,{"$f":"[1]!AgePb76($H$15)","v":4971.7770815811191}]
["*HBr leach 3",null,22,0.15,19.047999999999998,15.7,5.2255999999999997E-2,0.82167999999999997,{"$f":"[1]!AgePb76($H$16)","v":4959.7874829014809}]
["flf-HBr leach",null,22,0.15,21.815000000000001,17.806999999999999,4.6122000000000003E-2,0.81616999999999995,{"$f":"[1]!AgePb76($H$17)","v":4950.2188894569708}]
["*Pyroxene II (HBr)",3,692,20,22.731000000000002,17.780999999999999,4.3727000000000002E-2,0.78098000000000001,{"$f":"[1]!AgePb76($H$18)","v":4887.4394792137782}]
["Pyroxene IVA (HBr)",11,94,5.5,29.378,22.431999999999999,3.3059999999999999E-2,0.76031000000000004,{"$f":"[1]!AgePb76($H$19)","v":4849.1436060147907}]
["Pyroxene IVB (HBr)",38,98,2,32.500999999999998,23.943000000000001,3.0377999999999999E-2,0.73511000000000004,{"$f":"[1]!AgePb76($H$20)","v":4800.9249364963371}]
["*Plagioclase III",207,39,0.72,20.516999999999999,16.425000000000001,4.8638000000000001E-2,0.79974999999999996,{"$f":"[1]!AgePb76($H$21)","v":4921.2914037502042}]
["*HBr leach",null,44,0.48,19.962,16.056000000000001,5.0047000000000001E-2,0.80386999999999997,{"$f":"[1]!AgePb76($H$22)","v":4928.6086817656196}]
["Plagioclase IV",52,22,1.1000000000000001,17.774000000000001,15.664999999999999,5.6385999999999999E-2,0.88415999999999995,{"$f":"[1]!AgePb76($H$23)","v":5063.7510777966991}]
["*HBr leach 1",null,31,1.1000000000000001,20.076000000000001,16.783999999999999,4.9653000000000003E-2,0.83623000000000003,{"$f":"[1]!AgePb76($H$24)","v":4984.7305392994613}]
["*HBr leach 2",null,5,1.1000000000000001,20.353999999999999,16.45,4.8016999999999997E-2,0.80320000000000003,{"$f":"[1]!AgePb76($H$25)","v":4927.4214566979754}]
["Serra de Mage"]
["Whole Rock",220,24,0.41,27.875,22.091000000000001,3.5618999999999998E-2,0.79195000000000004,{"$f":"[1]!AgePb76($H$27)","v":4907.327789018892}]
["*HBr leach",null,20,0.41,18.658999999999999,15.959,5.3584E-2,0.85582000000000003,{"$f":"[1]!AgePb76($H$28)","v":5017.5948315979267}]
["*HF-HBr leach",null,36,0.41,19.077000000000002,16.068999999999999,5.2401000000000003E-2,0.84245000000000003,{"$f":"[1]!AgePb76($H$29)","v":4995.2530881858393}]
["Pyroxene (HBr)",219,33,0.46,91.896000000000001,57.185000000000002,1.0513E-2,0.62050000000000005,{"$f":"[1]!AgePb76($H$30)","v":4556.7507625183289}]
["Plagioclase (HBr)",207,80,0.48,18.945,16.663,5.2777999999999999E-2,0.87988,{"$f":"[1]!AgePb76($H$31)","v":5056.8819083166873}]
[null,null,null,null,null,null,null,"AVG",{"$f":"AVERAGE(I1:I31)","v":4940.851957553411}]
[null,null,null,null,null,null,null,"MAX",{"$f":"MAX(I1:I31)","v":5135.1394415456716}]
[null,null,null,null,null,null,null,"MIN",{"$f":"MIN(I1:I31)","v":4556.7507625183289}]
[null,null,null,null,null,null,null,"STD DEV",{"$f":"STDEV(I1:I31)","v":126.02994217461915}]
[]
[]
["Table 2.",null,null,null,null,null,null,"Pb-207/206","Pb-207/206"]
["Bereba",null,null,null,null,null,null,"Ratio","Ages"]
["Whole Rock",332,96,0.6,607.58000000000004,375.96,1.4494E-3,0.61799000000000004,{"$f":"[1]!AgePb76($H$40)","v":4550.8752599791842}]
["HBr leach",null,11,0.3,173.67,116.78,4.6369000000000002E-3,0.66878000000000004,{"$f":"[1]!AgePb76($H$41)","v":4665.0537976643709}]
["HF-HBr leach",null,81,0.45,87.882999999999996,51.067999999999998,1.1134E-2,0.57965999999999995,{"$f":"[1]!AgePb76($H$42)","v":4457.8236333117475}]
["Plagioclase",35,154,1.7,29.466999999999999,26.361999999999998,3.3738999999999998E-2,0.89527000000000001,{"$f":"[1]!AgePb76($H$43)","v":5081.4187069368072}]
["HBr leach",null,176,1.7,21.83,18.14,4.5723E-2,0.83101000000000003,{"$f":"[1]!AgePb76($H$44)","v":4975.8353310106895}]
["Glass",90,120,0.67,49.485999999999997,29.295999999999999,2.0027E-2,0.59072999999999998,{"$f":"[1]!AgePb76($H$45)","v":4485.3617320346839}]
["2 N HBr leach",null,26,0.67,32.805999999999997,22.827000000000002,2.9968999999999999E-2,0.69288000000000005,{"$f":"[1]!AgePb76($H$46)","v":4716.0227959869198}]
["Bouvante"]
["Whole Rock (HBr)",210,90,0.48,219.42,139.97999999999999,4.3480000000000003E-3,0.63715999999999995,{"$f":"[1]!AgePb76($H$48)","v":4595.1138986829083}]
["Pyroxene",286,125,0.41,1921.5,1167.5,4.3909999999999999E-4,0.60721000000000003,{"$f":"[1]!AgePb76($H$49)","v":4525.3462497037826}]
["HF-HBr leach",null,88,0.41,289.02,181.65,3.3429000000000002E-3,0.62804000000000004,{"$f":"[1]!AgePb76($H$50)","v":4574.2484191441927}]
["Plagioclase-A",68,87,1.1000000000000001,689.43,420.83,1.1241000000000001E-3,0.60904999999999998,{"$f":"[1]!AgePb76($H$51)","v":4529.7379992625847}]
["*HF-HBr leach",null,206,1.1000000000000001,120.81,78.347999999999999,8.1370000000000001E-3,0.64797000000000005,{"$f":"[1]!AgePb76($H$52)","v":4619.4349401590553}]
["Plagioclase-B",45,74,2.5,242.7,151.6,3.2255999999999999E-3,0.62095,{"$f":"[1]!AgePb76($H$53)","v":4557.8014415686603}]
["HF-HBr leach",null,123,2.5,72.706999999999994,51.935000000000002,1.3226999999999999E-2,0.71279000000000003,{"$f":"[1]!AgePb76($H$54)","v":4756.7204422224222}]
["Cachari"]
["Whole Rock",179,279,0.84,55.488,37.674999999999997,1.7939E-2,0.67864000000000002,{"$f":"[1]!AgePb76($H$56)","v":4686.1405437437852}]
["Devitrified Glass",192,828,0.78,27.2,20.765999999999998,3.6749999999999998E-2,0.76339999999999997,{"$f":"[1]!AgePb76($H$57)","v":4854.9385652861847}]
["Shocked Plagioclase",283,111,0.53,211.45,127.91,4.3543999999999996E-3,0.60309000000000001,{"$f":"[1]!AgePb76($H$58)","v":4515.4604701486696}]
["Mafic Glass",31,238,3.2,175.55,105.47,5.2399999999999999E-3,0.59863,{"$f":"[1]!AgePb76($H$59)","v":4504.676720876133}]
["HBr leach 1",null,63,3.2,19.138000000000002,15.94,5.2130999999999997E-2,0.83221999999999996,{"$f":"[1]!AgePb76($H$60)","v":4977.9025235462786}]
["HBr leach 2",null,14,3.2,14.444000000000001,12.518000000000001,7.2593000000000005E-2,0.87122999999999995,{"$f":"[1]!AgePb76($H$61)","v":5042.8902439598141}]
["Plagioclase",42,100,2.2999999999999998,56.491,48.417000000000002,1.6983999999999999E-2,0.85760999999999998,{"$f":"[1]!AgePb76($H$62)","v":5020.5578213626977}]
["HBr leach 1",null,74,2.2999999999999998,30.832999999999998,21.911999999999999,3.1747999999999998E-2,0.70645000000000002,{"$f":"[1]!AgePb76($H$63)","v":4743.894202305416}]
["Nuevo Laredo Whole Rock",208,147,0.57999999999999996,509.99,315.77999999999997,1.8365E-3,0.61868999999999996,{"$f":"[1]!AgePb76($H$64)","v":4552.5164191856074}]
["HBr leach",null,134,0.57999999999999996,157.41999999999999,101.67,6.1904999999999998E-3,0.64522999999999997,{"$f":"[1]!AgePb76($H$65)","v":4613.311695773883}]
["HF-HBr leach",null,32,0.57999999999999996,106.61,71.757000000000005,8.8182E-3,0.67112000000000005,{"$f":"[1]!AgePb76($H$66)","v":4670.0881327858724}]
["Pyroxene",53,139,1.5,184.93,117.31,5.0816000000000004E-3,0.63307000000000002,{"$f":"[1]!AgePb76($H$67)","v":4585.7963542107245}]
["*HBr leach 2",null,790,1.5,19.678000000000001,16.43,5.0811000000000002E-2,0.83496999999999999,{"$f":"[1]!AgePb76($H$68)","v":4982.5888335402196}]
["Plagioclase",110,312,0.91,44.128999999999998,31.338000000000001,2.2591E-2,0.70987999999999996,{"$f":"[1]!AgePb76($H$69)","v":4750.8485164432486}]
["*HBr leach 3",null,7582,0.73,18.812999999999999,15.895,5.3152999999999999E-2,0.84486000000000006,{"$f":"[1]!AgePb76($H$70)","v":4999.3079850575914}]
["Stannern"]
["Whole Rock",87,119,0.86,113.64,67.881,8.5663000000000007E-3,0.59609999999999996,{"$f":"[1]!AgePb76($H$72)","v":4498.521018270505}]
["Pyroxene",16,303,3.1,179.28,98.183000000000007,5.2995999999999998E-3,0.54601999999999995,{"$f":"[1]!AgePb76($H$73)","v":4370.5281547465684}]
["Plagioclase",125,1148,0.8,127.9,75.259,7.9500000000000005E-3,0.58831,{"$f":"[1]!AgePb76($H$74)","v":4479.389358494489}]
[null,null,null,null,null,null,null,"AVG",{"$f":"AVERAGE(I40:I74)","v":4685.6297564814267}]
[null,null,null,null,null,null,null,"MAX",{"$f":"MAX(I40:I74)","v":5081.4187069368072}]
[null,null,null,null,null,null,null,"MIN",{"$f":"MIN(I40:I74)","v":4370.5281547465684}]
[null,null,null,null,null,null,null,"STD DEV",{"$f":"STDEV(I40:I74)","v":202.29053447593085}]

{"sheet":"Pb-206_16","index":13,"n_rows":61,"n_cols":12,"rows_kept":61,"cut":false,"hidden":false,"merged":[]}
[]
[]
[]
[]
["Tab. 5: Biotite ages from eclogite host rocks (micaschists/paragneisses). Saualpe and "]
["Koralpe"]
["Sample",null,"Rh PP.","Sr\nP.0","sr Itb/\"Sr","\"Sr/'Sr ± 2 e.","Mineral-Wit\nisochron age"]
["89 I17","Wit",176.7,147.99,"3..175",9.7298910999999997]
["(VI A 1'1671)","Biotite .15-.12",628.5,6.26,300.7,1.0271717,"70.1 ± 1.3"]
["891'19","Wit",107.9,143,2.1920000000000002,"0.71813 ± 9"]
["OVA P1675)","Biotite .15-.12",195.8,1.31,313.3,"0.993311 + 16","56.8 + 1.0"]
[89122,"Wit",133.30000000000001,153,2.532,"0.72345 + 7"]
["(WAP1676)","Biotite .15.-.42",599.1,2.99,613.79999999999995,1.27203116,"63.2 ± 1.2"]
[891.58,"WR",229.5,119,5.6109999999999998,0.73260170000000002]
["(WA P1687)","Biotite .15-.12","586.-I",2.0099999999999998,932.1,"1.72000 ± 40","75.0 1 2.0"]
["89T65","W It",93.9,95,2.8679999999999999,"0.71009 ± .1"]
["(WA P1688)","Biotite .15-.12",330,113.4,8.1549999999999994,"0.71706 + 5","87.8 ± L3"]
[null,"White mica .15-.15",275,118.15,6.76,"0.71181 ± 5","79.9 ± 1.2"]
["89T69","00R",155.6,163.4,2.77,"0.72817 ± 6"]
["(WA P1689)","Biotite 15-..12')",-169.7,20.32,67.816999999999993,0.81336111,"92.0 ± 2.0"]
["89T73","WR",203.1,110.9,5.327,"0.73012 ± 7"]
["(WA P1691)","Biotite 15-.42",575.9,9.9,172.71,"0.93758 ±.I","87.0 + 2.0"]
["89-1'75","WR",38.700000000000003,46.6,2.113,"0.72279 + 9"]
["(\\VAP1692)","Biotite .15-.42",532.6,8.7899999999999991,179.7,0.93016113,"82.4 ± 1.5"]
[89171,"WR",171.7,110.9,1.5780000000000001,"0.72030 ± 8"]
["(WAP1690)\n901-09","WR",183.8,133,1.0189999999999999,"0.72712 ± 8"]
["(WAP17-14)","Biotite .15-.12",671.2,11.22,176.7,"0.88298 ± 9","63.5 1 1.2"]
["9011 I","WR",111.5,217.1,1.891,"0.71979 ± 11"]
["(WAPI715)","Biotite .15-.12",711.6,10.79,195.1,"0.90163 1- 12","66.21 1.2"]
["o) unclean separate"]
[]
[]
[]
["Table 6",null,"Sample U ppb","Pb ppb","p","206 pb /","207 pb /","208 Pb /","Pb-207/206","Pb-207/206",null,"Geochimica et Cosmochimica Acta, 1992, Vol. 56, pp. 347-368"]
["Sample",null,"weight (mg)",null,null,"204 pb","204pb","204 Pb","Ratio","Ages"]
["88T35","WR","21.0 116.6",4819.5,1.77,18.533999999999999,15.612,38.548999999999999,{"$f":"(G36/F36)","v":0.84234380058271285},{"$f":"[1]!AgePb76($I$36)","v":4995.0741211266459}]
[null,"Cpx","83.66 3.20",404.5,0.57899999999999996,18.45,15.657999999999999,38.656999999999996,{"$f":"(G37/F37)","v":0.84867208672086725},{"$f":"[1]!AgePb76($I$37)","v":5005.6969127428702}]
[null,"Gnt","73.08 81.69",109.4,null,17.998000000000001,15.59,37.905999999999999,0.86620735637293023,{"$f":"[1]!AgePb76($I$38)","v":5034.6981342412791}]
[null,"Amp","85.18 14.18",861.2,1.204,18.478000000000002,15.637,38.546999999999997,0.8462495941119168,{"$f":"[1]!AgePb76($I$39)","v":5001.6404375717539}]
[null,"Zoi","27.35 542.5",44620.3,0.89400000000000002,18.599,15.657999999999999,38.826999999999998,0.84187321899026824,{"$f":"[1]!AgePb76($I$40)","v":4994.2808093654976}]
[null,"Pheng","87.01 n. det.",6714.3,null,18.716999999999999,15.712999999999999,38.865000000000002,0.83950419404819154,{"$f":"[1]!AgePb76($I$41)","v":4990.2799114625059}]
["SKP30","WR","8.81 326.4",7772.6,3.0870000000000002,18.585000000000001,15.648,38.805,0.84196933010492325,{"$f":"[1]!AgePb76($I$42)","v":4994.4428728437642}]
[null,"WRL","11.68 m det.",5618.7,null,18.654,15.659000000000001,39.139000000000003,0.83944462313712875,{"$f":"[1]!AgePb76($I$43)","v":4990.1791513337384}]
[null,"Gnt","19.92 68.7",185.8,26.382000000000001,17.702000000000002,15.55,37.594000000000001,0.87843181561405481,{"$f":"[1]!AgePb76($I$44)","v":5054.5496209203193}]
["SK30","WR","9.57 182.6",39209.599999999999,0.33900000000000002,18.489999999999998,15.555999999999999,38.325000000000003,0.84131963223363981,{"$f":"[1]!AgePb76($I$45)","v":4993.3469632690003}]
["86T09","Gnt","21.58 11.8",71.8,11.734,17.754000000000001,15.583,37.590000000000003,0.87771769742029959,{"$f":"[1]!AgePb76($I$46)","v":5053.3980379900668}]
["GE2","WR","9.79 459.9",4081.6,8.2360000000000007,18.623999999999999,15.598000000000001,38.409999999999997,0.83752147766323037,{"$f":"[1]!AgePb76($I$47)","v":4986.9221940419675}]
[null,"Cpx","24.54 36.4",409,6.51,18.48,15.606999999999999,38.561999999999998,0.84453463203463197,{"$f":"[1]!AgePb76($I$48)","v":4998.761261724715}]
[null,"Gnt","34.39 34.9",53.25,46.658999999999999,17.603999999999999,15.595000000000001,37.530999999999999,0.88587820949784146,{"$f":"[1]!AgePb76($I$49)","v":5066.4987943298192}]
[null,"Epi","8.05 4858.8",47333.8,7.4969999999999999,18.559000000000001,15.585000000000001,38.426000000000002,0.83975429710652516,{"$f":"[1]!AgePb76($I$50)","v":4990.7028608279279}]
["GE/a","WR","10.53 548.5",3948.2,10.076000000000001,18.391999999999999,15.539,38.131999999999998,0.84487820791648549,{"$f":"[1]!AgePb76($I$51)","v":4999.3385736329719}]
[null,"WRL","9.02 n. det.",1351.7,null,18.5,15.612,38.326999999999998,0.84389189189189184,{"$f":"[1]!AgePb76($I$52)","v":4997.6805926900888}]
[null,"Cpx","82.42 322.7",408.7,null,18.376999999999999,15.56,38.125999999999998,0.84671056211568818,{"$f":"[1]!AgePb76($I$53)","v":5002.4132800678917}]
["BAR1","WR","7.73 354.9",1952.8,12.87,17.536000000000001,15.513,37.286000000000001,0.88463731751824815,{"$f":"[1]!AgePb76($I$54)","v":5064.5149595279145}]
[null,"Plag/s","94.68 86.9",159.6,38.72,17.719000000000001,15.481999999999999,37.393000000000001,0.87375134036909519,{"$f":"[1]!AgePb76($I$55)","v":5046.9837640181904}]
[null,"Plag/v","112.56 207.1",166.9,87.98,17.702999999999999,15.446,37.283000000000001,0.87250748460712879,{"$f":"[1]!AgePb76($I$56)","v":5044.9658719365352}]
[null,"Cpx","24.33 8.73",74.400000000000006,8.375,17.77,15.552,37.558,0.87518289251547554,{"$f":"[1]!AgePb76($I$57)","v":5049.3023840421101}]
[null,null,null,null,null,null,null,null,"AVG",{"$f":"AVERAGE(J36:J57)","v":5016.1668868048901}]
["s = clean, v = unclean",null,null,null,null,null,null,null,"MAX",{"$f":"MAX(J36:J57)","v":5066.4987943298192}]
[null,null,null,null,null,null,null,null,"MIN",{"$f":"MIN(J36:J57)","v":4986.9221940419675}]
[null,null,null,null,null,null,null,null,"STD DEV",{"$f":"STDEV(J36:J57)","v":28.580799321551069}]

{"sheet":"Pb-206_17","index":14,"n_rows":28,"n_cols":8,"rows_kept":28,"cut":false,"hidden":false,"merged":[]}
[null,null,null,null,"Pb-207/206","Pb-207/206",null,"Geochimica et Cosmochimica Acta, Vol. 61, No. 23, pp. 5005-5022, 1997"]
["Locality","Material","206pb/204pb","207pb/204pb","Ratio","Ages"]
["Amphibolites"]
["148,western ore field","Whole rock",18.309999999999999,15.58,{"$f":"(D4/C4)","v":0.85090114691425456},{"$f":"[1]!AgePb76($E$4)","v":5009.4186346975084}]
["149,western ore field","Whole rock",18.34,15.58,{"$f":"(D5/C5)","v":0.84950926935659765},{"$f":"[1]!AgePb76($E$5)","v":5007.0959201283395}]
["81-88, western ore field","Whole rock",18.29,15.56,0.85073810825587759,{"$f":"[1]!AgePb76($E$6)","v":5009.1467704525385}]
["81-88, western ore field","Plagioclase",18.12,15.57,0.85927152317880795,{"$f":"[1]!AgePb76($E$7)","v":5023.3022728168007}]
["Hornblendites"]
["292, eastern field","Whole rock",18.39,15.59,0.84774333877107122,{"$f":"[1]!AgePb76($E$9)","v":5004.1431754306441}]
["291, eastern ore field","Whole rock",18.579999999999998,15.61,0.84015069967707212,{"$f":"[1]!AgePb76($E$10)","v":4991.3729432603941}]
["173, 82-206, TS 1220","Whole rock",18.25,15.59,0.85424657534246573,{"$f":"[1]!AgePb76($E$11)","v":5014.9848998553298}]
["173, 82-206, TS 1220","Plagioclase",18.13,15.58,0.85934914506343085,{"$f":"[1]!AgePb76($E$12)","v":5023.4303483989052}]
["173, 82-206, TS 1220","Molybdenite",18.21,15.56,0.85447556287753978,{"$f":"[1]!AgePb76($E$13)","v":5015.3650521496411}]
["173, 82-206, TS 1220","Pyrite",18.18,15.58,0.85698569856985696,{"$f":"[1]!AgePb76($E$14)","v":5019.5251605874964}]
["Gneisses"]
["K2,TS 1164, 2-mica","Whole rock",18.18,15.59,0.8575357535753575,{"$f":"[1]!AgePb76($E$16)","v":5020.435051727095}]
["K1, TS 1175, W. mica","Whole rock",18.53,15.62,0.84295736643281161,{"$f":"[1]!AgePb76($E$17)","v":4996.1077705074431}]
["K3,TS 1024, Biotite","Whole rock",18.489999999999998,15.64,0.84586262844780968,{"$f":"[1]!AgePb76($E$18)","v":5000.9913194255168}]
["K3, TS 1024, Biotite","Titanite",45.3,17.2,0.37969094922737306,{"$f":"[1]!AgePb76($E$19)","v":3830.5378647307739}]
["K3, TS 1024, Biotite","Allanite",26.12,16.14,0.6179173047473201,{"$f":"[1]!AgePb76($E$20)","v":4550.7047106031732}]
["K3, TS 1024, Biotite","K-feldspar",19.989999999999998,15.79,0.7898949474737369,{"$f":"[1]!AgePb76($E$21)","v":4903.6244494112298}]
["K3, TS 1024, Biotite","*Galena",18.11,15.59,0.86085035891772499,{"$f":"[1]!AgePb76($E$22)","v":5025.9049281329508}]
["K3, TS 1024, Biotite","*MoS2",19.899999999999999,15.69,0.78844221105527645,{"$f":"[1]!AgePb76($E$23)","v":4901.0003296885279}]
["KS, TS 1024, Biotite","*Pb-Bi-salts",18.100000000000001,15.58,0.86077348066298331,{"$f":"[1]!AgePb76($E$24)","v":5025.7783144425539}]
[null,null,null,null,"AVG",{"$f":"AVERAGE(F3:F24)","v":4914.3615745498346}]
[null,null,null,null,"MAX",{"$f":"MAX(F3:F24)","v":5025.9049281329508}]
[null,null,null,null,"MIN",{"$f":"MIN(F3:F24)","v":3830.5378647307739}]
[null,null,null,null,"STD DEV",{"$f":"STDEV(F3:F24)","v":284.1429350395984}]

{"sheet":"Pb-206_18","index":15,"n_rows":89,"n_cols":19,"rows_kept":89,"cut":false,"hidden":false,"merged":[]}
["Sample","TABLE 1",null,null,null,"206Pb/204Pb","207Pb/204Pb",null,"238U/204Pb",null,null,null,"207Pb/206Pb","207Pb/206Pb","206Pb/238U","238U/206Pb","Earth and Planetary Sctence Letters, 113 (1992) 107-128","207Pb/206Pb","238U/206Pb"]
["Name","Page 110",null,null,null,"Ratio","Ratio",null,"Ratio",null,null,null,"Ratio","Age","Ratio","Age",null,5076.5830286010323,22200.704611067998]
["BC-1-8 Pyroxene Megacryst",null,0.36199999999999999,56,2.2800000000000001E-2,18.835999999999999,15.602,38.377000000000002,0.99,4.18,6.92,-2.27,{"$f":"(G3/F3)","v":0.82830749628371214},{"$f":"[1]!AgePb76($M$3)","v":4971.2067349988974},{"$f":"(F3/I3)","v":19.026262626262625},{"$f":"[1]!AgePb6U8(O3)","v":19320.190449406655},null,5070.4095550985248,21813.207029910729]
["BC-101-1","Garnet Mcgacryst",0.61499999999999999,5.7999999999999996E-3,5.7999999999999996E-3,18.184999999999999,15.605,38.061,0.6,0.94099999999999995,14.28,44.83,{"$f":"(G4/F4)","v":0.85812482815507296},{"$f":"[1]!AgePb76($M$4)","v":5021.4088014139261},30.308333333333334,{"$f":"[1]!AgePb6U8(O4)","v":22200.704611067998},null,5061.9665323315721,19320.190449406655]
["BC-101-6","Garnet Megacryst",6.8400000000000002E-2,6.6E-3,3.2000000000000002E-3,18.841000000000001,15.682,38.473999999999997,6.13,0.501,14.86,6.82,0.83233374024733287,{"$f":"[1]!AgePb76($M$5)","v":4978.0966758023769},3.073572593800979,{"$f":"[1]!AgePb6U8(O5)","v":9054.1202359344334},null,5060.0662973207009,16656.390670297016]
["13C-101-6-1 Garnet Megacryst",null,0.23300000000000001,5.4999999999999997E-3,4.1999999999999997E-3,18.494,15.612,38.220999999999997,1.51,0.77400000000000002,11.63,23.48,0.84416567535416898,{"$f":"[1]!AgePb76($M$6)","v":4998.1410244784583},12.247682119205297,{"$f":"[1]!AgePb6U8(O6)","v":16656.390670297016},null,5058.6151336056146,16199.878029335672]
["13C-101-12","Garnet Mcgacryst",0.107,3.5999999999999999E-3,3.0000000000000001E-3,19.035,15.773,38.726999999999997,2.15,0.86499999999999999,21.86,8.67,0.82863146834778034,{"$f":"[1]!AgePb76($M$7)","v":4971.7624502031613},8.8534883720930235,{"$f":"[1]!AgePb6U8(O7)","v":14748.271019751501},null,5055.3137864959954,14748.271019751501]
["BC-103-1","Pyroxene Megacryst","--",8.3000000000000001E-3,3.6999999999999998E-2,18.626999999999999,15.664,38.441000000000003,0,4.6100000000000003,15.38,29.4,0.84092983303806301,{"$f":"[1]!AgePb76($M$8)","v":4992.6890188345496},0,null,null,5051.016748795535,13606.576209458295]
["13C-104","Garnet Pyroxenite, W.R.",0.19,2.3699999999999999E-2,0.106,17.698,15.327,37.744999999999997,10.7,3.34,-8.25,72.11,0.86603005989377324,{"$f":"[1]!AgePb76($M$9)","v":5034.4080368434643},1.6540186915887851,{"$f":"[1]!AgePb6U8(O9)","v":6292.1835853943949},null,5049.855549252622,9877.5850267629157]
["13C-104","Clinopyroxene in BC-104",4.3900000000000002E-2,1.83E-2,0.71799999999999997,18.257999999999999,15.488,37.972999999999999,26.3,4.05,1.78,27.21,0.84828568298827911,{"$f":"[1]!AgePb76($M$10)","v":5005.0507029222017},0.69422053231939163,{"$f":"[1]!AgePb6U8(O10)","v":3398.6963553560872},null,5049.786629766214,9656.1050782804505]
["13C-104","Garnet in BC-104",0.20799999999999999,5.1999999999999998E-3,2.5999999999999999E-3,18.373999999999999,15.484,37.904000000000003,1.62,0.51300000000000001,0.13,6.28,0.84271252857298362,{"$f":"[1]!AgePb76($M$11)","v":4995.6953980096623},11.341975308641974,{"$f":"[1]!AgePb6U8(O11)","v":16199.878029335672},null,5044.5557733390115,9054.1202359344334]
["13C-104-1","Amphibole Pyroxenite, W.R.",0.29899999999999999,3.8399999999999997E-2,0.105,18.079999999999998,15.48,38.005000000000003,8.0500000000000007,2.84,2.91,36.28,0.85619469026548678,{"$f":"[1]!AgePb76($M$12)","v":5018.2156011793159},2.2459627329192542,{"$f":"[1]!AgePb6U8(O12)","v":7590.0853382887935},null,5043.7709240558579,8241.7644519501864]
["BC-104-1","Chnopyroxene in BC-104-1",6.1800000000000001E-2,9.6000000000000002E-2,0.41399999999999998,18.814,15.589,38.619999999999997,99.4,4.46,5.86,24.69,0.8285850962049538,{"$f":"[1]!AgePb76($M$13)","v":4971.6829213822994},0.18927565392354123,{"$f":"[1]!AgePb6U8(O13)","v":1117.449976548116},null,5043.7588732833165,8044.4764449097829]
["13C-1-2","Clinopyroxene in",6.6699999999999995E-2,4.7300000000000002E-2,0.187,18.815999999999999,15.581,38.218000000000004,45.2,4.07,5.04,-15.75,0.82807185374149661,{"$f":"[1]!AgePb76($M$14)","v":4970.8023878858194},0.41628318584070789,{"$f":"[1]!AgePb6U8(O14)","v":2243.5839824444397},null,5043.6716734485863,7996.0905630345542]
[null,null,null,null,null,null,null,null,null,null,null,null,null,null,0,null,null,5034.4080368434643,7590.0853382887935]
["Basalts#",null,null,null,null,null,null,null,null,null,null,null,null,null,0,null,null,5033.1797204075619,7421.8852038634004]
["BC-5-2","Olivine Tholciite (5th)°",3.95,1.238,4.8,17.626000000000001,15.432,37.691000000000003,19.52,4.0049999999999999,3.03,75.42,0.87552479291955065,{"$f":"[1]!AgePb76($M$17)","v":5049.855549252622},0.90297131147540988,{"$f":"[1]!AgePb6U8(O17)","v":4147.7293329908371},null,5032.918271784084,7348.0905289460343]
["BC-4-1","Alkali Olivine basalt (4th)",4.1219999999999999,1.349,5.0960000000000001,17.667999999999999,15.411,37.645000000000003,20.37,3.9020000000000001,0.48,65.739999999999995,0.87225492415666739,{"$f":"[1]!AgePb76($M$18)","v":5044.5557733390115},0.86735395189003428,{"$f":"[1]!AgePb6U8(O18)","v":4025.9302486430615},null,5032.686034274021,7334.6923515091621]
["BC-5-2","Olivine Tholciite (3rd)",3.7669999999999999,1.7130000000000001,4.2939999999999996,17.628,15.433,37.710999999999999,19.364999999999998,3.7879999999999998,3.11,77.17,0.87548218742909012,{"$f":"[1]!AgePb76($M$19)","v":5049.786629766214},0.91030209140201401,{"$f":"[1]!AgePb6U8(O19)","v":4172.515020723853},null,5032.3086149308783,7249.0688075805829]
["BC-2-4","Olivine Tholeiite (2nd)",3.26,0.76300000000000001,3.7,17.599,15.420999999999999,37.716000000000001,14.6,5.01,2.23,81.180000000000007,0.87624296835047444,{"$f":"[1]!AgePb76($M$20)","v":5051.016748795535},1.2054109589041095,{"$f":"[1]!AgePb6U8(O20)","v":5098.5583719787674},null,5029.6109991783296,7202.372990816335]
["BC-1-4","Alkali Olivine Basalt (1st)",4.26,1.4950000000000001,5.79,17.670999999999999,15.404,37.621000000000002,21.8,4,-0.25,62.98,0.87171071246675347,{"$f":"[1]!AgePb76($M$21)","v":5043.6716734485863},0.81059633027522926,{"$f":"[1]!AgePb6U8(O21)","v":3826.9541031862532},null,5027.3274618499154,7019.2940995547569]
["Hanluoba",null,null,null,null,null,null,null,null,null,null,null,null,null,0,null,null,5022.071295246632,6923.1094999987345]
["Inclusions",null,null,null,null,null,null,null,null,null,null,null,null,null,0,null,null,5021.4088014139261,6847.6516962037758]
["X-23","Lherzolite, W.R.",8.1000000000000003E-2,1.11E-2,1.24E-2,17.773,15.494,37.683,8.5500000000000007,1.17,7.64,56.84,0.87177178866820459,{"$f":"[1]!AgePb76($M$24)","v":5043.7709240558579},2.0787134502923976,{"$f":"[1]!AgePb6U8(O24)","v":7249.0688075805829},null,5018.2156011793159,6292.1835853943949]
["X-23","Clinopyroxene in X-23",0.13500000000000001,1.9900000000000001E-2,5.9799999999999999E-2,18.428000000000001,15.553000000000001,38136,9.35,3.11,644,22.95,0.84398741046233994,{"$f":"[1]!AgePb76($M$25)","v":4997.8412478288737},1.9709090909090912,{"$f":"[1]!AgePb6U8(O25)","v":7019.2940995547569},null,5009.7290017023633,5699.8793917575076]
["X-11","Lherzolite, W.R.",4.9099999999999998E-2,1.17E-2,1.4500000000000001E-2,18.292999999999999,15.523999999999999,37.408999999999999,14.9,1.28,500,-33.42,0.84863062373585518,{"$f":"[1]!AgePb76($M$26)","v":5005.6275862797484},1.2277181208053691,{"$f":"[1]!AgePb6U8(O26)","v":5163.4346325024762},null,5008.2206717357458,5217.7671804655138]
["X-11","Clinopyroxene in X-11",8.6400000000000005E-2,1.1900000000000001E-2,5.4300000000000001E-2,18.626999999999999,15.563000000000001,38.229999999999997,8.76,471,5.28,830,0.83550759649970485,{"$f":"[1]!AgePb76($M$27)","v":4983.5030418181905},2.1263698630136987,{"$f":"[1]!AgePb6U8(O27)","v":7348.0905289460343},null,5008.2086175371887,5201.3711252248586]
["X-11-1","Pyroxenite vein in X-11.",4.0899999999999999E-2,1.26E-2,2.4799999999999999E-2,18.161999999999999,15.367000000000001,37.628,19.3,203,-9.2799999999999994,4.3099999999999996,0.84610725691003208,{"$f":"[1]!AgePb76($M$28)","v":5001.4017097428641},0.9410362694300517,{"$f":"[1]!AgePb6U8(O28)","v":4275.403641984597},null,5005.6275862797484,5163.4346325024762]
["X-11-1","Chnopyroxene in vein X-11-1",4.24E-2,1.18E-2,3.7100000000000001E-2,18.981000000000002,15.666,38.554000000000002,17.8,3.26,11.75,-2.1,0.82535166745693056,{"$f":"[1]!AgePb76($M$29)","v":4966.1258521598947},1.0663483146067416,{"$f":"[1]!AgePb6U8(O29)","v":4678.6975032911205},null,5005.0507029222017,5098.5583719787674]
["X-15","Lherzolite, W.R.",4.2299999999999997E-2,99,1.43E-2,18.613,15.41,38.298999999999999,15,149,-9.8699999999999992,16.850000000000001,0.8279159727072477,{"$f":"[1]!AgePb76($M$30)","v":4970.5348390580702},1.2408666666666666,{"$f":"[1]!AgePb6U8(O30)","v":5201.3711252248586},null,5004.6137015824524,4812.3487067009401]
["X-15","Clinopyroxene in X-15",8.5400000000000004E-2,1.2200000000000001E-2,5.3999999999999999E-2,18.529,15.557,38.168999999999997,9.01,459,5.75,14.06,0.83960278482378981,{"$f":"[1]!AgePb76($M$31)","v":4990.4466543391372},2.0564927857935626,{"$f":"[1]!AgePb6U8(O31)","v":7202.372990816335},null,5001.5364307847458,4678.6975032911205]
["X-15-1","Pyroxenite vein in X-15",7.0400000000000004E-2,2.4E-2,0.115,18.18,15.608000000000001,38.356000000000002,21.6,4.9400000000000004,14.63,74.94,0.8585258525852586,{"$f":"[1]!AgePb76($M$32)","v":5022.071295246632},0.84166666666666656,{"$f":"[1]!AgePb6U8(O32)","v":3936.6379289973042},null,5001.4017097428641,4521.205895982589]
["X-15-1","Clinopyroxene in X-15-1",9.5200000000000007E-2,2.4799999999999999E-2,0.112,18.309000000000001,15.566000000000001,38.241999999999997,16.5,4.67,9.0299999999999994,47.94,0.8501829701239827,{"$f":"[1]!AgePb76($M$33)","v":5008.2206717357458},1.1096363636363638,{"$f":"[1]!AgePb6U8(O33)","v":4812.3487067009401},null,5000.3379121860635,4348.2838837870731]
[-2,"Garnet Pyroxemte",0.14799999999999999,"0.034.",0.19500000000000001,17.826000000000001,15.414999999999999,37.646000000000001,14.3,5.91,-0.83,46.74,0.86474812072254004,{"$f":"[1]!AgePb76($M$34)","v":5032.3086149308783},1.2465734265734265,{"$f":"[1]!AgePb6U8(O34)","v":5217.7671804655138},null,4998.1410244784583,4275.403641984597]
[-2,"Clinopyroxene in F-2",8.7300000000000003E-2,1.03E-2,4.0099999999999997E-2,18.423999999999999,15.577,37.94,7.42,4.04,8.8800000000000008,3.84,0.84547329570125929,{"$f":"[1]!AgePb76($M$35)","v":5000.3379121860635},2.4830188679245282,{"$f":"[1]!AgePb6U8(O35)","v":8044.4764449097829},null,4997.8412478288737,4172.515020723853]
[-2,"Garnet in F-2",104,"0.0090.",5.1999999999999998E-3,19.306000000000001,15.701000000000001,38.527000000000001,5.56,595,11.69,-44.46,0.81327048585931838,{"$f":"[1]!AgePb76($M$36)","v":4945.1560080139889},3.4723021582733815,{"$f":"[1]!AgePb6U8(O36)","v":9656.1050782804505},null,4997.4021329450807,4147.7293329908371]
[-1,"Phlogopite Pyroxenite",658,7.9000000000000001E-2,0.61099999999999999,17.978000000000002,15.555999999999999,37.526000000000003,74.8,8,11.62,16.36,0.86527978640560677,{"$f":"[1]!AgePb76($M$37)","v":5033.1797204075619},0.24034759358288774,{"$f":"[1]!AgePb6U8(O37)","v":1388.5038371694889},null,4995.6953980096623,4025.9302486430615]
[-1,"Clinopyroxene in F-1",0.66259999999999997,8.8599999999999998E-2,0.72299999999999998,17.925999999999998,15.472,37.338999999999999,8.2899999999999991,8.43,3.78,395,0.8631038714716055,{"$f":"[1]!AgePb76($M$38)","v":5029.6109991783296},2.1623642943305188,{"$f":"[1]!AgePb6U8(O38)","v":7421.8852038634004},null,4992.6890188345496,3936.6379289973042]
["D-12","Pyroxene Megacryst.",0.56000000000000005,5.5999999999999999E-3,2.0899999999999998E-2,18.797999999999998,15.61,38.250999999999998,0.66,3.85,813,-10.28,0.83040749015852755,{"$f":"[1]!AgePb76($M$39)","v":4974.8047956202445},28.481818181818177,{"$f":"[1]!AgePb6U8(O39)","v":21813.207029910729},null,4990.4466543391372,3826.9541031862532]
["Basalts#",null,null,null,null,null,null,null,null,null,null,null,null,null,0,null,null,4987.701232108534,3398.6963553560872]
["DF1","Quartz Tholente",2.052,0.30559999999999998,1.2929999999999999,17.471,15.407,37.512,9.23,4.3710000000000004,221,76.260000000000005,0.8818613702707343,{"$f":"[1]!AgePb76($M$41)","v":5060.0662973207009},1.8928494041170096,{"$f":"[1]!AgePb6U8(O41)","v":6847.6516962037758},null,4983.5030418181905,3331.3426929677603]
["D37","Quartz Tholeiite",1764,0.25800000000000001,1.4610000000000001,17.399999999999999,15.365,37.442,9.0299999999999994,5.86,-1.22,77.84,0.88304597701149434,{"$f":"[1]!AgePb76($M$42)","v":5061.9665323315721},1.9269102990033222,{"$f":"[1]!AgePb6U8(O42)","v":6923.1094999987345},null,4981.0032088314219,2733.9544858593626]
["Dll","Basanite",3105,0.97470000000000001,4.4089999999999998,17.655000000000001,15.391,37.51,1949,4.6740000000000004,-1.38,53.81,0.87176437269895213,{"$f":"[1]!AgePb76($M$43)","v":5043.7588732833165},9.0584915341200625E-3,{"$f":"[1]!AgePb6U8(O43)","v":58.131890392618331},null,4978.0966758023769,2624.7970355161347]
["D52","Olivine Tholeiite",183,3.6799999999999999E-2,1.1379999999999999,17.172999999999998,15.321999999999999,37.110999999999997,1194,3.294,-3.06,72.180000000000007,0.89221452279741453,{"$f":"[1]!AgePb76($M$44)","v":5076.5830286010323},1.4382747068676715E-2,{"$f":"[1]!AgePb6U8(O44)","v":92.056706142093006},null,4974.8047956202445,2243.5839824444397]
["D1","Olivine Tholeiite",1.9690000000000001,0.45329999999999998,1581,17.414000000000001,15.340999999999999,37.332999999999998,142,3.605,-3.77,6525,0.88095785000574234,{"$f":"[1]!AgePb76($M$45)","v":5058.6151336056146},0.12263380281690142,{"$f":"[1]!AgePb6U8(O45)","v":745.70529739359802},null,4971.7624502031613,1388.5038371694889]
["DF2","Alkali Olivine Basalt",4.3529999999999998,1.8360000000000001,662,17.849,15.439,37.768999999999998,26.38,3725,1.32,5626,0.86497843016415488,{"$f":"[1]!AgePb76($M$46)","v":5032.686034274021},0.67661106899166035,{"$f":"[1]!AgePb6U8(O46)","v":3331.3426929677603},null,4971.6829213822994,1117.449976548116]
["Minxi",null,null,null,null,null,null,null,null,null,null,null,null,null,0,null,null,4971.2067349988974,745.70529739359802]
["S-6 Garnet Lherzolite, W.R.",null,0.65700000000000003,3.9699999999999999E-2,2.8299999999999999E-2,17.696999999999999,15.554,37.311999999999998,374,0.73699999999999999,14.46,2893,0.87890602927049788,{"$f":"[1]!AgePb76($M$48)","v":5055.3137864959954},4.7318181818181815E-2,{"$f":"[1]!AgePb6U8(O48)","v":298.03567642403937},null,4970.8023878858194,298.03567642403937]
["S-6","Chnopyroxene in S-6",0.35399999999999998,474,0.16700000000000001,17.489000000000001,15.536,37.238999999999997,8.25,364,1492,46.78,0.88832980730745037,{"$f":"[1]!AgePb76($M$49)","v":5070.4095550985248},2.1198787878787879,{"$f":"[1]!AgePb6U8(O49)","v":7334.6923515091621},null,4970.5348390580702,92.056706142093006]
["S-6","Garnet in S-6",117,1.4E-2,7.4000000000000003E-3,18.672999999999998,15.574,38.311999999999998,7.6,0.54400000000000004,588,10.93,0.83403845123975806,{"$f":"[1]!AgePb76($M$50)","v":4981.0032088314219},2.4569736842105261,{"$f":"[1]!AgePb6U8(O50)","v":7996.0905630345542},null,4966.1258521598947,58.131890392618331]
["S-8","Garnet Lherzolite, W.R.",582,3.2000000000000001E-2,2.7699999999999999E-2,18.117999999999999,15.42,37.704999999999998,34.299999999999997,894,-3.5,17.329999999999998,0.85108731648084779,{"$f":"[1]!AgePb76($M$51)","v":5009.7290017023633},0.52822157434402328,{"$f":"[1]!AgePb6U8(O51)","v":2733.9544858593626},null,4945.1560080139889]
["S-8","Chnopyroxene in S-8",7.5499999999999998E-2,0.22800000000000001,4.8000000000000001E-2,18.298999999999999,15.518000000000001,37.817,19,218,4.34,6.65,0.84802448221214277,{"$f":"[1]!AgePb76($M$52)","v":5004.6137015824524},0.96310526315789469,{"$f":"[1]!AgePb6U8(O52)","v":4348.2838837870731}]
["S-8","Garnet in S-8",0.123,4.8999999999999998E-3,2.5999999999999999E-3,18.207999999999998,15.48,37.661000000000001,2.5099999999999998,0.54200000000000004,1.53,2.0499999999999998,0.85017574692442888,{"$f":"[1]!AgePb76($M$53)","v":5008.2086175371887},7.2541832669322712,{"$f":"[1]!AgePb6U8(O53)","v":13606.576209458295}]
["S-9","Chnopyroxene Mcgacryst",9.2999999999999999E-2,7.4000000000000003E-3,3.1600000000000003E-2,18.506,15.614000000000001,38.417999999999999,5.0999999999999996,4.3899999999999997,1169,41.72,0.84372635901869664,{"$f":"[1]!AgePb76($M$54)","v":4997.4021329450807},3.6286274509803924,{"$f":"[1]!AgePb6U8(O54)","v":9877.5850267629157}]
["S-10","Clinopyroxene Megacryst",9.11E-2,1.03E-2,4.2700000000000002E-2,18.683,15.656000000000001,38.558,7.21,4.3,1398,34.33,0.83798105229352893,{"$f":"[1]!AgePb76($M$55)","v":4987.701232108534},2.5912621359223302,{"$f":"[1]!AgePb6U8(O55)","v":8241.7644519501864}]
["S-13","Spinel Lherzolite, W.R.",9.0300000000000005E-2,1.8200000000000001E-2,6.5500000000000003E-2,17.905000000000001,15.429,37.74,12.6,3.72,-29,46.59,0.86171460485897788,{"$f":"[1]!AgePb76($M$56)","v":5027.3274618499154},1.4210317460317461,{"$f":"[1]!AgePb6U8(O56)","v":5699.8793917575076}]
["S-13","Clinopyroxene in S-13",0.182,5.1200000000000002E-2,184,17.89,15.477,37.722000000000001,17.600000000000001,3.72,4.67,4660,0.86512017887087755,{"$f":"[1]!AgePb76($M$57)","v":5032.918271784084},1.0164772727272726,{"$f":"[1]!AgePb6U8(O57)","v":4521.205895982589}]
["Basalt# MB-1","Limburgitc, Host rock",3.41,1.96,9,18.242999999999999,15.436999999999999,38.091999999999999,36.299999999999997,474,-3.15,4092,0.84618757879734696,{"$f":"[1]!AgePb76($M$58)","v":5001.5364307847458},0.50256198347107439,{"$f":"[1]!AgePb6U8(O58)","v":2624.7970355161347}]
[null,null,null,null,null,null,null,null,null,null,null,null,"AVG",{"$f":"AVERAGE(N3:N58)","v":5013.6565460258935},"AVG",{"$f":"AVERAGE(P3:P58)","v":6853.117731156869}]
[null,null,null,null,null,null,null,null,null,null,null,null,"MAX",{"$f":"MAX(N3:N58)","v":5076.5830286010323},"MAX",{"$f":"MAX(P3:P58)","v":22200.704611067998}]
[null,null,null,null,null,null,null,null,null,null,null,null,"MIN",{"$f":"MIN(N3:N58)","v":4945.1560080139889},"MIN",{"$f":"MIN(P3:P58)","v":58.131890392618331}]
["Sample","238U/206Pb",null,null,null,null,null,null,null,null,null,null,"STD DEV",{"$f":"STDEV(N3:N58)","v":31.881800335858895},"STD DEV",{"$f":"STDEV(P3:P58)","v":5264.0317199454148}]
["Name","Age"]
["Garnet Megacryst",null,null,null,null,null,null,null,null,null,null,null,"Dating","207Pb/206Pb","238U/206Pb"]
["13C-104",5751.4157689956019,null,null,null,null,null,null,null,null,null,null,"Summary","Age","Age"]
["BC-104-1",11847.834119096184,null,null,null,null,null,null,null,null,null,null,"AVG",5013.6565460258935,6853.117731156869]
["13C-1-2",7893.1537817802609,null,null,null,null,null,null,null,null,null,null,"MAX",5076.5830286010323,22200.704611067998]
["Basalts#",null,null,null,null,null,null,null,null,null,null,null,"MIN",4945.1560080139889,58.131890392618331]
["BC-5-2",4805.6793494773992,null,null,null,null,null,null,null,null,null,null,"STD DEV",31.881800336084016,5264.0317199454148]
["BC-4-1",4943.3074380350645]
["BC-5-2",4778.3410705995984]
["BC-1-4",5180.6049780879439]
["Hanluoba Inclusions"]
["X-15-1",5047.8142444898858]
[-1,10578.957321967064]
["Basalts#"]
["Dll",30382.403736498734]
["D52",27435.978775124026]
["D1",14273.844392928404]
["DF2",5849.6902387650071]
["Minxi"]
["S-6 Garnet Lherzolite, W.R.",19965.147126709191]
["S-8",6848.31023074122]
["S-8",4590.6211319475278]
["Basalt# MB-1",7060.1639748535908]
["AVG",{"$f":"AVERAGE(B64:B85)","v":10425.486334123336}]
["MAX",{"$f":"MAX(B64:B85)","v":30382.403736498734}]
["MIN",{"$f":"MIN(B64:B85)","v":4590.6211319475278}]
["STD DEV",{"$f":"STDEV(B64:B85)","v":8111.7842977802566}]

{"sheet":"Pb-206_19","index":16,"n_rows":41,"n_cols":18,"rows_kept":41,"cut":false,"hidden":false,"merged":[]}
[null,null,null,null,null,null,null,null,null,null,null,null,null,null,null,null,null,"Earth and Planetary Science Letters 174 (1999) 75-80"]
[null,null,null,null,null,null,null,null,null,"207Pb/206Pb",null,"238U/206Pb","206Pb/238U","206Pb/238U"]
[null,null,null,null,null,null,null,null,null,"Ratio",null,"Ratio","Ratio","Age"]
[1.1000000000000001,44,20,36.700000000000003,3.5,16.3,1.8,39.700000000000003,4.3,0.44600000000000001,2.3E-2,8.82,{"$f":"(1/L4)","v":0.11337868480725623},{"$f":"[1]!AgePb6U8(M4)","v":692.34006348218907},0.68]
[2.1,37,24,26.4,3,14.6,1.8,33.200000000000003,4.2,0.55200000000000005,0.03,5.95,{"$f":"(1/L5)","v":0.16806722689075629},{"$f":"[1]!AgePb6U8(M5)","v":1001.4532797367442},0.56000000000000005]
[3.1,68,24,29.9,1.9,15.2,1.1000000000000001,39.4,2.9,0.50900000000000001,1.7999999999999999E-2,7.34,0.13623978201634879,{"$f":"[1]!AgePb6U8(M6)","v":823.36421430608345},0.65]
[4.0999999999999996,39,22,28,2.2000000000000002,15.9,1.4,35.6,3.2,0.56899999999999995,2.7E-2,6.29,0.1589825119236884,{"$f":"[1]!AgePb6U8(M7)","v":951.11990529068521},0.66]
[5.0999999999999996,75,21,30.7,1.9,15.8,1.2,38.5,2.8,0.51500000000000001,2.1000000000000001E-2,7.9,0.12658227848101264,{"$f":"[1]!AgePb6U8(M8)","v":768.33854804266468},0.48]
[6.1,26,18,43.3,9,19.399999999999999,4.2,41.9,8.9,0.44900000000000001,0.02,11.1,9.00900900900901E-2,{"$f":"[1]!AgePb6U8(M9)","v":556.06990674879569},0.81]
[7.1,119,25,57.8,5.7,19,2.1,43,4.7,0.32900000000000001,1.4999999999999999E-2,13.99,7.147962830593281E-2,{"$f":"[1]!AgePb6U8(M10)","v":445.06380942540937},0.56000000000000005]
[8.1,29,20,46,6.4,17.899999999999999,2.6,37.1,5.3,0.38900000000000001,0.01,10.9,9.1743119266055037E-2,{"$f":"[1]!AgePb6U8(M11)","v":565.83794283568466},0.46]
[9.1,27,17,37.5,2.7,16.8,1.3,37.700000000000003,2.9,0.44700000000000001,1.2999999999999999E-2,10.82,9.2421441774491686E-2,{"$f":"[1]!AgePb6U8(M12)","v":569.8419891030893},0.44]
[10.1,36,21,43.4,3.7,17.7,1.8,43.7,4.4000000000000004,0.40899999999999997,2.1999999999999999E-2,11.32,8.8339222614840993E-2,{"$f":"[1]!AgePb6U8(M13)","v":545.70756055011645},0.91]
[11.1,46,19,44.8,3.3,17,1.9,36.6,4.2,0.38,3.3000000000000002E-2,11.05,9.0497737556561084E-2,{"$f":"[1]!AgePb6U8(M14)","v":558.48014164642768},0.78]
[12.1,111,25,78.8,5.0999999999999996,20.3,1.4,42.4,2.9,0.25800000000000001,5.0000000000000001E-3,17.3,5.7803468208092484E-2,{"$f":"[1]!AgePb6U8(M15)","v":362.25339786392959},0.63]
[13.1,26,17,29.7,2.9,17.3,2,34.6,4.0999999999999996,0.58299999999999996,3.6999999999999998E-2,8.56,0.11682242990654206,{"$f":"[1]!AgePb6U8(M16)","v":712.24842488096215},0.7]
[14.1,29,19,38.9,3.3,18,1.9,42.8,4.4000000000000004,0.46200000000000002,2.7E-2,13.31,7.5131480090157771E-2,{"$f":"[1]!AgePb6U8(M17)","v":466.99733222458792},0.65]
[15.1,48,20,44.2,3.7,17.7,1.8,42.2,4.2,0.40100000000000002,2.3E-2,13.781000000000001,7.2563674624482974E-2,{"$f":"[1]!AgePb6U8(M18)","v":451.58253238954279},0.31]
[]
[]
["Sample","Pb-207/206","238U/206Pb"]
["Number","Ages","Age"]
[0.44600000000000001,4071.9216638663161,692.34006348218907]
[0.55200000000000005,4386.4628918293984,1001.4532797367442]
[0.50900000000000001,4267.4864479288763,823.36421430608345]
[0.56899999999999995,4430.7650858944435,951.11990529068521]
[0.51500000000000001,4284.7267198346981,768.33854804266468]
[0.44900000000000001,4081.898121104216,556.06990674879569]
[0.32900000000000001,3612.4283420720726,445.06380942540937]
[0.38900000000000001,3867.0961788092623,565.83794283568466]
[0.44700000000000001,4075.2552464579835,569.8419891030893]
[0.40899999999999997,3942.4979792725499,545.70756055011645]
[0.38,3831.7672799395873,558.48014164642768]
[0.25800000000000001,3234.5347782956233,362.25339786392959]
[0.58299999999999996,4466.191535588252,712.24842488096215]
[0.46200000000000002,4124.3069623254332,466.99733222458792]
[0.40100000000000002,3912.8321317360255,451.58253238954279]
[null,"AVG",{"$f":"AVERAGE(C23:C37)","v":631.37993656846083}]
[null,"MAX",{"$f":"MAX(C23:C37)","v":1001.4532797367442}]
[null,"MIN",{"$f":"MIN(C23:C37)","v":362.25339786392959}]
[null,"STD DEV",{"$f":"STDEV(C23:C37)","v":188.5961955013907}]

{"sheet":"Pb-206_22","index":17,"n_rows":127,"n_cols":12,"rows_kept":127,"cut":false,"hidden":false,"merged":[]}
[null,null,null,null,"207Pb/206Pb","207Pb/206Pb",null,null,null,null,null,"Geochimica et Cosmochimica Acta 72 (2008) 5799–5818"]
["Table 4",null,null,null,"Ratio","Age"]
["Kf.F.1-1",0.31,1.2999999999999999E-2,1.1000000000000001E-3,1.3660000000000001,{"$f":"[1]!AgePb76($E$3)","v":5671.9472267263172},1.0649999999999999,1.4E-2,2]
["Kf.KA.1-1",0.22,5.0000000000000001E-3,1.4E-3,1.379,{"$f":"[1]!AgePb76($E$4)","v":5685.0366568642839},1.0289999999999999,2.5999999999999999E-2,1]
["Kf.KA.1-1a",0.38,1.12E-2,2E-3,1.36,{"$f":"[1]!AgePb76($E$5)","v":5665.8618259952609},1.034,3.2000000000000001E-2,2]
["Kf.KA.1-1b",0.28999999999999998,8.8000000000000005E-3,1.9E-3,1.3979999999999999,{"$f":"[1]!AgePb76($E$6)","v":5703.9364662075541},1.0109999999999999,2.8000000000000001E-2,2]
["Kf.KA.1-1c",0.39,1.15E-2,2.2000000000000001E-3,1.367,{"$f":"[1]!AgePb76($E$7)","v":5672.9587343143885},1.0049999999999999,2.7E-2,2]
["Kf.KA.1-1r",0.98,9.5999999999999992E-3,1E-3,1.3280000000000001,{"$f":"[1]!AgePb76($E$8)","v":5632.9232896073881},1.0720000000000001,1.7999999999999999E-2,1]
["Kf.KA.1-2",0.26,1.2200000000000001E-2,2.5999999999999999E-3,1.454,{"$f":"[1]!AgePb76($E$9)","v":5758.1135852338721},1.097,0.04,1]
["Kf.KA.1-2",1.2,1.2999999999999999E-2,1.1000000000000001E-3,1.3660000000000001,{"$f":"[1]!AgePb76($E$10)","v":5671.9472267263172},1.0649999999999999,1.4E-2,2]
["Kf.KA.1-3",1.37,1.1900000000000001E-2,1.1000000000000001E-3,1.2529999999999999,{"$f":"[1]!AgePb76($E$11)","v":5552.3404603278514},1.1479999999999999,1.7999999999999999E-2,1]
["Kf.KA.2-1",4.4800000000000004,4.9000000000000002E-2,2.5000000000000001E-3,0.84799999999999998,{"$f":"[1]!AgePb76($E$12)","v":5004.5727343476356},1.9370000000000001,4.9000000000000002E-2,1]
["Kf.KA.2-2",0.56000000000000005,3.6700000000000003E-2,5.7000000000000002E-3,0.90500000000000003,{"$f":"[1]!AgePb76($E$13)","v":5096.7018726281267},1.72,6.6000000000000003E-2,1]
["Kf.KA.4-1",0.04,1.4800000000000001E-2,1.0500000000000001E-2,1.165,{"$f":"[1]!AgePb76($E$14)","v":5451.0626052471916},1.048,0.108,1]
["Kf.KB.1-1",7.0000000000000007E-2,5.4399999999999997E-2,1.12E-2,1.2549999999999999,{"$f":"[1]!AgePb76($E$15)","v":5554.5544077637333},1.42,0.30399999999999999,1]
["Kf.KB.2-1",0.04,1.1900000000000001E-2,3.3E-3,0.55600000000000005,{"$f":"[1]!AgePb76($E$16)","v":4397.0179927833351},0.7,7.0999999999999994E-2,1]
["Kf.KB.2-2",0.15,4.5600000000000002E-2,1.66E-2,0.95499999999999996,{"$f":"[1]!AgePb76($E$17)","v":5172.5875694603246},1.613,0.13200000000000001,1]
["Mst.A.1-1",0.77,8.2000000000000007E-3,8.9999999999999998E-4,1.2150000000000001,{"$f":"[1]!AgePb76($E$18)","v":5509.5549367953254},1.202,0.02,2]
["Mst.C.1-1",0.24,1.01E-2,2.0999999999999999E-3,1.3340000000000001,{"$f":"[1]!AgePb76($E$19)","v":5639.1622611936073},1.591,4.5999999999999999E-2,2]
["Mst.C.1-1r",0.09,4.1999999999999997E-3,1.5E-3,1.3580000000000001,{"$f":"[1]!AgePb76($E$20)","v":5663.8271000472832},1.159,3.7999999999999999E-2,2]
["Mst.D.1-1",0.31,4.4000000000000003E-3,8.0000000000000004E-4,0.999,{"$f":"[1]!AgePb76($E$21)","v":5235.9665025195836},1.3580000000000001,2.1000000000000001E-2,2]
["Mst.KA.1-1",0.14000000000000001,1.2999999999999999E-2,1.1000000000000001E-3,1.3660000000000001,{"$f":"[1]!AgePb76($E$22)","v":5671.9472267263172},1.0649999999999999,1.4E-2,2]
["Mst.KA.3-1",0.06,1.78E-2,7.4000000000000003E-3,1.5660000000000001,{"$f":"[1]!AgePb76($E$23)","v":5860.2015794846566},1.2350000000000001,0.14199999999999999,1]
["Pyf.A.1-1",0.61,1.2999999999999999E-2,1.1000000000000001E-3,1.3660000000000001,{"$f":"[1]!AgePb76($E$24)","v":5671.9472267263172},1.0649999999999999,1.4E-2,2]
["Pbm.A.1-1",0.18,1.2800000000000001E-2,3.8E-3,1.411,{"$f":"[1]!AgePb76($E$25)","v":5716.7134285769034},1.054,3.9E-2,2]
[null,null,null,null,"AVG",{"$f":"AVERAGE(F3:F25)","v":5506.9949094045032}]
[null,null,null,null,"MAX",{"$f":"MAX(F3:F25)","v":5860.2015794846566}]
[null,null,null,null,"MIN",{"$f":"MIN(F3:F25)","v":4397.0179927833351}]
[null,null,null,null,"STD DEV",{"$f":"STDEV(F3:F25)","v":328.03682153910518}]
[]
[]
[]
[null,null,null,"207Pb/206Pb","207Pb/206Pb"]
["Table 5",null,null,"Ratio","Age"]
["A2-1",2.5999999999999998E-4,30,0.3508,{"$f":"[1]!AgePb76($D$35)","v":3710.4760630847127},0.88400000000000001,3.6999999999999998E-2]
["A2-2",1.1E-4,23,0.35170000000000001,{"$f":"[1]!AgePb76($D$36)","v":3714.378215023075},0.77900000000000003,8.0000000000000002E-3]
["A2-3",1.1E-4,45,0.34949999999999998,{"$f":"[1]!AgePb76($D$37)","v":3704.8200909626562},1.022,4.3999999999999997E-2]
["A2-4",8.0000000000000007E-5,38,0.35099999999999998,{"$f":"[1]!AgePb76($D$38)","v":3711.3441610540426},1.304,1.2E-2]
["A3-1",2.9E-4,32,0.35110000000000002,{"$f":"[1]!AgePb76($D$39)","v":3711.7780055530793},2.536,0.02]
["A5-1",4.0000000000000003E-5,27,0.35270000000000001,{"$f":"[1]!AgePb76($D$40)","v":3718.7010494569963},0.28799999999999998,1E-3]
["C1-1",2.0000000000000001E-4,21,0.35120000000000001,{"$f":"[1]!AgePb76($D$41)","v":3712.2117138401231},1.242,2.1999999999999999E-2]
["C2-1",3.5E-4,24,0.35449999999999998,{"$f":"[1]!AgePb76($D$42)","v":3726.4482163811422},0.47199999999999998,7.0000000000000001E-3]
["D1-1",1E-4,38,0.35720000000000002,{"$f":"[1]!AgePb76($D$43)","v":3737.9880674895749},1.387,1.2999999999999999E-2]
["D2-1",6.9999999999999994E-5,23,0.35220000000000001,{"$f":"[1]!AgePb76($D$44)","v":3716.5413234322527},0.371,7.0000000000000001E-3]
["D2-2",6.8000000000000005E-4,22,0.35149999999999998,{"$f":"[1]!AgePb76($D$45)","v":3713.5120222661421},1.012,1.4999999999999999E-2]
["D2-3",2.4000000000000001E-4,20,0.35499999999999998,{"$f":"[1]!AgePb76($D$46)","v":3728.5925159224898},0.93600000000000005,8.0000000000000002E-3]
["D2-4",6.8000000000000005E-4,22,0.3483,{"$f":"[1]!AgePb76($D$47)","v":3699.5785634124695},0.97399999999999998,1.4E-2]
["E1-1",4.8000000000000001E-4,24,0.36059999999999998,{"$f":"[1]!AgePb76($D$48)","v":3752.3838203333689},1.601,1.7000000000000001E-2]
["H3-1",1.9000000000000001E-4,29,0.35299999999999998,{"$f":"[1]!AgePb76($D$49)","v":3719.995265831606},1.0209999999999999,0.13100000000000001]
["H3-2",1.9000000000000001E-4,55,0.35630000000000001,{"$f":"[1]!AgePb76($D$50)","v":3734.1521585620517},1.07,0.124]
["H3-3",3.5E-4,36,0.35399999999999998,{"$f":"[1]!AgePb76($D$51)","v":3724.3005816430023},0.80700000000000005,8.3000000000000004E-2]
["H3-3",4.0000000000000003E-5,29,0.35,{"$f":"[1]!AgePb76($D$52)","v":3706.9982059301233},0.3,3.0000000000000001E-3]
["X1-1",-2.6999999999999999E-5,7.2499999999999995E-2,7.2499999999999995E-2,{"$f":"[1]!AgePb76($D$53)","v":1000.0098761489393},5.9999999999999995E-4]
["X1-2",1.5E-5,22,7.2599999999999998E-2,{"$f":"[1]!AgePb76($D$54)","v":1002.8084967826959},5.5599999999999997E-2,5.9999999999999995E-4]
["X1-3",1.5E-5,30,7.2499999999999995E-2,{"$f":"[1]!AgePb76($D$55)","v":1000.0098761489393},5.5199999999999999E-2,5.9999999999999995E-4]
["X1-4",0,null,7.2800000000000004E-2,{"$f":"[1]!AgePb76($D$56)","v":1008.390628919408},5.6000000000000001E-2,5.9999999999999995E-4]
["X1-5",9.0000000000000002E-6,50,7.2400000000000006E-2,{"$f":"[1]!AgePb76($D$57)","v":997.20619594250536},5.5E-2,5.9999999999999995E-4]
["X1-6",1.9000000000000001E-5,26,7.2400000000000006E-2,{"$f":"[1]!AgePb76($D$58)","v":997.20619594250536},5.6399999999999999E-2,5.9999999999999995E-4]
["X1-7",1.5E-5,33,7.2800000000000004E-2,{"$f":"[1]!AgePb76($D$59)","v":1008.390628919408},5.5100000000000003E-2,5.9999999999999995E-4]
["X1-8",2.6999999999999999E-5,1,7.2599999999999998E-2,{"$f":"[1]!AgePb76($D$60)","v":1002.8084967826959},5.5100000000000003E-2,5.9999999999999995E-4]
["X1-9",1.0000000000000001E-5,37,7.2700000000000001E-2,{"$f":"[1]!AgePb76($D$61)","v":1005.60207526253},5.5199999999999999E-2,5.9999999999999995E-4]
["X1-10",1.4E-5,31,7.2900000000000006E-2,{"$f":"[1]!AgePb76($D$62)","v":1011.1741749970893},5.57E-2,5.9999999999999995E-4]
["X1-11",6.9999999999999999E-6,45,7.2700000000000001E-2,{"$f":"[1]!AgePb76($D$63)","v":1005.60207526253},5.4899999999999997E-2,5.9999999999999995E-4]
["X1-12",0,null,7.2900000000000006E-2,{"$f":"[1]!AgePb76($D$64)","v":1011.1741749970893},5.5500000000000001E-2,5.9999999999999995E-4]
["X1-13",4.1999999999999998E-5,28,7.2800000000000004E-2,{"$f":"[1]!AgePb76($D$65)","v":1008.390628919408},5.6800000000000003E-2,6.9999999999999999E-4]
["X1-14",3.0000000000000001E-5,21,7.2700000000000001E-2,{"$f":"[1]!AgePb76($D$66)","v":1005.60207526253},5.5800000000000002E-2,6.9999999999999999E-4]
["X1-15",2.9E-5,25,7.1999999999999995E-2,{"$f":"[1]!AgePb76($D$67)","v":985.94052790944033},5.6000000000000001E-2,1.1999999999999999E-3]
["X1-16",1.9000000000000001E-5,23,7.2800000000000004E-2,{"$f":"[1]!AgePb76($D$68)","v":1008.390628919408},5.5800000000000002E-2,5.9999999999999995E-4]
["X1-17",6.9999999999999999E-6,45,7.2700000000000001E-2,{"$f":"[1]!AgePb76($D$69)","v":1005.60207526253},5.5300000000000002E-2,5.9999999999999995E-4]
["X1-18",0,null,7.2599999999999998E-2,{"$f":"[1]!AgePb76($D$70)","v":1002.8084967826959},5.3499999999999999E-2,5.9999999999999995E-4]
["X1-19",1.7E-5,22,7.3099999999999998E-2,{"$f":"[1]!AgePb76($D$71)","v":1016.7263129573221},5.5899999999999998E-2,5.9999999999999995E-4]
["X1-20",0,null,7.3200000000000001E-2,{"$f":"[1]!AgePb76($D$72)","v":1019.49493889652},5.4699999999999999E-2,6.9999999999999999E-4]
["X1-21",2.6999999999999999E-5,36,7.2800000000000004E-2,{"$f":"[1]!AgePb76($D$73)","v":1008.390628919408},5.5800000000000002E-2,5.9999999999999995E-4]
["X1-22",0,null,7.2599999999999998E-2,{"$f":"[1]!AgePb76($D$74)","v":1002.8084967826959},5.4800000000000001E-2,5.9999999999999995E-4]
["X1-23",2.1999999999999999E-5,26,7.2700000000000001E-2,{"$f":"[1]!AgePb76($D$75)","v":1005.60207526253},5.5300000000000002E-2,6.9999999999999999E-4]
["X1-24",2.5000000000000001E-5,40,7.2400000000000006E-2,{"$f":"[1]!AgePb76($D$76)","v":997.20619594250536},5.4399999999999997E-2,6.9999999999999999E-4]
[]
[]
[]
[null,null,null,null,null,null,"207Pb/206Pb","207Pb/206Pb"]
[null,null,null,null,null,null,"Ratio","Age"]
["A1-1",0,0.35239999999999999,1.6000000000000001E-3,0.25569999999999998,2.2000000000000001E-3,{"$f":"(C82)","v":0.35239999999999999},{"$f":"[1]!AgePb76($G$82)","v":3717.4056191480672}]
["A1-2",4.1999999999999998E-5,0.35099999999999998,2.2000000000000001E-3,0.24399999999999999,1.9E-3,{"$f":"(C83)","v":0.35099999999999998},{"$f":"[1]!AgePb76($G$83)","v":3711.3441610540426}]
["A1-3",4.6E-5,0.34960000000000002,1.6999999999999999E-3,0.31859999999999999,3.3E-3,0.34960000000000002,{"$f":"[1]!AgePb76($G$84)","v":3705.255988740611}]
["A2-1",1.47E-4,0.35049999999999998,2.3E-3,0.38790000000000002,3.5000000000000001E-3,0.35049999999999998,{"$f":"[1]!AgePb76($G$85)","v":3709.1728924432841}]
["A3-1",2.8E-5,0.34839999999999999,1.6000000000000001E-3,0.1467,1.2999999999999999E-3,0.34839999999999999,{"$f":"[1]!AgePb76($G$86)","v":3700.0161175644153}]
["A3-2",1.9000000000000001E-5,0.35139999999999999,1.5E-3,0.14319999999999999,3.2000000000000002E-3,0.35139999999999999,{"$f":"[1]!AgePb76($G$87)","v":3713.0787221130463}]
["A3-3",0,0.35110000000000002,1.6000000000000001E-3,0.16039999999999999,1.4E-3,0.35110000000000002,{"$f":"[1]!AgePb76($G$88)","v":3711.7780055530793}]
["B1-1",0,0.35070000000000001,4.1999999999999997E-3,0.2336,2.2000000000000001E-3,0.35070000000000001,{"$f":"[1]!AgePb76($G$89)","v":3710.0418094465908}]
["B1-2",2.6999999999999999E-5,0.35120000000000001,2.2000000000000001E-3,0.24199999999999999,2.5000000000000001E-3,0.35120000000000001,{"$f":"[1]!AgePb76($G$90)","v":3712.2117138401231}]
["B1-3",0,0.35439999999999999,2E-3,0.24579999999999999,2.3E-3,0.35439999999999999,{"$f":"[1]!AgePb76($G$91)","v":3726.0189565741839}]
["B2-1",0,0.35289999999999999,2.0999999999999999E-3,0.19059999999999999,2.2000000000000001E-3,0.35289999999999999,{"$f":"[1]!AgePb76($G$92)","v":3719.5639951174749}]
["B2-2",3.8999999999999999E-5,0.34899999999999998,2.2000000000000001E-3,0.20100000000000001,7.1999999999999998E-3,0.34899999999999998,{"$f":"[1]!AgePb76($G$93)","v":3702.6385369405234}]
["B3-1",2.5000000000000001E-5,0.34889999999999999,1.9E-3,0.1953,1.9E-3,0.34889999999999999,{"$f":"[1]!AgePb76($G$94)","v":3702.2018125132777}]
["B3-2",2.5000000000000001E-5,0.35139999999999999,2.0999999999999999E-3,0.1613,1.9E-3,0.35139999999999999,{"$f":"[1]!AgePb76($G$95)","v":3713.0787221130463}]
["B3-3",0,0.35070000000000001,2.5000000000000001E-3,0.17130000000000001,1.9E-3,0.35070000000000001,{"$f":"[1]!AgePb76($G$96)","v":3710.0418094465908}]
["C1-1",0,0.35210000000000002,2E-3,0.2485,3.8E-3,0.35210000000000002,{"$f":"[1]!AgePb76($G$97)","v":3716.1089726729492}]
["C1-2",2.9E-5,0.35120000000000001,1.9E-3,0.13950000000000001,1.5E-3,0.35120000000000001,{"$f":"[1]!AgePb76($G$98)","v":3712.2117138401231}]
["D1-1",2.8E-5,0.35249999999999998,2.2000000000000001E-3,0.154,1.9E-3,0.35249999999999998,{"$f":"[1]!AgePb76($G$99)","v":3717.8375642702781}]
["D1-2",2.9E-5,0.35010000000000002,2.0999999999999999E-3,0.14380000000000001,2.8999999999999998E-3,0.35010000000000002,{"$f":"[1]!AgePb76($G$100)","v":3707.4334171707433}]
["D1-3",6.3E-5,0.34839999999999999,2.2000000000000001E-3,0.15759999999999999,2E-3,0.34839999999999999,{"$f":"[1]!AgePb76($G$101)","v":3700.0161175644153}]
["D1-4",0,0.34870000000000001,2.5000000000000001E-3,0.16750000000000001,2.2000000000000001E-3,0.34870000000000001,{"$f":"[1]!AgePb76($G$102)","v":3701.3279493530131}]
["E1-1",1.9000000000000001E-5,0.34899999999999998,1.6999999999999999E-3,0.15809999999999999,2.5999999999999999E-3,0.34899999999999998,{"$f":"[1]!AgePb76($G$103)","v":3702.6385369405234}]
["E1-2",0,0.35049999999999998,1.6000000000000001E-3,0.14879999999999999,1.2999999999999999E-3,0.35049999999999998,{"$f":"[1]!AgePb76($G$104)","v":3709.1728924432841}]
["G1-1",4.6E-5,0.35039999999999999,1.9E-3,0.22639999999999999,2.5999999999999999E-3,0.35039999999999999,{"$f":"[1]!AgePb76($G$105)","v":3708.7382289098095}]
["G1-2",3.8000000000000002E-5,0.35299999999999998,2E-3,0.2142,3.3E-3,0.35299999999999998,{"$f":"[1]!AgePb76($G$106)","v":3719.995265831606}]
[" "]
["C2-1",0,0.34620000000000001,6.8999999999999999E-3,9.5200000000000007E-2,6.4999999999999997E-3,0.34620000000000001,{"$f":"[1]!AgePb76($G$108)","v":3690.3577794855219}]
["F1-1",2.3599999999999999E-4,0.35709999999999997,6.4999999999999997E-3,6.1400000000000003E-2,3.3E-3,0.35709999999999997,{"$f":"[1]!AgePb76($G$109)","v":3737.5623814112923}]
[" "]
["X1-1",1.2E-5,7.2099999999999997E-2,2.9999999999999997E-4,5.4699999999999999E-2,2.9999999999999997E-4,7.2099999999999997E-2,{"$f":"[1]!AgePb76($G$111)","v":988.76462237045837}]
["X1-2",6.0000000000000002E-6,7.2900000000000006E-2,2.0000000000000001E-4,5.5199999999999999E-2,2.9999999999999997E-4,7.2900000000000006E-2,{"$f":"[1]!AgePb76($G$112)","v":1011.1741749970893}]
["X1-3",1.2999999999999999E-5,7.2800000000000004E-2,2.0000000000000001E-4,5.4600000000000003E-2,2.9999999999999997E-4,7.2800000000000004E-2,{"$f":"[1]!AgePb76($G$113)","v":1008.390628919408}]
["X1-4",6.9999999999999999E-6,7.2900000000000006E-2,2.0000000000000001E-4,5.4800000000000001E-2,2.9999999999999997E-4,7.2900000000000006E-2,{"$f":"[1]!AgePb76($G$114)","v":1011.1741749970893}]
["X1-5",3.9999999999999998E-6,7.2300000000000003E-2,2.0000000000000001E-4,5.4800000000000001E-2,2.9999999999999997E-4,7.2300000000000003E-2,{"$f":"[1]!AgePb76($G$115)","v":994.39743865626656}]
["X1-6",5.0000000000000004E-6,7.2300000000000003E-2,2.0000000000000001E-4,5.5E-2,2.9999999999999997E-4,7.2300000000000003E-2,{"$f":"[1]!AgePb76($G$116)","v":994.39743865626656}]
["X1-7",5.0000000000000004E-6,7.2599999999999998E-2,2.0000000000000001E-4,5.4699999999999999E-2,4.0000000000000002E-4,7.2599999999999998E-2,{"$f":"[1]!AgePb76($G$117)","v":1002.8084967826959}]
["X1-8",0,7.22E-2,2.0000000000000001E-4,5.4100000000000002E-2,2.9999999999999997E-4,7.22E-2,{"$f":"[1]!AgePb76($G$118)","v":991.58358669413326}]
["X1-10",3.9999999999999998E-6,7.2599999999999998E-2,2.9999999999999997E-4,5.4699999999999999E-2,2.9999999999999997E-4,7.2599999999999998E-2,{"$f":"[1]!AgePb76($G$119)","v":1002.8084967826959}]
["X1-11",7.9999999999999996E-6,7.2300000000000003E-2,2.0000000000000001E-4,5.5E-2,2.9999999999999997E-4,7.2300000000000003E-2,{"$f":"[1]!AgePb76($G$120)","v":994.39743865626656}]
["X1-12",6.0000000000000002E-6,7.2599999999999998E-2,2.0000000000000001E-4,5.5100000000000003E-2,2.9999999999999997E-4,7.2599999999999998E-2,{"$f":"[1]!AgePb76($G$121)","v":1002.8084967826959}]
["X1-13",5.0000000000000004E-6,7.2599999999999998E-2,2.0000000000000001E-4,5.4899999999999997E-2,2.9999999999999997E-4,7.2599999999999998E-2,{"$f":"[1]!AgePb76($G$122)","v":1002.8084967826959}]
["X1-14",0,7.2599999999999998E-2,2.0000000000000001E-4,5.5300000000000002E-2,2.9999999999999997E-4,7.2599999999999998E-2,{"$f":"[1]!AgePb76($G$123)","v":1002.8084967826959}]
["X1-15",0,7.2400000000000006E-2,2.0000000000000001E-4,5.4399999999999997E-2,2.9999999999999997E-4,7.2400000000000006E-2,{"$f":"[1]!AgePb76($G$124)","v":997.20619594250536}]
["X1-16",3.9999999999999998E-6,7.22E-2,2.0000000000000001E-4,5.4600000000000003E-2,2.9999999999999997E-4,7.22E-2,{"$f":"[1]!AgePb76($G$125)","v":991.58358669413326}]
[" "]
["X1-9",3.0000000000000001E-6,7.1900000000000006E-2,2.0000000000000001E-4,5.4800000000000001E-2,2.9999999999999997E-4,7.1900000000000006E-2,{"$f":"[1]!AgePb76($G$127)","v":983.11128544451151}]

{"sheet":"Pb-206_23","index":18,"n_rows":131,"n_cols":17,"rows_kept":131,"cut":false,"hidden":false,"merged":[]}
["Sample","208Pb/232Th","208Pb/232Th","206Pb/238U","206Pb/238U","206Pb/204Pb","207Pb/204Pb","208Pb/204Pb","238U/204Pb","232Th/204Pb","207Pb/206Pb","207Pb/206Pb",null,"Geochimica et Cosmochimica Acta 73 (2009) 469–488","207Pb/206Pb","206Pb/238U","208Pb/232Th"]
["Name","Ratio","Age","Ratio","Age","Ratio","Ratio","Ratio","Ratio","Ratio","Ratio","Age",null,null,5007.9924058843444,18639.33445121468,92494.774585901818]
["Atl-3A",{"$f":"(H3/J3)","v":0.29365172667156503},{"$f":"[1]!AgePb8Th2(B3)","v":5204.0225383689649},{"$f":"(F3/I3)","v":0.68098305084745758},{"$f":"[1]!AgePb6U8(D3)","v":3348.1306791041184},20.088999999999999,15.635,39.966000000000001,29.5,136.1,{"$f":"(G3/F3)","v":0.77828662452088215},{"$f":"[1]!AgePb76(K3)","v":4882.5109713765105},null,null,5001.2343741666264,15306.784986236808,73503.499937196611]
["Atl-3A",0,null,0,null,20.093,15.638,39.976999999999997,"—","—",{"$f":"(G4/F4)","v":0.77828099338077938},{"$f":"[1]!AgePb76(K4)","v":4882.5006481439514},null,null,5000.0897896007054,10772.254683005282,42037.681237435281]
["Atl-3A",{"$f":"(H5/J5)","v":3.2516101694915251},{"$f":"[1]!AgePb8Th2(B5)","v":29253.113180302702},{"$f":"(F5/I5)","v":9.7452631578947368},{"$f":"[1]!AgePb6U8(D5)","v":15306.784986236808},18.515999999999998,15.606999999999999,38.369,1.9,11.8,{"$f":"(G5/F5)","v":0.84289263339814224},{"$f":"[1]!AgePb76(K5)","v":4995.9987551230261},null,null,4995.9987551230261,10311.671182286076,29253.113180302702]
["Atl-3C",{"$f":"(H6/J6)","v":0.10680970149253732},{"$f":"[1]!AgePb8Th2(B6)","v":2051.1719908048703},{"$f":"(F6/I6)","v":0.24970668316831685},{"$f":"[1]!AgePb6U8(D6)","v":1436.9629029068892},20.176300000000001,15.64,40.075000000000003,80.8,375.2,{"$f":"(G6/F6)","v":0.77516690374350106},{"$f":"[1]!AgePb76(K6)","v":4876.7795533303015},null,null,4983.9257285506674,9290.7221917011921,13018.340344008024]
["Atl-3C",0,null,0,null,31,"—","—","—",null,null,null,null,null,4964.3271208343631,5624.6821205505685,10956.141285108475]
["Atl-3C",{"$f":"(H8/J8)","v":0.10997530186608125},{"$f":"[1]!AgePb8Th2(B8)","v":2108.8987267427406},{"$f":"(F8/I8)","v":0.26033935483870968},{"$f":"[1]!AgePb6U8(D8)","v":1491.5778497202236},20.176300000000001,15.64,40.075000000000003,77.5,364.4,{"$f":"(G8/F8)","v":0.77516690374350106},{"$f":"[1]!AgePb76(K8)","v":4876.7795533303015},null,null,4958.5776634420463,4508.4785193268754,10621.148834026884]
["Atl-3C",0,null,0,null,"—","—","—",null,null,null,null,null,null,4948.5022477450257,3766.9712548190064,10021.957766786414]
["Atl-3C",0,null,0,null,19,"—","—","—",null,null,null,null,null,4942.6153774890208,3692.5265180524298,5204.0225383689649]
["Atl-3E",{"$f":"(H11/J11)","v":0.10718917470525188},{"$f":"[1]!AgePb8Th2(B11)","v":2058.1006296618652},{"$f":"(F11/I11)","v":0.26736702127659573},{"$f":"[1]!AgePb6U8(D11)","v":1527.4232831530896},20.106000000000002,15.635,40.003,75.2,373.2,{"$f":"(G11/F11)","v":0.77762856858649154},{"$f":"[1]!AgePb76(K11)","v":4881.3040579134331},null,null,4893.3573288361849,3348.1306791041184,4955.7184677160112]
["Atl-3E",{"$f":"(H12/J12)","v":0.64187086092715229},{"$f":"[1]!AgePb8Th2(B12)","v":10021.957766786414},{"$f":"(F12/I12)","v":3.9510416666666668},{"$f":"[1]!AgePb6U8(D12)","v":10311.671182286076},18.965,15.632999999999999,38.768999999999998,4.8,60.4,{"$f":"(G12/F12)","v":0.82430793567097282},{"$f":"[1]!AgePb76(K12)","v":4964.3271208343631},null,null,4889.9103492794111,2920.5711585605445,4429.4165788886703]
["Atl-3E",{"$f":"(H13/J13)","v":0.10498819207557072},{"$f":"[1]!AgePb8Th2(B13)","v":2017.880727805164},{"$f":"(F13/I13)","v":0.26672944297082224},{"$f":"[1]!AgePb6U8(D13)","v":1524.1794493233529},20.1114,15.635999999999999,40.011000000000003,75.400000000000006,381.1,{"$f":"(G13/F13)","v":0.77746949491333273},{"$f":"[1]!AgePb76(K13)","v":4881.0121441372958},null,null,4889.7747035059137,2258.8544805740212,3132.8829079430225]
["Atl-3E",0,null,0,null,19.175999999999998,15.632,"38.769±","—","—",{"$f":"(G14/F14)","v":0.81518564872757615},{"$f":"[1]!AgePb76(K14)","v":4948.5022477450257},null,null,4882.5109713765105,2130.6189328861378,2798.7632903333515]
["Atl-3E",0,null,0,null,45,"—","—","—",null,null,null,null,null,4882.5006481439514,1980.2875521936232,2597.7572922281456]
["Atl-3F",{"$f":"(H16/J16)","v":0.13714876033057855},{"$f":"[1]!AgePb8Th2(B16)","v":2597.7572922281456},{"$f":"(F16/I16)","v":0.27707905686546463},{"$f":"[1]!AgePb6U8(D16)","v":1576.6348648369044},19.977399999999999,15.629,39.828000000000003,72.099999999999994,290.39999999999998,{"$f":"(G16/F16)","v":0.78233403746233243},{"$f":"[1]!AgePb76(K16)","v":4889.9103492794111},null,null,4881.8109884880387,1965.9988953820709,2393.784399415229]
["Atl-3F",0,null,0,null,19.979299999999999,15.629,39.831000000000003,"—","—",{"$f":"(G17/F17)","v":0.78225963872608151},{"$f":"[1]!AgePb76(K17)","v":4889.7747035059137},null,null,4881.3040579134331,1678.5719985413816,2238.3354131710612]
["Atl-3F",{"$f":"(H18/J18)","v":0.90423887587822005},{"$f":"[1]!AgePb8Th2(B18)","v":13018.340344008024},{"$f":"(F18/I18)","v":3.2258620689655175},{"$f":"[1]!AgePb6U8(D18)","v":9290.7221917011921},18.71,15.637,38.610999999999997,5.8,42.7,{"$f":"(G18/F18)","v":0.83575628006413683},{"$f":"[1]!AgePb76(K18)","v":4983.9257285506674},null,null,4881.0121441372958,1576.6348648369044,2108.8987267427406]
["Atl-3F",0,null,0,null,50,"—","—","—",null,null,null,null,null,4876.7795533303015,1527.4232831530896,2058.1006296618652]
["Atl-3I",{"$f":"(H20/J20)","v":0.16765723934149432},{"$f":"[1]!AgePb8Th2(B20)","v":3132.8829079430225},{"$f":"(F20/I20)","v":0.41964210526315787},{"$f":"[1]!AgePb6U8(D20)","v":2258.8544805740212},19.933,15.632,39.718000000000004,47.5,236.9,{"$f":"(G20/F20)","v":0.78422716098931422},{"$f":"[1]!AgePb76(K20)","v":4893.3573288361849},null,null,4876.7795533303015,1524.1794493233529,2051.1719908048703]
["Atl-3I",0,null,0,null,"—","—","—",null,null,null,null,null,null,4876.6635959968671,1491.5778497202236,2017.880727805164]
["Atl-3I",0,null,0,null,20,"—","—","—",null,null,null,null,null,4874.3683229976414,1457.0844256069474,1938.6895331083174]
["Atl-3K",{"$f":"(H23/J23)","v":0.14851386321626617},{"$f":"[1]!AgePb8Th2(B23)","v":2798.7632903333515},{"$f":"(F23/I23)","v":0.39168085106382977},{"$f":"[1]!AgePb6U8(D23)","v":2130.6189328861378},20.2499,15.657,40.173000000000002,51.7,270.5,{"$f":"(G23/F23)","v":0.77318900340248597},{"$f":"[1]!AgePb76(K23)","v":4873.1330980951725},null,null,4874.2053820388192,1436.9629029068892]
["Atl-3K",0,null,0,null,38,"—","—","—",null,null,null,null,null,4873.1330980951725]
["Atl-3L",{"$f":"(H25/J25)","v":0.12573086574654954},{"$f":"[1]!AgePb8Th2(B25)","v":2393.784399415229},{"$f":"(F25/I25)","v":0.35659187279151944},{"$f":"[1]!AgePb6U8(D25)","v":1965.9988953820709},20.1831,15.644,40.082999999999998,56.6,318.8,{"$f":"(G25/F25)","v":0.77510392357962854},{"$f":"[1]!AgePb76(K25)","v":4876.6635959968671},null,null,4872.9803270773873]
["Atl-3L",{"$f":"(H26/J26)","v":0.71953703703703698},{"$f":"[1]!AgePb8Th2(B26)","v":10956.141285108475},{"$f":"(F26/I26)","v":4.3177272727272724},{"$f":"[1]!AgePb6U8(D26)","v":10772.254683005282},18.998000000000001,15.597,38.854999999999997,4.4000000000000004,54,{"$f":"(G26/F26)","v":0.82098115591114851},{"$f":"[1]!AgePb76(K26)","v":4958.5776634420463},null,null,4871.4812808926517]
["Atl-3U",{"$f":"(H27/J27)","v":0.10066733567486201},{"$f":"[1]!AgePb8Th2(B27)","v":1938.6895331083174},{"$f":"(F27/I27)","v":0.25361355081555836},{"$f":"[1]!AgePb6U8(D27)","v":1457.0844256069474},20.213000000000001,15.641999999999999,40.125999999999998,79.7,398.6,{"$f":"(G27/F27)","v":0.77385840795527627},{"$f":"[1]!AgePb76(K27)","v":4874.3683229976414}]
["Atl-3U",0,null,0,null,20.2166,15.643000000000001,40.134,"—","—",{"$f":"(G28/F28)","v":0.77377007014037968},{"$f":"[1]!AgePb76(K28)","v":4874.2053820388192}]
["Atl-3U",{"$f":"(H29/J29)","v":0.27785663591199428},{"$f":"[1]!AgePb8Th2(B29)","v":4955.7184677160112},{"$f":"(F29/I29)","v":0.79382716049382707},{"$f":"[1]!AgePb6U8(D29)","v":3766.9712548190064},19.29,15.66,39.15,24.3,140.9,{"$f":"(G29/F29)","v":0.81181959564541217},{"$f":"[1]!AgePb76(K29)","v":4942.6153774890208}]
["Atl-3V",{"$f":"(H30/J30)","v":0.2450122699386503},{"$f":"[1]!AgePb8Th2(B30)","v":4429.4165788886703},{"$f":"(F30/I30)","v":0.77323076923076917},{"$f":"[1]!AgePb6U8(D30)","v":3692.5265180524298},20.103999999999999,15.638999999999999,39.936999999999998,26,163,{"$f":"(G30/F30)","v":0.77790489454834855},{"$f":"[1]!AgePb76(K30)","v":4881.8109884880387}]
["Atl-3V",0,null,0,null,"—","—","—"]
["Atl-3V",0,null,0,null,74,"—","—","—"]
["Atl-3T",{"$f":"(H33/J33)","v":0.11710625909752546},{"$f":"[1]!AgePb8Th2(B33)","v":2238.3354131710612},{"$f":"(F33/I33)","v":0.35960213143872116},{"$f":"[1]!AgePb6U8(D33)","v":1980.2875521936232},20.2456,15.651999999999999,40.225999999999999,56.3,343.5,{"$f":"(G33/F33)","v":0.77310625518631204},{"$f":"[1]!AgePb76(K33)","v":4872.9803270773873}]
["Atl-3T",0,null,0,null,"—","—","—"]
["Atl-3T",0,null,0,null,36,"—","—","—"]
["France",0,null,0]
["French",0,null,0]
["Mb47",{"$f":"(H38/J38)","v":7.0029824561403506},{"$f":"[1]!AgePb8Th2(B38)","v":42037.681237435281},{"$f":"(F38/I38)","v":0.29743401759530791},{"$f":"[1]!AgePb6U8(D38)","v":1678.5719985413816},20.285,15.666,39.917000000000002,68.2,5.7,{"$f":"(G38/F38)","v":0.77229479911264487},{"$f":"[1]!AgePb76(K38)","v":4871.4812808926517}]
["Mb47",0,null,0,null,18.399000000000001,15.64,38.298999999999999,"—","—",{"$f":"(G39/F39)","v":0.85004619816294358},{"$f":"[1]!AgePb76(K39)","v":5007.9924058843444}]
["Br12",{"$f":"(H40/J40)","v":0.69127272727272737},{"$f":"[1]!AgePb8Th2(B40)","v":10621.148834026884},{"$f":"(F40/I40)","v":1.3929545454545456},{"$f":"[1]!AgePb6U8(D40)","v":5624.6821205505685},18.387,15.542999999999999,38.020000000000003,13.2,55,{"$f":"(G40/F40)","v":0.84532550171316689},{"$f":"[1]!AgePb76(K40)","v":5000.0897896007054}]
["Br12",0,null,0,null,18.396999999999998,15.564,38.119999999999997,"—","—",{"$f":"(G41/F41)","v":0.84600750122302559},{"$f":"[1]!AgePb76(K41)","v":5001.2343741666264}]
["71-321",null,null,{"$f":"(F42/I42)","v":17.018999999999998},{"$f":"[1]!AgePb6U8(D42)","v":18639.33445121468},17.018999999999998,null,null,1]
["70-379 w",null,null,{"$f":"(F43/I43)","v":1.0125},{"$f":"[1]!AgePb6U8(D43)","v":4508.4785193268754},17.010000000000002,null,null,16.8]
["71-321",{"$f":"(H44/J44)","v":36.962000000000003},{"$f":"[1]!AgePb8Th2(B44)","v":73503.499937196611},null,null,null,null,36.962000000000003,null,1]
["72-228",null,null,{"$f":"(F45/I45)","v":0.57310850439882688},{"$f":"[1]!AgePb6U8(D45)","v":2920.5711585605445},19.542999999999999,null,null,34.1]
[null,{"$f":"(H46/J46)","v":96.142499999999998},{"$f":"[1]!AgePb8Th2(B46)","v":92494.774585901818},null,null,null,null,38.457000000000001,null,0.4]
[null,"Average",{"$f":"AVERAGE(C3:C41)","v":8096.5160602029064},"Average",{"$f":"AVERAGE(E3:E41)","v":4270.62832899369},null,null,null,null,null,"Average",{"$f":"AVERAGE(L3:L41)","v":4915.2734307310293}]
[null,"Maximum",{"$f":"MAX(C3:C47)","v":92494.774585901818},"Maximum",{"$f":"MAX(E3:E47)","v":18639.33445121468},null,null,null,null,null,"Maximum",{"$f":"MAX(L3:L47)","v":5007.9924058843444}]
[null,"Minimum",{"$f":"MIN(C3:C48)","v":1938.6895331083174},"Minimum",{"$f":"MIN(E3:E48)","v":1436.9629029068892},null,null,null,null,null,"Minimum",{"$f":"MIN(L3:L48)","v":4871.4812808926517}]
["(","Difference",{"$f":"(C48-C49)","v":90556.085052793496},"Difference",{"$f":"(E48-E49)","v":17202.37154830779},null,null,null,null,null,"Difference",{"$f":"(L48-L49)","v":136.51112499169267}]
[]
[]
["Sample","207Pb/206Pb",null,null,null,"232Th/208Pb","207Pb/206Pb"]
["Name","Age",null,null,null,"Age","Age"]
["Atl-3A",5007.9924058843444,null,null,null,8096.5160602029064,4915.2734307310293]
["Atl-3A",5001.2343741666264,null,null,null,92494.774585901818,5007.9924058843444]
["Atl-3A",5000.0897896007054,null,null,null,1938.6895331083174,4871.4812808926517]
["Atl-3C",4995.9987551230261,null,null,null,90556.085052793496,136.51112499169267]
["Atl-3C",4983.9257285506674]
["Atl-3E",4964.3271208343631]
["Atl-3E",4958.5776634420463]
["Atl-3E",4948.5022477450257]
["Atl-3E",4942.6153774890208]
["Atl-3F",4893.3573288361849]
["Atl-3F",4889.9103492794111]
["Atl-3F",4889.7747035059137]
["Atl-3I",4882.5109713765105]
["Atl-3K",4882.5006481439514]
["Atl-3L",4881.8109884880387]
["Atl-3L",4881.3040579134331]
["Atl-3U",4881.0121441372958]
["Atl-3U",4876.7795533303015]
["Atl-3U",4876.7795533303015]
["Atl-3V",4876.6635959968671]
["Atl-3T",4874.3683229976414]
["Mb47",4874.2053820388192]
["Mb47",4873.1330980951725]
["Br12",4872.9803270773873]
["Br12",4871.4812808926517]
["AVG"]
["MAX"]
["MIN"]
["STD DEV"]
[]
[]
[]
[]
[]
[]
[]
[]
["Age"]
[42037.681237435281]
[29253.113180302702]
[13018.340344008024]
[10956.141285108475]
[10621.148834026884]
[10021.957766786414]
[5204.0225383689649]
[4955.7184677160112]
[4429.4165788886703]
[3132.8829079430225]
[2798.7632903333515]
[2597.7572922281456]
[2393.784399415229]
[2238.3354131710612]
[2108.8987267427406]
[2058.1006296618652]
[2051.1719908048703]
[2017.880727805164]
[1938.6895331083174]
[0]
[0]
[0]
[0]
[0]
[0]
[0]
[0]
[0]
[0]
[0]
[0]
[0]
[0]
[0]
[0]
[0]
[0]
[0]
[0]

{"sheet":"Pb-206_24","index":19,"n_rows":61,"n_cols":22,"rows_kept":61,"cut":false,"hidden":false,"merged":[]}
[null,null,null,"238U/204Pb",null,"206Pb/204Pb",null,"207Pb/204Pb",null,null,null,"206Pb/238U","206Pb/238U",null,"207Pb/235U","207Pb/235U",null,"207Pb/206Pb","207Pb/206Pb",null,4982.0582951504057,"Geochimica et Cosmochimica Acta, Vol. 62, No. 16, pp. 2823–2835, 1998"]
[null,null,null,"Ratio",null,"Ratio",null,"Ratio",null,null,null,"Ratio","Age",null,"Ratio","Age",null,"Ratio","Age",null,4971.3479862931135]
["A1",2.02,0.76,183,-2,24.28,-14,15.99,-13,39.06,-38,0.13250000000000001,{"$f":"[1]!AgePb6U8(L3)","v":802.11170588268874},-16,12.03,{"$f":"[1]!AgePb7U5(O3)","v":2606.7466021594696},-16,{"$f":"(H3/F3)","v":0.65856672158154861},{"$f":"[1]!AgePb76($R$3)","v":4642.8576385921815},null,4950.2588015813144]
["A2",2.68,0.54,382,-3,31.24,-18,16.53,-10,39.69,-24,8.1900000000000001E-2,{"$f":"[1]!AgePb6U8(L4)","v":507.45369676964231},-7,5.97,{"$f":"[1]!AgePb7U5(O4)","v":1971.4831951794004},-5,{"$f":"(H4/F4)","v":0.52912932138284252},{"$f":"[1]!AgePb76($R$4)","v":4324.4819925983393},null,4942.6022782756845]
["A3",2.4,0.52,344,-2,29.68,-7,16.22,-3,39.020000000000003,-9,8.6300000000000002E-2,{"$f":"[1]!AgePb6U8(L5)","v":533.6175758747346},-7,6.51,{"$f":"[1]!AgePb7U5(O5)","v":2047.2513233244083},-6,0.54649595687331531,{"$f":"[1]!AgePb76($R$5)","v":4371.8033046372175},null,4937.0341854980588]
["A4",2.68,0.36,605,-4,38.53,-13,16.7,-3,39,-9,6.3600000000000004E-2,{"$f":"[1]!AgePb6U8(L6)","v":397.48190418519124},-6,3.8,{"$f":"[1]!AgePb7U5(O6)","v":1592.7460201186427},-3,0.43342849727485072,{"$f":"[1]!AgePb76($R$6)","v":4029.3052467433868},null,4936.9340853066651]
["A5",1.27,0.75,114,-1,21.96,-18,15.77,-13,38.85,-34,0.1925,{"$f":"[1]!AgePb6U8(L7)","v":1134.9037471739509},-18,19.05,{"$f":"[1]!AgePb7U5(O7)","v":3044.3510725009678},-18,0.71812386156648444,{"$f":"[1]!AgePb76($R$7)","v":4767.4171585670283},null,4928.0959344627436]
["A6",2.58,0.51,381,-2,31.09,-8,16.329999999999998,-5,38.950000000000003,-12,8.1699999999999995E-2,{"$f":"[1]!AgePb6U8(L8)","v":506.2619026856209},-7,5.91,{"$f":"[1]!AgePb7U5(O8)","v":1962.7046126613989},-5,0.52524927629462848,{"$f":"[1]!AgePb76($R$8)","v":4313.6801843510184},null,4919.9148107726842]
["A7",1.49,0.39,279,-2,27.6,-9,16.100000000000001,-5,38.89,-13,9.9000000000000005E-2,{"$f":"[1]!AgePb6U8(L9)","v":608.54585283793267},-9,7.96,{"$f":"[1]!AgePb7U5(O9)","v":2226.5017281685932},-7,0.58333333333333337,{"$f":"[1]!AgePb76($R$9)","v":4467.0238225158637},null,4919.6028558988346]
["A8",1.54,0.31,374,-3,31.04,-20,16.5,-10,39.4,-25,8.3000000000000004E-2,{"$f":"[1]!AgePb6U8(L10)","v":514.00462864692042},-7,6.08,{"$f":"[1]!AgePb7U5(O10)","v":1987.3827564660896},-5,0.53157216494845361,{"$f":"[1]!AgePb76($R$10)","v":4331.2389039719146},null,4902.3644343825781]
["A9",1.85,0.25,617,-6,38.82,-28,16.77,-11,39.270000000000003,-26,6.2899999999999998E-2,{"$f":"[1]!AgePb6U8(L11)","v":393.23785049088741},-5,3.74,{"$f":"[1]!AgePb7U5(O11)","v":1579.9737378351881},-4,0.43199381761978362,{"$f":"[1]!AgePb76($R$11)","v":4024.3563212755148},null,4901.7785659392184]
["Zw2",2.14,0.51,309,-4,29.09,-13,16.25,-4,39.28,-10,9.4200000000000006E-2,{"$f":"[1]!AgePb6U8(L12)","v":580.32878419074018},-7,7.26,{"$f":"[1]!AgePb7U5(O12)","v":2143.9047444107091},-6,0.55861120660020624,{"$f":"[1]!AgePb76($R$12)","v":4403.8643002510871},null,4887.819554451542]
["M25JJ",1.57,0.61,179.7,-7,24.52,-4,15.96,-3,38.979999999999997,-9,0.13639999999999999,{"$f":"[1]!AgePb6U8(L13)","v":824.27314100174624},-5,12.24,{"$f":"[1]!AgePb7U5(O13)","v":2622.9807082386783},-5,0.65089722675367057,{"$f":"[1]!AgePb76($R$13)","v":4625.9460038690113},null,4882.2825875491017]
["M25KK",1.19,0.82,98,-6,21.9,-3,15.84,-3,39.1,-9,0.22339999999999999,{"$f":"[1]!AgePb6U8(L14)","v":1299.8154251495728},-13,22.27,{"$f":"[1]!AgePb7U5(O14)","v":3195.5779837682899},-13,0.72328767123287674,{"$f":"[1]!AgePb76($R$14)","v":4777.6923190832231},null,4871.0914811804287]
["Zw15",0.16,1.35,7.4,-15,18.87,-5,15.75,-5,38.909999999999997,-13,2.5499999999999998,{"$f":"[1]!AgePb6U8(L15)","v":8167.2689991124862},-5,293,{"$f":"[1]!AgePb7U5(O15)","v":5771.010577589157},-6,0.83465818759936405,{"$f":"[1]!AgePb76($R$15)","v":4982.0582951504057},null,4854.0802065824446]
["Zw20",1.22,1.25,64.5,-6,20.67,-5,15.77,-4,38.96,-11,0.32040000000000002,{"$f":"[1]!AgePb6U8(L16)","v":1791.682327135542},-25,33.71,{"$f":"[1]!AgePb7U5(O16)","v":3601.5919478841397},-27,0.76294146105466853,{"$f":"[1]!AgePb76($R$16)","v":4854.0802065824446},null,4838.4374115606288]
["Zw100",2.4,0.5,364,-4,30.88,-14,16.440000000000001,-4,39.299999999999997,-11,8.4699999999999998E-2,{"$f":"[1]!AgePb6U8(L17)","v":524.11571999377793},-6,6.22,{"$f":"[1]!AgePb7U5(O17)","v":2007.2650179263185},-5,0.53238341968911918,{"$f":"[1]!AgePb76($R$17)","v":4333.4754190178865},null,4836.4250598520048]
["Zw101",1.77,0.39,341,-7,29.91,-21,16.399999999999999,-4,39.270000000000003,-10,8.7800000000000003E-2,{"$f":"[1]!AgePb6U8(L18)","v":542.51286386284232},-9,6.64,{"$f":"[1]!AgePb7U5(O18)","v":2064.6774668004559},-8,0.54831160147107982,{"$f":"[1]!AgePb76($R$18)","v":4376.6566700019139},null,4824.6732029713785]
["Zw104",1.51,0.89,115,-1,22.48,-4,15.92,-3,39.119999999999997,-8,0.1956,{"$f":"[1]!AgePb6U8(L19)","v":1151.639976971125},-12,19.100000000000001,{"$f":"[1]!AgePb7U5(O19)","v":3046.8800477890341},-12,0.70818505338078286,{"$f":"[1]!AgePb76($R$19)","v":4747.4165154719085},null,4824.4354301913609]
["Zw105",1.52,0.57999999999999996,184,-2,24.73,-6,16.03,-3,39.03,-8,0.1346,{"$f":"[1]!AgePb6U8(L20)","v":814.05425244370554},-9,12.03,{"$f":"[1]!AgePb7U5(O20)","v":2606.7466021594696},-9,0.64820056611403154,{"$f":"[1]!AgePb76($R$20)","v":4619.9489337047471},null,4809.6777461066686]
["Zw102",2.48,1.35,125.9,-6,23.17,-3,15.93,-2,39.11,-8,0.184,{"$f":"[1]!AgePb6U8(L21)","v":1088.7899207852629},-7,17.45,{"$f":"[1]!AgePb7U5(O21)","v":2959.9069609448507},-7,0.68752697453603795,{"$f":"[1]!AgePb76($R$21)","v":4704.8673367712736},null,4787.3769264947077]
["B1",4.3600000000000003,1.83,159.9,-7,22.16,-3,15.85,-3,38.79,-11,0.13850000000000001,{"$f":"[1]!AgePb6U8(L22)","v":836.17473986563948},-6,13.67,{"$f":"[1]!AgePb7U5(O22)","v":2727.1204672334775},-6,0.71525270758122739,{"$f":"[1]!AgePb76($R$22)","v":4761.6698304422507},null,4777.6923190832231]
["B3",4.18,1.78,160,-1,22.55,-3,15.92,-3,39.03,-8,0.14130000000000001,{"$f":"[1]!AgePb6U8(L23)","v":852.00943482621938},-12,13.75,{"$f":"[1]!AgePb7U5(O23)","v":2732.6426184554284},-12,0.70598669623059862,{"$f":"[1]!AgePb76($R$23)","v":4742.9520905110348},null,4774.1246127996856]
["N24a",14.4,2.4500000000000002,398,-4,22.66,-3,15.93,-3,38.700000000000003,-9,5.6899999999999999E-2,{"$f":"[1]!AgePb6U8(L24)","v":356.74517346117358},-6,5.52,{"$f":"[1]!AgePb7U5(O24)","v":1903.7156683135113},-6,0.70300088261253313,{"$f":"[1]!AgePb76($R$24)","v":4736.8646505876841},null,4767.4171585670283]
["N24b",7.8,1.85,284,-1,22.21,-5,15.9,-4,38.83,-11,7.8299999999999995E-2,{"$f":"[1]!AgePb6U8(L25)","v":485.96761905488904},-3,7.73,{"$f":"[1]!AgePb7U5(O25)","v":2200.0968369310158},-3,0.71589374155785679,{"$f":"[1]!AgePb76($R$25)","v":4762.9551531215529},null,4766.0510457753498]
["NH1",7.44,2.5,197.8,-8,21.22,-2,15.86,-2,38.979999999999997,-8,0.10730000000000001,{"$f":"[1]!AgePb6U8(L26)","v":657.04831408171151},-4,11.05,{"$f":"[1]!AgePb7U5(O26)","v":2527.354074160191},-4,0.74740810556079174,{"$f":"[1]!AgePb76($R$26)","v":4824.6732029713785},null,4762.9551531215529]
["NH2",8.6199999999999992,3.97,145.69999999999999,-5,22.01,-2,15.88,-3,38.86,-8,0.15110000000000001,{"$f":"[1]!AgePb6U8(L27)","v":907.12655560921417},-5,15.02,{"$f":"[1]!AgePb7U5(O27)","v":2816.5080384223111},-5,0.72149023171285775,{"$f":"[1]!AgePb76($R$27)","v":4774.1246127996856},null,4761.6698304422507]
["NH3",10.4,2.86,240,-1,20.49,-2,15.82,-2,38.86,-8,8.5300000000000001E-2,{"$f":"[1]!AgePb6U8(L28)","v":527.68055742035233},-4,9.08,{"$f":"[1]!AgePb7U5(O28)","v":2346.0966265352313},-4,0.77208394338701813,{"$f":"[1]!AgePb76($R$28)","v":4871.0914811804287},null,4747.4165154719085]
["NH4",13.1,2.87,308,-2,22.19,-2,15.92,-2,38.979999999999997,-8,7.1999999999999995E-2,{"$f":"[1]!AgePb6U8(L29)","v":448.19379628435331},-4,7.12,{"$f":"[1]!AgePb7U5(O29)","v":2126.5473464726474},-4,0.7174402884182064,{"$f":"[1]!AgePb76($R$29)","v":4766.0510457753498},null,4742.9520905110348]
["NH5",8.35,3.08,180.5,-5,21.43,-2,15.85,-3,38.869999999999997,-8,0.1187,{"$f":"[1]!AgePb6U8(L30)","v":723.07685331666585},-4,12.1,{"$f":"[1]!AgePb7U5(O30)","v":2612.1868611535824},-4,0.73961735884274382,{"$f":"[1]!AgePb76($R$30)","v":4809.6777461066686},null,4736.8646505876841]
["NH6",5.86,3.12,124.7,-5,21.17,-2,15.82,-2,38.83,-8,0.16969999999999999,{"$f":"[1]!AgePb6U8(L31)","v":1010.4580543079726},-7,17.489999999999998,{"$f":"[1]!AgePb7U5(O31)","v":2962.1059505498638},-7,0.74728389230042513,{"$f":"[1]!AgePb76($R$31)","v":4824.4354301913609},null,4704.8673367712736]
["NH8",7.91,3.42,153.19999999999999,-6,20.98,-2,15.81,-2,38.89,-8,0.13689999999999999,{"$f":"[1]!AgePb6U8(L32)","v":827.10884868927565},-5,14.23,{"$f":"[1]!AgePb7U5(O32)","v":2765.1593307682087},-6,0.75357483317445184,{"$f":"[1]!AgePb76($R$32)","v":4836.4250598520048},null,4642.8576385921815]
["NH9",6.55,3.28,132,-1,21.03,-3,15.87,-3,38.840000000000003,-9,0.1588,{"$f":"[1]!AgePb6U8(L33)","v":950.10466986661288},-15,16.52,{"$f":"[1]!AgePb7U5(O33)","v":2907.3900446852267},-16,0.75463623395149781,{"$f":"[1]!AgePb76($R$33)","v":4838.4374115606288},null,4625.9460038690113]
["NH10",8.65,3.09,187.2,-7,21.78,-2,15.86,-2,38.85,-8,0.1163,{"$f":"[1]!AgePb6U8(L34)","v":709.23220008734575},-4,11.68,{"$f":"[1]!AgePb7U5(O34)","v":2579.0993034564449},-4,0.7281910009182736,{"$f":"[1]!AgePb76($R$34)","v":4787.3769264947077},null,4619.9489337047471]
["S1",7.21,1.1200000000000001,506,-2,34.619999999999997,-8,16.43,-5,38.78,-13,6.8400000000000002E-2,{"$f":"[1]!AgePb6U8(L35)","v":426.50895892776003},-4,4.4800000000000004,{"$f":"[1]!AgePb7U5(O35)","v":1727.273291323475},-3,0.47458116695551705,{"$f":"[1]!AgePb76($R$35)","v":4164.131949896715},null,4467.0238225158637]
["S2",5.45,1.02,404,-1,31.33,-3,16.3,-3,38.85,-9,7.7600000000000002E-2,{"$f":"[1]!AgePb6U8(L36)","v":481.78144150857105},-5,5.57,{"$f":"[1]!AgePb7U5(O36)","v":1911.4726430385533},-4,0.52026811362910952,{"$f":"[1]!AgePb76($R$36)","v":4299.6858023461828},null,4403.8643002510871]
["S3",5.84,1.24,352,-1,30.44,-4,16.309999999999999,-3,38.97,-9,8.6599999999999996E-2,{"$f":"[1]!AgePb6U8(L37)","v":535.39761569886002},-5,6.4,{"$f":"[1]!AgePb7U5(O37)","v":2032.268873645859},-4,0.53580814717476999,{"$f":"[1]!AgePb76($R$37)","v":4342.8765085554087},null,4376.6566700019139]
["S4",5.9,1.07,420,-1,32.29,-4,16.37,-3,38.950000000000003,-8,7.6799999999999993E-2,{"$f":"[1]!AgePb6U8(L38)","v":476.99390754763118},-5,5.37,{"$f":"[1]!AgePb7U5(O38)","v":1880.0827228350227},-3,0.50696810157943639,{"$f":"[1]!AgePb76($R$38)","v":4261.598134516209},null,4371.8033046372175]
["S5",8.3699999999999992,1.05,601,-2,31.34,-4,16.3,-3,38.93,-8,5.2200000000000003E-2,{"$f":"[1]!AgePb6U8(L39)","v":328.01424860318986},-3,3.74,{"$f":"[1]!AgePb7U5(O39)","v":1579.9737378351881},-2,0.52010210593490747,{"$f":"[1]!AgePb76($R$39)","v":4299.2169189835267},null,4342.8765085554087]
["S6",5.87,1.1499999999999999,399,-1,33.9,-7,16.47,-4,38.950000000000003,-11,8.5099999999999995E-2,{"$f":"[1]!AgePb6U8(L40)","v":526.49249730233601},-5,5.7,{"$f":"[1]!AgePb7U5(O40)","v":1931.3677477757226},-3,0.48584070796460177,{"$f":"[1]!AgePb76($R$40)","v":4198.8132507964992},null,4333.4754190178865]
["S7",6.64,0.87,583,-1,31.81,-4,16.309999999999999,-3,38.97,-9,5.45E-2,{"$f":"[1]!AgePb6U8(L41)","v":342.0900624444302},-3,3.85,{"$f":"[1]!AgePb7U5(O41)","v":1603.2682184590462},-2,0.51273184533165672,{"$f":"[1]!AgePb76($R$41)","v":4278.2351269530081},null,4331.2389039719146]
["S8",4.9000000000000004,0.98,381.3,-9,32.49,-4,16.36,-3,38.89,-8,8.5199999999999998E-2,{"$f":"[1]!AgePb6U8(L42)","v":527.08655473095621},-5,5.92,{"$f":"[1]!AgePb7U5(O42)","v":1964.1729904346635},-4,0.50353955063096334,{"$f":"[1]!AgePb76($R$42)","v":4251.6042471932515},null,4326.5883616245919]
["S9",3.99,1.18,253.5,-6,30.78,-3,16.309999999999999,-3,38.9,-8,0.12139999999999999,{"$f":"[1]!AgePb6U8(L43)","v":738.61662986259512},-7,8.8699999999999992,{"$f":"[1]!AgePb7U5(O43)","v":2324.7193516224706},-5,0.52988953866146837,{"$f":"[1]!AgePb76($R$43)","v":4326.5883616245919},null,4324.4819925983393]
["S10",5.37,1.0900000000000001,387,-1,34.82,-4,16.489999999999998,-3,38.89,-9,0.09,{"$f":"[1]!AgePb6U8(L44)","v":555.53712322999138},-6,5.88,{"$f":"[1]!AgePb7U5(O44)","v":1958.2866953802632},-4,0.47357840321654215,{"$f":"[1]!AgePb76($R$44)","v":4161.0000493161879},null,4313.6801843510184]
["S11",5.56,0.82,530,-1,34.340000000000003,-4,16.440000000000001,-3,38.840000000000003,-8,6.4699999999999994E-2,{"$f":"[1]!AgePb6U8(L45)","v":404.14549130329351},-4,4.2699999999999996,{"$f":"[1]!AgePb7U5(O45)","v":1687.5974641349148},-3,0.47874199184624344,{"$f":"[1]!AgePb76($R$45)","v":4177.0510152382149},null,4299.6858023461828]
["N1",0.375,0.34399999999999997,70.459999999999994,-39,19.55,-2,15.71,-3,38.6,-8,0.27700000000000002,{"$f":"[1]!AgePb6U8(L46)","v":1576.2357908164536},-2,30.7,{"$f":"[1]!AgePb7U5(O46)","v":3509.4853844577701},-2,0.80358056265984656,{"$f":"[1]!AgePb76($R$46)","v":4928.0959344627436},null,4299.2169189835267]
["N2",0.122,0.35299999999999998,22.13,-9,18.88,-3,15.64,-3,38.58,-9,0.85199999999999998,{"$f":"[1]!AgePb6U8(L47)","v":3972.7067605091866},-5,97.4,{"$f":"[1]!AgePb7U5(O47)","v":4659.6342631448515},-6,0.8283898305084747,{"$f":"[1]!AgePb76($R$47)","v":4971.3479862931135},null,4278.2351269530081]
["N3",0.623,0.33700000000000002,120.98,-57,20.239999999999998,-2,15.75,-2,38.68,-8,0.16700000000000001,{"$f":"[1]!AgePb6U8(L48)","v":995.56069817514242},-1,17.899999999999999,{"$f":"[1]!AgePb7U5(O48)","v":2984.3752064432115},-1,0.77816205533596849,{"$f":"[1]!AgePb76($R$48)","v":4882.2825875491017},null,4261.598134516209]
["N4",0.61799999999999999,0.33,122.71,-60,20.2,-3,15.78,-3,38.78,-9,0.16400000000000001,{"$f":"[1]!AgePb6U8(L49)","v":978.96760231584869},-1,17.7,{"$f":"[1]!AgePb7U5(O49)","v":2973.5731571919996},-1,0.78118811881188122,{"$f":"[1]!AgePb76($R$49)","v":4887.819554451542},null,4251.6042471932515]
["N5",0.30399999999999999,0.35,56.34,-22,19.440000000000001,-2,15.72,-3,38.69,-9,0.34499999999999997,{"$f":"[1]!AgePb6U8(L50)","v":1910.6785692428844},-2,38.4,{"$f":"[1]!AgePb7U5(O50)","v":3730.279551509253},-2,0.8086419753086419,{"$f":"[1]!AgePb76($R$50)","v":4937.0341854980588},null,4198.8132507964992]
["M20A",null,null,null,null,19.975999999999999,-12,15.765000000000001,-13,40.008000000000003,-43,null,null,null,null,null,null,0.78919703644373251,{"$f":"[1]!AgePb76($R$51)","v":4902.3644343825781},null,4177.0510152382149]
["M20B",null,null,null,null,19.428999999999998,-10,15.71,-12,39.406999999999996,-40,null,null,null,null,null,null,0.80858510474033674,{"$f":"[1]!AgePb76($R$52)","v":4936.9340853066651},null,4164.131949896715]
["M20C",null,null,null,null,19.969000000000001,-10,15.753,-12,39.97,-40,null,null,null,null,null,null,0.78887275276678848,{"$f":"[1]!AgePb76($R$53)","v":4901.7785659392184},null,4161.0000493161879]
["M47A",null,null,null,null,19.707000000000001,-10,15.742000000000001,-12,39.228999999999999,-39,null,null,null,null,null,null,0.79880245598010857,{"$f":"[1]!AgePb76($R$54)","v":4919.6028558988346},null,4029.3052467433868]
["M47B",null,null,null,null,19.754000000000001,-12,15.782999999999999,-13,39.350999999999999,-41,null,null,null,null,null,null,0.79897742229421886,{"$f":"[1]!AgePb76($R$55)","v":4919.9148107726842},null,4024.3563212755148]
["N15A",null,null,null,null,19.242999999999999,-10,15.706,-12,39.066000000000003,-39,null,null,null,null,null,null,0.81619290131476385,{"$f":"[1]!AgePb76($R$56)","v":4950.2588015813144}]
["N15B",null,null,null,null,19.353000000000002,-10,15.711,-12,39.143999999999998,-39,null,null,null,null,null,null,0.81181212215160437,{"$f":"[1]!AgePb76($R$57)","v":4942.6022782756845}]
[null,null,null,null,null,null,null,null,null,null,null,null,null,null,null,null,null,"AVG",{"$f":"AVERAGE(S3:S57)","v":4615.9225938287718}]
[null,null,null,null,null,null,null,null,null,null,null,null,null,null,null,null,null,"MAX",{"$f":"MAX(S3:S57)","v":4982.0582951504057}]
[null,null,null,null,null,null,null,null,null,null,null,null,null,null,null,null,null,"MIN",{"$f":"MIN(S3:S57)","v":4024.3563212755148}]
[null,null,null,null,null,null,null,null,null,null,null,null,null,null,null,null,null,"STD DEV",{"$f":"STDEV(S3:S57)","v":290.90475917825393}]

{"sheet":"Pb-206_25","index":20,"n_rows":119,"n_cols":17,"rows_kept":119,"cut":false,"hidden":false,"merged":[]}
[null,null,null,null,null,null,null,null,null,null,null,null,"207Pb/206Pb","207Pb/206Pb",null,null,"Geochimica et Cosmochimica Acta 71 (2007) 5514–5527"]
[null,null,null,null,"207Pb/204Pb",null,"206Pb/204Pb",null,null,null,null,null,"Ratio","Age"]
["B00-1-3,","pl",34.35,0.219,14.984999999999999,9.4E-2,14.757999999999999,9.0999999999999998E-2,2.3275999999999999,3.0999999999999999E-3,1.0154000000000001,1.5E-3,{"$f":"(E3/G3)","v":1.0153814880065051},{"$f":"[1]!AgePb76($M$3)","v":5258.8120405765221}]
["B00-1-3,","pl",34.386000000000003,0.22600000000000001,15.002000000000001,9.8000000000000004E-2,14.773,9.6000000000000002E-2,2.3277000000000001,3.8E-3,1.0156000000000001,1.5E-3,{"$f":"(E4/G4)","v":1.0155012522845732},{"$f":"[1]!AgePb76($M$4)","v":5258.9776255283359}]
["B00-1-3,","pl",34.393999999999998,0.22700000000000001,15.012,9.7000000000000003E-2,14.782999999999999,9.5000000000000001E-2,2.3266,3.5000000000000001E-3,1.0155000000000001,1.9E-3,1.015490766420889,{"$f":"[1]!AgePb76($M$5)","v":5258.9631286971189}]
["B00-1-3,","pl",34.35,0.219,14.984999999999999,9.4E-2,14.757999999999999,9.0999999999999998E-2,2.3275999999999999,3.0999999999999999E-3,1.0154000000000001,1.5E-3,1.0153814880065051,{"$f":"[1]!AgePb76($M$6)","v":5258.8120405765221}]
["B00-1-3,","pl",34.386000000000003,0.22600000000000001,15.002000000000001,9.8000000000000004E-2,14.773,9.6000000000000002E-2,2.3277000000000001,3.8E-3,1.0156000000000001,1.5E-3,1.0155012522845732,{"$f":"[1]!AgePb76($M$7)","v":5258.9776255283359}]
["B00-1-3,","pl",34.393999999999998,0.22700000000000001,15.012,9.7000000000000003E-2,14.782999999999999,9.5000000000000001E-2,2.3266,3.5000000000000001E-3,1.0155000000000001,1.9E-3,1.015490766420889,{"$f":"[1]!AgePb76($M$8)","v":5258.9631286971189}]
["B00-1-3,","pl",34.697000000000003,0.23400000000000001,15.135,0.1,14.893000000000001,9.6000000000000002E-2,2.3296999999999999,2.5999999999999999E-3,1.0162,1E-3,1.0162492446115625,{"$f":"[1]!AgePb76($M$9)","v":5260.0113259934033}]
["B00-1-3,","pl",34.744999999999997,0.23699999999999999,15.164,0.108,14.932,0.114,2.327,7.7000000000000002E-3,1.0155000000000001,2.8E-3,1.0155371015269219,{"$f":"[1]!AgePb76($M$10)","v":5259.0271863374946}]
["B00-1-5,","pl",35.154000000000003,0.23499999999999999,15.36,9.9000000000000005E-2,15.132999999999999,0.106,2.323,4.7000000000000002E-3,1.0149999999999999,2.7000000000000001E-3,1.0150003304037534,{"$f":"[1]!AgePb76($M$11)","v":5258.2849183253529}]
["B00-1-5,","pl",34.356999999999999,0.22800000000000001,14.997999999999999,9.9000000000000005E-2,14.752000000000001,0.1,2.3289,4.5999999999999999E-3,1.0165999999999999,1.6000000000000001E-3,1.0166757049891539,{"$f":"[1]!AgePb76($M$12)","v":5260.6003202792963}]
["B00-1-5,","pl",35.277999999999999,0.25600000000000001,15.394,0.111,15.167999999999999,0.122,2.3260000000000001,5.7000000000000002E-3,1.0149999999999999,3.0999999999999999E-3,1.0148997890295359,{"$f":"[1]!AgePb76($M$13)","v":5258.1458396806975}]
["B00-1-5,","pl",34.494999999999997,0.23300000000000001,15.042999999999999,0.1,14.814,0.10299999999999999,2.3287,5.5999999999999999E-3,1.0155000000000001,2.8999999999999998E-3,1.0154583502092616,{"$f":"[1]!AgePb76($M$14)","v":5258.9183118988876}]
["B00-1-5,","pl",34.405000000000001,0.26900000000000002,14.997999999999999,0.11899999999999999,14.791,0.112,2.3260999999999998,7.7000000000000002E-3,1.014,4.7000000000000002E-3,1.0139949969576092,{"$f":"[1]!AgePb76($M$15)","v":5256.8935875889156}]
["B00-1-5,","pl",34.552,0.24199999999999999,15.121,0.106,14.826000000000001,0.107,2.3306,4.4000000000000003E-3,1.02,2.0999999999999999E-3,1.0198974774045595,{"$f":"[1]!AgePb76($M$16)","v":5265.0415677686033}]
["B00-1-17,","pl",34.834000000000003,0.23400000000000001,15.051,9.5000000000000001E-2,14.826000000000001,9.1999999999999998E-2,2.3494999999999999,4.3E-3,1.0152000000000001,8.9999999999999998E-4,1.0151760420882234,{"$f":"[1]!AgePb76($M$17)","v":5258.5279449374466}]
["B00-1-17,","pl",34.521999999999998,0.22900000000000001,15.041,9.8000000000000004E-2,14.789,9.5000000000000001E-2,2.3342999999999998,2.8999999999999998E-3,1.0170999999999999,1.1000000000000001E-3,1.0170396916627222,{"$f":"[1]!AgePb76($M$18)","v":5261.1028242557459}]
["B00-1-17,","pl",34.561,0.22600000000000001,15.047000000000001,9.5000000000000001E-2,14.792,9.2999999999999999E-2,2.3365,2.8E-3,1.0173000000000001,8.0000000000000004E-4,1.0172390481341267,{"$f":"[1]!AgePb76($M$19)","v":5261.3779664983795}]
["B00-1-17,","pl",34.563000000000002,0.22600000000000001,15.053000000000001,9.6000000000000002E-2,14.817,9.4E-2,2.3327,2.7000000000000001E-3,1.0159,1.1000000000000001E-3,1.015927650671526,{"$f":"[1]!AgePb76($M$20)","v":5259.5669924293088}]
["B00-1-17,","pl",34.658000000000001,0.221,15.106,9.4E-2,14.849,9.1999999999999998E-2,2.3340000000000001,2.7000000000000001E-3,1.0173000000000001,8.9999999999999998E-4,1.0173075627988417,{"$f":"[1]!AgePb76($M$21)","v":5261.4725139996081}]
["B00-1-4,","pl",34.037999999999997,0.249,14.832000000000001,0.113,14.663,0.104,2.3214999999999999,3.5999999999999999E-3,1.0116000000000001,2.3E-3,1.011525608674896,{"$f":"[1]!AgePb76($M$22)","v":5253.4698825025807}]
["B00-1-4,","pl",34.634,0.23799999999999999,15.025,0.1,14.833,9.2999999999999999E-2,2.3349000000000002,7.1999999999999998E-3,1.0128999999999999,1.4E-3,1.0129441111036204,{"$f":"[1]!AgePb76($M$23)","v":5255.4376556774487}]
["B00-1-4,","pl",34.43,0.23200000000000001,14.994,9.9000000000000005E-2,14.772,9.7000000000000003E-2,2.3307000000000002,2.8E-3,1.0149999999999999,8.9999999999999998E-4,1.0150284321689682,{"$f":"[1]!AgePb76($M$24)","v":5258.3237888277972}]
["B00-1-6,","pl",34.643999999999998,0.27200000000000002,15.095000000000001,0.121,14.872999999999999,0.108,2.3292999999999999,5.1000000000000004E-3,1.0148999999999999,2.3E-3,1.0149263766556849,{"$f":"[1]!AgePb76($M$25)","v":5258.1826196966804}]
["B00-1-6,","pl",34.569000000000003,0.22500000000000001,15.084,0.12,14.85,0.112,2.3279999999999998,8.8999999999999999E-3,1.0158,5.1999999999999998E-3,1.0157575757575759,{"$f":"[1]!AgePb76($M$26)","v":5259.3319466001185}]
["B00-1-6,","pl",34.353999999999999,0.28000000000000003,14.997999999999999,0.13600000000000001,14.788,0.11700000000000001,2.3233000000000001,6.7000000000000002E-3,1.0142,2.8E-3,1.0142007032729239,{"$f":"[1]!AgePb76($M$27)","v":5257.1783933121224}]
["B00-1-6,","pl",34.451000000000001,0.23799999999999999,15.05,0.1,14.805,0.10100000000000001,2.3271000000000002,4.1999999999999997E-3,1.0165999999999999,2.2000000000000001E-3,1.0165484633569741,{"$f":"[1]!AgePb76($M$28)","v":5260.4246112461624}]
["12.56,","pl",34.676000000000002,0.221,15.192,9.7000000000000003E-2,15.025,9.6000000000000002E-2,2.3077999999999999,1.46E-2,1.0111000000000001,6.4000000000000003E-3,1.0111148086522463,{"$f":"[1]!AgePb76($M$29)","v":5252.8994684859117}]
["12.56,","pl",34.652999999999999,0.221,15.185,9.7000000000000003E-2,15.016999999999999,9.6000000000000002E-2,2.3075999999999999,1.46E-2,1.0112000000000001,6.4000000000000003E-3,1.011187321036159,{"$f":"[1]!AgePb76($M$30)","v":5253.0001729368478}]
["12.56,","s",34.540999999999997,0.22900000000000001,15.125,0.1,14.957000000000001,9.9000000000000005E-2,2.3094000000000001,1.46E-2,1.0112000000000001,6.4000000000000003E-3,1.0112321989703816,{"$f":"[1]!AgePb76($M$31)","v":5253.0624951263189}]
["25.00,","pl",38.058,0.28299999999999997,15.702,0.11600000000000001,17.872,0.13200000000000001,2.1291000000000002,1.35E-2,0.87839999999999996,5.5999999999999999E-3,0.8785810205908684,{"$f":"[1]!AgePb76($M$32)","v":5054.7901025677256}]
["25.00,","pl",37.759,0.27200000000000002,15.616,0.113,17.727,0.125,2.1295999999999999,1.35E-2,0.88049999999999995,5.5999999999999999E-3,0.88091611665820502,{"$f":"[1]!AgePb76($M$33)","v":5058.5480666155545}]
["25.00,","pl",37.451000000000001,0.29899999999999999,15.590999999999999,0.11700000000000001,17.395,0.157,2.1530999999999998,1.44E-2,0.8972,6.7000000000000002E-3,0.89629203794193735,{"$f":"[1]!AgePb76($M$34)","v":5083.0323059617376}]
["B90-7,","s",35.752000000000002,0.23,15.276,9.8000000000000004E-2,15.406000000000001,0.1,2.3208000000000002,1.47E-2,0.99180000000000001,6.3E-3,0.99156172919641694,{"$f":"[1]!AgePb76($M$35)","v":5225.4620822832203}]
["B90-7,","s",35.673000000000002,0.23699999999999999,15.281000000000001,9.9000000000000005E-2,15.385,0.10199999999999999,2.3189000000000002,1.47E-2,0.99309999999999998,6.3E-3,0.99324016899577516,{"$f":"[1]!AgePb76($M$36)","v":5227.839657196223}]
["B90-7,","pl",34.923000000000002,0.222,15.273999999999999,9.7000000000000003E-2,15.071,9.6000000000000002E-2,2.3172999999999999,1.47E-2,1.0136000000000001,6.4000000000000003E-3,1.0134695773339526,{"$f":"[1]!AgePb76($M$37)","v":5256.1658533121608}]
["B90-7,","pl",34.938000000000002,0.223,15.281000000000001,9.7000000000000003E-2,15.076000000000001,9.6000000000000002E-2,2.3178000000000001,1.47E-2,1.0136000000000001,6.4000000000000003E-3,1.01359777129212,{"$f":"[1]!AgePb76($M$38)","v":5256.343445559276}]
["B90-7,","pn",35.790999999999997,0.254,15.340999999999999,0.11,15.406000000000001,0.111,2.3229000000000002,1.47E-2,0.99590000000000001,6.3E-3,0.99578086459820836,{"$f":"[1]!AgePb76($M$39)","v":5231.4305816184287}]
["B90-7,","pn",35.491,0.314,15.239000000000001,0.13200000000000001,15.302,0.13300000000000001,2.3195000000000001,1.49E-2,0.99539999999999995,6.4000000000000003E-3,0.99588289112534312,{"$f":"[1]!AgePb76($M$40)","v":5231.5745797558811}]
["B90-7,","ccp",35.808999999999997,0.25900000000000001,15.29,0.11,15.417999999999999,0.111,2.3222999999999998,1.47E-2,0.99250000000000005,6.3E-3,0.99169801530678425,{"$f":"[1]!AgePb76($M$41)","v":5225.6552954936851}]
["B90-7,","po",35.378,0.22800000000000001,15.29,9.7000000000000003E-2,15.287000000000001,9.8000000000000004E-2,2.3142,1.47E-2,1.0002,6.4000000000000003E-3,1.0001962451756394,{"$f":"[1]!AgePb76($M$42)","v":5237.6481348758189}]
["B90-7,","po",35.536999999999999,0.252,15.316000000000001,0.107,15.323,0.109,2.3189000000000002,1.47E-2,0.99719999999999998,6.4000000000000003E-3,0.99954317039744178,{"$f":"[1]!AgePb76($M$43)","v":5236.730332829713}]
["29.20,","pl",34.598999999999997,0.376,15.085000000000001,0.16400000000000001,14.967000000000001,0.16200000000000001,2.3142999999999998,1.4999999999999999E-2,1.0099,6.7000000000000002E-3,1.007884011491949,{"$f":"[1]!AgePb76($M$44)","v":5248.4048087955962}]
["29.20,","pl",34.179000000000002,0.33,14.891999999999999,0.14499999999999999,14.784000000000001,0.14699999999999999,2.3142,1.49E-2,1.0089999999999999,6.6E-3,1.0073051948051948,{"$f":"[1]!AgePb76($M$45)","v":5247.5979555329868}]
["29.20,","pl",34.823,0.25800000000000001,15.183,0.11,15.081,0.11600000000000001,2.3107000000000002,1.49E-2,1.0083,6.7000000000000002E-3,1.0067634772229959,{"$f":"[1]!AgePb76($M$46)","v":5246.8423733327245}]
["29.20,","pl",34.351999999999997,0.36399999999999999,14.976000000000001,0.156,14.842000000000001,0.157,2.3130000000000002,1.4800000000000001E-2,1.0085,6.4999999999999997E-3,1.0090284328257648,{"$f":"[1]!AgePb76($M$47)","v":5249.9986579218266}]
["29.20,","s",36.768999999999998,0.38800000000000001,14.898999999999999,0.158,15.686999999999999,0.16500000000000001,2.3460000000000001,1.5299999999999999E-2,0.95040000000000002,6.1999999999999998E-3,0.9497673232612992,{"$f":"[1]!AgePb76($M$48)","v":5164.8454001841337}]
["29.20,","s",37.82,0.246,15.367000000000001,0.1,15.87,0.109,2.3788,1.5699999999999999E-2,0.96650000000000003,6.3E-3,0.96830497794580983,{"$f":"[1]!AgePb76($M$49)","v":5192.072902557823}]
["B00-1-3,","pl",35.450000000000003,0.27300000000000002,15.448,0.11899999999999999,15.215,0.11600000000000001,2.3300999999999998,1.4800000000000001E-2,1.0155000000000001,6.4999999999999997E-3,1.0153138350312192,{"$f":"[1]!AgePb76($M$50)","v":5258.7184950954688}]
["B00-1-3,","pl",34.921999999999997,0.27100000000000002,15.233000000000001,0.11700000000000001,14.992000000000001,0.11799999999999999,2.3294999999999999,1.4800000000000001E-2,1.0159,6.4000000000000003E-3,1.0160752401280684,{"$f":"[1]!AgePb76($M$51)","v":5259.7709293627468}]
["B00-1-3,","s",38.094000000000001,0.25900000000000001,15.291,9.8000000000000004E-2,15.851000000000001,0.106,2.4030999999999998,1.52E-2,0.96499999999999997,6.3E-3,0.96467099867516237,{"$f":"[1]!AgePb76($M$52)","v":5186.7791433172251}]
["B00-1-3,","s",37.689,0.254,15.288,9.7000000000000003E-2,15.84,0.10299999999999999,2.3788999999999998,1.5100000000000001E-2,0.96560000000000001,6.1999999999999998E-3,0.9651515151515152,{"$f":"[1]!AgePb76($M$53)","v":5187.4803397785672}]
["B00-1-6,","pl",35.011000000000003,0.245,15.273,0.108,15.021000000000001,0.107,2.3309000000000002,1.4800000000000001E-2,1.0167999999999999,6.4000000000000003E-3,1.0167765128819652,{"$f":"[1]!AgePb76($M$54)","v":5260.7395102465816}]
["B00-1-6,","pl",34.822000000000003,0.24099999999999999,15.194000000000001,0.105,14.936,0.10299999999999999,2.3313000000000001,1.4800000000000001E-2,1.0170999999999999,6.4000000000000003E-3,1.0172737011247992,{"$f":"[1]!AgePb76($M$55)","v":5261.4257870825186}]
["B00-1-6,","pl",34.936999999999998,0.246,15.215999999999999,0.109,14.959,0.10299999999999999,2.3334999999999999,1.4800000000000001E-2,1.0173000000000001,6.4000000000000003E-3,1.0171802928003209,{"$f":"[1]!AgePb76($M$56)","v":5261.2968811252376}]
["B00-1-6,","pl",34.906999999999996,0.23699999999999999,15.218999999999999,0.10299999999999999,14.964,0.10100000000000001,2.3328000000000002,1.4800000000000001E-2,1.0172000000000001,6.4000000000000003E-3,1.0170408981555734,{"$f":"[1]!AgePb76($M$57)","v":5261.1044895706982}]
["B00-1-5,","pl",34.951999999999998,0.39400000000000002,15.239000000000001,0.17100000000000001,14.987,0.16500000000000001,2.3315999999999999,1.4800000000000001E-2,1.0165,6.4999999999999997E-3,1.0168145726296123,{"$f":"[1]!AgePb76($M$58)","v":5260.7920572513949}]
["B00-1-5,","pl",34.524999999999999,0.38700000000000001,15.054,0.16800000000000001,14.802,0.16300000000000001,2.3315999999999999,1.49E-2,1.0165999999999999,6.4999999999999997E-3,1.0170247263883259,{"$f":"[1]!AgePb76($M$59)","v":5261.0821676024289}]
["B00-1-5,","pl",34.604999999999997,0.34100000000000003,15.084,0.14899999999999999,14.837,0.14399999999999999,2.3327,1.4800000000000001E-2,1.0169999999999999,6.4999999999999997E-3,1.0166475702635303,{"$f":"[1]!AgePb76($M$60)","v":5260.5614708023395}]
["B00-1-5,","s",38.618000000000002,0.432,15.225,0.127,15.156000000000001,0.13300000000000001,2.5548000000000002,2.0199999999999999E-2,1.0026999999999999,6.6E-3,1.0045526524148851,{"$f":"[1]!AgePb76($M$61)","v":5243.7542759881308}]
["B00-1-17,","pl",34.435000000000002,0.26200000000000001,15.005000000000001,0.114,14.76,0.112,2.3328000000000002,1.4800000000000001E-2,1.0166999999999999,6.4000000000000003E-3,1.01659891598916,{"$f":"[1]!AgePb76($M$62)","v":5260.4942844875395}]
["B00-1-17,","pl",34.674999999999997,0.30099999999999999,15.105,0.129,14.858000000000001,0.129,2.3338000000000001,1.4800000000000001E-2,1.0169999999999999,6.4999999999999997E-3,1.0166240409207161,{"$f":"[1]!AgePb76($M$63)","v":5260.528979737267}]
["B00-1-17,","pl",34.570999999999998,0.27800000000000002,15.021000000000001,0.12,14.782999999999999,0.11899999999999999,2.3391999999999999,1.4800000000000001E-2,1.0163,6.4999999999999997E-3,1.0160995738348104,{"$f":"[1]!AgePb76($M$64)","v":5259.8045503142002}]
["B00-1-17,","pl",34.454000000000001,0.311,14.943,0.128,14.760999999999999,0.14199999999999999,2.3348,1.4999999999999999E-2,1.0128999999999999,7.0000000000000001E-3,1.0123297879547457,{"$f":"[1]!AgePb76($M$65)","v":5254.5858127553656}]
["B00-1-17,","pl",34.781999999999996,0.27800000000000002,15.118,0.122,14.877000000000001,0.11899999999999999,2.3384,1.4800000000000001E-2,1.0164,6.4000000000000003E-3,1.0161995025878874,{"$f":"[1]!AgePb76($M$66)","v":5259.9426091293235}]
["B00-1-17,","pl",34.53,0.32400000000000001,15.003,0.13900000000000001,14.759,0.13700000000000001,2.3393999999999999,1.49E-2,1.0166999999999999,6.4000000000000003E-3,{"$f":"(E67/G67)","v":1.0165322853851886},{"$f":"[1]!AgePb76($M$67)","v":5260.4022692847366}]
["B00-1-17,","pl",34.859000000000002,0.28699999999999998,15.121,0.123,14.872999999999999,0.124,2.3439000000000001,1.49E-2,1.0165999999999999,6.4999999999999997E-3,1.0166745108586028,{"$f":"[1]!AgePb76($M$68)","v":5260.5986714024402}]
["B00-1-4,","pl",33.988999999999997,0.33100000000000002,14.8,0.14399999999999999,14.552,0.14099999999999999,2.3361000000000001,1.49E-2,1.0169999999999999,6.4999999999999997E-3,1.0170423309510721,{"$f":"[1]!AgePb76($M$69)","v":5261.1064672471457}]
["B00-1-4,","pl",34.207000000000001,0.316,14.893000000000001,0.13900000000000001,14.656000000000001,0.13700000000000001,2.3344999999999998,1.49E-2,1.0166999999999999,6.4999999999999997E-3,1.0161708515283843,{"$f":"[1]!AgePb76($M$70)","v":5259.9030270807734}]
["B00-1-7,","pl",35.137999999999998,0.35899999999999999,15.304,0.155,15.071,0.154,2.3315999999999999,1.4800000000000001E-2,1.0152000000000001,6.4999999999999997E-3,1.0154601552650786,{"$f":"[1]!AgePb76($M$71)","v":5258.9208075054557}]
["B00-1-7,","pl",35.014000000000003,0.312,15.238,0.13700000000000001,14.996,0.13500000000000001,2.3353000000000002,1.4800000000000001E-2,1.0162,6.4999999999999997E-3,1.0161376367031207,{"$f":"[1]!AgePb76($M$72)","v":5259.8571386168551}]
["B00-1-7,","pl",35.344000000000001,0.33100000000000002,15.38,0.14199999999999999,15.138999999999999,0.14199999999999999,2.3351000000000002,1.4800000000000001E-2,1.0157,6.4999999999999997E-3,1.0159191492172535,{"$f":"[1]!AgePb76($M$73)","v":5259.5552442917815}]
["B00-1-7,","pl",35.558,0.28699999999999998,15.48,0.125,15.218,0.124,2.3363,1.4800000000000001E-2,1.0172000000000001,6.4999999999999997E-3,1.017216454198975,{"$f":"[1]!AgePb76($M$74)","v":5261.3467862949847}]
["B00-2-5,","pl",34.695,0.23699999999999999,15.129,0.10199999999999999,14.879,0.10199999999999999,2.3319999999999999,1.4800000000000001E-2,1.0174000000000001,6.4000000000000003E-3,1.0168022044492238,{"$f":"[1]!AgePb76($M$75)","v":5260.7749814114359}]
["B00-2-5,","pl",34.718000000000004,0.23,15.138999999999999,0.10100000000000001,14.872999999999999,9.8000000000000004E-2,2.3342000000000001,1.4800000000000001E-2,1.0181,6.4000000000000003E-3,1.0178847576144692,{"$f":"[1]!AgePb76($M$76)","v":5262.268752834304}]
["B00-2-5,","s",34.909999999999997,0.27300000000000002,15.18,0.121,14.978999999999999,0.11700000000000001,2.3302999999999998,1.4800000000000001E-2,1.0138,6.4000000000000003E-3,1.0134187863008213,{"$f":"[1]!AgePb76($M$77)","v":5256.0954838856951}]
["B00-2-5,","s",35.002000000000002,0.27900000000000003,15.164,0.122,15.045999999999999,0.11899999999999999,2.3262999999999998,1.47E-2,1.0077,6.4000000000000003E-3,1.0078426159776686,{"$f":"[1]!AgePb76($M$78)","v":5248.3471209385671}]
["B00-2-5,","s",35.052,0.23100000000000001,15.218999999999999,0.1,15.067,9.9000000000000005E-2,2.3264,1.47E-2,1.0097,6.4000000000000003E-3,1.0100882723833542,{"$f":"[1]!AgePb76($M$79)","v":5251.4730062042645}]
["B00-2-5,","s",35.024000000000001,0.22500000000000001,15.196999999999999,9.7000000000000003E-2,15.101000000000001,9.8000000000000004E-2,2.3184,1.47E-2,1.0059,6.4000000000000003E-3,1.0063571948877557,{"$f":"[1]!AgePb76($M$80)","v":5246.2754128330671}]
["B00-2-5,","s",34.991,0.34100000000000003,15.151999999999999,0.14599999999999999,15.058,0.14499999999999999,2.3237000000000001,1.4800000000000001E-2,1.0061,6.4000000000000003E-3,1.0062425288882986,{"$f":"[1]!AgePb76($M$81)","v":5246.1153544949975}]
["B00-2-5,","s",35.085000000000001,0.224,15.23,9.7000000000000003E-2,15.105,9.6000000000000002E-2,2.3229000000000002,1.47E-2,1.0084,6.4000000000000003E-3,1.0082754054948693,{"$f":"[1]!AgePb76($M$82)","v":5248.9501229464295}]
["B00-2-5,","s",35.106999999999999,0.223,15.22,9.7000000000000003E-2,15.128,9.6000000000000002E-2,2.3207,1.47E-2,1.0061,6.4000000000000003E-3,1.0060814383923851,{"$f":"[1]!AgePb76($M$83)","v":5245.8904612288807}]
["B00A-6-8-1,","pl",34.938000000000002,0.23400000000000001,15.222,0.10199999999999999,14.927,0.1,2.3405999999999998,1.4800000000000001E-2,1.0199,6.4999999999999997E-3,1.0197628458498023,{"$f":"[1]!AgePb76($M$84)","v":5264.8562736577824}]
["B00A-6-8-1,","pl",34.83,0.22600000000000001,15.172000000000001,9.8000000000000004E-2,14.884,9.6000000000000002E-2,2.3401999999999998,1.4800000000000001E-2,1.0196000000000001,6.4999999999999997E-3,1.0193496371943027,{"$f":"[1]!AgePb76($M$85)","v":5264.2874110084786}]
["B00A-6-8-1,","pl",34.793999999999997,0.22700000000000001,15.162000000000001,9.9000000000000005E-2,14.879,9.7000000000000003E-2,2.3382999999999998,1.4800000000000001E-2,1.0193000000000001,6.4999999999999997E-3,1.0190200954365214,{"$f":"[1]!AgePb76($M$86)","v":5263.8335575880328}]
["B00A-6-8-1,","pl",34.853999999999999,0.23,15.19,0.1,14.9,9.8000000000000004E-2,2.3393000000000002,1.4800000000000001E-2,1.0193000000000001,6.4999999999999997E-3,1.0194630872483221,{"$f":"[1]!AgePb76($M$87)","v":5264.4436214866755}]
["B00A-6-8-1,","pl",34.863,0.22600000000000001,15.19,9.8000000000000004E-2,14.904999999999999,9.6000000000000002E-2,2.3395999999999999,1.4800000000000001E-2,1.0198,6.4999999999999997E-3,1.0191211003019121,{"$f":"[1]!AgePb76($M$88)","v":5263.9726805748442}]
["B00A-6-8-1,","s",34.975000000000001,0.22900000000000001,15.151999999999999,0.105,14.983000000000001,9.8000000000000004E-2,2.3334999999999999,1.49E-2,1.0099,7.1999999999999998E-3,1.0112794500433824,{"$f":"[1]!AgePb76($M$89)","v":5253.1281097458941}]
["B00A-6-8-1,","s",35.054000000000002,0.27400000000000002,15.125999999999999,0.124,15.051,0.11799999999999999,2.3289,1.49E-2,1.0048999999999999,6.6E-3,1.0049830576041459,{"$f":"[1]!AgePb76($M$90)","v":5244.3560320031929}]
["B00A-6-8-1,","s",34.829000000000001,0.35499999999999998,14.973000000000001,0.16300000000000001,14.975,0.13700000000000001,2.3203,1.4999999999999999E-2,0.99639999999999995,6.6E-3,0.99986644407345582,{"$f":"[1]!AgePb76($M$91)","v":5237.1847263746276}]
["B00A-6-8-1,","s",35.212000000000003,0.33300000000000002,15.071999999999999,0.14199999999999999,15.183999999999999,0.14499999999999999,2.3186,1.47E-2,0.99239999999999995,6.3E-3,0.99262381454162274,{"$f":"[1]!AgePb76($M$92)","v":5226.9670611247002}]
["B00-3-2,","s",36.165999999999997,0.24399999999999999,15.387,0.10299999999999999,15.742000000000001,0.107,2.2984,1.46E-2,0.97750000000000004,6.4000000000000003E-3,0.97744886291449617,{"$f":"[1]!AgePb76($M$93)","v":5205.3007226525842}]
["B00-3-2,","s",36.362000000000002,0.245,15.388,0.104,15.879,0.107,2.2898999999999998,1.4500000000000001E-2,0.96919999999999995,6.1000000000000004E-3,0.96907865734618048,{"$f":"[1]!AgePb76($M$94)","v":5193.1972374956231}]
["B00-3-2,","pl",35.073,0.24299999999999999,15.297000000000001,0.106,15.010999999999999,0.104,2.3365,1.4800000000000001E-2,1.0189999999999999,6.4999999999999997E-3,1.0190526946905603,{"$f":"[1]!AgePb76($M$95)","v":5263.8784610328748}]
["B00-1-8,","s",37.716999999999999,0.30199999999999999,15.456,0.114,17.085999999999999,0.159,2.2075,1.54E-2,0.90459999999999996,7.3000000000000001E-3,0.90460025752077733,{"$f":"[1]!AgePb76($M$96)","v":5096.0774248860389}]
["B04-4,","s",37.970999999999997,0.246,15.238,9.7000000000000003E-2,15.366,9.8000000000000004E-2,2.4689999999999999,1.5900000000000001E-2,0.99180000000000001,6.3E-3,0.99166992060393078,{"$f":"[1]!AgePb76($M$97)","v":5225.6154678498333}]
["B04-4,","pl",34.655000000000001,0.28199999999999997,15.105,0.121,14.837,0.11899999999999999,2.3349000000000002,1.4800000000000001E-2,1.0179,6.4000000000000003E-3,1.0180629507312799,{"$f":"[1]!AgePb76($M$98)","v":5262.5144734407477}]
["OV69","401.11,",34.802,0.27,15.212999999999999,0.11700000000000001,14.986000000000001,0.11600000000000001,2.3224,1.47E-2,1.0150999999999999,6.4000000000000003E-3,1.015147470972908,{"$f":"[1]!AgePb76($M$99)","v":5258.4884312893373}]
["OV69","401.11,",34.904000000000003,0.247,15.257999999999999,0.108,15.022,0.106,2.3233999999999999,1.47E-2,1.0157,6.4000000000000003E-3,1.0157102915723604,{"$f":"[1]!AgePb76($M$100)","v":5259.2665918300881}]
["OV69","401.11,",34.79,0.23799999999999999,15.205,0.104,14.972,0.10199999999999999,2.3235999999999999,1.47E-2,1.0156000000000001,6.4000000000000003E-3,1.0155623831151483,{"$f":"[1]!AgePb76($M$101)","v":5259.0621364799026}]
["OV69","401.11,",34.813000000000002,0.28799999999999998,15.218,0.127,14.99,0.124,2.3224,1.47E-2,1.0153000000000001,6.4000000000000003E-3,1.0152101400933955,{"$f":"[1]!AgePb76($M$102)","v":5258.5751006968267}]
["OV69","401.11,",35.204000000000001,0.23599999999999999,15.278,0.104,15.308,0.10299999999999999,2.2997999999999998,1.46E-2,0.99729999999999996,6.3E-3,0.99804024039717798,{"$f":"[1]!AgePb76($M$103)","v":5234.6157722295302}]
["OV69","401.11,",35.241999999999997,0.26400000000000001,15.294,0.109,15.35,0.111,2.2988,1.4500000000000001E-2,0.99680000000000002,6.3E-3,0.99635179153094466,{"$f":"[1]!AgePb76($M$104)","v":5232.2361756491327}]
["OV69","401.11,",35.609000000000002,0.29699999999999999,15.429,0.129,15.488,0.129,2.2991000000000001,1.46E-2,0.99609999999999999,6.3E-3,0.99619059917355379,{"$f":"[1]!AgePb76($M$105)","v":5232.008778127507}]
["OV69","401.11,",35.35,0.24399999999999999,15.313000000000001,0.106,15.393000000000001,0.106,2.2964000000000002,1.4500000000000001E-2,0.995,6.3E-3,0.99480283245631129,{"$f":"[1]!AgePb76($M$106)","v":5230.0494153169902}]
["B00A-6-8-4,","s",36.484999999999999,0.374,15.454000000000001,0.16700000000000001,15.868,0.16400000000000001,2.2986,1.4800000000000001E-2,0.97399999999999998,6.6E-3,0.97390975548273251,{"$f":"[1]!AgePb76($M$107)","v":5200.1965318814464}]
["B04-2B,","pl",35.177,0.35599999999999998,15.34,0.158,15.071,0.157,2.3349000000000002,1.49E-2,1.0177,6.4999999999999997E-3,1.0178488487824298,{"$f":"[1]!AgePb76($M$108)","v":5262.2192306051193}]
["B00-4-1,","pl",34.576000000000001,0.28699999999999998,15.151,0.121,14.946999999999999,0.124,2.3130000000000002,1.47E-2,1.012,6.4000000000000003E-3,1.0136482237238242,{"$f":"[1]!AgePb76($M$109)","v":5256.4133328345006}]
["B00-4-1,","pl",34.661000000000001,0.28499999999999998,15.177,0.126,14.989000000000001,0.123,2.3123999999999998,1.46E-2,1.0125999999999999,6.4000000000000003E-3,1.0125425311895389,{"$f":"[1]!AgePb76($M$110)","v":5254.8808721073665}]
["B00-4-1,","pl",34.975000000000001,0.26800000000000002,15.298,0.11700000000000001,15.125999999999999,0.115,2.3123999999999998,1.46E-2,1.0116000000000001,6.4000000000000003E-3,1.0113711490149413,{"$f":"[1]!AgePb76($M$111)","v":5253.2554371481083}]
["B00-4-1,","pl",34.857999999999997,0.26200000000000001,15.247999999999999,0.115,15.069000000000001,0.113,2.3134999999999999,1.47E-2,1.0121,6.4000000000000003E-3,1.011878691353109,{"$f":"[1]!AgePb76($M$112)","v":5253.9599578540674}]
["PK231","pl",34.779000000000003,0.314,15.217000000000001,0.13700000000000001,15.09,0.13600000000000001,2.3048000000000002,1.46E-2,1.0085999999999999,6.4000000000000003E-3,1.0084161696487741,{"$f":"[1]!AgePb76($M$113)","v":5249.1461895150787}]
["PK231","pl",34.97,0.30599999999999999,15.327,0.14099999999999999,15.183,0.14199999999999999,2.3037999999999998,1.47E-2,1.0081,6.4000000000000003E-3,1.009484291641968,{"$f":"[1]!AgePb76($M$114)","v":5250.6330059394077}]
["PK231","pl",34.945,0.35199999999999998,15.292,0.156,15.159000000000001,0.155,2.3054000000000001,1.46E-2,1.0087999999999999,6.4000000000000003E-3,1.0087736658090902,{"$f":"[1]!AgePb76($M$115)","v":5249.6440062403108}]
[null,null,null,null,null,null,null,null,null,null,null,null,"AVG",{"$f":"AVERAGE(N3:N115)","v":5243.3608635329147}]
[null,null,null,null,null,null,null,null,null,null,null,null,"MAX",{"$f":"MAX(N3:N115)","v":5265.0415677686033}]
[null,null,null,null,null,null,null,null,null,null,null,null,"MIN",{"$f":"MIN(N3:N115)","v":5054.7901025677256}]
[null,null,null,null,null,null,null,null,null,null,null,null,"STD DEV",{"$f":"STDEV(N3:N115)","v":37.777812229384537}]