{"text_format":"1","workbook":"xlsx","n_sheets":10,"sheets":["Index","Negative_03","Negative_04","Negative_06 ","Negative_07","Negative_08","Negative_19","Negative_20","Negative_28","Negative_30"],"not_rendered":{"charts":0,"images":0,"macros":1,"external_links":1,"defined_names":0,"comments":0,"pivot_tables":0},"unopened":[],"bounds":{"document_bytes":16777216,"sheet_cells":100000,"rows_first":2000,"rows_last":500,"rows_between":2000,"halvings":0,"cell_chars":16384,"cell_head_chars":4096},"cells_cut":0,"cells_raw":0,"read":"whole","date_system":"1900"}

{"sheet":"Index","index":0,"n_rows":32,"n_cols":7,"rows_kept":32,"cut":false,"hidden":false,"merged":[]}
["Number","Essay's Title","Magazine Reference","Folder","File Name","Essay [Adobe Acrobat]","Reference"]
[1,null,"Quaternary Science Reviews, Volume 20, 2001, Pages 1031-1039","C:\\Essays\\Geo_Dating\\Dating\\Negative_Ages\\",{"$f":"(\"Negative_Ages_0\" &A2)","v":"Negative_Ages_01"},{"$f":"(D2 & E2 & \".pdf\")","v":"C:\\Essays\\Geo_Dating\\Dating\\Negative_Ages\\Negative_Ages_01.pdf"}," "]
[2,null,null,"C:\\Essays\\Geo_Dating\\Dating\\Negative_Ages\\",{"$f":"(\"Negative_Ages_0\" &A3)","v":"Negative_Ages_02"},{"$f":"(D3 & E3 & \".pdf\")","v":"C:\\Essays\\Geo_Dating\\Dating\\Negative_Ages\\Negative_Ages_02.pdf"}," "]
[3,"Ion Microprobe U-Pb Dating ","Journal of Volcanology and Geothermal Research, Volume 117, 2002, Pages 285-296","C:\\Essays\\Geo_Dating\\Dating\\Negative_Ages\\","Negative_Ages_03","C:\\Essays\\Geo_Dating\\Dating\\Negative_Ages\\Negative_Ages_03.pdf",{"$f":"(B4 & \", \" & C4)","v":"Ion Microprobe U-Pb Dating , Journal of Volcanology and Geothermal Research, Volume 117, 2002, Pages 285-296"}]
[4,"The Long Valley rhyolitic ","Geochimica et Cosmochimica Acta, 1998, Volume 62, Number 21/22, Pages 3561-3574","C:\\Essays\\Geo_Dating\\Dating\\Negative_Ages\\","Negative_Ages_04","C:\\Essays\\Geo_Dating\\Dating\\Negative_Ages\\Negative_Ages_04.pdf",{"$f":"(B5 & \", \" & C5)","v":"The Long Valley rhyolitic , Geochimica et Cosmochimica Acta, 1998, Volume 62, Number 21/22, Pages 3561-3574"}]
[5,null,null,"C:\\Essays\\Geo_Dating\\Dating\\Negative_Ages\\","Negative_Ages_05","C:\\Essays\\Geo_Dating\\Dating\\Negative_Ages\\Negative_Ages_05.pdf"," "]
[6,"Rn-Generated 206Pb ","Mineralogy and Petrology, 1999, Volume 66, Pages 171-191","C:\\Essays\\Geo_Dating\\Dating\\Negative_Ages\\","Negative_Ages_06","C:\\Essays\\Geo_Dating\\Dating\\Negative_Ages\\Negative_Ages_06.pdf","Rn-Generated 206Pb , Mineralogy and Petrology, 1999, Volume 66, Pages 171-191"]
[7,"40Ar/39 Ar Age of a Tholeiitic Basalt ","Quaternary Research, Volume 68, 2007, Pages 96-110","C:\\Essays\\Geo_Dating\\Dating\\Negative_Ages\\","Negative_Ages_07","C:\\Essays\\Geo_Dating\\Dating\\Negative_Ages\\Negative_Ages_07.pdf","40Ar/39 Ar Age of a Tholeiitic Basalt , Quaternary Research, Volume 68, 2007, Pages 96-110"]
[8,"Isotopic Systematics of Ultramafic Xenoliths ","Chemical Geology, Volume 248, 2008, Pages 40-61","C:\\Essays\\Geo_Dating\\Dating\\Negative_Ages\\","Negative_Ages_08","C:\\Essays\\Geo_Dating\\Dating\\Negative_Ages\\Negative_Ages_08.pdf","Isotopic Systematics of Ultramafic Xenoliths , Chemical Geology, Volume 248, 2008, Pages 40-61"]
[9,null,null,"C:\\Essays\\Geo_Dating\\Dating\\Negative_Ages\\","Negative_Ages_09","C:\\Essays\\Geo_Dating\\Dating\\Negative_Ages\\Negative_Ages_09.pdf"," "]
[10,"Systematics of Korean Spinel Peridotites","Lithos, Volume 154, 2012, Pages 263–276","C:\\Essays\\Geo_Dating\\Dating\\Negative_Ages\\",{"$f":"(\"Negative_Ages_\" &A11)","v":"Negative_Ages_10"},"C:\\Essays\\Geo_Dating\\Dating\\Negative_Ages\\Negative_Ages_10.pdf","Systematics of Korean Spinel Peridotites, Lithos, Volume 154, 2012, Pages 263–276"]
[11,null," ","C:\\Essays\\Geo_Dating\\Dating\\Negative_Ages\\",{"$f":"(\"Negative_Ages_\" &A12)","v":"Negative_Ages_11"},"C:\\Essays\\Geo_Dating\\Dating\\Negative_Ages\\Negative_Ages_11.pdf"," "]
[12,null,null,"C:\\Essays\\Geo_Dating\\Dating\\Negative_Ages\\","Negative_Ages_12","C:\\Essays\\Geo_Dating\\Dating\\Negative_Ages\\Negative_Ages_12.pdf"," "]
[13,null,null,"C:\\Essays\\Geo_Dating\\Dating\\Negative_Ages\\","Negative_Ages_13","C:\\Essays\\Geo_Dating\\Dating\\Negative_Ages\\Negative_Ages_13.pdf"," "]
[14,null,null,"C:\\Essays\\Geo_Dating\\Dating\\Negative_Ages\\","Negative_Ages_14","C:\\Essays\\Geo_Dating\\Dating\\Negative_Ages\\Negative_Ages_14.pdf"," "]
[15,"Mobility of Rare Earth Elements ","Resource Geology, Volume 61, Number 2, Pages 140-158","C:\\Essays\\Geo_Dating\\Dating\\Negative_Ages\\","Negative_Ages_15","C:\\Essays\\Geo_Dating\\Dating\\Negative_Ages\\Negative_Ages_15.pdf","Mobility of Rare Earth Elements , Resource Geology, Volume 61, Number 2, Pages 140-158"]
[16,null,null,"C:\\Essays\\Geo_Dating\\Dating\\Negative_Ages\\","Negative_Ages_16","C:\\Essays\\Geo_Dating\\Dating\\Negative_Ages\\Negative_Ages_16.pdf"," "]
[17,null,null,"C:\\Essays\\Geo_Dating\\Dating\\Negative_Ages\\","Negative_Ages_17","C:\\Essays\\Geo_Dating\\Dating\\Negative_Ages\\Negative_Ages_17.pdf"," "]
[18,"Strontium Geochemistry of the Australian Alps","Chemical Geology, Volume 284, 2011, Pages 105-126","C:\\Essays\\Geo_Dating\\Dating\\Negative_Ages\\","Negative_Ages_18","C:\\Essays\\Geo_Dating\\Dating\\Negative_Ages\\Negative_Ages_18.pdf","Strontium Geochemistry of the Australian Alps, Chemical Geology, Volume 284, 2011, Pages 105-126"]
[19,"Timing of Precambrian Melt Depletion ","Lithos, Volume 77, 2004, Pages 453-472","C:\\Essays\\Geo_Dating\\Dating\\Negative_Ages\\","Negative_Ages_19","C:\\Essays\\Geo_Dating\\Dating\\Negative_Ages\\Negative_Ages_19.pdf","Timing of Precambrian Melt Depletion , Lithos, Volume 77, 2004, Pages 453-472"]
[20,"Re-Os, Sm-Nd, and Rb-Sr Isotope Evidence ","Geochemica et Cosmochimica Acta, 1995, Volume 59, Number 5, Pages 959-977","C:\\Essays\\Geo_Dating\\Dating\\Negative_Ages\\","Negative_Ages_20","C:\\Essays\\Geo_Dating\\Dating\\Negative_Ages\\Negative_Ages_20.pdf","Re-Os, Sm-Nd, and Rb-Sr Isotope Evidence , Geochemica et Cosmochimica Acta, 1995, Volume 59, Number 5, Pages 959-977"]
[21,"Mantle Geochemistry And Geochronology","Lithos, Volume 82, 2005, Pages 249–272 ","C:\\Essays\\Geo_Dating\\Dating\\Negative_Ages\\","Negative_Ages_21","C:\\Essays\\Geo_Dating\\Dating\\Negative_Ages\\Negative_Ages_21.pdf"," "]
[22,null," ","C:\\Essays\\Geo_Dating\\Dating\\Negative_Ages\\","Negative_Ages_22","C:\\Essays\\Geo_Dating\\Dating\\Negative_Ages\\Negative_Ages_22.pdf"," "]
[23,null,null,"C:\\Essays\\Geo_Dating\\Dating\\Negative_Ages\\","Negative_Ages_23","C:\\Essays\\Geo_Dating\\Dating\\Negative_Ages\\Negative_Ages_23.pdf"," "]
[24,null," ","C:\\Essays\\Geo_Dating\\Dating\\Negative_Ages\\","Negative_Ages_24","C:\\Essays\\Geo_Dating\\Dating\\Negative_Ages\\Negative_Ages_24.pdf"," "]
[25,null," ","C:\\Essays\\Geo_Dating\\Dating\\Negative_Ages\\","Negative_Ages_25","C:\\Essays\\Geo_Dating\\Dating\\Negative_Ages\\Negative_Ages_25.pdf"," "]
[26,null,null,"C:\\Essays\\Geo_Dating\\Dating\\Negative_Ages\\","Negative_Ages_26","C:\\Essays\\Geo_Dating\\Dating\\Negative_Ages\\Negative_Ages_26.pdf"," "]
[27,null,null,"C:\\Essays\\Geo_Dating\\Dating\\Negative_Ages\\","Negative_Ages_27","C:\\Essays\\Geo_Dating\\Dating\\Negative_Ages\\Negative_Ages_27.pdf"," "]
[28,"Re–Os Isotopic Evidence From Mantle Xenoliths","Contributions Mineral Petrology, 2008, Volume 155, Pages 271-293","C:\\Essays\\Geo_Dating\\Dating\\Negative_Ages\\","Negative_Ages_28","C:\\Essays\\Geo_Dating\\Dating\\Negative_Ages\\Negative_Ages_28.pdf","Re–Os Isotopic Evidence From Mantle Xenoliths, Contributions Mineral Petrology, 2008, Volume 155, Pages 271-293"]
[29,null,null,"C:\\Essays\\Geo_Dating\\Dating\\Negative_Ages\\","Negative_Ages_29","C:\\Essays\\Geo_Dating\\Dating\\Negative_Ages\\Negative_Ages_29.pdf"," "]
[30,"Re-Os Isotopes in Mantle Sulfides ","Geochimica et Cosmochimica Acta, 2002, Volume 66, No. 6, Pages 1037-1050","C:\\Essays\\Geo_Dating\\Dating\\Negative_Ages\\","Negative_Ages_30","C:\\Essays\\Geo_Dating\\Dating\\Negative_Ages\\Negative_Ages_30.pdf"]
[31,null,null,"C:\\Essays\\Geo_Dating\\Dating\\Negative_Ages\\","Negative_Ages_31","C:\\Essays\\Geo_Dating\\Dating\\Negative_Ages\\Negative_Ages_31.pdf"]

{"sheet":"Negative_03","index":1,"n_rows":58,"n_cols":15,"rows_kept":58,"cut":false,"hidden":false,"merged":[]}
["Table 2",null,null,null," "]
[null,null,null,null,null,"Age",null,"Age","Age Ratio"]
["Sample",null,null,"238U/206Pb","206Pb/238U","206Pb/238U","207Pb/206Pb","207Pb/206Pb"," "]
["TH1.01.1",166,130,23.3,{"$f":"(1/D4)","v":4.2918454935622317E-2},{"$f":"[1]!AgePb6U8(E4)","v":270.89759725929332},0.84799999999999998,{"$f":"[1]!AgePb76(G4)","v":5004.5727343476356},{"$f":"(H4/F4)","v":18.474038843384207},5.79E-2,4,1.6000000000000001E-3,2.1179999999999999,4,2.5000000000000001E-2]
["TH1.02.1",188,104,365,{"$f":"(1/D5)","v":2.7397260273972603E-3},{"$f":"[1]!AgePb6U8(E5)","v":17.637259106364841},0.80500000000000005,{"$f":"[1]!AgePb76(G5)","v":4930.6086334860865},{"$f":"(H5/F5)","v":279.55639840357929},5.1700000000000003E-2,4,5.1999999999999998E-3,1.92,4,8.1000000000000003E-2]
["TH1.03.1",213,190,793,1.2610340479192938E-3,{"$f":"[1]!AgePb6U8(E6)","v":8.1240265095102231},0.73799999999999999,{"$f":"[1]!AgePb76(G6)","v":4806.5435710159991},591.64548089415007,5.91E-2,4,1.3599999999999999E-2,1.9139999999999999,4,0.249]
["TH1.03.2",168,136,82.3,1.2150668286755772E-2,{"$f":"[1]!AgePb6U8(E7)","v":77.856190103290402},0.93,{"$f":"[1]!AgePb76(G7)","v":5135.1849616089994},65.957311227228587,6.83E-2,4,8.0000000000000002E-3,2.4260000000000002,4,0.25800000000000001]
["TH2.01.1",148,70,12387,8.0729797368208603E-5,{"$f":"[1]!AgePb6U8(E8)","v":0.52039670519549419},0.59599999999999997,{"$f":"[1]!AgePb76(G8)","v":4498.2771330607484},8643.9385341052621,3.7999999999999999E-2,4,3.6400000000000002E-2,2.0910000000000002,4,0.25700000000000001]
["TH2.02.1",192,109,1293,7.7339520494972935E-4,{"$f":"[1]!AgePb6U8(E9)","v":4.9836988814727157},0.88800000000000001,{"$f":"[1]!AgePb76(G9)","v":5069.884117137698},1017.2934275755268,5.3600000000000002E-2,4,9.2999999999999992E-3,2.121,4,9.8000000000000004E-2]
["TH2.03.1",166,43,13826,7.2327498915087521E-5,{"$f":"[1]!AgePb6U8(E10)","v":0.46623615411916258},0.36499999999999999,{"$f":"[1]!AgePb76(G10)","v":3770.7933870002544},8087.73269444158,2.3199999999999998E-2,4,2.6800000000000001E-2,1.419,4,0.30599999999999999]
["TH2.04.1",140,76,5671,1.7633574325515782E-4,{"$f":"[1]!AgePb6U8(E11)","v":1.136633024563505},0.65,{"$f":"[1]!AgePb76(G11)","v":4623.9536331625204},4068.1148033141412,6.5600000000000006E-2,4,4.41E-2,2.141,4,0.28199999999999997]
["TH2.05.1",181,73,247,4.048582995951417E-3,{"$f":"[1]!AgePb6U8(E12)","v":26.046153340885777},0.83699999999999997,{"$f":"[1]!AgePb76(G12)","v":4986.0376720732029},191.43086531117066,5.4399999999999997E-2,4,1.66E-2,2.0329999999999999,4,0.68200000000000005]
["TH2.06.1",117,37,8084,1.2370113805047008E-4,{"$f":"[1]!AgePb6U8(E13)","v":0.79737945331507887},0.44800000000000001,{"$f":"[1]!AgePb76(G13)","v":4078.5807193294941},5114.9809571502365,5.1999999999999998E-2,4,4.2799999999999998E-2,1.6639999999999999,4,0.13300000000000001]
["TH2.06.2",133,51,7388,1.3535462912831619E-4,{"$f":"[1]!AgePb6U8(E14)","v":0.87249295417881989},0.47899999999999998,{"$f":"[1]!AgePb76(G14)","v":4177.8480954738543},4788.4032478015779,6.7400000000000002E-2,4,6.2199999999999998E-2,2.173,4,0.11]
["TH2.07.1",322,161,7785,1.2845215157353886E-4,{"$f":"[1]!AgePb6U8(E15)","v":0.82800259340814542},0.70599999999999996,{"$f":"[1]!AgePb76(G15)","v":4742.9791524664488},5728.2177498307701,5.1900000000000002E-2,4,2.76E-2,1.8180000000000001,4,9.4E-2]
["TH2.08.1",152,60,7084,1.411631846414455E-4,{"$f":"[1]!AgePb6U8(E16)","v":0.9099321325172004},0.63300000000000001,{"$f":"[1]!AgePb76(G16)","v":4585.6363237030864},5039.5366421642493,5.62E-2,4,2.9899999999999999E-2,1.748,4,0.17100000000000001]
["TH2.09.1",226,196,2923,3.4211426616489907E-4,{"$f":"[1]!AgePb6U8(E17)","v":2.2050330921714867},0.72699999999999998,{"$f":"[1]!AgePb76(G17)","v":4785.0309856762515},2170.0495120297801,6.9599999999999995E-2,4,1.8100000000000002E-2,1.79,4,0.53700000000000003]
["TH2.10.1",129,69,9.73,0.10277492291880781,{"$f":"[1]!AgePb6U8(E18)","v":630.65051052179444},0.85899999999999999,{"$f":"[1]!AgePb76(G18)","v":5022.8541647610937},7.9645605306895417,5.5100000000000003E-2,4,2.5000000000000001E-3,2.09,4,4.2999999999999997E-2]
["TH2.11.1",122,57,530,1.8867924528301887E-3,{"$f":"[1]!AgePb6U8(E19)","v":12.15158546830895},0.85199999999999998,{"$f":"[1]!AgePb76(G19)","v":5011.2495122066348},412.3947056353968,7.0400000000000004E-2,4,4.2999999999999997E-2,2.1150000000000002,4,0.81399999999999995]
["TH2.12.1",185,98,2924,3.4199726402188782E-4,{"$f":"[1]!AgePb6U8(E20)","v":2.2042791058037801},0.751,{"$f":"[1]!AgePb76(G20)","v":4831.5307471676106},2191.8870139658725,6.8199999999999997E-2,4,4.1399999999999999E-2,1.9530000000000001,4,0.56399999999999995]
[null,null,null,null,"Average",{"$f":"AVERAGE(F4:F20)","v":62.252200376834907},null,{"$f":"AVERAGE(H4:H20)","v":4709.5038555104475}]
[null,null,null,null,"Maximim",{"$f":"MAX(F4:F21)","v":630.65051052179444},null,{"$f":"MAX(H4:H21)","v":5135.1849616089994}]
[null,null,null,null,"Minimum",{"$f":"MIN(F4:F22)","v":0.46623615411916258},null,{"$f":"MIN(H4:H22)","v":3770.7933870002544}]
[]
[]
["Table 3",null,null,null," "]
[null,null,null,null,null,"Age",null,"Age","Age Ratio"]
["Sample",null,null,"238U/206Pb","206Pb/238U","206Pb/238U","207Pb/206Pb","207Pb/206Pb"," "]
["UZ01.1",311,292,4270,{"$f":"(1/D29)","v":2.34192037470726E-4},{"$f":"[1]!AgePb6U8(E29)","v":1.509522119556437},0.83199999999999996,{"$f":"[1]!AgePb76(G29)","v":4977.5269080458629},{"$f":"(H29/F29)","v":3297.4189934417627},3.5999999999999997E-2,4,7.0000000000000001E-3,2.0409999999999999,4,7.0999999999999994E-2]
["UZ02.1",282,210,9164,{"$f":"(1/D30)","v":1.0912265386294194E-4},{"$f":"[1]!AgePb6U8(E30)","v":0.70341144508807441},0.73,{"$f":"[1]!AgePb76(G30)","v":4790.9323286382396},{"$f":"(H30/F30)","v":6810.9957011551969},5.8999999999999997E-2,4,1.7999999999999999E-2,2.04,4,0.128]
["UZ03.1",336,268,13326,7.5041272699984991E-5,{"$f":"[1]!AgePb6U8(E31)","v":0.48372897498479789},0.67,{"$f":"[1]!AgePb76(G31)","v":4667.6808851575843},9649.3721206265873,3.1E-2,4,0.01,1.8440000000000001,4,0.11899999999999999]
["UZ04.1",288,221,10841,9.2242413061525687E-5,{"$f":"[1]!AgePb6U8(E32)","v":0.59460537625671639},0.72499999999999998,{"$f":"[1]!AgePb76(G32)","v":4781.082297091717},8040.7653344653254,5.0999999999999997E-2,4,1.2E-2,1.851,4,0.104]
["UZ05.1",194,126,2217,4.5105999097880018E-4,{"$f":"[1]!AgePb6U8(E33)","v":2.9070639419881319},0.82099999999999995,{"$f":"[1]!AgePb76(G33)","v":4958.6103001668189},1705.7107786819581,3.7999999999999999E-2,4,2.3E-2,2.0049999999999999,4,0.59499999999999997]
["UZ06.1",264,229,19232,5.1996672212978371E-5,{"$f":"[1]!AgePb6U8(E34)","v":0.33518337104208851},0.65100000000000002,{"$f":"[1]!AgePb76(G34)","v":4626.1740329766544},13801.919882223967,0.06,4,1.4999999999999999E-2,1.9179999999999999,4,0.125]
["UZ07.1",230,159,3830,2.6109660574412532E-4,{"$f":"[1]!AgePb6U8(E35)","v":1.6829171697490468},0.78400000000000003,{"$f":"[1]!AgePb76(G35)","v":4892.9441845486535},2907.4183046562412,2.8000000000000001E-2,4,1.4E-2,2.0019999999999998,4,0.13100000000000001]
["UZ08.1",435,416,14270,7.0077084793272596E-5,{"$f":"[1]!AgePb6U8(E36)","v":0.45173008547319005},0.629,{"$f":"[1]!AgePb76(G36)","v":4576.4600440108215},10130.961366491567,4.8000000000000001E-2,4,0.01,1.873,4,8.3000000000000004E-2]
["UZ09.1",356,317,22090,4.526935264825713E-5,{"$f":"[1]!AgePb6U8(E37)","v":0.29181839176171759},0.58799999999999997,{"$f":"[1]!AgePb76(G37)","v":4478.622393273532},15347.293110060458,3.6999999999999998E-2,4,2.7E-2,1.7070000000000001,4,0.14000000000000001]
["UZ10.1",349,336,25712,3.8892345986309894E-5,{"$f":"[1]!AgePb6U8(E38)","v":0.25071129539880582},0.626,{"$f":"[1]!AgePb76(G38)","v":4569.5366462854454},18226.289481759068,6.0999999999999999E-2,4,2.3E-2,2.0640000000000001,4,0.13300000000000001]
["UZ10.2",221,154,15341,6.5184798904895382E-5,{"$f":"[1]!AgePb6U8(E39)","v":0.42019451711937539},0.75700000000000001,{"$f":"[1]!AgePb76(G39)","v":4842.9081470938281},11525.395857837859,7.2999999999999995E-2,4,2.5999999999999999E-2,2.0670000000000002,4,0.182]
[null,null,null,null,"Average",{"$f":"AVERAGE(F29:F39)","v":0.87553515349258015},"Average",{"$f":"AVERAGE(H29:H39)","v":4742.0434697535593}]
[null,null,null,null,"Maximim",{"$f":"MAX(F29:F40)","v":2.9070639419881319},"Maximim",{"$f":"MAX(H29:H40)","v":4977.5269080458629}]
[null,null,null,null,"Minimum",{"$f":"MIN(F29:F41)","v":0.25071129539880582},"Minimum",{"$f":"MIN(H29:H41)","v":4478.622393273532}]
[]
[]
[]
[null,null,null,null,"Table 2","Age","Age"]
[null,null,null,null,"Data","206Pb/238U","207Pb/206Pb"]
[null,null,null,null,"Average",62.252200376834907,4709.5038555104475]
[null,null,null,null,"Maximim",630.65051052179444,5135.1849616089994]
[null,null,null,null,"Minimum",0.46623615411916258,3770.7933870002544]
[]
[]
[]
[null,null,null,null,"Table 3","Age","Age"]
[null,null,null,null,"Data","206Pb/238U","207Pb/206Pb"]
[null,null,null,null,"Average",0.87553515349258015,4742.0434697535593]
[null,null,null,null,"Maximim",2.9070639419881319,4977.5269080458629]
[null,null,null,null,"Minimum",0.25071129539880582,4478.622393273532]

{"sheet":"Negative_04","index":2,"n_rows":53,"n_cols":10,"rows_kept":53,"cut":false,"hidden":false,"merged":[]}
[]
["Table 1."]
["Initial","Today","Today","The Ratio","Half","Decay","2.303/Delta","Age","Age","Age"]
["87Sr/86Sr","87Sr/86Sr","87Rb/86Sr","Plus One","Life","Constant","Constant","Years","Million Years","Billion Years"]
[0.70657999999999999,0.71318999999999999,439.1,{"$f":"1+((B5-A5)/C5)","v":1.0000150535185608},48800000000,{"$f":"(0.693/E5)","v":1.4200819672131146E-11},{"$f":"(2.303/F5)","v":162173737373.7374},{"$f":"(LOG(D5))*(G5)","v":1060228.7829768732},{"$f":"(H5/1000000)","v":1.0602287829768733},{"$f":"(I5/1000)","v":1.0602287829768733E-3}]
[0.70660999999999996,0.71331299999999997,445.4,{"$f":"1+((B6-A6)/C6)","v":1.0000150493938034},48800000000,{"$f":"(0.693/E6)","v":1.4200819672131146E-11},{"$f":"(2.303/F6)","v":162173737373.7374},{"$f":"(LOG(D6))*(G6)","v":1059938.2759023905},{"$f":"(H6/1000000)","v":1.0599382759023905},{"$f":"(I6/1000)","v":1.0599382759023906E-3}]
[0.70653999999999995,0.70923999999999998,197.9,1.0000136432541689,48800000000,1.4200819672131146E-11,162173737373.7374,960903.65215795569,0.9609036521579557,9.6090365215795572E-4]
[0.70659000000000005,0.70941799999999999,207.6,1.0000136223506744,48800000000,1.4200819672131146E-11,162173737373.7374,959431.41487928305,0.95943141487928307,9.5943141487928312E-4]
[0.70723999999999998,0.71243999999999996,397.7,1.0000130751822982,48800000000,1.4200819672131146E-11,162173737373.7374,920894.22626449098,0.92089422626449102,9.2089422626449099E-4]
[0.70743,0.71279999999999999,415.6,1.0000129210779596,48800000000,1.4200819672131146E-11,162173737373.7374,910040.62012622284,0.91004062012622289,9.1004062012622292E-4]
[0.70769000000000004,0.71178200000000003,351.4,1.0000116448491747,48800000000,1.4200819672131146E-11,162173737373.7374,820155.45139420929,0.82015545139420931,8.2015545139420927E-4]
[0.70718000000000003,0.70940000000000003,198.3,1.0000111951588502,48800000000,1.4200819672131146E-11,162173737373.7374,788483.60222600063,0.78848360222600067,7.8848360222600071E-4]
[0.70709,0.70949099999999998,213.8,1.0000112301216091,48800000000,1.4200819672131146E-11,162173737373.7374,790946.0422562093,0.79094604225620935,7.9094604225620933E-4]
[0.70672999999999997,0.709345,204.4,1.0000127935420744,48800000000,1.4200819672131146E-11,162173737373.7374,901058.23537577118,0.90105823537577123,9.0105823537577122E-4]
[0.70720000000000005,0.71152300000000002,338.6,1.0000127672770229,48800000000,1.4200819672131146E-11,162173737373.7374,899208.38099505322,0.89920838099505318,8.9920838099505319E-4]
[0.70750000000000002,0.71281600000000001,416.1,1.0000127757750541,48800000000,1.4200819672131146E-11,162173737373.7374,899806.89953754691,0.89980689953754689,8.9980689953754684E-4]
[0.70538000000000001,0.708901,206.7,1.0000170343492985,48800000000,1.4200819672131146E-11,162173737373.7374,1199738.7498215672,1.1997387498215673,1.1997387498215674E-3]
[0.70587999999999995,0.71151500000000001,374.3,1.000015054768902,48800000000,1.4200819672131146E-11,162173737373.7374,1060316.8446288158,1.0603168446288158,1.0603168446288158E-3]
[0.70633999999999997,0.71059000000000005,318.39999999999998,1.0000133479899498,48800000000,1.4200819672131146E-11,162173737373.7374,940108.1315716675,0.9401081315716675,9.4010813157166745E-4]
[0.70626999999999995,0.70867999999999998,188.3,1.0000127987254381,48800000000,1.4200819672131146E-11,162173737373.7374,901423.30102124542,0.90142330102124546,9.0142330102124541E-4]
[0.70623999999999998,0.70891300000000002,209.5,1.0000127589498806,48800000000,1.4200819672131146E-11,162173737373.7374,898621.89819432655,0.89862189819432658,8.9862189819432659E-4]
[0.70648999999999995,0.70879099999999995,200.4,1.000011482035928,48800000000,1.4200819672131146E-11,162173737373.7374,808688.45828826306,0.80868845828826308,8.0868845828826303E-4]
[0.70635000000000003,0.70821100000000003,223.7,1.0000083191774698,48800000000,1.4200819672131146E-11,162173737373.7374,585926.87600138749,0.58592687600138749,5.8592687600138749E-4]
[]
[]
[]
[]
["Table 2."]
["Initial","Today","Today","The Ratio","Half","Decay","2.303/Delta","Age","Age","Age"]
["87Sr/86Sr","87Sr/86Sr","87Rb/86Sr","Plus One","Life","Constant","Constant","Years","Million Years","Billion Years"]
[0.70709,0.70949099999999998,213.8,{"$f":"1+((B31-A31)/C31)","v":1.0000112301216091},48800000000,{"$f":"(0.693/E31)","v":1.4200819672131146E-11},{"$f":"(2.303/F31)","v":162173737373.7374},{"$f":"(LOG(D31))*(G31)","v":790946.0422562093},{"$f":"(H31/1000000)","v":0.79094604225620935}]
[0.70643999999999996,0.70644799999999996,0.32369999999999999,{"$f":"1+((B32-A32)/C32)","v":1.0000247142415817},48800000000,{"$f":"(0.693/E32)","v":1.4200819672131146E-11},{"$f":"(2.303/F32)","v":162173737373.7374},{"$f":"(LOG(D32))*(G32)","v":1740631.1755069434},{"$f":"(H32/1000000)","v":1.7406311755069435}]
[0.70621999999999996,0.70622399999999996,0.26090000000000002,1.0000153315446532,48800000000,1.4200819672131146E-11,162173737373.7374,1079810.1854735031,1.0798101854735032]
[0.70716000000000001,0.70716500000000004,0.37869999999999998,1.0000132030631108,48800000000,1.4200819672131146E-11,162173737373.7374,929900.90180247824,0.9299009018024782]
[0.70640999999999998,0.70641200000000004,0.27239999999999998,1.0000073421439062,48800000000,1.4200819672131146E-11,162173737373.7374,517113.80834097601,0.51711380834097598]
[0.70638000000000001,0.70638599999999996,0.27450000000000002,1.0000218579234972,48800000000,1.4200819672131146E-11,162173737373.7374,1539462.0660663354,1.5394620660663354]
[0.70674000000000003,0.70680100000000001,5.3869999999999996,1.0000113235567105,48800000000,1.4200819672131146E-11,162173737373.7374,797526.71055578324,0.79752671055578328]
[0.70637000000000005,0.70642499999999997,4.548,1.0000120932277925,48800000000,1.4200819672131146E-11,162173737373.7374,851734.90241082059,0.85173490241082062]
[0.70721000000000001,0.70721500000000004,0.72750000000000004,1.0000068728522338,48800000000,1.4200819672131146E-11,162173737373.7374,484061.28674691491,0.4840612867469149]
[0.70660000000000001,0.70671499999999998,10.09,1.0000113974231912,48800000000,1.4200819672131146E-11,162173737373.7374,802729.15331967315,0.80272915331967309]
[0.70660999999999996,0.70672400000000002,10.23,1.0000111436950148,48800000000,1.4200819672131146E-11,162173737373.7374,784858.98512308265,0.78485898512308261]
[0.70623999999999998,0.70891300000000002,209.5,1.0000127589498806,48800000000,1.4200819672131146E-11,162173737373.7374,898621.89819432655,0.89862189819432658]
[0.70601999999999998,0.70602100000000001,0.29599999999999999,1.0000033783783784,48800000000,1.4200819672131146E-11,162173737373.7374,237942.70364811673,0.23794270364811673]
[0.70631999999999995,0.70632700000000004,0.35260000000000002,1.0000198525241069,48800000000,1.4200819672131146E-11,162173737373.7374,1398222.4078289974,1.3982224078289973]
[0.70601000000000003,0.70601199999999997,0.25819999999999999,1.0000077459333847,48800000000,1.4200819672131146E-11,162173737373.7374,545552.95486051182,0.54555295486051181]
[0.70601000000000003,0.70601499999999995,0.27410000000000001,1.0000182415176939,48800000000,1.4200819672131146E-11,162173737373.7374,1284759.5197348739,1.284759519734874]
[0.70601000000000003,0.70601199999999997,0.27239999999999998,1.0000073421439057,48800000000,1.4200819672131146E-11,162173737373.7374,517113.80830969854,0.51711380830969855]
[0.70640999999999998,0.70651799999999998,8.4614999999999991,1.0000127636943805,48800000000,1.4200819672131146E-11,162173737373.7374,898956.05455835909,0.89895605455835914]
[0.70640999999999998,0.70642300000000002,0.83599999999999997,1.0000155502392345,48800000000,1.4200819672131146E-11,162173737373.7374,1095212.8605276782,1.0952128605276781]
[0.70599000000000001,0.70608499999999996,7.5670000000000002,1.000012554513017,48800000000,1.4200819672131146E-11,162173737373.7374,884223.35513159784,0.88422335513159789]
[0.70604999999999996,0.70614500000000002,7.4470000000000001,1.0000127568148247,48800000000,1.4200819672131146E-11,162173737373.7374,898471.52564996551,0.89847152564996546]
[0.70604999999999996,0.70614900000000003,7.6980000000000004,1.0000128604832423,48800000000,1.4200819672131146E-11,162173737373.7374,905772.91896024928,0.90577291896024925]
[0.70516000000000001,0.71960400000000002,1130,1.0000127823008849,48800000000,1.4200819672131146E-11,162173737373.7374,900266.51548992831,0.90026651548992831]

{"sheet":"Negative_06 ","index":3,"n_rows":24,"n_cols":8,"rows_kept":24,"cut":false,"hidden":false,"merged":[]}
[null,null,null,null,"Age",null,"Age","Age"]
["Table 1","Pb 206/204","Pb 207/204","Pb 207/206","Pb 207/206",null,"Pb 207/206","Pb 207/206"]
[163,31.559000000000001,20.074000000000002,{"$f":"(C3/B3)","v":0.63607845622484871},{"$f":"[1]!AgePb76($D$3)","v":4592.6562562757099},null,6450.6956629639262,5799.1380853836745]
[163,33.515000000000001,20.811,{"$f":"(C4/B4)","v":0.62094584514396534},{"$f":"[1]!AgePb76($D$4)","v":4557.7917443743099},null,6330.4856562206051,5762.5848477759146]
[163,33.456000000000003,20.869,0.62377450980392146,{"$f":"[1]!AgePb76($D$5)","v":4564.3776159350155},null,6315.354393220181,5735.3970780427226]
[163,36.118000000000002,21.548999999999999,0.59662772025029065,{"$f":"[1]!AgePb76($D$6)","v":4499.8073216772946},null,6216.5016322485908,5722.8117874582158]
[163,24.254000000000001,34.689,1.4302383112063988,{"$f":"[1]!AgePb76($D$7)","v":5735.3970780427226},null,6108.6715591707834,5710.9824434781613]
[163,24.119,35.183,1.4587254861312657,{"$f":"[1]!AgePb76($D$8)","v":5762.5848477759146},null,6009.2526302429587,4965.5116856419299]
[163,24.452999999999999,34.655999999999999,1.4172494172494172,{"$f":"[1]!AgePb76($D$9)","v":5722.8117874582158}]
[163,24.45,34.356000000000002,1.405153374233129,{"$f":"[1]!AgePb76($D$10)","v":5710.9824434781613}]
[163,24.574000000000002,36.811,1.4979653292097337,{"$f":"[1]!AgePb76($D$11)","v":5799.1380853836745}]
[163,948.9,24.529,2.5849931499631152E-2,{"$f":"[1]!AgePb76($D$12)","v":{"$error":"#NUM!"}}]
[163,410.24,23.933,5.8339021060842433E-2,{"$f":"[1]!AgePb76($D$13)","v":542.51718879586701}]
[163,346.2,24.382000000000001,7.0427498555748133E-2,{"$f":"[1]!AgePb76($D$14)","v":940.84283817816811}]
[184,20.547999999999998,16.952000000000002,0.82499513334631125,{"$f":"[1]!AgePb76($D$15)","v":4965.5116856419299}]
[137,17.989999999999998,33.783999999999999,1.8779321845469708,{"$f":"[1]!AgePb76($D$16)","v":6108.6715591707834}]
[]
[null,null,null,null,"Age"]
["Table 2","Pb 207/204","Pb 206/204","Pb 207/206","Pb 207/206"]
[1,43.933999999999997,21.611999999999998,{"$f":"(B20/C20)","v":2.0328521191930409},{"$f":"[1]!AgePb76($D$20)","v":6216.5016322485908}]
[2,59.005000000000003,24.414000000000001,{"$f":"(B21/C21)","v":2.4168509871385271},{"$f":"[1]!AgePb76($D$21)","v":6450.6956629639262}]
[3,51.052999999999997,23.088999999999999,2.2111395036597514,{"$f":"[1]!AgePb76($D$22)","v":6330.4856562206051}]
[4,47.817999999999998,21.869,2.1865654579541816,{"$f":"[1]!AgePb76($D$23)","v":6315.354393220181}]
[5,31.184999999999999,17.861000000000001,1.7459828677005766,{"$f":"[1]!AgePb76($D$24)","v":6009.2526302429587}]

{"sheet":"Negative_07","index":4,"n_rows":115,"n_cols":18,"rows_kept":115,"cut":false,"hidden":false,"merged":[]}
[]
["Cinder","Butte",null,null,null,null,"Age",null,null,null,null,null,null,"Sample","Minimum","Maximum","Difference","Ratio"]
[51.96293,0,0.17893999999999999,-0.92145999999999995,0.99675000000000002,-1.8,-579.29999999999995,152.1,0.12,670,1.9,null,null,"Cinder Butte",-579.29999999999995,56.7,{"$f":"ABS(O3)+P3","v":636},{"$f":"ABS(O3/P3)","v":10.216931216931215}]
[43.188740000000003,0.75036999999999998,0.14732000000000001,-0.29477999999999999,0.98260000000000003,-0.7,-185.3,114.9,0.33,710,5.3,null,null,"Andesite of Sugarloaf Peak",14.7,589.5,{"$f":"(P3-O3)","v":636},{"$f":"(P4/O4)","v":40.102040816326536}]
[33.326889999999999,1.6768799999999999,0.11312,2.087E-2,0.99222999999999995,0.1,13.1,69.099999999999994,0.63,750,10.1,null,null,"Little Potato Butte",-51.6,585.9,{"$f":"ABS(O5)+P5","v":637.5},{"$f":"ABS(P5/O5)","v":11.354651162790697}]
[22.024260000000002,1.8679300000000001,7.4859999999999996E-2,3.9669999999999997E-2,0.99102999999999997,0.2,24.9,39.1,0.86,790,13.8,null,null,"Andesite of Potato Butte 1",-386.3,164.5,{"$f":"ABS(O6)+P6","v":550.79999999999995},{"$f":"ABS(O6/P6)","v":2.3483282674772039}]
[10.693569999999999,1.87357,3.6459999999999999E-2,5.6079999999999998E-2,0.96618000000000004,0.5,35.200000000000003,22.9,1.02,830,16.3,null,null,"Andesite of Potato Butte 2",-289.60000000000002,2357.4,{"$f":"ABS(O7)+P7","v":2647},{"$f":"ABS(P7/O7)","v":8.1401933701657452}]
[4.0285099999999998,1.81948,1.3860000000000001E-2,6.3399999999999998E-2,0.98870999999999998,1.6,39.799999999999997,10,1.32,870,21.1,null,null,"Hat Creek Basalt 1",10,2950,{"$f":"(P7-O7)","v":2647},{"$f":"(P8/O8)","v":295}]
[4.1411100000000003,1.54556,1.4149999999999999E-2,6.9500000000000006E-2,0.99573999999999996,1.7,43.7,11.7,0.98,910,15.7,null,null,"Hat Creek Basalt 2",-89.3,92.4,{"$f":"ABS(O9)+P9","v":181.7},{"$f":"ABS(P9/O9)","v":1.0347144456886899}]
[9.6434499999999996,1.90255,3.3020000000000001E-2,2.402E-2,0.99480000000000002,0.2,15.1,22.7,0.5,960,7.9]
[21.621369999999999,1.1369100000000001,7.3330000000000006E-2,3.218E-2,0.99702000000000002,0.1,20.2,40.4,0.28000000000000003,1020,4.5]
[25.914619999999999,19.673179999999999,9.2469999999999997E-2,9.0289999999999995E-2,0.99592000000000003,0.3,56.7,68.3,0.21,1250,3.4]
[null,null,null,null,null,"Minimum",{"$f":"MIN(G3:G12)","v":-579.29999999999995}]
[null,null,null,null,null,"Maximum",{"$f":"MAX(G3:G13)","v":56.7}]
[]
[]
["Andesite","of","Sugarloaf","Peak",null,null,"Age"]
[13.027620000000001,5.0896499999999998,4.5069999999999999E-2,9.2829999999999996E-2,2.2540000000000001E-2,0.7,58.3,49.5,0.11,680,1.3]
[7.5073299999999996,0.86911000000000005,2.5489999999999999E-2,3.5180000000000003E-2,1.9130000000000001E-2,0.5,22.1,9.5,1.68,725,20.7]
[6.0089699999999997,0.79393999999999998,2.044E-2,2.3439999999999999E-2,1.857E-2,0.4,14.7,11.4,1.78,750,22]
[5.48102,1.5072099999999999,1.8630000000000001E-2,8.2559999999999995E-2,1.823E-2,1.5,51.9,9.1999999999999993,1.91,780,23.5]
[5.4375999999999998,2.3329200000000001,1.8630000000000001E-2,0.10419,1.831E-2,1.9,65.5,19.100000000000001,1.47,810,18.100000000000001]
[7.56372,3.0680800000000001,2.6210000000000001E-2,4.6059999999999997E-2,2.1919999999999999E-2,0.6,29,11.8,0.96,870,11.8]
[17.87968,8.6400600000000001,6.0999999999999999E-2,0.51121000000000005,2.9489999999999999E-2,2.8,321.3,73.2,0.1,925,1.2]
[29.775500000000001,22.842230000000001,0.10353,0.93799999999999994,3.7330000000000002E-2,3.1,589.5,83.7,0.11,1600,1.4]
[null,null,null,null,null,"Minimum",{"$f":"MIN(G18:G25)","v":14.7}]
[null,null,null,null,null,"Maximum",{"$f":"MAX(G18:G26)","v":589.5}]
[]
[]
["Little","Potato","Butte",null,null,null,"Age"]
[27.750029999999999,1.4975000000000001,9.4549999999999995E-2,-8.2140000000000005E-2,3.1359999999999999E-2,-0.3,-51.6,58.3,0.28000000000000003,700,4.4000000000000004]
[14.480119999999999,1.2655099999999999,4.888E-2,0.12594,2.3279999999999999E-2,0.9,79.2,25.1,0.79,715,12.3]
[7.8765599999999996,0.65417000000000003,2.649E-2,9.1840000000000005E-2,1.9189999999999999E-2,1.2,57.7,14.3,0.79,730,12.3]
[5.5606799999999996,0.86743999999999999,1.8669999999999999E-2,0.10259,1.806E-2,1.8,64.5,12.9,0.89,745,13.8]
[4.1093099999999998,1.12036,1.384E-2,9.6509999999999999E-2,1.7100000000000001E-2,2.4,60.7,7.7,1.1599999999999999,760,18]
[3.6198700000000001,1.83097,1.234E-2,0.10664,1.651E-2,2.9,67,9.4,0.83,775,12.9]
[3.38794,2.8144800000000001,1.174E-2,0.12801000000000001,1.6199999999999999E-2,3.8,80.5,11.3,0.6,790,9.1999999999999993]
[3.5939000000000001,3.96149,1.273E-2,0.12926000000000001,1.5949999999999999E-2,3.6,81.2,15.8,0.38,805,5.9]
[4.7502700000000004,5.8024699999999996,1.6840000000000001E-2,0.21013000000000001,1.6709999999999999E-2,4.4000000000000004,132.1,18,0.22,820,3.4]
[5.3547399999999996,7.1144600000000002,1.951E-2,0.12808,1.762E-2,2.4,80.5,24.4,0.25,870,3.8]
[43.851889999999997,9.5622299999999996,0.14771999999999999,0.93237000000000003,4.641E-2,2.1,585.9,116.5,7.0000000000000007E-2,1000,1.1000000000000001]
[14.07793,27.797720000000002,5.3690000000000002E-2,0.34086,3.143E-2,2.4,214.2,50.7,0.19,1500,3]
[null,null,null,null,null,"Minimum",{"$f":"MIN(G31:G42)","v":-51.6}]
[null,null,null,null,null,"Maximum",{"$f":"MAX(G31:G43)","v":585.9}]
[]
[]
[]
["Andesite","of","Potato","Butte",1,null,"Age"]
[30.423780000000001,0.21662999999999999,0.10399,-0.29793999999999998,3.39E-2,-1,-180.3,25.3,44.45,600,3.6]
[18.586020000000001,0.28885,6.2019999999999999E-2,0.27185999999999999,2.6259999999999999E-2,1.5,164.5,21.3,208.65,650,16.899999999999999]
[16.920439999999999,0.40801999999999999,5.7239999999999999E-2,2.912E-2,2.5329999999999998E-2,0.2,17.600000000000001,26,192.62,700,15.6]
[16.003250000000001,0.89266999999999996,5.3900000000000003E-2,0.13597999999999999,2.487E-2,0.8,82.3,35.6,352.33,750,28.6]
[13.728109999999999,2.0977199999999998,4.6420000000000003E-2,0.16289999999999999,2.342E-2,1.2,98.6,18.600000000000001,333.56,800,27.1]
[19.29185,4.6745299999999999,6.6000000000000003E-2,0.13775000000000001,2.6679999999999999E-2,0.7,83.4,18.899999999999999,72.09,825,5.8]
[34.89725,7.3453099999999996,0.12028,-9.1910000000000006E-2,3.696E-2,-0.3,-55.6,53.9,20.47,850,1.7]
[64.169730000000001,8.7218499999999999,0.22153,-0.63821000000000006,5.7410000000000003E-2,-1,-386.3,134.30000000000001,8.56,875,0.7]
[null,null,null,null,null,"Minimum",{"$f":"MIN(G45:G56)","v":-386.3}]
[null,null,null,null,null,"Maximum",{"$f":"MAX(G45:G57)","v":164.5}]
[]
[]
[]
["Andesite","of","Potato","Butte",2,null,"Age"]
[704.72587999999996,0.26811000000000001,2.3841399999999999,0.23288,0.45136999999999999,0,53.8,1604,1.64,700,1.7]
[149.39758,0.14108999999999999,0.50417000000000001,0.43398999999999999,0.21951000000000001,0.3,100.3,1387.3,11.78,750,12.2]
[165.46029999999999,0.25657000000000002,0.56423999999999996,-1.2525299999999999,0.11806999999999999,-0.8,-289.60000000000002,199.2,5.8,775,6]
[103.68352,0.37775999999999998,0.34989999999999999,0.31917000000000001,7.918E-2,0.3,73.8,168.5,8.11,800,8.4]
[87.656270000000006,0.5887,0.29511999999999999,0.49631999999999998,6.8879999999999997E-2,0.6,114.7,238.8,15.07,825,15.6]
[83.31053,0.59807999999999995,0.28177999999999997,9.3390000000000001E-2,6.4509999999999998E-2,0.1,21.6,73.3,7.63,850,7.9]
[84.323740000000001,0.96321999999999997,0.28321000000000002,0.71264000000000005,6.583E-2,0.8,164.7,161.80000000000001,14.49,875,15]
[88.784379999999999,1.7248399999999999,0.30030000000000001,0.18529000000000001,6.9459999999999994E-2,0.2,42.8,84.4,5.89,900,6.1]
[91.203310000000002,2.04101,0.30592999999999998,0.96504000000000001,6.8610000000000004E-2,1.1000000000000001,223.1,145.1,6.66,950,6.9]
[103.01813,2.92299,0.34516999999999998,1.25579,7.6770000000000005E-2,1.2,290.3,99.6,5.7,1000,5.9]
[112.66374999999999,4.7871199999999998,0.38236999999999999,5.5350000000000003E-2,8.5290000000000005E-2,0,12.8,126.1,5.12,1100,5.3]
[179.23397,6.2320799999999998,0.60614999999999997,0.61702999999999997,0.12481,0.3,142.6,579.4,4.1500000000000004,1200,4.3]
[792.16391999999996,6.0833599999999999,2.6480299999999999,10.203900000000001,0.51053000000000004,1.3,2357.4,10922.3,3.37,1500,4.7]
[null,null,null,null,null,"Minimum",{"$f":"MIN(G64:G75)","v":-289.60000000000002}]
[null,null,null,null,null,"Maximum",{"$f":"MAX(G64:G76)","v":2357.4}]
[]
[]
[]
["Hat","Creek","Basalt",1,null,null,"Age"]
[79.430000000000007,29.2,0.27010000000000001,1.89,6.3460000000000003E-2,2.31,1000,370,0.04,710,4.2]
[56.47,16.579999999999998,0.19286,0.76,4.9759999999999999E-2,1.32,400,250,0.09,750,9.1]
[40.225000000000001,16.55,0.13886999999999999,0.45,3.9320000000000001E-2,1.1100000000000001,240,180,0.15,800,15.1]
[35.698999999999998,17.649999999999999,0.12349,0.56000000000000005,3.6839999999999998E-2,1.54,300,160,0.12,825,11.6]
[31.198,20.45,0.10897,0.56999999999999995,3.3340000000000002E-2,1.78,300,140,0.11,850,11]
[29.593,86.5,0.10509,5.59,3.2770000000000001E-2,17.41,2950,160,0.09,875,8.6]
[32.765000000000001,25.62,0.11619,0.39,3.5069999999999997E-2,1.17,210,160,7.0000000000000007E-2,900,6.9]
[50.91,27.19,0.17923,0.03,4.7399999999999998E-2,0.05,10,230,7.0000000000000007E-2,950,7.2]
[81.73,26.7,0.28178999999999998,0.51,6.8150000000000002E-2,0.61,270,370,0.06,1000,5.6]
[102.31,28.2,0.34941,1.24,7.9890000000000003E-2,1.19,660,450,0.05,1050,5.4]
[112.64,43.3,0.3881,1.31,8.7120000000000003E-2,1.1200000000000001,690,510,0.05,1100,4.4000000000000004]
[102.21,111,0.36870000000000003,1.95,8.1930000000000003E-2,1.72,1030,530,0.03,1150,3]
[80.95,113.4,0.29809999999999998,1.72,6.5769999999999995E-2,1.91,910,430,0.06,1200,6.2]
[68.47,168.6,0.26390000000000002,3.99,5.8110000000000002E-2,4.95,2110,500,0.01,1265,1.3]
[192.4,93,0.68179999999999996,-2.2000000000000002,0.1326,-1.03,1100,1300,0,1400,0.3]
[null,null,null,null,null,"Minimum",{"$f":"MIN(G85:G96)","v":10}]
[null,null,null,null,null,"Maximum",{"$f":"MAX(G85:G97)","v":2950}]
[]
[]
[]
[]
["Hat","Creek","Basalt",2,null,null,"Age"]
[18.007639999999999,17.460260000000002,6.5299999999999997E-2,4.0930000000000001E-2,2.7529999999999999E-2,0.2,25.2,58.8,0.11,725,11]
[6.0614299999999997,20.474689999999999,2.5600000000000001E-2,5.7290000000000001E-2,1.9060000000000001E-2,0.9,35.299999999999997,45.1,0.18,750,17.8]
[3.2328000000000001,21.77861,1.6420000000000001E-2,3.8170000000000003E-2,1.6060000000000001E-2,1.2,23.5,53,0.17,775,16.7]
[2.7071800000000001,16.97128,1.3339999999999999E-2,5.7200000000000001E-2,1.533E-2,2.1,35.200000000000003,72.099999999999994,0.13,800,13.1]
[5.1843399999999997,10.08005,1.9959999999999999E-2,4.9369999999999997E-2,1.6500000000000001E-2,0.9,30.4,30,0.12,850,11.5]
[5.6438600000000001,7.4709599999999998,2.0809999999999999E-2,5.7329999999999999E-2,1.6389999999999998E-2,1,35.299999999999997,47,7.0000000000000007E-2,900,6.9]
[6.9659800000000001,8.5927699999999998,2.58E-2,-8.3700000000000007E-3,1.847E-2,-0.1,-5.2,113,0.05,950,5.0999999999999996]
[10.6273,12.42816,3.9640000000000002E-2,-0.14512,2.1930000000000002E-2,-1.4,-89.3,88.6,0.06,1000,5.8]
[24.305779999999999,81.878559999999993,0.10316,8.2159999999999997E-2,3.065E-2,0.3,50.6,144.19999999999999,0.09,1100,8.9]
[66.998239999999996,124.42048,0.25845000000000001,0.15010999999999999,5.7709999999999997E-2,0.2,92.4,441.3,1500,3.2]
[null,null,null,null,null,"Minimum",{"$f":"MIN(G102:G113)","v":-89.3}]
[null,null,null,null,null,"Maximum",{"$f":"MAX(G102:G114)","v":92.4}]

{"sheet":"Negative_08","index":5,"n_rows":82,"n_cols":25,"rows_kept":82,"cut":false,"hidden":false,"merged":[]}
[]
[]
[]
["87Rb/86Sr",2.0000000000000001E-4,4.0000000000000002E-4,1.1000000000000001E-3,1.6000000000000001E-3,2.0000000000000001E-4,1E-4,8.9999999999999998E-4,2.0000000000000001E-4,4.3400000000000001E-2,".",".","."]
["87Sr/86Sr",0.703129,0.70304800000000001,0.70407399999999998,0.70400099999999999,0.70265200000000005,0.702901,0.70484500000000005,0.70732700000000004,0.70708599999999999,0.70395399999999997,0.704758,0.70420099999999997," "," "," "," "," "," "," "," "," "," "," "," "]
["(87Sr/86Sr)i",0.703129,0.70304699999999998,0.70407200000000003,0.70399800000000001,0.70265200000000005,0.702901,0.704843,0.70732700000000004,0.70699299999999998,".",".","."]
[]
["147Sm/144Nd",0.20130000000000001,0.2205,0.1237,0.1258,0.24510000000000001,0.20749999999999999,0.18729999999999999,0.18779999999999999,0.1734,".",".","."]
["143Nd/144Nd",0.51304400000000006,0.51302199999999998,0.51280599999999998,0.51277399999999995,0.51314300000000002,0.51321600000000001,0.51265300000000003,0.51183599999999996,0.51197999999999999,0.51288999999999996,0.512907,0.51289399999999996," ","207Pb/206Pb","206Pb/238U",null,null,null,null,null,null,null,null," "]
["(143Nd/144Nd)i",0.51284600000000002,0.51280599999999998,0.51268499999999995,0.51265099999999997,0.51290199999999997,0.51301200000000002,0.51246899999999995,0.511652,0.51180999999999999,".",".",".",null,5049,9489]
["206Pb/238U",null,null,null,null,null,null,null,null,null,null,null,null,null,5035,1821]
["238U/204Pb",".",".",".",".",34.53,18.29,7.66,2.33,".",".",".",".",null,5034,338]
["206Pb/238U",null,null,null,null,{"$f":"(F16/F12)","v":0.51404575731248192},{"$f":"(G16/G12)","v":0.98359759431383265},2.4999999999999996,7.8240343347639483,null,null,null,null,null,5029,95]
["206Pb/238U, Age",null,null,null,null,{"$f":"[1]!AgePb6U8(F13/F12)","v":95.260010389587478},{"$f":"[1]!AgePb6U8(G13/G12)","v":337.67411214695306},{"$f":"[1]!AgePb6U8(H13/H12)","v":1820.7668551028905},{"$f":"[1]!AgePb6U8(I13/I12)","v":9489.1399216416976},null,null,null,null,null,5012]
[null,null,null,null,null,null,null,null,null,null,null,null,null,null,5009]
["206Pb/204Pb",18.260000000000002,18.190000000000001,18.8,19.13,17.75,17.989999999999998,19.149999999999999,18.23,18.27,17.940000000000001,17.89,17.95,null,5006]
["207Pb/204Pb",15.5,15.51,15.56,15.63,15.53,15.52,15.71,15.51,15.49,".",15.5,15.54,null,5004]
["207Pb/206Pb",{"$f":"(B17/B16)","v":0.84884994523548729},{"$f":"(C17/C16)","v":0.85266630016492573},0.82765957446808514,0.81704129639309997,0.87492957746478872,0.8627015008337966,0.8203655352480419,0.85079539221064182,0.84783798576902025,".",0.86640581330352151,0.86573816155988859,null,4970]
["207Pb/206Pb, Age",{"$f":"[1]!AgePb76(B18)","v":5005.9942528829224},{"$f":"[1]!AgePb76(C18)","v":5012.358461546848},{"$f":"[1]!AgePb76(D18)","v":4970.0946494789787},{"$f":"[1]!AgePb76(E18)","v":4951.7365352508132},{"$f":"[1]!AgePb76(F18)","v":5048.8923943480131},{"$f":"[1]!AgePb76(G18)","v":5028.9500242537379},{"$f":"[1]!AgePb76(H18)","v":4957.5110106038128},{"$f":"[1]!AgePb76(I18)","v":5009.2422967969969},{"$f":"[1]!AgePb76(J18)","v":5004.301596661634},".",{"$f":"[1]!AgePb76(L18)","v":5035.0227802055533},{"$f":"[1]!AgePb76(M18)","v":5033.9302873667039},null,4958]
[null,null,null,null,null,null,null,null,null,null,null,null,null,null,4952]
["176Lu/177Hf",4.58E-2,3.0099999999999998E-2,4.5100000000000001E-2,5.1200000000000002E-2,3.3599999999999998E-2,4.6199999999999998E-2,3.3599999999999998E-2,1.7600000000000001E-2,1.4500000000000001E-2,2E-3,3.5999999999999999E-3,2.8999999999999998E-3]
["176Hf/177Hf",0.28346100000000002,0.28303800000000001,0.28372900000000001,0.28337699999999999,0.28323100000000001,0.28383399999999998,0.28306100000000001,0.28226200000000001,0.282418,0.28304099999999999,0.28303499999999998,0.28298400000000001," "," "," "," "," "," "," "," "," "," "," "," "]
["(176Hf/177H)i",0.283333,0.28195399999999998,0.28360299999999999,0.28323300000000001,0.28313700000000003,0.28370499999999998,0.28296700000000002,0.28221299999999999,0.28237699999999999,".",".","."]
[]
[]
[]
[]
[]
["Rubidium","Table 2",null,null,null,null,null,null,null,null," "]
["Strontium","Initial","Today","Today","The Ratio","Half","Decay","2.303/Delta","Age","Age","Age"]
["Dating","87Sr/86Sr","87Sr/86Sr","87Rb/86Sr","Plus One","Life","Constant","Constant","Years","Million Years","Billion Years"]
[null,0.703129,0.703129,2.0000000000000001E-4,{"$f":"1+((C32-B32)/D32)","v":1},48800000000,{"$f":"(0.693/F32)","v":1.4200819672131146E-11},{"$f":"(2.303/G32)","v":162173737373.7374},{"$f":"(LOG(E32))*(H32)","v":0},{"$f":"(I32/1000000)","v":0},{"$f":"(J32/1000)","v":0}]
[null,0.70304699999999998,0.70304800000000001,4.0000000000000002E-4,1.0025000000000719,48800000000,1.4200819672131146E-11,162173737373.7374,175858166.90251726,175.85816690251727,{"$f":"(J33/1000)","v":0.17585816690251727}]
[null,0.70407200000000003,0.70407399999999998,1.1000000000000001E-3,1.0018181818181331,48800000000,1.4200819672131146E-11,162173737373.7374,127940378.95814532,127.94037895814532,{"$f":"(J34/1000)","v":0.12794037895814531}]
[null,0.70399800000000001,0.70400099999999999,1.6000000000000001E-3,{"$f":"1+((C35-B35)/D35)","v":1.0018749999999845},48800000000,{"$f":"(0.693/F35)","v":1.4200819672131146E-11},{"$f":"(2.303/G35)","v":162173737373.7374},{"$f":"(LOG(E35))*(H35)","v":131934773.36115931},{"$f":"(I35/1000000)","v":131.9347733611593},0.1319347733611593]
[null,0.70265200000000005,0.70265200000000005,2.0000000000000001E-4,1,48800000000,1.4200819672131146E-11,162173737373.7374,0,0,0]
[null,0.702901,0.702901,1E-4,1,48800000000,1.4200819672131146E-11,162173737373.7374,0,0,0]
[null,0.704843,0.70484500000000005,8.9999999999999998E-4,1.0022222222222861,48800000000,1.4200819672131146E-11,162173737373.7374,156340040.33917555,156.34004033917554,0.15634004033917553]
[null,0.70732700000000004,0.70732700000000004,2.0000000000000001E-4,1,48800000000,1.4200819672131146E-11,162173737373.7374,0,0,0]
[null,0.70699299999999998,0.70708599999999999,4.3400000000000001E-2,1.0021428571428574,48800000000,1.4200819672131146E-11,162173737373.7374,150762439.12403059,150.76243912403058,0.15076243912403059]
[]
[]
["Neodymium",null,null,null,null,null,null,null,null,null," "]
["Samarium","Initial","Today","Today","The Ratio","Half","Decay","2.303/Delta","Age","Age","Age"]
["Dating","143Nd/144Nd","143Nd/144Nd","147Sm/144Nd","Plus One","Life","Constant","Constant","Years","Million Years","Billion Years"]
[null,0.51284600000000002,0.51304400000000006,0.20130000000000001,{"$f":"1+((C46-B46)/D46)","v":1.0009836065573772},106000000000,{"$f":"(0.693/F46)","v":6.5377358490566029E-12},{"$f":"(2.303/G46)","v":352262626262.62628},{"$f":"(LOG(E46))*(H46)","v":150403795.26994488},{"$f":"(I46/1000000)","v":150.40379526994488},{"$f":"(J46/1000)","v":0.15040379526994488}]
[null,0.51280599999999998,0.51302199999999998,0.2205,{"$f":"1+((C47-B47)/D47)","v":1.0009795918367346},106000000000,6.5377358490566029E-12,{"$f":"(2.303/G47)","v":352262626262.62628},{"$f":"(LOG(E47))*(H47)","v":149790202.66485646},{"$f":"(I47/1000000)","v":149.79020266485645},{"$f":"(J47/1000)","v":0.14979020266485646}]
[null,0.51268499999999995,0.51280599999999998,0.1237,1.000978172999192,106000000000,6.5377358490566029E-12,352262626262.62628,149573353.05953524,149.57335305953524,0.14957335305953523]
[null,0.51265099999999997,0.51277399999999995,0.1258,{"$f":"1+((C49-B49)/D49)","v":1.0009777424483306},106000000000,{"$f":"(0.693/F49)","v":6.5377358490566029E-12},{"$f":"(2.303/G49)","v":352262626262.62628},{"$f":"(LOG(E49))*(H49)","v":149507549.28157231},{"$f":"(I49/1000000)","v":149.50754928157232},{"$f":"(J49/1000)","v":0.14950754928157231}]
[null,0.51290199999999997,0.51314300000000002,0.24510000000000001,1.0009832721338232,106000000000,6.5377358490566029E-12,352262626262.62628,150352683.50882438,150.35268350882438,0.15035268350882439]
[null,0.51301200000000002,0.51321600000000001,0.20749999999999999,1.0009831325301204,106000000000,6.5377358490566029E-12,352262626262.62628,150331347.11455697,150.33134711455696,0.15033134711455695]
[null,0.51246899999999995,0.51265300000000003,0.18729999999999999,1.0009823812066208,106000000000,6.5377358490566029E-12,352262626262.62628,150216518.20084769,150.21651820084767,0.15021651820084767]
[null,0.511652,0.51183599999999996,0.18779999999999999,1.0009797657082,106000000000,6.5377358490566029E-12,352262626262.62628,149816776.48147142,149.81677648147141,0.1498167764814714]
[null,0.51180999999999999,0.51197999999999999,0.1734,1.0009803921568627,106000000000,6.5377358490566029E-12,352262626262.62628,149912520.34136248,149.91252034136247,0.14991252034136246]
[]
[]
["Lutetium"]
["Hafnium","Initial","Today","Today","The Ratio","Half","Decay","2.303/Delta","Age","Age","Age"]
["Dating","176Hf/177Hf","176Hf/177Hf","176Lu/177Hf","Plus One","Life","Constant","Constant","Years","Million Years","Billion Years"]
[null,0.283333,0.28346100000000002,4.58E-2,{"$f":"1+((C60-B60)/D60)","v":1.002794759825328},37300000000,{"$f":"(0.693/F60)","v":1.8579088471849864E-11},{"$f":"(2.303/G60)","v":123956565656.56567},{"$f":"(LOG(E60))*(H60)","v":150242281.25574234},{"$f":"(I60/1000000)","v":150.24228125574234},{"$f":"(J60/1000)","v":0.15024228125574235}]
[null,0.28195399999999998,0.28303800000000001,3.0099999999999998E-2,{"$f":"1+((C61-B61)/D61)","v":1.0360132890365459},37300000000,1.8579088471849864E-11,{"$f":"(2.303/G61)","v":123956565656.56567},{"$f":"(LOG(E61))*(H61)","v":1904633063.4289384},{"$f":"(I61/1000000)","v":1904.6330634289384},{"$f":"(J61/1000)","v":1.9046330634289383}]
[null,0.28360299999999999,0.28372900000000001,4.5100000000000001E-2,{"$f":"1+((C62-B62)/D62)","v":1.0027937915742797},37300000000,{"$f":"(0.693/F62)","v":1.8579088471849864E-11},{"$f":"(2.303/G62)","v":123956565656.56567},{"$f":"(LOG(E62))*(H62)","v":150190302.00966188},{"$f":"(I62/1000000)","v":150.19030200966188},{"$f":"(J62/1000)","v":0.15019030200966188}]
[null,0.28323300000000001,0.28337699999999999,5.1200000000000002E-2,1.0028124999999997,37300000000,1.8579088471849864E-11,123956565656.56567,151194629.62126467,151.19462962126465,0.15119462962126465]
[null,0.28313700000000003,0.28323100000000001,3.3599999999999998E-2,1.0027976190476184,37300000000,1.8579088471849864E-11,123956565656.56567,150395774.43881816,150.39577443881817,0.15039577443881816]
[null,0.28370499999999998,0.28383399999999998,4.6199999999999998E-2,1.0027922077922076,37300000000,1.8579088471849864E-11,123956565656.56567,150105278.7060765,150.10527870607649,0.15010527870607648]
[null,0.28296700000000002,0.28306100000000001,3.3599999999999998E-2,1.0027976190476184,37300000000,1.8579088471849864E-11,123956565656.56567,150395774.43881816,150.39577443881817,0.15039577443881816]
[null,0.28221299999999999,0.28226200000000001,1.7600000000000001E-2,1.0027840909090922,37300000000,1.8579088471849864E-11,123956565656.56567,149669532.16780543,149.66953216780544,0.14966953216780543]
[null,0.28237699999999999,0.282418,1.4500000000000001E-2,1.0028275862068974,37300000000,1.8579088471849864E-11,123956565656.56567,152004491.39524585,152.00449139524585,0.15200449139524586]
[]
[]
[]
[]
[]
[]
[]
[]
["Million Years","Million Years"]
[-3209,965]
[-1747,2803]
[136,4383]
[530,7935]
[600]

{"sheet":"Negative_19","index":6,"n_rows":92,"n_cols":8,"rows_kept":92,"cut":false,"hidden":false,"merged":[]}
["Table 2","Re/Os"]
["Sample Number","Billion Years","Billion Years",null,"Billion Years","Billion Years"]
["HK1-13H",0.74,-1.24,null,-1.24,6]
["HK1-13W",0.91,-1.24,null,-1.24,7.46]
["HK1-19",1.1399999999999999,-0.22,null,-0.22,47.37]
["HK1-21",1.56,0.83,null,4.54,49.63]
["HK1-24",1.57,2]
["HK1-25/2",1.9,2.2799999999999998]
["HK1-26",2.2999999999999998,2.67]
["HK4-1",2.42,2.87]
["HK-3aa",2.4500000000000002,2.93]
["13-16-3",2.5299999999999998,3.03]
["13-19-2",2.61,3.47]
["13-19-6",2.62,4.54]
["13-19-11",2.65,6]
["13-19-15",2.77,7.46]
["13-19-22",null,47.37]
["13-19-27",null,49.63]
["Average",{"$f":"AVERAGE(B2:B18)","v":2.0121428571428575},{"$f":"AVERAGE(C2:C18)","v":8.2737499999999997}]
["Maximim",{"$f":"MAX(B2:B19)","v":2.77},{"$f":"MAX(C2:C19)","v":49.63}]
["Minimum",{"$f":"MIN(B2:B20)","v":0.74},{"$f":"MIN(C2:C20)","v":-1.24}]
[]
["Table 4","Sm/Nd","Lu/Hf"]
["Sample Number","Billion Years","Billion Years",null,"Billion Years","Billion Years"]
["HK1-13H",-2.34,-4.24,null,-2.34,-4.24]
["HK1-13W",-1.75,-1.47,null,-1.75,-1.47]
["HK1-19",-0.98,-1.1399999999999999,null,-0.98,-1.1399999999999999]
["HK1-19",-0.86,-0.84,null,-0.86,-0.84]
["HK1-24",-0.51,-0.42,null,4.47,2.5099999999999998]
["HK1-24",-0.23,-0.11]
["HK1-24",-0.18,0.04]
["HK1-25",0.14000000000000001,0.3]
["HK1-25",0.2,0.34]
["HK1-25",0.65,0.57999999999999996]
["HK1-26",0.7,0.59]
["HK1-26",0.77,0.63]
["HK4-1",0.79,0.63]
["HK4-1",0.89,0.64]
["HK4-1",0.92,0.87]
["H00-10-22",0.93,0.94]
["H00-10-22",0.99,0.95]
["HK-3a",1.02,1.03]
["13-16-3",1.1299999999999999,1.03]
["13-16-3",1.1399999999999999,1.1499999999999999]
["13-19-2",1.23,1.26]
["13-19-6",1.28,1.3]
["13-19-11",1.28,1.31]
["13-19-15",1.29,1.32]
["13-19-20",1.37,1.39]
["13-19-22",1.38,1.4]
["13-19-27",1.43,1.5]
["13-19-27",1.51,1.78]
["13-19-27",1.52,1.9]
["13-19Ka",1.65,2.2200000000000002]
["H68-16b",1.68,2.5099999999999998]
["H68-16B",1.76]
["H69-15F",1.82]
["H69-15F",4.47]
["H81-21"]
["H81-21"]
["WP"]
["W4-002a"]
["Average",{"$f":"AVERAGE(B25:B62)","v":0.79676470588235293},{"$f":"AVERAGE(C25:C62)","v":0.62548387096774194}]
["Maximim",{"$f":"MAX(B25:B63)","v":4.47},{"$f":"MAX(C25:C63)","v":2.5099999999999998}]
["Minimum",{"$f":"MIN(B25:B64)","v":-2.34},{"$f":"MIN(C25:C64)","v":-4.24}]
[]
[]
[]
[]
["Table 3","206Pb/204Pb","207Pb/204Pb","207Pb/206Pb","Age",null,"Age","Age"]
["HK1-13H",18.137,15.522,{"$f":"(C71/B71)","v":0.85581959530242047},{"$f":"[1]!AgePb76(D71)","v":5017.5941609576012},null,5118.1649808682059,4985.8896852142598]
["HK1-13W",18.024000000000001,15.504,{"$f":"(C72/B72)","v":0.86018641810918772},{"$f":"[1]!AgePb76(D72)","v":5024.8110629801122},null,5103.2845138531984,4949.0905076685131]
["HK1-19",19.146000000000001,15.614000000000001,0.81552282461088477,{"$f":"[1]!AgePb76(D73)","v":4949.0905076685131},null,5047.2946156241069,4925.0739528731119]
["HK1-19",29.06,16.43,0.56538196834136267,{"$f":"[1]!AgePb76(D74)","v":4421.4570439569716},null,5028.5126117395475,4915.8254514549217]
["HK1-21",18.085999999999999,15.53,0.85867521840097316,{"$f":"[1]!AgePb76(D75)","v":5022.3179641487604},null,5024.8110629801122,4881.3597149346379]
["HK1-24",18.213999999999999,15.917999999999999,0.87394312067640278,{"$f":"[1]!AgePb76(D76)","v":5047.2946156241069},null,5022.3179641487604,4878.6347087582153]
["HK1-24",19.137,16.015999999999998,0.83691278674818403,{"$f":"[1]!AgePb76(D77)","v":4985.8896852142598},null,5022.2982575821197,4857.1353302629905]
["HK1-25",17.977,15.504,0.86243533403793737,{"$f":"[1]!AgePb76(D78)","v":5028.5126117395475},null,5017.5941609576012,4839.8786823401233]
["HK1-26",19.62,15.631,0.79668705402650353,{"$f":"[1]!AgePb76(D79)","v":4915.8254514549217},null,5001.2208803680014,4721.4540349848521]
["HK4-1",18.434999999999999,15.596,0.84599945755356665,{"$f":"[1]!AgePb76(D80)","v":5001.2208803680014},null,4985.8896852142598]
["HK-3a",18.134,15.571,0.85866328443807205,{"$f":"[1]!AgePb76(D81)","v":5022.2982575821197},null,4949.0905076685131]
["13-19-2",20.562999999999999,15.991,0.7776589019111998,{"$f":"[1]!AgePb76(D82)","v":4881.3597149346379},null,4925.0739528731119]
["13-19-6",16.91,15.375,0.90922531046717914,{"$f":"[1]!AgePb76(D83)","v":5103.2845138531984},null,4915.8254514549217]
["13-19-11",20.936,15.815,0.75539740160489111,{"$f":"[1]!AgePb76(D84)","v":4839.8786823401233},null,4881.3597149346379]
["13-19-15",20.315000000000001,15.768000000000001,0.77617523997046511,{"$f":"[1]!AgePb76(D85)","v":4878.6347087582153},null,4878.6347087582153]
["13-19-20",19.18,15.38,0.80187695516162671,{"$f":"[1]!AgePb76(D86)","v":4925.0739528731119},null,4857.1353302629905]
["13-19-22",20.652000000000001,15.79,0.76457485957776483,{"$f":"[1]!AgePb76(D87)","v":4857.1353302629905},null,4839.8786823401233]
["13-19-27",16.686,15.332000000000001,0.91885412921011633,{"$f":"[1]!AgePb76(D88)","v":5118.1649808682059},null,4721.4540349848521]
["13-19Ka",22.922999999999998,15.943,0.69550233390044935,{"$f":"[1]!AgePb76(D89)","v":4721.4540349848521}]
[null,null,null,"Average",{"$f":"AVERAGE(E71:E89)","v":4934.8051663458027},null,{"$f":"COUNT(G71:G89)","v":18}]
[null,null,null,"Maximum",{"$f":"MAX(E71:E90)","v":5118.1649808682059}]
[null,null,null,"Minimum",{"$f":"MIN(E71:E91)","v":4421.4570439569716}]

{"sheet":"Negative_20","index":7,"n_rows":53,"n_cols":11,"rows_kept":53,"cut":false,"hidden":false,"merged":[]}
[]
[]
[null,null,null,"Sm-Nd ","Rb-Sr ","Ratio"]
[null,null,null,258,5454,{"$f":"(E4/D4)","v":21.13953488372093}]
[null,null,null,959,6245,{"$f":"(E5/D5)","v":6.5119916579770596}]
[null,null,null,434,12716,29.299539170506911]
[null,null,null,2038,1351,0.66290480863591761]
[null,null,null,1157,4026,3.4796888504753674]
[]
[null,null,null,"Billion Years"]
[null,null,null,11000]
[null,null,null,6900]
[null,null,null,6600]
[null,null,null,5500]
[null,null,null,"17 Negative Ages"]
[]
[]
["Osmium",null,null,null,null,null," "]
["Osmium","Today","The","Age","Age","Age"]
["Dating","187Os/186Os","Ratio","Years","Million Years","Billion Years",null,null,null,"Million Years","Million Years"]
[null,0.92700000000000005,{"$f":"(1.04-B21)/0.050768","v":2.2258115348250866},{"$f":"(C21 * 1000000)","v":2225811.5348250866},{"$f":"(D21 / 1000000)","v":2.2258115348250866},{"$f":"(E21/1000)","v":2.2258115348250868E-3},null,null,null,-1584,-6.4607626851560056]
[null,0.95199999999999996,{"$f":"(1.04-B22)/0.050768","v":1.7333753545540513},{"$f":"(C22 * 1000000)","v":1733375.3545540513},{"$f":"(D22 / 1000000)","v":1.7333753545540513},{"$f":"(E22/1000)","v":1.7333753545540514E-3},null,null,null,-1504.0970690198551,-1.5757957768673194]
[null,1.014,0.51213362748187885,512133.62748187885,0.51213362748187885,5.1213362748187886E-4,null,null,null,-477.8600693350142,-0.72880554680113296]
[null,1.0269999999999999,0.25606681374094159,256066.81374094158,0.25606681374094159,2.560668137409416E-4,null,null,null,-34.903876457611091,2.2258115348250866]
[null,1.03,0.19697447210841493,196974.47210841492,0.19697447210841493,1.9697447210841493E-4,null,null,null,-19.106523794516221,2.7773400567286481]
[null,0.97299999999999998,1.31972896312638,1319728.96312638,1.31972896312638,1.3197289631263799E-3]
[null,0.89900000000000002,2.7773400567286481,2777340.056728648,2.7773400567286481,2.7773400567286484E-3]
[null,0.93,2.166719193192562,2166719.1931925621,2.166719193192562,2.1667191931925619E-3]
[null,0.89900000000000002,2.7773400567286481,2777340.056728648,2.7773400567286481,2.7773400567286484E-3]
[null,1.006,0.66971320516861077,669713.20516861079,0.66971320516861077,6.6971320516861078E-4]
[null,0.997,0.84699023006618412,846990.23006618407,0.84699023006618412,8.4699023006618414E-4]
[null,0.91800000000000004,2.4030885597226597,2403088.5597226596,2.4030885597226597,2.4030885597226596E-3]
[null,0.97499999999999998,1.2803340687046969,1280334.0687046968,1.2803340687046969,1.2803340687046968E-3]
[null,1.0149999999999999,0.49243618027103947,492436.18027103948,0.49243618027103947,4.9243618027103948E-4]
[null,1.024,0.3151591553734639,315159.15537346387,0.3151591553734639,3.151591553734639E-4]
[null,2.0099999999999998,-19.106523794516225,-19106523.794516224,-19.106523794516225,-1.9106523794516224E-2]
[null,1.3680000000000001,-6.4607626851560047,-6460762.6851560045,-6.4607626851560047,-6.460762685156005E-3]
[null,2.8119999999999998,-34.903876457611091,-34903876.457611091,-34.903876457611091,-3.4903876457611088E-2]
[null,0.995,0.8863851244878671,886385.12448786711,0.8863851244878671,8.8638512448786712E-4]
[null,1.077,-0.72880554680113308,-728805.54680113308,-0.72880554680113308,-7.2880554680113303E-4]
[null,1.0269999999999999,0.25606681374094159,256066.81374094158,0.25606681374094159,2.560668137409416E-4]
[null,81.5,-1584.8566025843049,-1584856602.584305,-1584.8566025843049,-1.5848566025843049]
[null,25.3,-477.8600693350142,-477860069.33501422,-477.8600693350142,-0.47786006933501418]
[null,1.1200000000000001,-1.5757957768673194,-1575795.7768673194,-1.5757957768673194,-1.5757957768673194E-3]
[null,77.400000000000006,-1504.0970690198551,-1504097069.019855,-1504.0970690198551,-1.5040970690198552]
[]
[]
[null,"Re/Os","Sm/Nd","Rb/Sr"]
[null,5.5,3.2,8.3000000000000007]
[null,11,3,0.99]
[null,6.9,3]
[null,6.6,2.7]
[null,"6 Negative","4 Negative","7 Negative"]

{"sheet":"Negative_28","index":8,"n_rows":84,"n_cols":11,"rows_kept":84,"cut":false,"hidden":false,"merged":[]}
[]
["Rubidium"]
["Strontium","Initial","Today","Today","The Ratio","Half","Decay","2.303/Delta","Age","Age","Age"]
["Dating","87Sr/86Sr","87Sr/86Sr","87Rb/86Sr","Plus One","Life","Constant","Constant","Years","Million Years","Billion Years"]
[null,0.70498099999999997,0.70514100000000002,7.9899999999999999E-2,{"$f":"1+((C5-B5)/D5)","v":1.0020025031289117},48800000000,{"$f":"(0.693/F5)","v":1.4200819672131146E-11},{"$f":"(2.303/G5)","v":162173737373.7374},{"$f":"(LOG(E5))*(H5)","v":140897589.87721184},{"$f":"(I5/1000000)","v":140.89758987721183},{"$f":"(J5/1000)","v":0.14089758987721182}]
[null,0.70481099999999997,0.70504500000000003,0.1167,{"$f":"1+((C6-B6)/D6)","v":1.0020051413881754},48800000000,{"$f":"(0.693/F6)","v":1.4200819672131146E-11},{"$f":"(2.303/G6)","v":162173737373.7374},{"$f":"(LOG(E6))*(H6)","v":141083033.93862262},{"$f":"(I6/1000000)","v":141.08303393862263},{"$f":"(J6/1000)","v":0.14108303393862262}]
[null,0.70479700000000001,0.70504900000000004,0.12559999999999999,1.0020063694267518,48800000000,1.4200819672131146E-11,162173737373.7374,141169352.9842698,141.16935298426981,0.1411693529842698]
[null,0.70482199999999995,0.70505499999999999,0.1163,1.0020034393809119,48800000000,1.4200819672131146E-11,162173737373.7374,140963399.37639832,140.96339937639831,0.14096339937639832]
[null,0.714283,0.71504299999999998,0.1147,1.006625980819529,48800000000,1.4200819672131146E-11,162173737373.7374,465136214.62563235,465.13621462563236,0.46513621462563237]
[null,0.71962499999999996,0.71995799999999999,5.0299999999999997E-2,1.0066202783300204,48800000000,1.4200819672131146E-11,162173737373.7374,464737224.2439211,464.7372242439211,0.46473722424392111]
[null,0.71368799999999999,0.71380900000000003,1.83E-2,1.0066120218579255,48800000000,1.4200819672131146E-11,162173737373.7374,464159533.432069,464.159533432069,0.464159533432069]
[null,0.71360199999999996,0.71398300000000003,5.7500000000000002E-2,1.0066260869565231,48800000000,1.4200819672131146E-11,162173737373.7374,465143640.77127236,465.14364077127237,0.46514364077127235]
[null,0.71272800000000003,0.71273900000000001,1.6999999999999999E-3,1.0064705882352842,48800000000,1.4200819672131146E-11,162173737373.7374,454262936.07819337,454.26293607819338,0.4542629360781934]
[null,0.712503,0.71257599999999999,1.0999999999999999E-2,1.0066363636363627,48800000000,1.4200819672131146E-11,162173737373.7374,465862671.19290906,465.86267119290909,0.46586267119290908]
[null,0.70866700000000005,0.71042300000000003,0.26500000000000001,1.0066264150943396,48800000000,1.4200819672131146E-11,162173737373.7374,465166599.76601827,465.16659976601829,0.46516659976601832]
[null,0.707542,0.71038900000000005,0.42970000000000003,1.006625552711194,48800000000,1.4200819672131146E-11,162173737373.7374,465106260.92554349,465.10626092554349,0.46510626092554347]
[null,0.70746500000000001,0.70880500000000002,0.20230000000000001,1.0066238260009888,48800000000,1.4200819672131146E-11,162173737373.7374,464985447.07830405,464.98544707830405,0.46498544707830403]
[null,0.70601599999999998,0.70866600000000002,8.6099999999999996E-2,1.0307781649245069,48800000000,1.4200819672131146E-11,162173737373.7374,2135051353.3609142,2135.0513533609142,2.1350513533609141]
[null,0.70309600000000005,0.70748100000000003,0.22109999999999999,1.0198326549072816,48800000000,1.4200819672131146E-11,162173737373.7374,1383165843.9075236,1383.1658439075236,1.3831658439075236]
[null,0.70473699999999995,0.70635800000000004,0.2447,1.0066244380874545,48800000000,1.4200819672131146E-11,162173737373.7374,465028273.35076386,465.02827335076387,0.46502827335076385]
[null,0.70975900000000003,0.71003700000000003,0.16300000000000001,1.0017055214723927,48800000000,1.4200819672131146E-11,162173737373.7374,120019535.548654,120.01953554865401,0.12001953554865401]
[null,0.71005600000000002,0.71011500000000005,3.4599999999999999E-2,1.0017052023121396,48800000000,1.4200819672131146E-11,162173737373.7374,119997094.99131159,119.9970949913116,0.1199970949913116]
[null,0.70979300000000001,0.70980200000000004,5.0000000000000001E-3,1.0018000000000074,48800000000,1.4200819672131146E-11,162173737373.7374,126662124.90800433,126.66212490800433,0.12666212490800433]
[]
[]
[]
[]
[]
[]
[]
[]
[]
["Neodymium","Initial","Today","Today","The Ratio","Half","Decay","2.303/Delta","Age","Age","Age"]
["Samarium","143Nd/144Nd","143Nd/144Nd","147Sm/144Nd","Plus One","Life","Constant","Constant","Years","Million Years","Billion Years"]
[" ",0.51314700000000002,0.51334100000000005,0.21,{"$f":"1+((C35-B35)/D35)","v":1.0009238095238095},106000000000,{"$f":"(0.693/F35)","v":6.5377358490566029E-12},{"$f":"(2.303/G35)","v":352262626262.62628},{"$f":"(LOG(E35))*(H35)","v":141264419.6419813},{"$f":"(I35/1000000)","v":141.26441964198131},{"$f":"(J35/1000)","v":0.1412644196419813}]
[null,0.51304700000000003,0.51318799999999998,0.15290000000000001,{"$f":"1+((C36-B36)/D36)","v":1.0009221713538257},106000000000,{"$f":"(0.693/F36)","v":6.5377358490566029E-12},{"$f":"(2.303/G36)","v":352262626262.62628},{"$f":"(LOG(E36))*(H36)","v":141014034.13951197},{"$f":"(I36/1000000)","v":141.01403413951198},{"$f":"(J36/1000)","v":0.14101403413951197}]
[null,0.51311700000000005,0.51331899999999997,0.219,1.0009223744292235,106000000000,6.5377358490566029E-12,352262626262.62628,141045073.1479646,141.04507314796459,0.14104507314796458]
[null,0.51302000000000003,0.51320600000000005,0.20150000000000001,1.000923076923077,106000000000,6.5377358490566029E-12,352262626262.62628,141152445.59695086,141.15244559695086,0.14115244559695087]
[null,0.51195299999999999,0.51209000000000005,4.4999999999999998E-2,1.0030444444444457,106000000000,6.5377358490566029E-12,352262626262.62628,465048960.19109571,465.04896019109572,0.46504896019109571]
[null,0.51182799999999995,0.51215500000000003,0.10730000000000001,1.0030475302889104,106000000000,6.5377358490566029E-12,352262626262.62628,465519616.69839978,465.51961669839977,0.46551961669839975]
[null,0.511822,0.51213799999999998,0.1037,1.0030472516875601,106000000000,6.5377358490566029E-12,352262626262.62628,465477124.16307181,465.47712416307184,0.46547712416307185]
[null,0.51185099999999994,0.51215500000000003,9.9900000000000003E-2,1.0030430430430439,106000000000,6.5377358490566029E-12,352262626262.62628,464835216.37736022,464.83521637736021,0.46483521637736019]
[null,0.51185199999999997,0.51214800000000005,9.7299999999999998E-2,1.0030421377183976,106000000000,6.5377358490566029E-12,352262626262.62628,464697134.76502633,464.69713476502631,0.46469713476502633]
[null,0.511853,0.51209700000000002,8.0199999999999994E-2,1.0030423940149629,106000000000,6.5377358490566029E-12,352262626262.62628,464736225.5536896,464.73622555368962,0.4647362255536896]
[null,0.51205100000000003,0.51250300000000004,0.14849999999999999,1.0030437710437712,106000000000,6.5377358490566029E-12,352262626262.62628,464946252.16188157,464.94625216188155,0.46494625216188157]
[null,0.51200599999999996,0.512297,9.5399999999999999E-2,1.0030503144654093,106000000000,6.5377358490566029E-12,352262626262.62628,465944261.22193116,465.94426122193119,0.46594426122193117]
[null,0.51206700000000005,0.51239299999999999,0.1069,1.0030495790458367,106000000000,6.5377358490566029E-12,352262626262.62628,465832094.6350854,465.83209463508541,0.4658320946350854]
[null,0.51201799999999997,0.51226400000000005,7.6899999999999996E-2,1.0031989596879074,106000000000,6.5377358490566029E-12,352262626262.62628,488614022.09870625,488.61402209870624,0.48861402209870625]
[null,0.51202999999999999,0.51228899999999999,8.8900000000000007E-2,1.0029133858267718,106000000000,6.5377358490566029E-12,352262626262.62628,445058414.00200927,445.05841400200927,0.44505841400200929]
[null,0.51073999999999997,0.51163700000000001,0.2944,1.0030468750000001,106000000000,6.5377358490566029E-12,352262626262.62628,465419671.40963542,465.41967140963544,0.46541967140963542]
[null,0.51187099999999996,0.51198999999999995,0.15179999999999999,1.0007839262187086,106000000000,6.5377358490566029E-12,352262626262.62628,119882529.50137898,119.88252950137898,0.11988252950137898]
[null,0.51187099999999996,0.51197800000000004,0.13669999999999999,1.0007827359180694,106000000000,6.5377358490566029E-12,352262626262.62628,119700573.03945896,119.70057303945896,0.11970057303945895]
[null,0.511849,0.51194899999999999,0.12790000000000001,1.0007818608287724,106000000000,6.5377358490566029E-12,352262626262.62628,119566801.52710542,119.56680152710543,0.11956680152710543]
[]
[]
[]
[]
["Rhenium",null,null,null,null,null,null,null,null,null," "]
["Osmium","Initial","Today","Today","The Ratio","Half","Decay","2.303/Delta","Age","Age","Age"]
["Dating","187Os/188Os","187Os/188Os","187Re/188Os","Plus One","Life","Constant","Constant","Years","Million Years","Billion Years"]
["DHS",0.12205000000000001,0.12404,0.36409999999999998,{"$f":"1+((C61-B61)/D61)","v":1.0054655314474046},41600000000,{"$f":"(0.693/F61)","v":1.6658653846153847E-11},{"$f":"(2.303/G61)","v":138246464646.46463},{"$f":"(LOG(E61))*(H61)","v":327255241.82875419},{"$f":"(I61/1000000)","v":327.25524182875421},{"$f":"(J61/1000)","v":0.32725524182875421}]
["NY-G1",0.12476,0.12553,0.32800000000000001,{"$f":"1+((C62-B62)/D62)","v":1.0023475609756098},41600000000,1.6658653846153847E-11,{"$f":"(2.303/G62)","v":138246464646.46463},{"$f":"(LOG(E62))*(H62)","v":140781619.9598799},{"$f":"(I62/1000000)","v":140.78161995987992},{"$f":"(J62/1000)","v":0.14078161995987992}]
["NY-G2",0.12238,0.12519,1.1991000000000001,1.0023434242348428,41600000000,{"$f":"(0.693/F63)","v":1.6658653846153847E-11},138246464646.46463,140533832.56497711,140.5338325649771,0.14053383256497709]
["NY-G3",0.12242,0.12311,0.2928,1.0023565573770492,41600000000,1.6658653846153847E-11,138246464646.46463,141320493.53158441,141.32049353158442,0.14132049353158441]
["NY-G4",0.1229,0.12367,0.32950000000000002,1.0023368740515934,41600000000,1.6658653846153847E-11,138246464646.46463,140141479.84398979,140.1414798439898,0.14014147984398981]
["L50-2003",0.11445,0.11582000000000001,0.17560000000000001,1.0078018223234624,41600000000,1.6658653846153847E-11,138246464646.46463,466601078.50318944,466.60107850318946,0.46660107850318944]
["LN-9830",0.10716000000000001,0.10878,0.2077,1.0077997111218102,41600000000,1.6658653846153847E-11,138246464646.46463,466475303.77775604,466.47530377775604,0.46647530377775603]
["F50-9254",0.10682999999999999,0.10717,4.3700000000000003E-2,1.0077803203661329,41600000000,1.6658653846153847E-11,138246464646.46463,465320088.22249746,465.32008822249747,0.46532008822249749]
["F50-9270",0.10983999999999999,0.11015,3.8899999999999997E-2,1.0079691516709512,41600000000,1.6658653846153847E-11,138246464646.46463,476568877.5089255,476.56887750892548,0.47656887750892546]
["F50-9270*",0.10963000000000001,0.11011,6.2E-2,1.0077419354838708,41600000000,1.6658653846153847E-11,138246464646.46463,463033220.96885979,463.03322096885978,0.46303322096885979]
["F50-9271*",0.10864,0.10919,7.0499999999999993E-2,1.0078014184397162,41600000000,1.6658653846153847E-11,138246464646.46463,466577017.17100567,466.57701717100565,0.46657701717100564]
["F50-9274",0.10607999999999999,0.10629,2.6499999999999999E-2,1.0079245283018869,41600000000,1.6658653846153847E-11,138246464646.46463,473910827.94940591,473.91082794940593,0.47391082794940592]
["F50-9281",0.10783,0.10793,1.29E-2,1.0077519379844964,41600000000,1.6658653846153847E-11,138246464646.46463,463629151.2389003,463.62915123890031,0.46362915123890031]
["L42-13",0.11283,0.13877999999999999,3.3355999999999999,1.0077797097973378,41600000000,1.6658653846153847E-11,138246464646.46463,465283712.87020367,465.28371287020366,0.46528371287020365]
["F50-01",0.10868999999999999,0.11955,1.3969,1.0077743575059059,41600000000,1.6658653846153847E-11,138246464646.46463,464964842.88542676,464.96484288542678,0.46496484288542678]
["SD-9804",0.11064,0.11138000000000001,9.3899999999999997E-2,1.0078807241746539,41600000000,1.6658653846153847E-11,138246464646.46463,471301463.14487362,471.30146314487359,0.47130146314487359]
["SD-9405*",0.11842999999999999,0.12216,0.48,1.0077708333333333,41600000000,1.6658653846153847E-11,138246464646.46463,464754884.62401426,464.75488462401427,0.46475488462401426]
["SL-2001",0.10979999999999999,0.11040999999999999,7.85E-2,1.0077707006369427,41600000000,1.6658653846153847E-11,138246464646.46463,464746979.0083192,464.74697900831922,0.46474697900831924]
["Sv1b-12",0.11353000000000001,0.11462,0.13950000000000001,1.0078136200716845,41600000000,1.6658653846153847E-11,138246464646.46463,467303923.87201273,467.30392387201272,0.46730392387201269]
["Sv1b-11",0.11057,0.11143,0.10970000000000001,1.0078395624430265,41600000000,1.6658653846153847E-11,138246464646.46463,468849399.65406156,468.84939965406153,0.46884939965406153]
["Sv1b-16",0.15421000000000001,0.17268,2.3744999999999998,1.0077784796799325,41600000000,1.6658653846153847E-11,138246464646.46463,465210427.11566824,465.21042711566821,0.46521042711566823]
["FC6-1-2",0.13200000000000001,0.14677999999999999,3.5402,1.0041749053725779,41600000000,1.6658653846153847E-11,138246464646.46463,250138179.93399066,250.13817993399067,0.25013817993399068]
["FC6-2-2",0.11959,0.12162000000000001,0.48649999999999999,1.0041726618705036,41600000000,1.6658653846153847E-11,138246464646.46463,250004040.66297728,250.00404066297727,0.25000404066297727]
["FC25-2",0.15837000000000001,0.15870999999999999,8.0799999999999997E-2,1.0042079207920789,41600000000,1.6658653846153847E-11,138246464646.46463,252112141.36064813,252.11214136064814,0.25211214136064813]

{"sheet":"Negative_30","index":9,"n_rows":31,"n_cols":5,"rows_kept":31,"cut":false,"hidden":false,"merged":[]}
[]
[]
[null,"Billion Years",null,"Billion Years"]
[null,2.98,0.01,3.02,0.03]
[null,3.52,0.09,3.56,0.18]
[null,2.3199999999999998,0.1,2.89,0.25]
[null,2.86,0.01,2.96,0.02]
[null,2.2999999999999998,0.06,-7.12,0.85]
[null,2.13,0.06,2.78,0.17]
[null,2.54,0.15,2.62,0.31]
[null,-1.89,0.66,-3.54,2.98]
[null,3.03,0.18,3.35,0.4]
[null,-0.62,0.28999999999999998,-0.75,0.7]
[null,-0.94,0.24,-1.1000000000000001,0.56999999999999995]
[null,0.98,0.21,2.06,0.87]
[null,-0.62,0.28999999999999998,-0.75,0.7]
[null,-1.3,0.1,-1.99,0.32]
[null,1.83,0.24,7.69,3.27]
[null,0.13,0.16,0.32,0.8]
[null,1.21,0.19,3.28,1.02]
[null,1.49,0.13,2.75,0.49]
[null,-0.03,0,-0.04,0]
[null,1.57,0.08,2.0099999999999998,0.22]
[null,0.97,0.17,2.39,0.91]
[null,1.92,0.35,2.21,0.87]
[null,0.05,0.68,0.12,3.24]
[null,-1.2,0.1,1.2,0.48]
[null,-0.92,0.03,3.91,0.32]
["Average",{"$f":"AVERAGE(B4:B28)","v":0.97239999999999982},null,{"$f":"AVERAGE(D4:D28)","v":1.3532000000000004}]
["Maximim",{"$f":"MAX(B4:B29)","v":3.52},null,{"$f":"MAX(D4:D29)","v":7.69}]
["Minimum",{"$f":"MIN(B4:B30)","v":-1.89},null,{"$f":"MIN(D4:D30)","v":-7.12}]