{"text_format":"1","workbook":"xlsx","n_sheets":21,"sheets":["Index","Nd_Sm_01","Nd_Sm_02","Nd_Sm_03","Nd_Sm_04","Nd_Sm_05","Nd_Sm_06","Nd_Sm_07","Nd_Sm_08","Nd_Sm_09","Nd_Sm_10","Nd_Sm_11","Nd_Sm_12","Nd_Sm_13","Nd_Sm_14","Nd_Sm_15","Nd_Sm_16","Nd_Sm_17","Nd_Sm_18","Nd_Sm_19","Nd_Sm_20"],"not_rendered":{"charts":0,"images":0,"macros":1,"external_links":1,"defined_names":21,"comments":0,"pivot_tables":0},"unopened":[],"bounds":{"document_bytes":16777216,"sheet_cells":100000,"rows_first":2000,"rows_last":500,"rows_between":2000,"halvings":0,"cell_chars":16384,"cell_head_chars":4096},"cells_cut":0,"cells_raw":0,"read":"whole","date_system":"1900"}

{"sheet":"Index","index":0,"n_rows":21,"n_cols":8,"rows_kept":21,"cut":false,"hidden":false,"merged":[]}
["Number","Spreadsheet","Magazine","Title","Folder","File Name","Hyperlink","Id"]
[1,{"$f":"(\"Nd_Sm_0\" & A2)","v":"Nd_Sm_01"},"Canadian Journal Of Earth Science, 2006, Volume 43, Pages 1419-1444","Rocks of the Central Wyoming Province",{"$f":"(\"C:\\Essays\\Geo_Dating\\Rubidium\\\")","v":"C:\\Essays\\Geo_Dating\\Rubidium\\"},"Rubidium_041.pdf",{"$f":"(E2 & F2)","v":"C:\\Essays\\Geo_Dating\\Rubidium\\Rubidium_041.pdf"},{"$f":"(A2)","v":1}]
[2,{"$f":"(\"Nd_Sm_0\" & A3)","v":"Nd_Sm_02"},"Earth and Planetary Science Letters, Volume 59, 1982, Pages 327-342","Correlated Nd, Sr And Pb Isotope Variation","C:\\Essays\\Geo_Dating\\Rubidium\\","Rubidium_010.pdf","C:\\Essays\\Geo_Dating\\Rubidium\\Rubidium_010.pdf",{"$f":"(A3)","v":2}]
[3,"Nd_Sm_03","Earth and Planetary Science Letters, Volume 73, 1985, Pages 269-277","A Depleted Mantle Source For Kimberlites","C:\\Essays\\Geo_Dating\\Rubidium\\","Rubidium_011.pdf","C:\\Essays\\Geo_Dating\\Rubidium\\Rubidium_011.pdf",3]
[4,"Nd_Sm_04","Earth and Planetary Science Letters, Volume 71, 1984, Pages 46-58","Sm-Nd Isotopic Systematics","C:\\Essays\\Geo_Dating\\Rubidium\\","Rubidium_012.pdf","C:\\Essays\\Geo_Dating\\Rubidium\\Rubidium_012.pdf",4]
[5,"Nd_Sm_05","Earth and Planetary Science Letters, Volume 90, 1988, Pages 26-40","Strontium, neodymium and lead isotopic","C:\\Essays\\Geo_Dating\\Rubidium\\","Rubidium_016.pdf","C:\\Essays\\Geo_Dating\\Rubidium\\Rubidium_016.pdf",5]
[6,"Nd_Sm_06","Earth and Planetary Science Letters, Volume 99, 1990, Pages 362-379","Sr, Nd, and O isotope geochemistry","C:\\Essays\\Geo_Dating\\Rubidium\\","Rubidium_017.pdf","C:\\Essays\\Geo_Dating\\Rubidium\\Rubidium_017.pdf",6]
[7,"Nd_Sm_07","Earth and Planetary Science Letters, Volume 105, 1991, Pages 149-169","Pb, Nd and Sr isotopic geochemistry","C:\\Essays\\Geo_Dating\\Rubidium\\","Rubidium_018.pdf","C:\\Essays\\Geo_Dating\\Rubidium\\Rubidium_018.pdf",7]
[8,"Nd_Sm_08","Earth and Planetary Science Letters, Volume 113, 1992, Pages 107-128","Sr, Nd, and Pb isotopes of Ultramafic Xenoliths","C:\\Essays\\Geo_Dating\\Rubidium\\","Rubidium_019.pdf","C:\\Essays\\Geo_Dating\\Rubidium\\Rubidium_019.pdf",8]
[9,"Nd_Sm_09","Geochimica et Cosmochimica Acta, 1993, Volume 57, Pages 4687-4702","An extremely low U/Pb source","C:\\Essays\\Geo_Dating\\Rubidium\\","Rubidium_022.pdf","C:\\Essays\\Geo_Dating\\Rubidium\\Rubidium_022.pdf",9]
[10,{"$f":"(\"Nd_Sm_\" & A11)","v":"Nd_Sm_10"},"Earth and Planetary Science Letters, Volume 183, 2000, Pages 73-92","The 72 Ma Geochemical Evolution","C:\\Essays\\Geo_Dating\\Rubidium\\","Rubidium_023.pdf","C:\\Essays\\Geo_Dating\\Rubidium\\Rubidium_023.pdf",10]
[11,{"$f":"(\"Nd_Sm_\" & A12)","v":"Nd_Sm_11"},"Journal Of Petrology, 2009, Volume 50, Number 10, Pages 1857-1898","Temporal Evolution of the Lithospheric Mantle","C:\\Essays\\Geo_Dating\\Rubidium\\","Rubidium_034.pdf","C:\\Essays\\Geo_Dating\\Rubidium\\Rubidium_034.pdf",11]
[12,"Nd_Sm_12","Journal Of Petrology, 1998, Volume 39, Number 5, Pages 859–880 ","Geochemistry of Jurassic Oceanic Crust","C:\\Essays\\Geo_Dating\\Rubidium\\",{"$f":"(\"Rubidium_0\"& H13 & \".pdf\")","v":"Rubidium_012.pdf"},"C:\\Essays\\Geo_Dating\\Rubidium\\Rubidium_012.pdf",12]
[13,"Nd_Sm_13","Journal Of Geophysical Research, 1998, Volume 103, Number B9, Pages 20,963-20,979","Origin of the Indian Ocean-type isotopic signature",{"$f":"(\"C:\\Essays\\Geo_Dating\\Rubidium\\\")","v":"C:\\Essays\\Geo_Dating\\Rubidium\\"},"Rubidium_056.pdf","C:\\Essays\\Geo_Dating\\Rubidium\\Rubidium_056.pdf",13]
[14,"Nd_Sm_14","Geochimica et Cosmochimica Acta, 1986, Volume 50, Pages 2571-2585","Sr, Nd, and Pb isotopes in Proterozoic Intrusives",{"$f":"(\"C:\\Essays\\Geo_Dating\\Neodymium\\\")","v":"C:\\Essays\\Geo_Dating\\Neodymium\\"},"Neodymium_002.pdf","C:\\Essays\\Geo_Dating\\Neodymium\\Neodymium_002.pdf",14]
[15,"Nd_Sm_15","Geochimica et Cosmochimica Acta, 1992, Volume 56, Pages 1673-1694","Age and Isotopic Relationships","C:\\Essays\\Geo_Dating\\Neodymium\\","Neodymium_006.pdf","C:\\Essays\\Geo_Dating\\Neodymium\\Neodymium_006.pdf",15]
[16,"Nd_Sm_16","Geochimica et Cosmochimica Acta, 1996, Volume 60, Number 8, Pages 1429-1444","The Beni Bousera Ultramafic Complex of Northern Morocco","C:\\Essays\\Geo_Dating\\Neodymium\\","Neodymium_011.pdf","C:\\Essays\\Geo_Dating\\Neodymium\\Neodymium_011.pdf",16]
[17,"Nd_Sm_17","Geochimica et Cosmochimica Acta, 1995, Volume 59, Number 12, Pages 2573-2598","Implications for Banda Arc Magma Genesis","C:\\Essays\\Geo_Dating\\Neodymium\\","Neodymium_008.pdf",{"$f":"(E18 & F18)","v":"C:\\Essays\\Geo_Dating\\Neodymium\\Neodymium_008.pdf"},17]
[18,"Nd_Sm_18","Geochimica et Cosmochimica Acta, 2001, Volume 65, Number 15, Pages 2555–2570","Pb, Sr, and Nd Isotopic Features","C:\\Essays\\Geo_Dating\\Neodymium\\","Neodymium_015.pdf","C:\\Essays\\Geo_Dating\\Neodymium\\Neodymium_015.pdf",{"$f":"(A19)","v":18}]
[19,"Nd_Sm_19","Geochimica et Cosmochimica Acta, 2002, Volume 66, Number 14, Pages 2569–2581","Sources of Labrador Sea Sediments","C:\\Essays\\Geo_Dating\\Neodymium\\","Neodymium_021.pdf","C:\\Essays\\Geo_Dating\\Neodymium\\Neodymium_021.pdf",19]
[20,"Nd_Sm_20","Geochimica et Cosmochimica Acta, 2002, Volume 66, Number 11, Pages 2037–2053","The Petrogenesis of Martian Meteorites","C:\\Essays\\Geo_Dating\\Neodymium\\","Neodymium_020.pdf","C:\\Essays\\Geo_Dating\\Neodymium\\Neodymium_020.pdf",20]

{"sheet":"Nd_Sm_01","index":1,"n_rows":153,"n_cols":20,"rows_kept":153,"cut":false,"hidden":false,"merged":[]}
["Rubidium",null,null,null,null,null,null,null,null,null,"Rubidium_041.pdf",null,null,null,null,null,null,null,null,38746]
["Strontium","Initial","Today","Today","The Ratio","Half","Decay","2.303/Delta","Age","Age","Age","Model Age","Model Age","Model Age",null,null,null,null,null,37951]
["Dating","87Sr/86Sr","87Sr/86Sr","87Rb/86Sr","Plus One","Life","Constant","Constant","Years","Million Years","Billion Years","Million Years","% Difference"," Difference",null,null,null,null,null,35596]
[null,0.70296000000000003,0.71438000000000001,0.27310000000000001,{"$f":"1+((C4-B4)/D4)","v":1.0418161845477847},48800000000,{"$f":"(0.693/F4)","v":1.4200819672131146E-11},{"$f":"(2.303/G4)","v":162173737373.7374},{"$f":"(LOG(E4))*(H4)","v":2885249160.5150118},{"$f":"(I4/1000000)","v":2885.2491605150117},{"$f":"(J4/1000)","v":2.8852491605150119},null,null,null,null,null,null,null,null,26410]
[null,0.70372999999999997,0.72582000000000002,0.51639999999999997,{"$f":"1+((C5-B5)/D5)","v":1.0427769171185128},48800000000,1.4200819672131146E-11,{"$f":"(2.303/G5)","v":162173737373.7374},{"$f":"(LOG(E5))*(H5)","v":2950168797.2761002},{"$f":"(I5/1000000)","v":2950.1687972761001},{"$f":"(J5/1000)","v":2.9501687972760999},null,null,null,null,null,null,null,null,26332]
[null,0.70294999999999996,0.75831999999999999,1.2944,1.0427765760197776,48800000000,1.4200819672131146E-11,162173737373.7374,2950145758.8074899,2950.14575880749,2.9501457588074902,null,null,null,null,null,null,null,null,26280]
[null,0.70301999999999998,0.71582000000000001,0.2994,1.0427521710086842,48800000000,1.4200819672131146E-11,162173737373.7374,2948497377.5752797,2948.4973775752796,2.9484973775752796,null,null,null,null,null,null,null,null,25630]
[null,0.70082,0.72167999999999999,0.48749999999999999,1.0427897435897435,48800000000,1.4200819672131146E-11,162173737373.7374,2951035116.4927506,2951.0351164927506,2.9510351164927506,null,null,null,null,null,null,null,null,24363]
[null,0.70477000000000001,0.70550999999999997,1.7399999999999999E-2,1.0425287356321817,48800000000,1.4200819672131146E-11,162173737373.7374,2933404147.1190176,2933.4041471190176,2.9334041471190178,null,null,null,null,null,null,null,null,23152]
[null,0.70033000000000001,0.70365999999999995,7.7799999999999994E-2,1.0428020565552691,48800000000,1.4200819672131146E-11,162173737373.7374,2951866742.7349877,2951.8667427349878,2.9518667427349881,null,null,null,null,null,null,null,null,21599]
[null,0.70296999999999998,0.72585999999999995,0.53490000000000004,1.0427930454290522,48800000000,1.4200819672131146E-11,162173737373.7374,2951258125.9761357,2951.2581259761359,2.9512581259761359,null,null,null,null,null,null,null,null,20970]
[null,0.70235999999999998,0.73997000000000002,0.87919999999999998,1.042777525022748,48800000000,1.4200819672131146E-11,162173737373.7374,2950209856.2857637,2950.2098562857636,2.9502098562857637,null,null,null,null,null,null,null,null,19442]
[null,0.70415000000000005,0.71709000000000001,0.30249999999999999,1.042776859504132,48800000000,1.4200819672131146E-11,162173737373.7374,2950164905.889864,2950.1649058898638,2.950164905889864,null,null,null,null,null,null,null,null,18985]
[null,0.70389000000000002,0.71694000000000002,0.30509999999999998,1.0427728613569323,48800000000,1.4200819672131146E-11,162173737373.7374,2949894862.8030758,2949.8948628030757,2.9498948628030757,null,null,null,null,null,null,null,null,18324]
[null,0.70299999999999996,0.73099000000000003,0.6542,1.0427850810149801,48800000000,1.4200819672131146E-11,162173737373.7374,2950720200.3921089,2950.7202003921088,2.9507202003921087,null,null,null,null,null,null,null,null,17028]
[null,0.73157000000000005,0.88829000000000002,3.6633,1.0427810990090902,48800000000,1.4200819672131146E-11,162173737373.7374,2950451249.6451526,2950.4512496451525,2.9504512496451527,null,null,null,null,null,null,null,null,16581]
[null,0.71118000000000003,0.78656999999999999,1.7623,1.0427793224763093,48800000000,1.4200819672131146E-11,162173737373.7374,2950331259.5821304,2950.3312595821303,2.9503312595821303,null,null,null,null,null,null,null,null,16203]
[null,0.70189000000000001,0.70667000000000002,0.11169999999999999,1.0427931960608774,48800000000,1.4200819672131146E-11,162173737373.7374,2951268299.781333,2951.2682997813331,2.9512682997813333,null,null,null,null,null,null,null,null,16133]
[null,0.70267999999999997,0.71708000000000005,0.33660000000000001,1.0427807486631018,48800000000,1.4200819672131146E-11,162173737373.7374,2950427586.6939607,2950.4275866939606,2.9504275866939604,null,null,null,null,null,null,null,null,15957]
[null,0.71319999999999995,0.77897000000000005,1.5952,1.0412299398194584,48800000000,1.4200819672131146E-11,162173737373.7374,2845605394.178813,2845.6053941788132,2.8456053941788131,null,null,null,null,null,null,null,null,14562]
[null,0.70794999999999997,0.75155000000000005,1.0577000000000001,1.0412215183889573,48800000000,1.4200819672131146E-11,162173737373.7374,2845035747.1789608,2845.0357471789607,2.8450357471789607,null,null,null,null,null,null,null,null,13022]
[null,0.70504999999999995,0.72348000000000001,0.44700000000000001,1.0412304250559286,48800000000,1.4200819672131146E-11,162173737373.7374,2845638216.6686687,2845.638216668669,2.8456382166686689,null,null,null,null,null,null,null,null,12986]
[null,0.70687999999999995,0.75190000000000001,1.0919000000000001,1.0412308819488965,48800000000,1.4200819672131146E-11,162173737373.7374,2845669121.9260917,2845.6691219260915,2.8456691219260914,null,null,null,null,null,null,null,null,12915]
[null,0.70777000000000001,0.72372000000000003,0.38679999999999998,1.0412357807652535,48800000000,1.4200819672131146E-11,162173737373.7374,2846000487.9173565,2846.0004879173566,2.8460004879173568,null,null,null,null,null,null,null,null,12875]
[null,0.70360999999999996,0.71702999999999995,0.3256,1.0412162162162162,48800000000,1.4200819672131146E-11,162173737373.7374,2844677092.3519773,2844.6770923519775,2.8446770923519775,null,null,null,null,null,null,null,null,12850]
[null,0.70211000000000001,0.70462999999999998,6.1199999999999997E-2,1.0411764705882347,48800000000,1.4200819672131146E-11,162173737373.7374,2841988521.0061646,2841.9885210061648,2.8419885210061646,null,null,null,null,null,null,null,null,12803]
[null,0.69974999999999998,0.72092000000000001,0.51339999999999997,1.0412349045578497,48800000000,1.4200819672131146E-11,162173737373.7374,2845941219.5649858,2845.9412195649857,2.8459412195649856,null,null,null,null,null,null,null,null,12614]
[null,0.70323000000000002,0.70991000000000004,0.16209999999999999,1.041209130166564,48800000000,1.4200819672131146E-11,162173737373.7374,2844197767.9023576,2844.1977679023576,2.8441977679023576,null,null,null,null,null,null,null,null,12260]
[null,0.70628000000000002,0.75885999999999998,1.2754000000000001,1.0412262819507605,48800000000,1.4200819672131146E-11,162173737373.7374,2845357967.1932263,2845.3579671932262,2.8453579671932263,null,null,null,null,null,null,null,null,12193]
[null,0.70396999999999998,0.71687999999999996,0.31309999999999999,1.0412328329607154,48800000000,1.4200819672131146E-11,162173737373.7374,2845801092.5560145,2845.8010925560147,2.8458010925560147,null,null,null,null,null,null,null,null,11287]
[null,0.72138999999999998,0.82308999999999999,2.4668999999999999,1.0412258299890551,48800000000,1.4200819672131146E-11,162173737373.7374,2845327395.3623877,2845.3273953623875,2.8453273953623874,null,null,null,null,null,null,null,null,11024]
[null,0.70232000000000006,0.70728000000000002,0.1202,1.0412645590682192,48800000000,1.4200819672131146E-11,162173737373.7374,2847947079.9063387,2847.9470799063388,2.8479470799063389,null,null,null,null,null,null,null,null,10794]
[null,0.73202999999999996,0.93128,5.2362000000000002,1.0380524044154158,48800000000,1.4200819672131146E-11,162173737373.7374,2630341048.8582954,2630.3410488582954,2.6303410488582952,null,null,null,null,null,null,null,null,10724]
[null,0.70586000000000004,0.71555000000000002,0.2369,1.0409033347403966,48800000000,1.4200819672131146E-11,162173737373.7374,2823509618.8455744,2823.5096188455746,2.8235096188455744,null,null,null,null,null,null,null,null,10722]
[null,0.70401000000000002,0.71828000000000003,0.3493,1.0408531348411107,48800000000,1.4200819672131146E-11,162173737373.7374,2820112836.2215366,2820.1128362215368,2.8201128362215369,null,null,null,null,null,null,null,null,10673]
[null,0.70221,0.70840000000000003,0.15140000000000001,1.0408850726552181,48800000000,1.4200819672131146E-11,162173737373.7374,2822273931.4674258,2822.2739314674259,2.8222739314674259,null,null,null,null,null,null,null,null,10626]
[null,0.70042000000000004,0.74575999999999998,1.1096999999999999,1.04085788951969,48800000000,1.4200819672131146E-11,162173737373.7374,2820434569.1809034,2820.4345691809035,2.8204345691809034,null,null,null,null,null,null,null,null,10214]
[null,0.70245999999999997,0.71647000000000005,0.34279999999999999,1.0408693115519256,48800000000,1.4200819672131146E-11,162173737373.7374,2821207453.3234067,2821.2074533234068,2.8212074533234066,null,null,null,null,null,null,null,null,10093]
[null,0.70172999999999996,0.71558999999999995,0.33939999999999998,1.0408367707719504,48800000000,1.4200819672131146E-11,162173737373.7374,2819005523.9768586,2819.0055239768585,2.8190055239768586,null,null,null,null,null,null,null,null,10047]
[null,0.70272999999999997,0.70735999999999999,0.1132,1.0409010600706716,48800000000,1.4200819672131146E-11,162173737373.7374,2823355706.5701985,2823.3557065701984,2.8233557065701986,null,null,null,null,null,null,null,null,9947]
[null,0.70279999999999998,0.74487000000000003,1.0296000000000001,1.0408605283605283,48800000000,1.4200819672131146E-11,162173737373.7374,2820613129.9485106,2820.6131299485105,2.8206131299485104,null,null,null,null,null,null,null,null,9809]
[null,0.70299999999999996,0.71138000000000001,0.20499999999999999,1.0408780487804881,48800000000,1.4200819672131146E-11,162173737373.7374,2821798661.6016278,2821.7986616016278,2.821798661601628,null,null,null,null,null,null,null,null,9106]
[null,0.70321999999999996,0.71814999999999996,0.3654,1.0408593322386426,48800000000,1.4200819672131146E-11,162173737373.7374,2820532192.7843761,2820.5321927843761,2.8205321927843761,null,null,null,null,null,null,null,null,9001]
[null,0.70120000000000005,0.73114999999999997,0.73309999999999997,1.0408539080616559,48800000000,1.4200819672131146E-11,162173737373.7374,2820165157.5311437,2820.1651575311434,2.8201651575311435,null,null,null,null,null,null,null,null,8833]
[null,0.70137000000000005,0.72328999999999999,0.53639999999999999,1.0408650260999253,48800000000,1.4200819672131146E-11,162173737373.7374,2820917474.5813146,2820.9174745813148,2.8209174745813148,null,null,null,null,null,null,null,null,8723]
[null,0.70847000000000004,0.75151999999999997,1.0536000000000001,1.0408599088838268,48800000000,1.4200819672131146E-11,162173737373.7374,2820571212.2525182,2820.5712122525183,2.8205712122525184,null,null,null,null,null,null,null,null,8379]
[null,0.70150000000000001,0.71062000000000003,0.2233,1.0408419167039857,48800000000,1.4200819672131146E-11,162173737373.7374,2819353737.1385345,2819.3537371385346,2.8193537371385347,null,null,null,null,null,null,null,null,8177]
[null,0.70411000000000001,0.74577000000000004,1.0197000000000001,1.0408551534765127,48800000000,1.4200819672131146E-11,162173737373.7374,2820249430.6063142,2820.249430606314,2.8202494306063142,null,null,null,null,null,null,null,null,8098]
[null,0.70379000000000003,0.71384999999999998,0.24640000000000001,1.040827922077922,48800000000,1.4200819672131146E-11,162173737373.7374,2818406749.5628796,2818.4067495628797,2.8184067495628797,null,null,null,null,null,null,null,null,7926]
[null,0.70450000000000002,0.70728000000000002,6.7900000000000002E-2,1.0409425625920472,48800000000,1.4200819672131146E-11,162173737373.7374,2826163862.4382863,2826.1638624382863,2.8261638624382863,null,null,null,null,null,null,null,null,7583]
[null,0.70618999999999998,0.72082000000000002,0.35799999999999998,1.0408659217877096,48800000000,1.4200819672131146E-11,162173737373.7374,2820978082.1531482,2820.9780821531481,2.820978082153148,"Dating","Age","Age","Age","Age","Age",null,null,7575]
[null,0.70082,0.75614999999999999,1.3543000000000001,1.0408550542715793,48800000000,1.4200819672131146E-11,162173737373.7374,2820242717.7425971,2820.2427177425971,2.8202427177425973,"Summary","87Rb/86Sr","147Sm/144Nd","207Pb/206Pb","208Pb/232Th","206Pb/238U",null,null,7294]
[null,0.70357999999999998,0.75178,1.1795,1.0408647732089868,48800000000,1.4200819672131146E-11,162173737373.7374,2820900362.4643025,2820.9003624643024,2.8209003624643025,"Average",2863.3082802106655,2869.1494099980027,5123.208843168677,17899.188723309635,11906.473896651118,null,null,6685]
[null,null,null,null,null,null,null,null,"Average",{"$f":"AVERAGE(J2:J53)","v":2863.3082802106655},null,"Maximum",2951.8667427349878,2953.5223222259519,5293.6047915807949,38746.236470683572,18984.889019851358,null,null,6650]
[null,null,null,null,null,null,null,null,"Maximum",{"$f":"MAX(J2:J54)","v":2951.8667427349878},null,"Minimum",2630.3410488582954,2630.599139531143,4662.4211609460453,6650.0375002826968,7293.7126445770091,null,null,5294]
[null,null,null,null,null,null,null,null,"Minimum",{"$f":"MIN(J2:J55)","v":2630.3410488582954},null,"Std Deviation",37.522929623603368,38.641629809174567,151.71093166480006,9753.9545848268299,3297.9572806988208,null,null,5287]
[null,null,null,null,null,null,null,null,"Std Deviation",{"$f":"STDEV(J23:J53)","v":37.522929623664126},null,null,null,null,null,null,null,null,null,5286]
[null,null,null,null,null,null,null,null,null,null,null,null,null,null,null,null,null,null,null,5281]
[null,null,null,null,null,null,null,null,null,null,null,null,null,null,null,null,null,null,null,5275]
["Neodymium",null,null,null,null,null,null,null,null,null,"Rubidium_041.pdf",null,null,null,null,null,null,null,null,5250]
["Samarium","Initial","Today","Today","The Ratio","Half","Decay","2.303/Delta","Age","Age","Age","Model Age","Model Age","Model Age",null,null,null,null,null,5231]
["Dating","143Nd/144Nd","143Nd/144Nd","147Sm/144Nd","Plus One","Life","Constant","Constant","Years","Million Years","Billion Years","Million Years","% Difference"," Difference",null,null,null,null,null,5215]
[null,0.50897000000000003,0.51073400000000002,9.2600000000000002E-2,{"$f":"1+((C63-B63)/D63)","v":1.0190496760259178},106000000000,{"$f":"(0.693/F63)","v":6.5377358490566029E-12},{"$f":"(2.303/G63)","v":352262626262.62628},{"$f":"(LOG(E63))*(H63)","v":2886917363.8279052},{"$f":"(I63/1000000)","v":2886.9173638279053},{"$f":"(J63/1000)","v":2.8869173638279055},null,null,null,null,null,null,null,null,5206]
[null,0.50888599999999995,0.51064699999999996,9.0399999999999994E-2,{"$f":"1+((C64-B64)/D64)","v":1.0194800884955753},106000000000,6.5377358490566029E-12,{"$f":"(2.303/G64)","v":352262626262.62628},{"$f":"(LOG(E64))*(H64)","v":2951519766.4412808},{"$f":"(I64/1000000)","v":2951.5197664412808},{"$f":"(J64/1000)","v":2.9515197664412809},null,null,null,null,null,null,null,null,5205]
[null,0.50899700000000003,0.51094600000000001,0.10009999999999999,1.0194705294705293,106000000000,6.5377358490566029E-12,352262626262.62628,2950085308.6704531,2950.0853086704533,2.9500853086704533,null,null,null,null,null,null,null,null,5201]
[null,0.50867799999999996,0.51076200000000005,0.107,1.0194766355140195,106000000000,6.5377358490566029E-12,352262626262.62628,2951001602.5732899,2951.0016025732898,2.9510016025732897,null,null,null,null,null,null,null,null,5190]
[null,0.50886100000000001,0.51119499999999995,0.1198,1.0194824707846406,106000000000,6.5377358490566029E-12,352262626262.62628,2951877258.2390437,2951.8772582390438,2.951877258239044,null,null,null,null,null,null,null,null,5177]
[null,0.50889899999999999,0.51097700000000001,0.1066,1.0194934333958727,106000000000,6.5377358490566029E-12,352262626262.62628,2953522322.2259521,2953.5223222259519,2.9535223222259521,null,null,null,null,null,null,null,null,5169]
[null,0.50890500000000005,0.51275099999999996,0.19739999999999999,1.0194832826747715,106000000000,6.5377358490566029E-12,352262626262.62628,2951999092.155849,2951.9990921558488,2.9519990921558485,null,null,null,null,null,null,null,null,5165]
[null,0.50887099999999996,0.51085499999999995,0.1019,1.0194700686947986,106000000000,6.5377358490566029E-12,352262626262.62628,2950016162.8556423,2950.0161628556425,2.9500161628556425,null,null,null,null,null,null,null,null,5154]
[null,0.50890500000000005,0.51058999999999999,8.6499999999999994E-2,1.0194797687861263,106000000000,6.5377358490566029E-12,352262626262.62628,2951471790.0396028,2951.4717900396026,2.9514717900396028,null,null,null,null,null,null,null,null,5145]
[null,0.50875300000000001,0.51106099999999999,0.11849999999999999,1.019476793248945,106000000000,6.5377358490566029E-12,352262626262.62628,2951025272.7464199,2951.0252727464199,2.9510252727464197,null,null,null,null,null,null,null,null,5112]
[null,0.50875599999999999,0.51114599999999999,0.1227,1.0194784026079871,106000000000,6.5377358490566029E-12,352262626262.62628,2951266777.752377,2951.266777752377,2.9512667777523771,null,null,null,null,null,null,null,null,5106]
[null,0.50892800000000005,0.51075099999999996,9.3600000000000003E-2,1.0194764957264948,106000000000,6.5377358490566029E-12,352262626262.62628,2950980625.637578,2950.9806256375782,2.9509806256375781,null,null,null,null,null,null,null,null,5079]
[null,0.508301,0.51075899999999996,0.12620000000000001,1.0194770206022183,106000000000,6.5377358490566029E-12,352262626262.62628,2951059390.0498986,2951.0593900498984,2.9510593900498985,null,null,null,null,null,null,null,null,5046]
[null,0.50862200000000002,0.51062799999999997,0.10299999999999999,1.0194757281553393,106000000000,6.5377358490566029E-12,352262626262.62628,2950865441.5538249,2950.8654415538249,2.9508654415538249,null,null,null,null,null,null,null,null,5034]
[null,0.50877399999999995,0.51088199999999995,0.1082,1.0194824399260629,106000000000,6.5377358490566029E-12,352262626262.62628,2951872627.5349636,2951.8726275349636,2.9518726275349638,null,null,null,null,null,null,null,null,5028]
[null,0.50883199999999995,0.51030399999999998,7.5600000000000001E-2,1.0194708994708999,106000000000,6.5377358490566029E-12,352262626262.62628,2950140832.3557839,2950.1408323557839,2.9501408323557841,null,null,null,null,null,null,null,null,4972]
[null,0.50888500000000003,0.51049699999999998,8.5800000000000001E-2,1.0187878787878781,106000000000,6.5377358490566029E-12,352262626262.62628,2847609777.4983211,2847.6097774983209,2.8476097774983211,null,null,null,null,null,null,null,null,4947]
[null,0.50889200000000001,0.51038799999999995,7.9699999999999993E-2,1.018770388958594,106000000000,6.5377358490566029E-12,352262626262.62628,2844983404.4746814,2844.9834044746813,2.8449834044746813,null,null,null,null,null,null,null,null,4882]
[null,0.50892099999999996,0.51057300000000005,8.7999999999999995E-2,1.0187727272727285,106000000000,6.5377358490566029E-12,352262626262.62628,2845334541.7403154,2845.3345417403152,2.8453345417403151,null,null,null,null,null,null,null,null,4853]
[null,0.50893299999999997,0.51105199999999995,0.1128,1.0187854609929077,106000000000,6.5377358490566029E-12,352262626262.62628,2847246710.2314973,2847.2467102314972,2.8472467102314973]
[null,0.50881699999999996,0.51028899999999999,7.8399999999999997E-2,1.0187755102040821,106000000000,6.5377358490566029E-12,352262626262.62628,2845752444.7223835,2845.7524447223836,2.8457524447223834]
[null,0.50886699999999996,0.51041300000000001,8.2299999999999998E-2,1.018784933171325,106000000000,6.5377358490566029E-12,352262626262.62628,2847167449.9886861,2847.1674499886863,2.8471674499886861]
[null,0.50895800000000002,0.51205199999999995,0.16470000000000001,1.0187856709168179,106000000000,6.5377358490566029E-12,352262626262.62628,2847278233.4102011,2847.2782334102012,2.8472782334102011]
[null,0.50884499999999999,0.51023700000000005,7.4099999999999999E-2,1.0187854251012154,106000000000,6.5377358490566029E-12,352262626262.62628,2847241320.5626163,2847.2413205626162,2.8472413205626164]
[null,0.50891399999999998,0.51068400000000003,9.4299999999999995E-2,1.0187698833510079,106000000000,6.5377358490566029E-12,352262626262.62628,2844907478.8706679,2844.907478870668,2.8449074788706681]
[null,0.50889799999999996,0.51071999999999995,9.7100000000000006E-2,1.0187641606591142,106000000000,6.5377358490566029E-12,352262626262.62628,2844048116.4346666,2844.0481164346666,2.8440481164346667]
[null,0.50892400000000004,0.510467,8.2199999999999995E-2,1.0187712895377123,106000000000,6.5377358490566029E-12,352262626262.62628,2845118641.6986213,2845.1186416986211,2.8451186416986212]
[null,0.50885999999999998,0.51075499999999996,0.1009,1.0187809712586717,106000000000,6.5377358490566029E-12,352262626262.62628,2846572508.7033138,2846.5725087033138,2.8465725087033138]
[null,0.50891299999999995,0.51043700000000003,8.1199999999999994E-2,1.018768472906405,106000000000,6.5377358490566029E-12,352262626262.62628,2844695676.3541174,2844.6956763541175,2.8446956763541174]
[null,0.50898600000000005,0.51109499999999997,0.1216,1.0173437499999993,106000000000,6.5377358490566029E-12,352262626262.62628,2630599139.5311432,2630.599139531143,2.6305991395311432]
[null,0.508857,0.51091299999999995,0.1105,1.0186063348416285,106000000000,6.5377358490566029E-12,352262626262.62628,2820345902.6269264,2820.3459026269265,2.8203459026269266]
[null,0.50916300000000003,0.51144599999999996,0.1226,1.0186215334420874,106000000000,6.5377358490566029E-12,352262626262.62628,2822628581.7428865,2822.6285817428866,2.8226285817428867]
[null,0.50880800000000004,0.51037100000000002,8.4000000000000005E-2,1.0186071428571426,106000000000,6.5377358490566029E-12,352262626262.62628,2820467259.4040275,2820.4672594040276,2.8204672594040274]
[null,0.50887199999999999,0.51046999999999998,8.5900000000000004E-2,1.0186030267753201,106000000000,6.5377358490566029E-12,352262626262.62628,2819849059.3488355,2819.8490593488355,2.8198490593488357]
[null,0.50902499999999995,0.510571,8.3099999999999993E-2,1.0186040914560777,106000000000,6.5377358490566029E-12,352262626262.62628,2820008965.4725037,2820.0089654725039,2.8200089654725038]
[null,0.50896399999999997,0.51057300000000005,8.6400000000000005E-2,1.0186226851851861,106000000000,6.5377358490566029E-12,352262626262.62628,2822801560.750083,2822.8015607500829,2.8228015607500829]
[null,0.50903399999999999,0.51041099999999995,7.3999999999999996E-2,1.0186081081081075,106000000000,6.5377358490566029E-12,352262626262.62628,2820612231.4277048,2820.612231427705,2.8206122314277051]
[null,0.509015,0.51055600000000001,8.2799999999999999E-2,1.0186111111111114,106000000000,6.5377358490566029E-12,352262626262.62628,2821063254.6230998,2821.0632546231,2.8210632546231]
[null,0.50902899999999995,0.51054100000000002,8.0600000000000005E-2,1.018759305210919,106000000000,6.5377358490566029E-12,352262626262.62628,2843318982.0466585,2843.3189820466587,2.8433189820466587]
[null,0.50897800000000004,0.51071200000000005,9.2499999999999999E-2,1.018745945945946,106000000000,6.5377358490566029E-12,352262626262.62628,2841312826.0384636,2841.3128260384638,2.8413128260384637]
[null,0.50889600000000002,0.51090199999999997,0.107,1.0187476635514015,106000000000,6.5377358490566029E-12,352262626262.62628,2841570759.70467,2841.5707597046699,2.8415707597046698]
[null,0.508907,0.51114000000000004,0.1191,1.0187489504617973,106000000000,6.5377358490566029E-12,352262626262.62628,2841764015.3944106,2841.7640153944108,2.8417640153944106]
[null,0.508884,0.51074900000000001,9.9500000000000005E-2,1.0187437185929649,106000000000,6.5377358490566029E-12,352262626262.62628,2840978342.6849608,2840.9783426849608,2.8409783426849606]
[null,0.50895199999999996,0.51180599999999998,0.15229999999999999,1.0187393302692056,106000000000,6.5377358490566029E-12,352262626262.62628,2840319342.5059767,2840.3193425059767,2.8403193425059765]
[null,0.50877899999999998,0.51084700000000005,0.1103,1.0187488667271085,106000000000,6.5377358490566029E-12,352262626262.62628,2841751440.9404902,2841.7514409404903,2.8417514409404903]
[null,0.50897199999999998,0.51111799999999996,0.1145,1.0187423580786024,106000000000,6.5377358490566029E-12,352262626262.62628,2840774032.8105712,2840.774032810571,2.8407740328105708]
[null,0.50898500000000002,0.51042900000000002,7.6799999999999993E-2,1.0188020833333333,106000000000,6.5377358490566029E-12,352262626262.62628,2849742780.2906709,2849.7427802906709,2.8497427802906707]
[null,0.50891399999999998,0.51053599999999999,8.6499999999999994E-2,1.0187514450867055,106000000000,6.5377358490566029E-12,352262626262.62628,2842138633.210917,2842.1386332109169,2.8421386332109169]
[null,0.50900999999999996,0.51181699999999997,0.14979999999999999,1.0187383177570093,106000000000,6.5377358490566029E-12,352262626262.62628,2840167291.8543167,2840.1672918543168,2.8401672918543168]
[null,0.50892800000000005,0.51181900000000002,0.1542,1.0187483787289233,106000000000,6.5377358490566029E-12,352262626262.62628,2841678158.1408858,2841.6781581408859,2.8416781581408861]
[null,null,null,null,null,null,null,null,"Average",{"$f":"AVERAGE(J61:J112)","v":2869.1494099980027}]
[null,null,null,null,null,null,null,null,"Maximum",{"$f":"MAX(J61:J113)","v":2953.5223222259519}]
[null,null,null,null,null,null,null,null,"Minimum",{"$f":"MIN(J61:J114)","v":2630.599139531143}]
[null,null,null,null,null,null,null,null,"Std Deviation",{"$f":"STDEV(J82:J112)","v":38.641629809178852}]
[]
[]
[]
[null,null,null,null,null,null,null,"Age",null,"Age",null,"Age"]
[null,"206Pb/204Pb","207Pb/204Pb","208Pb/204Pb","238U/204Pb","232Th/204Pb","207Pb/206Pb","207Pb/206Pb","208Pb/232Th","208Pb/232Th","206Pb/238U","206Pb/238U"]
["95LH1",15.239000000000001,15.175000000000001,37.173000000000002,1.4,13.8,{"$f":"(C122/B122)","v":0.99580024936019429},{"$f":"[1]!AgePb76(G122)","v":5231.457942072062},{"$f":"(D122/F122)","v":2.693695652173913},{"$f":"[1]!AgePb8Th2(I122)","v":26409.853231097972},{"$f":"(B122/E122)","v":10.885000000000002},{"$f":"[1]!AgePb6U8(K122)","v":15956.661407330588}]
["95LH2",16.132999999999999,15.366,50.372999999999998,4.3,128.5,{"$f":"(C123/B123)","v":0.95245769540692993},{"$f":"[1]!AgePb76(G123)","v":5168.8316470837499},{"$f":"(D123/F123)","v":0.39200778210116732},{"$f":"[1]!AgePb8Th2(I123)","v":6685.1369881055016},{"$f":"(B123/E123)","v":3.751860465116279},{"$f":"[1]!AgePb6U8(K123)","v":10046.969980517482}]
["95LH3",16.184999999999999,15.377000000000001,41.289000000000001,4.4000000000000004,58.5,0.95007723200494298,{"$f":"[1]!AgePb76(G124)","v":5165.3051917475714},0.70579487179487177,{"$f":"[1]!AgePb8Th2(I124)","v":10793.960637978909},3.6784090909090903,{"$f":"[1]!AgePb6U8(K124)","v":9946.5470704119434}]
["95LH4",14.544,15.066000000000001,35.177,0.9,7.3,1.0358910891089108,{"$f":"[1]!AgePb76(G125)","v":5286.8717676338283},4.818767123287671,{"$f":"[1]!AgePb8Th2(I125)","v":35595.521067541136},16.16,{"$f":"[1]!AgePb6U8(K125)","v":18324.455078548373}]
["95PRP1",19.687000000000001,16.032,37.381,5.2,14,0.81434449128866759,{"$f":"[1]!AgePb76(G126)","v":4947.0335787139293},2.6700714285714287,{"$f":"[1]!AgePb8Th2(I126)","v":26280.164218354377},3.7859615384615384,{"$f":"[1]!AgePb6U8(K126)","v":10093.066579818131}]
["96LH1",20.956,16.302,43.527000000000001,8.1999999999999993,48.3,0.77791563275434239,{"$f":"[1]!AgePb76(G127)","v":4881.8306842672637},0.90118012422360261,{"$f":"[1]!AgePb8Th2(I127)","v":12985.847627506022},2.555609756097561,{"$f":"[1]!AgePb6U8(K127)","v":8177.4476663965143}]
["96LH3",16.463999999999999,15.414,43.176000000000002,5.3,80,0.93622448979591844,{"$f":"[1]!AgePb76(G128)","v":5144.5961175598832},0.53970000000000007,{"$f":"[1]!AgePb8Th2(I128)","v":8723.3469884534825},3.1064150943396225,{"$f":"[1]!AgePb6U8(K128)","v":9105.8849835010642}]
["96PRP1",18.22,15.775,37.173000000000002,4.7,15.9,0.86580680570801327,{"$f":"[1]!AgePb76(G129)","v":5034.0426524950553},2.3379245283018868,{"$f":"[1]!AgePb8Th2(I129)","v":24362.793635743317},3.8765957446808508,{"$f":"[1]!AgePb6U8(K129)","v":10214.004081421601}]
["9 7B-NE1",15.798999999999999,15.393000000000001,36.872999999999998,2.6,17.2,0.9743021710234826,{"$f":"[1]!AgePb76(G130)","v":5200.7634498314928},2.1437790697674419,{"$f":"[1]!AgePb8Th2(I130)","v":23151.603874030818},6.076538461538461,{"$f":"[1]!AgePb6U8(K130)","v":12614.245739142756}]
["97B39E2",18.087,15.797000000000001,40.256,3.8,24.9,0.87338972742853993,{"$f":"[1]!AgePb76(G131)","v":5046.3974381921962},1.6167068273092371,{"$f":"[1]!AgePb8Th2(I131)","v":19442.477837790735},4.759736842105263,{"$f":"[1]!AgePb6U8(K131)","v":11286.973644026482}]
["9 7B'\\E3",18.603000000000002,16.033000000000001,42.433,2.9,22.2,0.86185023920872972,{"$f":"[1]!AgePb76(G132)","v":5027.5505761071818},1.9113963963963965,{"$f":"[1]!AgePb8Th2(I132)","v":21599.45078102855},6.4148275862068971,{"$f":"[1]!AgePb6U8(K132)","v":12915.272994622554}]
["97BYE5",15.641,15.397,35.962000000000003,1.2,6.2,0.98439997442618765,{"$f":"[1]!AgePb76(G133)","v":5215.2691394342764},5.8003225806451617,{"$f":"[1]!AgePb8Th2(I133)","v":38746.236470683572},13.034166666666668,{"$f":"[1]!AgePb6U8(K133)","v":17028.169751361565}]
["97BYE6",17.663,15.781000000000001,44.585000000000001,3.1,36.5,0.89344958387589879,{"$f":"[1]!AgePb76(G134)","v":5078.5397800990131},1.2215068493150685,{"$f":"[1]!AgePb8Th2(I134)","v":16133.112209861383},5.6977419354838705,{"$f":"[1]!AgePb6U8(K134)","v":12259.599968004743}]
["97BNE7",15.718,15.374000000000001,45.762999999999998,2.5,65.400000000000006,0.97811426390125977,{"$f":"[1]!AgePb76(G135)","v":5206.2581975533421},0.69974006116207943,{"$f":"[1]!AgePb8Th2(I135)","v":10722.088613889882},6.2872000000000003,{"$f":"[1]!AgePb6U8(K135)","v":12803.34816727454}]
["96BH1",17.079999999999998,15.555999999999999,46.027000000000001,6.4,101.1,0.91077283372365347,{"$f":"[1]!AgePb76(G136)","v":5105.687302608866},0.45526211671612271,{"$f":"[1]!AgePb8Th2(I136)","v":7583.34579776396},2.6687499999999997,{"$f":"[1]!AgePb6U8(K136)","v":8379.3779506479914}]
["96BH2",26.125,17.440000000000001,61.03,10.4,97.7,0.66755980861244024,{"$f":"[1]!AgePb76(G137)","v":4662.4211609460453},0.62466734902763565,{"$f":"[1]!AgePb8Th2(I137)","v":9809.0568273959179},2.5120192307692308,{"$f":"[1]!AgePb6U8(K137)","v":8097.9284544041011}]
["96BH3",15.853,15.323,36.442999999999998,3.5,20,0.96656784204882362,{"$f":"[1]!AgePb76(G138)","v":5189.544976170323},1.8221499999999999,{"$f":"[1]!AgePb8Th2(I138)","v":20970.166868310185},4.5294285714285714,{"$f":"[1]!AgePb6U8(K138)","v":11023.912829800784}]
["96BH4",19.321000000000002,16.007999999999999,42.365000000000002,9.1999999999999993,60.9,0.82852854407121779,{"$f":"[1]!AgePb76(G139)","v":4971.5859273432643},0.69564860426929398,{"$f":"[1]!AgePb8Th2(I139)","v":10673.376958539906},2.1001086956521742,{"$f":"[1]!AgePb6U8(K139)","v":7293.7126445770091}]
["96BH5",16.346,15.406000000000001,41.915999999999997,2.5,34.1,0.94249357641013098,{"$f":"[1]!AgePb76(G140)","v":5154.0079637345552},1.2292082111436948,{"$f":"[1]!AgePb8Th2(I140)","v":16203.061347247989},6.5384000000000002,{"$f":"[1]!AgePb6U8(K140)","v":13021.820840679515}]
["96BH6",15.048999999999999,15.183999999999999,41.744999999999997,555,null,1.0089706957272908,{"$f":"[1]!AgePb76(G141)","v":5249.9182925491004},0,null,0]
["96BH7",17.03,15.577,35.497999999999998,5.8,13.9,0.91467997651203747,{"$f":"[1]!AgePb76(G142)","v":5111.7345939151464},2.5538129496402875,{"$f":"[1]!AgePb8Th2(I142)","v":25629.532034516375},2.9362068965517243,{"$f":"[1]!AgePb6U8(K142)","v":8832.989801703985}]
["96BH8",14.647,15.045999999999999,41.677999999999997,2.2999999999999998,86.8,1.0272410732573223,{"$f":"[1]!AgePb76(G143)","v":5275.1096459432083},0.48016129032258065,{"$f":"[1]!AgePb8Th2(I143)","v":7926.2468274043504},6.3682608695652183,{"$f":"[1]!AgePb6U8(K143)","v":12874.660461409385}]
["96BH9",14.409000000000001,14.997999999999999,36.173999999999999,0.8,13.5,1.0408772295093343,{"$f":"[1]!AgePb76(G144)","v":5293.6047915807949},2.6795555555555555,{"$f":"[1]!AgePb8Th2(I144)","v":26332.328892174632},18.01125,{"$f":"[1]!AgePb6U8(K144)","v":18984.889019851358}]
["9 7BH2",14.573,15.028,42.414000000000001,1.7,75.599999999999994,1.031222123104371,{"$f":"[1]!AgePb76(G145)","v":5280.5359403051007},0.5610317460317461,{"$f":"[1]!AgePb8Th2(I145)","v":9001.4548420479678},8.5723529411764705,{"$f":"[1]!AgePb6U8(K145)","v":14561.669889549117}]
[9713113,15.952999999999999,15.287000000000001,52.594999999999999,3.8,135,0.9582523663260829,{"$f":"[1]!AgePb76(G146)","v":5177.3771161778195},0.3895925925925926,{"$f":"[1]!AgePb8Th2(I146)","v":6650.0375002826968},4.1981578947368421,{"$f":"[1]!AgePb6U8(K146)","v":10625.65229210974}]
["97BH5",21.710999999999999,16.553000000000001,46.540999999999997,9.6999999999999993,66.5,0.76242457740315983,{"$f":"[1]!AgePb76(G147)","v":4853.1119704842276},0.6998646616541353,{"$f":"[1]!AgePb8Th2(I147)","v":10723.570229436644},2.2382474226804123,{"$f":"[1]!AgePb6U8(K147)","v":7574.7446544981112}]
[9713116,14.513,15.02,41.073,1.2,49.6,1.034934196926893,{"$f":"[1]!AgePb76(G148)","v":5285.5757168947393},0.82808467741935488,{"$f":"[1]!AgePb8Th2(I148)","v":12193.406657879317},12.094166666666666,{"$f":"[1]!AgePb6U8(K148)","v":16581.2527859084}]
["9-B\\E4",15.849,15.487,34.889000000000003,2.5,6.3,0.97715944223610318,{"$f":"[1]!AgePb76(G149)","v":5204.8840472789643},5.5379365079365082,{"$f":"[1]!AgePb8Th2(I149)","v":37950.916564294661},6.3395999999999999,{"$f":"[1]!AgePb6U8(K149)","v":12849.536472062282}]
[null,null,null,null,null,null,"Average",{"$f":"AVERAGE(H122:H149)","v":5123.208843168677},null,{"$f":"AVERAGE(J122:J149)","v":17899.188723309635},null,{"$f":"AVERAGE(L122:L149)","v":11906.473896651118}]
[null,null,null,null,null,null,"Maximum",{"$f":"MAX(H122:H150)","v":5293.6047915807949},null,{"$f":"MAX(J122:J150)","v":38746.236470683572},null,{"$f":"MAX(L122:L150)","v":18984.889019851358}]
[null,null,null,null,null,null,"Minimum",{"$f":"MIN(H122:H151)","v":4662.4211609460453},null,{"$f":"MIN(J122:J151)","v":6650.0375002826968},null,{"$f":"MIN(L122:L151)","v":7293.7126445770091}]
[null,null,null,null,null,null,"Std Deviation",{"$f":"STDEV(H120:H149)","v":151.71093166472397},null,{"$f":"STDEV(J120:J149)","v":9753.9545848268299},null,{"$f":"STDEV(L120:L149)","v":3297.9572806988208}]

{"sheet":"Nd_Sm_02","index":2,"n_rows":52,"n_cols":14,"rows_kept":52,"cut":false,"hidden":false,"merged":[]}
["Rubidium","TABLE 1.",null,null,null,null,null,null,null,null,"Rubidium_010.pdf"]
["Strontium","Initial","Today","Today","The Ratio","Half","Decay","2.303/Delta","Age","Age","Age","Model Age","Model Age","Model Age"]
["Dating","87Sr/86Sr","87Sr/86Sr","87Rb/86Sr","Plus One","Life","Constant","Constant","Years","Million Years","Billion Years","Million Years","% Difference"," Difference"]
["TABLE 1",0.70496000000000003,0.70498000000000005,1.52E-2,{"$f":"1+((C4-B4)/D4)","v":1.0013157894736855},48800000000,{"$f":"(0.693/F4)","v":1.4200819672131146E-11},{"$f":"(2.303/G4)","v":162173737373.7374},{"$f":"(LOG(E4))*(H4)","v":92611662.589378268},{"$f":"(I4/1000000)","v":92.61166258937827},{"$f":"(J4/1000)","v":9.2611662589378266E-2},65]
[null,0.70486000000000004,0.70499999999999996,0.14430000000000001,1.0009702009702004,48800000000,1.4200819672131146E-11,162173737373.7374,68299252.392084062,68.299252392084057,6.8299252392084051E-2]
[null,0.70472000000000001,0.70486000000000004,0.14510000000000001,1.0009648518263268,48800000000,1.4200819672131146E-11,162173737373.7374,67922870.147820458,67.922870147820461,6.7922870147820461E-2]
[null,0.70504999999999995,0.70511999999999997,7.4200000000000002E-2,1.0009433962264154,48800000000,1.4200819672131146E-11,162173737373.7374,66413167.816842675,66.413167816842673,6.6413167816842672E-2]
[null,0.70506999999999997,0.70511000000000001,4.2200000000000001E-2,1.0009478672985792,48800000000,1.4200819672131146E-11,162173737373.7374,66727773.111677803,66.727773111677806,6.672777311167781E-2]
[null,0.70460999999999996,0.70498000000000005,0.37640000000000001,1.0009829968119024,48800000000,1.4200819672131146E-11,162173737373.7374,69199599.079184532,69.199599079184537,6.9199599079184534E-2]
[null,0.70415000000000005,0.70423000000000002,7.7899999999999997E-2,1.0010269576379971,48800000000,1.4200819672131146E-11,162173737373.7374,72292702.524648368,72.292702524648362,7.2292702524648367E-2]
[null,0.70426,0.70443999999999996,0.18579999999999999,1.0009687836383205,48800000000,1.4200819672131146E-11,162173737373.7374,68199524.749923617,68.199524749923611,6.8199524749923607E-2]
[null,0.70413999999999999,0.70416999999999996,3.4099999999999998E-2,1.0008797653958936,48800000000,1.4200819672131146E-11,162173737373.7374,61935656.271187104,61.935656271187106,6.1935656271187106E-2]
[null,0.70391000000000004,0.70391000000000004,1.1000000000000001E-3,1,48800000000,1.4200819672131146E-11,162173737373.7374,0,0,0]
[null,0.70437000000000005,0.70455000000000001,0.17760000000000001,1.0010135135135132,48800000000,1.4200819672131146E-11,162173737373.7374,71346782.313569143,71.34678231356915,7.1346782313569154E-2]
[null,null,null,null,null,null,null,null,"Average",{"$f":"AVERAGE(J4:J14)","v":64.086271908756004},{"$f":"AVERAGE(K4:K14)","v":6.4086271908756015E-2}]
[null,null,null,null,null,null,null,null,"Maximum",{"$f":"MAX(J4:J15)","v":92.61166258937827},{"$f":"MAX(K4:K15)","v":9.2611662589378266E-2}]
["TABLE 2","Pb206/Pb204","Pb207/Pb204","Pb207/Pb206","Age",null,null,null,"Minimum",{"$f":"MIN(J4:J16)","v":0},{"$f":"MIN(K4:K16)","v":0}]
[null,17.648,15.472,{"$f":"(C18/B18)","v":0.87669990933816866},{"$f":"[1]!AgePb76($D$18)","v":5051.7550394830369},null,null,null,"Difference",{"$f":"(J16+ABS(J17))","v":92.61166258937827},{"$f":"(K16+ABS(K17))","v":9.2611662589378266E-2}]
[null,17.640999999999998,15.477,{"$f":"(C19/B19)","v":0.87733121705118766},{"$f":"[1]!AgePb76($D$19)","v":5052.7743872866977}]
[null,17.649999999999999,15.483000000000001,0.87722379603399447,{"$f":"[1]!AgePb76($D$20)","v":5052.6009937416256}]
[null,17.535,15.471,0.88229255774165949,{"$f":"[1]!AgePb76($D$21)","v":5060.7582810861395}]
[null,18.029,15.491,0.85922680126462925,{"$f":"[1]!AgePb76($D$22)","v":5023.2284763848565}]
[null,18.18,15.507999999999999,0.85302530253025299,{"$f":"[1]!AgePb76($D$23)","v":5012.955581745352}]
[null,18.07,15.494,0.85744327614831206,{"$f":"[1]!AgePb76($D$24)","v":5020.2821205657428}]
[null,18.315000000000001,15.523999999999999,0.84761124761124751,{"$f":"[1]!AgePb76($D$25)","v":5003.9220483242707}]
[null,18.16,15.507,0.85390969162995589,{"$f":"[1]!AgePb76($D$26)","v":5014.425427614342},null,"Summary","Pb207/Pb206","147Sm/144Nd","87Rb/86Sr"]
[null,null,null,"Average",{"$f":"AVERAGE(E16:E26)","v":5032.5224840257843},null,"Average",5032.5224840257843,70.07868764135722,64.086271908756004]
[null,null,null,"Maximum",{"$f":"MAX(E16:E27)","v":5060.7582810861395},null,"Maximum",5060.7582810861395,70.489244986065998,92.61166258937827]
[null,null,null,"Minimum",{"$f":"MIN(E16:E28)","v":5003.9220483242707},null,"Minimum",5003.9220483242707,69.468731524803246,0]
[null,null,null,"Difference",{"$f":"(E28-ABS(E29))","v":56.836232761868814},null,"Difference",56.836232761868814,139.95797651086923,92.61166258937827]
[]
[]
[]
[]
[]
["Neodymium",null,null,null,null,null,null,null,null,null,"Rubidium_010.pdf"]
["Samarium","Initial","Today","Today","The Ratio","Half","Decay","2.303/Delta","Age","Age","Age","Model Age","Model Age","Model Age"]
["Dating","143Nd/144Nd","143Nd/144Nd","147Sm/144Nd","Plus One","Life","Constant","Constant","Years","Million Years","Billion Years","Million Years","% Difference"," Difference"]
[null,0.51239800000000002,0.51246100000000006,0.13669999999999999,{"$f":"1+((C39-B39)/D39)","v":1.0004608632040968},106000000000,{"$f":"(0.693/F39)","v":6.5377358490566029E-12},{"$f":"(2.303/G39)","v":352262626262.62628},{"$f":"(LOG(E39))*(H39)","v":70489244.986065999},{"$f":"(I39/1000000)","v":70.489244986065998},{"$f":"(J39/1000)","v":7.0489244986065999E-2}]
[null,0.51240300000000005,0.51246599999999998,0.13689999999999999,{"$f":"1+((C40-B40)/D40)","v":1.0004601899196488},106000000000,6.5377358490566029E-12,{"$f":"(2.303/G40)","v":352262626262.62628},{"$f":"(LOG(E40))*(H40)","v":70386289.497289076},{"$f":"(I40/1000000)","v":70.38628949728907},{"$f":"(J40/1000)","v":7.0386289497289076E-2}]
[null,0.51239400000000002,0.51245600000000002,0.1356,1.0004572271386432,106000000000,6.5377358490566029E-12,352262626262.62628,69933234.147796318,69.933234147796313,6.9933234147796314E-2]
[null,0.51231700000000002,0.51237600000000005,0.1283,1.0004598597038195,106000000000,6.5377358490566029E-12,352262626262.62628,70335794.421596825,70.33579442159683,7.0335794421596834E-2]
[null,0.51232100000000003,0.51237900000000003,0.12770000000000001,1.0004541895066563,106000000000,6.5377358490566029E-12,352262626262.62628,69468731.524803251,69.468731524803246,6.9468731524803248E-2]
[null,0.51249900000000004,0.51255499999999998,0.1217,1.0004601479046833,106000000000,6.5377358490566029E-12,352262626262.62628,70379864.764222562,70.37986476422256,7.0379864764222561E-2]
[null,0.51262399999999997,0.51269900000000002,0.16370000000000001,1.0004581551618819,106000000000,6.5377358490566029E-12,352262626262.62628,70075143.49563621,70.075143495636212,7.0075143495636205E-2]
[null,0.51261699999999999,0.51268199999999997,0.14199999999999999,1.0004577464788731,106000000000,6.5377358490566029E-12,352262626262.62628,70012649.452625126,70.012649452625126,7.0012649452625128E-2]
[null,0.51261199999999996,0.51269399999999998,0.18,1.0004555555555557,106000000000,6.5377358490566029E-12,352262626262.62628,69677622.473319203,69.677622473319204,6.9677622473319198E-2]
[null,0.51250300000000004,0.51256599999999997,0.1376,1.0004578488372087,106000000000,6.5377358490566029E-12,352262626262.62628,70028301.650217563,70.028301650217557,7.0028301650217561E-2]
[null,null,null,null,null,null,null,null,"Average",{"$f":"AVERAGE(J38:J48)","v":70.07868764135722}]
[null,null,null,null,null,null,null,null,"Maximum",{"$f":"MAX(J38:J49)","v":70.489244986065998}]
[null,null,null,null,null,null,null,null,"Minimum",{"$f":"MIN(J38:J50)","v":69.468731524803246}]
[null,null,null,null,null,null,null,null,"Difference",{"$f":"(J50+ABS(J51))","v":139.95797651086923}]

{"sheet":"Nd_Sm_03","index":3,"n_rows":71,"n_cols":14,"rows_kept":71,"cut":false,"hidden":false,"merged":[]}
["Rubidium","TABLE 1.",null,null,null,null,null,null,null,null,"Rubidium_011.pdf"]
["Strontium","Initial","Today","Today","The Ratio","Half","Decay","2.303/Delta","Age","Age","Age","Model Age","Model Age","Model Age"]
["Dating","87Sr/86Sr","87Sr/86Sr","87Rb/86Sr","Plus One","Life","Constant","Constant","Years","Million Years","Billion Years","Million Years","% Difference"," Difference"]
["TABLE 1",0.70409999999999995,0.70428999999999997,0.1152,{"$f":"1+((C4-B4)/D4)","v":1.0016493055555558},48800000000,{"$f":"(0.693/F4)","v":1.4200819672131146E-11},{"$f":"(2.303/G4)","v":162173737373.7374},{"$f":"(LOG(E4))*(H4)","v":116066813.70546779},{"$f":"(I4/1000000)","v":116.06681370546779},{"$f":"(J4/1000)","v":0.1160668137054678},71]
[null,0.70409999999999995,0.70420000000000005,8.3000000000000004E-2,1.0012048192771097,48800000000,1.4200819672131146E-11,162173737373.7374,84805740.831573814,84.805740831573814,8.4805740831573814E-2]
[null,0.70989999999999998,0.71099999999999997,1.1359999999999999,1.0009683098591549,48800000000,1.4200819672131146E-11,162173737373.7374,68166188.222041667,68.166188222041669,6.8166188222041665E-2]
[null,0.70450000000000002,0.70620000000000005,1.5229999999999999,1.0011162179908077,48800000000,1.4200819672131146E-11,162173737373.7374,78572683.101763368,78.572683101763374,7.857268310176338E-2]
[null,0.70450000000000002,0.70467000000000002,0.1104,1.0015398550724639,48800000000,1.4200819672131146E-11,162173737373.7374,108370361.90358195,108.37036190358195,0.10837036190358196]
[null,0.70440000000000003,0.70450000000000002,8.3000000000000004E-2,1.0012048192771084,48800000000,1.4200819672131146E-11,162173737373.7374,84805740.831480101,84.805740831480094,8.4805740831480098E-2]
[null,0.70440000000000003,0.70445999999999998,8.3000000000000004E-2,1.0007228915662645,48800000000,1.4200819672131146E-11,162173737373.7374,50895697.205263101,50.895697205263097,5.0895697205263095E-2]
[null,0.70409999999999995,0.70416000000000001,5.4600000000000003E-2,1.0010989010989022,48800000000,1.4200819672131146E-11,162173737373.7374,77354383.669365719,77.354383669365717,7.7354383669365714E-2]
[null,0.70899999999999996,0.71016999999999997,1.113,1.0010512129380054,48800000000,1.4200819672131146E-11,162173737373.7374,73999258.165436625,73.999258165436629,7.3999258165436635E-2]
[null,0.70399999999999996,0.70404,2.1899999999999999E-2,1.0018264840182667,48800000000,1.4200819672131146E-11,162173737373.7374,128524048.89694886,128.52404889694887,0.12852404889694888]
[null,0.70430000000000004,0.70455000000000001,0.26100000000000001,1.0009578544061302,48800000000,1.4200819672131146E-11,162173737373.7374,67430507.066387326,67.430507066387321,6.7430507066387327E-2]
[null,0.70779999999999998,0.70828000000000002,0.42849999999999999,1.001120186697783,48800000000,1.4200819672131146E-11,162173737373.7374,78851891.523248732,78.851891523248739,7.8851891523248743E-2]
[null,0.70379999999999998,0.70394999999999996,0.2097,1.0007153075822603,48800000000,1.4200819672131146E-11,162173737373.7374,50361932.250259966,50.361932250259969,5.0361932250259971E-2]
[null,0.70420000000000005,0.70435000000000003,0.14030000000000001,1.0010691375623662,48800000000,1.4200819672131146E-11,162173737373.7374,75260373.235355332,75.260373235355331,7.5260373235355338E-2]
[null,0.70399999999999996,0.70404,2.81E-2,1.0014234875444854,48800000000,1.4200819672131146E-11,162173737373.7374,100186587.66314395,100.18658766314395,0.10018658766314395]
[null,0.70440000000000003,0.70447000000000004,3.3799999999999997E-2,1.0020710059171603,48800000000,1.4200819672131146E-11,162173737373.7374,145712513.84918672,145.71251384918671,0.14571251384918671]
[null,0.7046,0.70462999999999998,2.6100000000000002E-2,1.0011494252873554,48800000000,1.4200819672131146E-11,162173737373.7374,80908865.015996963,80.908865015996966,8.0908865015996964E-2]
[null,null,null,null,null,null,null,null,"Average",{"$f":"AVERAGE(J4:J20)","v":86.486681596264816},{"$f":"AVERAGE(K4:K20)","v":8.6486681596264839E-2}]
[null,null,null,null,null,null,null,null,"Maximum",{"$f":"MAX(J4:J21)","v":145.71251384918671},{"$f":"MAX(K4:K21)","v":0.14571251384918671}]
[null,null,null,null,null,null,null,null,"Minimum",{"$f":"MIN(J4:J22)","v":50.361932250259969},{"$f":"MIN(K4:K22)","v":5.0361932250259971E-2}]
[null,null,null,null,null,null,null,null,"Difference",{"$f":"(J22+ABS(J23))","v":196.07444609944667},{"$f":"(K22+ABS(K23))","v":0.19607444609944669}]
[]
[]
[null,null,null,null,null,"207Pb/206Pb ",null,null,"206Pb/238U"]
["TABLE 2","208 pb/ 204 pb ","207 pb/ 204 pb ","206 pb/ 204 pb ","207 pb/ 206 pb ","Age","238 u/ 204 pb ","206 pb / 238 u","Age"]
[null,38.527000000000001,15.592000000000001,18.385999999999999,{"$f":"(C29/D29)","v":0.84803654954856966},{"$f":"[1]!AgePb76($E$29)","v":5004.6338939607685},4.18,{"$f":"(D29/G29)","v":4.3985645933014359},{"$f":"[1]!AgePb6U8(H29)","v":10869.512342817661}]
[null,38.790999999999997,15.558,18.597999999999999,{"$f":"(C30/D30)","v":0.83654156360899024},{"$f":"[1]!AgePb76($E$30)","v":4985.2595958918482},8.16,{"$f":"(D30/G30)","v":2.2791666666666663},{"$f":"[1]!AgePb6U8(H30)","v":7655.6926676900048}]
[null,38.619,15.584,18.425999999999998,0.84576142407467714,{"$f":"[1]!AgePb76($E$31)","v":5000.8215014348134},13.93,1.3227566403445798,{"$f":"[1]!AgePb6U8(H31)","v":5432.7457686639282}]
[null,38.667000000000002,15.589,18.475999999999999,0.84374323446633481,{"$f":"[1]!AgePb76($E$32)","v":4997.4305235148931}]
[null,38.694000000000003,15.573,18.385000000000002,0.84704922491161272,{"$f":"[1]!AgePb76($E$33)","v":5002.9807852897484}]
[null,39.082999999999998,15.507,18.128,0.85541703442188877,{"$f":"[1]!AgePb76($E$34)","v":5016.9268946210641}]
[null,38.256,15.605,18.315000000000001,0.85203385203385196,{"$f":"[1]!AgePb76($E$35)","v":5011.3058756703304},20.399999999999999,0.89779411764705896,{"$f":"[1]!AgePb6U8(H35)","v":4130.1674197486946}]
[null,39.814999999999998,15.688000000000001,19.792000000000002,0.79264349232012932,{"$f":"[1]!AgePb76($E$36)","v":4908.5751997371226},49.22,0.40211296221048359,{"$f":"[1]!AgePb6U8(H36)","v":2178.7613702285748}]
[null,39.558,15.673999999999999,19.710999999999999,0.79519050276495362,{"$f":"[1]!AgePb76($E$37)","v":4913.1466559631572},81.819999999999993,0.24090686873625031,{"$f":"[1]!AgePb6U8(H37)","v":1391.4098827977355}]
[null,39.51,15.667999999999999,19.425000000000001,0.80658944658944653,{"$f":"[1]!AgePb76($E$38)","v":4933.41669598922},52.96,0.36678625377643503,{"$f":"[1]!AgePb6U8(H38)","v":2014.2606541644102}]
[null,null,null,null,"Average",{"$f":"AVERAGE(F29:F38)","v":4977.4497622072968},null,null,{"$f":"AVERAGE(I29:I38)","v":4810.3643008730014}]
[null,null,null,null,"Maximum",{"$f":"MAX(F29:F39)","v":5016.9268946210641},null,null,{"$f":"MAX(I29:I39)","v":10869.512342817661}]
[null,null,null,null,"Minimum",{"$f":"MIN(F29:F40)","v":4908.5751997371226},null,null,{"$f":"MIN(I29:I40)","v":1391.4098827977355}]
[null,null,null,null,"Difference",{"$f":"(F40-ABS(F41))","v":108.35169488394149},null,null,{"$f":"(I40-ABS(I41))","v":9478.1024600199253}]
[]
[]
[null,null,null,null,"Summary","207Pb/206Pb ","206Pb/238U","87Rb/86Sr","147Sm/144Nd"]
[null,null,null,null,"Average",4977.4497622072968,4810.3643008730014,86.486681596264816,72.316065645580267]
[null,null,null,null,"Maximum",5016.9268946210641,10869.512342817661,145.71251384918671,80.076272315935441,null,{"$f":"(5017/146)","v":34.363013698630134},{"$f":"(10870/80)","v":135.875}]
[null,null,null,null,"Minimum",4908.5751997371226,1391.4098827977355,50.361932250259969,62.981152026819061,null,null,{"$f":"(10870/147)","v":73.945578231292515}]
[null,null,null,null,"Difference",108.35169488394149,9478.1024600199253,196.07444609944667,17.09512028911638]
[]
[]
[]
[]
[]
["Neodymium",null,null,null,null,null,null,null,null,null,"Rubidium_010.pdf"]
["Samarium","Initial","Today","Today","The Ratio","Half","Decay","2.303/Delta","Age","Age","Age","Model Age","Model Age","Model Age"]
["Dating","143Nd/144Nd","143Nd/144Nd","147Sm/144Nd","Plus One","Life","Constant","Constant","Years","Million Years","Billion Years","Million Years","% Difference"," Difference"]
[null,0.51268999999999998,0.51273199999999997,8.5199999999999998E-2,{"$f":"1+((C58-B58)/D58)","v":1.0004929577464787},106000000000,{"$f":"(0.693/F58)","v":6.5377358490566029E-12},{"$f":"(2.303/G58)","v":352262626262.62628},{"$f":"(LOG(E58))*(H58)","v":75396910.97557801},{"$f":"(I58/1000000)","v":75.39691097557801},{"$f":"(J58/1000)","v":7.5396910975578005E-2}]
[null,0.51285000000000003,0.51288800000000001,8.5699999999999998E-2,{"$f":"1+((C59-B59)/D59)","v":1.000443407234539},106000000000,6.5377358490566029E-12,{"$f":"(2.303/G59)","v":352262626262.62628},{"$f":"(LOG(E59))*(H59)","v":67819937.893998176},{"$f":"(I59/1000000)","v":67.819937893998173},{"$f":"(J59/1000)","v":6.7819937893998178E-2}]
[null,0.51263999999999998,0.51268000000000002,7.6399999999999996E-2,1.0005235602094247,106000000000,6.5377358490566029E-12,352262626262.62628,80076272.315935448,80.076272315935441,8.0076272315935434E-2]
[null,0.51271999999999995,0.51275999999999999,0.08,1.0005000000000006,106000000000,6.5377358490566029E-12,352262626262.62628,76473740.541066006,76.473740541066007,7.647374054106601E-2]
[null,0.51263999999999998,0.51267799999999997,7.5499999999999998E-2,1.000503311258278,106000000000,6.5377358490566029E-12,352262626262.62628,76980061.756515786,76.980061756515781,7.6980061756515783E-2]
[null,0.51271999999999995,0.51276699999999997,0.11020000000000001,1.0004264972776771,106000000000,6.5377358490566029E-12,352262626262.62628,65234080.781135075,65.234080781135077,6.5234080781135073E-2]
[null,0.51287000000000005,0.51292899999999997,0.12959999999999999,1.0004552469135797,106000000000,6.5377358490566029E-12,352262626262.62628,69630426.153279826,69.630426153279828,6.9630426153279829E-2]
[null,0.51290000000000002,0.51296699999999995,0.14449999999999999,1.0004636678200687,106000000000,6.5377358490566029E-12,352262626262.62628,70918112.914321929,70.918112914321924,7.0918112914321929E-2]
[null,0.51278000000000001,0.51281299999999996,6.5000000000000002E-2,1.0005076923076914,106000000000,6.5377358490566029E-12,352262626262.62628,77649961.097153425,77.649961097153422,7.7649961097153428E-2]
[null,0.51280000000000003,0.51282799999999995,6.8000000000000005E-2,1.0004117647058812,106000000000,6.5377358490566029E-12,352262626262.62628,62981152.026819058,62.981152026819061,6.2981152026819059E-2]
[null,null,null,null,null,null,null,null,"Average",{"$f":"AVERAGE(J58:J67)","v":72.316065645580267}]
[null,null,null,null,null,null,null,null,"Maximum",{"$f":"MAX(J58:J68)","v":80.076272315935441}]
[null,null,null,null,null,null,null,null,"Minimum",{"$f":"MIN(J58:J69)","v":62.981152026819061}]
[null,null,null,null,null,null,null,null,"Difference",{"$f":"(J69-ABS(J70))","v":17.09512028911638}]

{"sheet":"Nd_Sm_04","index":4,"n_rows":23,"n_cols":14,"rows_kept":23,"cut":false,"hidden":false,"merged":[]}
["Rubidium","TABLE 1.",null,null,null,null,null,null,null,null,"Rubidium_012.pdf"]
["Strontium","Initial","Today","Today","The Ratio","Half","Decay","2.303/Delta","Age","Age","Age","Model Age","Model Age","Model Age"]
["Dating","87Sr/86Sr","87Sr/86Sr","87Rb/86Sr","Plus One","Life","Constant","Constant","Years","Million Years","Billion Years","Million Years","% Difference"," Difference"]
["TABLE 1",0.72499999999999998,0.79991000000000001,1.667,{"$f":"1+((C4-B4)/D4)","v":1.0449370125974806},48800000000,{"$f":"(0.693/F4)","v":1.4200819672131146E-11},{"$f":"(2.303/G4)","v":162173737373.7374},{"$f":"(LOG(E4))*(H4)","v":3095914898.5989389},{"$f":"(I4/1000000)","v":3095.9148985989391},{"$f":"(J4/1000)","v":3.0959148985989389},3120,{"$f":"(L4/J4) * 100","v":100.77796393602294},{"$f":"(L4-J4)","v":24.085101401060911}]
[null,0.72499999999999998,0.83516999999999997,2.4700000000000002,1.0446032388663968,48800000000,1.4200819672131146E-11,162173737373.7374,3073414187.2666287,3073.4141872666287,3.0734141872666285,3120,{"$f":"(L5/J5) * 100","v":101.51576747860342},{"$f":"(L5-J5)","v":46.585812733371313}]
[null,0.73399999999999999,0.74361999999999995,0.25900000000000001,1.0371428571428569,48800000000,1.4200819672131146E-11,162173737373.7374,2568601824.5176454,2568.6018245176456,2.5686018245176454,2460,95.771947855793499,{"$f":"(J6-L6)","v":108.60182451764558}]
[null,0.73399999999999999,0.83196000000000003,2.74,1.0357518248175182,48800000000,1.4200819672131146E-11,162173737373.7374,2474075040.5106144,2474.0750405106146,2.4740750405106144,2460,99.431098884223417,{"$f":"(J7-L7)","v":14.075040510614599}]
[null,0.70599999999999996,0.77115999999999996,1.494,1.0436144578313253,48800000000,1.4200819672131146E-11,162173737373.7374,3006715202.9027658,3006.7152029027657,3.0067152029027655,3060,101.77219302465998,{"$f":"(L8-J8)","v":53.284797097234332}]
[null,0.70599999999999996,0.73648000000000002,0.68899999999999995,1.0442380261248188,48800000000,1.4200819672131146E-11,162173737373.7374,3048785837.1322246,3048.7858371322245,3.0487858371322245,3060,100.36782389668682,{"$f":"(L9-J9)","v":11.214162867775485}]
[null,0.70599999999999996,0.76422000000000001,1.486,1.0391790040376852,48800000000,1.4200819672131146E-11,162173737373.7374,2706738627.7369633,2706.7386277369633,2.7067386277369634,3060,113.05118154531195,{"$f":"(L10-J10)","v":353.26137226303672}]
[null,0.70599999999999996,0.70884000000000003,5.6000000000000001E-2,1.0507142857142868,48800000000,1.4200819672131146E-11,162173737373.7374,3484243886.4020371,3484.2438864020373,3.4842438864020373,2300,66.011452555781545,1184.2438864020373]
[null,0.70599999999999996,0.70565,2.5000000000000001E-2,0.98600000000000154,48800000000,1.4200819672131146E-11,162173737373.7374,-993003588.24095833,-993.00358824095838,-0.99300358824095836,2300,-231.62051247713023,{"$f":"(L12-J12)","v":3293.0035882409584}]
[null,0.70599999999999996,0.70533999999999997,1.0999999999999999E-2,0.9400000000000005,48800000000,1.4200819672131146E-11,162173737373.7374,-4357956412.9910545,-4357.9564129910541,-4.3579564129910544,2300,-52.777030838209107,6657.9564129910541]
[null,0.70599999999999996,0.70601000000000003,3.1E-2,1.0003225806451634,48800000000,1.4200819672131146E-11,162173737373.7374,22716065.106292181,22.716065106292181,2.271606510629218E-2,2300,10124.992991690789,2277.2839348937077]
[null,0.70599999999999996,0.70540000000000003,2E-3,0.70000000000003304,48800000000,1.4200819672131146E-11,162173737373.7374,-25121029777.401768,-25121.029777401767,-25.121029777401766,2300,-9.1556756246872517,27421.029777401767]
[null,0.70599999999999996,0.70653999999999995,0.04,1.0134999999999996,48800000000,1.4200819672131146E-11,162173737373.7374,944459794.25898957,944.45979425898952,0.94445979425898952,2300,243.5254538076498,1355.5402057410106]
[null,0.70599999999999996,0.70655999999999997,2.9000000000000001E-2,1.0193103448275864,48800000000,1.4200819672131146E-11,162173737373.7374,1347085093.1110067,1347.0850931110067,1.3470850931110068,2300,170.73902842234691,952.9149068889933]
[null,0.70599999999999996,0.70579000000000003,1.4E-2,0.98500000000000487,48800000000,1.4200819672131146E-11,162173737373.7374,-1064471031.4617137,-1064.4710314617137,-1.0644710314617136,2300,-216.06975972297516,3364.4710314617137]
[null,0.70599999999999996,0.70577999999999996,2E-3,0.89000000000000101,48800000000,1.4200819672131146E-11,162173737373.7374,-8207611770.8544292,-8207.6117708544298,-8.2076117708544292,2300,-28.02276794045493,10507.61177085443]
[null,null," "," ",null,null,null,null,"Average",{"$f":"AVERAGE(J4:J19)","v":-873.20763271286353},{"$f":"AVERAGE(K4:K19)","v":-0.8732076327128635}]
[null,null,null,null,null,null,null,null,"Maximum",{"$f":"MAX(J4:J20)","v":3484.2438864020373},{"$f":"MAX(K4:K20)","v":3.4842438864020373}]
[null,null,null,null,null,null,null,null,"Minimum",{"$f":"MIN(J4:J21)","v":-25121.029777401767},{"$f":"MIN(K4:K21)","v":-25.121029777401766}]
[null,null,null,null,null,null,null,null,"Difference",{"$f":"(J21+ABS(J22))","v":28605.273663803804},{"$f":"(K21+ABS(K22))","v":28.605273663803803}]

{"sheet":"Nd_Sm_05","index":5,"n_rows":21,"n_cols":14,"rows_kept":21,"cut":false,"hidden":false,"merged":[]}
["Rubidium","TABLE 1.",null,null,null,null,null,null,null,null,"Rubidium_016.pdf"]
["Strontium","Initial","Today","Today","The Ratio","Half","Decay","2.303/Delta","Age","Age","Age","Model Age","Model Age","Model Age"]
["Dating","87Sr/86Sr","87Sr/86Sr","87Rb/86Sr","Plus One","Life","Constant","Constant","Years","Million Years","Billion Years","Million Years","% Difference"," Difference"]
[]
[]
[null,"Pb206/Pb204","Pb207/Pb204","Pb207/Pb204","Age",null,"Age","Age"]
["TABLE 2",19.327000000000002,15.586,{"$f":"(C7/B7)","v":0.80643659129714906},{"$f":"[1]!AgePb76($D$7)","v":4933.1469037263832},null,4933.1469037263832,4928.0373307784594]
[null,18.917000000000002,15.554,{"$f":"(C8/B8)","v":0.82222339694454716},{"$f":"[1]!AgePb76($D$8)","v":4960.7274407938294},null,4960.7274407938294,4955.5338385843434]
[null,19.033000000000001,15.558999999999999,0.81747491199495603,{"$f":"[1]!AgePb76($D$9)","v":4952.4911764822382},null,4952.4911764822382,4947.0589737699629]
[null,19.041,15.565,0.8174465626805314,{"$f":"[1]!AgePb76($D$10)","v":4952.4418518688199},null,4952.4418518688199,4957.2268144838235]
[null,19.225000000000001,15.596,0.81123537061118334,{"$f":"[1]!AgePb76($D$11)","v":4941.5909863043071},null,4941.5909863043071,4927.2077475907508]
[null,18.664999999999999,15.529,0.83198499866059472,{"$f":"[1]!AgePb76($D$12)","v":4977.5012917671884},null,4977.5012917671884,4951.7942513489897]
[null,19.202999999999999,15.56,0.81029005884497218,{"$f":"[1]!AgePb76($D$13)","v":4939.9317956849254},null,4939.9317956849254,4954.1097096445692]
[null,19.137,15.589,0.81459998954904111,{"$f":"[1]!AgePb76($D$14)","v":4947.4798516818173},null,4947.4798516818173]
[null,19.393999999999998,15.584,0.80354748891409722,{"$f":"[1]!AgePb76($D$15)","v":4928.0373307784594},null,4928.0373307784594]
[null,18.984999999999999,15.553000000000001,0.81922570450355547,{"$f":"[1]!AgePb76($D$16)","v":4955.5338385843434},null,4955.5338385843434]
[null,19.096,15.551,0.81435902806870553,{"$f":"[1]!AgePb76($D$17)","v":4947.0589737699629},null,4947.0589737699629]
[null,18.949000000000002,15.542,0.82020159375164914,{"$f":"[1]!AgePb76($D$18)","v":4957.2268144838235},null,4957.2268144838235]
[null,19.419,15.595000000000001,0.80307945826252636,{"$f":"[1]!AgePb76($D$19)","v":4927.2077475907508},null,4927.2077475907508]
[null,19.045999999999999,15.561999999999999,0.81707445132836287,{"$f":"[1]!AgePb76($D$20)","v":4951.7942513489897},null,4951.7942513489897]
[null,19.081,15.616,0.81840574393375609,{"$f":"[1]!AgePb76($D$21)","v":4954.1097096445692},null,4954.1097096445692]

{"sheet":"Nd_Sm_06","index":6,"n_rows":87,"n_cols":14,"rows_kept":87,"cut":false,"hidden":false,"merged":[]}
["Rubidium","TABLE 1.",null,null,null,null,null,null,null,null," Rubidium_017.pdf"]
["Strontium","Initial","Today","Today","The Ratio","Half","Decay","2.303/Delta","Age","Age","Age","Model Age","Model Age","Model Age"]
["Dating","87Sr/86Sr","87Sr/86Sr","87Rb/86Sr","Plus One","Life","Constant","Constant","Years","Million Years","Billion Years","Million Years","% Difference"," Difference"]
["TABLE 3",0.70420000000000005,0.70420000000000005,1.3999999999999999E-4,{"$f":"1+((C4-B4)/D4)","v":1},48800000000,{"$f":"(0.693/F4)","v":1.4200819672131146E-11},{"$f":"(2.303/G4)","v":162173737373.7374},{"$f":"(LOG(E4))*(H4)","v":0},{"$f":"(I4/1000000)","v":0},{"$f":"(J4/1000)","v":0},1500,{"$f":"(J4/L4) * 100","v":0},{"$f":"(J4-L4)","v":-1500}]
[null,0.70455000000000001,0.70455000000000001,3.9399999999999999E-3,1,48800000000,1.4200819672131146E-11,162173737373.7374,0,0,0,1500,{"$f":"(J5/L5) * 100","v":0},-1500]
[null,0.70935000000000004,0.70935999999999999,6.4000000000000005E-4,1.0156249999999289,48800000000,1.4200819672131146E-11,162173737373.7374,1091977830.9674919,1091.9778309674919,1.0919778309674919,1500,72.798522064499466,-408.02216903250815]
[null,0.70901000000000003,0.70923999999999998,4.0410000000000001E-2,1.0056916604800781,48800000000,1.4200819672131146E-11,162173737373.7374,399733747.34366065,399.73374734366064,0.39973374734366063,1500,26.648916489577374,-1100.2662526563395]
[null,0.71001999999999998,0.71001999999999998,2.3000000000000001E-4,1,48800000000,1.4200819672131146E-11,162173737373.7374,0,0,0,1500,0,-1500]
[null,0.70864000000000005,0.70874000000000004,5.9720000000000002E-2,1.0016744809109175,48800000000,1.4200819672131146E-11,162173737373.7374,117837001.30545063,117.83700130545063,0.11783700130545063,1500,7.8558000870300422,-1382.1629986945493]
[null,0.70831999999999995,0.70857000000000003,4.5130000000000003E-2,1.0055395524041677,48800000000,1.4200819672131146E-11,162173737373.7374,389080424.0761928,389.0804240761928,0.38908042407619281,1500,25.938694938412855,-1110.9195759238073]
[null,0.70998000000000006,0.71026999999999996,5.1110000000000003E-2,1.0056740363920935,48800000000,1.4200819672131146E-11,162173737373.7374,398499476.56987059,398.49947656987058,0.39849947656987056,1500,26.566631771324705,-1101.5005234301293]
[null,0.71006000000000002,0.71031999999999995,4.6530000000000002E-2,1.0055877928218337,48800000000,1.4200819672131146E-11,162173737373.7374,392459253.9127925,392.45925391279252,0.39245925391279252,1500,26.163950260852836,-1107.5407460872075]
[null,null,null,null,null,null,null,null,"Average",{"$f":"AVERAGE(J4:J12)","v":309.95419268616217}]
[null,null,null,null,null,null,null,null,"Maximum",{"$f":"MAX(J4:J13)","v":1091.9778309674919}]
[null,null,null,null,null,null,null,null,"Minimum",{"$f":"MIN(J4:J14)","v":0}]
[null," "," "," ",null,null,null,null,"Difference",{"$f":"(J14+ABS(J15))","v":1091.9778309674919}]
[]
[null,null,null,null,null,null,null,null,null,null," Rubidium_017.pdf"]
["TABLE 1",0.70420000000000005,0.70420000000000005,1E-4,{"$f":"1+((C19-B19)/D19)","v":1},48800000000,{"$f":"(0.693/F19)","v":1.4200819672131146E-11},{"$f":"(2.303/G19)","v":162173737373.7374},{"$f":"(LOG(E19))*(H19)","v":0},{"$f":"(I19/1000000)","v":0},{"$f":"(J19/1000)","v":0},1500,{"$f":"(J19/L19) * 100","v":0},{"$f":"(J19-L19)","v":-1500}]
[null,0.70374000000000003,0.70374999999999999,3.3999999999999998E-3,1.0029411764705749,48800000000,1.4200819672131146E-11,162173737373.7374,206846431.34790146,206.84643134790147,0.20684643134790148,1500,13.789762089860098,-1293.1535686520986]
[null,0.70935999999999999,0.70935999999999999,5.0000000000000001E-4,1,48800000000,1.4200819672131146E-11,162173737373.7374,0,0,0,1500,0,-1500]
[null,0.70906000000000002,0.70906999999999998,5.7999999999999996E-3,1.0017241379310267,48800000000,1.4200819672131146E-11,162173737373.7374,121328469.71225145,121.32846971225146,0.12132846971225146,1500,8.0885646474834303,-1378.6715302877485]
[null,0.71001999999999998,0.71001999999999998,2.0000000000000001E-4,1,48800000000,1.4200819672131146E-11,162173737373.7374,0,0,0,1500,0,-1500]
[null,0.71097999999999995,0.71106000000000003,4.3400000000000001E-2,1.001843317972352,48800000000,1.4200819672131146E-11,162173737373.7374,129707512.25988491,129.70751225988491,0.12970751225988492,1500,8.6471674839923267,-1370.2924877401151]
[null,0.70613999999999999,0.70616999999999996,1.52E-2,1.0019736842105247,48800000000,1.4200819672131146E-11,162173737373.7374,138871867.37280062,138.87186737280061,0.13887186737280061,1500,9.2581244915200411,-1361.1281326271994]
[null,0.70994999999999997,0.70998000000000006,1.78E-2,1.0016853932584318,48800000000,1.4200819672131146E-11,162173737373.7374,118604281.60840315,118.60428160840314,0.11860428160840314,1500,7.9069521072268767,-1381.3957183915968]
[null,0.71023999999999998,0.71031999999999995,4.4999999999999998E-2,1.001777777777777,48800000000,1.4200819672131146E-11,162173737373.7374,125099782.89139569,125.09978289139569,0.1250997828913957,1500,8.3399855260930469,-1374.9002171086042]
[null,0.70630999999999999,0.70711000000000002,0.46899999999999997,1.0017057569296375,48800000000,1.4200819672131146E-11,162173737373.7374,120036090.8380097,120.0360908380097,0.1200360908380097,1500,8.0024060558673131,-1379.9639091619904]
[null,0.70823999999999998,0.70935000000000004,0.64870000000000005,1.0017111145367659,48800000000,1.4200819672131146E-11,162173737373.7374,120412789.75298752,120.41278975298752,0.12041278975298753,1500,8.0275193168658348,-1379.5872102470125]
[null,0.70579999999999998,0.70757999999999999,1.0450999999999999,1.001703186297962,48800000000,1.4200819672131146E-11,162173737373.7374,119855346.34295611,119.85534634295611,0.11985534634295611,1500,7.9903564228637407,-1380.1446536570438]
[null,0.70952999999999999,0.71018000000000003,0.37530000000000002,1.0017319477751134,48800000000,1.4200819672131146E-11,162173737373.7374,121877577.2035794,121.87757720357939,0.12187757720357939,1500,8.1251718135719582,-1378.1224227964206]
[null,0.70972000000000002,0.71038999999999997,0.39550000000000002,1.0016940581542351,48800000000,1.4200819672131146E-11,162173737373.7374,119213530.80060208,119.21353080060207,0.11921353080060207,1500,7.9475687200401381,-1380.786469199398]
[null,null,null,null,null,null,null,null,"Average",{"$f":"AVERAGE(J19:J32)","v":102.98954858076944}]
[null,null,null,null,null,null,null,null,"Maximum",{"$f":"MAX(J19:J33)","v":206.84643134790147}]
[null,null,null,null,null,null,null,null,"Minimum",{"$f":"MIN(J19:J34)","v":0}]
[null,null,null,null,null,null,null,null,"Difference",{"$f":"(J34+ABS(J35))","v":206.84643134790147}]
[]
[null,null,null,null,null,null,"Summary","87Rb/86Sr","87Rb/86Sr","147Sm/144Nd","147Sm/144Nd"]
[null,null,null,null,null,null,"Average",309.95419268616217,102.98954858076944,120.43929211206321,159.11623770978946]
[null,null,null,null,null,null,"Maximum",1091.9778309674919,206.84643134790147,123.09685880440755,400.29963030007394]
[null,null,null,null,null,null,"Minimum",0,0,119.84964558078725,118.82136782030177]
[null,null,null,null,null,null,"Difference",1091.9778309674919,206.84643134790147,3.2472132236202924,281.47826247977218]
[]
[]
["Neodymium",null,null,null,null,null,null,null,null,null," Rubidium_017.pdf"]
["Samarium","Initial","Today","Today","The Ratio","Half","Decay","2.303/Delta","Age","Age","Age"]
["Dating","143Nd/144Nd","143Nd/144Nd","147Sm/144Nd","Plus One","Life","Constant","Constant","Years","Million Years","Billion Years"]
[null,0.51156199999999996,0.51159399999999999,4.02E-2,{"$f":"1+((C48-B48)/D48)","v":1.0007960199004984},106000000000,{"$f":"(0.693/F48)","v":6.5377358490566029E-12},{"$f":"(2.303/G48)","v":352262626262.62628},{"$f":"(LOG(E48))*(H48)","v":121731229.63087361},{"$f":"(I48/1000000)","v":121.7312296308736},{"$f":"(J48/1000)","v":0.1217312296308736}]
[null,0.51153899999999997,0.51156500000000005,3.2300000000000002E-2,{"$f":"1+((C49-B49)/D49)","v":1.000804953560374},106000000000,6.5377358490566029E-12,{"$f":"(2.303/G49)","v":352262626262.62628},{"$f":"(LOG(E49))*(H49)","v":123096858.80440755},{"$f":"(I49/1000000)","v":123.09685880440755},{"$f":"(J49/1000)","v":0.12309685880440754}]
[null,0.51852100000000001,0.518733,0.26960000000000001,1.0007863501483678,106000000000,6.5377358490566029E-12,352262626262.62628,120253065.19111933,120.25306519111933,0.12025306519111933]
[null,0.51571,0.51583299999999999,0.156,1.0007884615384615,106000000000,6.5377358490566029E-12,352262626262.62628,120575823.57191272,120.57582357191272,0.12057582357191272]
[null,0.52387700000000004,0.52427400000000002,0.50570000000000004,1.0007850504251532,106000000000,6.5377358490566029E-12,352262626262.62628,120054382.21140765,120.05438221140764,0.12005438221140764]
[null,0.51404399999999995,0.51412100000000005,9.7600000000000006E-2,1.0007889344262306,106000000000,6.5377358490566029E-12,352262626262.62628,120648111.63183582,120.64811163183582,0.12064811163183582]
[null,0.51644100000000004,0.51652500000000001,0.10680000000000001,1.0007865168539323,106000000000,6.5377358490566029E-12,352262626262.62628,120278548.71995361,120.2785487199536,0.12027854871995361]
[null,0.51463099999999995,0.51475599999999999,0.15920000000000001,1.0007851758793973,106000000000,6.5377358490566029E-12,352262626262.62628,120073559.86198676,120.07355986198675,0.12007355986198676]
[null,0.51549199999999995,0.51557500000000001,0.10539999999999999,1.0007874762808355,106000000000,6.5377358490566029E-12,352262626262.62628,120425211.90708993,120.42521190708993,0.12042521190708994]
[null,0.51180400000000004,0.51200800000000002,0.26029999999999998,1.0007837111025739,106000000000,6.5377358490566029E-12,352262626262.62628,119849645.58078726,119.84964558078725,0.11984964558078726]
[null,0.51186200000000004,0.51205199999999995,0.24179999999999999,1.0007857733664183,106000000000,6.5377358490566029E-12,352262626262.62628,120164895.09944244,120.16489509944243,0.12016489509944243]
[null,0.51800500000000005,0.51892300000000002,1.1697,1.000784816619646,106000000000,6.5377358490566029E-12,352262626262.62628,120018641.36296585,120.01864136296585,0.12001864136296585]
[null,0.51486399999999999,0.51533899999999999,0.60509999999999997,1.000784994215832,106000000000,6.5377358490566029E-12,352262626262.62628,120045789.73351464,120.04578973351464,0.12004578973351464]
[null,0.52360099999999998,0.52542800000000001,2.3273000000000001,1.0007850298629313,106000000000,6.5377358490566029E-12,352262626262.62628,120051238.95277345,120.05123895277345,0.12005123895277345]
[null,0.51470700000000003,0.51492800000000005,0.28100000000000003,1.0007864768683274,106000000000,6.5377358490566029E-12,352262626262.62628,120272436.30101703,120.27243630101704,0.12027243630101704]
[null,0.51927199999999996,0.51958300000000002,0.39600000000000002,1.0007853535353537,106000000000,6.5377358490566029E-12,352262626262.62628,120100717.35963324,120.10071735963324,0.12010071735963324]
[null,0.51495199999999997,0.51512899999999995,0.22509999999999999,1.0007863171923588,106000000000,6.5377358490566029E-12,352262626262.62628,120248027.35394257,120.24802735394258,0.12024802735394258]
[null,0.51731099999999997,0.517737,0.54279999999999995,1.0007848194546796,106000000000,6.5377358490566029E-12,352262626262.62628,120019074.74247448,120.01907474247449,0.12001907474247449]
[null,null,null,null,null,null,null,null,"Average",{"$f":"AVERAGE(J48:J65)","v":120.43929211206321}]
[null,null,null,null,null,null,null,null,"Maximum",{"$f":"MAX(J48:J66)","v":123.09685880440755}]
[null,null,null,null,null,null,null,null,"Minimum",{"$f":"MIN(J48:J67)","v":119.84964558078725}]
[null,null,null,null,null,null,null,null,"Difference",{"$f":"(J67-ABS(J68))","v":3.2472132236202924}]
[]
[]
["Neodymium",null,null,null,null,null,null,null,null,null," Rubidium_017.pdf"]
["Samarium","Initial","Today","Today","The Ratio","Half","Decay","2.303/Delta","Age","Age","Age"]
["Dating","143Nd/144Nd","143Nd/144Nd","147Sm/144Nd","Plus One","Life","Constant","Constant","Years","Million Years","Billion Years"]
[null,0.511764,0.51180099999999995,4.7620000000000003E-2,{"$f":"1+((C75-B75)/D75)","v":1.0007769844603098},106000000000,{"$f":"(0.693/F75)","v":6.5377358490566029E-12},{"$f":"(2.303/G75)","v":352262626262.62628},{"$f":"(LOG(E75))*(H75)","v":118821367.82030177},{"$f":"(I75/1000000)","v":118.82136782030177},{"$f":"(J75/1000)","v":0.11882136782030177}]
[null,0.51165499999999997,0.51168199999999997,3.4599999999999999E-2,{"$f":"1+((C76-B76)/D76)","v":1.0007803468208092},106000000000,6.5377358490566029E-12,{"$f":"(2.303/G76)","v":352262626262.62628},{"$f":"(LOG(E76))*(H76)","v":119335360.71599238},{"$f":"(I76/1000000)","v":119.33536071599238},{"$f":"(J76/1000)","v":0.11933536071599238}]
[null,0.518432,0.51884799999999998,0.53015999999999996,1.0007846687792363,106000000000,6.5377358490566029E-12,352262626262.62628,119996041.62719536,119.99604162719535,0.11999604162719535]
[null,0.51480999999999999,0.51553099999999996,0.27518999999999999,1.0026200079944765,106000000000,6.5377358490566029E-12,352262626262.62628,400299630.30007392,400.29963030007394,0.40029963030007393]
[null,0.52375099999999997,0.52499300000000004,0.98016999999999999,1.0012671271310081,106000000000,6.5377358490566029E-12,352262626262.62628,193729635.70348474,193.72963570348475,0.19372963570348475]
[null,0.51452500000000001,0.51465899999999998,0.17105999999999999,1.0007833508710393,106000000000,6.5377358490566029E-12,352262626262.62628,119794578.448789,119.794578448789,0.11979457844878899]
[null,0.51811600000000002,0.51836000000000004,0.31118000000000001,1.000784112089466,106000000000,6.5377358490566029E-12,352262626262.62628,119910942.79549517,119.91094279549517,0.11991094279549518]
[null,0.51484799999999997,0.51501699999999995,0.21486,1.0007865586893789,106000000000,6.5377358490566029E-12,352262626262.62628,120284943.91560091,120.28494391560091,0.12028494391560091]
[null,0.51649500000000004,0.516764,0.34316999999999998,1.0007838680537342,106000000000,6.5377358490566029E-12,352262626262.62628,119873638.06117168,119.87363806117168,0.11987363806117167]
[null,null,null,null,null,null,null,null,"Average",{"$f":"AVERAGE(J75:J83)","v":159.11623770978946}]
[null,null,null,null,null,null,null,null,"Maximum",{"$f":"MAX(J75:J84)","v":400.29963030007394}]
[null,null,null,null,null,null,null,null,"Minimum",{"$f":"MIN(J75:J85)","v":118.82136782030177}]
[null,null,null,null,null,null,null,null,"Difference",{"$f":"(J85-ABS(J86))","v":281.47826247977218}]

{"sheet":"Nd_Sm_07","index":7,"n_rows":100,"n_cols":17,"rows_kept":100,"cut":false,"hidden":false,"merged":[]}
["Strontium","Initial","Today","Today","The Ratio","Half","Decay","2.303/Delta","Age","Age","Age","Model Age","Model Age","Model Age",null,null,15343]
["Dating","87Sr/86Sr","87Sr/86Sr","87Rb/86Sr","Plus One","Life","Constant","Constant","Years","Million Years","Billion Years","Million Years","% Difference"," Difference",null,null,15299]
["TABLE 2",0.70752999999999999,0.70472999999999997,6.5699999999999995E-2,{"$f":"1+((C3-B3)/D3)","v":0.95738203957382007},48800000000,{"$f":"(0.693/F3)","v":1.4200819672131146E-11},{"$f":"(2.303/G3)","v":162173737373.7374},{"$f":"(LOG(E3))*(H3)","v":-3067471501.0435667},{"$f":"(I3/1000000)","v":-3067.4715010435666},{"$f":"(J3/1000)","v":-3.0674715010435665},null,null,null,null,null,15136]
[null,0.70752999999999999,0.70379999999999998,0.20039999999999999,0.98138722554890212,48800000000,1.4200819672131146E-11,162173737373.7374,-1323272732.065392,-1323.2727320653921,-1.3232727320653921,null,null,null,null,null,15054]
[null,0.70752999999999999,0.70513999999999999,6.5099,0.99963286686431441,48800000000,1.4200819672131146E-11,162173737373.7374,-25862360.101031512,-25.862360101031513,-2.5862360101031514E-2,null,null,null,null,null,13476]
[null,0.70752999999999999,0.70540000000000003,200.745,0.99998938952402305,48800000000,1.4200819672131146E-11,162173737373.7374,-747312.08793715877,-0.74731208793715875,-7.4731208793715872E-4,null,null,null,null,null,13322]
[null,0.70752999999999999,0.71038999999999997,502.00200000000001,1.0000056971884574,48800000000,1.4200819672131146E-11,162173737373.7374,401258.4445079618,0.40125844450796178,4.0125844450796178E-4,null,null,null,null,null,13202]
[null,0.70752999999999999,0.70513000000000003,41.069000000000003,0.99994156176191284,48800000000,1.4200819672131146E-11,162173737373.7374,-4115993.1199310287,-4.1159931199310291,-4.1159931199310287E-3,null,null,null,null,null,13001]
[null,0.70752999999999999,0.70520000000000005,0.22,0.98940909090909113,48800000000,1.4200819672131146E-11,162173737373.7374,-749908156.32128322,-749.90815632128317,-0.74990815632128316,null,null,null,null,null,11119]
[null,0.70752999999999999,0.70513000000000003,0.30740000000000001,0.9921925829538063,48800000000,1.4200819672131146E-11,162173737373.7374,-552043264.50244093,-552.04326450244093,-0.5520432645024409,null,null,null,null,null,10873]
[null,0.70752999999999999,0.70494999999999997,9.6100000000000005E-2,0.97315296566076981,48800000000,1.4200819672131146E-11,162173737373.7374,-1916713484.2161925,-1916.7134842161925,-1.9167134842161924,null,null,null,null,null,10758]
[null,0.70752999999999999,0.70494999999999997,0.37940000000000002,0.99319978914074847,48800000000,1.4200819672131146E-11,162173737373.7374,-480582623.84131402,-480.58262384131405,-0.48058262384131406,null,null,null,null,null,9737]
[null,0.70752999999999999,0.70543999999999996,0.1208,0.98269867549668843,48800000000,1.4200819672131146E-11,162173737373.7374,-1229216811.3949087,-1229.2168113949087,-1.2292168113949087,null,null,null,null,null,9707]
[null,0.70752999999999999,0.70526999999999995,0.21210000000000001,0.98934464875058914,48800000000,1.4200819672131146E-11,162173737373.7374,-754495625.53341424,-754.49562553341423,-0.7544956255334142,null,null,null,null,null,9049]
[null,0.70752999999999999,0.70509999999999995,0.18590000000000001,0.9869284561592252,48800000000,1.4200819672131146E-11,162173737373.7374,-926714059.86900425,-926.71405986900425,-0.92671405986900424,null,null,null,null,null,8584]
[null,0.70752999999999999,0.70443,0.1769,0.98247597512719054,48800000000,1.4200819672131146E-11,162173737373.7374,-1245179815.2445016,-1245.1798152445017,-1.2451798152445017,null,null,null,null,null,8420]
[null,0.70752999999999999,0.70474000000000003,0.14480000000000001,0.98073204419889526,48800000000,1.4200819672131146E-11,162173737373.7374,-1370308796.0062239,-1370.3087960062239,-1.3703087960062239,null,null,null,null,null,8419]
[null,0.70752999999999999,0.70452999999999999,0.14249999999999999,0.97894736842105257,48800000000,1.4200819672131146E-11,162173737373.7374,-1498591838.4885864,-1498.5918384885865,-1.4985918384885866,null,null,null,null,null,8368]
[null,0.70752999999999999,0.70469999999999999,0.10489999999999999,0.97302192564347001,48800000000,1.4200819672131146E-11,162173737373.7374,-1926198038.1294985,-1926.1980381294984,-1.9261980381294983,null,null,null,null,null,7975]
[null,0.70752999999999999,0.70416999999999996,0.14860000000000001,0.97738896366083428,48800000000,1.4200819672131146E-11,162173737373.7374,-1610801866.2441425,-1610.8018662441425,-1.6108018662441426,null,null,null,null,null,7968]
[null,0.70752999999999999,0.70416999999999996,7.8299999999999995E-2,0.95708812260536358,48800000000,1.4200819672131146E-11,162173737373.7374,-3089097236.8565674,-3089.0972368565672,-3.089097236856567,null,null,null,null,null,7830]
[null,0.70752999999999999,0.70382,7.46E-2,0.95026809651474542,48800000000,1.4200819672131146E-11,162173737373.7374,-3592772833.455112,-3592.772833455112,-3.5927728334551121,null,null,null,null,null,7314]
[null,0.70752999999999999,0.70416999999999996,0.1171,0.97130657557643019,48800000000,1.4200819672131146E-11,162173737373.7374,-2050471405.5278265,-2050.4714055278264,-2.0504714055278264,null,null,null,null,null,7250]
[null,0.70752999999999999,0.70496999999999999,5.7099999999999998E-2,0.95516637478108568,48800000000,1.4200819672131146E-11,162173737373.7374,-3230658909.5346832,-3230.6589095346831,-3.2306589095346832,null,null,null,null,null,7184]
[null,0.70752999999999999,0.70494000000000001,6.25E-2,0.9585600000000003,48800000000,1.4200819672131146E-11,162173737373.7374,-2980866450.2562227,-2980.8664502562228,-2.9808664502562228,null,null,null,null,null,6972]
[null,0.70752999999999999,0.70408000000000004,9.0899999999999995E-2,0.96204620462046253,48800000000,1.4200819672131146E-11,162173737373.7374,-2725178738.8649683,-2725.1787388649682,-2.725178738864968,null,null,null,null,null,6861]
[null,0.70752999999999999,0.70357000000000003,0.23549999999999999,0.98318471337579638,48800000000,1.4200819672131146E-11,162173737373.7374,-1194390521.9448366,-1194.3905219448366,-1.1943905219448365,null,null,null,null,null,6656]
[null,null,null,null,null,null,null,null,"Average",{"$f":"AVERAGE(J3:J27)","v":-1501.8103646482032},null,null,null,null,null,null,6654]
[null,null,null,null,null,null,null,null,"Maximum",{"$f":"MAX(J3:J28)","v":0.40125844450796178},null,null,null,null,null,null,6628]
[null,null,null,null,null,null,null,null,"Minimum",{"$f":"MIN(J3:J29)","v":-3592.772833455112},null,null,null,null,null,null,6577]
[null,null,null,null,null,null,null,null,"Difference",{"$f":"(J29+ABS(J30))","v":3593.1740918996202},null,null,null,null,null,null,6518]
[null,null,null,null,null,null,null,null,null,null,null,null,null,null,null,null,6448]
[null,null,null,null,null,null,null,null,null,null,null,null,null,null,null,null,5758]
[null,"206Pb","207Pb","208Pb","238U","232Th","207Pb","207Pb/206Pb","206Pb","206Pb/238U","208Pb","208Pb","208Pb/232Th",null,null,null,5576]
[null,"204Pb","204Pb","204Pb","204Pb","238U","206Pb","Age","238U","Age","238U","232Th","Age",null,null,null,5520]
[null,17.402999999999999,15.417,37.292000000000002,13.7,4.82,{"$f":"(C36/B36)","v":0.88588174452680579},{"$f":"[1]!AgePb76(G36)","v":5066.504441628409},{"$f":"(B36/E36)","v":1.2702919708029197},{"$f":"[1]!AgePb6U8(I36)","v":5285.4694260845063},{"$f":"+(D36/E36)","v":2.7220437956204382},{"$f":"+(K36/F36)","v":0.56473937668473817},{"$f":"[1]!AgePb8Th2(L36)","v":9049.4042982158517},null,null,null,5285]
[null,17.948,15.41,37.938000000000002,23.9,4.09,{"$f":"(C37/B37)","v":0.85859148651660355},{"$f":"[1]!AgePb76(G37)","v":5022.1796914541428},{"$f":"(B37/E37)","v":0.75096234309623433},{"$f":"[1]!AgePb6U8(I37)","v":3611.0591273543596},{"$f":"+(D37/E37)","v":1.5873640167364018},{"$f":"+(K37/F37)","v":0.3881085615492425},{"$f":"[1]!AgePb8Th2(L37)","v":6628.4400889071512},null,null,null,5159]
[null,17.472999999999999,15.471,37.682000000000002,12.9,4.72,0.88542322440336529,{"$f":"[1]!AgePb76(G38)","v":5065.771744482915},1.3544961240310076,{"$f":"[1]!AgePb6U8(I38)","v":5520.2368702910599},2.9210852713178297,0.61887399816055721,{"$f":"[1]!AgePb8Th2(L38)","v":9736.8538597727566},null,null,null,5120]
[null,17.297999999999998,15.324999999999999,37.564999999999998,15.7,4.63,0.88594057116429648,{"$f":"[1]!AgePb76(G39)","v":5066.5984151680241},1.1017834394904458,{"$f":"[1]!AgePb6U8(I39)","v":4788.3077596453859},2.3926751592356688,0.51677649227552247,{"$f":"[1]!AgePb8Th2(L39)","v":8420.1587501252561},null,null,null,5109]
[null,17.46,15.446999999999999,37.606000000000002,0,0,0.88470790378006858,{"$f":"[1]!AgePb76(G40)","v":5064.6278861247456},0,null,0,null,null,null,null,null,5099]
[null,17.710999999999999,15.51,37.938000000000002,9.8000000000000007,3.5,0.87572694935350914,{"$f":"[1]!AgePb76(G41)","v":5050.1825130145007},1.8072448979591833,{"$f":"[1]!AgePb6U8(I41)","v":6654.0115327466638},3.8712244897959183,1.1060641399416908,{"$f":"[1]!AgePb8Th2(L41)","v":15054.489521188149},null,null,null,5097]
[null,17.463999999999999,15.465,37.738999999999997,12.7,4.82,0.88553595968850207,{"$f":"[1]!AgePb76(G42)","v":5065.9519283464833},1.3751181102362204,{"$f":"[1]!AgePb6U8(I42)","v":5576.4523247436264},2.9715748031496063,0.61650929525925435,{"$f":"[1]!AgePb8Th2(L42)","v":9707.3081031738402},null,null,null,5077]
[null,17.510999999999999,15.521000000000001,37.759,8.3000000000000007,5.04,0.88635714693621159,{"$f":"[1]!AgePb76(G43)","v":5067.2636913748092},2.1097590361445779,{"$f":"[1]!AgePb6U8(I43)","v":7313.7485437551804},4.5492771084337349,0.90263434691145528,{"$f":"[1]!AgePb8Th2(L43)","v":13001.302157564602},null,null,null,5067]
[null,17.486000000000001,15.303000000000001,37.573999999999998,10,3.32,0.87515726867208055,{"$f":"[1]!AgePb76(G44)","v":5049.2609176488058},1.7486000000000002,{"$f":"[1]!AgePb6U8(I44)","v":6517.9158171707631},3.7573999999999996,1.1317469879518072,{"$f":"[1]!AgePb8Th2(L44)","v":15299.481065038144},null,null,null,5067]
[null,17.533999999999999,15.46,37.704000000000001,10.199999999999999,5.04,0.88171552412455811,{"$f":"[1]!AgePb76(G45)","v":5059.8321574116599},1.7190196078431372,{"$f":"[1]!AgePb6U8(I45)","v":6448.1635909198849},3.6964705882352944,0.73342670401493937,{"$f":"[1]!AgePb8Th2(L45)","v":11118.750948345345},null,null,null,5067]
[null,18.082000000000001,15.438000000000001,37.954000000000001,10,3.34,0.85377723703130182,{"$f":"[1]!AgePb76(G46)","v":5014.2053923457706},1.8082,{"$f":"[1]!AgePb6U8(I46)","v":6656.2044074030937},3.7953999999999999,1.1363473053892215,{"$f":"[1]!AgePb8Th2(L46)","v":15343.052128077383},null,null,null,5066]
[null,16.722999999999999,15.382,36.542000000000002,6,4.55,0.91981103868923042,{"$f":"[1]!AgePb76(G47)","v":5119.6347626473471},2.7871666666666663,{"$f":"[1]!AgePb6U8(I47)","v":8584.16217992977},6.0903333333333336,1.3385347985347986,{"$f":"[1]!AgePb8Th2(L47)","v":17170.784816184329},null,null,null,5066]
[null,16.873999999999999,15.407,36.761000000000003,6.9,4.78,0.91306151475643005,{"$f":"[1]!AgePb76(G48)","v":5109.2329426917895},2.4455072463768115,{"$f":"[1]!AgePb6U8(I48)","v":7974.6729086557225},5.3276811594202904,1.1145776484142866,{"$f":"[1]!AgePb8Th2(L48)","v":15136.03030087345},null,null,null,5065]
[null,16.995999999999999,15.382,36.948,8.3000000000000007,4.83,0.90503647917156982,{"$f":"[1]!AgePb76(G49)","v":5096.7588430969272},2.0477108433734936,{"$f":"[1]!AgePb6U8(I49)","v":7183.8244361938041},4.451566265060241,0.92164933024021556,{"$f":"[1]!AgePb8Th2(L49)","v":13202.301029907119},null,null,null,5062]
[null,17.626000000000001,15.432,37.691000000000003,19.5,4,0.87552479291955065,{"$f":"[1]!AgePb76(G50)","v":5049.855549252622},0.90389743589743599,{"$f":"[1]!AgePb6U8(I50)","v":4150.8658644147008},1.9328717948717951,0.48321794871794876,{"$f":"[1]!AgePb8Th2(L50)","v":7967.943751456005},null,null,null,5060]
[null,17.667999999999999,15.411,37.645000000000003,20.399999999999999,3.9,0.87225492415666739,{"$f":"[1]!AgePb76(G51)","v":5044.5557733390115},0.86607843137254903,{"$f":"[1]!AgePb6U8(I51)","v":4021.5254366473901},1.8453431372549023,0.4731649069884365,{"$f":"[1]!AgePb8Th2(L51)","v":7830.4817455923112},null,null,null,5060]
[null,17.628,15.433,37.710999999999999,19.399999999999999,3.79,0.87548218742909012,{"$f":"[1]!AgePb76(G52)","v":5049.786629766214},0.90865979381443307,{"$f":"[1]!AgePb6U8(I52)","v":4166.970618118823},1.9438659793814435,0.51289339825367897,{"$f":"[1]!AgePb8Th2(L52)","v":8368.3471474925755},null,null,null,5059]
[null,17.599,15.420999999999999,37.716000000000001,14.6,5,0.87624296835047444,{"$f":"[1]!AgePb76(G53)","v":5051.016748795535},1.2054109589041095,{"$f":"[1]!AgePb6U8(I53)","v":5098.5583719787674},2.5832876712328767,0.51665753424657535,{"$f":"[1]!AgePb8Th2(L53)","v":8418.573479550003},null,null,null,5051]
[null,17.670999999999999,15.404,37.621000000000002,21.8,4,0.87171071246675347,{"$f":"[1]!AgePb76(G54)","v":5043.6716734485863},0.81059633027522926,{"$f":"[1]!AgePb6U8(I54)","v":3826.9541031862532},1.7257339449541285,0.43143348623853212,{"$f":"[1]!AgePb8Th2(L54)","v":7249.6489155226573},null,null,null,5050]
[null,17.471,15.407,37.512,9.1999999999999993,4.37,0.8818613702707343,{"$f":"[1]!AgePb76(G55)","v":5060.0662973207009},1.8990217391304349,{"$f":"[1]!AgePb6U8(I55)","v":6861.3914504372769},4.0773913043478265,0.93304148840911361,{"$f":"[1]!AgePb8Th2(L55)","v":13321.771868991875},null,null,null,5050]
[null,17.399999999999999,15.365,37.442,90.3,0.59,0.88304597701149434,{"$f":"[1]!AgePb76(G56)","v":5061.9665323315721},0.19269102990033221,{"$f":"[1]!AgePb6U8(I56)","v":1135.936333533622},0.41464008859357698,0.70277981117555421,{"$f":"[1]!AgePb8Th2(L56)","v":10758.203105617618},null,null,null,5050]
[null,17.655000000000001,15.391,37.51,19.5,4.67,0.87176437269895213,{"$f":"[1]!AgePb76(G57)","v":5043.7588732833165},0.90538461538461545,{"$f":"[1]!AgePb6U8(I57)","v":4155.8993459450867},1.9235897435897436,0.41190358535112281,{"$f":"[1]!AgePb8Th2(L57)","v":6971.9829087513453},null,null,null,5049]
[null,17.172999999999998,15.321999999999999,37.110999999999997,11.9,3.29,0.89221452279741453,{"$f":"[1]!AgePb76(G58)","v":5076.5830286010323},1.4431092436974788,{"$f":"[1]!AgePb6U8(I58)","v":5758.3981196005734},3.1185714285714283,0.94789405123751624,{"$f":"[1]!AgePb8Th2(L58)","v":13476.479338240897},null,null,null,5045]
[null,17.414000000000001,15.340999999999999,37.332999999999998,14.2,3.69,0.88095785000574234,{"$f":"[1]!AgePb76(G59)","v":5058.6151336056146},1.2263380281690142,{"$f":"[1]!AgePb6U8(I59)","v":5159.4397798419905},2.6290845070422537,0.7124890262987138,{"$f":"[1]!AgePb8Th2(L59)","v":10873.125480201332},null,null,null,5044]
[null,17.849,15.439,37.768999999999998,26.4,3.72,0.86497843016415488,{"$f":"[1]!AgePb76(G60)","v":5032.686034274021},0.67609848484848489,{"$f":"[1]!AgePb6U8(I60)","v":3329.3715531104167},1.4306439393939394,0.38458170413815573,{"$f":"[1]!AgePb8Th2(L60)","v":6577.0202192959196},null,null,null,5044]
[null,18.242999999999999,15.436999999999999,38.091999999999999,36.299999999999997,4.74,0.84618757879734696,{"$f":"[1]!AgePb76(G61)","v":5001.5364307847458},0.50256198347107439,{"$f":"[1]!AgePb6U8(I61)","v":2624.7970355161347},1.049366391184573,0.22138531459590147,{"$f":"[1]!AgePb8Th2(L61)","v":4042.1570149673057},null,null,null,5033]
[null,null,null,null,null,null,"Average",{"$f":"AVERAGE(H36:H61)","v":5057.3886166245884},null,{"$f":"AVERAGE(J36:J61)","v":5296.1734774889937},null,null,{"$f":"AVERAGE(M36:M61)","v":10588.963681722129},null,null,null,5022]
[null,null,null,null,null,null,"Maximum",{"$f":"MAX(H36:H62)","v":5119.6347626473471},null,{"$f":"MAX(J36:J62)","v":8584.16217992977},null,null,{"$f":"MAX(M36:M62)","v":17170.784816184329},null,null,null,5014]
[null,null,null,null,null,null,"Minimum",{"$f":"MIN(H36:H63)","v":5001.5364307847458},null,{"$f":"MIN(J36:J63)","v":1135.936333533622},null,null,{"$f":"MIN(M36:M63)","v":4042.1570149673057},null,null,null,5002]
[null,null,null,null,null,null,"Difference",{"$f":"(H63-H64)","v":118.0983318626013},null,{"$f":"(J63-J64)","v":7448.225846396148},null,null,{"$f":"(M63-M64)","v":13128.627801217022}]
[]
[null,null,null,null,null,null,null,null,null,null,null,null,"208Pb/232Th"]
[null,null,null,null,null,null,null,null,null,null,null,null,"Age","Age","Age","Age"]
[null,null,null,null,null,null,null,null,null,null,null,null,17170.784816184329,13321.771868991875,9736.8538597727566,7967.943751456005]
[null,null,null,null,null,null,null,null,null,null,null,null,15343.052128077383,13202.301029907119,9707.3081031738402,7830.4817455923112]
[null,null,null,null,null,"Table","207Pb/206Pb","206Pb/238U","208Pb/232Th","87Rb/86Sr",null,null,15299.481065038144,13001.302157564602,9049.4042982158517,7249.6489155226573]
[null,null,null,null,null,"Summaries","Age","Age","Age","Age",null,null,15136.03030087345,11118.750948345345,8420.1587501252561,6971.9829087513453]
[null,null,null,null,null,"Average",5057.3886166245884,5296,10589,-1501.8103646482032,null,null,15054.489521188149,10873.125480201332,8418.573479550003,6628.4400889071512]
[null,null,null,null,null,"Maximum",5119.6347626473471,8584.16217992977,17170.784816184329,0.40125844450796178,null,null,13476.479338240897,10758.203105617618,8368.3471474925755,6577.0202192959196]
[null,null,null,null,null,"Minimum",5001.5364307847458,1136,4042,-3592.772833455112]
[null,null,null,null,null,"Difference",118.0983318626013,7448,13129,3593.1740918996202]
[null,null,null,null,null,null,null,null,null,null,null,null,"206Pb/238U"]
[null,null,null,null,null,null,null,null,null,null,null,null,"Age","Age","Age"]
[null,null,null,null,null,null,null,null,null,null,null,null,8584.16217992977,6656.2044074030937,5576.4523247436264]
[null,null,null,null,null,null,null,null,null,null,null,null,7974.6729086557225,6654.0115327466638,5520.2368702910599]
[null,null,null,null,null,null,null,null,null,null,null,null,7313.7485437551804,6517.9158171707631,5285.4694260845063]
[null,null,null,null,null,null,null,null,null,null,null,null,7183.8244361938041,6448.1635909198849,5159.4397798419905]
[null,null,null,null,null,null,null,null,null,null,null,null,6861.3914504372769,5758.3981196005734,5098.5583719787674]
[]
[]
[null,null,null,null,null,null,null,null,null,null,null,null,"207Pb/206Pb"]
[null,null,null,null,null,null,null,null,null,null,null,null,"Age","Age","Age","Age"]
[null,null,null,null,null,null,null,null,null,null,null,null,5119.6347626473471,5066.504441628409,5059.8321574116599,5049.2609176488058]
[null,null,null,null,null,null,null,null,null,null,null,null,5109.2329426917895,5065.9519283464833,5058.6151336056146,5044.5557733390115]
[null,null,null,null,null,null,null,null,null,null,null,null,5096.7588430969272,5065.771744482915,5051.016748795535,5043.7588732833165]
[null,null,null,null,null,null,null,null,null,null,null,null,5076.5830286010323,5064.6278861247456,5050.1825130145007,5043.6716734485863]
[null,null,null,null,null,null,null,null,null,null,null,null,5067.2636913748092,5061.9665323315721,5049.855549252622,5032.686034274021]
[null,null,null,null,null,null,null,null,null,null,null,null,5066.5984151680241,5060.0662973207009,5049.786629766214,5022.1796914541428]
[]
[null,null,null,null,null,null,null,null,null,null,null,null,"87Rb/86Sr"]
[null,null,null,null,null,null,null,null,null,null,null,null,"Age","Age","Age","Age"]
[null,null,null,null,null,null,null,null,null,null,null,null,-3592.772833455112,-2980.8664502562228,-1916.7134842161925,-1323.2727320653921]
[null,null,null,null,null,null,null,null,null,null,null,null,-3230.6589095346831,-2725.1787388649682,-1610.8018662441425,-1245.1798152445017]
[null,null,null,null,null,null,null,null,null,null,null,null,-3089.0972368565672,-2050.4714055278264,-1498.5918384885865,-1229.2168113949087]
[null,null,null,null,null,null,null,null,null,null,null,null,-3067.4715010435666,-1926.1980381294984,-1370.3087960062239,-1194.3905219448366]

{"sheet":"Nd_Sm_08","index":8,"n_rows":86,"n_cols":20,"rows_kept":86,"cut":false,"hidden":false,"merged":[]}
["Rubidium","TABLE 1.",null,null,null,null,null,null,null,null," Rubidium_019.pdf",null,null,null,null,"232Th/208Pb",null,"206Pb/238U",null,"207Pb/206Pb"]
["Strontium","Initial","Today","Today","The Ratio","Half","Decay","2.303/Delta","Age","Age","Age","Model Age","Model Age","Model Age",null,94396.269482446194,null,22200.704611067998,null,5076.5830286010296]
["Dating","87Sr/86Sr","87Sr/86Sr","87Rb/86Sr","Plus One","Life","Constant","Constant","Years","Million Years","Billion Years","Million Years","% Difference"," Difference",null,90682.651334403272,null,21813.207029910729,null,5070.4095550985248]
[" ",0.70752999999999999,0.70472999999999997,6.5699999999999995E-2,{"$f":"1+((C4-B4)/D4)","v":0.95738203957382007},48800000000,{"$f":"(0.693/F4)","v":1.4200819672131146E-11},{"$f":"(2.303/G4)","v":162173737373.7374},{"$f":"(LOG(E4))*(H4)","v":-3067471501.0435667},{"$f":"(I4/1000000)","v":-3067.4715010435666},{"$f":"(J4/1000)","v":-3.0674715010435665},null,null,null,null,74639.25340707117,null,19320.190449406655,null,5061.9665323315721]
[null,0.70752999999999999,0.70379999999999998,0.20039999999999999,0.98138722554890212,48800000000,1.4200819672131146E-11,162173737373.7374,-1323272732.065392,-1323.2727320653921,-1.3232727320653921,null,null,null,null,58152.801062836079,null,16656.390670297016,null,5060.0662973207009]
[null,null,null,null,null,null,null,null,null,null,null,null,null,null,null,55323.914389928817,null,16199.878029335672,null,5058.6151336056146]
[null,null,null,null,null,null,null,null,null,null,null,null,null,null,null,45242.233145134218,null,14748.271019751501,null,5055.3137864959954]
[null,null,null,null,null,null,null,null,null,null,null,null,null,null,null,39267.097436744305,null,13606.576209458295,null,5051.016748795535]
[null,null,null,null,null,null,null,null,null,null,null,null,null,null,null,26266.027933754187,null,11255.650537389578,null,5049.855549252622]
[null,null,null,null,null,null,null,null,"232Th/208Pb",null,"206Pb/238U",null,"207Pb/206Pb",null,null,18333.850263120214,null,9877.5850267629157,null,5049.786629766214]
[null,"206Pb/204Pb","207Pb/204Pb","208Pb/204Pb","238U/204Pb","232Th/238U","208Pb/238U","232Th/208Pb","Age","206Pb/238U","Age","207Pb/206Pb","Age",null,null,16357.261128707001,null,9656.1050782804505,null,5044.5557733390115]
["TABLE 1",18.835999999999999,15.602,38.377000000000002,0.99,4.18,{"$f":"(D12/E12)","v":38.764646464646468},{"$f":"(G12/E12)","v":39.156208550147944},{"$f":"[1]!AgePb8Th2(H12)","v":74639.25340707117},{"$f":"(B12/E12)","v":19.026262626262625},{"$f":"[1]!AgePb6U8(J12)","v":19320.190449406655},{"$f":"(C12/B12)","v":0.82830749628371214},{"$f":"[1]!AgePb76(L12)","v":4971.2067349988974},null,null,14249.890915787033,null,9054.1202359344334,null,5043.7709240558579]
[null,18.184999999999999,15.605,38.061,0.6,0.94099999999999995,{"$f":"(D13/E13)","v":63.435000000000002},{"$f":"(G13/E13)","v":105.72500000000001},{"$f":"[1]!AgePb8Th2(H13)","v":94396.269482446194},{"$f":"(B13/E13)","v":30.308333333333334},{"$f":"[1]!AgePb6U8(J13)","v":22200.704611067998},0.85812482815507296,{"$f":"[1]!AgePb76(L13)","v":5021.4088014139261},null,null,11215.301330236282,null,8241.7644519501864,null,5043.7588732833165]
[null,18.841000000000001,15.682,38.473999999999997,6.13,0.501,6.2763458401305057,1.0238737096460857,{"$f":"[1]!AgePb8Th2(H14)","v":14249.890915787033},3.073572593800979,{"$f":"[1]!AgePb6U8(J14)","v":9054.1202359344334},0.83233374024733287,{"$f":"[1]!AgePb76(L14)","v":4978.0966758023769},null,null,10595.304059990285,null,8044.4764449097829,null,5043.6716734485863]
[null,18.494,15.612,38.220999999999997,1.51,0.77400000000000002,25.311920529801323,16.762861278014121,{"$f":"[1]!AgePb8Th2(H15)","v":58152.801062836079},12.247682119205297,{"$f":"[1]!AgePb6U8(J15)","v":16656.390670297016},0.84416567535416898,{"$f":"[1]!AgePb76(L15)","v":4998.1410244784583},null,null,10284.010424938078,null,7996.0905630345542,null,5034.4080368434643]
[null,19.035,15.773,38.726999999999997,2.15,0.86499999999999999,18.012558139534882,8.3779340183883182,{"$f":"[1]!AgePb8Th2(H16)","v":45242.233145134218},8.8534883720930235,{"$f":"[1]!AgePb6U8(J16)","v":14748.271019751501},0.82863146834778034,{"$f":"[1]!AgePb76(L16)","v":4971.7624502031613},null,null,9328.2288973687173,null,7590.0853382887935,null,5033.1797204075619]
[null,18.626999999999999,15.664,38.441000000000003,"-",4.6100000000000003,0,0,null,0,null,0.84092983303806301,{"$f":"[1]!AgePb76(L17)","v":4992.6890188345496},null,null,8820.6420082776403,null,7421.8852038634004,null,5032.918271784084]
[null,17.698,15.327,37.744999999999997,10.7,3.34,{"$f":"(D18/E18)","v":3.5275700934579439},{"$f":"(G18/E18)","v":0.32967944798672377},{"$f":"[1]!AgePb8Th2(H18)","v":5759.2298460468965},1.6540186915887851,{"$f":"[1]!AgePb6U8(J18)","v":6292.1835853943949},0.86603005989377324,{"$f":"[1]!AgePb76(L18)","v":5034.4080368434643},null,null,8770.778407799402,null,7348.0905289460343,null,5032.686034274021]
[null,18.257999999999999,15.488,37.972999999999999,26.3,4.05,1.4438403041825094,5.4898870881464237E-2,{"$f":"[1]!AgePb8Th2(H19)","v":1080.2406336343875},0.69422053231939163,{"$f":"[1]!AgePb6U8(J19)","v":3398.6963553560872},0.84828568298827911,{"$f":"[1]!AgePb76(L19)","v":5005.0507029222017},null,null,8402.8970879453245,null,7334.6923515091621,null,5032.3086149308783]
[null,18.373999999999999,15.484,37.904000000000003,1.62,0.51300000000000001,23.397530864197531,14.442920286541685,{"$f":"[1]!AgePb8Th2(H20)","v":55323.914389928817},11.341975308641974,{"$f":"[1]!AgePb6U8(J20)","v":16199.878029335672},0.84271252857298362,{"$f":"[1]!AgePb76(L20)","v":4995.6953980096623},null,null,8170.9659351246128,null,7249.0688075805829,null,5029.6109991783296]
[null,18.079999999999998,15.48,38.005000000000003,8.0500000000000007,2.84,4.7211180124223597,0.58647428725743589,{"$f":"[1]!AgePb8Th2(H21)","v":9328.2288973687173},2.2459627329192542,{"$f":"[1]!AgePb6U8(J21)","v":7590.0853382887935},0.85619469026548678,{"$f":"[1]!AgePb76(L21)","v":5018.2156011793159},null,null,7789.4425198517065,null,7202.372990816335,null,5027.3274618499154]
[null,18.814,15.589,38.619999999999997,99.4,4.46,0.38853118712273638,3.9087644579752145E-3,{"$f":"[1]!AgePb8Th2(H22)","v":78.850835505055628},0.18927565392354123,{"$f":"[1]!AgePb6U8(J22)","v":1117.449976548116},0.8285850962049538,{"$f":"[1]!AgePb76(L22)","v":4971.6829213822994},null,null,7637.6968256549326,null,7019.2940995547569,null,5022.071295246632]
[null,18.815999999999999,15.581,38.218000000000004,45.2,4.07,0.84553097345132744,1.870643746573733E-2,{"$f":"[1]!AgePb8Th2(H23)","v":374.60583908719991},0.41628318584070789,{"$f":"[1]!AgePb6U8(J23)","v":2243.5839824444397},0.82807185374149661,{"$f":"[1]!AgePb76(L23)","v":4970.8023878858194},null,null,7374.7183161252588,null,6923.1094999987345,null,5021.4088014139261]
[null,17.626000000000001,15.432,37.691000000000003,19.52,4.0049999999999999,1.9308913934426231,9.8918616467347495E-2,{"$f":"[1]!AgePb8Th2(H24)","v":1906.5511941277684},0.90297131147540988,{"$f":"[1]!AgePb6U8(J24)","v":4147.7293329908371},0.87552479291955065,{"$f":"[1]!AgePb76(L24)","v":5049.855549252622},null,null,7317.2127098823885,null,6847.6516962037758,null,5018.2156011793159]
[null,17.667999999999999,15.411,37.645000000000003,20.37,3.9020000000000001,1.8480608738340698,9.0724637890725074E-2,{"$f":"[1]!AgePb8Th2(H25)","v":1755.2760133434306},0.86735395189003428,{"$f":"[1]!AgePb6U8(J25)","v":4025.9302486430615},0.87225492415666739,{"$f":"[1]!AgePb76(L25)","v":5044.5557733390115},null,null,5759.2298460468965,null,6292.1835853943949,null,5009.7290017023633]
[null,17.628,15.433,37.710999999999999,19.364999999999998,3.7879999999999998,1.9473792925380842,0.1005618018351709,{"$f":"[1]!AgePb8Th2(H26)","v":1936.7514576605049},0.91030209140201401,{"$f":"[1]!AgePb6U8(J26)","v":4172.515020723853},0.87548218742909012,{"$f":"[1]!AgePb76(L26)","v":5049.786629766214},null,null,4676.2854205414997,null,5745.6290208002065,null,5008.2206717357458]
[null,17.599,15.420999999999999,37.716000000000001,14.6,5.01,2.5832876712328767,0.17693751172827923,{"$f":"[1]!AgePb8Th2(H27)","v":3292.8900602082972},1.2054109589041095,{"$f":"[1]!AgePb6U8(J27)","v":5098.5583719787674},0.87624296835047444,{"$f":"[1]!AgePb76(L27)","v":5051.016748795535},null,null,null,null,5699.8793917575076,null,5008.2086175371887]
[null,17.670999999999999,15.404,37.621000000000002,21.8,4,1.7257339449541285,7.9162107566703138E-2,{"$f":"[1]!AgePb8Th2(H28)","v":1539.866876200256},0.81059633027522926,{"$f":"[1]!AgePb6U8(J28)","v":3826.9541031862532},0.87171071246675347,{"$f":"[1]!AgePb76(L28)","v":5043.6716734485863},null,null,null,null,5217.7671804655138,null,5005.6275862797484]
[null,17.773,15.494,37.683,8.5500000000000007,1.17,4.4073684210526309,0.51548168667282224,{"$f":"[1]!AgePb8Th2(H29)","v":8402.8970879453245},2.0787134502923976,{"$f":"[1]!AgePb6U8(J29)","v":7249.0688075805829},0.87177178866820459,{"$f":"[1]!AgePb76(L29)","v":5043.7709240558579},null,null,null,null,5201.3711252248586,null,5005.0507029222017]
[null,18.428000000000001,15.553000000000001,38.136000000000003,9.35,3.11,4.0787165775401073,0.43622637192942326,{"$f":"[1]!AgePb8Th2(H30)","v":7317.2127098823885},1.9709090909090912,{"$f":"[1]!AgePb6U8(J30)","v":7019.2940995547569},0.84398741046233994,{"$f":"[1]!AgePb76(L30)","v":4997.8412478288737},null,null,null,null,5163.4346325024762,null,5004.6137015824524]
[null,18.292999999999999,15.523999999999999,37.408999999999999,14.9,1.28,2.5106711409395972,0.16850141885500652,{"$f":"[1]!AgePb8Th2(H31)","v":3147.4904345499776},1.2277181208053691,{"$f":"[1]!AgePb6U8(J31)","v":5163.4346325024762},0.84863062373585518,{"$f":"[1]!AgePb76(L31)","v":5005.6275862797484},null,null,null,null,5159.4397798419905,null,5001.5364307847458]
[null,18.626999999999999,15.563000000000001,38.229999999999997,8.76,4.71,4.3641552511415522,0.4981912387147891,{"$f":"[1]!AgePb8Th2(H32)","v":8170.9659351246128},2.1263698630136987,{"$f":"[1]!AgePb6U8(J32)","v":7348.0905289460343},0.83550759649970485,{"$f":"[1]!AgePb76(L32)","v":4983.5030418181905},null,null,null,null,5098.5583719787674,null,5001.4017097428641]
[null,18.161999999999999,15.367000000000001,37.628,19.3,2.0299999999999998,1.9496373056994818,0.10101747697924776,{"$f":"[1]!AgePb8Th2(H33)","v":1945.1183698199773},0.9410362694300517,{"$f":"[1]!AgePb6U8(J33)","v":4275.403641984597},0.84610725691003208,{"$f":"[1]!AgePb76(L33)","v":5001.4017097428641},null,null,null,null,4812.3487067009401,null,5000.3379121860635]
[null,18.981000000000002,15.666,38.554000000000002,17.8,3.26,2.1659550561797754,0.12168286832470647,{"$f":"[1]!AgePb8Th2(H34)","v":2320.972584050915},1.0663483146067416,{"$f":"[1]!AgePb6U8(J34)","v":4678.6975032911205},0.82535166745693056,{"$f":"[1]!AgePb76(L34)","v":4966.1258521598947},null,null,null,null,null,null,4998.1410244784583]
[null,18.613,15.41,38.298999999999999,15,1.49,2.5532666666666666,0.17021777777777777,{"$f":"[1]!AgePb8Th2(H35)","v":3177.1574803744093},1.2408666666666666,{"$f":"[1]!AgePb6U8(J35)","v":5201.3711252248586},0.8279159727072477,{"$f":"[1]!AgePb76(L35)","v":4970.5348390580702},null,null,null,null,null,null,4997.8412478288737]
[null,18.529,15.557,38.168999999999997,9.01,4.59,4.2362930077691452,0.47017680441388959,{"$f":"[1]!AgePb8Th2(H36)","v":7789.4425198517065},2.0564927857935626,{"$f":"[1]!AgePb6U8(J36)","v":7202.372990816335},0.83960278482378981,{"$f":"[1]!AgePb76(L36)","v":4990.4466543391372},null,null,null,null,null,null,4997.4021329450807]
[null,18.18,15.608000000000001,38.356000000000002,21.6,4.9400000000000004,1.7757407407407406,8.2210219478737981E-2,{"$f":"[1]!AgePb8Th2(H37)","v":1596.8761884989528},0.84166666666666656,{"$f":"[1]!AgePb6U8(J37)","v":3936.6379289973042},0.8585258525852586,{"$f":"[1]!AgePb76(L37)","v":5022.071295246632},null,null,null,null,null,null,4995.6953980096623]
[null,18.309000000000001,15.566000000000001,38.241999999999997,16.5,4.67,2.3176969696969696,0.14046648301193754,{"$f":"[1]!AgePb8Th2(H38)","v":2656.6422300800982},1.1096363636363638,{"$f":"[1]!AgePb6U8(J38)","v":4812.3487067009401},0.8501829701239827,{"$f":"[1]!AgePb76(L38)","v":5008.2206717357458},null,null,null,null,null,null,4992.6890188345496]
[null,17.826000000000001,15.414999999999999,37.646000000000001,14.3,5.91,2.6325874125874127,0.18409702185925961,{"$f":"[1]!AgePb8Th2(H39)","v":3415.4720008583067},1.2465734265734265,{"$f":"[1]!AgePb6U8(J39)","v":5217.7671804655138},0.86474812072254004,{"$f":"[1]!AgePb76(L39)","v":5032.3086149308783},null,null,null,null,null,null,4990.4466543391372]
[null,18.423999999999999,15.577,37.94,7.42,4.04,5.1132075471698109,0.68911152926816854,{"$f":"[1]!AgePb8Th2(H40)","v":10595.304059990285},2.4830188679245282,{"$f":"[1]!AgePb6U8(J40)","v":8044.4764449097829},0.84547329570125929,{"$f":"[1]!AgePb76(L40)","v":5000.3379121860635},null,null,null,null,null,null,4987.701232108534]
[null,19.306000000000001,15.701000000000001,38.527000000000001,5.56,0.59499999999999997,6.9293165467625908,1.2462799544537035,{"$f":"[1]!AgePb8Th2(H41)","v":16357.261128707001},3.4723021582733815,{"$f":"[1]!AgePb6U8(J41)","v":9656.1050782804505},0.81327048585931838,{"$f":"[1]!AgePb76(L41)","v":4945.1560080139889},null,null,null,null,null,null,4983.5030418181905]
[null,17.978000000000002,15.555999999999999,37.526000000000003,74.8,8,0.50168449197860965,6.7070119248477224E-3,{"$f":"[1]!AgePb8Th2(H42)","v":135.11106592430525},0.24034759358288774,{"$f":"[1]!AgePb6U8(J42)","v":1388.5038371694889},0.86527978640560677,{"$f":"[1]!AgePb76(L42)","v":5033.1797204075619},null,null,null,null,null,null,4981.0032088314219]
[null,17.925999999999998,15.472,37.338999999999999,8.2899999999999991,8.43,4.50410132689988,0.54331740975873111,{"$f":"[1]!AgePb8Th2(H43)","v":8770.778407799402},2.1623642943305188,{"$f":"[1]!AgePb6U8(J43)","v":7421.8852038634004},0.8631038714716055,{"$f":"[1]!AgePb76(L43)","v":5029.6109991783296},null,null,null,null,null,null,4978.0966758023769]
[null,18.797999999999998,15.61,38.250999999999998,0.66,3.85,57.956060606060596,87.812213039485741,{"$f":"[1]!AgePb8Th2(H44)","v":90682.651334403272},28.481818181818177,{"$f":"[1]!AgePb6U8(J44)","v":21813.207029910729},0.83040749015852755,{"$f":"[1]!AgePb76(L44)","v":4974.8047956202445},null,null,null,null,null,null,4974.8047956202445]
[null,17.471,15.407,37.512,9.23,4.3710000000000004,4.064138678223185,0.44031838333945666,{"$f":"[1]!AgePb8Th2(H45)","v":7374.7183161252588},1.8928494041170096,{"$f":"[1]!AgePb6U8(J45)","v":6847.6516962037758},0.8818613702707343,{"$f":"[1]!AgePb76(L45)","v":5060.0662973207009},null,null,null,null,null,null,4971.7624502031613]
[null,17.399999999999999,15.365,37.442,9.0299999999999994,5.86,4.1464008859357699,0.45918060752334111,{"$f":"[1]!AgePb8Th2(H46)","v":7637.6968256549326},1.9269102990033222,{"$f":"[1]!AgePb6U8(J46)","v":6923.1094999987345},0.88304597701149434,{"$f":"[1]!AgePb76(L46)","v":5061.9665323315721},null,null,null,null,null,null,4971.6829213822994]
[null,17.655000000000001,15.391,37.51,19.489999999999998,4.6740000000000004,1.9245767060030785,9.8746880759521732E-2,{"$f":"[1]!AgePb8Th2(H47)","v":1903.3922408092203},0.90584915341200634,{"$f":"[1]!AgePb6U8(J47)","v":4157.4708079568099},0.87176437269895213,{"$f":"[1]!AgePb76(L47)","v":5043.7588732833165},null,null,null,null,null,null,4971.2067349988974]
[null,17.172999999999998,15.321999999999999,37.110999999999997,11.94,3.294,3.1081239530988274,0.26031188886924855,{"$f":"[1]!AgePb8Th2(H48)","v":4676.2854205414997},1.4382747068676716,{"$f":"[1]!AgePb6U8(J48)","v":5745.6290208002065},0.89221452279741453,{"$f":"[1]!AgePb76(L48)","v":5076.5830286010323},null,null,null,null,null,null,4970.8023878858194]
[null,17.414000000000001,15.340999999999999,37.332999999999998,14.2,3.605,2.6290845070422537,0.18514679627058125,{"$f":"[1]!AgePb8Th2(H49)","v":3433.3834385874097},1.2263380281690142,{"$f":"[1]!AgePb6U8(J49)","v":5159.4397798419905},0.88095785000574234,{"$f":"[1]!AgePb76(L49)","v":5058.6151336056146},null,null,null,null,null,null,4970.5348390580702]
[null,17.849,15.439,37.768999999999998,26.38,3.7250000000000001,1.4317285822592873,5.4273259372982843E-2,{"$f":"[1]!AgePb8Th2(H50)","v":1068.2501442026255},0.67661106899166035,{"$f":"[1]!AgePb6U8(J50)","v":3331.3426929677603},0.86497843016415488,{"$f":"[1]!AgePb76(L50)","v":5032.686034274021},null,null,null,null,null,null,4966.1258521598947]
[null,17.696999999999999,15.554,37.311999999999998,3.74,0.73699999999999999,9.9764705882352924,2.6675055048757463,{"$f":"[1]!AgePb8Th2(H51)","v":26266.027933754187},4.7318181818181815,{"$f":"[1]!AgePb6U8(J51)","v":11255.650537389578},0.87890602927049788,{"$f":"[1]!AgePb76(L51)","v":5055.3137864959954},null,null,null,null,null,null,4945.1560080139889]
[null,17.489000000000001,15.536,37.238999999999997,8.25,3.64,4.5138181818181815,0.547129476584022,{"$f":"[1]!AgePb8Th2(H52)","v":8820.6420082776403},2.1198787878787879,{"$f":"[1]!AgePb6U8(J52)","v":7334.6923515091621},0.88832980730745037,{"$f":"[1]!AgePb76(L52)","v":5070.4095550985248}]
[null,18.672999999999998,15.574,38.311999999999998,7.6,0.54400000000000004,5.041052631578947,0.66329639889196679,{"$f":"[1]!AgePb8Th2(H53)","v":10284.010424938078},2.4569736842105261,{"$f":"[1]!AgePb6U8(J53)","v":7996.0905630345542},0.83403845123975806,{"$f":"[1]!AgePb76(L53)","v":4981.0032088314219}]
[null,18.117999999999999,15.42,37.704999999999998,34.299999999999997,0.89400000000000002,1.0992711370262391,3.204872119610027E-2,{"$f":"[1]!AgePb8Th2(H54)","v":637.61245894552167},0.52822157434402328,{"$f":"[1]!AgePb6U8(J54)","v":2733.9544858593626},0.85108731648084779,{"$f":"[1]!AgePb76(L54)","v":5009.7290017023633}]
[null,18.298999999999999,15.518000000000001,37.817,19,2.1800000000000002,1.9903684210526316,0.1047562326869806,{"$f":"[1]!AgePb8Th2(H55)","v":2013.6373265267491},0.96310526315789469,{"$f":"[1]!AgePb6U8(J55)","v":4348.2838837870731},0.84802448221214277,{"$f":"[1]!AgePb76(L55)","v":5004.6137015824524}]
[null,18.207999999999998,15.48,37.661000000000001,2.5099999999999998,0.54200000000000004,15.004382470119523,5.9778416215615637,{"$f":"[1]!AgePb8Th2(H56)","v":39267.097436744305},7.2541832669322712,{"$f":"[1]!AgePb6U8(J56)","v":13606.576209458295},0.85017574692442888,{"$f":"[1]!AgePb76(L56)","v":5008.2086175371887}]
[null,18.506,15.614000000000001,38.417999999999999,5.0999999999999996,4.3899999999999997,7.5329411764705885,1.477047289504037,{"$f":"[1]!AgePb8Th2(H57)","v":18333.850263120214},3.6286274509803924,{"$f":"[1]!AgePb6U8(J57)","v":9877.5850267629157},0.84372635901869664,{"$f":"[1]!AgePb76(L57)","v":4997.4021329450807}]
[null,18.683,15.656000000000001,38.558,7.21,4.3,5.3478502080443828,0.74172679723223067,{"$f":"[1]!AgePb8Th2(H58)","v":11215.301330236282},2.5912621359223302,{"$f":"[1]!AgePb6U8(J58)","v":8241.7644519501864},0.83798105229352893,{"$f":"[1]!AgePb76(L58)","v":4987.701232108534}]
[null,17.905000000000001,15.429,37.74,12.6,3.72,2.9952380952380957,0.23771730914588063,{"$f":"[1]!AgePb8Th2(H59)","v":4310.6377644153881},1.4210317460317461,{"$f":"[1]!AgePb6U8(J59)","v":5699.8793917575076},0.86171460485897788,{"$f":"[1]!AgePb76(L59)","v":5027.3274618499154}]
[null,17.89,15.477,37.722000000000001,17.600000000000001,3.72,2.1432954545454543,0.12177815082644626,{"$f":"[1]!AgePb8Th2(H60)","v":2322.6894596036714},1.0164772727272726,{"$f":"[1]!AgePb6U8(J60)","v":4521.205895982589},0.86512017887087755,{"$f":"[1]!AgePb76(L60)","v":5032.918271784084}]
[null,18.242999999999999,15.436999999999999,38.091999999999999,36.299999999999997,4.74,1.049366391184573,2.8908165046406972E-2,{"$f":"[1]!AgePb8Th2(H61)","v":576.01225007954542},0.50256198347107439,{"$f":"[1]!AgePb6U8(J61)","v":2624.7970355161347},0.84618757879734696,{"$f":"[1]!AgePb76(L61)","v":5001.5364307847458}]
[null,null,null,null,null,null,null,"Average",{"$f":"AVERAGE(I12:I61)","v":14197.539849730803},null,{"$f":"AVERAGE(K12:K61)","v":7365.8577429045472},null,{"$f":"AVERAGE(M12:M61)","v":5013.6565460258935}]
[null,null,null,null,null,null,null,"Maximum",{"$f":"MAX(I12:I62)","v":94396.269482446194},null,{"$f":"MAX(K12:K62)","v":22200.704611067998},null,{"$f":"MAX(M12:M62)","v":5076.5830286010323}]
[null,null,null,null,null,null,null,"Minimum",{"$f":"MIN(I12:I63)","v":78.850835505055628},null,{"$f":"MIN(K12:K63)","v":1117.449976548116},null,{"$f":"MIN(M12:M63)","v":4945.1560080139889}]
[null,null,null,null,null,null,null,"Difference",{"$f":"(I63-I64)","v":94317.418646941136},null,{"$f":"(K63-K64)","v":21083.254634519883},null,{"$f":"(M63-M64)","v":131.42702058704344}]
[]
[null,null,null,null,null,null,null,null,"232Th/208Pb"]
[null,"Dating","232Th/208Pb","206Pb/238U","207Pb/206Pb",null,null,null,"Age","Age","Age","Age"]
[null,"Summaries","Age","Age","Age",null,null,null,94396.269482446194,39267.097436744305,10595.304059990285,8170.9659351246128]
[null,"Average",14198,7366,5013.6565460258935,null,null,null,90682.651334403272,26266.027933754187,10284.010424938078,7789.4425198517065]
[null,"Maximum",94396.269482446194,22200.704611067998,5076.5830286010323,null,null,null,74639.25340707117,18333.850263120214,9328.2288973687173,7637.6968256549326]
[null,"Minimum",79,1117,4945.1560080139889,null,null,null,58152.801062836079,16357.261128707001,8820.6420082776403,7374.7183161252588]
[null,"Difference",94317,21083,131.42702058704344,null,null,null,55323.914389928817,14249.890915787033,8770.778407799402,7317.2127098823885]
[null,null,null,null,null,null,null,null,45242.233145134218,11215.301330236282,8402.8970879453245,5759.2298460468965]
[]
[]
[null,null,null,null,null,null,null,null,"206Pb/238U"]
[null,null,null,null,null,null,null,null,"Age","Age","Age","Age"]
[null,null,null,null,null,null,null,null,22200.704611067998,9877.5850267629157,7348.0905289460343,5745.6290208002065]
[null,null,null,null,null,null,null,null,21813.207029910729,9656.1050782804505,7334.6923515091621,5699.8793917575076]
[null,null,null,null,null,null,null,null,19320.190449406655,9054.1202359344334,7249.0688075805829,5217.7671804655138]
[null,null,null,null,null,null,null,null,16656.390670297016,8241.7644519501864,7202.372990816335,5201.3711252248586]
[null,null,null,null,null,null,null,null,16199.878029335672,8044.4764449097829,7019.2940995547569,5163.4346325024762]
[null,null,null,null,null,null,null,null,14748.271019751501,7996.0905630345542,6923.1094999987345,5159.4397798419905]
[null,null,null,null,null,null,null,null,13606.576209458295,7590.0853382887935,6847.6516962037758,5098.5583719787674]
[null,null,null,null,null,null,null,null,11255.650537389578,7421.8852038634004,6292.1835853943949,4812.3487067009401]

{"sheet":"Nd_Sm_09","index":9,"n_rows":96,"n_cols":21,"rows_kept":96,"cut":false,"hidden":false,"merged":[]}
["Rubidium","TABLE 1.",null,null,null,null,null,null,null,null,"Rubidium_022.pdf",null,null,null,null,null,null,"207Pb/206Pb","206Pb/238U","208Pb/232Th","207Pb/235U"]
["Strontium","Initial","Today","Today","The Ratio","Half","Decay","2.303/Delta","Age","Age","Age","Model Age","Model Age","Model Age",null,null,null,5017.9577985987862,56922.509704520831,65285.771991483707,8128.1751989004524]
["Dating","87Sr/86Sr","87Sr/86Sr","87Rb/86Sr","Plus One","Life","Constant","Constant","Years","Million Years","Billion Years","Million Years","% Difference"," Difference",null,null,null,4988.596147675019,27312.530820375312,33897.858734874484,6654.7529106217298]
["Table 3.",0.69910000000000005,0.69914799999999999,1.2960000000000001E-3,{"$f":"1+((C4-B4)/D4)","v":1.0370370370369884},48800000000,{"$f":"(0.693/F4)","v":1.4200819672131146E-11},{"$f":"(2.303/G4)","v":162173737373.7374},{"$f":"(LOG(E4))*(H4)","v":2561415338.1807842},{"$f":"(I4/1000000)","v":2561.4153381807841},{"$f":"(J4/1000)","v":2.561415338180784},null,null,null,null,null,null,4977.9646325542271,17873.255260208098,25012.719303380058,5988.1490127241586]
[null,0.69910000000000005,0.69930400000000004,2.6589999999999999E-3,1.0767205716434682,48800000000,1.4200819672131146E-11,162173737373.7374,5206265224.5510263,5206.2652245510262,5.2062652245510259,null,null,null,null,null,null,4977.4067866302048,13680.20481039074,22178.43487933245,5891.6793872703465]
[null,0.69910000000000005,0.69913999999999998,2.2000000000000001E-3,1.0181818181817859,48800000000,1.4200819672131146E-11,162173737373.7374,1269064230.5226662,1269.0642305226663,1.2690642305226663,null,null,null,null,null,null,4950.8692763710415,13622.813352219995,21204.079698998958,5427.4264633668954]
[null,0.69910000000000005,0.70047599999999999,2.4500000000000001E-2,1.0561632653061197,48800000000,1.4200819672131146E-11,162173737373.7374,3848554384.545557,3848.5543845455572,3.8485543845455572,null,null,null,null,null,null,4923.1768345581622,10895.057633853698,17610.780514268201,5300.1118326578453]
[null,0.69910000000000005,0.69994299999999998,2.1520000000000001E-2,1.0391728624535281,48800000000,1.4200819672131146E-11,162173737373.7374,2706322375.8993492,2706.322375899349,2.7063223758993491,null,null,null,null,null,null,4909.1224707814172,10277.674614820644,14430.110555684158,5172.7303748052673]
[null,0.69910000000000005,0.69983600000000001,9.2630000000000004E-3,1.0794558998164696,48800000000,1.4200819672131146E-11,162173737373.7374,5384963434.1409531,5384.9634341409528,5.3849634341409525,null,null,null,null,null,null,4907.9131975863984,9652.7858734922011,14410.304352827186,4848.3657009444951]
[null,0.69910000000000005,0.70116599999999996,4.7399999999999998E-2,1.0435864978902933,48800000000,1.4200819672131146E-11,162173737373.7374,3004828224.9822226,3004.8282249822228,3.0048282249822229,null,null,null,null,null,null,4907.5058086118661,8009.1796338448912,13106.8938440284,4844.0723201154133]
[null,0.69910000000000005,0.70068699999999995,2.0799999999999999E-2,1.0762980769230719,48800000000,1.4200819672131146E-11,162173737373.7374,5178623296.4732304,5178.6232964732308,5.1786232964732308,null,null,null,null,null,null,4907.5058086118661,7394.5846389614026,12737.89551866743]
[null,0.69910000000000005,0.69914600000000005,9.6599999999999995E-4,1.0476190476190377,48800000000,1.4200819672131146E-11,162173737373.7374,3276458629.5414019,3276.4586295414019,3.276458629541402,null,null,null,null,null,null,4885.1180776195288,6764.3319706251868,11641.010200190081]
[null,0.69910000000000005,0.69913499999999995,7.27E-4,1.0481430536449743,48800000000,1.4200819672131146E-11,162173737373.7374,3311678612.3897052,3311.678612389705,3.3116786123897048,null,null,null,null,null,null,4877.6472701100356,6669.5049714243187,11174.332390524964]
[null,0.69910000000000005,0.69986000000000004,1.545E-2,1.0491909385113258,48800000000,1.4200819672131146E-11,162173737373.7374,3382057247.6627889,3382.057247662789,3.382057247662789,null,null,null,null,null,null,4870.0528895806956,6448.5912612394468,9094.0568936773034]
[null,0.69910000000000005,0.69941500000000001,6.6909999999999999E-3,1.0470781646988423,48800000000,1.4200819672131146E-11,162173737373.7374,3240085819.4654689,3240.0858194654688,3.2400858194654689,null,null,null,null,null,null,4869.9536331520867,6436.2518060446573,6520.2752287007506]
[null,0.69910000000000005,0.69932799999999995,3.9220000000000001E-3,1.0581336053033898,48800000000,1.4200819672131146E-11,162173737373.7374,3979825798.9137092,3979.8257989137091,3.9798257989137094,null,null,null,null,null,null,4869.9536331520867,6069.7407836159464,6165.847003721593]
[null,0.69910000000000005,0.70028199999999996,1.9E-2,1.0622105263157844,48800000000,1.4200819672131146E-11,162173737373.7374,4250671104.3088951,4250.6711043088953,4.2506711043088954,null,null,null,null,null,null,4843.0680041163259,5776.554549921907,6121.1032685114378]
[null,0.69910000000000005,0.69912600000000003,4.0400000000000001E-4,1.0643564356434914,48800000000,1.4200819672131146E-11,162173737373.7374,4392814695.9304514,4392.8146959304513,4.3928146959304515,null,null,null,null,null,null,4829.625094267948,5624.8045700321436,5671.1859719347995]
[null,0.69910000000000005,0.69919299999999995,1.33E-3,1.0699248120299991,48800000000,1.4200819672131146E-11,162173737373.7374,4760327735.1308107,4760.3277351308107,4.7603277351308106,null,null,null,null,null,null,4781.1582262138563,5601.595618782495,5408.4163869586264]
[null,0.69910000000000005,0.69914799999999999,1.0679999999999999E-3,1.0449438202246601,48800000000,1.4200819672131146E-11,162173737373.7374,3096373746.8418384,3096.3737468418385,3.0963737468418384,null,null,null,null,null,null,4744.1198240798976,5277.5368445263794,5400.6814251719161]
[null,0.69910000000000005,0.70341500000000001,7.7789999999999998E-2,1.0554698547371122,48800000000,1.4200819672131146E-11,162173737373.7374,3802298516.0388803,3802.2985160388803,3.8022985160388805,null,null,null,null,null,null,4735.3126835076664,5146.8666637707547,5396.0390268668889]
[null,0.69910000000000005,0.70240400000000003,5.8659999999999997E-2,1.0563245823389018,48800000000,1.4200819672131146E-11,162173737373.7374,3859311128.6949091,3859.3111286949093,3.8593111286949093,null,null,null,null,null,null,4700.1994691866548,4952.4876908734932,5365.0624255575794]
[null,0.69910000000000005,0.70016199999999995,1.8960000000000001E-2,1.0560126582278426,48800000000,1.4200819672131146E-11,162173737373.7374,3838510305.343389,3838.5103053433891,3.8385103053433891,null,null,null,null,null,null,4700.1602668471423,4922.5182543658775,5098.2562004544125]
[null,0.69910000000000005,0.70407600000000004,8.2519999999999996E-2,1.0603005332040716,48800000000,1.4200819672131146E-11,162173737373.7374,4123912692.6368675,4123.9126926368672,4.1239126926368668,null,null,null,null,null,null,4670.5003096641467,4828.7175664673096,5035.3338104731165]
[null,0.69910000000000005,0.70018599999999998,0.1055,1.0102938388625584,48800000000,1.4200819672131146E-11,162173737373.7374,721300863.50732923,721.30086350732927,0.72130086350732925,null,null,null,null,null,null,4670.5003096641467,4627.4926230479732]
[null,0.69910000000000005,0.70303400000000005,7.0730000000000001E-2,1.0556199632404919,48800000000,1.4200819672131146E-11,162173737373.7374,3812314495.3063259,3812.3144953063261,3.8123144953063259,null,null,null,null,null,null,4660.7868729044321]
[null,0.69910000000000005,0.70018599999999998,1.9400000000000001E-2,1.055979381443295,48800000000,1.4200819672131146E-11,162173737373.7374,3836290862.7810969,3836.2908627810971,3.8362908627810972,null,null,null,null,null,null,4653.7724952730441]
[null,null,null,null,null,null,null,null,"Average",{"$f":"AVERAGE(J4:J27)","v":3618.5111984912364},null,null,null,null,null,null,null,4608.1374562104183]
[null,null,null,null,null,null,null,null,"Maximum",{"$f":"MAX(J4:J28)","v":5384.9634341409528},null,null,null,null,null,null,null,4608.0986020343298]
[null,null,null,null,null,null,null,null,"Minimum",{"$f":"MIN(J4:J29)","v":721.30086350732927}]
[null,null,null,null,null,null,null,null,"Difference",{"$f":"(J29-J30)","v":4663.6625706336235}]
[]
[]
["Table 1. ",null,null,null,null,null,null,null,null,null,"207Pb/206Pb","206Pb/238U","208Pb/232Th","207Pb/235U"]
[" Sample","206Pb/204Pb","207Pb/204Pb","208Pb/204Pb","238U/ 204Pb","232Th/204Pb","206Pb/238U","207Pb/235U","208Pb/232Th","207Pb/206Pb","Age","Age","Age","Age"]
["Acetone "]
["PL1,W",18.637,15.954000000000001,38.414000000000001,1.0269999999999999,3.7490000000000001,7.2750000000000004,363.1,1.996,{"$f":"(C37/B37)","v":0.85603906208080704},{"$f":"[1]!AgePb76($J$37)","v":5017.9577985987862},{"$f":"[1]!AgePb6U8(G37)","v":13622.813352219995},{"$f":"[1]!AgePb8Th2(I37)","v":22178.43487933245},{"$f":"[1]!AgePb7U5(H37)","v":5988.1490127241586}]
["PL2.W",18.879000000000001,15.706,38.874000000000002,0.11310000000000001,0.32700000000000001,68.19,2995,24.28,{"$f":"(C38/B38)","v":0.83192965729116997},{"$f":"[1]!AgePb76($J$38)","v":4977.4067866302048},{"$f":"[1]!AgePb6U8(G38)","v":27312.530820375312},{"$f":"[1]!AgePb8Th2(I38)","v":65285.771991483707},{"$f":"[1]!AgePb7U5(H38)","v":8128.1751989004524}]
["PL3,W",19.190000000000001,15.971,39.003,0.53500000000000003,1.86,15,701,4.3499999999999996,0.83225638353309006,{"$f":"[1]!AgePb76($J$39)","v":4977.9646325542271},{"$f":"[1]!AgePb6U8(G39)","v":17873.255260208098},{"$f":"[1]!AgePb8Th2(I39)","v":33897.858734874484},{"$f":"[1]!AgePb7U5(H39)","v":6654.7529106217298}]
["PX 1 ,W",20.844999999999999,16.529,41.506999999999998,2.7890000000000001,13.58,3.47,162.1,0.77880000000000005,0.79294794914847688,{"$f":"[1]!AgePb76($J$40)","v":4909.1224707814172},{"$f":"[1]!AgePb6U8(G40)","v":9652.7858734922011},{"$f":"[1]!AgePb8Th2(I40)","v":11641.010200190081},{"$f":"[1]!AgePb7U5(H40)","v":5172.7303748052673}]
["PX2,W",20.507999999999999,16.422999999999998,40.689,2.38,10.69,3.9249999999999998,183.9,0.91259999999999997,0.80080944021845124,{"$f":"[1]!AgePb76($J$41)","v":4923.1768345581622},{"$f":"[1]!AgePb6U8(G41)","v":10277.674614820644},{"$f":"[1]!AgePb8Th2(I41)","v":13106.8938440284},{"$f":"[1]!AgePb7U5(H41)","v":5300.1118326578453}]
["WR,W",26.04,18.88,47.01,9.51,45.07,1.5640000000000001,81.64,0.35670000000000002,0.7250384024577573,{"$f":"[1]!AgePb76($J$42)","v":4781.1582262138563},{"$f":"[1]!AgePb6U8(G42)","v":6069.7407836159464},{"$f":"[1]!AgePb8Th2(I42)","v":6165.847003721593},{"$f":"[1]!AgePb7U5(H42)","v":4482.4022184204532}]
["1L,W",59,31,67,60,200,0.74199999999999999,39.200000000000003,0.23599999999999999,0.52542372881355937,{"$f":"[1]!AgePb76($J$43)","v":4314.1676984693077},{"$f":"[1]!AgePb6U8(G43)","v":3577.9782654653413},{"$f":"[1]!AgePb8Th2(I43)","v":4282.574209914078},{"$f":"[1]!AgePb7U5(H43)","v":3750.6899483423626}]
["MAG,W",18.998000000000001,15.93,38.908000000000001,1.772,4.3,4.42,208.6,1.855,0.83850931677018625,{"$f":"[1]!AgePb76($J$44)","v":4988.596147675019},{"$f":"[1]!AgePb6U8(G44)","v":10895.057633853698},{"$f":"[1]!AgePb8Th2(I44)","v":21204.079698998958},{"$f":"[1]!AgePb7U5(H44)","v":5427.4264633668954}]
["PL 1 ,L1",24.15,18.829999999999998,45.06,13.2,13.6,0.98299999999999998,58.3,1.04,0.77971014492753621,{"$f":"[1]!AgePb76($J$45)","v":4885.1180776195288},{"$f":"[1]!AgePb6U8(G45)","v":4413.2850896867621},{"$f":"[1]!AgePb8Th2(I45)","v":14410.304352827186},{"$f":"[1]!AgePb7U5(H45)","v":4145.4123023848097}]
["PL2,L 1",19.585000000000001,15.992000000000001,39.679000000000002,1.145,3.573,7.3490000000000002,330.1,2.4470000000000001,0.8165432729129436,{"$f":"[1]!AgePb76($J$46)","v":4950.8692763710415},{"$f":"[1]!AgePb6U8(G46)","v":13680.20481039074},{"$f":"[1]!AgePb8Th2(I46)","v":25012.719303380058},{"$f":"[1]!AgePb7U5(H46)","v":5891.6793872703465}]
["PL3,L1",37.93,23.42,57.05,24,85.3,1.115,58.39,0.30630000000000002,0.61745320326918007,{"$f":"[1]!AgePb76($J$47)","v":4549.6153801337878},{"$f":"[1]!AgePb6U8(G47)","v":4828.7175664673096},{"$f":"[1]!AgePb8Th2(I47)","v":5400.6814251719161},{"$f":"[1]!AgePb7U5(H47)","v":4146.9521876709841}]
["PX1.,L1",20.946000000000002,16.594999999999999,41.26,5.6882999999999999,9.907,1.7192000000000001,81.072999999999993,1.042,0.79227537477322629,{"$f":"[1]!AgePb76($J$48)","v":4907.9131975863984},{"$f":"[1]!AgePb6U8(G48)","v":6448.5912612394468},{"$f":"[1]!AgePb8Th2(I48)","v":14430.110555684158},{"$f":"[1]!AgePb7U5(H48)","v":4475.4115805804076}]
["PX2,L1",21.657,16.797999999999998,42.082000000000001,4.8810000000000002,8.0020000000000007,2.149,100.2,1.39,0.77563836173061818,{"$f":"[1]!AgePb76($J$49)","v":4877.6472701100356},{"$f":"[1]!AgePb6U8(G49)","v":7394.5846389614026},{"$f":"[1]!AgePb8Th2(I49)","v":17610.780514268201},{"$f":"[1]!AgePb7U5(H49)","v":4688.123832922136}]
["WR,L1",32.057000000000002,21.271999999999998,53.639000000000003,30.56,59.64,"0,6836",36.200000000000003,0.38069999999999998,0.66356801946532729,{"$f":"[1]!AgePb76($J$50)","v":4653.7724952730441},{"$f":"[1]!AgePb6U8(G50)","v":56922.509704520831},{"$f":"[1]!AgePb8Th2(I50)","v":6520.2752287007506},{"$f":"[1]!AgePb7U5(H50)","v":3671.9386315470388}]
["1L,L1",138,64.900000000000006,139,491,123,0.25750000000000001,14.52,0.878,0.47028985507246379,{"$f":"[1]!AgePb76($J$51)","v":4150.6782683824704},{"$f":"[1]!AgePb6U8(G51)","v":1477.0386655391283},{"$f":"[1]!AgePb8Th2(I51)","v":12737.89551866743},{"$f":"[1]!AgePb7U5(H51)","v":2784.3118391177059}]
["MAGL 1",22.221,17.143999999999998,42.356999999999999,5.9569000000000001,15.47,1.8556999999999999,90.13,0.73819999999999997,0.77152243373385532,{"$f":"[1]!AgePb76($J$52)","v":4870.0528895806956},{"$f":"[1]!AgePb6U8(G52)","v":6764.3319706251868},{"$f":"[1]!AgePb8Th2(I52)","v":11174.332390524964},{"$f":"[1]!AgePb7U5(H52)","v":4581.6998106392193}]
["PL2,L2",22.831,17.285,43.962000000000003,4.7329999999999997,22.93,2.464,117.5,0.56820000000000004,0.7570846655862643,{"$f":"[1]!AgePb76($J$53)","v":4843.0680041163259},{"$f":"[1]!AgePb6U8(G53)","v":8009.1796338448912},{"$f":"[1]!AgePb8Th2(I53)","v":9094.0568936773034},{"$f":"[1]!AgePb7U5(H53)","v":4848.3657009444951}]
["PL3,L2",40,30,70,20,200,1,90,0.2,0.75,{"$f":"[1]!AgePb76($J$54)","v":4829.625094267948},{"$f":"[1]!AgePb6U8(G54)","v":4468.3138150520244},{"$f":"[1]!AgePb8Th2(I54)","v":3685.1249478313207},{"$f":"[1]!AgePb7U5(H54)","v":4580.2502985397268}]
["PX1,L2",27.13,19.169,49.33,8.7989999999999995,56.79,1.8140000000000001,92.75,0.32390000000000002,0.70656100258016963,{"$f":"[1]!AgePb76($J$55)","v":4744.1198240798976},{"$f":"[1]!AgePb6U8(G55)","v":6669.5049714243187},{"$f":"[1]!AgePb8Th2(I55)","v":5671.1859719347995},{"$f":"[1]!AgePb7U5(H55)","v":4610.4804435706146}]
["PX2,L2",27.21,19.108000000000001,48.405000000000001,9.36,49.4,1.714,86.29,0.35370000000000001,0.70224182285924297,{"$f":"[1]!AgePb76($J$56)","v":4735.3126835076664},{"$f":"[1]!AgePb6U8(G56)","v":6436.2518060446573},{"$f":"[1]!AgePb8Th2(I56)","v":6121.1032685114378},{"$f":"[1]!AgePb7U5(H56)","v":4537.9864027489039}]
["WR,L2",85.73,42.67,110.9,92.75,261.3,0.80379999999999996,43.73,0.30599999999999999,0.49772541700688205,{"$f":"[1]!AgePb76($J$57)","v":4234.4869996452053},{"$f":"[1]!AgePb6U8(G57)","v":3802.7110443156853},{"$f":"[1]!AgePb8Th2(I57)","v":5396.0390268668889},{"$f":"[1]!AgePb7U5(H57)","v":3859.1099329286253}]
["MAG,L2 29",31.66,21.111000000000001,52.872,16.78,76.459999999999994,1.222,64.61,0.28689999999999999,0.6668035375868604,{"$f":"[1]!AgePb76($J$58)","v":4660.7868729044321},{"$f":"[1]!AgePb6U8(G58)","v":5146.8666637707547},{"$f":"[1]!AgePb8Th2(I58)","v":5098.2562004544125},{"$f":"[1]!AgePb7U5(H58)","v":4248.0866358905278}]
["PL1,R",42.62,32.880000000000003,66.73,27.44,138.9,1.1459999999999999,98.62,0.25779999999999997,0.77146879399343038,{"$f":"[1]!AgePb76($J$59)","v":4869.9536331520867},{"$f":"[1]!AgePb6U8(G59)","v":4922.5182543658775},{"$f":"[1]!AgePb8Th2(I59)","v":4635.960851485921},{"$f":"[1]!AgePb7U5(H59)","v":4672.145958922818}]
["PL2,R",36.707999999999998,25.155999999999999,60.942,20.149999999999999,106.1,1.2675000000000001,81.465000000000003,0.28289999999999998,0.68530020703933747,{"$f":"[1]!AgePb76($J$60)","v":4700.1994691866548},{"$f":"[1]!AgePb6U8(G60)","v":5277.5368445263794},{"$f":"[1]!AgePb8Th2(I60)","v":5035.3338104731165},{"$f":"[1]!AgePb7U5(H60)","v":4480.2497445297413}]
["PL3,R",32.700000000000003,25.9,56.86,14.9,85.2,1.45,117,0.30399999999999999,0.7920489296636084,{"$f":"[1]!AgePb76($J$61)","v":4907.5058086118661},{"$f":"[1]!AgePb6U8(G61)","v":5776.554549921907},{"$f":"[1]!AgePb8Th2(I61)","v":5365.0624255575794},{"$f":"[1]!AgePb7U5(H61)","v":4844.0723201154133}]
["PX1,R",61.13,34.01,86.11,43.23,221.4,1.1559999999999999,66.23,0.2492,0.55635530835923441,{"$f":"[1]!AgePb76($J$62)","v":4397.9516090387251},{"$f":"[1]!AgePb6U8(G62)","v":4952.4876908734932},{"$f":"[1]!AgePb8Th2(I62)","v":4497.2884573377769},{"$f":"[1]!AgePb7U5(H62)","v":4272.8533040371076}]
["PX2,R",37.206000000000003,23.92,59.692,18.693000000000001,110.4,1.393,78.7,0.26040000000000002,0.64290705800139758,{"$f":"[1]!AgePb76($J$63)","v":4608.0986020343316},{"$f":"[1]!AgePb6U8(G63)","v":5624.8045700321436},{"$f":"[1]!AgePb8Th2(I63)","v":4677.6984517631627},{"$f":"[1]!AgePb7U5(H63)","v":4445.6207400072799}]
["WR,R",105.2,53.018999999999998,130.59,95.57,452.9,0.98438000000000003,57.375999999999998,0.22,0.50398288973384031,{"$f":"[1]!AgePb76($J$64)","v":4252.9006775411017},{"$f":"[1]!AgePb6U8(G64)","v":4417.7696875473612},{"$f":"[1]!AgePb8Th2(I64)","v":4019.2189741316861},{"$f":"[1]!AgePb7U5(H64)","v":4129.4662603069701}]
["1L,R",507,216,507,508,2250,0.97667000000000004,55.021999999999998,0.21149999999999999,0.42603550295857989,{"$f":"[1]!AgePb76($J$65)","v":4003.609528616144},{"$f":"[1]!AgePb6U8(G65)","v":4392.6743637759437},{"$f":"[1]!AgePb8Th2(I65)","v":3877.9032091853132},{"$f":"[1]!AgePb7U5(H65)","v":4087.6727123215151}]
["MAG,R",33.08,22.207000000000001,53.567999999999998,15.829000000000001,73.790000000000006,1.3844000000000001,78.025999999999996,0.30680000000000002,0.67131197097944384,{"$f":"[1]!AgePb76($J$66)","v":4670.5003096641467},{"$f":"[1]!AgePb6U8(G66)","v":5601.595618782495},{"$f":"[1]!AgePb8Th2(I66)","v":5408.4163869586264},{"$f":"[1]!AgePb7U5(H66)","v":4436.9974232065442}]
["PL 1",42.62,32.880000000000003,66.73,29.94,141.5,1.05,90.37,0.25309999999999999,0.77146879399343038,{"$f":"[1]!AgePb76($J$67)","v":4869.9536331520867},{"$f":"[1]!AgePb6U8(G67)","v":4627.4926230479732},{"$f":"[1]!AgePb8Th2(I67)","v":4560.2926971016104},{"$f":"[1]!AgePb7U5(H67)","v":4584.3704087023698}]
["PL2,T",36.709000000000003,25.155999999999999,60.942,29.146000000000001,141.87,0.87634000000000001,56.32,0.21149999999999999,0.68528153858726737,{"$f":"[1]!AgePb76($J$68)","v":4700.1602668471423},{"$f":"[1]!AgePb6U8(G68)","v":4056.8771689697023},{"$f":"[1]!AgePb8Th2(I68)","v":3877.9032091853132},{"$f":"[1]!AgePb7U5(H68)","v":4110.930195420593}]
["PL3,T",32.700000000000003,25.9,56.86,42.1,194,0.51100000000000001,41.4,0.13400000000000001,0.7920489296636084,{"$f":"[1]!AgePb76($J$69)","v":4907.5058086118661},{"$f":"[1]!AgePb6U8(G69)","v":2660.8972331384539},{"$f":"[1]!AgePb8Th2(I69)","v":2541.7120829825212},{"$f":"[1]!AgePb7U5(H69)","v":3804.790945055503}]
["PX LT",61.13,34.01,86.11,76.680000000000007,322.3,0.65159999999999996,37.340000000000003,0.17119999999999999,0.55635530835923441,{"$f":"[1]!AgePb76($J$70)","v":4397.9516090387251},{"$f":"[1]!AgePb6U8(G70)","v":3234.4529574845974},{"$f":"[1]!AgePb8Th2(I70)","v":3194.1154972190011},{"$f":"[1]!AgePb7U5(H70)","v":3702.5879449840063}]
["PX2,T",37.204999999999998,23.92,59.692999999999998,32.341999999999999,139.72999999999999,0.80508000000000002,45.49,0.20580000000000001,0.642924338126596,{"$f":"[1]!AgePb76($J$71)","v":4608.1374562104183},{"$f":"[1]!AgePb6U8(G71)","v":3807.2838815943469},{"$f":"[1]!AgePb8Th2(I71)","v":3782.5820530200731},{"$f":"[1]!AgePb7U5(H71)","v":3898.2964265649525}]
["WR,T",105.24,53.018999999999998,130.59,136.83000000000001,557.54999999999995,0.68754000000000004,40.076000000000001,0.17874000000000001,0.50379133409350063,{"$f":"[1]!AgePb76($J$72)","v":4252.3406742695051},{"$f":"[1]!AgePb6U8(G72)","v":3373.2270568078857},{"$f":"[1]!AgePb8Th2(I72)","v":3323.8215536422026},{"$f":"[1]!AgePb7U5(H72)","v":3772.5785747434111}]
["1L,T",507,210,507,611.26,2275.8000000000002,0.81179999999999997,45.734999999999999,0.20913000000000001,0.41420118343195267,{"$f":"[1]!AgePb76($J$73)","v":3961.4467420563064},{"$f":"[1]!AgePb6U8(G73)","v":3831.2382030817103},{"$f":"[1]!AgePb8Th2(I73)","v":3838.3242593991977},{"$f":"[1]!AgePb7U5(H73)","v":3903.6333945621636}]
["MAG,T",33.08,22.207000000000001,53.569000000000003,36.36,147.91,0.60267000000000004,33.97,0.153,0.67131197097944384,{"$f":"[1]!AgePb76($J$74)","v":4670.5003096641467},{"$f":"[1]!AgePb6U8(G74)","v":3040.5865491024811},{"$f":"[1]!AgePb8Th2(I74)","v":2877.5591973101969},{"$f":"[1]!AgePb7U5(H74)","v":3609.1694685234143}]
[null,null,null,null,null,null,null,null,null,"Average",{"$f":"AVERAGE(K37:K74)","v":4672.6666596514406},{"$f":"AVERAGE(L37:L74)","v":8035.3138289207154},{"$f":"AVERAGE(M37:M74)","v":10148.382349415731},{"$f":"AVERAGE(N37:N74)","v":4545.5179675946983}]
[null,null,null,null,null,null,null,null,null,"Maximum",{"$f":"MAX(K37:K75)","v":5017.9577985987862},{"$f":"MAX(L37:L75)","v":56922.509704520831},{"$f":"MAX(M37:M75)","v":65285.771991483707},{"$f":"MAX(N37:N75)","v":8128.1751989004524}]
[null,null,null,null,null,null,null,null,null,"Minimum",{"$f":"MIN(K37:K76)","v":3961.4467420563064},{"$f":"MIN(L37:L76)","v":1477.0386655391283},{"$f":"MIN(M37:M76)","v":2541.7120829825212},{"$f":"MIN(N37:N76)","v":2784.3118391177059}]
[null,null,null,null,null,null,null,null,null,"Difference",{"$f":"(K76-K77)","v":1056.5110565424798},{"$f":"(L76-L77)","v":55445.471038981705},{"$f":"(M76-M77)","v":62744.059908501185},{"$f":"(N76-N77)","v":5343.8633597827466}]
[null,null,null,"Table","207Pb/206Pb","206Pb/238U","208Pb/232Th","207Pb/235U"]
[null,null,null,"Summaries","Age","Age","Age","Age",null,null,null,null,"208Pb/232Th"]
[null,null,null,"Average",4672.6666596514406,8035.3138289207154,10148.382349415731,4545.5179675946983,null,null,null,null,"Age","Age","Age","Age"]
[null,null,null,"Maximum",5017.9577985987862,56922.509704520831,65285.771991483707,8128.1751989004524,null,null,null,null,65285.771991483707,14430.110555684158,9094.0568936773034,5400.6814251719161]
[null,null,null,"Minimum",3961.4467420563064,1477.0386655391283,2541.7120829825212,2784.3118391177059,null,null,null,null,33897.858734874484,14410.304352827186,6520.2752287007506,5396.0390268668889]
[null,null,null,"Difference",1056.5110565424798,55445.471038981705,62744.059908501185,5343.8633597827466,null,null,null,null,25012.719303380058,13106.8938440284,6165.847003721593,5365.0624255575794]
[null,null,null,null,null,null,null,null,null,null,null,null,22178.43487933245,12737.89551866743,6121.1032685114378,5098.2562004544125]
[null,null,null,null,null,null,null,null,null,null,null,null,21204.079698998958,11641.010200190081,5671.1859719347995,5035.3338104731165]
[null,null,null,null,null,null,null,null,null,null,null,null,17610.780514268201,11174.332390524964,5408.4163869586264,4677.6984517631627]
[]
[]
[null,null,null,null,null,null,null,null,null,null,null,null,"206Pb/238U"]
[null,null,null,null,null,null,null,null,null,null,null,null,"Age","Age","Age","Age"]
[null,null,null,null,null,null,null,null,null,null,null,null,56922.509704520831,10895.057633853698,6764.3319706251868,5776.554549921907]
[null,null,null,null,null,null,null,null,null,null,null,null,27312.530820375312,10277.674614820644,6669.5049714243187,5624.8045700321436]
[null,null,null,null,null,null,null,null,null,null,null,null,17873.255260208098,9652.7858734922011,6448.5912612394468,5601.595618782495]
[null,null,null,null,null,null,null,null,null,null,null,null,13680.20481039074,8009.1796338448912,6436.2518060446573,5277.5368445263794]
[null,null,null,null,null,null,null,null,null,null,null,null,13622.813352219995,7394.5846389614026,6069.7407836159464,5146.8666637707547]

{"sheet":"Nd_Sm_10","index":10,"n_rows":202,"n_cols":14,"rows_kept":202,"cut":false,"hidden":false,"merged":[]}
["Rubidium","TABLE 1.",null,null,null,null,null,null,null,null,"Rubidium_023.pdf"]
["Strontium","Initial","Today","Today","The Ratio","Half","Decay","2.303/Delta","Age","Age","Age","Model Age","Model Age","Model Age"]
["Dating","87Sr/86Sr","87Sr/86Sr","87Rb/86Sr","Plus One","Life","Constant","Constant","Years","Million Years","Billion Years","Million Years","% Difference"," Difference"]
["Table 1.",0.70275699999999997,0.70275699999999997,0.1,{"$f":"1+((C4-B4)/D4)","v":1},48800000000,{"$f":"(0.693/F4)","v":1.4200819672131146E-11},{"$f":"(2.303/G4)","v":162173737373.7374},{"$f":"(LOG(E4))*(H4)","v":0},{"$f":"(I4/1000000)","v":0},{"$f":"(J4/1000)","v":0}]
[null,0.70272299999999999,0.70272299999999999,0.1,1,48800000000,1.4200819672131146E-11,162173737373.7374,0,0,0]
[null,0.70266600000000001,0.70266600000000001,0.11,1,48800000000,1.4200819672131146E-11,162173737373.7374,0,0,0]
[null,0.702654,0.702654,0.08,1,48800000000,1.4200819672131146E-11,162173737373.7374,0,0,0]
[null,0.70264800000000005,0.70264800000000005,0.08,1,48800000000,1.4200819672131146E-11,162173737373.7374,0,0,0]
[null,0.702658,0.702658,0.09,1,48800000000,1.4200819672131146E-11,162173737373.7374,0,0,0]
[null,0.70270600000000005,0.70270600000000005,0.11,1,48800000000,1.4200819672131146E-11,162173737373.7374,0,0,0]
[null,0.70269499999999996,0.70269599999999999,0.1,1.0000100000000003,48800000000,1.4200819672131146E-11,162173737373.7374,704308.07099618018,0.7043080709961802,7.0430807099618024E-4]
[null,0.70288600000000001,0.70288700000000004,0.08,1.0000125000000004,48800000000,1.4200819672131146E-11,162173737373.7374,880383.98827877862,0.88038398827877862,8.8038398827877857E-4]
[null,0.70294800000000002,0.70294999999999996,0.15,1.000013333333333,48800000000,1.4200819672131146E-11,162173737373.7374,939075.86283025192,0.93907586283025191,9.3907586283025195E-4]
[null,0.70284000000000002,0.70284100000000005,0.12,1.0000083333333336,48800000000,1.4200819672131146E-11,162173737373.7374,586923.881598718,0.586923881598718,5.8692388159871801E-4]
[null,0.70291199999999998,0.70291400000000004,0.1,1.0000200000000006,48800000000,1.4200819672131146E-11,162173737373.7374,1408609.0990172946,1.4086090990172946,1.4086090990172945E-3]
[null,0.70294400000000001,0.70294500000000004,7.0000000000000007E-2,1.0000142857142862,48800000000,1.4200819672131146E-11,162173737373.7374,1006152.2311208799,1.0061522311208799,1.00615223112088E-3]
[null,0.70285299999999995,0.70285399999999998,0.08,1.0000125000000004,48800000000,1.4200819672131146E-11,162173737373.7374,880383.98827877862,0.88038398827877862,8.8038398827877857E-4]
[null,0.70274499999999995,0.70274700000000001,0.08,1.0000250000000008,48800000000,1.4200819672131146E-11,162173737373.7374,1760756.9719640394,1.7607569719640395,1.7607569719640395E-3]
[null,0.70276899999999998,0.70277100000000003,0.11,1.0000181818181824,48800000000,1.4200819672131146E-11,162173737373.7374,1280554.8905025406,1.2805548905025406,1.2805548905025406E-3]
[null,0.70278200000000002,0.70278300000000005,7.0000000000000007E-2,1.0000142857142862,48800000000,1.4200819672131146E-11,162173737373.7374,1006152.2311208799,1.0061522311208799,1.00615223112088E-3]
[null,0.70281800000000005,0.70281899999999997,0.08,1.0000124999999991,48800000000,1.4200819672131146E-11,162173737373.7374,880383.98818494659,0.88038398818494656,8.8038398818494651E-4]
[null,0.70288700000000004,0.70289000000000001,0.1,1.0000299999999998,48800000000,1.4200819672131146E-11,162173737373.7374,2112903.0841260073,2.1129030841260072,2.1129030841260071E-3]
[null,0.70290300000000006,0.70290399999999997,0.06,1.0000166666666652,48800000000,1.4200819672131146E-11,162173737373.7374,1173842.8720854789,1.1738428720854788,1.1738428720854787E-3]
[null,0.70289400000000002,0.70289599999999997,0.1,1.0000199999999995,48800000000,1.4200819672131146E-11,162173737373.7374,1408609.0989391021,1.4086090989391022,1.4086090989391023E-3]
[" ",0.70287699999999997,0.70287900000000003,0.08,1.0000250000000008,48800000000,1.4200819672131146E-11,162173737373.7374,1760756.9719640394,1.7607569719640395,1.7607569719640395E-3]
[null,0.70282100000000003,0.702824,0.09,1.0000333333333331,48800000000,1.4200819672131146E-11,162173737373.7374,2347666.1807998396,2.3476661807998394,2.3476661807998395E-3]
[null,0.70286000000000004,0.70286300000000002,0.09,1.0000333333333331,48800000000,1.4200819672131146E-11,162173737373.7374,2347666.1807998396,2.3476661807998394,2.3476661807998395E-3]
[null,0.702874,0.70287599999999995,0.06,1.0000333333333324,48800000000,1.4200819672131146E-11,162173737373.7374,2347666.1807529242,2.347666180752924,2.3476661807529239E-3]
[null,0.70281800000000005,0.70282199999999995,0.08,1.0000499999999986,48800000000,1.4200819672131146E-11,162173737373.7374,3521469.9264354883,3.5214699264354881,3.5214699264354879E-3]
[null,0.70285699999999995,0.70286000000000004,7.0000000000000007E-2,1.0000428571428583,48800000000,1.4200819672131146E-11,162173737373.7374,3018413.573871742,3.0184135738717419,3.018413573871742E-3]
[null,0.70286700000000002,0.70287200000000005,0.08,1.0000625000000003,48800000000,1.4200819672131146E-11,162173737373.7374,4401809.8980846209,4.401809898084621,4.401809898084621E-3]
[null,0.70294599999999996,0.70294599999999996,0.01,1,48800000000,1.4200819672131146E-11,162173737373.7374,0,0,0]
[null,0.70287500000000003,0.70287599999999995,0.01,1.0000999999999918,48800000000,1.4200819672131146E-11,162173737373.7374,7042763.7922038129,7.0427637922038127,7.0427637922038126E-3]
[null,0.70284000000000002,0.702843,0.05,1.0000599999999995,48800000000,1.4200819672131146E-11,162173737373.7374,4225742.7840117728,4.2257427840117732,4.2257427840117733E-3]
[null,0.70283499999999999,0.70284100000000005,0.09,1.0000666666666673,48800000000,1.4200819672131146E-11,162173737373.7374,4695254.110051075,4.6952541100510752,4.6952541100510753E-3]
[null,0.70291499999999996,0.70291999999999999,0.09,1.0000555555555559,48800000000,1.4200819672131146E-11,162173737373.7374,3912733.494603856,3.9127334946038559,3.912733494603856E-3]
[null,0.70291400000000004,0.70291800000000004,0.09,1.0000444444444445,48800000000,1.4200819672131146E-11,162173737373.7374,3130204.1849178434,3.1302041849178432,3.1302041849178433E-3]
[null,0.70297500000000002,0.70297900000000002,0.09,1.0000444444444445,48800000000,1.4200819672131146E-11,162173737373.7374,3130204.1849178434,3.1302041849178432,3.1302041849178433E-3]
[" ",0.70288499999999998,0.70289000000000001,0.06,1.0000833333333339,48800000000,1.4200819672131146E-11,162173737373.7374,5869018.7319076769,5.8690187319076772,5.869018731907677E-3]
[null,0.70296400000000003,0.70296700000000001,0.04,1.0000749999999994,48800000000,1.4200819672131146E-11,162173737373.7374,5282138.8660529433,5.2821388660529429,5.2821388660529425E-3]
[null,0.702982,0.70298400000000005,0.1,1.0000200000000006,48800000000,1.4200819672131146E-11,162173737373.7374,1408609.0990172946,1.4086090990172946,1.4086090990172945E-3]
[null,0.70299400000000001,0.70299,0.08,0.99994999999999989,48800000000,1.4200819672131146E-11,162173737373.7374,-3521646.0044433028,-3.5216460044433027,-3.5216460044433027E-3]
[null,0.70283099999999998,0.70284000000000002,7.0000000000000007E-2,1.0001285714285719,48800000000,1.4200819672131146E-11,162173737373.7374,9054852.6756836269,9.0548526756836267,9.0548526756836275E-3]
[null,0.70291199999999998,0.70291999999999999,0.05,1.0001600000000002,48800000000,1.4200819672131146E-11,162173737373.7374,11268084.057489935,11.268084057489935,1.1268084057489934E-2]
[null,0.70281800000000005,0.70282999999999995,0.70281800000000005,1.0000170741216075,48800000000,1.4200819672131146E-11,162173737373.7374,1202539.9118789746,1.2025399118789746,1.2025399118789745E-3]
[null,0.70294199999999996,0.70296000000000003,0.1,1.0001800000000007,48800000000,1.4200819672131146E-11,162173737373.7374,12676467.817359028,12.676467817359029,1.267646781735903E-2]
[null,0.70303199999999999,0.70303899999999997,0.04,1.0001749999999996,48800000000,1.4200819672131146E-11,162173737373.7374,12324374.517583298,12.324374517583298,1.2324374517583298E-2]
[null,0.702932,0.70293799999999995,0.03,1.0001999999999984,48800000000,1.4200819672131146E-11,162173737373.7374,14084823.414700497,14.084823414700496,1.4084823414700496E-2]
[null,0.70285600000000004,0.70286899999999997,0.08,1.0001624999999992,48800000000,1.4200819672131146E-11,162173737373.7374,11444133.56756491,11.44413356756491,1.144413356756491E-2]
[null,0.70292100000000002,0.70295099999999999,0.17,1.0001764705882352,48800000000,1.4200819672131146E-11,162173737373.7374,12427931.553173592,12.427931553173591,1.2427931553173592E-2]
[null,0.70282299999999998,0.70284000000000002,0.09,1.0001888888888895,48800000000,1.4200819672131146E-11,162173737373.7374,13302407.115223704,13.302407115223703,1.3302407115223703E-2]
[null,0.70282999999999995,0.70284100000000005,0.06,1.000183333333335,48800000000,1.4200819672131146E-11,162173737373.7374,12911195.706027035,12.911195706027035,1.2911195706027036E-2]
[null,0.70286599999999999,0.70288200000000001,0.08,1.0002000000000002,48800000000,1.4200819672131146E-11,162173737373.7374,14084823.414825581,14.08482341482558,1.408482341482558E-2]
[null,0.70292699999999997,0.70294800000000002,4.8000000000000001E-2,1.000437500000001,48800000000,1.4200819672131146E-11,162173737373.7374,30806893.655690853,30.806893655690853,3.0806893655690854E-2]
[null,0.70296099999999995,0.70300499999999999,0.1,1.0004400000000004,48800000000,1.4200819672131146E-11,162173737373.7374,30982894.333483219,30.98289433348322,3.0982894333483221E-2]
[null,0.70295300000000005,0.70299,0.08,1.0004624999999994,48800000000,1.4200819672131146E-11,162173737373.7374,32566880.642800733,32.566880642800733,3.2566880642800736E-2]
[null,0.70293399999999995,0.70298400000000005,0.11,1.0004545454545464,48800000000,1.4200819672131146E-11,162173737373.7374,32006889.553869747,32.006889553869748,3.2006889553869745E-2]
[null,0.70289900000000005,0.70297200000000004,0.16,1.00045625,48800000000,1.4200819672131146E-11,162173737373.7374,32126888.019139729,32.126888019139727,3.2126888019139724E-2]
[null,0.70780799999999999,0.70849799999999996,0.88,1.0007840909090908,48800000000,1.4200819672131146E-11,162173737373.7374,55202792.508696064,55.202792508696064,5.5202792508696065E-2]
[null,null,null,null,null,null,null,null,"Average",{"$f":"AVERAGE(J4:J59)","v":7.3111497300032804}]
[null,null,null,null,null,null,null,null,"Maximum",{"$f":"MAX(J4:J60)","v":55.202792508696064}]
[null,null,null,null,null,null,null,null,"Minimum",{"$f":"MIN(J4:J61)","v":-3.5216460044433027}]
[null,null,null,null,null,null,null,null,"Difference",{"$f":"(J61-J62)","v":58.724438513139368}]
[]
[]
[null,null,null,null,"207Pb/206Pb"]
["Sample","207Pb/204Pb","206Pb/204Pb","207Pb/206Pb","Age"]
["MA",15.515000000000001,18.966999999999999,{"$f":"(B68/C68)","v":0.81799968366109566},{"$f":"[1]!AgePb76($D$68)","v":4953.403891744123}]
["Md19-5a",15.516999999999999,18.885000000000002,{"$f":"(B69/C69)","v":0.82165740005295196},{"$f":"[1]!AgePb76($D$69)","v":4959.7483756212232}]
["Md19-6a",15.523,18.84,0.82393842887473456,{"$f":"[1]!AgePb76($D$70)","v":4963.6897452060448}]
["Md19-8a",15.513999999999999,18.795999999999999,0.82538838050649077,{"$f":"[1]!AgePb76($D$71)","v":4966.1890781309576}]
["Md33a",15.505000000000001,18.779,0.82565631822780772,{"$f":"[1]!AgePb76($D$72)","v":4966.6504208979695}]
["MA85",15.502000000000001,18.731000000000002,0.82761198013987503,{"$f":"[1]!AgePb76($D$73)","v":4970.012922642688}]
["MA87",15.505000000000001,18.881,0.82119591123351521,{"$f":"[1]!AgePb76($D$74)","v":4958.9495583865564}]
["MA88",15.505000000000001,18.876000000000001,0.82141343504979869,{"$f":"[1]!AgePb76($D$75)","v":4959.3261421756752}]
["MA115",15.564,19.786999999999999,0.78657704553494723,{"$f":"[1]!AgePb76($D$76)","v":4897.6236703806362}]
["MA16",15.558,19.440999999999999,0.80026747595288317,{"$f":"[1]!AgePb76($D$77)","v":4922.2126606854845}]
["MA17",15.542999999999999,19.303999999999998,0.80516991297140494,{"$f":"[1]!AgePb76($D$78)","v":4930.9090988115222}]
["MA23",15.548,19.407,0.8011542227031484,{"$f":"[1]!AgePb76($D$79)","v":4923.789853678375}]
["MA53",15.544,19.303999999999998,0.8052217157065894,{"$f":"[1]!AgePb76($D$80)","v":4931.0006906757035}]
["MA66",15.536,19.091999999999999,0.81374397653467423,{"$f":"[1]!AgePb76($D$81)","v":4945.9840867656694}]
["MA142",15.512,18.934999999999999,0.8192236598890944,{"$f":"[1]!AgePb76($D$82)","v":4955.5302893297767}]
["MA137",15.513,18.920000000000002,0.81992600422832973,{"$f":"[1]!AgePb76($D$83)","v":4956.7489379710905}]
["MA160",15.523999999999999,18.995999999999999,0.81722467887976413,{"$f":"[1]!AgePb76($D$84)","v":4952.0557362077261}]
["MA162",15.52,19.132999999999999,0.81116395756023629,{"$f":"[1]!AgePb76($D$85)","v":4941.465715498889}]
["MA75b",15.56,19.600000000000001,0.79387755102040813,{"$f":"[1]!AgePb76($D$86)","v":4910.7920773907217}]
["Md1a",15.535,19.263000000000002,0.80646835903026526,{"$f":"[1]!AgePb76($D$87)","v":4933.2029788085792}]
["Md3a",15.542,19.420000000000002,0.80030895983522132,{"$f":"[1]!AgePb76($D$88)","v":4922.2864865531155}]
["Md5a",15.532999999999999,19.032,0.81615174443043292,{"$f":"[1]!AgePb76($D$89)","v":4950.1870730260707}]
["Md9a",15.542999999999999,19.399999999999999,0.8011855670103093,{"$f":"[1]!AgePb76($D$90)","v":4923.8455695598177}]
["Md12a",15.541,19.347000000000001,0.8032769938491755,{"$f":"[1]!AgePb76($D$91)","v":4927.5579416569681}]
["Md21a",15.545999999999999,19.334,0.80407572152684392,{"$f":"[1]!AgePb76($D$92)","v":4928.9730044820253}]
["MA227",15.528,19.059000000000001,0.81473319691484336,{"$f":"[1]!AgePb76($D$93)","v":4947.712462908692}]
["MA208",15.523999999999999,19.170000000000002,0.80980699008868007,{"$f":"[1]!AgePb76($D$94)","v":4939.0831288606651}]
["MA215",15.576000000000001,19.789000000000001,0.78710394663702055,{"$f":"[1]!AgePb76($D$95)","v":4898.5784250722518}]
["MA120",15.555999999999999,19.468,0.79905485925621533,{"$f":"[1]!AgePb76($D$96)","v":4920.052853215605}]
["MA123",15.563000000000001,19.515000000000001,0.79748911094030239,{"$f":"[1]!AgePb76($D$97)","v":4917.2589132902249}]
["MA127",15.567,19.524000000000001,0.79732636754763364,{"$f":"[1]!AgePb76($D$98)","v":4916.9681771893502}]
["Md137-1",15.567,19.57,0.79545222278998462,{"$f":"[1]!AgePb76($D$99)","v":4913.6155162599489}]
["DGR14",15.555999999999999,19.62,0.79286442405708457,{"$f":"[1]!AgePb76($D$100)","v":4908.9723539809474}]
["K11",15.548999999999999,19.533000000000001,0.7960374750422361,{"$f":"[1]!AgePb76($D$101)","v":4914.6633769907012}]
["DGR47",15.566000000000001,19.68,0.79095528455284558,{"$f":"[1]!AgePb76($D$102)","v":4905.536525483577}]
["DGR2",15.561,19.521000000000001,0.79714153988012904,{"$f":"[1]!AgePb76($D$103)","v":4916.6379116068056}]
["K18",15.551,19.347999999999999,0.80375232582179046,{"$f":"[1]!AgePb76($D$104)","v":4928.4002419765111}]
["K22",15.56,19.353000000000002,0.80400971425618761,{"$f":"[1]!AgePb76($D$105)","v":4928.8561196548253}]
["K26",15.57,19.651,0.7923260902753041,{"$f":"[1]!AgePb76($D$106)","v":4908.0044209723601}]
["K43",15.528,19.099,0.81302686004502855,{"$f":"[1]!AgePb76($D$107)","v":4944.7297356982735}]
["K45",15.538,19.065000000000001,0.81500131130343556,{"$f":"[1]!AgePb76($D$108)","v":4948.1805307558243}]
["K67",15.523,18.957000000000001,0.81885319407079171,{"$f":"[1]!AgePb76($D$109)","v":4954.8870406937322}]
["PS162-2a",15.552,19.260999999999999,0.80743471263174293,{"$f":"[1]!AgePb76($D$110)","v":4934.9076240196282}]
["PS2a",15.512,18.939,0.81905063625323404,{"$f":"[1]!AgePb76($D$111)","v":4955.2299027669615}]
["PS3a",15.538,19.241,0.80754638532300815,{"$f":"[1]!AgePb76($D$112)","v":4935.1044744480441}]
["PS4a",15.547000000000001,19.315999999999999,0.80487678608407542,{"$f":"[1]!AgePb76($D$113)","v":4930.3907061522832}]
["PS36a",15.542,19.295999999999999,0.80545190713101167,{"$f":"[1]!AgePb76($D$114)","v":4931.4076138760474}]
["PS37.1a",15.545999999999999,19.329999999999998,0.80424211070874296,{"$f":"[1]!AgePb76($D$115)","v":4929.2675990138187}]
["PS41a",15.507999999999999,18.878,0.82148532683546982,{"$f":"[1]!AgePb76($D$116)","v":4959.4505800909819}]
["PS53a",15.507999999999999,18.850999999999999,0.822661927749191,{"$f":"[1]!AgePb76($D$117)","v":4961.4855217584509}]
["K55",15.541,19.282,0.805984856342703,{"$f":"[1]!AgePb76($D$118)","v":4932.3492655677892}]
["DS790-1",15.577,19.478000000000002,0.79972276414416255,{"$f":"[1]!AgePb76($D$119)","v":4921.2428984760645}]
["DS797-1b",15.59,19.655000000000001,0.79318239633680987,{"$f":"[1]!AgePb76($D$120)","v":4909.5437448163639}]
["DS-797-2",15.593,19.763000000000002,0.78899964580276272,{"$f":"[1]!AgePb76($D$121)","v":4902.0078482946319}]
["DS-797-7",15.599,19.637,0.79436777511839896,{"$f":"[1]!AgePb76($D$122)","v":4911.6717040150734}]
["VH-97-103",15.601000000000001,19.614000000000001,0.79540124400938106,{"$f":"[1]!AgePb76($D$123)","v":4913.5242028187968}]
["VH-97-77",15.619,19.414999999999999,0.80448107133659541,{"$f":"[1]!AgePb76($D$124)","v":4929.6905689593777}]
["VH-97-76",15.327,15.749000000000001,0.97320464791415329,{"$f":"[1]!AgePb76($D$125)","v":5199.1772641568714},{"$f":"COUNT(E68:E125)","v":58}]
[null,null,null,"Average",{"$f":"AVERAGE(E68:E125)","v":4938.2883665539466}]
[null,null,null,"Maximum",{"$f":"MAX(E68:E126)","v":5199.1772641568714}]
[null,null,null,"Minimum",{"$f":"MIN(E70:E127)","v":4897.6236703806362}]
[null,null,null,"Difference",{"$f":"(E127-E128)","v":301.55359377623518}]
[]
[]
[null,null,null,"Table","207Pb/206Pb","87Rb/86Sr","147Sm/144Nd"]
[null,null,null,"Summaries","Age","Age","Age"]
[null,null,null,"Average",4938.2883665539466,7.3111497300032804,9.6745596043205264]
[null,null,null,"Maximum",5199.1772641568714,55.202792508696064,163.82551781467015]
[null,null,null,"Minimum",4897.6236703806362,-3.5216460044433027,0]
[null,null,null,"Difference",301.55359377623518,58.724438513139368,164]
[]
[]
["Neodymium",null,null,null,null,null,null,null,null,null,"Rubidium_040.PDF"]
["Samarium","Initial","Today","Today","The Ratio","Half","Decay","2.303/Delta","Age","Age","Age"]
["Dating","143Nd/144Nd","143Nd/144Nd","147Sm/144Nd","Plus One","Life","Constant","Constant","Years","Million Years","Billion Years"]
[null,0.51312000000000002,0.51312000000000002,0.12,{"$f":"1+((C143-B143)/D143)","v":1},106000000000,{"$f":"(0.693/F143)","v":6.5377358490566029E-12},{"$f":"(2.303/G143)","v":352262626262.62628},{"$f":"(LOG(E143))*(H143)","v":0},{"$f":"(I143/1000000)","v":0},{"$f":"(J143/1000)","v":0}]
[null,0.51313799999999998,0.51313799999999998,0.12,{"$f":"1+((C144-B144)/D144)","v":1},106000000000,6.5377358490566029E-12,{"$f":"(2.303/G144)","v":352262626262.62628},{"$f":"(LOG(E144))*(H144)","v":0},{"$f":"(I144/1000000)","v":0},{"$f":"(J144/1000)","v":0}]
[null,0.51315100000000002,0.51315100000000002,0.12,1,106000000000,6.5377358490566029E-12,352262626262.62628,0,0,0]
[null,0.51318900000000001,0.51318900000000001,0.12,1,106000000000,6.5377358490566029E-12,352262626262.62628,0,0,0]
[null,0.51315900000000003,0.51315900000000003,0.12,1,106000000000,6.5377358490566029E-12,352262626262.62628,0,0,0]
[null,0.51317800000000002,0.51317800000000002,0.13,1,106000000000,6.5377358490566029E-12,352262626262.62628,0,0,0]
[null,0.51314599999999999,0.51314599999999999,0.12,1,106000000000,6.5377358490566029E-12,352262626262.62628,0,0,0]
[null,0.513123,0.513123,0.13,1,106000000000,6.5377358490566029E-12,352262626262.62628,0,0,0]
[null,0.51300299999999999,0.51300400000000002,0.11,1.0000090909090911,106000000000,6.5377358490566029E-12,352262626262.62628,1390772.9034900791,1.3907729034900791,1.3907729034900792E-3]
[null,0.513042,0.513042,0.11,1,106000000000,6.5377358490566029E-12,352262626262.62628,0,0,0]
[null,0.51305400000000001,0.51305500000000004,0.13,1.0000076923076926,106000000000,6.5377358490566029E-12,352262626262.62628,1176808.6643752789,1.1768086643752789,1.1768086643752789E-3]
[null,0.51302400000000004,0.51302499999999995,0.12,1.0000083333333327,106000000000,6.5377358490566029E-12,352262626262.62628,1274875.6443203541,1.2748756443203542,1.2748756443203542E-3]
[null,0.51304000000000005,0.51304000000000005,0.12,1,106000000000,6.5377358490566029E-12,352262626262.62628,0,0,0]
[null,0.51307100000000005,0.51307199999999997,0.12,1.0000083333333327,106000000000,6.5377358490566029E-12,352262626262.62628,1274875.6443203541,1.2748756443203542,1.2748756443203542E-3]
[null,0.51311399999999996,0.51311499999999999,0.13,1.0000076923076926,106000000000,6.5377358490566029E-12,352262626262.62628,1176808.6643752789,1.1768086643752789,1.1768086643752789E-3]
[null,0.51309899999999997,0.51310100000000003,0.13,1.000015384615385,106000000000,6.5377358490566029E-12,352262626262.62628,2353608.2764466964,2.3536082764466966,2.3536082764466964E-3]
[null,0.51310999999999996,0.51311200000000001,0.13,1.000015384615385,106000000000,6.5377358490566029E-12,352262626262.62628,2353608.2764466964,2.3536082764466966,2.3536082764466964E-3]
[null,0.51306700000000005,0.51306799999999997,0.13,1.0000076923076917,106000000000,6.5377358490566029E-12,352262626262.62628,1176808.6642394012,1.1768086642394013,1.1768086642394014E-3]
[null,0.51302599999999998,0.51302800000000004,0.13,1.000015384615385,106000000000,6.5377358490566029E-12,352262626262.62628,2353608.2764466964,2.3536082764466966,2.3536082764466964E-3]
[null,0.51306399999999996,0.51306499999999999,0.11,1.0000090909090911,106000000000,6.5377358490566029E-12,352262626262.62628,1390772.9034900791,1.3907729034900791,1.3907729034900792E-3]
[null,0.51306300000000005,0.51306499999999999,0.12,1.0000166666666663,106000000000,6.5377358490566029E-12,352262626262.62628,2549740.6649456806,2.5497406649456806,2.5497406649456805E-3]
[null,0.513046,0.51304799999999995,0.12,1.0000166666666663,106000000000,6.5377358490566029E-12,352262626262.62628,2549740.6649456806,2.5497406649456806,2.5497406649456805E-3]
[null,0.513046,0.51304700000000003,0.11,1.0000090909090911,106000000000,6.5377358490566029E-12,352262626262.62628,1390772.9034900791,1.3907729034900791,1.3907729034900792E-3]
[null,0.51304700000000003,0.51304899999999998,0.12,1.0000166666666663,106000000000,6.5377358490566029E-12,352262626262.62628,2549740.6649456806,2.5497406649456806,2.5497406649456805E-3]
[null,0.51305299999999998,0.51305500000000004,0.12,1.0000166666666672,106000000000,6.5377358490566029E-12,352262626262.62628,2549740.6650815569,2.5497406650815568,2.5497406650815567E-3]
[null,0.51305999999999996,0.51306300000000005,0.12,1.0000250000000008,106000000000,6.5377358490566029E-12,352262626262.62628,3824595.0620530359,3.824595062053036,3.824595062053036E-3]
[null,0.51304300000000003,0.51304700000000003,0.12,1.0000333333333333,106000000000,6.5377358490566029E-12,352262626262.62628,5099438.8353778813,5.0994388353778817,5.0994388353778819E-3]
[null,0.51301200000000002,0.51301600000000003,0.14000000000000001,1.0000285714285715,106000000000,6.5377358490566029E-12,352262626262.62628,4370957.9799527396,4.3709579799527392,4.3709579799527396E-3]
[null,0.51301300000000005,0.51301799999999997,0.14000000000000001,1.0000357142857137,106000000000,6.5377358490566029E-12,352262626262.62628,5463677.9621912539,5.4636779621912535,5.4636779621912539E-3]
[null,0.51303100000000001,0.51303500000000002,0.12,1.0000333333333333,106000000000,6.5377358490566029E-12,352262626262.62628,5099438.8353778813,5.0994388353778817,5.0994388353778819E-3]
[null,0.51302499999999995,0.51302899999999996,0.13,1.0000307692307693,106000000000,6.5377358490566029E-12,352262626262.62628,4707180.3442689665,4.7071803442689664,4.7071803442689667E-3]
[null,0.51302199999999998,0.51302599999999998,0.14000000000000001,1.0000285714285715,106000000000,6.5377358490566029E-12,352262626262.62628,4370957.9799527396,4.3709579799527392,4.3709579799527396E-3]
[null,0.51302099999999995,0.51302400000000004,0.14000000000000001,1.0000214285714293,106000000000,6.5377358490566029E-12,352262626262.62628,3278230.1927666184,3.2782301927666184,3.2782301927666182E-3]
[null,0.51302999999999999,0.51303299999999996,0.14000000000000001,1.0000214285714284,106000000000,6.5377358490566029E-12,352262626262.62628,3278230.1926307427,3.2782301926307427,3.2782301926307426E-3]
[null,0.51300400000000002,0.51300699999999999,0.13,1.0000230769230767,106000000000,6.5377358490566029E-12,352262626262.62628,3530398.8362855776,3.5303988362855776,3.5303988362855778E-3]
[null,0.51304300000000003,0.513046,0.12,1.0000249999999997,106000000000,6.5377358490566029E-12,352262626262.62628,3824595.061883192,3.8245950618831919,3.8245950618831918E-3]
[null,0.51300699999999999,0.51300999999999997,0.12,1.0000249999999997,106000000000,6.5377358490566029E-12,352262626262.62628,3824595.061883192,3.8245950618831919,3.8245950618831918E-3]
[null,0.51299799999999995,0.51300100000000004,0.14000000000000001,1.0000214285714293,106000000000,6.5377358490566029E-12,352262626262.62628,3278230.1927666184,3.2782301927666184,3.2782301927666182E-3]
[null,0.51300500000000004,0.51300900000000005,0.13,1.0000307692307693,106000000000,6.5377358490566029E-12,352262626262.62628,4707180.3442689665,4.7071803442689664,4.7071803442689667E-3]
[null,0.51305000000000001,0.51305900000000004,0.12,1.0000750000000003,106000000000,6.5377358490566029E-12,352262626262.62628,11473498.356726279,11.47349835672628,1.1473498356726279E-2]
[null,0.51302199999999998,0.51303100000000001,0.12,1.0000750000000003,106000000000,6.5377358490566029E-12,352262626262.62628,11473498.356726279,11.47349835672628,1.1473498356726279E-2]
[null,0.51307499999999995,0.51308500000000001,0.13,1.0000769230769235,106000000000,6.5377358490566029E-12,352262626262.62628,11767679.307944875,11.767679307944876,1.1767679307944876E-2]
[null,0.51303600000000005,0.51304400000000006,0.1,1.0000800000000001,106000000000,6.5377358490566029E-12,352262626262.62628,12238367.65316147,12.23836765316147,1.2238367653161469E-2]
[null,0.51297000000000004,0.51297899999999996,0.11,1.0000818181818174,106000000000,6.5377358490566029E-12,352262626262.62628,12516500.99454497,12.51650099454497,1.2516500994544971E-2]
[null,0.51300999999999997,0.513019,0.12,1.0000750000000003,106000000000,6.5377358490566029E-12,352262626262.62628,11473498.356726279,11.47349835672628,1.1473498356726279E-2]
[null,0.51307700000000001,0.51308600000000004,0.12,1.0000750000000003,106000000000,6.5377358490566029E-12,352262626262.62628,11473498.356726279,11.47349835672628,1.1473498356726279E-2]
[null,0.51299899999999998,0.51300699999999999,0.1,1.0000800000000001,106000000000,6.5377358490566029E-12,352262626262.62628,12238367.65316147,12.23836765316147,1.2238367653161469E-2]
[null,0.51306499999999999,0.51307400000000003,0.11,1.0000818181818185,106000000000,6.5377358490566029E-12,352262626262.62628,12516500.994714804,12.516500994714804,1.2516500994714803E-2]
[null,0.51307499999999995,0.51308399999999998,0.11,1.0000818181818185,106000000000,6.5377358490566029E-12,352262626262.62628,12516500.994714804,12.516500994714804,1.2516500994714803E-2]
[null,0.51302499999999995,0.51303600000000005,0.12,1.0000916666666675,106000000000,6.5377358490566029E-12,352262626262.62628,14023047.807192497,14.023047807192498,1.4023047807192497E-2]
[null,0.51295400000000002,0.51297999999999999,0.13,1.0001999999999998,106000000000,6.5377358490566029E-12,352262626262.62628,30594083.646889277,30.594083646889278,3.0594083646889279E-2]
[null,0.51294399999999996,0.51296900000000001,0.13,1.000192307692308,106000000000,6.5377358490566029E-12,352262626262.62628,29417501.247625645,29.417501247625644,2.9417501247625644E-2]
[null,0.51293,0.512957,0.13,1.0002076923076924,106000000000,6.5377358490566029E-12,352262626262.62628,31770656.997499485,31.770656997499483,3.177065699749948E-2]
[null,0.51294600000000001,0.51297199999999998,0.12,1.0002166666666663,106000000000,6.5377358490566029E-12,352262626262.62628,33143314.469952978,33.143314469952976,3.3143314469952979E-2]
[null,0.512965,0.51299099999999997,0.12,1.0002166666666663,106000000000,6.5377358490566029E-12,352262626262.62628,33143314.469952978,33.143314469952976,3.3143314469952979E-2]
[null,0.51286100000000001,0.51293599999999995,7.0000000000000007E-2,1.0010714285714277,106000000000,6.5377358490566029E-12,352262626262.62628,163825517.81467015,163.82551781467015,0.16382551781467014]
[null,null,null,null,null,null,null,null,"Average",{"$f":"AVERAGE(J143:J198)","v":9.6745596043205264},9.6745596043205269E-3]
[null,null,null,null,null,null,null,null,"Maximum",{"$f":"MAX(J143:J199)","v":163.82551781467015},0.16382551781467014]
[null,null,null,null,null,null,null,null,"Minimum",{"$f":"MIN(J143:J200)","v":0}]
[null,null,null,null,null,null,null,null,"Difference",164]

{"sheet":"Nd_Sm_11","index":11,"n_rows":124,"n_cols":25,"rows_kept":124,"cut":false,"hidden":false,"merged":[]}
["Rubidium","Table 4","Page 1873",null,null,null,null,null,null,null,"Rubidium_034.pdf",null,null,null,null,null,null,"147Sm/144Nd",null,"176Lu/176Hf",null,"187Re/188Os"]
["Strontium","Initial","Today","Today","The Ratio","Half","Decay","2.303/Delta","Age","Age","Age","Model Age","Model Age","Model Age",null,null,null,-74,null,-1,null,20.71]
["Dating","87Sr/86Sr","87Sr/86Sr","87Rb/86Sr","Plus One","Life","Constant","Constant","Years","Million Years","Billion Years","Million Years","% Difference"," Difference",null,null,null,-128,null,-12,null,6.44]
["PL01",0.702318,0.70231900000000003,7.6699999999999997E-3,{"$f":"1+((C4-B4)/D4)","v":1.0001303780964836},48800000000,{"$f":"(0.693/F4)","v":1.4200819672131146E-11},{"$f":"(2.303/G4)","v":162173737373.7374},{"$f":"(LOG(E4))*(H4)","v":9182081.9181117397},{"$f":"(I4/1000000)","v":9.1820819181117397},{"$f":"(J4/1000)","v":9.1820819181117393E-3},0,{"$f":"(J4/L4) *100","v":{"$error":"#DIV/0!"}},{"$f":"(J4-L4)","v":9.1820819181117397},null,null,null,-281,null,-143,null,-0.02]
["PL02",0.70269499999999996,0.70269599999999999,8.4700000000000001E-3,1.0001180637544307,48800000000,1.4200819672131146E-11,162173737373.7374,8314876.2569871154,8.314876256987116,8.3148762569871162E-3,0,{"$f":"(J5/L5) *100","v":{"$error":"#DIV/0!"}},{"$f":"(J5-L5)","v":8.314876256987116},null,null,null,-457,null,-153,null,-0.03]
["PL03",0.70347599999999999,0.70347599999999999,2.15E-3,1,48800000000,1.4200819672131146E-11,162173737373.7374,0,0,0,0,{"$error":"#DIV/0!"},0,null,null,null,-2301,null,-159,null,-0.04]
["PL03-leached",0.70337300000000003,0.70337300000000003,1.91E-3,1,48800000000,1.4200819672131146E-11,162173737373.7374,0,0,0,0,{"$error":"#DIV/0!"},0,null,null,null,-3742,null,-218,null,-7.0000000000000007E-2]
["PL06",0.70264499999999996,0.70264599999999999,1.2999999999999999E-2,1.0000769230769253,48800000000,1.4200819672131146E-11,162173737373.7374,5417573.115480856,5.417573115480856,5.417573115480856E-3,0,{"$error":"#DIV/0!"},5.417573115480856,null,null,null,null,null,-236,null,-0.12]
["PL07",0.702569,0.70257000000000003,1.0999999999999999E-2,1.0000909090909118,48800000000,1.4200819672131146E-11,162173737373.7374,6402541.6391660925,6.4025416391660928,6.4025416391660928E-3,0,{"$error":"#DIV/0!"},6.4025416391660928,null,null,null,null,null,-244,null,-0.28000000000000003]
["PL11",0.70424500000000001,0.70425000000000004,5.8400000000000001E-2,1.0000856164383567,48800000000,1.4200819672131146E-11,162173737373.7374,6029806.8827958331,6.0298068827958327,6.0298068827958325E-3,0,{"$error":"#DIV/0!"},6.0298068827958327,null,null,null,null,null,-409,null,-0.38]
["PL12",0.70255100000000004,0.70255199999999995,5.4099999999999999E-3,1.0001848428835338,48800000000,1.4200819672131146E-11,162173737373.7374,13017495.507949645,13.017495507949645,1.3017495507949645E-2,0,{"$error":"#DIV/0!"},13.017495507949645,null,null,null,null,null,-423,null,-0.38]
["PL13",0.70329200000000003,0.70329299999999995,3.3800000000000002E-3,1.0002958579881414,48800000000,1.4200819672131146E-11,162173737373.7374,20834539.198002625,20.834539198002624,2.0834539198002624E-2,0,{"$error":"#DIV/0!"},20.834539198002624,null,null,null,null,null,-660,null,-0.41]
["PL14",0.70289599999999997,0.70289699999999999,1.9E-2,1.0000526315789489,48800000000,1.4200819672131146E-11,162173737373.7374,3706805.5719214105,3.7068055719214104,3.7068055719214105E-3,0,{"$error":"#DIV/0!"},3.7068055719214104,null,null,null,null,null,-722,null,-1.72,null,null," "]
["PL15",0.702824,0.70283099999999998,0.107,1.0000654205607475,48800000000,1.4200819672131146E-11,162173737373.7374,4607495.2214852804,4.60749522148528,4.6074952214852803E-3,0,{"$error":"#DIV/0!"},4.60749522148528,null,null,null,null,null,-865,null,-2.27]
["PL15-leached",0.70279499999999995,0.70279499999999995,4.79E-3,1,48800000000,1.4200819672131146E-11,162173737373.7374,0,0,0,0,{"$error":"#DIV/0!"},0,null,null,null,null,null,-1457,null,-2.68,null,null," "]
["PL16",0.70333900000000005,0.70333900000000005,4.8999999999999998E-3,1,48800000000,1.4200819672131146E-11,162173737373.7374,0,0,0,0,{"$error":"#DIV/0!"},0,null,null,null,null,null,-1548,null,-11.06]
["PL17",0.70333400000000001,0.70333500000000004,2.12E-2,1.000047169811322,48800000000,1.4200819672131146E-11,162173737373.7374,3322146.1411756151,3.3221461411756152,3.3221461411756152E-3,0,{"$error":"#DIV/0!"},3.3221461411756152,null,null,null,null,null,-1614]
["PL17-leached",0.70291400000000004,0.70291400000000004,8.6400000000000001E-3,1,48800000000,1.4200819672131146E-11,162173737373.7374,0,0,0,0,{"$error":"#DIV/0!"},0,null,null,null,null,null,-1779]
["PL18",0.70412300000000005,0.70412699999999995,4.9500000000000002E-2,1.0000808080808059,48800000000,1.4200819672131146E-11,162173737373.7374,5691176.8645685511,5.6911768645685514,5.6911768645685513E-3,0,{"$error":"#DIV/0!"},5.6911768645685514,null,null,null,null,null,-1982]
["PL19",0.70362199999999997,0.703623,5.3899999999999998E-3,1.0001855287569628,48800000000,1.4200819672131146E-11,162173737373.7374,13065793.424560113,13.065793424560113,1.3065793424560112E-2,0,{"$error":"#DIV/0!"},13.065793424560113,null,null,null,null,null,-2121]
["PL19-leached-R",0.70347000000000004,0.70347000000000004,1.33E-3,1,48800000000,1.4200819672131146E-11,162173737373.7374,0,0,0,0,{"$error":"#DIV/0!"},0,null,null,null,null,null,-2614]
["PL23",0.70364400000000005,0.70364599999999999,2.5999999999999999E-2,1.0000769230769211,48800000000,1.4200819672131146E-11,162173737373.7374,5417573.1151837399,5.4175731151837399,5.4175731151837395E-3,0,{"$error":"#DIV/0!"},5.4175731151837399,null,null,null,null,null,-3107]
["PL23-leached",0.70359000000000005,0.70359000000000005,8.3000000000000001E-3,1,48800000000,1.4200819672131146E-11,162173737373.7374,0,0,0,0,{"$error":"#DIV/0!"},0,null,null,null,null,null,-3255]
["SW01",0.70320700000000003,0.70321999999999996,5.4600000000000003E-2,1.000238095238094,48800000000,1.4200819672131146E-11,162173737373.7374,16767327.599888558,16.767327599888556,1.6767327599888558E-2,0,{"$error":"#DIV/0!"},16.767327599888556,null,null,null,null,null,-6178]
["SW01-leached",0.70305300000000004,0.70305300000000004,2.32E-3,1,48800000000,1.4200819672131146E-11,162173737373.7374,0,0,0,0,{"$error":"#DIV/0!"},0,null,null,null,null,null,-9369]
["SW02",0.70266399999999996,0.70267599999999997,0.05,1.0002400000000002,48800000000,1.4200819672131146E-11,162173737373.7374,16901450.127368759,16.901450127368758,1.6901450127368756E-2,0,{"$error":"#DIV/0!"},16.901450127368758]
["SW03-leached",0.70289299999999999,0.70289500000000005,6.3200000000000001E-3,1.0003164556962116,48800000000,1.4200819672131146E-11,162173737373.7374,22284815.643301472,22.284815643301471,2.2284815643301471E-2,0,{"$error":"#DIV/0!"},22.284815643301471]
["SW04",0.70312399999999997,0.70313499999999995,4.6300000000000001E-2,1.0002375809935202,48800000000,1.4200819672131146E-11,162173737373.7374,16731117.370589081,16.731117370589082,1.6731117370589084E-2,0,{"$error":"#DIV/0!"},16.731117370589082]
["SW04-leached",0.70245000000000002,0.70245000000000002,1.1000000000000001E-3,1,48800000000,1.4200819672131146E-11,162173737373.7374,0,0,0,0,{"$error":"#DIV/0!"},0]
["SW05",0.70318099999999994,0.703183,0.01,1.0002000000000058,48800000000,1.4200819672131146E-11,162173737373.7374,14084823.415216476,14.084823415216476,1.4084823415216476E-2,0,{"$error":"#DIV/0!"},14.084823415216476]
["SW05-leached",0.70303099999999996,0.70303099999999996,9.3800000000000003E-4,1,48800000000,1.4200819672131146E-11,162173737373.7374,0,0,0,0,{"$error":"#DIV/0!"},0]
["SW07",0.703129,0.70313099999999995,8.9599999999999992E-3,1.0002232142857084,48800000000,1.4200819672131146E-11,162173737373.7374,15719486.562112354,15.719486562112353,1.5719486562112354E-2,0,{"$error":"#DIV/0!"},15.719486562112353]
["SW08",0.70338400000000001,0.70339099999999999,2.9399999999999999E-2,1.0002380952380945,48800000000,1.4200819672131146E-11,162173737373.7374,16767327.599919828,16.767327599919827,1.6767327599919828E-2,0,{"$error":"#DIV/0!"},16.767327599919827]
["SW09",0.70314299999999996,0.70314500000000002,8.6300000000000005E-3,1.0002317497103195,48800000000,1.4200819672131146E-11,162173737373.7374,16320509.690233624,16.320509690233624,1.6320509690233624E-2,0,{"$error":"#DIV/0!"},16.320509690233624]
["SW10",0.70262000000000002,0.70263100000000001,4.6399999999999997E-2,1.0002370689655169,48800000000,1.4200819672131146E-11,162173737373.7374,16695063.201300547,16.695063201300545,1.6695063201300545E-2,0,{"$error":"#DIV/0!"},16.695063201300545]
["SW11",0.70317399999999997,0.70317600000000002,8.4499999999999992E-3,1.0002366863905394,48800000000,1.4200819672131146E-11,162173737373.7374,16668124.38334115,16.668124383341151,1.666812438334115E-2,0,{"$error":"#DIV/0!"},16.668124383341151]
["SW11-leached",0.70315799999999995,0.70315799999999995,5.1900000000000004E-4,1,48800000000,1.4200819672131146E-11,162173737373.7374,0,0,0,0,{"$error":"#DIV/0!"},0]
["SW12",0.70257899999999995,0.70259000000000005,4.6300000000000001E-2,1.0002375809935224,48800000000,1.4200819672131146E-11,162173737373.7374,16731117.370745433,16.731117370745434,1.6731117370745435E-2,0,{"$error":"#DIV/0!"},16.731117370745434]
["SW13",0.702654,0.70266499999999998,4.9799999999999997E-2,1.0002208835341362,48800000000,1.4200819672131146E-11,162173737373.7374,15555365.469866505,15.555365469866505,1.5555365469866505E-2,0,{"$error":"#DIV/0!"},15.555365469866505]
["SW14",0.703129,0.70313199999999998,1.06E-2,1.0002830188679221,48800000000,1.4200819672131146E-11,162173737373.7374,19930526.733134512,19.930526733134514,1.9930526733134512E-2,0,{"$error":"#DIV/0!"},19.930526733134514]
["SW15",0.70325700000000002,0.70325899999999997,8.4899999999999993E-3,1.0002355712602999,48800000000,1.4200819672131146E-11,162173737373.7374,16589603.009018434,16.589603009018433,1.6589603009018433E-2,0,{"$error":"#DIV/0!"},16.589603009018433]
["SW16",0.70352199999999998,0.70352499999999996,1.03E-2,1.0002912621359199,48800000000,1.4200819672131146E-11,162173737373.7374,20510942.993220374,20.510942993220375,2.0510942993220375E-2,0,{"$error":"#DIV/0!"},20.510942993220375]
["SW17",0.70313199999999998,0.70313300000000001,3.3500000000000001E-3,1.0002985074626951,48800000000,1.4200819672131146E-11,162173737373.7374,21021089.322755042,21.021089322755042,2.1021089322755041E-2,0,{"$error":"#DIV/0!"},21.021089322755042]
["SW18",0.702268,0.702268,2.2799999999999999E-3,1,48800000000,1.4200819672131146E-11,162173737373.7374,0,0,0,0,{"$error":"#DIV/0!"},0]
["SW19",0.70290399999999997,0.702905,6.8799999999999998E-3,1.0001453488372134,48800000000,1.4200819672131146E-11,162173737373.7374,10236343.198460015,10.236343198460014,1.0236343198460014E-2,0,{"$error":"#DIV/0!"},10.236343198460014]
["SW20",0.70249300000000003,0.70249899999999998,2.76E-2,1.0002173913043459,48800000000,1.4200819672131146E-11,162173737373.7374,15309457.564992541,15.309457564992542,1.5309457564992541E-2,0,{"$error":"#DIV/0!"},15.309457564992542]
["SW21",0.70309699999999997,0.70309999999999995,1.43E-2,1.0002097902097884,48800000000,1.4200819672131146E-11,162173737373.7374,14774217.985951684,14.774217985951685,1.4774217985951684E-2,0,{"$error":"#DIV/0!"},14.774217985951685]
["SW22-leached",0.70304100000000003,0.70304100000000003,1.56E-3,1,48800000000,1.4200819672131146E-11,162173737373.7374,0,0,0,0,{"$error":"#DIV/0!"},0]
[null,null,null,null,null,null,null,null,"Average",{"$f":"AVERAGE(J4:J48)","v":9.4357469799734464}]
[null,null,null,null,null,null,null,null,"Maximum",{"$f":"MAX(J4:J49)","v":22.284815643301471}]
[null,null,null,null,null,null,null,null,"Minimum",{"$f":"MIN(J4:J50)","v":0}]
[null,null,null,null,null,null,null,null,"Difference",{"$f":"(J50-J51)","v":22.284815643301471}]
[]
["Table 5",null,"Table 6",null,"Table 7"]
["Table 5","147Sm/144Nd","Table 6","176Lu/176Hf","Table 7","187Re/188Os"]
[]
["PL01",364,"PL01",-244,"MY9",4.05]
["PL02",347,"PL02",-423,"MY9-R",2.81]
["PL03",408,"PL03",-722,"MY9",2.5299999999999998]
["PL03-leached",406,"PL03-leached",-865,"MY10",6.44,null,"Table","147Sm/144Nd","176Lu/176Hf","187Re/188Os","87Rb/86Sr"]
["PL06",-457,"PL06",-153,"MY33",1.67,null,"Summaries","Age","Age","Age","Age"]
["PL07",76,"PL07",-159,"MY34",2.95,null,"Average",290.60869565217394,-220,1048.2812499999998,9.4357469799734464]
["PL11",601,"PL11",1377,"MY35",-2.68,null,"Maximum",3079,4192,20710,22.284815643301471]
["PL12",128,"PL12",-1,"PL01",0.36,null,"Minimum",-3742,-9369,-11060,0]
["PL13",428,"PL13",199,"PL02",1.34,null,"Difference",6821,13561,31770,22.284815643301471]
["PL14",1794,"PL14",-1779,"PL02",0.96]
["PL15",232,"PL15",-2614,"PL03",7.0000000000000007E-2]
["PL15-leached",362,"PL15-leached",4192,"PL03-R",0.39]
["PL16",425,"PL16",-143,"PL03",-0.03]
["PL17",881,"PL17",2285,"PL06",0.32]
["PL17-leached",847,"PL17-R",2694,"PL07",0]
["PL18",384,"PL17-leached",1740,"PL07",-7.0000000000000007E-2]
["PL19",162,"PL18",0,"PL08",1.83]
["PL19-leached",14,"PL19",1227,"PL08",0.98]
["PL19-leached-R",42,"PL19-leached",1345,"PL10",0.79]
["PL23",1412,"PL19-leached-R",1308,"PL11",0.36]
["PL23-leached",967,"PL23",1424,"PL11",0.43]
["SW01",878,"PL23-leached",1895,"PL12",1.29]
["SW01-leached",766,"SW01",492,"PL13",-0.38]
["SW02",277,"SW02",275,"PL14",-0.12]
["SW03",-128,"SW03",-660,"PL14",0.32]
["SW03-leached",-74,"SW03-leached",-409,"PL15",1.1000000000000001]
["SW04",400,"SW04",1011,"PL16",0.18]
["SW04-leached",396,"SW04-leached",895,"PL16-R",-2.27]
["SW05",179,"SW05",-1457,"PL16",0.19]
[null,null,"SW05-leached",-1548,"PL17",0.22]
["SW07",331,"SW07",-236,"PL17",0.31]
["SW08",405,"SW08",1028,"PL18",-1.72]
["SW09",346,"SW09",-218,"PL18-R",2.48]
["SW10",334,"SW10",380,"PL18",-0.38]
["SW11",-2301,"SW11",-1982,"PL19",-0.04]
["SW11-leached",3079,"SW11-leached",-3107,"PL19",0.38]
["SW12",259,"SW12",133,"PL19-R",0.47]
["SW13",193,"SW13",852,"PL23",1.1299999999999999]
["SW14",150,"SW14",1097,"PL23",1.04]
["SW15",370,"SW15",-2121,"SW01",0.47]
["SW16",123,"SW16",1543,"SW02",0.37]
["SW17",336,"SW17",-12,"SW03",1.41]
["SW18",-3742,"SW18",-9369,"SW04",0.75]
["SW19",-281,"SW19",-1614,"SW05",2.12]
["SW20",194,"SW20",870,"SW06",0.78]
["SW21",815,"SW21",447,"SW07",-0.28000000000000003]
["SW22-lea",240,"SW22",-3255,"SW07",0.78]
[null,null,"SW22-leached",-6178,"SW08",-0.41]
["Average",{"$f":"AVERAGE(B57:B104)","v":290.60869565217394},"Average",{"$f":"AVERAGE(D57:D104)","v":-220},"SW09",1.28]
["Maximum",{"$f":"MAX(B57:B104)","v":3079},"Maximum",{"$f":"MAX(D57:D104)","v":4192},"SW09",0.85]
["Minimum",{"$f":"MIN(B57:B104)","v":-3742},"Minimum",{"$f":"MIN(D57:D104)","v":-9369},"SW10",2.5099999999999998]
["Difference",{"$f":"B106 +ABS(B107)","v":6821},"Difference",{"$f":"D106 +ABS(D107)","v":13561},"SW11",1.39]
[null,null,null,null,"SW12",0.89]
[null,null,null,null,"SW13",4.0199999999999996]
[null,null,null,null,"SW14",1.44]
[null,null,null,null,"SW15",2.41]
[null,null,null,null,"SW16",1.63]
[null,null,null,null,"SW17",0.9]
[null,null,null,null,"SW18",-11.06]
[null,null,null,null,"SW18",20.71]
[null,null,null,null,"SW19",0.49]
[null,null,null,null,"SW20",2.57]
[null,null,null,null,"SW21",-0.02]
[null,null,null,null,"SW22",1.39]
[null,null,null,null,"Average",{"$f":"AVERAGE(F57:F120) * 1000","v":1048.2812499999998}]
[null,null,null,null,"Maximum",{"$f":"MAX(F57:F120)*1000","v":20710}]
[null,null,null,null,"Minimum",{"$f":"MIN(F57:F120)*1000","v":-11060}]
[null,null,null,null,"Difference",{"$f":"F122 +ABS(F123)","v":31770}]

{"sheet":"Nd_Sm_12","index":12,"n_rows":50,"n_cols":14,"rows_kept":50,"cut":false,"hidden":false,"merged":[]}
["Strontium","Initial","Today","Today","The Ratio","Half","Decay","2.303/Delta","Age","Age","Age","Model Age","Model Age","Model Age"]
["Dating","87Sr/86Sr","87Sr/86Sr","87Rb/86Sr","Plus One","Life","Constant","Constant","Years","Million Years","Billion Years","Million Years","% Difference"," Difference"]
[null,0.70767999999999998,0.81,0.70964300000000002,{"$f":"1+((C3-B3)/D3)","v":1.1441851747991596},48800000000,{"$f":"(0.693/F3)","v":1.4200819672131146E-11},{"$f":"(2.303/G3)","v":162173737373.7374},{"$f":"(LOG(E3))*(H3)","v":9486566239.3930683},{"$f":"(I3/1000000)","v":9486.5662393930688},{"$f":"(J3/1000)","v":9.4865662393930688},0,{"$f":"(J3/L3) *100","v":{"$error":"#DIV/0!"}},{"$f":"(J3-L3)","v":9486.5662393930688}]
[null,0.71274999999999999,1.1100000000000001,0.71542600000000001,1.5552635772253176,48800000000,1.4200819672131146E-11,162173737373.7374,31105571743.635376,31105.571743635377,31.105571743635377,0,{"$f":"(J4/L4) *100","v":{"$error":"#DIV/0!"}},{"$f":"(J4-L4)","v":31105.571743635377}]
[null,0.70737000000000005,1.21,0.71029100000000001,1.7076395449189135,48800000000,1.4200819672131146E-11,162173737373.7374,37688560871.112061,37688.560871112059,37.68856087111206,0,{"$error":"#DIV/0!"},37688.560871112059]
[null,0.72340000000000004,0.09,0.72361900000000001,0.1246774891206559,48800000000,1.4200819672131146E-11,162173737373.7374,-146639431724.9155,-146639.43172491548,-146.63943172491548,0,{"$error":"#DIV/0!"},-146639.43172491548]
[null,0.70579000000000003,1.48,0.70936200000000005,2.091417358133083,48800000000,1.4200819672131146E-11,162173737373.7374,51967067257.264175,51967.067257264178,51.967067257264176,0,{"$error":"#DIV/0!"},51967.067257264178]
[null,0.70908000000000004,0.12,0.70936299999999997,0.16956480673505658,48800000000,1.4200819672131146E-11,162173737373.7374,-124981506673.71703,-124981.50667371703,-124.98150667371702,0,{"$error":"#DIV/0!"},-124981.50667371703]
[null,0.70903000000000005,0.11,0.70928800000000003,0.15544884447502283,48800000000,1.4200819672131146E-11,162173737373.7374,-131103276776.93207,-131103.27677693206,-131.10327677693206,0,{"$error":"#DIV/0!"},-131103.27677693206]
[null,0.70520000000000005,0.02,0.70524299999999995,2.841999140721696E-2,48800000000,1.4200819672131146E-11,162173737373.7374,-250781584665.30432,-250781.58466530431,-250.78158466530431,0,{"$error":"#DIV/0!"},-250781.58466530431]
[null,0.70367000000000002,0.14000000000000001,0.70400399999999996,0.19933693558559318,48800000000,1.4200819672131146E-11,162173737373.7374,-113588467816.89667,-113588.46781689666,-113.58846781689667,0,{"$error":"#DIV/0!"},-113588.46781689666]
[null,0.70282999999999995,0.01,0.70286199999999999,1.4273072096656292E-2,48800000000,1.4200819672131146E-11,162173737373.7374,-299288800847.31635,-299288.80084731634,-299.28880084731634,0,{"$error":"#DIV/0!"},-299288.80084731634]
[null,0.70282999999999995,0.01,0.70285900000000001,1.4268864736739606E-2,48800000000,1.4200819672131146E-11,162173737373.7374,-299309565327.33008,-299309.56532733008,-299.30956532733006,0,{"$error":"#DIV/0!"},-299309.56532733008]
[null,0.70287999999999995,0.02,0.70292299999999996,2.8513791695534252E-2,48800000000,1.4200819672131146E-11,162173737373.7374,-250549509132.58215,-250549.50913258214,-250.54950913258213,0,{"$error":"#DIV/0!"},-250549.50913258214]
[null,0.70367999999999997,0.01,0.70371600000000001,1.426143501071464E-2,48800000000,1.4200819672131146E-11,162173737373.7374,-299346248028.41046,-299346.24802841048,-299.34624802841046,0,{"$error":"#DIV/0!"},-299346.24802841048]
[null,0.70413000000000003,0.11,0.704399,0.15654337953347452,48800000000,1.4200819672131146E-11,162173737373.7374,-130609099785.72295,-130609.09978572295,-130.60909978572295,0,{"$error":"#DIV/0!"},-130609.09978572295]
[null,0.70284000000000002,0.06,0.70299199999999995,8.5565696337938202E-2,48800000000,1.4200819672131146E-11,162173737373.7374,-173152949828.25543,-173152.94982825543,-173.15294982825543,0,{"$error":"#DIV/0!"},-173152.94982825543]
[null,0.70284000000000002,0.01,0.70287900000000003,1.4282685924604355E-2,48800000000,1.4200819672131146E-11,162173737373.7374,-299241376921.65479,-299241.3769216548,-299.24137692165482,0,{"$error":"#DIV/0!"},-299241.3769216548]
[null,0.70309999999999995,0.08,0.70327200000000001,0.11399856669965536,48800000000,1.4200819672131146E-11,162173737373.7374,-152946150480.9577,-152946.1504809577,-152.9461504809577,0,{"$error":"#DIV/0!"},-152946.1504809577]
[null,null,null,null,null,null,null,null,"Average",{"$f":"AVERAGE(J2:J19)","v":-149487.65893521125}]
[null,null,null,null,null,null,null,null,"Maximum",{"$f":"MAX(J3:J20)","v":51967.067257264178}]
[null,null,null,null,null,null,null,null,"Minimum",{"$f":"MIN(J3:J21)","v":-299346.24802841048}]
[null,null,null,null,null,null,null,null,"Difference",{"$f":"(J21 +ABS(J22))","v":351313.31528567465}]
[]
[]
[]
[]
[null,null,null,null,null,null,"207Pb/206Pb"]
[null,null,null,"206Pb/204Pb","207Pb/204Pb","207Pb/206Pb","Age"]
[null,null,null,19.059000000000001,15.699,{"$f":"(E30/D30)","v":0.82370533606170304},{"$f":"[1]!AgePb76($F$30)","v":4963.2875186615211}]
[null,null,null,18.922000000000001,15.7,{"$f":"(E31/D31)","v":0.82972201670013734},{"$f":"[1]!AgePb76($F$31)","v":4973.631392094826},null,null,null,"Dating","87Rb/86Sr","207Pb/206Pb"]
[null,null,null,19.018000000000001,15.744999999999999,0.82789988432011774,{"$f":"[1]!AgePb76($F$32)","v":4970.507222457315},null,null,null,"Summary","Age","Age"]
[null,null,null,18.902999999999999,15.699,0.83050309474686568,{"$f":"[1]!AgePb76($F$33)","v":4974.968371148856},null,null,null,"Average",-149487.65893521125,4974.0749963804165]
[null,null,null,18.975000000000001,15.726000000000001,0.8287747035573122,{"$f":"[1]!AgePb76($F$34)","v":4972.0080705586906},null,null,null,"Maximum",51967.067257264178,5023.7498665293406]
[null,null,null,18.949000000000002,15.701000000000001,0.82859253786479492,{"$f":"[1]!AgePb76($F$35)","v":4971.6956842432337},null,null,null,"Minimum",-299346.24802841048,4844.5429693754249]
[null,null,null,18.951000000000001,15.695,0.82818848609572049,{"$f":"[1]!AgePb76($F$36)","v":4971.0025366234868},null,null,null,"Difference",351313.31528567465,179.20689715391563]
[null,null,null,18.155000000000001,15.605,0.85954282566786011,{"$f":"[1]!AgePb76($F$37)","v":5023.7498665293406}]
[null,null,null,18.385000000000002,15.597,0.84835463693228164,{"$f":"[1]!AgePb76($F$38)","v":5005.1660423103904}]
[null,null,null,18.443000000000001,15.596,0.84563248929132995,{"$f":"[1]!AgePb76($F$39)","v":5000.6051213537839}]
[null,null,null,18.446999999999999,15.58,0.84458177481433294,{"$f":"[1]!AgePb76($F$40)","v":4998.8404906895739}]
[null,null,null,19.356999999999999,15.663,0.80916464328150028,{"$f":"[1]!AgePb76($F$41)","v":4937.9538040553807}]
[null,null,null,20.753,15.728,0.7578663325784224,{"$f":"[1]!AgePb76($F$42)","v":4844.5429693754249}]
[null,null,null,18.221,15.590999999999999,0.85566105043630969,{"$f":"[1]!AgePb76($F$43)","v":5017.3314040947962}]
[null,null,null,19.067,15.62,0.81921644726490794,{"$f":"[1]!AgePb76($F$44)","v":4955.5177688308668}]
[null,null,null,18.664000000000001,15.638,0.83786969567081004,{"$f":"[1]!AgePb76($F$45)","v":4987.5125100006262}]
[null,null,null,18.545000000000002,15.576000000000001,0.83990293879751954,{"$f":"[1]!AgePb76($F$46)","v":4990.9541654389541}]
[null,null,null,null,null,"Average",{"$f":"AVERAGE(G30:G46)","v":4974.0749963804165}]
[null,null,null,null,null,"Maximum",{"$f":"MAX(G30:G47)","v":5023.7498665293406}]
[null,null,null,null,null,"Minimum",{"$f":"MIN(G30:G48)","v":4844.5429693754249}]
[null,null,null,null,null,"Difference",{"$f":"(G48 - ABS(G49))","v":179.20689715391563}]

{"sheet":"Nd_Sm_13","index":13,"n_rows":100,"n_cols":24,"rows_kept":100,"cut":false,"hidden":false,"merged":[]}
["Rubidium",null,null,null,null,null,null,null,null,null,"Rubidium_056.pdf",null,null,null,null,null,null,null,null,"207Pb/206Pb",null,"206Pb/238U",null,"208Pb/232Th"]
["Strontium","Initial","Today","Today","The Ratio","Half","Decay","2.303/Delta","Age","Age","Age","Model Age","Model Age","Model Age",null,null,null,null,null,4982.9734563874781,null,7092.6278788949512,null,13430.277831815292]
["Dating","87Sr/86Sr","87Sr/86Sr","87Rb/86Sr","Plus One","Life","Constant","Constant","Years","Million Years","Billion Years","Million Years","% Difference"," Difference",null,null,null,null,null,4988.2527720589815,null,5324.5062513882294,null,12296.761802654779]
[null,0.70391999999999999,0.70403000000000004,0.17299999999999999,{"$f":"1+((C4-B4)/D4)","v":1.0006358381502893},48800000000,{"$f":"(0.693/F4)","v":1.4200819672131146E-11},{"$f":"(2.303/G4)","v":162173737373.7374},{"$f":"(LOG(E4))*(H4)","v":44768586.741035782},{"$f":"(I4/1000000)","v":44.768586741035783},{"$f":"(J4/1000)","v":4.476858674103578E-2},0,{"$f":"(J4/L4) *100","v":{"$error":"#DIV/0!"}},{"$f":"(J4-L4)","v":44.768586741035783},null,null,null,null,null,4988.5257756720302,null,5279.184045265215,null,11101.890210644291]
[null,0.70377999999999996,0.70388300000000004,0.16700000000000001,1.0006167664670662,48800000000,1.4200819672131146E-11,162173737373.7374,43426186.730947174,43.426186730947173,4.3426186730947169E-2,0,{"$f":"(J5/L5) *100","v":{"$error":"#DIV/0!"}},{"$f":"(J5-L5)","v":43.426186730947173},null,null,null,null,null,4956.5960298946557,null,5261.5015701536149,null,11014.709509158349]
[null,0.70386000000000004,0.70395200000000002,0.14299999999999999,1.0006433566433566,48800000000,1.4200819672131146E-11,162173737373.7374,45297784.450107619,45.297784450107621,4.5297784450107619E-2,0,{"$error":"#DIV/0!"},45.297784450107621,null,null,null,null,null,4964.2643492185425,null,5211.1723800706841,null,10719.568314081916]
[null,0.70413000000000003,0.70415899999999998,6.4000000000000001E-2,1.0004531249999991,48800000000,1.4200819672131146E-11,162173737373.7374,31906890.67645194,31.90689067645194,3.1906890676451943E-2,0,{"$error":"#DIV/0!"},31.90689067645194,null,null,null,null,null,4966.642334631335,null,5121.3005585100136,null,10198.097556545576]
[null,0.70413000000000003,0.70418000000000003,0.108,1.0004629629629629,48800000000,1.4200819672131146E-11,162173737373.7374,32599472.579696577,32.599472579696574,3.2599472579696573E-2,0,{"$error":"#DIV/0!"},32.599472579696574,null,null,null,null,null,4959.2547599355821,null,5047.879688088653,null,9535.2701680492446]
[null,0.70409999999999995,0.70414900000000002,0.10100000000000001,1.0004851485148523,48800000000,1.4200819672131146E-11,162173737373.7374,34161286.331181452,34.161286331181451,3.4161286331181449E-2,0,{"$error":"#DIV/0!"},34.161286331181451,null,null,null,null,null,4962.8819168328355,null,4844.8389015421862,null,9491.4876406106487]
[null,0.70415000000000005,0.70420499999999997,0.108,1.0005092592592584,48800000000,1.4200819672131146E-11,162173737373.7374,35858590.104158364,35.858590104158367,3.5858590104158365E-2,0,{"$error":"#DIV/0!"},35.858590104158367,null,null,null,null,null,4963.5850593979376,null,4736.3623463334361,null,9061.9667769207645]
[null,0.70418000000000003,0.70421699999999998,8.1000000000000003E-2,1.0004567901234562,48800000000,1.4200819672131146E-11,162173737373.7374,32164912.181504428,32.164912181504427,3.2164912181504426E-2,0,{"$error":"#DIV/0!"},32.164912181504427,null,null,null,null,null,4961.8087690756802,null,null,null,8950.0891004939713]
[null,0.70413000000000003,0.70414600000000005,2.5999999999999999E-2,1.0006153846153851,48800000000,1.4200819672131146E-11,162173737373.7374,43328921.238026783,43.32892123802678,4.3328921238026778E-2,0,{"$error":"#DIV/0!"},43.32892123802678,null,null,null,null,null,4951.886705850543,null,null,null,8562.4654200614641]
[null,0.70413999999999999,0.70417399999999997,6.8000000000000005E-2,1.0004999999999997,48800000000,1.4200819672131146E-11,162173737373.7374,35206778.664126359,35.206778664126361,3.5206778664126359E-2,0,{"$error":"#DIV/0!"},35.206778664126361,null,null,null,null,null,4945.7292067339131,null,null,null,8555.634197323021]
[null,0.70396999999999998,0.70405200000000001,0.28799999999999998,1.0002847222222224,48800000000,1.4200819672131146E-11,162173737373.7374,20050461.905055553,20.050461905055553,2.0050461905055553E-2,0,{"$error":"#DIV/0!"},20.050461905055553,null,null,null,null,null,4973.8885738486588,null,null,null,8416.1130004330371]
[null,0.70401999999999998,0.70412600000000003,0.39900000000000002,1.0002656641604011,48800000000,1.4200819672131146E-11,162173737373.7374,18708549.802933652,18.708549802933653,1.8708549802933655E-2,0,{"$error":"#DIV/0!"},18.708549802933653,null,null,null,null,null,4978.1337328281206,null,null,null,8330.8775760773897]
["Sample",0.70384999999999998,0.70392699999999997,0.104,1.0007403846153846,48800000000,1.4200819672131146E-11,162173737373.7374,52126852.173790097,52.126852173790098,5.2126852173790102E-2,0,{"$error":"#DIV/0!"},52.126852173790098,null,null,null,null,null,4982.4015741332541,null,null,null,8156.569595653038]
[782,0.70389999999999997,0.70396800000000004,9.2999999999999999E-2,1.0007311827956997,48800000000,1.4200819672131146E-11,162173737373.7374,51479233.853167422,51.479233853167422,5.1479233853167425E-2,0,{"$error":"#DIV/0!"},51.479233853167422,null,null,null,null,null,4941.1202210492747,null,null,null,7133.2571007785782]
[783,0.70389000000000002,0.70395300000000005,8.7999999999999995E-2,1.0007159090909095,48800000000,1.4200819672131146E-11,162173737373.7374,50404266.90668337,50.404266906683368,5.040426690668337E-2,0,{"$error":"#DIV/0!"},50.404266906683368,null,null,null,null,null,4945.4910754247785,null,null,null,6560.4870985499801]
[784,0.70391000000000004,0.70394800000000002,0.06,1.000633333333333,48800000000,1.4200819672131146E-11,162173737373.7374,44592281.459909797,44.592281459909799,4.4592281459909802E-2,0,{"$error":"#DIV/0!"},44.592281459909799,null,null,null,null,null,4946.0233788446312,null,null,null,6018.7226415512287]
[785,0.70391999999999999,0.70396999999999998,7.5999999999999998E-2,1.0006578947368421,48800000000,1.4200819672131146E-11,162173737373.7374,46321053.46250245,46.321053462502448,4.6321053462502447E-2,0,{"$error":"#DIV/0!"},46.321053462502448,null,null,null,null,null,4948.5834877332118,null,null,null,6003.4239691140974]
[786,0.70389999999999997,0.70396300000000001,8.3000000000000004E-2,1.0007590361445788,48800000000,1.4200819672131146E-11,162173737373.7374,53439516.878427498,53.439516878427497,5.3439516878427497E-2,0,{"$error":"#DIV/0!"},53.439516878427497,null,null,null,null,null,4949.4425667701053,null,null,null,5563.3138717840948]
[287,0.70389999999999997,0.70392100000000002,3.2000000000000001E-2,1.0006562500000016,48800000000,1.4200819672131146E-11,162173737373.7374,46205288.805920169,46.205288805920169,4.6205288805920168E-2,0,{"$error":"#DIV/0!"},46.205288805920169,null,null,null,null,null,4953.8785314996012,null,null,null,5286.2119822371506]
[289,0.70399,0.70408300000000001,0.13100000000000001,1.0007099236641221,48800000000,1.4200819672131146E-11,162173737373.7374,49983006.682752199,49.983006682752197,4.9983006682752198E-2,0,{"$error":"#DIV/0!"},49.983006682752197,null,null,null,null,null,4965.446998995214,null,null,null,5118.9296505512657]
[291,0.70404999999999995,0.70408300000000001,4.5999999999999999E-2,1.0007173913043492,48800000000,1.4200819672131146E-11,162173737373.7374,50508586.157091945,50.508586157091948,5.0508586157091945E-2,0,{"$error":"#DIV/0!"},50.508586157091948,null,null,null,null,null,4969.226134468131]
[292,0.70408000000000004,0.70411699999999999,4.7E-2,1.0007872340425521,48800000000,1.4200819672131146E-11,162173737373.7374,55423993.252930626,55.423993252930629,5.5423993252930626E-2,0,{"$error":"#DIV/0!"},55.423993252930629,null,null,null,null,null,4952.2300023333573]
[294,0.70399,0.70405499999999999,8.5000000000000006E-2,1.0007647058823528,48800000000,1.4200819672131146E-11,162173737373.7374,53838539.079048127,53.838539079048125,5.3838539079048127E-2,0,{"$error":"#DIV/0!"},53.838539079048125,null,null,null,null,null,4942.9560526632549]
[295,0.70435000000000003,0.70437300000000003,3.5000000000000003E-2,1.0006571428571427,48800000000,1.4200819672131146E-11,162173737373.7374,46268132.500184566,46.268132500184564,4.6268132500184564E-2,0,{"$error":"#DIV/0!"},46.268132500184564,null,null,null,null,null,4962.9141183675874]
[null,null,null,null,null,null,null,null,"Average",{"$f":"AVERAGE(J4:J27)","v":42.41954885906808},4.2419548859068082E-2,null,null,null,null,null,null,null,null,4920.7707756030268]
[null,null,null,null,null,null,null,null,"Maximum",{"$f":"MAX(J4:J28)","v":55.423993252930629}]
[null,null,null,null,null,null,null,null,"Minimum",{"$f":"MIN(J4:J29)","v":18.708549802933653}]
[null,null,null,null,null,null,null,null,"Difference",{"$f":"(J29-J30)","v":36.715443449996975}]
[]
[]
[null,null,null,null,null,null,"Age",null,"Age",null,"Age",null,"Dating","Age","Age","Age","Age","Age"]
["206Pb/2042Pb","207Pb/204Pb","208Pb/204Pb","238U/204Pb","232Th/204Pb","207Pb/206Pb","207Pb/206Pb","206Pb/238U","206Pb/238U","208Pb/232Th","208Pb/232Th",null,"Summary","87Rb/86Sr","147Sm/144Nd","207Pb/206Pb","206Pb/238U","208Pb/232Th"]
[18.61,15.542999999999999,38.543999999999997,33.700000000000003,55.1,{"$f":"(B36/A36)","v":0.83519613111230517},{"$f":"[1]!AgePb76(F36)","v":4982.9734563874781},{"$f":"(A36/D36)","v":0.55222551928783381},{"$f":"[1]!AgePb6U8(H36)","v":2834.4220468925296},{"$f":"(C36/E36)","v":0.69952813067150632},{"$f":"[1]!AgePb8Th2(J36)","v":10719.568314081916},null,"Average",42.41954885906808,41.451797200715461,4960.1817911204344,4259.7580682438766,8372.6521023056393]
[18.565999999999999,15.564,38.587000000000003,18.600000000000001,58.8,{"$f":"(B37/A37)","v":0.83830658192394703},{"$f":"[1]!AgePb76(F37)","v":4988.2527720589815},{"$f":"(A37/D37)","v":0.99817204301075257},{"$f":"[1]!AgePb6U8(H37)","v":4462.4192369528018},{"$f":"(C37/E37)","v":0.65624149659863951},{"$f":"[1]!AgePb8Th2(J37)","v":10198.097556545576},null,"Maximum",55.423993252930629,53.634938562803988,4988.5257756720302,7092.6278788949512,13430.277831815292]
[18.535,15.541,38.523000000000003,15.6,46,0.83846776369031562,{"$f":"[1]!AgePb76(F38)","v":4988.5257756720302},1.1881410256410256,{"$f":"[1]!AgePb6U8(H38)","v":5047.879688088653},0.83745652173913054,{"$f":"[1]!AgePb8Th2(J38)","v":12296.761802654779},null,"Minimum",18.708549802933653,20.477032284618616,4920.7707756030268,1904.4912486170917,3064.8733379405085]
[18.994,15.571999999999999,39.128999999999998,33.9,130.9,0.81983784352953559,{"$f":"[1]!AgePb76(F39)","v":4956.5960298946557},0.56029498525073751,{"$f":"[1]!AgePb6U8(H39)","v":2867.8478420309057},0.2989228418640183,{"$f":"[1]!AgePb8Th2(J39)","v":5286.2119822371506},null,"Difference",36.715443449996975,33.157906278185372,67.755000069003472,5188.1366302778597,10365.404493874783]
[18.943999999999999,15.615,39.155000000000001,null,null,0.82427153716216217,{"$f":"[1]!AgePb76(F40)","v":4964.2643492185425}]
[18.876000000000001,15.585000000000001,39.052,14.7,53.9,0.82565162110616652,{"$f":"[1]!AgePb76(F41)","v":4966.642334631335},1.2840816326530613,{"$f":"[1]!AgePb6U8(H41)","v":5324.5062513882294},0.72452690166975886,{"$f":"[1]!AgePb8Th2(J41)","v":11014.709509158349}]
[19.006,15.611000000000001,39.253,27.6,113.5,0.82137219825318319,{"$f":"[1]!AgePb76(F42)","v":4959.2547599355821},0.68862318840579706,{"$f":"[1]!AgePb6U8(H42)","v":3377.3635164225116},0.34584140969162996,{"$f":"[1]!AgePb8Th2(J42)","v":6003.4239691140974}]
[18.925999999999998,15.585000000000001,39.076999999999998,15.6,65.2,0.8234703582373456,{"$f":"[1]!AgePb76(F43)","v":4962.8819168328355},1.2132051282051282,{"$f":"[1]!AgePb6U8(H43)","v":5121.3005585100136},0.59934049079754592,{"$f":"[1]!AgePb8Th2(J43)","v":9491.4876406106487}]
[18.913,15.582000000000001,39.061999999999998,15.2,64.8,0.82387775604081848,{"$f":"[1]!AgePb76(F44)","v":4963.5850593979376},1.2442763157894738,{"$f":"[1]!AgePb6U8(H44)","v":5211.1723800706841},0.60280864197530859,{"$f":"[1]!AgePb8Th2(J44)","v":9535.2701680492446}]
[18.933,15.579000000000001,39.073,16.899999999999999,76.599999999999994,0.82284899382031373,{"$f":"[1]!AgePb76(F45)","v":4961.8087690756802},1.1202958579881657,{"$f":"[1]!AgePb6U8(H45)","v":4844.8389015421862},0.51009138381201047,{"$f":"[1]!AgePb8Th2(J45)","v":8330.8775760773897}]
[19.056999999999999,15.571999999999999,39.137,"-","-",0.81712756467439784,{"$f":"[1]!AgePb76(F46)","v":4951.886705850543}]
[19.178999999999998,15.603999999999999,39.411000000000001,55.8,240.7,0.81359820637155222,{"$f":"[1]!AgePb76(F47)","v":4945.7292067339131},0.34370967741935482,{"$f":"[1]!AgePb6U8(H47)","v":1904.4912486170917},0.16373493975903616,{"$f":"[1]!AgePb8Th2(J47)","v":3064.8733379405085}]
[18.78,15.585000000000001,38.779000000000003,23.1,111.8,0.82987220447284349,{"$f":"[1]!AgePb76(F48)","v":4973.8885738486588},0.81298701298701304,{"$f":"[1]!AgePb6U8(H48)","v":3835.4602319070959},0.3468604651162791,{"$f":"[1]!AgePb8Th2(J48)","v":6018.7226415512287}]
[18.748000000000001,15.605,38.841000000000001,null,null,0.83235545124813315,{"$f":"[1]!AgePb76(F49)","v":4978.1337328281206}]
[18.669,15.586,38.793999999999997,24.7,134.6,0.83485992822325783,{"$f":"[1]!AgePb76(F50)","v":4982.4015741332541},0.75582995951417009,{"$f":"[1]!AgePb6U8(H50)","v":3628.9550783855534},0.28821693907875184,{"$f":"[1]!AgePb8Th2(J50)","v":5118.9296505512657}]
[19.202999999999999,15.573,39.161999999999999,17.7,70.3,0.81096703640056245,{"$f":"[1]!AgePb76(F51)","v":4941.1202210492747},1.0849152542372882,{"$f":"[1]!AgePb6U8(H51)","v":4736.3623463334361},0.55706970128022759,{"$f":"[1]!AgePb8Th2(J51)","v":8950.0891004939713}]
[19.164999999999999,15.59,39.186999999999998,null,null,0.81346204017740675,{"$f":"[1]!AgePb76(F52)","v":4945.4910754247785}]
[19.148,15.582000000000001,39.161000000000001,15.1,53.5,0.81376645080426158,{"$f":"[1]!AgePb76(F53)","v":4946.0233788446312},1.2680794701986755,{"$f":"[1]!AgePb6U8(H53)","v":5279.184045265215},0.731981308411215,{"$f":"[1]!AgePb8Th2(J53)","v":11101.890210644291}]
[19.077999999999999,15.553000000000001,39.048999999999999,19.8,74.099999999999994,0.81523220463360946,{"$f":"[1]!AgePb76(F54)","v":4948.5834877332118},0.96353535353535347,{"$f":"[1]!AgePb6U8(H54)","v":4349.6960531147888},0.52697705802968964,{"$f":"[1]!AgePb8Th2(J54)","v":8555.634197323021}]
[19.091000000000001,15.573,39.097000000000001,20.3,75.7,0.81572468702529988,{"$f":"[1]!AgePb76(F55)","v":4949.4425667701053},0.94044334975369459,{"$f":"[1]!AgePb6U8(H55)","v":4273.4341838319069},0.51647291941875828,{"$f":"[1]!AgePb8Th2(J55)","v":8416.1130004330371}]
[19.001000000000001,15.548,38.929000000000002,20.5,73.8,0.81827272248829008,{"$f":"[1]!AgePb76(F56)","v":4953.8785314996012},0.92687804878048785,{"$f":"[1]!AgePb6U8(H56)","v":4228.2101653373338},0.52749322493224937,{"$f":"[1]!AgePb8Th2(J56)","v":8562.4654200614641}]
[18.864000000000001,15.561999999999999,38.725999999999999,20.6,77.900000000000006,0.82495759117896517,{"$f":"[1]!AgePb76(F57)","v":4965.446998995214},0.91572815533980578,{"$f":"[1]!AgePb6U8(H57)","v":4190.7996011983996},0.49712451861360712,{"$f":"[1]!AgePb8Th2(J57)","v":8156.569595653038}]
[18.826000000000001,15.571999999999999,38.869999999999997,9.39,41.2,0.82715393604589393,{"$f":"[1]!AgePb76(F58)","v":4969.226134468131},2.004898828541001,{"$f":"[1]!AgePb6U8(H58)","v":7092.6278788949512},0.94344660194174745,{"$f":"[1]!AgePb8Th2(J58)","v":13430.277831815292}]
[19.094000000000001,15.606,39.104999999999997,25.4,92.4,0.81732481407772073,{"$f":"[1]!AgePb76(F59)","v":4952.2300023333573},0.751732283464567,{"$f":"[1]!AgePb6U8(H59)","v":3613.8931480834876},0.42321428571428565,{"$f":"[1]!AgePb8Th2(J59)","v":7133.2571007785782}]
[19.161000000000001,15.558999999999999,39.067999999999998,33.799999999999997,123.3,0.81201398674390679,{"$f":"[1]!AgePb76(F60)","v":4942.9560526632549},0.56689349112426046,{"$f":"[1]!AgePb6U8(H60)","v":2895.0523199789868},0.31685320356853203,{"$f":"[1]!AgePb8Th2(J60)","v":5563.3138717840948}]
[18.928000000000001,15.587,38.920999999999999,15,68.8,0.82348901098901095,{"$f":"[1]!AgePb76(F61)","v":4962.9141183675874},1.2618666666666667,{"$f":"[1]!AgePb6U8(H61)","v":5261.5015701536149},0.56571220930232557,{"$f":"[1]!AgePb8Th2(J61)","v":9061.9667769207645}]
[19.547000000000001,15.627000000000001,39.572000000000003,26.2,103.2,0.79945771729677184,{"$f":"[1]!AgePb76(F62)","v":4920.7707756030268},0.74606870229007638,{"$f":"[1]!AgePb6U8(H62)","v":3593.0172766087594},0.38344961240310077,{"$f":"[1]!AgePb8Th2(J62)","v":6560.4870985499801}]
[null,null,null,null,null,"Average",{"$f":"AVERAGE(G36:G62)","v":4960.1817911204344},"Average",{"$f":"AVERAGE(I36:I62)","v":4259.7580682438766},"Average",{"$f":"AVERAGE(K36:K62)","v":8372.6521023056393}]
[null,null,null,null,null,"Maximum",{"$f":"MAX(G36:G63)","v":4988.5257756720302},"Maximum",{"$f":"MAX(I36:I63)","v":7092.6278788949512},"Maximum",{"$f":"MAX(K36:K63)","v":13430.277831815292}]
[null,null,null,null,null,"Minimum",{"$f":"MIN(G36:G64)","v":4920.7707756030268},"Minimum",{"$f":"MIN(I36:I64)","v":1904.4912486170917},"Minimum",{"$f":"MIN(K36:K64)","v":3064.8733379405085}]
[null,null,null,null,null,"Difference",{"$f":"(G64-G65)","v":67.755000069003472},"Difference",{"$f":"(I64-I65)","v":5188.1366302778597},"Difference",{"$f":"(K64-K65)","v":10365.404493874783}]
[]
[]
[null,"Neodymium",null,null,null,null,null,null,null,null,null,"Rubidium_040.PDF"]
[null,"Samarium","Initial","Today","Today","The Ratio","Half","Decay","2.303/Delta","Age","Age","Age"]
[null,"Dating","143Nd/144Nd","143Nd/144Nd","147Sm/144Nd","Plus One","Life","Constant","Constant","Years","Million Years","Billion Years"]
[null,null,0.51293,0.51298100000000002,0.187,{"$f":"1+((D72-C72)/E72)","v":1.0002727272727274},106000000000,{"$f":"(0.693/G72)","v":6.5377358490566029E-12},{"$f":"(2.303/H72)","v":352262626262.62628},{"$f":"(LOG(F72))*(I72)","v":41717688.237428851},{"$f":"(J72/1000000)","v":41.717688237428852},{"$f":"(K72/1000)","v":4.171768823742885E-2}]
[null,null,0.51293999999999995,0.51299700000000004,0.187,{"$f":"1+((D73-C73)/E73)","v":1.0003048128342251},106000000000,6.5377358490566029E-12,{"$f":"(2.303/H73)","v":352262626262.62628},{"$f":"(LOG(F73))*(I73)","v":46624903.740379542},{"$f":"(J73/1000000)","v":46.624903740379544},{"$f":"(K73/1000)","v":4.6624903740379545E-2}]
[null,null,0.51290999999999998,0.512961,0.184,1.0002771739130436,106000000000,6.5377358490566029E-12,352262626262.62628,42397773.694611147,42.397773694611146,4.2397773694611146E-2]
[null,null,0.51283999999999996,0.51287499999999997,0.16,1.0002187500000002,106000000000,6.5377358490566029E-12,352262626262.62628,33461965.336179703,33.461965336179702,3.3461965336179705E-2]
[null,null,0.51283000000000001,0.51286600000000004,0.159,1.0002264150943398,106000000000,6.5377358490566029E-12,352262626262.62628,34634354.319170699,34.634354319170697,3.4634354319170696E-2]
[null,null,0.51285000000000003,0.51288400000000001,0.155,1.0002193548387095,106000000000,6.5377358490566029E-12,352262626262.62628,33554476.753596701,33.554476753596703,3.3554476753596706E-2]
[null,null,0.51283000000000001,0.51287199999999999,0.161,1.0002608695652173,106000000000,6.5377358490566029E-12,352262626262.62628,39904112.237689488,39.904112237689489,3.9904112237689492E-2]
[null,null,0.51282000000000005,0.51285599999999998,0.161,1.0002236024844715,106000000000,6.5377358490566029E-12,352262626262.62628,34204161.985158913,34.204161985158912,3.420416198515891E-2]
[null,null,0.51280999999999999,0.51284799999999997,0.161,1.0002360248447204,106000000000,6.5377358490566029E-12,352262626262.62628,36104168.999374613,36.104168999374615,3.6104168999374617E-2]
[null,null,0.51282000000000005,0.51285599999999998,0.158,1.0002278481012654,106000000000,6.5377358490566029E-12,352262626262.62628,34853534.125284433,34.853534125284433,3.4853534125284434E-2]
[null,null,0.51283999999999996,0.51287499999999997,0.156,1.0002243589743591,106000000000,6.5377358490566029E-12,352262626262.62628,34319868.215364508,34.319868215364508,3.4319868215364507E-2]
[null,null,0.51288,0.51290000000000002,0.126,1.0001587301587302,106000000000,6.5377358490566029E-12,352262626262.62628,24281519.734600395,24.281519734600394,2.4281519734600396E-2]
[null,null,0.51288999999999996,0.512907,0.127,1.0001338582677168,106000000000,6.5377358490566029E-12,352262626262.62628,20477032.284618616,20.477032284618616,2.0477032284618616E-2]
[null,null,0.51280000000000003,0.51285400000000003,0.157,1.000343949044586,106000000000,6.5377358490566029E-12,352262626262.62628,52610243.326382771,52.610243326382772,5.2610243326382769E-2]
[null,null,0.51282000000000005,0.51286600000000004,0.155,1.0002967741935482,106000000000,6.5377358490566029E-12,352262626262.62628,45395476.354450718,45.395476354450714,4.5395476354450716E-2]
[null,null,0.51280999999999999,0.51285499999999995,0.152,1.0002960526315787,106000000000,6.5377358490566029E-12,352262626262.62628,45285120.391784661,45.285120391784659,4.5285120391784658E-2]
[null,null,0.51282000000000005,0.51286900000000002,0.153,1.0003202614379083,106000000000,6.5377358490566029E-12,352262626262.62628,48987580.992663182,48.987580992663183,4.8987580992663184E-2]
[null,null,0.51280000000000003,0.51285000000000003,0.16300000000000001,1.0003067484662576,106000000000,6.5377358490566029E-12,352262626262.62628,46920937.269061923,46.920937269061923,4.6920937269061921E-2]
[null,null,0.51280999999999999,0.51286399999999999,0.154,1.0003506493506493,106000000000,6.5377358490566029E-12,352262626262.62628,53634938.562803991,53.634938562803988,5.3634938562803991E-2]
[null,null,0.51290000000000002,0.51294799999999996,0.155,1.0003096774193545,106000000000,6.5377358490566029E-12,352262626262.62628,47368887.188153885,47.368887188153884,4.7368887188153887E-2]
[null,null,0.51285999999999998,0.512907,0.157,1.0002993630573249,106000000000,6.5377358490566029E-12,352262626262.62628,45791417.512124129,45.791417512124127,4.5791417512124129E-2]
[null,null,0.51283999999999996,0.51288800000000001,0.14799999999999999,1.0003243243243247,106000000000,6.5377358490566029E-12,352262626262.62628,49608944.314119205,49.608944314119206,4.9608944314119205E-2]
[null,null,0.51285999999999998,0.512903,0.14199999999999999,1.0003028169014085,106000000000,6.5377358490566029E-12,352262626262.62628,46319647.27326224,46.319647273262241,4.6319647273262238E-2]
[null,null,0.51282000000000005,0.51287300000000002,0.16800000000000001,1.000315476190476,106000000000,6.5377358490566029E-12,352262626262.62628,48255739.123602785,48.255739123602787,4.8255739123602787E-2]
[null,null,0.51278000000000001,0.51282700000000003,0.14499999999999999,1.0003241379310346,106000000000,6.5377358490566029E-12,352262626262.62628,49580438.046019532,49.58043804601953,4.9580438046019533E-2]
[null,null,null,null,null,null,null,null,null,"Average",{"$f":"AVERAGE(K72:K96)","v":41.451797200715461}]
[null,null,null,null,null,null,null,null,null,"Maximum",{"$f":"MAX(K72:K97)","v":53.634938562803988}]
[null,null,null,null,null,null,null,null,null,"Minimum",{"$f":"MIN(K72:K98)","v":20.477032284618616}]
[null,null,null,null,null,null,null,null,null,"Difference",{"$f":"(K98-K99)","v":33.157906278185372}]

{"sheet":"Nd_Sm_14","index":14,"n_rows":59,"n_cols":11,"rows_kept":59,"cut":false,"hidden":false,"merged":[]}
["Rubidium",null,null,null,null,null,null,null,null,null,"Neodymium_002.pdf"]
["Strontium","Initial","Today","Today","The Ratio","Half","Decay","2.303/Delta","Age","Age","Age"]
["Dating","87Sr/86Sr","87Sr/86Sr","87Rb/86Sr","Plus One","Life","Constant","Constant","Years","Million Years","Billion Years"]
[null,0.70406999999999997,0.70416000000000001,4.3E-3,{"$f":"1+((C4-B4)/D4)","v":1.0209302325581475},48800000000,{"$f":"(0.693/F4)","v":1.4200819672131146E-11},{"$f":"(2.303/G4)","v":162173737373.7374},{"$f":"(LOG(E4))*(H4)","v":1458925427.9796362},{"$f":"(I4/1000000)","v":1458.9254279796362},{"$f":"(J4/1000)","v":1.4589254279796362}]
[null,0.70389999999999997,0.70403000000000004,6.1999999999999998E-3,1.0209677419354959,48800000000,1.4200819672131146E-11,162173737373.7374,1461513048.8722839,1461.5130488722839,1.4615130488722838]
[null,0.70404,0.70416999999999996,6.4000000000000003E-3,1.0203124999999944,48800000000,1.4200819672131146E-11,162173737373.7374,1416296865.6709423,1416.2968656709422,1.4162968656709423]
[null,0.70513999999999999,0.70530000000000004,7.4999999999999997E-3,1.0213333333333399,48800000000,1.4200819672131146E-11,162173737373.7374,1486728749.4848964,1486.7287494848965,1.4867287494848964]
[null,0.70464000000000004,0.70487999999999995,1.1599999999999999E-2,{"$f":"1+((C8-B8)/D8)","v":1.0206896551724058},48800000000,{"$f":"(0.693/F8)","v":1.4200819672131146E-11},{"$f":"(2.303/G8)","v":162173737373.7374},{"$f":"(LOG(E8))*(H8)","v":1442326702.2838044},{"$f":"(I8/1000000)","v":1442.3267022838045},{"$f":"(J8/1000)","v":1.4423267022838044}]
[null,0.70491000000000004,0.70515000000000005,1.17E-2,1.020512820512822,48800000000,1.4200819672131146E-11,162173737373.7374,1430123434.6023552,1430.1234346023552,1.4301234346023552]
[null,0.70562000000000002,0.70584999999999998,1.1299999999999999E-2,1.0203539823008807,48800000000,1.4200819672131146E-11,162173737373.7374,1419160289.5234582,1419.1602895234582,1.4191602895234583]
[null,0.70457999999999998,0.70469000000000004,5.1000000000000004E-3,1.021568627450991,48800000000,1.4200819672131146E-11,162173737373.7374,1502952765.9697943,1502.9527659697942,1.5029527659697941]
[null,0.70508000000000004,0.70745000000000002,0.11409999999999999,1.0207712532865905,48800000000,1.4200819672131146E-11,162173737373.7374,1447957032.7534881,1447.957032753488,1.4479570327534879]
[null,0.70682,0.70850000000000002,8.0799999999999997E-2,1.020792079207921,48800000000,1.4200819672131146E-11,162173737373.7374,1449393964.6952875,1449.3939646952874,1.4493939646952874]
[null,0.70569999999999999,0.70591000000000004,1.01E-2,1.020792079207925,48800000000,1.4200819672131146E-11,162173737373.7374,1449393964.6955633,1449.3939646955632,1.4493939646955631]
[null,0.70555000000000001,0.70994999999999997,0.21129999999999999,1.0208234737340272,48800000000,1.4200819672131146E-11,162173737373.7374,1451560046.2230065,1451.5600462230066,1.4515600462230065]
[null,0.70362999999999998,0.70677999999999996,0.1515,1.0207920792079208,48800000000,1.4200819672131146E-11,162173737373.7374,1449393964.6952724,1449.3939646952724,1.4493939646952725]
[null,0.70259000000000005,0.70272000000000001,6.1999999999999998E-3,1.0209677419354779,48800000000,1.4200819672131146E-11,162173737373.7374,1461513048.8710432,1461.5130488710431,1.4615130488710431]
[null,0.70328999999999997,0.70374999999999999,2.1899999999999999E-2,1.0210045662100464,48800000000,1.4200819672131146E-11,162173737373.7374,1464053314.8054786,1464.0533148054785,1.4640533148054786]
[null,0.70328999999999997,0.70447000000000004,5.8700000000000002E-2,1.0201022146507679,48800000000,1.4200819672131146E-11,162173737373.7374,1401779580.6644921,1401.7795806644922,1.4017795806644922]
[null,0.70321,0.70450999999999997,6.4899999999999999E-2,1.0200308166409857,48800000000,1.4200819672131146E-11,162173737373.7374,1396849858.4139342,1396.8498584139343,1.3968498584139342]
[null,0.70326999999999995,0.70487,7.9799999999999996E-2,1.0200501253132839,48800000000,1.4200819672131146E-11,162173737373.7374,1398183072.3522942,1398.1830723522942,1.3981830723522941]
[null,0.70254000000000005,0.70945000000000003,0.34399999999999997,1.0200872093023254,48800000000,1.4200819672131146E-11,162173737373.7374,1400743555.2117779,1400.7435552117779,1.400743555211778]
[null,0.70274999999999999,0.70594999999999997,0.1593,1.0200878844946641,48800000000,1.4200819672131146E-11,162173737373.7374,1400790173.3469343,1400.7901733469344,1.4007901733469343]
[null,0.70277999999999996,0.70401999999999998,6.2E-2,1.0200000000000002,48800000000,1.4200819672131146E-11,162173737373.7374,1394721996.6862674,1394.7219966862674,1.3947219966862674]
[null,null,null,null,null,null,null,null,"Average",{"$f":"AVERAGE(J4:J24)","v":1437.3505170381911}]
[null,null,null,null,null,null,null,null,"Maximum",{"$f":"MAX(J4:J25)","v":1502.9527659697942}]
[null,null,null,null,null,null,null,null,"Minimum",{"$f":"MIN(J4:J26)","v":1394.7219966862674}]
[null,null,null,null,null,null,null,null,"Difference",{"$f":"(J26-J27)","v":108.2307692835268}]
[]
[null,null,null,null,null,null,null,null,"Dating","Age","Age"]
[null,null,null,"Age",null,null,null,null,"Summary","87Rb/86Sr","207Pb/206Pb"]
["206Pb/204Pb","207Pb/204Pb","207Pb/206Pb","207Pb/206Pb",null,null,null,null,"Average",1437.3505170381911,5135.0044952134867]
[16.312999999999999,15.302,{"$f":"(B33/A33)","v":0.93802488812603446},{"$f":"[1]!AgePb76($C$33)","v":5147.3058892061181},null,null,null,null,"Maximum",1502.9527659697942,5217.941470863494]
[15.904999999999999,15.266,{"$f":"(B34/A34)","v":0.95982395473121662},{"$f":"[1]!AgePb76($C$34)","v":5179.6853300392058},null,null,null,null,"Minimum",1394.7219966862674,4931.286988180259]
[17.146999999999998,15.468999999999999,0.90214031609027823,{"$f":"[1]!AgePb76($C$35)","v":5092.2282382402018},null,null,null,null,"Difference",108.2307692835268,286.65448268323507]
[16.509,15.391999999999999,0.93233993579259788,{"$f":"[1]!AgePb76($C$36)","v":5138.7306458250932}]
[15.788,15.201000000000001,0.96281986318723078,{"$f":"[1]!AgePb76($C$37)","v":5184.0744046143527}]
[15.846,15.256,0.96276662880222141,{"$f":"[1]!AgePb76($C$38)","v":5183.9965411987341}]
[15.872999999999999,15.278,0.9625149625149626,{"$f":"[1]!AgePb76($C$39)","v":5183.6283791440237}]
[15.403,15.115,0.98130234369927938,{"$f":"[1]!AgePb76($C$40)","v":5210.8361293644293}]
[15.403,15.115,0.98130234369927938,{"$f":"[1]!AgePb76($C$41)","v":5210.8361293644293}]
[16.027999999999999,15.336,0.95682555527826318,{"$f":"[1]!AgePb76($C$42)","v":5175.2780665636365}]
[16.408000000000001,15.291,0.93192345197464643,{"$f":"[1]!AgePb76($C$43)","v":5138.1002415159601}]
[15.762,15.209,0.96491561984519725,{"$f":"[1]!AgePb76($C$44)","v":5187.1361543494795}]
[15.079000000000001,14.872,0.98627229922408644,{"$f":"[1]!AgePb76($C$45)","v":5217.941470863494}]
[15.388999999999999,14.9,0.96822405614399898,{"$f":"[1]!AgePb76($C$46)","v":5191.9552495833086}]
[16.509,15.372999999999999,0.93118904839784356,{"$f":"[1]!AgePb76($C$47)","v":5136.9878955315453}]
[17.504999999999999,15.491,0.88494715795487011,{"$f":"[1]!AgePb76($C$48)","v":5065.0105830024822}]
[17.001000000000001,15.417,0.9068290100582318,{"$f":"[1]!AgePb76($C$49)","v":5099.5552906272305}]
[16.548999999999999,15.385,0.92966342377182909,{"$f":"[1]!AgePb76($C$50)","v":5134.6741733860781}]
[17.012,15.436,0.90735951093345868,{"$f":"[1]!AgePb76($C$51)","v":5100.3817778494649}]
[16.292999999999999,15.375999999999999,0.94371816117351015,{"$f":"[1]!AgePb76($C$52)","v":5155.8387057855734}]
[17.975999999999999,15.5,0.86226079216733431,{"$f":"[1]!AgePb76($C$53)","v":5028.2256957542622}]
[19.391999999999999,15.618,0.80538366336633671,{"$f":"[1]!AgePb76($C$54)","v":4931.286988180259}]
[18.201000000000001,15.509,0.85209603867919348,{"$f":"[1]!AgePb76($C$55)","v":5011.4094099208223}]
[null,null,"Average",{"$f":"AVERAGE(D33:D55)","v":5135.0044952134867}]
[null,null,"Maximum",{"$f":"MAX(D33:D56)","v":5217.941470863494}]
[null,null,"Minimum",{"$f":"MIN(D33:D57)","v":4931.286988180259}]
[null,null,"Difference",{"$f":"(D57-D58)","v":286.65448268323507}]

{"sheet":"Nd_Sm_15","index":15,"n_rows":70,"n_cols":11,"rows_kept":70,"cut":false,"hidden":false,"merged":[]}
["Rubidium",null,null,null,null,null,null,null,null,null,"Neodymium_006.pdf"]
["Strontium","Initial","Today","Today","The Ratio","Half","Decay","2.303/Delta","Age","Age","Age"]
["Dating","87Sr/86Sr","87Sr/86Sr","87Rb/86Sr","Plus One","Life","Constant","Constant","Years","Million Years","Billion Years"]
[null,0.69898899999999997,0.69903199999999999,6.4899999999999995E-4,{"$f":"1+((C4-B4)/D4)","v":1.0662557781202084},48800000000,{"$f":"(0.693/F4)","v":1.4200819672131146E-11},{"$f":"(2.303/G4)","v":162173737373.7374},{"$f":"(LOG(E4))*(H4)","v":4518386986.3939781},{"$f":"(I4/1000000)","v":4518.3869863939781},{"$f":"(J4/1000)","v":4.5183869863939785}]
[null,0.69903099999999996,0.69914900000000002,1.7700000000000001E-3,1.066666666666702,48800000000,1.4200819672131146E-11,162173737373.7374,4545522860.0693016,4545.5228600693017,4.5455228600693021]
[null,0.69895700000000005,0.69913099999999995,2.5999999999999999E-3,1.0669230769230371,48800000000,1.4200819672131146E-11,162173737373.7374,4562451392.5941143,4562.4513925941146,4.5624513925941148]
[null,0.69897900000000002,0.69900200000000001,3.4000000000000002E-4,1.0676470588235154,48800000000,1.4200819672131146E-11,162173737373.7374,4610227650.332201,4610.2276503322009,4.6102276503322006]
[null,0.69897399999999998,0.69899199999999995,2.7E-4,1.0666666666665277,48800000000,1.4200819672131146E-11,162173737373.7374,4545522860.0577917,4545.5228600577921,4.5455228600577922]
[null,0.69895499999999999,0.69899699999999998,6.3000000000000003E-4,1.0666666666666451,48800000000,1.4200819672131146E-11,162173737373.7374,4545522860.0655479,4545.5228600655482,4.5455228600655486]
[null,0.698963,0.69899100000000003,4.2000000000000002E-4,1.0666666666667333,48800000000,1.4200819672131146E-11,162173737373.7374,4545522860.0713682,4545.5228600713681,4.545522860071368]
[null,0.698986,0.69908199999999998,1.4300000000000001E-3,1.0671328671328566,48800000000,1.4200819672131146E-11,162173737373.7374,4576298984.3274612,4576.2989843274609,4.5762989843274609]
[null,null,null,null,null,null,null,null,"Average",{"$f":"AVERAGE(J4:J11)","v":4556.1820567389705}]
[null,null,null,null,null,null,null,null,"Maximum",{"$f":"MAX(J4:J12)","v":4610.2276503322009}]
[null,null,null,null,null,null,null,null,"Minimum",{"$f":"MIN(J4:J13)","v":4518.3869863939781}]
[null,null,null,null,null,null,null,null,"Difference",{"$f":"(J13-J14)","v":91.84066393822286}]
[]
[]
[null,"Age",null,"Age"]
["207Pb/206Pb","207Pb/206Pb","207Pb/206Pb","207Pb/206Pb",null,"Dating","Age","Age","Age","Age","Age"]
[0.84538999999999997,{"$f":"[1]!AgePb76($A$20)","v":5000.1980776262317},0.85202999999999995,{"$f":"[1]!AgePb76($C$20)","v":5011.2994621735261},null,"Summary","87Rb/86Sr","207Pb/206Pb","207Pb/206Pb","147Sm/144Nd","147Sm/144Nd"]
[0.84640000000000004,{"$f":"[1]!AgePb76($A$21)","v":5001.8926518518883},0.85306000000000004,{"$f":"[1]!AgePb76($C$21)","v":5013.0132790879907},null,"Average",4556.1820567389705,4706.6454692518164,5007.0118621844731,4452.2366341854249,902.37289862679643]
[0.73492999999999997,{"$f":"[1]!AgePb76($A$22)","v":4800.5742075617045},0.85146999999999995,{"$f":"[1]!AgePb76($C$22)","v":5010.3667546765164},null,"Maximum",4610.2276503322009,5001.8926518518883,5110.1585666119299,4497.2416311798834,1427.6070757321477]
[0.73580999999999996,{"$f":"[1]!AgePb76($A$23)","v":4802.2880117440709},0.85248999999999997,{"$f":"[1]!AgePb76($C$23)","v":5012.065127868218},null,"Minimum",4518.3869863939781,4558.0814845918412,4959.8913022345596,4396.717986657608,536.24130184216222]
[0.73562000000000005,{"$f":"[1]!AgePb76($A$24)","v":4801.9181710381972},0.84838000000000002,{"$f":"[1]!AgePb76($C$24)","v":5005.2084646553121},null,"Difference",91.84066393822286,443.81116726004711,150.26726437737034,100.52364452227539,891.36577388998546]
[0.83079000000000003,{"$f":"[1]!AgePb76($A$25)","v":4975.4591341465057},0.84940000000000004,{"$f":"[1]!AgePb76($C$25)","v":5006.9134043271715}]
[0.83179000000000003,{"$f":"[1]!AgePb76($A$26)","v":4977.1682674962694},0.84882999999999997,{"$f":"[1]!AgePb76($C$26)","v":5005.9609121502499}]
[0.65400999999999998,{"$f":"[1]!AgePb76($A$27)","v":4632.8354425329335},0.84984999999999999,{"$f":"[1]!AgePb76($C$27)","v":5007.6648924278297}]
[0.65480000000000005,{"$f":"[1]!AgePb76($A$28)","v":4634.5783439354527},0.82174000000000003,{"$f":"[1]!AgePb76($C$28)","v":4959.8913022345596}]
[0.65329999999999999,{"$f":"[1]!AgePb76($A$29)","v":4631.2671116397378},0.82257999999999998,{"$f":"[1]!AgePb76($C$29)","v":4961.3439272500136}]
[0.63493999999999995,{"$f":"[1]!AgePb76($A$30)","v":4590.0644420903191},0.83360000000000001,{"$f":"[1]!AgePb76($C$30)","v":4980.2562527503715}]
[0.63570000000000004,{"$f":"[1]!AgePb76($A$31)","v":4591.7952137548937},0.91366000000000003,{"$f":"[1]!AgePb76($C$31)","v":5110.1585666119299}]
[0.63527999999999996,{"$f":"[1]!AgePb76($A$32)","v":4590.8390092218606},"Average",{"$f":"AVERAGE(D20:D31)","v":5007.0118621844731}]
[0.62688999999999995,{"$f":"[1]!AgePb76($A$33)","v":4571.5942960314624},"Maximum",{"$f":"MAX(D20:D32)","v":5110.1585666119299}]
[0.62763999999999998,{"$f":"[1]!AgePb76($A$34)","v":4573.3258378652972},"Minimum",{"$f":"MIN(D20:D33)","v":4959.8913022345596}]
[0.62748999999999999,{"$f":"[1]!AgePb76($A$35)","v":4572.9797072013744},"Difference",{"$f":"(D33-D34)","v":150.26726437737034}]
[0.62107000000000001,{"$f":"[1]!AgePb76($A$36)","v":4558.0814845918412}]
[0.62182000000000004,{"$f":"[1]!AgePb76($A$37)","v":4559.8304384650201}]
[0.62170999999999998,{"$f":"[1]!AgePb76($A$38)","v":4559.5740669894558}]
["Average",{"$f":"AVERAGE(B20:B38)","v":4706.6454692518164}]
["Maximum",{"$f":"MAX(B20:B39)","v":5001.8926518518883}]
["Minimum",{"$f":"MIN(B20:B40)","v":4558.0814845918412}]
["Difference",{"$f":"(B40-B41)","v":443.81116726004711}]
[]
[]
["Neodymium",null,null,null,null,null,null,null,null,null,"Neodymium_006.pdf"]
["Samarium","Initial","Today","Today","The Ratio","Half","Decay","2.303/Delta","Age","Age","Age"]
["Dating","143Nd/144Nd","143Nd/144Nd","147Sm/144Nd","Plus One","Life","Constant","Constant","Years","Million Years","Billion Years"]
[null,0.50682000000000005,0.51266400000000001,0.19789999999999999,{"$f":"1+((C48-B48)/D48)","v":1.0295300656897421},106000000000,{"$f":"(0.693/F48)","v":6.5377358490566029E-12},{"$f":"(2.303/G48)","v":352262626262.62628},{"$f":"(LOG(E48))*(H48)","v":4452259302.2843809},{"$f":"(I48/1000000)","v":4452.2593022843812},{"$f":"(J48/1000)","v":4.4522593022843813}]
[null,0.50682000000000005,0.51082899999999998,0.13750000000000001,{"$f":"1+((C49-B49)/D49)","v":1.0291563636363632},106000000000,6.5377358490566029E-12,{"$f":"(2.303/G49)","v":352262626262.62628},{"$f":"(LOG(E49))*(H49)","v":4396717986.657608},{"$f":"(I49/1000000)","v":4396.717986657608},{"$f":"(J49/1000)","v":4.3967179866576078}]
[null,0.50682000000000005,0.51752699999999996,0.3589,1.0298328225132347,106000000000,6.5377358490566029E-12,352262626262.62628,4497241631.179883,4497.2416311798834,4.4972416311798833]
[null,0.50682000000000005,0.513602,0.22969999999999999,1.0295254680017412,106000000000,6.5377358490566029E-12,352262626262.62628,4451576095.2765102,4451.5760952765104,4.4515760952765104]
[null,0.50682000000000005,0.51326499999999997,0.2177,1.029604960955443,106000000000,6.5377358490566029E-12,352262626262.62628,4463388155.5287399,4463.3881555287398,4.4633881555287402]
[null,null,null,null,null,null,null,null,"Average",{"$f":"AVERAGE(J48:J52)","v":4452.2366341854249}]
[null,null,null,null,null,null,null,null,"Maximum",{"$f":"MAX(J48:J53)","v":4497.2416311798834}]
[null,null,null,null,null,null,null,null,"Minimum",{"$f":"MIN(J48:J54)","v":4396.717986657608}]
[null,null,null,null,null,null,null,null,"Difference",{"$f":"(J54-J55)","v":100.52364452227539}]
[]
[]
["Neodymium",null,null,null,null,null,null,null,null,null,"Neodymium_006.pdf"]
["Samarium","Initial","Today","Today","The Ratio","Half","Decay","2.303/Delta","Age","Age","Age"]
["Dating","143Nd/144Nd","143Nd/144Nd","147Sm/144Nd","Plus One","Life","Constant","Constant","Years","Million Years","Billion Years"]
[null,0.50682000000000005,0.51266400000000001,1.141834,{"$f":"1+((C62-B62)/D62)","v":1.0051180819628773},106000000000,{"$f":"(0.693/F62)","v":6.5377358490566029E-12},{"$f":"(2.303/G62)","v":352262626262.62628},{"$f":"(LOG(E62))*(H62)","v":780996525.69550121},{"$f":"(I62/1000000)","v":780.99652569550119},{"$f":"(J62/1000)","v":0.78099652569550115}]
[null,0.50682000000000005,0.51082899999999998,1.1417349999999999,{"$f":"1+((C63-B63)/D63)","v":1.0035113226799564},106000000000,6.5377358490566029E-12,{"$f":"(2.303/G63)","v":352262626262.62628},{"$f":"(LOG(E63))*(H63)","v":536241301.84216225},{"$f":"(I63/1000000)","v":536.24130184216222},{"$f":"(J63/1000)","v":0.53624130184216223}]
[null,0.50682000000000005,0.51752699999999996,1.142042,1.0093753119412421,106000000000,6.5377358490566029E-12,352262626262.62628,1427607075.7321477,1427.6070757321477,1.4276070757321477]
[null,0.50682000000000005,0.513602,1.1418740000000001,1.005939359333867,106000000000,6.5377358490566029E-12,352262626262.62628,905949408.71829736,905.94940871829738,0.90594940871829732]
[null,0.50682000000000005,0.51326499999999997,1.141859,1.0056443045945251,106000000000,6.5377358490566029E-12,352262626262.62628,861070181.14587355,861.07018114587356,0.86107018114587353]
[null,null,null,null,null,null,null,null,"Average",{"$f":"AVERAGE(J62:J66)","v":902.37289862679643}]
[null,null,null,null,null,null,null,null,"Maximum",{"$f":"MAX(J62:J67)","v":1427.6070757321477}]
[null,null,null,null,null,null,null,null,"Minimum",{"$f":"MIN(J62:J68)","v":536.24130184216222}]
[null,null,null,null,null,null,null,null,"Difference",{"$f":"(J68-J69)","v":891.36577388998546}]

{"sheet":"Nd_Sm_16","index":16,"n_rows":12,"n_cols":7,"rows_kept":12,"cut":false,"hidden":false,"merged":[]}
["Osmium",null,null,null,null,null,"Neodymium_011.pdf"]
["Osmium","Today","The","Step ","Age","Age","Age"]
["Dating","187Os/186Os","Ratio","Two","Years","Million Years","Billion Years"]
[null,19.05,{"$f":"(1.04-B4)","v":-18.010000000000002},{"$f":"(C4/0.050768)","v":-354.75102426725499},{"$f":"(D4 * 1000000000)","v":-354751024267.255},{"$f":"(E4/1000000)","v":-354751.02426725498},{"$f":"(F4/1000)","v":-354.75102426725499}]
[null,19.100000000000001,{"$f":"(1.04-B5)","v":-18.060000000000002},{"$f":"(C5/0.050768)","v":-355.7358966277971},{"$f":"(D5 * 1000000000)","v":-355735896627.79712},{"$f":"(E5/1000000)","v":-355735.8966277971},{"$f":"(F5/1000)","v":-355.7358966277971}]
[null,19.41,-18.37,-361.84210526315792,-361842105263.1579,-361842.10526315792,-361.84210526315792]
[null,9.42,-8.379999999999999,-165.06460762685154,-165064607626.85153,-165064.60762685153,-165.06460762685154]
[null,7.38,-6.34,-124.88181531673494,-124881815316.73494,-124881.81531673494,-124.88181531673494]
[null,null,null,null,"Average",{"$f":"AVERAGE(F4:F8)","v":-272455.08982035925},{"$f":"AVERAGE(G4:G8)","v":-272.45508982035932}]
[null,null,null,null,"Maximum",{"$f":"MAX(F4:F9)","v":-124881.81531673494},{"$f":"MAX(G4:G9)","v":-124.88181531673494}]
[null,null,null,null,"Minimum",{"$f":"MIN(F4:F10)","v":-361842.10526315792},{"$f":"MIN(G4:G10)","v":-361.84210526315792}]
[null,null,null,null,"Difference",{"$f":"(ABS(F11)-ABS(F10))","v":236960.28994642297},{"$f":"(G10+ABS(G11))","v":236.96028994642296}]

{"sheet":"Nd_Sm_17","index":17,"n_rows":34,"n_cols":4,"rows_kept":34,"cut":false,"hidden":false,"merged":[]}
["Neodymium_008.pdf",null,null,"Age"]
["206Pb/204Pb","207Pb/204Pb","207Pb/206Pb","207Pb/206Pb"]
[18.806000000000001,15.653,{"$f":"(B3/A3)","v":0.83234074231628197},{"$f":"[1]!AgePb76($C$3)","v":4978.1086272682842}]
[18.834,15.661,{"$f":"(B4/A4)","v":0.83152808750132734},{"$f":"[1]!AgePb76($C$4)","v":4976.7208352751932}]
[18.783999999999999,15.654,0.83336882453151617,{"$f":"[1]!AgePb76($C$5)","v":4979.8622485398982}]
[18.645,15.654999999999999,0.8396352909627246,{"$f":"[1]!AgePb76($C$6)","v":4990.501626191156}]
[18.774999999999999,15.673,0.83478029294274303,{"$f":"[1]!AgePb76($C$7)","v":4982.266078401477}]
[18.728000000000002,15.648999999999999,0.83559376334899604,{"$f":"[1]!AgePb76($C$8)","v":4983.6495144959581}]
[18.809999999999999,15.656000000000001,0.83232323232323246,{"$f":"[1]!AgePb76($C$9)","v":4978.0787401748576}]
[18.765000000000001,15.646000000000001,0.83378630428990141,{"$f":"[1]!AgePb76($C$10)","v":4980.5736962211131}]
[18.780999999999999,15.659000000000001,0.83376816995900116,{"$f":"[1]!AgePb76($C$11)","v":4980.5428004861196}]
[18.902999999999999,15.679,0.82944506163042908,{"$f":"[1]!AgePb76($C$12)","v":4973.1570040678616}]
[19.012,15.667999999999999,0.82411108773406261,{"$f":"[1]!AgePb76($C$13)","v":4963.9876085264341}]
[18.884,15.670999999999999,0.8298559627197627,{"$f":"[1]!AgePb76($C$14)","v":4973.8607638335006}]
[18.864999999999998,15.663,0.83026769149218138,{"$f":"[1]!AgePb76($C$15)","v":4974.565569800664}]
[18.896000000000001,15.67,0.82927603725656218,{"$f":"[1]!AgePb76($C$16)","v":4972.8674045553844}]
[18.911999999999999,15.672000000000001,0.82868020304568535,{"$f":"[1]!AgePb76($C$17)","v":4971.8460257382549}]
[18.881,15.689,0.83094115777766009,{"$f":"[1]!AgePb76($C$18)","v":4975.7176231717385}]
[19.091000000000001,15.728999999999999,0.82389607668534903,{"$f":"[1]!AgePb76($C$19)","v":4963.6166709736472}]
[19.076000000000001,15.709,0.82349549171734115,{"$f":"[1]!AgePb76($C$20)","v":4962.9253063154365}]
[18.931999999999999,15.68,0.82822733995351794,{"$f":"[1]!AgePb76($C$21)","v":4971.0692057284805}]
[18.931000000000001,15.683,0.82842955998098355,{"$f":"[1]!AgePb76($C$22)","v":4971.4161402104801}]
[18.948,15.683999999999999,0.82773907536415448,{"$f":"[1]!AgePb76($C$23)","v":4970.2311536954439}]
[19.113,15.705,0.82169204206560986,{"$f":"[1]!AgePb76($C$24)","v":4959.8083202016387}]
[19.573,15.786,0.80651918459101823,{"$f":"[1]!AgePb76($C$25)","v":4933.2926890890139}]
[18.989999999999998,15.709,0.82722485518694056,{"$f":"[1]!AgePb76($C$26)","v":4969.3479834772315}]
[18.95,15.712,0.82912928759894455,{"$f":"[1]!AgePb76($C$27)","v":4972.6159187532712}]
[19.16,15.731,0.82103340292275573,{"$f":"[1]!AgePb76($C$28)","v":4958.6681498790131}]
[19.236999999999998,15.727,0.8175391173259865,{"$f":"[1]!AgePb76($C$29)","v":4952.6028798009238}]
[19.228999999999999,15.722,0.81761922096832906,{"$f":"[1]!AgePb76($C$30)","v":4952.7422296467203}]
[null,null,"Average",{"$f":"AVERAGE(D3:D30)","v":4970.5229576614001}]
[null,null,"Maximum",{"$f":"MAX(D3:D31)","v":4990.501626191156}]
[null,null,"Minimum",{"$f":"MIN(D3:D32)","v":4933.2926890890139}]
[null,null,"Difference",{"$f":"(D32-ABS(D33))","v":57.208937102142045}]

{"sheet":"Nd_Sm_18","index":18,"n_rows":227,"n_cols":22,"rows_kept":227,"cut":false,"hidden":false,"merged":[]}
["Neodymium_015.pdf","Table 1",null,"Age",null,"Rubidium","Table 1",null,null,null,null,null,null,null,null,"Neodymium_015.pdf",null,null,null,null,null,6471]
["206Pb/204Pb","207Pb/204Pb","207Pb/206Pb","207Pb/206Pb",null,"Strontium","Initial","Today","Today","The Ratio","Half","Decay","2.303/Delta","Age","Age","Age",null,null,null,null,null,6466]
[18.166,15.577999999999999,{"$f":"(B3/A3)","v":0.85753605636904107},{"$f":"[1]!AgePb76($C$3)","v":5020.4355524323082},null,"Dating","87Sr/86Sr","87Sr/86Sr","87Rb/86Sr","Plus One","Life","Constant","Constant","Years","Million Years","Billion Years",null,null,null,null,null,5097]
[18.13,15.417999999999999,{"$f":"(B4/A4)","v":0.85041367898510756},{"$f":"[1]!AgePb76($C$4)","v":5008.6056254093128},null,null,0.70592999999999995,0.70778600000000003,0.51929999999999998,{"$f":"1+((H4-G4)/I4)","v":1.003574041979588},48800000000,{"$f":"(0.693/K4)","v":1.4200819672131146E-11},{"$f":"(2.303/L4)","v":162173737373.7374},{"$f":"(LOG(J4))*(M4)","v":251275152.86269182},{"$f":"(N4/1000000)","v":251.27515286269181},{"$f":"(O4/1000)","v":0.25127515286269181},null,null,null,null,null,5085]
[18.408999999999999,15.473000000000001,0.84051279265576628,{"$f":"[1]!AgePb76($C$5)","v":4991.9847349666134},null,null,0.70592999999999995,0.70684499999999995,8.6099999999999996E-2,1.0106271777003484,48800000000,1.4200819672131146E-11,162173737373.7374,744535260.88302147,744.53526088302146,0.74453526088302147,null,null,null,null,null,5081]
[18.140999999999998,15.651999999999999,0.86279697921834519,{"$f":"[1]!AgePb76($C$6)","v":5029.1068963672469},null,null,0.70592999999999995,0.70704900000000004,0.33700000000000002,1.0033204747774482,48800000000,1.4200819672131146E-11,162173737373.7374,233477473.97059155,233.47747397059155,0.23347747397059154,null,null,null,null,null,5075]
[18.422000000000001,15.654,0.84974487026381496,{"$f":"[1]!AgePb76($C$7)","v":5007.4893663879875},null,null,0.70592999999999995,0.70765500000000003,0.42330000000000001,1.0040751240255141,48800000000,1.4200819672131146E-11,162173737373.7374,286432480.8509295,286.43248085092949,0.28643248085092948,null,null,null,null,null,5070]
[18.41,15.768000000000001,0.85649103747963062,{"$f":"[1]!AgePb76($C$8)","v":5018.7063713403513},null,null,0.70592999999999995,0.70705399999999996,0.3271,1.0034362580250689,48800000000,1.4200819672131146E-11,162173737373.7374,241604765.36323732,241.60476536323733,0.24160476536323733,null,null,null,null,null,5068]
[18.349,15.638999999999999,0.85230802768543246,{"$f":"[1]!AgePb76($C$9)","v":5011.7622891188175},null,null,0.70592999999999995,0.71476099999999998,2.1850000000000001,1.004041647597254,48800000000,1.4200819672131146E-11,162173737373.7374,284084227.31957924,284.08422731957927,0.28408422731957927,null,null,null,null,null,5067]
[18.11,15.419,0.85140806184428497,{"$f":"[1]!AgePb76($C$10)","v":5010.2635536272237},null,null,0.70592999999999995,0.71157099999999995,1.3089999999999999,1.0043093964858671,48800000000,1.4200819672131146E-11,162173737373.7374,302863678.03411788,302.86367803411787,0.30286367803411784,null,null,null,null,null,5066]
[18.2,15.548,0.85428571428571431,{"$f":"[1]!AgePb76($C$11)","v":5015.0498838056947},null,null,0.70592999999999995,0.70946799999999999,0.91839999999999999,1.0038523519163765,48800000000,1.4200819672131146E-11,162173737373.7374,270804328.79092222,270.80432879092223,0.2708043287909222,null,null,null,null,null,5066]
[18.454000000000001,15.648999999999999,0.84800043351035004,{"$f":"[1]!AgePb76($C$12)","v":5004.5734597717792},null,null,0.70592999999999995,0.70815899999999998,3.6600000000000001E-2,1.0609016393442632,48800000000,1.4200819672131146E-11,162173737373.7374,4163830248.7923193,4163.8302487923193,4.1638302487923191,null,null,null,null,null,5065]
[18.274000000000001,15.545,0.85066214293531794,{"$f":"[1]!AgePb76($C$13)","v":5009.0200806492039},null,null,0.70592999999999995,0.70863200000000004,0.57879999999999998,1.0046682791983415,48800000000,1.4200819672131146E-11,162173737373.7374,328027248.5899632,328.02724858996322,0.32802724858996324,null,null,null,null,null,5063]
[18.241,15.635,0.85713502549202347,{"$f":"[1]!AgePb76($C$14)","v":5019.7722358148048},null,null,0.70592999999999995,0.70789299999999999,0.5,1.0039260000000001,48800000000,1.4200819672131146E-11,162173737373.7374,275971353.23224705,275.97135323224705,0.27597135323224703,null,null,null,null,null,5062]
[18.564,15.606,0.84065934065934067,{"$f":"[1]!AgePb76($C$15)","v":4992.2322626404239},null,null,0.70592999999999995,0.70973600000000003,0.86060000000000003,1.0044224959330701,48800000000,1.4200819672131146E-11,162173737373.7374,310794776.4705354,310.7947764705354,0.31079477647053538,null,null,null,null,null,5062]
[18.675000000000001,15.585000000000001,0.83453815261044173,{"$f":"[1]!AgePb76($C$16)","v":4981.8540034759135},null,null,0.70592999999999995,0.709368,8.2000000000000007E-3,1.4192682926829332,48800000000,1.4200819672131146E-11,162173737373.7374,24660868363.686703,24660.868363686703,24.660868363686703,null,null,null,null,null,5061]
[18.347000000000001,15.661,0.85360004360385888,{"$f":"[1]!AgePb76($C$17)","v":5013.9109796739012},null,null,0.70592999999999995,0.71215899999999999,1.607,1.0038761667703797,48800000000,1.4200819672131146E-11,162173737373.7374,272475179.96358997,272.47517996358999,0.27247517996359,null,null,null,null,null,5061]
[18.309999999999999,15.391,0.84057891862370293,{"$f":"[1]!AgePb76($C$18)","v":4992.0964310559802},null,null,0.70592999999999995,0.70743,0.38090000000000002,1.0039380414807038,48800000000,1.4200819672131146E-11,162173737373.7374,276816127.00930291,276.81612700930293,0.27681612700930291,null,null,null,null,null,5061]
[18.125,15.516,0.85605517241379314,{"$f":"[1]!AgePb76($C$19)","v":5017.9844881395629},null,null,0.70592999999999995,0.706426,0.19220000000000001,1.0025806451612906,48800000000,1.4200819672131146E-11,162173737373.7374,181523706.7992723,181.5237067992723,0.18152370679927229,null,null,null,null,null,5060]
[18.324999999999999,15.667,0.85495225102319239,{"$f":"[1]!AgePb76($C$20)","v":5016.1560762540339},null,null,null,null,null,null,null,null,null,"Average",{"$f":"AVERAGE(O13:O19)","v":3758.068107964516},null,null,null,null,null,null,5060]
[null,null,"Average",{"$f":"AVERAGE(D3:D20)","v":5008.9446828295086},null,null,"Table 1","207Pb/206Pb","87Rb/86Sr",null,null,null,null,"Maximum",{"$f":"MAX(O13:O20)","v":24660.868363686703},null,null,null,null,null,null,5060]
[null,null,"Maximum",{"$f":"MAX(D3:D21)","v":5029.1068963672469},null,null,"Dating Summary","Age","Age",null,null,null,null,"Minimum",{"$f":"MIN(O13:O21)","v":181.5237067992723},null,null,null,null,null,null,5060]
[null,null,"Minimum",{"$f":"MIN(D3:D22)","v":4981.8540034759135},null,null,"Average",5008.9446828295086,3758.068107964516,null,null,null,null,"Difference",{"$f":"(O21-O22)","v":24479.344656887431},null,null,null,null,null,null,5060]
[null,null,"Difference",{"$f":"(D22-ABS(D23))","v":47.252892891333431},null,null,"Maximum",5029.1068963672469,24660.868363686703,null,null,null,null,null,null,null,null,null,null,null,null,5060]
[null,null,null,null,null,null,"Minimum",4981.8540034759135,181.5237067992723,null,null,null,null,null,null,null,null,null,null,null,null,5060]
[null,null,null,null,null,null,"Difference",47.252892891333431,24479.344656887431,null,null,null,null,null,null,null,null,null,null,null,null,5060]
[null,null,null,null,null,null,null,null,null,null,null,null,null,null,null,null,null,null,null,null,null,5060]
["Neodymium_015.pdf",null,null,null,null,null,null,null,null,null,null,null,null,null,null,null,null,null,null,null,null,5059]
["Table 2",null,null,null,null,"Rubidium","Table 2",null,null,null,null,null,null,null,null,"Neodymium_015.pdf",null,null,null,null,null,5059]
["206Pb/204Pb","207Pb/204Pb","207Pb/206Pb","Age",null,"Strontium","Initial","Today","Today","The Ratio","Half","Decay","2.303/Delta","Age","Age","Age",null,null,null,null,null,5059]
[17.53,15.516999999999999,{"$f":"(B31/A31)","v":0.88516828294352534},{"$f":"[1]!AgePb76($C$31)","v":5065.3641839224047},null,"Dating","87Sr/86Sr","87Sr/86Sr","87Rb/86Sr","Plus One","Life","Constant","Constant","Years","Million Years","Billion Years",null,null,null,null,null,5059]
[17.475999999999999,15.476000000000001,0.88555733577477691,{"$f":"[1]!AgePb76($C$32)","v":5065.9860908221917},null,null,0.70592999999999995,0.72682199999999997,2.3450000000000002,{"$f":"1+((H32-G32)/I32)","v":1.0089091684434968},48800000000,{"$f":"(0.693/K32)","v":1.4200819672131146E-11},{"$f":"(2.303/L32)","v":162173737373.7374},{"$f":"(LOG(J32))*(M32)","v":624704376.94377637},{"$f":"(N32/1000000)","v":624.70437694377642},{"$f":"(O32/1000)","v":0.62470437694377645},null,null,null,null,null,5058]
[17.434000000000001,15.488,0.88837902948262004,{"$f":"[1]!AgePb76($C$33)","v":5070.4879564755111},null,null,0.70592999999999995,0.72808499999999998,2.226,1.0099528301886793,48800000000,1.4200819672131146E-11,162173737373.7374,697523928.92602146,697.52392892602143,0.69752392892602144,null,null,null,null,null,5058]
[17.349,15.465999999999999,0.89146348492708505,{"$f":"[1]!AgePb76($C$34)","v":5075.3917274125997},null,null,0.70592999999999995,0.72594999999999998,2.069,1.009676172063799,48800000000,1.4200819672131146E-11,162173737373.7374,678227956.69380713,678.22795669380707,0.67822795669380709,null,null,null,null,null,5058]
[17.997,15.622999999999999,0.86808912596543863,{"$f":"[1]!AgePb76($C$35)","v":5037.7732589606221},null,null,0.70592999999999995,0.72318199999999999,1.722,1.0100185830429733,48800000000,1.4200819672131146E-11,162173737373.7374,702109191.59191024,702.10919159191019,0.70210919159191021,null,null,null,null,null,5058]
[18.234999999999999,15.651999999999999,0.85834932821497123,{"$f":"[1]!AgePb76($C$36)","v":5021.7797168293364},null,null,0.70592999999999995,0.72512500000000002,2.3849999999999998,1.0080482180293502,48800000000,1.4200819672131146E-11,162173737373.7374,564576443.83468616,564.57644383468619,0.56457644383468619,null,null,null,null,null,5058]
[17.082999999999998,15.467000000000001,0.90540303225428798,{"$f":"[1]!AgePb76($C$37)","v":5097.3311634779193},null,null,0.70592999999999995,0.72325300000000003,1.831,1.0094609503003824,48800000000,1.4200819672131146E-11,162173737373.7374,663213306.93773389,663.21330693773393,0.66321330693773395,null,null,null,null,null,5057]
[18.292000000000002,15.632999999999999,0.85463590640717246,{"$f":"[1]!AgePb76($C$38)","v":5015.6311811150645},null,null,0.70592999999999995,0.72056799999999999,1.63,1.0089803680981595,48800000000,1.4200819672131146E-11,162173737373.7374,629674593.72466683,629.67459372466681,0.62967459372466683,null,null,null,null,null,5057]
[18.202000000000002,15.629,0.85864190748269409,{"$f":"[1]!AgePb76($C$39)","v":5022.2629570641766},null,null,0.70592999999999995,0.72246699999999997,1.9,1.0087036842105264,48800000000,1.4200819672131146E-11,162173737373.7374,610358222.5099194,610.35822250991941,0.61035822250991945,null,null,null,null,null,5057]
[18.218,15.635999999999999,0.8582720386431002,{"$f":"[1]!AgePb76($C$40)","v":5021.6520318599996},null,null,null,null,null,null,null,null,null,"Average",{"$f":"AVERAGE(O32:O39)","v":646.29850264531524},null,null,null,null,null,null,5057]
[18.376000000000001,15.632,0.85067479320853279,{"$f":"[1]!AgePb76($C$41)","v":5009.0411787497023},null,null,null,null,null,null,null,null,null,"Maximum",{"$f":"MAX(O32:O40)","v":702.10919159191019},null,null,null,null,null,null,5057]
[17.952999999999999,15.635999999999999,0.87094078984013812,{"$f":"[1]!AgePb76($C$42)","v":5042.4198934818623},null,"Table 2","207Pb/206Pb","87Rb/86Sr",null,null,null,null,null,"Minimum",{"$f":"MIN(O32:O41)","v":564.57644383468619},null,null,null,null,null,null,5056]
[18.587,15.551,0.83666003120460541,{"$f":"[1]!AgePb76($C$43)","v":4985.4607071365044},null,"Dating Summary","Age","Age",null,null,null,null,null,"Difference",{"$f":"(O41-O42)","v":137.532747757224},null,null,null,null,null,null,5056]
[18.446000000000002,15.547000000000001,0.84283855578445188,{"$f":"[1]!AgePb76($C$44)","v":4995.9076774641708},null,"Average",4995.2631259714153,646.29850264531524,null,null,null,null,null,null,null,null,null,null,null,null,null,5056]
[17.658000000000001,15.497999999999999,0.87767584097859319,{"$f":"[1]!AgePb76($C$45)","v":5053.3305096924832},null,"Maximum",5097.3311634779193,702.10919159191019,null,null,null,null,null,null,null,null,null,null,null,null,null,5056]
[18.114999999999998,15.608000000000001,0.86160640353298379,{"$f":"[1]!AgePb76($C$46)","v":5027.1494473220628},null,"Minimum",4845.3941631633934,564.57644383468619,null,null,null,null,null,null,null,null,null,null,null,null,null,5056]
[18.055,15.592000000000001,0.86358349487676545,{"$f":"[1]!AgePb76($C$47)","v":5030.3984501426903},null,"Difference",251.9370003145259,137.532747757224,null,null,null,null,null,null,null,null,null,null,null,null,null,5054]
[19.309000000000001,15.788,0.81764980061111392,{"$f":"[1]!AgePb76($C$48)","v":4952.7954227560658},null,null,null,null,null,null,null,null,null,null,null,null,null,null,null,null,null,5054]
[19.492000000000001,15.808999999999999,0.81105068746152265,{"$f":"[1]!AgePb76($C$49)","v":4941.2669961538222},null,null,null,null,null,null,null,null,null,null,null,null,null,null,null,null,null,5054]
[20.11,15.776,0.78448533068125315,{"$f":"[1]!AgePb76($C$50)","v":4893.8267148760406},null,null,null,null,null,null,null,null,null,null,null,null,null,null,null,null,null,5054]
[20.263999999999999,15.791,0.77926371891038304,{"$f":"[1]!AgePb76($C$51)","v":4884.3010167235279},null,null,null,null,null,null,null,null,null,null,null,null,null,null,null,null,null,5053]
[18.370999999999999,15.733000000000001,0.85640411518153625,{"$f":"[1]!AgePb76($C$52)","v":5018.5624410797},null,null,null,null,null,null,null,null,null,null,null,null,null,null,null,null,null,5053]
[20.949000000000002,15.885999999999999,0.75831781946632293,{"$f":"[1]!AgePb76($C$53)","v":4845.3941631633934},null,null,null,null,null,null,null,null,null,null,null,null,null,null,null,null,null,5053]
[19.847999999999999,15.754,0.79373236598145913,{"$f":"[1]!AgePb76($C$54)","v":4910.5314557176507},null,null,null,null,null,null,null,null,null,null,null,null,null,null,null,null,null,5052]
[19.649000000000001,15.803000000000001,0.804264848083872,{"$f":"[1]!AgePb76($C$55)","v":4929.3078508400522},null,null,null,null,null,null,null,null,null,null,null,null,null,null,null,null,null,5051]
[20.03,15.833,0.79046430354468289,{"$f":"[1]!AgePb76($C$56)","v":4904.6514926553727},null,null,null,null,null,null,null,null,null,null,null,null,null,null,null,null,null,5051]
[19.218,15.728,0.81839941721302945,{"$f":"[1]!AgePb76($C$57)","v":4954.098715333289},null,null,null,null,null,null,null,null,null,null,null,null,null,null,null,null,null,5050]
[null,null,"Average",{"$f":"AVERAGE(D31:D57)","v":4995.2631259714153},null,null,null,null,null,null,null,null,null,null,null,null,null,null,null,null,null,5050]
[null,null,"Maximum",{"$f":"MAX(D31:D58)","v":5097.3311634779193},null,null,null,null,null,null,null,null,null,null,null,null,null,null,null,null,null,5050]
[null,null,"Minimum",{"$f":"MIN(D31:D59)","v":4845.3941631633934},null,null,null,null,null,null,null,null,null,null,null,null,null,null,null,null,null,5050]
[null,null,"Difference",{"$f":"(D59-D60)","v":251.9370003145259},null,null,null,null,null,null,null,null,null,null,null,null,null,null,null,null,null,5049]
[null,null,null,null,null,null,null,null,null,null,null,null,null,null,null,null,null,null,null,null,null,5049]
[null,null,null,null,null,"207Pb/206Pb","TABLE 3","TABLE 4","TABLE 5","TABLE 6",null,null,null,null,null,null,null,null,null,null,null,5049]
["TABLE 3",null,null,null,null,"Dating Summary","Age","Age","Age","Age",null,null,null,null,null,null,null,null,null,null,null,5046]
["206Pb/204Pb","207Pb/204Pb","207Pb/206Pb","Age",null,"Average",4150.6630931701256,5060.2162276081845,5027.3763823991021,5079.3490787892133,null,null,null,null,null,null,null,null,null,null,null,5046]
[19.699000000000002,15.75,{"$f":"(B66/A66)","v":0.79953297121681299},{"$f":"[1]!AgePb76($C$66)","v":4920.9048408994167},null,"Maximum",5018.4922809417158,5062.5678230728745,5065.9596660625939,6471.2621225987459,null,null,null,null,null,null,null,null,null,null,null,5045]
[19.013999999999999,15.769,0.8293362785316083,{"$f":"[1]!AgePb76($C$67)","v":4972.9706267096408},null,"Minimum",1776.1497381948234,5053.14969299941,4987.0158745649824,4977.879559015053,null,null,null,null,null,null,null,null,null,null,null,5045]
[19.137,15.779,0.82452840048074405,{"$f":"[1]!AgePb76($C$68)","v":4964.7072638953414},null,"Difference",3242.3425427468924,9.4181300734644537,78.943791497611528,1493.3825635836929,null,null,null,null,null,null,null,null,null,null,null,5045]
[18.966000000000001,15.765000000000001,0.83122429610882631,{"$f":"[1]!AgePb76($C$69)","v":4976.2016725477815},null,null,null,null,null,null,null,null,null,null,null,null,null,null,null,null,null,5045]
[19.186,15.786,0.822787449181695,{"$f":"[1]!AgePb76($C$70)","v":4961.7024295033898},null,null,null,null,null,null,null,null,null,null,null,null,null,null,null,null,null,5043]
[18.289000000000001,15.662000000000001,0.85636174749849636,{"$f":"[1]!AgePb76($C$71)","v":5018.4922809417158},null,null,null,null,null,null,null,null,null,null,null,null,null,null,null,null,null,5043]
[34.622,16.516999999999999,0.47706660504881288,{"$f":"[1]!AgePb76($C$72)","v":4171.8637712845193},null,null,null,null,null,null,null,null,null,null,null,null,null,null,null,null,null,5043]
[285.226,30.977,0.10860510612636996,{"$f":"[1]!AgePb76($C$73)","v":1776.1497381948234},null,null,null,null,null,null,null,null,null,null,null,null,null,null,null,null,null,5043]
[42.951000000000001,16.997,0.39573001792740564,{"$f":"[1]!AgePb76($C$74)","v":3892.9337019823834},null,null,null,null,null,null,null,null,null,null,null,null,null,null,null,null,null,5043]
[38.097000000000001,16.87,0.44281701971283827,{"$f":"[1]!AgePb76($C$75)","v":4061.2564992532998},null,null,null,null,null,null,null,null,null,null,null,null,null,null,null,null,null,5043]
[44.686999999999998,17.283999999999999,0.38677915277373731,{"$f":"[1]!AgePb76($C$76)","v":3858.4623461920851},null,null,null,null,null,null,null,null,null,null,null,null,null,null,null,null,null,5042]
[50.497999999999998,17.422000000000001,0.34500376252524856,{"$f":"[1]!AgePb76($C$77)","v":3685.0776499725002},null,null,null,null,null,null,null,null,null,null,null,null,null,null,null,null,null,5041]
[23.484999999999999,15.996,0.68111560570576968,{"$f":"[1]!AgePb76($C$78)","v":4691.3834287205209},null,null,null,null,null,null,null,null,null,null,null,null,null,null,null,null,null,5040]
[139.066,22.879000000000001,0.16451900536435937,{"$f":"[1]!AgePb76($C$79)","v":2502.641885038036},null,null,null,null,null,null,null,null,null,null,null,null,null,null,null,null,null,5040]
[53.988999999999997,17.850999999999999,0.33064142695734317,{"$f":"[1]!AgePb76($C$80)","v":3620.0575330405245},null,null,null,null,null,null,null,null,null,null,null,null,null,null,null,null,null,5039]
[76.932000000000002,19.178000000000001,0.24928508293038007,{"$f":"[1]!AgePb76($C$81)","v":3180.2316533508229},null,null,null,null,null,null,null,null,null,null,null,null,null,null,null,null,null,5039]
[27.062000000000001,16.463000000000001,0.60834380311876435,{"$f":"[1]!AgePb76($C$82)","v":4528.054121983856},null,null,null,null,null,null,null,null,null,null,null,null,null,null,null,null,null,5038]
[19.984999999999999,16.068000000000001,0.80400300225168886,{"$f":"[1]!AgePb76($C$83)","v":4928.844233551602},null,null,null,null,null,null,null,null,null,null,null,null,null,null,null,null,null,5038]
[null,null,"Average",{"$f":"AVERAGE(D66:D83)","v":4150.6630931701256},null,null,null,null,null,null,null,null,null,null,null,null,null,null,null,null,null,5038]
[null,null,"Maximum",{"$f":"MAX(D66:D84)","v":5018.4922809417158},null,null,null,null,null,null,null,null,null,null,null,null,null,null,null,null,null,5038]
[null,null,"Minimum",{"$f":"MIN(D66:D85)","v":1776.1497381948234},null,null,null,null,null,null,null,null,null,null,null,null,null,null,null,null,null,5038]
[null,null,"Difference",{"$f":"(D85-D86)","v":3242.3425427468924},null,null,null,null,null,null,null,null,null,null,null,null,null,null,null,null,null,5038]
[null,null,null,null,null,null,null,null,null,null,null,null,null,null,null,null,null,null,null,null,null,5037]
[null,null,null,null,null,null,null,null,null,null,null,null,null,null,null,null,null,null,null,null,null,5037]
["TABLE 4",null,null,null,null,null,null,null,null,null,null,null,null,null,null,null,null,null,null,null,null,5034]
["206Pb/204Pb","207Pb/204Pb","207Pb/206Pb","Age",null,null,null,null,null,null,null,null,null,null,null,null,null,null,null,null,null,5032]
[17.459,15.417999999999999,{"$f":"(B92/A92)","v":0.88309754281459418},{"$f":"[1]!AgePb76($C$92)","v":5062.0491879252531},null,null,null,null,null,null,null,null,null,null,null,null,null,null,null,null,null,5032]
[17.600999999999999,15.446,{"$f":"(B93/A93)","v":0.87756377478552361},{"$f":"[1]!AgePb76($C$93)","v":5053.14969299941},null,null,null,null,null,null,null,null,null,null,null,null,null,null,null,null,null,5031]
[17.423999999999999,15.375999999999999,0.88246097337006424,{"$f":"[1]!AgePb76($C$94)","v":5061.0284625745553},null,null,null,null,null,null,null,null,null,null,null,null,null,null,null,null,null,5031]
[17.448,15.384,0.8817056396148556,{"$f":"[1]!AgePb76($C$95)","v":5059.816287434398},null,null,null,null,null,null,null,null,null,null,null,null,null,null,null,null,null,5031]
[17.513999999999999,15.438000000000001,0.88146625556697511,{"$f":"[1]!AgePb76($C$96)","v":5059.4318890856739},null,null,null,null,null,null,null,null,null,null,null,null,null,null,null,null,null,5031]
[17.488,15.426,0.88209057639524246,{"$f":"[1]!AgePb76($C$97)","v":5060.4341794879138},null,null,null,null,null,null,null,null,null,null,null,null,null,null,null,null,null,5030]
[17.449000000000002,15.388,0.88188434867327636,{"$f":"[1]!AgePb76($C$98)","v":5060.1031828667246},null,null,null,null,null,null,null,null,null,null,null,null,null,null,null,null,null,5029]
[17.456,15.420999999999999,0.88342117323556368,{"$f":"[1]!AgePb76($C$99)","v":5062.5678230728745},null,null,null,null,null,null,null,null,null,null,null,null,null,null,null,null,null,5029]
[17.448,15.398999999999999,0.88256533700137541,{"$f":"[1]!AgePb76($C$100)","v":5061.1958609243384},null,null,null,null,null,null,null,null,null,null,null,null,null,null,null,null,null,5027]
[17.475000000000001,15.407,0.88165951359084405,{"$f":"[1]!AgePb76($C$101)","v":5059.742227755024},null,null,null,null,null,null,null,null,null,null,null,null,null,null,null,null,null,5027]
[17.431000000000001,15.378,0.88222132981469792,{"$f":"[1]!AgePb76($C$102)","v":5060.6439969181347},null,null,null,null,null,null,null,null,null,null,null,null,null,null,null,null,null,5026]
[17.449000000000002,15.39,0.88199896842225911,{"$f":"[1]!AgePb76($C$103)","v":5060.2871583256656},null,null,null,null,null,null,null,null,null,null,null,null,null,null,null,null,null,5025]
[17.489000000000001,15.448,0.88329807307450392,{"$f":"[1]!AgePb76($C$104)","v":5062.3705722023369},null,null,null,null,null,null,null,null,null,null,null,null,null,null,null,null,null,5025]
[17.466999999999999,15.404999999999999,0.88194881777065326,{"$f":"[1]!AgePb76($C$105)","v":5060.2066649422813},null,null,null,null,null,null,null,null,null,null,null,null,null,null,null,null,null,5025]
[null,null,"Average",{"$f":"AVERAGE(D92:D105)","v":5060.2162276081845},null,null,null,null,null,null,null,null,null,null,null,null,null,null,null,null,null,5024]
[null,null,"Maximum",{"$f":"MAX(D92:D106)","v":5062.5678230728745},null,null,null,null,null,null,null,null,null,null,null,null,null,null,null,null,null,5023]
[null,null,"Minimum",{"$f":"MIN(D92:D107)","v":5053.14969299941},null,null,null,null,null,null,null,null,null,null,null,null,null,null,null,null,null,5022]
[null,null,"Difference",{"$f":"(D107-D108)","v":9.4181300734644537},null,null,null,null,null,null,null,null,null,null,null,null,null,null,null,null,null,5022]
[null,null,null,null,null,null,null,null,null,null,null,null,null,null,null,null,null,null,null,null,null,5022]
[null,null,null,null,null,null,null,null,null,null,null,null,null,null,null,null,null,null,null,null,null,5022]
["TABLE 5",null,null,null,null,null,null,null,null,null,null,null,null,null,null,null,null,null,null,null,null,5022]
["206Pb/204Pb","207Pb/204Pb","207Pb/206Pb","Age",null,null,null,null,null,null,null,null,null,null,null,null,null,null,null,null,null,5022]
[18.05,15.573,{"$f":"(B114/A114)","v":0.86277008310249304},{"$f":"[1]!AgePb76($C$114)","v":5029.06270759577},null,null,null,null,null,null,null,null,null,null,null,null,null,null,null,null,null,5021]
[18.201000000000001,15.654,{"$f":"(B115/A115)","v":0.86006263392121307},{"$f":"[1]!AgePb76($C$115)","v":5024.6070251680085},null,null,null,null,null,null,null,null,null,null,null,null,null,null,null,null,null,5021]
[17.977,15.529,0.86382599988874675,{"$f":"[1]!AgePb76($C$116)","v":5030.7964208375815},null,null,null,null,null,null,null,null,null,null,null,null,null,null,null,null,null,5020]
[18.655999999999999,15.661,0.83946183533447682,{"$f":"[1]!AgePb76($C$117)","v":4990.2082653707657},null,null,null,null,null,null,null,null,null,null,null,null,null,null,null,null,null,5020]
[17.934999999999999,15.557,0.86741009199888497,{"$f":"[1]!AgePb76($C$118)","v":5036.6644210723125},null,null,null,null,null,null,null,null,null,null,null,null,null,null,null,null,null,5020]
[18.734999999999999,15.692,0.83757672804910599,{"$f":"[1]!AgePb76($C$119)","v":4987.0158745649824},null,null,null,null,null,null,null,null,null,null,null,null,null,null,null,null,null,5019]
[17.974,15.468999999999999,0.86063202403471672,{"$f":"[1]!AgePb76($C$120)","v":5025.5453128278459},null,null,null,null,null,null,null,null,null,null,null,null,null,null,null,null,null,5019]
[18.253,15.672000000000001,0.85859858653372056,{"$f":"[1]!AgePb76($C$121)","v":5022.1914167965388},null,null,null,null,null,null,null,null,null,null,null,null,null,null,null,null,null,5019]
[17.795999999999999,15.506,0.87131939761744215,{"$f":"[1]!AgePb76($C$122)","v":5043.035600250907},null,null,null,null,null,null,null,null,null,null,null,null,null,null,null,null,null,5018]
[17.902999999999999,15.547000000000001,0.86840194380830038,{"$f":"[1]!AgePb76($C$123)","v":5038.2837694777909},null,null,null,null,null,null,null,null,null,null,null,null,null,null,null,null,null,5018]
[18.167000000000002,15.569000000000001,0.85699344966147406,{"$f":"[1]!AgePb76($C$124)","v":5019.5379866114599},null,null,null,null,null,null,null,null,null,null,null,null,null,null,null,null,null,5018]
[17.591000000000001,15.486000000000001,0.88033653572849746,{"$f":"[1]!AgePb76($C$125)","v":5057.6163105976084},null,null,null,null,null,null,null,null,null,null,null,null,null,null,null,null,null,5016]
[17.901,15.593,0.87106865538238087,{"$f":"[1]!AgePb76($C$126)","v":5042.6278651867096},null,null,null,null,null,null,null,null,null,null,null,null,null,null,null,null,null,5016]
[17.488,15.388,0.87991765782250686,{"$f":"[1]!AgePb76($C$127)","v":5056.9425015460156},null,null,null,null,null,null,null,null,null,null,null,null,null,null,null,null,null,5015]
[17.497,15.407,0.88055095159170149,{"$f":"[1]!AgePb76($C$128)","v":5057.9610893989311},null,null,null,null,null,null,null,null,null,null,null,null,null,null,null,null,null,5014]
[17.911000000000001,15.510999999999999,0.86600413153927747,{"$f":"[1]!AgePb76($C$129)","v":5034.365606869882},null,null,null,null,null,null,null,null,null,null,null,null,null,null,null,null,null,5013]
[18.402999999999999,15.596,0.84747052111068855,{"$f":"[1]!AgePb76($C$130)","v":5003.6864249589826},null,null,null,null,null,null,null,null,null,null,null,null,null,null,null,null,null,5012]
[18.626000000000001,15.695,0.84263932137871789,{"$f":"[1]!AgePb76($C$131)","v":4995.5720727792004},null,null,null,null,null,null,null,null,null,null,null,null,null,null,null,null,null,5010]
[18.309999999999999,15.616,0.85286728563626435,{"$f":"[1]!AgePb76($C$132)","v":5012.6927888460423},null,null,null,null,null,null,null,null,null,null,null,null,null,null,null,null,null,5010]
[18.524999999999999,15.678000000000001,0.84631578947368435,{"$f":"[1]!AgePb76($C$133)","v":5001.7514458441892},null,null,null,null,null,null,null,null,null,null,null,null,null,null,null,null,null,5010]
[17.972000000000001,15.488,0.86178499888715776,{"$f":"[1]!AgePb76($C$134)","v":5027.443262474676},null,null,null,null,null,null,null,null,null,null,null,null,null,null,null,null,null,5009]
[18.001000000000001,15.55,0.86384089772790396,{"$f":"[1]!AgePb76($C$135)","v":5030.8208655515964},null,null,null,null,null,null,null,null,null,null,null,null,null,null,null,null,null,5009]
[18.082999999999998,15.531000000000001,0.85887297461704371,{"$f":"[1]!AgePb76($C$136)","v":5022.6444768880474},null,null,null,null,null,null,null,null,null,null,null,null,null,null,null,null,null,5009]
[17.622,15.605,0.88554080127113843,{"$f":"[1]!AgePb76($C$137)","v":5065.9596660625939},null,null,null,null,null,null,null,null,null,null,null,null,null,null,null,null,null,5007]
[null,null,"Average",{"$f":"AVERAGE(D114:D137)","v":5027.3763823991021},null,null,null,null,null,null,null,null,null,null,null,null,null,null,null,null,null,5005]
[null,null,"Maximum",{"$f":"MAX(D114:D138)","v":5065.9596660625939},null,null,null,null,null,null,null,null,null,null,null,null,null,null,null,null,null,5005]
[null,null,"Minimum",{"$f":"MIN(D114:D139)","v":4987.0158745649824},null,null,null,null,null,null,null,null,null,null,null,null,null,null,null,null,null,5004]
[null,null,"Difference",{"$f":"(D139-D140)","v":78.943791497611528},null,null,null,null,null,null,null,null,null,null,null,null,null,null,null,null,null,5002]
[null,null,null,null,null,null,null,null,null,null,null,null,null,null,null,null,null,null,null,null,null,5001]
[null,null,null,null,null,null,null,null,null,null,null,null,null,null,null,null,null,null,null,null,null,4996]
["TABLE 6",null,null,null,null,null,null,null,null,null,null,null,null,null,null,null,null,null,null,null,null,4996]
["206Pb/204Pb","207Pb/204Pb","207Pb/206Pb","Age",null,null,null,null,null,null,null,null,null,null,null,null,null,null,null,null,null,4992]
[17.550999999999998,15.436999999999999,{"$f":"(B146/A146)","v":0.87955102273374741},{"$f":"[1]!AgePb76($C$146)","v":5056.3524511972555},null,null,null,null,null,null,null,null,null,null,null,null,null,null,null,null,null,4992]
[17.649000000000001,15.477,{"$f":"(B147/A147)","v":0.87693353731089574},{"$f":"[1]!AgePb76($C$147)","v":5052.132360161213},null,null,null,null,null,null,null,null,null,null,null,null,null,null,null,null,null,4992]
[18.010000000000002,15.64,0.86840644086618546,{"$f":"[1]!AgePb76($C$148)","v":5038.2911071351273},null,null,null,null,null,null,null,null,null,null,null,null,null,null,null,null,null,4990]
[17.603000000000002,15.456,0.87803215361017994,{"$f":"[1]!AgePb76($C$149)","v":5053.9052506974685},null,null,null,null,null,null,null,null,null,null,null,null,null,null,null,null,null,4987]
[17.847999999999999,15.577,0.87275885253249663,{"$f":"[1]!AgePb76($C$150)","v":5045.3739090889358},null,null,null,null,null,null,null,null,null,null,null,null,null,null,null,null,null,4985]
[17.837,15.545999999999999,0.87155911868587765,{"$f":"[1]!AgePb76($C$151)","v":5043.4252972429167},null,null,null,null,null,null,null,null,null,null,null,null,null,null,null,null,null,4982]
[18.184000000000001,15.611000000000001,0.85850197976242848,{"$f":"[1]!AgePb76($C$152)","v":5022.0318664538372},null,null,null,null,null,null,null,null,null,null,null,null,null,null,null,null,null,4981]
[17.465,15.404999999999999,0.88204981391354131,{"$f":"[1]!AgePb76($C$153)","v":5060.3687619920693},null,null,null,null,null,null,null,null,null,null,null,null,null,null,null,null,null,4978]
[17.478000000000002,15.417,0.88208032955715743,{"$f":"[1]!AgePb76($C$154)","v":5060.4177351950448},null,null,null,null,null,null,null,null,null,null,null,null,null,null,null,null,null,4976]
[15.518000000000001,38.081000000000003,2.4539889160974355,{"$f":"[1]!AgePb76($C$155)","v":6471.2621225987459},null,null,null,null,null,null,null,null,null,null,null,null,null,null,null,null,null,4973]
[18.768999999999998,15.651999999999999,0.83392828600351643,{"$f":"[1]!AgePb76($C$156)","v":4980.8155679434249},null,null,null,null,null,null,null,null,null,null,null,null,null,null,null,null,null,4965]
[17.78,15.491,0.87125984251968491,{"$f":"[1]!AgePb76($C$157)","v":5042.9387682431079},null,null,null,null,null,null,null,null,null,null,null,null,null,null,null,null,null,4962]
[18.213999999999999,15.593,0.85609970352476128,{"$f":"[1]!AgePb76($C$158)","v":5018.0582588186362},null,null,null,null,null,null,null,null,null,null,null,null,null,null,null,null,null,4954]
[18.097999999999999,15.641999999999999,0.86429439717095813,{"$f":"[1]!AgePb76($C$159)","v":5031.5647636982849},null,null,null,null,null,null,null,null,null,null,null,null,null,null,null,null,null,4953]
[18.172999999999998,15.629,0.86001210587134769,{"$f":"[1]!AgePb76($C$160)","v":5024.5237290530849},null,null,null,null,null,null,null,null,null,null,null,null,null,null,null,null,null,4941]
[17.86,15.532,0.86965285554311311,{"$f":"[1]!AgePb76($C$161)","v":5040.3232756589014},null,null,null,null,null,null,null,null,null,null,null,null,null,null,null,null,null,4929]
[18.16,15.625999999999999,0.86046255506607927,{"$f":"[1]!AgePb76($C$162)","v":5025.2661168849063},null,null,null,null,null,null,null,null,null,null,null,null,null,null,null,null,null,4929]
[17.905999999999999,15.625999999999999,0.87266837931419639,{"$f":"[1]!AgePb76($C$163)","v":5045.2270613047167},null,null,null,null,null,null,null,null,null,null,null,null,null,null,null,null,null,4921]
[17.504000000000001,15.407999999999999,0.88025594149908581,{"$f":"[1]!AgePb76($C$164)","v":5057.486692755655},null,null,null,null,null,null,null,null,null,null,null,null,null,null,null,null,null,4911]
[15.552,38.015000000000001,2.4443801440329218,{"$f":"[1]!AgePb76($C$165)","v":6465.9720313261805},null,null,null,null,null,null,null,null,null,null,null,null,null,null,null,null,null,4905]
[18.05,15.481999999999999,0.85772853185595566,{"$f":"[1]!AgePb76($C$166)","v":5020.753795463731},null,null,null,null,null,null,null,null,null,null,null,null,null,null,null,null,null,4894]
[18.417000000000002,15.672000000000001,0.85095292392897859,{"$f":"[1]!AgePb76($C$167)","v":5009.504960432344},null,null,null,null,null,null,null,null,null,null,null,null,null,null,null,null,null,4884]
[17.968,15.609,0.86871104185218162,{"$f":"[1]!AgePb76($C$168)","v":5038.7880177022662},null,null,null,null,null,null,null,null,null,null,null,null,null,null,null,null,null,4845]
[17.489000000000001,15.496,0.88604265538338378,{"$f":"[1]!AgePb76($C$169)","v":5066.761475505753}]
[17.975000000000001,15.532,0.86408901251738524,{"$f":"[1]!AgePb76($C$170)","v":5031.2279121755164}]
[17.878,15.523999999999999,0.86832979080434047,{"$f":"[1]!AgePb76($C$171)","v":5038.1660349871336}]
[17.867999999999999,15.564,0.87105439892545344,{"$f":"[1]!AgePb76($C$172)","v":5042.6046788427093}]
[17.544,15.43,0.87950296397628813,{"$f":"[1]!AgePb76($C$173)","v":5056.275087683337}]
[17.87,15.545,0.86989367655288186,{"$f":"[1]!AgePb76($C$174)","v":5040.7155566081165}]
[17.727,15.52,0.8755006487279291,{"$f":"[1]!AgePb76($C$175)","v":5049.8164935663181}]
[17.446000000000002,15.377000000000001,0.88140547976613548,{"$f":"[1]!AgePb76($C$176)","v":5059.334278833242}]
[17.846,15.432,0.86473159251372855,{"$f":"[1]!AgePb76($C$177)","v":5032.2815252436067}]
[17.448,15.375,0.88118982118294353,{"$f":"[1]!AgePb76($C$178)","v":5058.9878582017363}]
[17.658999999999999,15.422000000000001,0.87332238518602423,{"$f":"[1]!AgePb76($C$179)","v":5046.2882197966228}]
[18.186,15.617000000000001,0.85873749037721325,{"$f":"[1]!AgePb76($C$180)","v":5022.4207892173335}]
[18.061,15.606,0.86407175682409609,{"$f":"[1]!AgePb76($C$181)","v":5031.1996072299071}]
[18.446000000000002,15.6,0.84571180743792684,{"$f":"[1]!AgePb76($C$182)","v":5000.738238277977}]
[17.582000000000001,15.444000000000001,0.87839836196109655,{"$f":"[1]!AgePb76($C$183)","v":5054.4956959294241}]
[18.085000000000001,15.544,0.85949682056953269,{"$f":"[1]!AgePb76($C$184)","v":5023.6739780721146}]
[17.632999999999999,15.456,0.87653830885271933,{"$f":"[1]!AgePb76($C$185)","v":5051.4939843161737}]
[17.898,15.534000000000001,0.86791820315119017,{"$f":"[1]!AgePb76($C$186)","v":5037.4942349132862}]
[17.251000000000001,15.486000000000001,0.89768709060344321,{"$f":"[1]!AgePb76($C$187)","v":5085.2316763854433}]
[17.536999999999999,15.441000000000001,0.88048126817585681,{"$f":"[1]!AgePb76($C$188)","v":5057.8490488564257}]
[18.053000000000001,15.669,0.86794438597463019,{"$f":"[1]!AgePb76($C$189)","v":5037.5369810143584}]
[17.521999999999998,15.425000000000001,0.8803218810638056,{"$f":"[1]!AgePb76($C$190)","v":5057.5927427745692}]
[17.728999999999999,15.525,0.87568390772181182,{"$f":"[1]!AgePb76($C$191)","v":5050.1129050537866}]
[17.614999999999998,15.497999999999999,0.87981833664490494,{"$f":"[1]!AgePb76($C$192)","v":5056.7826831010398}]
[17.501999999999999,15.416,0.88081362130042284,{"$f":"[1]!AgePb76($C$193)","v":5058.3833385840671}]
[17.507999999999999,15.442,0.88199680146218873,{"$f":"[1]!AgePb76($C$194)","v":5060.283680386523}]
[17.512,15.398999999999999,0.87933988122430329,{"$f":"[1]!AgePb76($C$195)","v":5056.0125286335578}]
[17.928000000000001,15.592000000000001,0.86970102632753232,{"$f":"[1]!AgePb76($C$196)","v":5040.4017517944785}]
[17.481000000000002,15.379,0.87975516274812648,{"$f":"[1]!AgePb76($C$197)","v":5056.6810195545813}]
[17.893999999999998,15.586,0.87101821839722826,{"$f":"[1]!AgePb76($C$198)","v":5042.5458339309698}]
[17.638000000000002,15.539,0.88099557772990122,{"$f":"[1]!AgePb76($C$199)","v":5058.6757605140574}]
[18.785,15.632999999999999,0.83220654777748193,{"$f":"[1]!AgePb76($C$200)","v":4977.879559015053}]
[17.725000000000001,15.474,0.87300423131170657,{"$f":"[1]!AgePb76($C$201)","v":5045.7721039866301}]
[18.402000000000001,15.606999999999999,0.84811433539832615,{"$f":"[1]!AgePb76($C$202)","v":5004.7640463717808}]
[17.838000000000001,15.561,0.87235116044399597,{"$f":"[1]!AgePb76($C$203)","v":5044.7120532275803}]
[17.722999999999999,15.516,0.87547254979405298,{"$f":"[1]!AgePb76($C$204)","v":5049.7710392430472}]
[17.885999999999999,15.523999999999999,0.86794140668679409,{"$f":"[1]!AgePb76($C$205)","v":5037.5321170953684}]
[17.844000000000001,15.499000000000001,0.86858327729208695,{"$f":"[1]!AgePb76($C$206)","v":5038.5796116118063}]
[17.78,15.561999999999999,0.87525309336332946,{"$f":"[1]!AgePb76($C$207)","v":5049.4159816328038}]
[17.521000000000001,15.382,0.87791792705895777,{"$f":"[1]!AgePb76($C$208)","v":5053.721027425715}]
[17.576000000000001,15.428000000000001,0.87778789258079204,{"$f":"[1]!AgePb76($C$209)","v":5053.5112783534587}]
[18.149000000000001,15.569000000000001,0.85784340735026721,{"$f":"[1]!AgePb76($C$210)","v":5020.9436968997879}]
[17.567,15.451000000000001,{"$f":"(B211/A211)","v":0.87954687766835549},{"$f":"[1]!AgePb76($C$211)","v":5056.3457787748339}]
[17.818000000000001,15.548,0.87260074082388595,{"$f":"[1]!AgePb76($C$212)","v":5045.1172661904866}]
[17.626000000000001,15.445,0.87626233972540557,{"$f":"[1]!AgePb76($C$213)","v":5051.0480558892868}]
[17.57,15.414,0.87729083665338647,{"$f":"[1]!AgePb76($C$214)","v":5052.7092099438287}]
[17.75,15.531000000000001,0.87498591549295779,{"$f":"[1]!AgePb76($C$215)","v":5048.9835881780673}]
[17.658000000000001,15.467000000000001,0.87592026277041568,{"$f":"[1]!AgePb76($C$216)","v":5050.4950993562124}]
[17.468,15.494999999999999,0.88705060682390657,{"$f":"[1]!AgePb76($C$217)","v":5068.3704194138027}]
[17.337,15.518000000000001,0.89507988694699203,{"$f":"[1]!AgePb76($C$218)","v":5081.118339965119}]
[18.353999999999999,15.619,0.85098616105481095,{"$f":"[1]!AgePb76($C$219)","v":5009.5603724161228}]
[18.236000000000001,15.625999999999999,0.85687650800614168,{"$f":"[1]!AgePb76($C$220)","v":5019.3444657483633}]
[17.625,15.510999999999999,0.88005673758865244,{"$f":"[1]!AgePb76($C$221)","v":5057.1662636698211}]
[17.687000000000001,15.478,0.87510601006388866,{"$f":"[1]!AgePb76($C$222)","v":5049.1779633219749}]
[17.5,15.391999999999999,0.87954285714285707,{"$f":"[1]!AgePb76($C$223)","v":5056.3393067957304}]
[null,null,"Average",{"$f":"AVERAGE(D146:D223)","v":5079.3490787892133}]
[null,null,"Maximum",{"$f":"MAX(D146:D224)","v":6471.2621225987459}]
[null,null,"Minimum",{"$f":"MIN(D146:D225)","v":4977.879559015053}]
[null,null,"Difference",{"$f":"(D225-D226)","v":1493.3825635836929}]

{"sheet":"Nd_Sm_19","index":19,"n_rows":93,"n_cols":18,"rows_kept":93,"cut":false,"hidden":false,"merged":[]}
["Neodymium_021.pdf","Carbon 14 Age","Calibrated Age",null,null,null,"207Pb/206Pb","Carbon 14 Age","Calibrated Age",null,"Dating","Carbon 14 Age","Calibrated Age","207Pb/206Pb","Carbon 14 Age","Calibrated Age",null,5390]
["Table 1.","Years","Years","206Pb/204Pb","207Pb/204Pb","207Pb/206Pb","Million Years","Ratio","Ratio",null,"Summary","Years","Years","Million Years","Dating Ratio","Dating Ratio",null,5375]
["243–244",7837,8635,18.966000000000001,15.564,{"$f":"(E3/D3)","v":0.82062638405567856},{"$f":"[1]!AgePb76($F$3)","v":4957.963073184811},{"$f":"(G3 * 1000000)/B3","v":632635.32897598704},{"$f":"(G3 * 1000000)/C3","v":574170.59330455249},null,"Average",11656.416666666666,13113.666666666666,4966.7829425063746,456448.32903850242,408945.32175250078,null,5333]
["256–257",7972,8758,19.039000000000001,15.55,{"$f":"(E4/D4)","v":0.81674457692105673},{"$f":"[1]!AgePb76($F$4)","v":4951.2198952027738},{"$f":"(G4 * 1000000)/B4","v":621076.25378860685},{"$f":"(G4 * 1000000)/C4","v":565336.82292792574},null,"Maximum",22190,26064,4982.3520081206607,636960.84181804315,584937.99404197896,null,5327]
["271–272",8128,8905,18.978000000000002,15.566000000000001,0.8202128780693434,{"$f":"[1]!AgePb76($F$5)","v":4957.2463780274111},609897.43824156141,556681.23279364535,null,"Minimum",7792,8485,4944.0238211797605,223721.55932511282,190468.89968632034,null,5270]
["282–283",8243,9017,18.835999999999999,15.483000000000001,0.82198980675302624,{"$f":"[1]!AgePb76($F$6)","v":4960.3234617970611},601761.91456958163,550107.958500284,null,"Difference",14398,17579,38.328186940900196,413239.2824929303,394469.09435565863,null,5221]
["296–297",8388,9169,18.547000000000001,15.417,0.8312395535666145,{"$f":"[1]!AgePb76($F$7)","v":4976.2277515105498},593255.57361832971,542723.06156729732,null,null,null,null,null,null,null,null,5187]
["309–310",8523,9324,18.596,15.432,0.82985588298558832,{"$f":"[1]!AgePb76($F$8)","v":4973.8606273068735},583580.97234622471,533447.08572574786,null,null,null,null,null,null,null,null,5138]
["325–326",8689,9549,18.634,15.467000000000001,0.83004185896747884,{"$f":"[1]!AgePb76($F$9)","v":4974.1790309480684},572468.52698216925,520910.98868447676,null,null,null,null,null,null,null,null,5117]
["329–330",8731,9612,18.559000000000001,15.459,0.83296513820787754,{"$f":"[1]!AgePb76($F$10)","v":4979.1739466429444},570286.78807043226,518016.43223501294,null,null,null,null,null,null,null,null,5111]
["333–334",8773,9680,18.722999999999999,15.493,0.82748491160604609,{"$f":"[1]!AgePb76($F$11)","v":4969.7947018044979},566487.4845325998,513408.54357484478,null,null,null,null,null,null,null,null,5105]
["339–340",8840,9797,18.648,15.471,0.82963320463320467,{"$f":"[1]!AgePb76($F$12)","v":4973.4792869047287},562610.77906162094,507653.29048736644,null,null,null,null,null,null,null,null,5081]
["343–344",8920,9879,18.731999999999999,15.512,0.8281016442451421,{"$f":"[1]!AgePb76($F$13)","v":4970.8535131850567},557270.57322702429,503173.75373874448,null,null,null,null,null,null,null,null,5033]
["347–348",9020,9961,18.712,15.507,0.82871953826421552,{"$f":"[1]!AgePb76($F$14)","v":4971.9134782187666},551209.91997990757,499137.9859671485,null,null,null,null,null,null,null,null,5013]
["352–353",9160,10064,18.811,15.494999999999999,0.82372016373398538,{"$f":"[1]!AgePb76($F$15)","v":4963.3131089974204},541846.40927919431,493174.99095761328,null,null,null,null,null,null,null,null,5005]
["356–357",9200,10151,18.899000000000001,15.499000000000001,0.82009630139160805,{"$f":"[1]!AgePb76($F$16)","v":4957.0442560525998},538809.15826658695,488330.63304626144,null,null,null,null,null,null,null,null,5003]
["360–361",9390,10343,18.974,15.534000000000001,0.81869927268894283,{"$f":"[1]!AgePb76($F$17)","v":4954.6196923301477},527648.52953462698,479031.19910375593,null,null,null,null,null,null,null,null,5001]
["364–365",9710,10779,18.966000000000001,15.573,0.82110091743119262,{"$f":"[1]!AgePb76($F$18)","v":4958.7850689796251},510688.47260346293,460041.29037755122,null,null,null,null,null,null,null,null,4994]
["371–372",10098,11428,18.914999999999999,15.56,0.82262754427702889,{"$f":"[1]!AgePb76($F$19)","v":4961.4260991414158},491327.59943963314,434146.49099942384,null,null,null,null,null,null,null,null,4989]
["374–375",10157,11574,19.003,15.526999999999999,0.81708151344524549,{"$f":"[1]!AgePb76($F$20)","v":4951.8065447575327},487526.48860466015,427838.8236355221,null,null,null,null,null,null,null,null,4988]
["382–383",10313,11819,18.779,15.513999999999999,0.82613557697427975,{"$f":"[1]!AgePb76($F$21)","v":4967.4752254119967},481671.21355686965,420295.72936898191,null,null,null,null,null,null,null,null,4982]
["387–388",10410,11915,18.899000000000001,15.54,0.822265728345415,{"$f":"[1]!AgePb76($F$22)","v":4960.8006371300389},476541.84794716997,416349.19321276032,null,null,null,null,null,null,null,null,4981]
["392–393",10546,11969,18.818999999999999,15.522,0.82480471863542171,{"$f":"[1]!AgePb76($F$23)","v":4965.1835612055957},470812.01983743563,414836.95891098637,null,null,null,null,null,null,null,null,4980]
["397–398",10691,11996,18.637,15.454000000000001,0.82921070987819934,{"$f":"[1]!AgePb76($F$24)","v":4972.7554584623449},465134.73561522266,414534.46636064898,null,null,null,null,null,null,null,null,4980]
["401–402",10910,12169,18.763999999999999,15.487,0.82535706672351317,{"$f":"[1]!AgePb76($F$25)","v":4966.1351507815243},455191.12289473187,408097.22662351257,null,null,null,null,null,null,null,null,4979]
["406–407",11228,12562,18.831,15.492000000000001,0.82268599649514107,{"$f":"[1]!AgePb76($F$26)","v":4961.5271165644617},441888.77062383876,394963.15209078661,null,null,null,null,null,null,null,null,4978]
["410–411",11482,12888,18.774999999999999,15.493,0.82519307589880164,{"$f":"[1]!AgePb76($F$27)","v":4965.8526967914313},432490.2191945159,385308.24773366167,null,null,null,null,null,null,null,null,4978]
["414–415",11736,13193,18.731999999999999,15.483000000000001,0.82655349135169764,{"$f":"[1]!AgePb76($F$28)","v":4968.1940412013391},423329.41728027764,376578.03692877578,null,null,null,null,null,null,null,null,4977]
["418–419",11990,13465,18.638999999999999,15.497,0.83142872471699125,{"$f":"[1]!AgePb76($F$29)","v":4976.5510519462377},415058.46972028672,369591.61173013278,null,null,null,null,null,null,null,null,4977]
["424–425",12266,13830,18.716999999999999,15.419,0.82379654859218898,{"$f":"[1]!AgePb76($F$30)","v":4963.4449300340739},404650.65465792222,358889.72740665753,null,null,null,null,null,null,null,null,4977]
["428–429",12450,14040,18.661999999999999,15.516999999999999,0.8314757260743757,{"$f":"[1]!AgePb76($F$31)","v":4976.6313668651592},399729.42705744249,354460.92356589454,null,null,null,null,null,null,null,null,4976]
["434–435",12516,14148,18.727,15.484999999999999,0.8268809739947669,{"$f":"[1]!AgePb76($F$32)","v":4968.7570438152998},396992.41321630712,351198.54706073651,null,null,null,null,null,null,null,null,4976]
["439–440",12560,14297,18.75,15.516999999999999,0.82757333333333327,{"$f":"[1]!AgePb76($F$33)","v":4969.9465564121374},395696.38187994721,347621.63785494416,null,null,null,null,null,null,null,null,4974]
["443–444",13355,15132,18.873999999999999,15.516,0.8220832891808838,{"$f":"[1]!AgePb76($F$34)","v":4960.4851482042868},371432.80780264217,327814.24452843552,null,null,null,null,null,null,null,null,4974]
["448–449",14150,16137,18.821999999999999,15.493,0.82313250451599196,{"$f":"[1]!AgePb76($F$35)","v":4962.2985223335309},350692.4750765746,307510.59814919316,null,null,null,null,null,null,null,null,4973]
["466–467",15254,18220,18.536999999999999,15.446999999999999,0.83330636025246807,{"$f":"[1]!AgePb76($F$36)","v":4979.7557675322832},326455.73407186853,273312.61073173891,null,null,null,null,null,null,null,null,4973]
["479–480",17122,19796,18.544,15.468999999999999,0.83417817083692836,{"$f":"[1]!AgePb76($F$37)","v":4981.2411508259383},290926.36087057227,251628.66997504234,null,null,null,null,null,null,null,null,4972]
["490–491",18574,21338,18.687000000000001,15.481,0.82843688125434789,{"$f":"[1]!AgePb76($F$38)","v":4971.4286991086283},267655.25460905721,232984.7548555923,null,null,null,null,null,null,null,null,4971]
["497–498",19489,22395,18.59,15.462,0.83173749327595481,{"$f":"[1]!AgePb76($F$39)","v":4977.0785808372621},255378.85888641092,222240.61535330486,null,null,null,null,null,null,null,null,4971]
["529–530",22190,26064,18.809000000000001,15.505000000000001,0.82433941198362481,{"$f":"[1]!AgePb76($F$40)","v":4964.3814014242535},223721.55932511282,190468.89968632034,null,null,null,null,null,null,null,null,4971]
["109–110",7792,8485,18.888999999999999,15.558,0.82365397850600885,{"$f":"[1]!AgePb76($F$41)","v":4963.1988794461922},636960.84181804315,584937.99404197896,null,null,null,null,null,null,null,null,4970]
["129–130",8573,9591,18.823,15.535,0.82532008712745042,{"$f":"[1]!AgePb76($F$42)","v":4966.0714631936016},579268.8047583811,517784.53374972387,null,null,null,null,null,null,null,null,4970]
["179–180",11395,12314,19.218,15.617000000000001,0.81262358205848684,{"$f":"[1]!AgePb76($F$43)","v":4944.0238211797605},433876.59685649502,401496.16868440481,null,null,null,null,null,null,null,null,4969]
["206–207",12850,13797,18.977,15.536,0.81867523844654055,{"$f":"[1]!AgePb76($F$44)","v":4954.5779420688041},385570.26786527655,359105.4535093719,null,null,null,null,null,null,null,null,4969]
["232–233",13249,15248,18.831,15.57,0.82682810259678197,{"$f":"[1]!AgePb76($F$45)","v":4968.6661642490417},375021.97631889512,325856.91003731912,null,null,null,null,null,null,null,null,4969]
["239–240",14000,15644,18.675999999999998,15.518000000000001,0.83090597558363688,{"$f":"[1]!AgePb76($F$46)","v":4975.6574639352866},355404.10456680617,318055.32241979585,null,null,null,null,null,null,null,null,4969]
["246–247",14235,16040,18.754999999999999,15.497999999999999,0.82633964276193017,{"$f":"[1]!AgePb76($F$47)","v":4967.826268339174},348986.74171683699,309714.85463461187,null,null,null,null,null,null,null,null,4968]
["259–260",14745,16782,18.773,15.525,0.82698556437436743,{"$f":"[1]!AgePb76($F$48)","v":4968.9368038887878},336991.30579103343,296087.28422648006,null,null,null,null,null,null,null,null,4968]
["286–287",16548,18341,18.771999999999998,15.548,0.82825484764542945,{"$f":"[1]!AgePb76($F$49)","v":4971.1164040045678},300405.87406360696,271038.46049858612,null,null,null,null,null,null,null,null,4967]
["301–302",17110,19216,18.587,15.516999999999999,0.8348307957174369,{"$f":"[1]!AgePb76($F$50)","v":4982.3520081206607},291195.32484632736,259281.43256248234,null,null,null,null,null,null,null,null,4967]
["Average",{"$f":"AVERAGE(B3:B50)","v":11656.416666666666},{"$f":"AVERAGE(C3:C50)","v":13113.666666666666},null,null,null,{"$f":"AVERAGE(G3:G50)","v":4966.7829425063746},{"$f":"AVERAGE(H3:H50)","v":456448.32903850242},{"$f":"AVERAGE(I3:I50)","v":408945.32175250078},null,null,null,null,null,null,null,null,4966]
["Maximum",{"$f":"MAX(B3:B51)","v":22190},{"$f":"MAX(C3:C51)","v":26064},null,null,null,{"$f":"MAX(G3:G51)","v":4982.3520081206607},{"$f":"MAX(H3:H51)","v":636960.84181804315},{"$f":"MAX(I3:I51)","v":584937.99404197896},null,null,null,null,null,null,null,null,4966]
["Minimum",{"$f":"MIN(B3:B52)","v":7792},{"$f":"MIN(C3:C52)","v":8485},null,null,null,{"$f":"MIN(G3:G52)","v":4944.0238211797605},{"$f":"MIN(H3:H52)","v":223721.55932511282},{"$f":"MIN(I3:I52)","v":190468.89968632034},null,null,null,null,null,null,null,null,4966]
["Difference",{"$f":"(B52-ABS(B53))","v":14398},{"$f":"(C52-ABS(C53))","v":17579},null,null,null,{"$f":"(G52-ABS(G53))","v":38.328186940900196},{"$f":"(H52-ABS(H53))","v":413239.2824929303},{"$f":"(I52-ABS(I53))","v":394469.09435565863},null,null,null,null,null,null,null,null,4965]
[null,null,null,null,null,null,null,null,null,null,null,null,null,null,null,null,null,4964]
[null,null,null,null,null,null,null,null,null,null,null,null,null,null,null,null,null,4963]
[null,null,null,null,"207Pb/206Pb",null,null,null,null,null,null,null,null,null,null,null,null,4963]
["Table 2","206Pb/204Pb","207Pb/204Pb","207Pb/206Pb","Million Years",null,null,null,null,null,null,null,null,null,null,null,null,4963]
["Mean",18.640999999999998,15.515000000000001,{"$f":"(C59/B59)","v":0.83230513384475091},{"$f":"[1]!AgePb76($D$59)","v":4978.0478479173507},null,null,null,null,null,null,null,null,null,null,null,null,4962]
["Median",18.489999999999998,15.494999999999999,{"$f":"(C60/B60)","v":0.83802055164954037},{"$f":"[1]!AgePb76($D$60)","v":4987.7681674071464},null,null,null,null,null,null,null,null,null,null,null,null,4962]
["Mean",18.84,15.702,0.83343949044585985,{"$f":"[1]!AgePb76($D$61)","v":4979.9827004075942},null,null,null,null,null,null,null,null,null,null,null,null,4961]
["Median",18.890999999999998,15.723000000000001,0.83230109575988576,{"$f":"[1]!AgePb76($D$62)","v":4978.0409552207839},null,null,null,null,null,null,null,null,null,null,null,null,4961]
["Mean",18.95,15.548999999999999,0.82052770448548817,{"$f":"[1]!AgePb76($D$63)","v":4957.7920750711137},null,null,null,null,null,null,null,null,null,null,null,null,4960]
["Median",18.771999999999998,15.529,0.82724270189644156,{"$f":"[1]!AgePb76($D$64)","v":4969.3786448729643},null,null,null,null,null,null,null,null,null,null,null,null,4960]
["Mean",18.925000000000001,15.632999999999999,0.82605019815059433,{"$f":"[1]!AgePb76($D$65)","v":4967.3283256599689},null,null,null,null,null,null,null,null,null,null,null,null,4959]
["Median",17.981000000000002,15.555999999999999,0.86513542072187299,{"$f":"[1]!AgePb76($D$66)","v":5032.943241243639},null,null,null,null,null,null,null,null,null,null,null,null,4958]
["Mean",18.451000000000001,15.603999999999999,0.84569942008563215,{"$f":"[1]!AgePb76($D$67)","v":5000.7174498834656},null,null,null,null,null,null,null,null,null,null,null,null,4958]
["Median",18.419,15.602,0.84706010098268092,{"$f":"[1]!AgePb76($D$68)","v":5002.9990065837274},null,null,null,null,null,null,null,null,null,null,null,null,4957]
["Mean",18.596,15.593999999999999,0.83856743385674337,{"$f":"[1]!AgePb76($D$69)","v":4988.6945653506136},null,null,null,null,null,null,null,null,null,null,null,null,4957]
["Median",18.388000000000002,15.598000000000001,0.84827061126821834,{"$f":"[1]!AgePb76($D$70)","v":5005.0254911023358},null,null,null,null,null,null,null,null,null,null,null,null,4955]
["Mean",21.236000000000001,15.624000000000001,0.73573177622904506,{"$f":"[1]!AgePb76($D$71)","v":4802.1357591668502},null,null,null,null,null,null,null,null,null,null,null,null,4955]
["Median",20.815999999999999,15.653,0.75196963873943123,{"$f":"[1]!AgePb76($D$72)","v":4833.3759600310959},null,null,null,null,null,null,null,null,null,null,null,null,4952]
["Mean",16.672999999999998,14.92,0.89485995321777734,{"$f":"[1]!AgePb76($D$73)","v":5080.7707737415731},null,null,null,null,null,null,null,null,null,null,null,null,4951]
["Median",15.227,14.692,0.96486504235896764,{"$f":"[1]!AgePb76($D$74)","v":5187.0623471667714},null,null,null,null,null,null,null,null,null,null,null,null,4944]
["Mean",14.914,14.738,0.98819900764382462,{"$f":"[1]!AgePb76($D$75)","v":5220.6858284010777},null,null,null,null,null,null,null,null,null,null,null,null,4940]
["Median",14.417,14.755000000000001,1.0234445446348062,{"$f":"[1]!AgePb76($D$76)","v":5269.9141284855714}]
["Mean",12.6,13.901999999999999,1.1033333333333333,{"$f":"[1]!AgePb76($D$77)","v":5375.1701051226164}]
["Median",12.366,13.785,1.1147501213003397,{"$f":"[1]!AgePb76($D$78)","v":5389.5525017346099}]
["Mean",13.2,14.07,1.0659090909090909,{"$f":"[1]!AgePb76($D$79)","v":5326.8999232381657}]
["Median",13.115,14.045,1.0709111704155547,{"$f":"[1]!AgePb76($D$80)","v":5333.4542659156677}]
["Mean",15.683999999999999,14.618,0.93203264473348646,{"$f":"[1]!AgePb76($D$81)","v":5138.265548307726}]
["Median",15.986000000000001,14.548,0.91004629050419117,{"$f":"[1]!AgePb76($D$82)","v":5104.5597620213966}]
["Mean",16.805,15.428000000000001,0.91806010116036896,{"$f":"[1]!AgePb76($D$83)","v":5116.9441478933541}]
["Median",16.867000000000001,15.416,0.91397403213375228,{"$f":"[1]!AgePb76($D$84)","v":5110.643995198895}]
["Mean",19.263000000000002,15.61,0.81036183356694169,{"$f":"[1]!AgePb76($D$85)","v":4940.0578453230992}]
["Median",18.440000000000001,15.52,0.8416485900216919,{"$f":"[1]!AgePb76($D$86)","v":4993.9019611895128}]
["Mean",25.526,16.657,0.65255034082895869,{"$f":"[1]!AgePb76($D$87)","v":4629.6091934254064}]
["Median",22.719000000000001,16.225999999999999,0.71420397024516913,{"$f":"[1]!AgePb76($D$88)","v":4759.5643756457812}]
["Mean",17.265000000000001,14.733000000000001,0.85334491746307561,{"$f":"[1]!AgePb76($D$89)","v":5013.4869652385923}]
[null,null,null,"Average",{"$f":"AVERAGE(E59:E89)","v":5047.5733502570465}]
[null,null,null,"Maximum",{"$f":"MAX(E59:E90)","v":5389.5525017346099}]
[null,null,null,"Minimum",{"$f":"MIN(E59:E91)","v":4629.6091934254064}]
[null,null,null,"Difference",{"$f":"(E91-ABS(E92))","v":759.94330830920353}]

{"sheet":"Nd_Sm_20","index":20,"n_rows":76,"n_cols":11,"rows_kept":76,"cut":false,"hidden":false,"merged":[]}
["Rubidium","Table 1",null,null,null,null,null,null,null,null,"Neodymium_020.pdf"]
["Strontium","Initial","Today","Today","The Ratio","Half","Decay","2.303/Delta","Age","Age"]
["Dating","87Sr/86Sr","87Sr/86Sr","87Rb/86Sr","Plus One","Life","Constant","Constant","Years","Million Years"]
[null,0.71026,0.71072400000000002,0.1852,{"$f":"1+((C4-B4)/D4)","v":1.0025053995680346},48800000000,{"$f":"(0.693/F4)","v":1.4200819672131146E-11},{"$f":"(2.303/G4)","v":162173737373.7374},{"$f":"(LOG(E4))*(H4)","v":176237515.338341},{"$f":"(I4/1000000)","v":176.23751533834098}]
[null,0.71026,0.71062499999999995,0.1376,1.0026526162790694,48800000000,1.4200819672131146E-11,162173737373.7374,186579486.94954672,186.57948694954672]
[null,0.71026,0.71066399999999996,5.2499999999999998E-2,1.0076952380952373,48800000000,1.4200819672131146E-11,162173737373.7374,539909826.53227067,539.9098265322707]
[null,0.71026,0.71076899999999998,0.18679999999999999,1.0027248394004282,48800000000,1.4200819672131146E-11,162173737373.7374,191652604.88035965,191.65260488035966]
[null,0.71026,0.71074199999999998,0.19919999999999999,1.0024196787148594,48800000000,1.4200819672131146E-11,162173737373.7374,170214927.13272917,170.21492713272917]
[null,0.71026,0.71077000000000001,6.4299999999999996E-2,1.0079315707620531,48800000000,1.4200819672131146E-11,162173737373.7374,556425963.04708409,556.42596304708411]
[null,0.71026,0.71054799999999996,0.1024,1.0028124999999997,48800000000,1.4200819672131146E-11,162173737373.7374,197809595.8583838,197.8095958583838]
[null,0.71026,0.71064899999999998,6.5000000000000002E-2,1.005984615384615,48800000000,1.4200819672131146E-11,162173737373.7374,420247141.00269252,420.2471410026925]
[null,0.71026,0.71067199999999997,0.15310000000000001,1.002691051600261,48800000000,1.4200819672131146E-11,162173737373.7374,189279317.67821097,189.27931767821099]
[null,0.71026,0.71073500000000001,0.08,1.0059374999999999,48800000000,1.4200819672131146E-11,162173737373.7374,416948413.74855852,416.94841374855849]
[null,0.71026,0.71058600000000005,0.1153,1.0028274067649614,48800000000,1.4200819672131146E-11,162173737373.7374,198856544.2496841,198.85654424968411]
[null,0.71026,0.17074300000000001,0.19159999999999999,-1.8158507306889353,48800000000,1.4200819672131146E-11,162173737373.7374,{"$error":"#NUM!"}]
[null,0.71026,0.71118000000000003,6.1899999999999997E-2,1.0148626817447501,48800000000,1.4200819672131146E-11,162173737373.7374,1039093037.3922251,1039.0930373922251]
[null,0.71026,0.71086700000000003,0.219,1.002771689497717,48800000000,1.4200819672131146E-11,162173737373.7374,194943267.93175438,194.94326793175438]
[null,0.71026,0.71093899999999999,5.4300000000000001E-2,1.0125046040515651,48800000000,1.4200819672131146E-11,162173737373.7374,875252748.96130025,875.2527489613002]
[null,0.71026,0.710843,0.19819999999999999,1.002941473259334,48800000000,1.4200819672131146E-11,162173737373.7374,206867273.2215381,206.86727322153808]
[null,0.71026,0.711202,0.35670000000000002,{"$f":"1+((C20-B20)/D20)","v":1.0026408746846089},48800000000,{"$f":"(0.693/F20)","v":1.4200819672131146E-11},{"$f":"(2.303/G20)","v":162173737373.7374},{"$f":"(LOG(E20))*(H20)","v":185754695.85233936},{"$f":"(I20/1000000)","v":185.75469585233935}]
[null,0.71026,0.71236900000000003,4.4900000000000002E-2,1.0469710467706019,48800000000,1.4200819672131146E-11,162173737373.7374,3232880220.0671382,3232.880220067138]
[null,0.71026,0.71072999999999997,4.5100000000000001E-2,1.0104212860310415,48800000000,1.4200819672131146E-11,162173737373.7374,730185096.34237921,730.18509634237921]
[null,0.71026,0.71097100000000002,0.1898,1.0037460484720759,48800000000,1.4200819672131146E-11,162173737373.7374,263345591.20673963,263.34559120673964]
[null,0.71026,0.710789,7.6999999999999999E-2,1.0068701298701299,48800000000,1.4200819672131146E-11,162173737373.7374,482216655.61267567,482.21665561267565]
[null,0.71026,0.71147300000000002,0.48110000000000003,1.0025213053419249,48800000000,1.4200819672131146E-11,162173737373.7374,177354968.87764075,177.35496887764074]
[null,0.71026,0.71131999999999995,4.1099999999999998E-2,1.0257907542579063,48800000000,1.4200819672131146E-11,162173737373.7374,1793443736.6551158,1793.4437366551158]
[null,0.71026,0.71082999999999996,0.2029,1.0028092656481022,48800000000,1.4200819672131146E-11,162173737373.7374,197582435.22674036,197.58243522674036]
[null,0.71026,0.71143999999999996,7.2999999999999995E-2,1.0161643835616432,48800000000,1.4200819672131146E-11,162173737373.7374,1129372858.9485292,1129.3728589485293]
[null,0.71026,7.1109900000000004E-2,0.28160000000000002,-1.2697091619318179,48800000000,1.4200819672131146E-11,162173737373.7374,{"$error":"#NUM!"}]
[null,0.71026,0.71152899999999997,0.48199999999999998,1.0026327800829875,48800000000,1.4200819672131146E-11,162173737373.7374,185186083.0103758,185.1860830103758]
[null,0.71026,0.71128800000000003,6.3899999999999998E-2,1.0160876369327079,48800000000,1.4200819672131146E-11,162173737373.7374,1124053288.3513963,1124.0532883513963]
[null,null,null,null,null,null,null,null,"Average",{"$f":"AVERAGE(J4:J31)","v":579.29589592599041}]
[null,null,null,null,null,null,null,null,"Maximum",{"$f":"MAX(J4:J32)","v":3232.880220067138}]
[null,null,null,null,null,null,null,null,"Minimum",{"$f":"MIN(J4:J33)","v":170.21492713272917}]
[null,null,null,null,null,null,null,null,"Difference",{"$f":"(J33-J34)","v":3062.6652929344086}]
[]
[]
["Rubidium","Table 2",null,null,null,null,null,null,null,null,"Neodymium_020.pdf"]
["Strontium","Initial","Today","Today","The Ratio","Half","Decay","2.303/Delta","Age","Age"]
["Dating","87Sr/86Sr","87Sr/86Sr","87Rb/86Sr","Plus One","Life","Constant","Constant","Years","Million Years"]
[null,0.71052000000000004,0.71091499999999996,0.14729999999999999,{"$f":"1+((C41-B41)/D41)","v":1.0026816021724367},48800000000,{"$f":"(0.693/F41)","v":1.4200819672131146E-11},{"$f":"(2.303/G41)","v":162173737373.7374},{"$f":"(LOG(E41))*(H41)","v":188615566.57472268},{"$f":"(I41/1000000)","v":188.61556657472266}]
[null,0.71052000000000004,0.71121199999999996,0.3014,1.0022959522229593,48800000000,1.4200819672131146E-11,162173737373.7374,161521225.01241988,161.52122501241988]
[null,0.71052000000000004,0.71091599999999999,6.3700000000000007E-2,1.006216640502354,48800000000,1.4200819672131146E-11,162173737373.7374,436489848.37834448,436.4898483783445]
[null,0.71052000000000004,0.71114100000000002,0.24460000000000001,1.0025388389206868,48800000000,1.4200819672131146E-11,162173737373.7374,178586762.62865818,178.58676262865816]
[null,0.71052000000000004,0.71067199999999997,5.1299999999999998E-2,1.0029629629629615,48800000000,1.4200819672131146E-11,162173737373.7374,208376362.7984601,208.37636279846009]
[null,0.71052000000000004,0.71071899999999999,5.74E-2,1.0034668989547029,48800000000,1.4200819672131146E-11,162173737373.7374,243755418.41026136,243.75541841026137]
[null,0.71052000000000004,0.71092900000000003,0.15090000000000001,1.0027104042412194,48800000000,1.4200819672131146E-11,162173737373.7374,190638675.36027816,190.63867536027817]
[null,0.71052000000000004,0.71079700000000001,0.26469999999999999,1.0010464676992821,48800000000,1.4200819672131146E-11,162173737373.7374,73665395.669678077,73.665395669678077]
[null,0.71052000000000004,0.71070299999999997,6.3899999999999998E-2,{"$f":"1+((C49-B49)/D49)","v":1.0028638497652571},48800000000,{"$f":"(0.693/F49)","v":1.4200819672131146E-11},{"$f":"(2.303/G49)","v":162173737373.7374},{"$f":"(LOG(E49))*(H49)","v":201415983.79386932},{"$f":"(I49/1000000)","v":201.41598379386932}]
[null,0.71052000000000004,0.71226500000000004,0.68700000000000006,1.0025400291120814,48800000000,1.4200819672131146E-11,162173737373.7374,178670376.85549513,178.67037685549514]
[null,0.71052000000000004,0.71153299999999997,0.1018,1.0099508840864433,48800000000,1.4200819672131146E-11,162173737373.7374,697388213.31191981,697.3882133119198]
[null,0.71052000000000004,0.71113400000000004,0.23880000000000001,1.002571189279732,48800000000,1.4200819672131146E-11,162173737373.7374,180859429.22339794,180.85942922339794]
[null,0.71052000000000004,0.71152800000000005,0.1469,1.0068618107556162,48800000000,1.4200819672131146E-11,162173737373.7374,481634726.24330389,481.63472624330387]
[null,0.71052000000000004,0.71146399999999999,0.3392,1.0027830188679243,48800000000,1.4200819672131146E-11,162173737373.7374,195738998.583195,195.73899858319501]
[null,0.71052000000000004,0.71291800000000005,0.8901,1.0026940793169308,48800000000,1.4200819672131146E-11,162173737373.7374,189491990.63728693,189.49199063728693]
[null,0.71052000000000004,0.71199699999999999,0.1804,1.0081873614190684,48800000000,1.4200819672131146E-11,162173737373.7374,574297560.11238992,574.29756011238987]
[null,0.71052000000000004,0.71086800000000006,0.13639999999999999,1.002551319648094,48800000000,1.4200819672131146E-11,162173737373.7374,179463563.20127502,179.46356320127501]
[null,0.71052000000000004,0.71202200000000004,0.53269999999999995,1.0028195982729491,48800000000,1.4200819672131146E-11,162173737373.7374,198308131.54989055,198.30813154989056]
[null,0.71052000000000004,0.71101499999999995,0.18579999999999999,1.0026641550053816,48800000000,1.4200819672131146E-11,162173737373.7374,187390018.11559078,187.39001811559078]
[null,0.71052000000000004,0.712449,0.75560000000000005,1.0025529380624669,48800000000,1.4200819672131146E-11,162173737373.7374,179577259.83325604,179.57725983325602]
[null,0.71052000000000004,0.71076600000000001,0.15670000000000001,1.001569878749202,48800000000,1.4200819672131146E-11,162173737373.7374,110481681.44049707,110.48168144049707]
[null,0.71052000000000004,0.71118599999999998,0.2646,1.0025170068027209,48800000000,1.4200819672131146E-11,162173737373.7374,177052978.53921717,177.05297853921718]
[null,0.71052000000000004,0.71089599999999997,9.7000000000000003E-2,1.0038762886597932,48800000000,1.4200819672131146E-11,162173737373.7374,272483731.62808084,272.48373162808082]
[null,0.71052000000000004,0.71133500000000005,0.31869999999999998,1.002557263884531,48800000000,1.4200819672131146E-11,162173737373.7374,179881156.01052716,179.88115601052715]
[null,0.71052000000000004,0.71165900000000004,0.47170000000000001,1.0024146703413186,48800000000,1.4200819672131146E-11,162173737373.7374,169863032.16982979,169.86303216982978]
[null,0.71052000000000004,0.71121299999999998,0.107,1.0064766355140182,48800000000,1.4200819672131146E-11,162173737373.7374,454686113.44372517,454.68611344372516]
[null,0.71052000000000004,0.71122200000000002,0.29149999999999998,1.0024082332761577,48800000000,1.4200819672131146E-11,162173737373.7374,169410752.85813561,169.41075285813562]
[null,0.71052000000000004,0.711059,0.29530000000000001,1.0018252624449711,48800000000,1.4200819672131146E-11,162173737373.7374,128438168.87965229,128.4381688796523]
[null,0.71052000000000004,0.71146600000000004,0.37309999999999999,1.0025355132672207,48800000000,1.4200819672131146E-11,162173737373.7374,178353125.77760163,178.35312577760163]
[null,null,null,null,null,null,null,null,"Average",{"$f":"AVERAGE(J41:J69)","v":240.22538782899855}]
[null,"Dating","87Rb/86Sr","87Rb/86Sr",null,null,null,null,"Maximum",{"$f":"MAX(J41:J70)","v":697.3882133119198}]
[null,"Summary","Table 1","Table 2",null,null,null,null,"Minimum",{"$f":"MIN(J41:J71)","v":73.665395669678077}]
[null,"Average",579.29589592599041,240.22538782899855,null,null,null,null,"Difference",{"$f":"(J71-J72)","v":623.72281764224169}]
[null,"Maximum",3232.880220067138,697.3882133119198]
[null,"Minimum",170.21492713272917,73.665395669678077]
[null,"Difference",3062.6652929344086,623.72281764224169]