{"text_format":"1","workbook":"xlsx","n_sheets":22,"sheets":["Index","Iso_Plot_001","Iso_Plot_002","Iso_Plot_003","Iso_Plot_004","Iso_Plot_005","Iso_Plot_006","Iso_Plot_007","Iso_Plot_008","Iso_Plot_009","Iso_Plot_010","Iso_Plot_011","Iso_Plot_012","PlotDat4","Iso_Plot_013","Iso_Plot_014","Iso_Plot_015","Iso_Plot_016","Iso_Plot_017","Iso_Plot_018","Iso_Plot_019","Iso_Plot_020"],"not_rendered":{"charts":0,"images":0,"macros":1,"external_links":1,"defined_names":16,"comments":0,"pivot_tables":0},"unopened":[],"bounds":{"document_bytes":16777216,"sheet_cells":100000,"rows_first":2000,"rows_last":500,"rows_between":2000,"halvings":0,"cell_chars":16384,"cell_head_chars":4096},"cells_cut":0,"cells_raw":0,"read":"whole","date_system":"1900"}

{"sheet":"Index","index":0,"n_rows":48,"n_cols":17,"rows_kept":48,"cut":false,"hidden":false,"merged":[]}
["Number","Magazine","Title","Excel Workbook","Adobe File","Method","Model Age","MAXIMUM","MINIMUM","DIFFERENCE","AVERAGE","4600 To 4999","5000 To 5999 ","6,000 To 9999","10,000 To 19,999","Over 19,999","Total"]
[1,"Meteoritics & Planetary Science, 2004, Volume 39, Number 12, Pages 2033 - 2041","Ion microprobe U-Th-Pb dating","Iso_Plot_001",{"$f":"(\"C:\\Essays\\Geo_Dating\\Iso_Plot_Dates\\\" & D2 & \".pdf\")","v":"C:\\Essays\\Geo_Dating\\Iso_Plot_Dates\\Iso_Plot_001.pdf"},"206Pb/238U",null,11213.922599417407,1841.7145816609286,9372.2080177564785,5179.5635617452608,3,1,5,1,null,{"$f":"SUM(L2:P2)","v":10}]
[2,"Meteoritics & Planetary Science, 2004, Volume 39, Number 12, Pages 2033 - 2041","Ion microprobe U-Th-Pb dating","Iso_Plot_001",{"$f":"(\"C:\\Essays\\Geo_Dating\\Iso_Plot_Dates\\\" & D3 & \".pdf\")","v":"C:\\Essays\\Geo_Dating\\Iso_Plot_Dates\\Iso_Plot_001.pdf"},"208Pb/232Th",null,23837.246225781644,2963.3279752879057,20873.918250493738,10861.720258601936,null,2,4,10,1,17]
[3,"Meteoritics & Planetary Science, 2004, Volume 39, Number 12, Pages 2033 - 2041","Ion microprobe U-Th-Pb dating","Iso_Plot_001","C:\\Essays\\Geo_Dating\\Iso_Plot_Dates\\Iso_Plot_001.pdf","Pb-207/Pb-206",null,5347.7404832319608,3897.3762861058512,1450.3641971261095,4768.1174449096015,11,5,null,null,null,16]
[4,"Meteoritics & Planetary Science, 2007, Volume 42, Numbers 7/8, Pages 1337 - 1350","Pb-Isotopic Dates From Estacado","Iso_Plot_002","C:\\Essays\\Geo_Dating\\Iso_Plot_Dates\\Iso_Plot_002.pdf","Pb-207/Pb-206",null,5022.6890919499165,4561.8796592333283,460.80943271658816,4769.1043828136881,25,2,null,null,null,27]
[5,"Meteoritics & Planetary Science, 2003, Volume 38, Number 11, Pages 1697 - 1703","Ion Microprobe U-Th-Pb Dating","Iso_Plot_003","C:\\Essays\\Geo_Dating\\Iso_Plot_Dates\\Iso_Plot_003.pdf","206Pb/238U",null,5650.4114611431041,2964.1180617876671,2686.293399355437,4299.4743081422666,1,3,null,null,null,4]
[6,"Meteoritics & Planetary Science, 2003, Volume 38, Number 11, Pages 1697 - 1703","Ion Microprobe U-Th-Pb Dating","Iso_Plot_003","C:\\Essays\\Geo_Dating\\Iso_Plot_Dates\\Iso_Plot_003.pdf","208Pb/232Th",null,6110.3904103090154,2894.8767395824434,3215.5136707265719,4172.8972480363054,null,2,1,null,null,3]
[7,"Journal Of Petrology, 1998, Volume 39, Number 7, Pages 1285-1306","Tracing the Indian Ocean Mantle ","Iso_Plot_004","C:\\Essays\\Geo_Dating\\Iso_Plot_Dates\\Iso_Plot_004.pdf","206Pb/238U",100,13307.51267603409,758.39040124292455,12549.122274791165,5013.734024229183,4,5,17,4,null,{"$f":"SUM(L8:P8)","v":30}]
[7,"Journal Of Petrology, 1998, Volume 39, Number 7, Pages 1285-1306","Tracing the Indian Ocean Mantle ","Iso_Plot_004","C:\\Essays\\Geo_Dating\\Iso_Plot_Dates\\Iso_Plot_004.pdf","208Pb/232Th",100,82560.935113286818,1139.2396642810857,81421.695449005725,16890.426783320599,null,1,10,14,20,45]
[7,"Journal Of Petrology, 1998, Volume 39, Number 7, Pages 1285-1306","Tracing the Indian Ocean Mantle ","Iso_Plot_004","C:\\Essays\\Geo_Dating\\Iso_Plot_Dates\\Iso_Plot_004.pdf","207Pb/206Pb",100,5073.7779586421702,4939.7657306015908,134.01222804057943,4999.6611543741865,33,26,null,null,null,59]
[8,"Journal Of Petrology, 1998, Volume 39, Number 4, Pages 711-748","Petrogenesis of the Flood Basalts","Iso_Plot_005",{"$f":"(\"C:\\Essays\\Geo_Dating\\Iso_Plot_Dates\\\" & D11 & \".pdf\")","v":"C:\\Essays\\Geo_Dating\\Iso_Plot_Dates\\Iso_Plot_005.pdf"},"207Pb/206Pb",30,5019.5896247102164,4993.5617181034459,26.027906606770557,5006.8865068523901,4,26,null,null,null,30]
[8,"Journal Of Petrology, 1998, Volume 39, Number 4, Pages 711-748","Petrogenesis of the Flood Basalts","Iso_Plot_005","C:\\Essays\\Geo_Dating\\Iso_Plot_Dates\\Iso_Plot_005.pdf","206Pb/238U",30,23366.409003307977,3335.3667608445003,20031.042242463478,5571.9000669777261,5,12,3,null,1,21]
[8,"Journal Of Petrology, 1998, Volume 39, Number 4, Pages 711-748","Petrogenesis of the Flood Basalts","Iso_Plot_005","C:\\Essays\\Geo_Dating\\Iso_Plot_Dates\\Iso_Plot_005.pdf","207Pb/235U",30,8496.0278312916835,4453.661875822776,4042.3659554689075,5097.2509260097177,12,15,1,null,null,28]
[8,"Journal Of Petrology, 1998, Volume 39, Number 4, Pages 711-748","Petrogenesis of the Flood Basalts","Iso_Plot_005","C:\\Essays\\Geo_Dating\\Iso_Plot_Dates\\Iso_Plot_005.pdf","208Pb/232Th",30,44378.163257484106,2649.904308803129,41728.258948680974,7654.2259906507697,null,6,18,null,1,25]
[9,"Journal Of Petrology, 2004, Volume 45, Number 3, Pages 555-607","Nature of the Source Regions","Iso_Plot_006","C:\\Essays\\Geo_Dating\\Iso_Plot_Dates\\Iso_Plot_006.pdf","208Pb/232Th",20,88294.26279754343,4825.639072074915,83468.623725468511,24257.791817225319,1,null,3,5,4,13]
[9,"Journal Of Petrology, 2004, Volume 45, Number 3, Pages 555-607","Nature of the Source Regions","Iso_Plot_006",{"$f":"(\"C:\\Essays\\Geo_Dating\\Iso_Plot_Dates\\\" & D16 & \".pdf\")","v":"C:\\Essays\\Geo_Dating\\Iso_Plot_Dates\\Iso_Plot_006.pdf"},"206Pb/238U",20,33751.196897701564,4085.8676092720625,29665.329288429501,11984.576351198619,null,2,6,2,2,12]
[9,"Journal Of Petrology, 2004, Volume 45, Number 3, Pages 555-607","Nature of the Source Regions","Iso_Plot_006","C:\\Essays\\Geo_Dating\\Iso_Plot_Dates\\Iso_Plot_006.pdf","207Pb/235U",20,7470.608358384141,238.25719157513799,7232.3511668090032,2959.5971881363339,null,4,2,null,null,6]
[9,"Journal Of Petrology, 2004, Volume 45, Number 3, Pages 555-607","Nature of the Source Regions","Iso_Plot_006","C:\\Essays\\Geo_Dating\\Iso_Plot_Dates\\Iso_Plot_006.pdf","207Pb/206Pb ",20,4993.9836483959552,4919.2394511831753,74.744197212779909,4981.017121179957,13,null,null,null,null,13]
[10,"Journal Of Petrology, 2007, Volume 48, Number 4, Pages 661-692","Generation of Palaeocene Adakitic Andesites","Iso_Plot_007","C:\\Essays\\Geo_Dating\\Iso_Plot_Dates\\Iso_Plot_007.pdf","207Pb/206Pb",60,5023.8316215120558,5020.4630797822874,3.3685417297683671,5022.3749607697573,null,6,null,null,null,6]
[10,"Journal Of Petrology, 2007, Volume 48, Number 4, Pages 661-692","Generation of Palaeocene Adakitic Andesites","Iso_Plot_007",{"$f":"(\"C:\\Essays\\Geo_Dating\\Iso_Plot_Dates\\\" & D20 & \".pdf\")","v":"C:\\Essays\\Geo_Dating\\Iso_Plot_Dates\\Iso_Plot_007.pdf"},"208Pb/232Th",60,10517.854600530769,7800.0862093950082,2717.7683911357608,8941.3550605551027,null,null,4,2,null,6]
[10,"Journal Of Petrology, 2007, Volume 48, Number 4, Pages 661-692","Generation of Palaeocene Adakitic Andesites","Iso_Plot_007","C:\\Essays\\Geo_Dating\\Iso_Plot_Dates\\Iso_Plot_007.pdf","206Pb/238U",60,9668.8609981663358,7402.7899491442449,2266.0710490220908,8753.5529211367957,null,null,6,null,null,6]
[10,"Journal Of Petrology, 2007, Volume 48, Number 4, Pages 661-692","Generation of Palaeocene Adakitic Andesites","Iso_Plot_007","C:\\Essays\\Geo_Dating\\Iso_Plot_Dates\\Iso_Plot_007.pdf","207Pb/235U",60,6052.0886287535659,5640.589146843733,411.49948190983287,5908.2447374652511,null,3,3,null,null,6]
[11,"Precambrian Research, 2002, Volume 117, Pages 119 - 143","207Pb–206Pb And 40Ar–39Ar Ages","Iso_Plot_008","C:\\Essays\\Geo_Dating\\Iso_Plot_Dates\\Iso_Plot_008.pdf","Pb-207/Pb-206",null,5049.0063856620482,1848.2136426313393,3200.7927430307091,3768.956499772401,3,4,null,null,null,7]
[12,"Journal Of Petrology, 2005, Volume 46, Number 4, Pages 829-858","Evidence for a Widespread Tethyan ","Iso_Plot_009","C:\\Essays\\Geo_Dating\\Iso_Plot_Dates\\Iso_Plot_009.pdf","206Pb/238U",140,15747.081483703845,1063.3978084584596,14683.683675245386,7014.1402514935289,3,15,24,13,null,55]
[12,"Journal Of Petrology, 2005, Volume 46, Number 4, Pages 829-858","Evidence for a Widespread Tethyan ","Iso_Plot_009",{"$f":"(\"C:\\Essays\\Geo_Dating\\Iso_Plot_Dates\\\" & D25 & \".pdf\")","v":"C:\\Essays\\Geo_Dating\\Iso_Plot_Dates\\Iso_Plot_009.pdf"},"208Pb/232Th",140,58795.283383648006,4869.1825744716907,53926.100809176314,22675.358886206515,1,2,5,30,32,70]
[12,"Journal Of Petrology, 2005, Volume 46, Number 4, Pages 829-858","Evidence for a Widespread Tethyan ","Iso_Plot_009","C:\\Essays\\Geo_Dating\\Iso_Plot_Dates\\Iso_Plot_009.pdf","207Pb/206Pb",140,5235.6510568162757,4821.6826121966369,413.96844461963883,4998.7408020193316,27,43,null,null,null,70]
[13,"Precambrian Research, 1999, Volume 95, Pages 167 - 185","U–Pb And Pb–Pb Isotopic Studies","Iso_Plot_010","C:\\Essays\\Geo_Dating\\Iso_Plot_Dates\\Iso_Plot_010.pdf","207Pb/206Pb",55,5009.6645358040096,4967.561867504076,42.102668299933612,4974.6414364296288,18,1,null,null,null,19]
[14,"Precambrian Research, 1988, Volume 38, Pages 147 - 164","New U-Pb Zircon Chronology","Iso_Plot_011","C:\\Essays\\Geo_Dating\\Iso_Plot_Dates\\Iso_Plot_011.pdf","207Pb/206Pb",120,5064.7296929073418,4996.2043607410751,68.525332166266708,5023.797204077965,1,8,null,null,null,9]
[15,"Mereoritics And PIanetary Science, 2000, Volume 35, Pages 341 - 346","Uranium-Thorium-Lead Dating","Iso_Plot_012","C:\\Essays\\Geo_Dating\\Iso_Plot_Dates\\Iso_Plot_012.pdf","Pb-207/Pb-206",null,5122.9908530769999,4900.2005291064015,222.79032397059837,5012.0090716162194,7,6,null,null,null,13]
[16,"Journal Of Petrology, 2001, Volume 42, Number 4, Pages 731-763","Garnet Granulite Xenoliths","Iso_Plot_013","C:\\Essays\\Geo_Dating\\Iso_Plot_Dates\\Iso_Plot_013.pdf","207Pb/206Pb",1000,4820.3673505046909,2167.578619838695,2652.7887306659959,4028.8150143144539,1,null,null,null,null,1]
[16,"Journal Of Petrology, 2001, Volume 42, Number 4, Pages 731-763","Garnet Granulite Xenoliths","Iso_Plot_013",{"$f":"(\"C:\\Essays\\Geo_Dating\\Iso_Plot_Dates\\\" & D31 & \".pdf\")","v":"C:\\Essays\\Geo_Dating\\Iso_Plot_Dates\\Iso_Plot_013.pdf"},"206Pb/238U",1000,40059.358700408397,1607.8004163983624,38451.558284010032,15308.429074733082,1,2,6,18,10,37]
[17,"Chemical Geology, 2009, Volume 259, Pages 143 - 151","Pb–Pb Dating Of Chondrules","Iso_Plot_014","C:\\Essays\\Geo_Dating\\Iso_Plot_Dates\\Iso_Plot_014.pdf","Pb-207/Pb-206",null,5206.1082131413204,4577.403488557834,628.7047245834865,4910.8195806415715,26,15,null,null,null,{"$f":"SUM(L32:P32)","v":41}]
[18,"Geochimica et Cosmochimica Acta, 2007, Volume 71, Pages 1583 - 1604","Pb–Pb Dating Constraints","Iso_Plot_015",{"$f":"(\"C:\\Essays\\Geo_Dating\\Iso_Plot_Dates\\\" & D33 & \".pdf\")","v":"C:\\Essays\\Geo_Dating\\Iso_Plot_Dates\\Iso_Plot_015.pdf"},"Pb-207/Pb-206",null,5378.6066251835773,4690.483525647478,688.12309953609929,5120.8158071345997,8,17,null,null,null,25]
[19,"Geochimica et Cosmochimica Acta, 2007, Volume 71, Pages 1583 - 1604","Pb–Pb Dating Constraints","Iso_Plot_015",{"$f":"(\"C:\\Essays\\Geo_Dating\\Iso_Plot_Dates\\\" & D34 & \".pdf\")","v":"C:\\Essays\\Geo_Dating\\Iso_Plot_Dates\\Iso_Plot_015.pdf"},"Pb-207/Pb-206",null,5359.0455089547158,4637.2434877831947,721.80202117152112,4923.3170788007583,22,9,null,null,null,31]
[20,"Geochimica et Cosmochimica Acta, 2007, Volume 71, Pages 1583 - 1604","Pb–Pb Dating Constraints","Iso_Plot_015",{"$f":"(\"C:\\Essays\\Geo_Dating\\Iso_Plot_Dates\\\" & D35 & \".pdf\")","v":"C:\\Essays\\Geo_Dating\\Iso_Plot_Dates\\Iso_Plot_015.pdf"},"Pb-207/Pb-206",null,5022.6560749390501,4559.2943334728016,463.36174146624853,4775.4292594432927,11,4,null,null,null,15]
[21,"Geochimica et Cosmochimica Acta, 2007, Volume 71, Pages 1583 - 1604","Pb–Pb Dating Constraints","Iso_Plot_015",{"$f":"(\"C:\\Essays\\Geo_Dating\\Iso_Plot_Dates\\\" & D36 & \".pdf\")","v":"C:\\Essays\\Geo_Dating\\Iso_Plot_Dates\\Iso_Plot_015.pdf"},"Pb-207/Pb-206",null,5132.6790456211038,4782.8606441512939,349.81840146980994,5028.1181765422725,5,9,null,null,null,14]
[22,"Geochimica et Cosmochimica Acta, 2007, Volume 71, Pages 1583 - 1604","Pb–Pb Dating Constraints","Iso_Plot_015",{"$f":"(\"C:\\Essays\\Geo_Dating\\Iso_Plot_Dates\\\" & D37 & \".pdf\")","v":"C:\\Essays\\Geo_Dating\\Iso_Plot_Dates\\Iso_Plot_015.pdf"},"Pb-207/Pb-206",null,5259.10031396664,4618.7658663478378,640.33444761880219,5024.1090635596911,6,11,null,null,null,17]
[23,"Journal Of Petrology, 1999, Volume 40, Number 9, Pages 1399-1424","Post-Collisional Potassic and Ultrapotassic ","Iso_Plot_016",{"$f":"(\"C:\\Essays\\Geo_Dating\\Iso_Plot_Dates\\\" & D38 & \".pdf\")","v":"C:\\Essays\\Geo_Dating\\Iso_Plot_Dates\\Iso_Plot_016.pdf"},"206Pb/238U",471,6943.9215303258161,2646.3590564598026,4297.5624738660135,4770.6334447626095,1,2,1,null,null,{"$f":"SUM(L38:P38)","v":4}]
[23,"Journal Of Petrology, 1999, Volume 40, Number 9, Pages 1399-1424","Post-Collisional Potassic and Ultrapotassic ","Iso_Plot_016",{"$f":"(\"C:\\Essays\\Geo_Dating\\Iso_Plot_Dates\\\" & D39 & \".pdf\")","v":"C:\\Essays\\Geo_Dating\\Iso_Plot_Dates\\Iso_Plot_016.pdf"},"208Pb/232Th",471,99274.745726908324,67704.35205267508,31570.393674233244,78807.622654827093,null,null,null,null,6,6]
[23,"Journal Of Petrology, 1999, Volume 40, Number 9, Pages 1399-1424","Post-Collisional Potassic and Ultrapotassic ","Iso_Plot_016","C:\\Essays\\Geo_Dating\\Iso_Plot_Dates\\Iso_Plot_016.pdf","207Pb/206Pb",471,5007.0979529838241,4988.2905167490944,18.807436234729721,4999.9394002569543,3,3,null,null,null,6]
[24,"Journal Of Petrology, 1997, Volume 38, Number 1, Pages 115-132","Continental Lithospheric Contribution to Alkaline","Iso_Plot_017","C:\\Essays\\Geo_Dating\\Iso_Plot_Dates\\Iso_Plot_017.pdf","207Pb/206Pb",72,4949.1991161944288,4887.9068484244926,61.292267769936188,4919.2213317248988,16,null,null,null,null,16]
[24,"Journal Of Petrology, 1997, Volume 38, Number 1, Pages 115-132","Continental Lithospheric Contribution to Alkaline","Iso_Plot_017",{"$f":"(\"C:\\Essays\\Geo_Dating\\Iso_Plot_Dates\\\" & D42 & \".pdf\")","v":"C:\\Essays\\Geo_Dating\\Iso_Plot_Dates\\Iso_Plot_017.pdf"},"208Pb/232Th",72,10083.593211694539,2616.3352435327629,7467.2579681617754,6126.3755476828674,null,3,7,1,null,11]
[24,"Journal Of Petrology, 1997, Volume 38, Number 1, Pages 115-132","Continental Lithospheric Contribution to Alkaline","Iso_Plot_017","C:\\Essays\\Geo_Dating\\Iso_Plot_Dates\\Iso_Plot_017.pdf","206Pb/238U",72,7742.9163671650122,2305.9148929757216,5437.0014741892901,4540.7390741746058,1,1,5,null,null,7]
[25,"Geochimica et Cosmochimica Acta, 2008, Volume 72, Pages 2067 - 2089","U–Th–Pb Dating Of Secondary Minerals","Iso_Plot_018","C:\\Essays\\Geo_Dating\\Iso_Plot_Dates\\Iso_Plot_018.pdf","Pb-207/Pb-206",null,8125.8564072258814,282.29178200205058,7843.5646252238312,3714.1924981094285,14,4,1,null,null,19]
[26,"Geochimica et Cosmochimica Acta, 2008, Volume 72, Pages 2067 - 2089","U–Th–Pb Dating Of Secondary Minerals","Iso_Plot_018",{"$f":"(\"C:\\Essays\\Geo_Dating\\Iso_Plot_Dates\\\" & D45 & \".pdf\")","v":"C:\\Essays\\Geo_Dating\\Iso_Plot_Dates\\Iso_Plot_018.pdf"},"206Pb/238U",null,31192.554504666758,0.57015762105945977,31191.984347045698,4890.6921675954,2,1,5,6,4,18]
[27,"Geochimica et Cosmochimica Acta, 2008, Volume 72, Pages 2067 - 2089","U–Th–Pb Dating Of Secondary Minerals","Iso_Plot_018","C:\\Essays\\Geo_Dating\\Iso_Plot_Dates\\Iso_Plot_018.pdf","208Pb/232Th",null,352962.19225740928,2.2689703734760536,352959.92328703578,9983.6420687878563,null,1,null,null,1,2]
[28,"Earth and Planetary Science Letters, 1983, Volume 62, Pages 132 - 146","40ar/39ar And U-Th-Pb Dating","Iso_Plot_019","C:\\Essays\\Geo_Dating\\Iso_Plot_Dates\\Iso_Plot_019.pdf","Pb-207/Pb-206",null,5370.9413083193722,4410,960.94130831937218,4948.4374959279794,3,10,null,null,null,13]
[29,"Geochimica et Cosmochimica Acta, 1976, Volume 40, Pages 635 - 643","Isotopic Lead Investigations","Iso_Plot_020","C:\\Essays\\Geo_Dating\\Iso_Plot_Dates\\Iso_Plot_020.pdf","Pb-207/Pb-206",null,5345.6182238447518,4637.576867235909,708.04135660884276,5125.8630225007064,8,19,null,null,null,27]

{"sheet":"Iso_Plot_001","index":1,"n_rows":65,"n_cols":16,"rows_kept":65,"cut":false,"hidden":false,"merged":[]}
["Sample","U-238/Pb-206","U-238/Pb-206","Table 2.","U-238","Error","Pb-207","Error","Pb-204","Error","Pb-204","Error","Th-232","Error","Th-232/Pb-208","Th-232/Pb-208"]
["Number","Ratio","Age",null,"Pb-206","Level","Pb-206","Level","Pb-206","Level","Pb-208","Level","Pb-208","Level","Ratio","Age"]
["LAFA01.01",0.21299999999999999,{"$f":"[1]!AgePb6U8(1/B3)","v":11213.922599417407},4.4000000000000004,0.21299999999999999,1.9E-2,0.79069999999999996,5.4000000000000003E-3,5.5300000000000002E-2,6.9999999999999999E-4,2.5899999999999999E-2,4.0000000000000002E-4,0.44400000000000001,3.5999999999999997E-2,0.44400000000000001,{"$f":"[1]!AgePb8Th2(1/O3)","v":23837.246225781644}]
["LAFA03.01",3.024,{"$f":"[1]!AgePb6U8(1/B4)","v":1841.7145816609286},3.4,3.024,0.17699999999999999,0.39689999999999998,9.1999999999999998E-3,2.7900000000000001E-2,1.2999999999999999E-3,1.7399999999999999E-2,8.9999999999999998E-4,6.3330000000000002,0.34399999999999997,6.3330000000000002,{"$f":"[1]!AgePb8Th2(1/O4)","v":2963.3279752879057}]
["LAFA04.01",1.147,{"$f":"[1]!AgePb6U8(1/B5)","v":4041.3968138559894},5.6,1.147,0.11600000000000001,0.65610000000000002,1.41E-2,5.2200000000000003E-2,2E-3,2.5399999999999999E-2,1.1000000000000001E-3,3.125,0.28699999999999998,3.125,{"$f":"[1]!AgePb8Th2(1/O5)","v":5611.5560707080249}]
["LAFA04.02",1.3620000000000001,{"$f":"[1]!AgePb6U8(1/B6)","v":3549.1024015977437},5,1.3620000000000001,0.13700000000000001,0.66390000000000005,1.4200000000000001E-2,5.4699999999999999E-2,2.0999999999999999E-3,2.5499999999999998E-2,1.1000000000000001E-3,3.202,0.29099999999999998,3.202,{"$f":"[1]!AgePb8Th2(1/O6)","v":5493.3802495863702}]
["LAFA04.03",1.179,{"$f":"[1]!AgePb6U8(1/B7)","v":3959.3839446075685},4.5999999999999996,1.179,8.5999999999999993E-2,0.68979999999999997,1.1900000000000001E-2,5.3800000000000001E-2,1.6999999999999999E-3,2.6200000000000001E-2,8.9999999999999998E-4,2.6629999999999998,0.17699999999999999,2.6629999999999998,{"$f":"[1]!AgePb8Th2(1/O7)","v":6444.2481448182343}]
["LAFA05.01",0.39900000000000002,{"$f":"[1]!AgePb6U8(1/B8)","v":8087.3589542344416},5.5,0.39900000000000002,3.2000000000000001E-2,0.79990000000000006,8.0000000000000002E-3,6.4399999999999999E-2,1.1999999999999999E-3,2.93E-2,5.9999999999999995E-4,0.99199999999999999,7.0999999999999994E-2,0.99199999999999999,{"$f":"[1]!AgePb8Th2(1/O8)","v":14091.386171999406}]
["LAFA08.01",2.6709999999999998,{"$f":"[1]!AgePb6U8(1/B9)","v":2050.0317188517233},3.5,2.6709999999999998,0.14000000000000001,0.45050000000000001,6.7999999999999996E-3,3.1899999999999998E-2,1E-3,0.02,5.9999999999999995E-4,5.8609999999999998,0.28100000000000003,5.8609999999999998,{"$f":"[1]!AgePb8Th2(1/O9)","v":3184.0922933696147}]
["LAFA09.01",0.878,{"$f":"[1]!AgePb6U8(1/B10)","v":4901.3122716073603},2.7,0.878,8.3000000000000004E-2,0.71260000000000001,9.9000000000000008E-3,4.58E-2,1.4E-3,2.47E-2,8.0000000000000004E-4,1.264,0.107,1.264,{"$f":"[1]!AgePb8Th2(1/O10)","v":11780.735009929676}]
["LAFA10.01",0.93200000000000005,{"$f":"[1]!AgePb6U8(1/B11)","v":4699.2954074899089},4.4000000000000004,0.93200000000000005,8.5999999999999993E-2,0.65059999999999996,1.1299999999999999E-2,3.9800000000000002E-2,1.4E-3,2.1399999999999999E-2,8.0000000000000004E-4,2.2000000000000002,0.183,2.2000000000000002,{"$f":"[1]!AgePb8Th2(1/O11)","v":7573.3895794120399}]
["Y-000593.1",0.42299999999999999,{"$f":"[1]!AgePb6U8(1/B12)","v":7820.4700663566446},4.7,0.42299999999999999,0.155,0.90290000000000004,0.25030000000000002,7.6799999999999993E-2,1.9599999999999999E-2,0.03,1.0999999999999999E-2,0.78300000000000003,0.33200000000000002,0.78300000000000003,{"$f":"[1]!AgePb8Th2(1/O12)","v":16633.045414296859}]
["Y-000593.2",1.0129999999999999,{"$f":"[1]!AgePb6U8(1/B13)","v":4426.8165762521076},3.1,1.0129999999999999,0.16900000000000001,0.72250000000000003,2.9000000000000001E-2,6.0199999999999997E-2,6.0000000000000001E-3,2.8799999999999999E-2,3.3999999999999998E-3,1.482,0.25,1.482,{"$f":"[1]!AgePb8Th2(1/O13)","v":10422.883474654278}]
["Y-000593.3-1",0.42399999999999999,{"$f":"[1]!AgePb6U8(1/B14)","v":7809.7768685896108},4.5,0.42399999999999999,9.0999999999999998E-2,1.0819000000000001,0.18720000000000001,0.10150000000000001,1.8200000000000001E-2,4.0099999999999997E-2,0.01,0.752,0.19900000000000001,0.752,{"$f":"[1]!AgePb8Th2(1/O14)","v":17095.03683772606}]
["Y-000593.3-2",0.93700000000000006,{"$f":"[1]!AgePb6U8(1/B15)","v":4681.4657931898382},3.3,0.93700000000000006,0.17299999999999999,0.84530000000000005,4.7600000000000003E-2,7.2499999999999995E-2,6.3E-3,3.0800000000000001E-2,3.2000000000000002E-3,1.3260000000000001,0.25900000000000001,1.3260000000000001,{"$f":"[1]!AgePb8Th2(1/O15)","v":11358.932033002564}]
["Y-000593.4",1.161,{"$f":"[1]!AgePb6U8(1/B16)","v":4005.0886369637037},3.6,1.161,0.16500000000000001,0.7097,3.3700000000000001E-2,5.9900000000000002E-2,7.4000000000000003E-3,2.6700000000000002E-2,3.5000000000000001E-3,1.85,0.26600000000000001,1.85,{"$f":"[1]!AgePb8Th2(1/O16)","v":8734.3780735790915}]
["Y-000593.5",1.8280000000000001,{"$f":"[1]!AgePb6U8(1/B17)","v":2812.8752619008415},2.7,1.8280000000000001,0.21199999999999999,0.63109999999999999,1.8700000000000001E-2,6.0400000000000002E-2,4.4999999999999997E-3,2.9499999999999998E-2,2.3E-3,2.411,0.35699999999999998,2.411,{"$f":"[1]!AgePb8Th2(1/O17)","v":7012.9136783724034}]
["Y-000749.1",0.59899999999999998,{"$f":"[1]!AgePb6U8(1/B18)","v":6329.554325340886},3,0.59899999999999998,0.25,0.78420000000000001,0.1017,6.6199999999999995E-2,6.7000000000000002E-3,3.1099999999999999E-2,4.1000000000000003E-3,0.84499999999999997,0.36899999999999999,0.84499999999999997,{"$f":"[1]!AgePb8Th2(1/O18)","v":15783.687298988449}]
["Y-000749.3",0.56499999999999995,{"$f":"[1]!AgePb6U8(1/B19)","v":6567.7058619037089},3.9,0.56499999999999995,0.17699999999999999,0.90920000000000001,9.9000000000000005E-2,8.7499999999999994E-2,7.9000000000000008E-3,3.61E-2,5.3E-3,0.91700000000000004,0.29099999999999998,0.91700000000000004,{"$f":"[1]!AgePb8Th2(1/O19)","v":14904.684604126925}]
["Y-000749.4",1.139,{"$f":"[1]!AgePb6U8(1/B20)","v":4062.4512208555902},2.9,1.139,0.14899999999999999,0.75290000000000001,3.4000000000000002E-2,5.8299999999999998E-2,7.0000000000000001E-3,2.5399999999999999E-2,3.2000000000000002E-3,1.4339999999999999,0.19,1.4339999999999999,{"$f":"[1]!AgePb8Th2(1/O20)","v":10693.64835549079}]
["Y-000749.5-1",0.73199999999999998,{"$f":"[1]!AgePb6U8(1/B21)","v":5551.9843684839261},3.5,0.73199999999999998,0.221,0.8569,8.5000000000000006E-2,6.6199999999999995E-2,5.8999999999999999E-3,2.9399999999999999E-2,5.0000000000000001E-3,1.137,0.376,1.137,{"$f":"[1]!AgePb8Th2(1/O21)","v":12754.113422306447}]
[null,"AVG",{"$f":"AVERAGE(C3:C21)","v":5179.5635617452608},null,null,null,null,null,null,null,null,null,null,null,"AVG",{"$f":"AVERAGE(P3:P21)","v":10861.720258601936}]
[null,"MAX",{"$f":"MAX(C3:C21)","v":11213.922599417407},null,null,null,null,null,null,null,null,null,null,null,"MAX",{"$f":"MAX(P3:P21)","v":23837.246225781644}]
["Meteoritics & Planetary Science","MIN",{"$f":"MIN(C3:C21)","v":1841.7145816609286},null,null,"Table 2.","Pb-207","Age",null,null,null,null,null,null,"MIN",{"$f":"MIN(P3:P21)","v":2963.3279752879057}]
["Volume 39, Number 12","STD DEV",{"$f":"STDEV(C3:C21)","v":2331.8866187013246},null,null,null,"Pb-206","GA",null,null,null,null,null,null,"STD DEV",{"$f":"STDEV(P3:P21)","v":5394.4544417210845}]
[" Pages 2033–2041 (2004)",null,null,null,null,"LAFA01.01",0.79069999999999996,4905.0764275160445,"Older Than The Earth"]
[null,null,null,null,null,"LAFA03.01",0.39689999999999998,3897.3762861058512]
[null,null,null,null,null,"LAFA04.01",0.65610000000000002,4637.441511139511]
[null,null,null,null,null,"LAFA04.02",0.66390000000000005,4654.4938902524564]
["Sample","U-238/Pb-206","Th-232/Pb-208","Pb-207/Pb-206",null,"LAFA04.03",0.68979999999999997,4709.6155248855548,"Older Than The Earth"]
["Number","Age","Age","Age",null,"LAFA05.01",0.79990000000000006,4921.558512424097,"Older Than The Earth"]
["LAFA01.01",11213.922599417407,23837.246225781644,4905.0764275160445,null,"LAFA08.01",0.45050000000000001,4086.8591742776007]
["LAFA03.01",1841.7145816609286,2963.3279752879057,3897.3762861058512,null,"LAFA09.01",0.71260000000000001,4756.3378339646415,"Older Than The Earth"]
["LAFA04.01",4041.3968138559894,5611.5560707080249,4637.441511139511,null,"LAFA10.01",0.65059999999999996,4625.2863119844369]
["LAFA04.02",3549.1024015977437,5493.3802495863702,4654.4938902524564,null,"Y-000593.1",0.90290000000000004,5093.4181378853982,"Older Than Solar System"]
["LAFA04.03",3959.3839446075685,6444.2481448182343,4709.6155248855548,null,"Y-000593.2",0.72250000000000003,4776.1300507919141,"Older Than The Earth"]
["LAFA05.01",8087.3589542344416,14091.386171999406,4921.558512424097,null,"Y-000593.3-1",1.0819000000000001,5347.7404832319608,"Older Than Solar System"]
["LAFA08.01",2050.0317188517233,3184.0922933696147,4086.8591742776007,null,"Y-000593.3-2",0.84530000000000005,5000.0469716211801,"Older Than Solar System"]
["LAFA09.01",4901.3122716073603,11780.735009929676,4756.3378339646415,null,"Y-000593.4",0.7097,4750.4844604197106,"Older Than The Earth"]
["LAFA10.01",4699.2954074899089,7573.3895794120399,4625.2863119844369,null,"Y-000593.5",0.63109999999999999,4581.2853720382009]
["Y-000593.1",7820.4700663566446,16633.045414296859,5093.4181378853982,null,"Y-000749.1",0.78420000000000001,4893.3079370637861,"Older Than The Earth"]
["Y-000593.2",4426.8165762521076,10422.883474654278,4776.1300507919141,null,"Y-000749.3",0.90920000000000001,5103.2451791012936,"Older Than Solar System"]
["Y-000593.3-1",7809.7768685896108,17095.03683772606,5347.7404832319608,null,"Y-000749.4",0.75290000000000001,4835.1440448606827,"Older Than The Earth"]
["Y-000593.3-2",4681.4657931898382,11358.932033002564,5000.0469716211801,null,"Y-000749.5-1",0.8569,5019.3833437180965,"Older Than Solar System"]
["Y-000593.4",4005.0886369637037,8734.3780735790915,4750.4844604197106,null,null,"AVG",{"$f":"AVERAGE(H26:H44)","v":4768.1174449096015}]
["Y-000593.5",2812.8752619008415,7012.9136783724034,4581.2853720382009,null,null,"MAX",{"$f":"MAX(H26:H44)","v":5347.7404832319608}]
["Y-000749.1",6329.554325340886,15783.687298988449,4893.3079370637861,null,null,"MIN",{"$f":"MIN(H26:H44)","v":3897.3762861058512}]
["Y-000749.3",6567.7058619037089,14904.684604126925,5103.2451791012936,null,null,"STD DEV",{"$f":"STDEV(H26:H44)","v":337.06410815202867}]
["Y-000749.4",4062.4512208555902,10693.64835549079,4835.1440448606827]
["Y-000749.5-1",5551.9843684839261,12754.113422306447,5019.3833437180965]
["AVG",{"$f":"AVERAGE(B32:B50)","v":5179.5635617452608},{"$f":"AVERAGE(C32:C50)","v":10861.720258601936},{"$f":"AVERAGE(D32:D50)","v":4768.1174449096015},null,"Y-000593.1",0.90290000000000004,5093.4181378853982,"Older Than Solar System"]
["MAX",{"$f":"MAX(B32:B50)","v":11213.922599417407},{"$f":"MAX(C32:C50)","v":23837.246225781644},{"$f":"MAX(D32:D50)","v":5347.7404832319608},null,"Y-000593.3-1",1.0819000000000001,5347.7404832319608,"Older Than Solar System"]
["MIN",{"$f":"MIN(B32:B50)","v":1841.7145816609286},{"$f":"MIN(C32:C50)","v":2963.3279752879057},{"$f":"MIN(D32:D50)","v":3897.3762861058512},null,"Y-000593.3-2",0.84530000000000005,5000.0469716211801,"Older Than Solar System"]
["STD DEV",{"$f":"STDEV(B32:B50)","v":2331.8866187013246},{"$f":"STDEV(C32:C50)","v":5394.4544417210845},{"$f":"STDEV(D32:D50)","v":337.06410815202867},null,"Y-000749.3",0.90920000000000001,5103.2451791012936,"Older Than Solar System"]
[null,null,null,null,null,"Y-000749.5-1",0.8569,5019.3833437180965,"Older Than Solar System"]
[]
[]
[null,null,null,null,null,"LAFA01.01",0.79069999999999996,4905.0764275160445,"Older Than The Earth"]
["Chronological","U-238/Pb-206","Th-232/Pb-208","Pb-207/Pb-206",null,"LAFA04.03",0.68979999999999997,4709.6155248855548,"Older Than The Earth"]
["Summary","Age","Age","Age",null,"LAFA05.01",0.79990000000000006,4921.558512424097,"Older Than The Earth"]
["AVG",5179.5635617452608,10861.720258601936,4768.1174449096015,null,"LAFA09.01",0.71260000000000001,4756.3378339646415,"Older Than The Earth"]
["MAX",11213.922599417407,23837.246225781644,5347.7404832319608,null,"Y-000593.2",0.72250000000000003,4776.1300507919141,"Older Than The Earth"]
["MIN",1841.7145816609286,2963.3279752879057,3897.3762861058512,null,"Y-000593.4",0.7097,4750.4844604197106,"Older Than The Earth"]
["STD DEV",2331.8866187013246,5394.4544417210845,337.06410815202133,null,"Y-000749.1",0.78420000000000001,4893.3079370637861,"Older Than The Earth"]
[null,null,null,null,null,"Y-000749.4",0.75290000000000001,4835.1440448606827,"Older Than The Earth"]

{"sheet":"Iso_Plot_002","index":2,"n_rows":76,"n_cols":19,"rows_kept":76,"cut":false,"hidden":false,"merged":[]}
["Sample Name",null,null,null,"Pb-204","Error",null,"Pb-207","Error",null,"Pb 207-206","Pb 207-206","U-235","Pb207/U235",null,"U-238","Pb206/U238"]
["Phosphates",null,null,null,"Pb-206","Level",null,"Pb-206","Level",null,"Date","Error","Pb-207","Age",null,"Pb-206","Age"]
[1,"ESmg1",0.86099999999999999,6.15,3.2289999999999999E-2,0.22500000000000001,-3.614958029761501E-2,0.74470000000000003,1.0999999999999999E-2,0.14699999999999999,4482.2,1.2,145.762,{"$f":"[1]!AgePb7U5(1/M3)","v":6.9422475327921065},null,1.7935000000000001,{"$f":"[1]!AgePb6U8(1/P3)","v":2856.5754838154144},0.98499999999999999,79]
[2,"ESmg2",1.24,9.65,3.2910000000000002E-2,0.32900000000000001,-3.2257336464176126E-2,0.74880000000000002,6.0000000000000001E-3,7.1999999999999995E-2,4486.1000000000004,1.8,151.19900000000001,{"$f":"[1]!AgePb7U5(1/M4)","v":6.6934306105692976},null,1.8554999999999999,{"$f":"[1]!AgePb6U8(1/P4)","v":2779.0024664255625},0.97199999999999998,85]
[3,"ESnm1",1.35,4.3499999999999996,1.7069999999999998E-2,0.17899999999999999,1.1756852158164017E-2,0.68089999999999995,1.7999999999999999E-2,0.83499999999999996,4509.5,0.23,102.17,{"$f":"[1]!AgePb7U5(1/M5)","v":9.88985176316422},null,1.2337,{"$f":"[1]!AgePb6U8(1/P5)","v":3826.8597535026092},1,22]
[4,"ESnm2",1.02,2.83,1.325E-2,0.34699999999999998,6.8805210417121282E-3,0.66120000000000001,3.3000000000000002E-2,0.8,4504.7,0.38,97.2,{"$f":"[1]!AgePb7U5(1/M6)","v":10.392957195539129},null,1.1776,{"$f":"[1]!AgePb6U8(1/P6)","v":3962.9001380988875},0.999,16]
[5,"ESnm3",1.17,3.01,1.1379999999999999E-2,0.37,2.4465462945365325E-2,0.65039999999999998,2.8000000000000001E-2,0.97499999999999998,4499.3999999999996,0.12,94.192999999999998,{"$f":"[1]!AgePb7U5(1/M7)","v":10.722994201867944},null,1.1453,{"$f":"[1]!AgePb6U8(1/P7)","v":4045.8519988318412},1,13]
[6,"ON3",2.79,5.73,5.4799999999999996E-3,0.34899999999999998,6.6773088851297818E-2,0.62270000000000003,1.7000000000000001E-2,0.47699999999999998,4500.1000000000004,0.26,88.158000000000001,{"$f":"[1]!AgePb7U5(1/M8)","v":11.452929441582372},null,1.0714999999999999,{"$f":"[1]!AgePb6U8(1/P8)","v":4249.5629112253018},0.996,6]
[7,"ON4",0.71399999999999997,2.4,1.4659999999999999E-2,0.55200000000000005,-4.1469008234748514E-2,0.66379999999999995,6.3E-2,9.6000000000000002E-2,4493.2,1.5,98.733000000000004,{"$f":"[1]!AgePb7U5(1/M9)","v":10.232398962258094},null,1.2057,{"$f":"[1]!AgePb6U8(1/P9)","v":3893.5349408237048},0.98499999999999999,20]
["Silicates"]
["2R","TP2",4.1000000000000003E-3,1.6500000000000001E-2,5.9699999999999996E-3,7.78,1.3734146253418988E-2,0.64410000000000001,0.28899999999999998,0.96599999999999997,4548.3999999999996,1.4,106.5,{"$f":"[1]!AgePb7U5(1/M11)","v":9.4896303175484586},-8.5746329660995338E-2,1.252,{"$f":"[1]!AgePb6U8(1/P11)","v":3784.5378733249777},0.997,22]
["3R","ES1",1.1000000000000001E-3,6.1000000000000004E-3,9.41E-3,68.5,-2.6852829980828576E-2,0.66539999999999999,3.63,0.997,4562.7,13,134.1,{"$f":"[1]!AgePb7U5(1/M12)","v":7.5437423755092636},0.16021775712654621,1.5609999999999999,{"$f":"[1]!AgePb6U8(1/P12)","v":3191.4337836202626},0.999,52]
["5R","ES3",3.3999999999999998E-3,1.43E-2,4.4000000000000003E-3,34.299999999999997,6.8478933138514976E-3,0.64419999999999999,0.88900000000000001,0.996,4566.1000000000004,2.9,114.97,{"$f":"[1]!AgePb7U5(1/M13)","v":8.7935342468020092},-1.0725709067853625E-2,1.3351999999999999,{"$f":"[1]!AgePb6U8(1/P13)","v":3603.6515532137291},0.999,30]
["6R","ES4",6.9999999999999999E-4,3.3999999999999998E-3,2.2100000000000002E-3,212,-1.3854853456079065E-2,0.63949999999999996,2.74,0.997,4578.1000000000004,8.5,132.30000000000001,{"$f":"[1]!AgePb7U5(1/M14)","v":7.645992855514006},0.18499065152155872,1.524,{"$f":"[1]!AgePb6U8(1/P14)","v":3252.2577754360177},0.999,47]
["7R","ES5",2.2000000000000001E-3,1.03E-2,6.4900000000000001E-3,19.5,7.5853842948421747E-3,0.65539999999999998,0.71899999999999997,0.996,4570.5,2.5,120.62,{"$f":"[1]!AgePb7U5(1/M15)","v":8.3833291050646004},0.14552920679042414,1.3965000000000001,{"$f":"[1]!AgePb6U8(1/P15)","v":3481.3230183043001},0.999,35]
["9R","ES7",1.6000000000000001E-3,7.1000000000000004E-3,5.9500000000000004E-3,17.7,8.9378063570110453E-3,0.65720000000000001,0.58399999999999996,0.997,4580.8,2.1,118.46,{"$f":"[1]!AgePb7U5(1/M16)","v":8.5355500384228158},7.6471636122189213E-2,1.3619000000000001,{"$f":"[1]!AgePb6U8(1/P16)","v":3549.3027963488767},0.999,32]
["10R","ES8",2.2000000000000001E-3,1.0999999999999999E-2,6.0499999999999998E-3,18.899999999999999,8.6912072160459878E-3,0.65100000000000002,0.66400000000000003,0.998,4564.5,2.1,134.6,{"$f":"[1]!AgePb7U5(1/M17)","v":7.515823014334913},0.50387412416839594,1.5649,{"$f":"[1]!AgePb6U8(1/P17)","v":3185.15756532461},0.999,52]
["11R","ESCh1",3.3E-3,1.15E-2,2.2599999999999999E-3,95.3,3.2210598024231228E-3,0.62570000000000003,1.38,0.998,4544.8,3.3,99.391999999999996,{"$f":"[1]!AgePb7U5(1/M18)","v":10.164893417053488},-0.32627003235216434,1.1714,{"$f":"[1]!AgePb6U8(1/P18)","v":3978.5495964033516},0.999,14]
["12R","ESCh2",1.6999999999999999E-3,6.1999999999999998E-3,3.9399999999999999E-3,104,-1.1173932766703022E-2,0.63590000000000002,2.54,0.996,4551,7.1,96.129000000000005,{"$f":"[1]!AgePb7U5(1/M19)","v":10.508150923672074},-0.52945114595097942,1.1279999999999999,{"$f":"[1]!AgePb6U8(1/P19)","v":4091.7738494989899},0.999,10]
["13R","ES3",2.0999999999999999E-3,1.1299999999999999E-2,2.214E-2,6.77,-1.0842579407339614E-3,0.77239999999999998,0.372,0.97499999999999998,4701.2,8.3000000000000007,122.81,{"$f":"[1]!AgePb7U5(1/M20)","v":8.2344385544065943},-9.1732906933340866E-2,1.2988,{"$f":"[1]!AgePb6U8(1/P20)","v":3680.5575271870794},0.996,21]
["14R","ES4",3.3E-3,1.5100000000000001E-2,1.065E-2,13.9,3.948376906752123E-3,0.69169999999999998,0.69399999999999995,0.995,4615.3999999999996,4,116.81,{"$f":"[1]!AgePb7U5(1/M21)","v":8.6556065293426929},-2.7157251763782499E-2,1.3110999999999999,{"$f":"[1]!AgePb6U8(1/P21)","v":3654.1957914196237},0.998,25]
["1W1","TP11",1.7500000000000002E-2,0.13450000000000001,4.6199999999999998E-2,0.26800000000000002,1.50894357884335E-3,0.79110000000000003,2.1000000000000001E-2,5.9999999999999995E-4,4390.7,3,105.53700000000001,{"$f":"[1]!AgePb7U5(1/M22)","v":9.575813902979176},null,1.3826400000000001,{"$f":"[1]!AgePb6U8(1/P22)","v":3508.2314360324863},0.97599999999999998,42]
["2W1","TP21",1.7600000000000001E-2,0.13420000000000001,4.7070000000000001E-2,4.4499999999999998E-2,1.54152925331427E-3,0.78959999999999997,1.7000000000000001E-2,0.159,4362.2,0.77,101.52,{"$f":"[1]!AgePb7U5(1/M23)","v":9.952863979020254},null,1.3561700000000001,{"$f":"[1]!AgePb6U8(1/P23)","v":3560.8242964795263},1,40]
["1W2","TP12",1E-4,1.4E-3,4.333E-2,0.47099999999999997,9.9057357888310683E-4,0.79569999999999996,9.4E-2,5.1999999999999998E-2,4473.7,1.8,183.58,{"$f":"[1]!AgePb7U5(1/M24)","v":5.5160014687371666},null,2.2719399999999998,{"$f":"[1]!AgePb6U8(1/P24)","v":2351.3230562743852},0.999,127]
["2W2","TP22",2.0000000000000001E-4,3.8E-3,3.9010000000000003E-2,1.77,-1.7757008924333123E-4,0.78859999999999997,0.26700000000000002,0.88600000000000001,4526.3999999999996,5.6,271.83,{"$f":"[1]!AgePb7U5(1/M25)","v":3.7285065699177165},null,3.2444999999999999,{"$f":"[1]!AgePb6U8(1/P25)","v":1731.9115043790455},0.999,219]
["11W1","ESCh11",2.8999999999999998E-3,9.4E-2,5.3370000000000001E-2,2.35E-2,1.302416569567505E-3,0.8589,1.7999999999999999E-2,0.94,4543.8,0.77,398.9,{"$f":"[1]!AgePb7U5(1/M26)","v":2.5422723677837578},null,4.7044899999999998,{"$f":"[1]!AgePb6U8(1/P26)","v":1242.4574518144248},0.999,360]
["12W1","ESCh21",6.4999999999999997E-3,7.6499999999999999E-2,4.2509999999999999E-2,0.32100000000000001,1.2478419122356674E-3,0.79500000000000004,5.7000000000000002E-2,0.82299999999999995,4487.1000000000004,1.3,185.39,{"$f":"[1]!AgePb7U5(1/M27)","v":5.4622922264418632},null,2.2734000000000001,{"$f":"[1]!AgePb6U8(1/P27)","v":2350.0576426699331},0.999,126]
["13W1","ES31",2.98E-2,0.22220000000000001,3.4700000000000002E-2,0.1,1.6344986424624973E-3,0.75980000000000003,1.7999999999999999E-2,0.91,4495.1000000000004,0.22,143.68600000000001,{"$f":"[1]!AgePb7U5(1/M28)","v":7.0422032885425869},null,1.752,{"$f":"[1]!AgePb6U8(1/P28)","v":2911.0067852177112},0.998,74]
["14W1","ES41",1.7600000000000001E-2,0.20669999999999999,4.2369999999999998E-2,5.8200000000000002E-2,1.5498812057493806E-3,0.80149999999999999,0.01,0.92400000000000004,4515.7,0.27,191.71700000000001,{"$f":"[1]!AgePb7U5(1/M29)","v":5.28249501044235},null,2.3050000000000002,{"$f":"[1]!AgePb6U8(1/P29)","v":2323.0027194522977},0.998,127]
["11W2","ESCh12",1.4E-3,4.1999999999999997E-3,3.7949999999999998E-2,5.95,-2.6124168105578233E-3,0.79969999999999997,0.61499999999999999,0.93,4584.3,20.100000000000001,50.3,{"$f":"[1]!AgePb7U5(1/M30)","v":19.988500859044887},null,0.57708999999999999,{"$f":"[1]!AgePb6U8(1/P30)","v":6480.8278625238681},0.998,44]
["12W2","ESCh22",6.9999999999999999E-4,2.5499999999999998E-2,5.2519999999999997E-2,0.25600000000000001,3.4856752373366189E-4,0.85570000000000002,0.158,0.191,4547,7.3,469.93,{"$f":"[1]!AgePb7U5(1/M31)","v":2.1584155678952119},null,5.53,{"$f":"[1]!AgePb6U8(1/P31)","v":1071.5173424921593},0.999,440]
["13W2","ES32",4.0000000000000002E-4,2.8999999999999998E-3,3.4860000000000002E-2,11.4,-5.0561384244606142E-3,0.79700000000000004,0.97099999999999997,0.93799999999999994,4620.7,32.9,150.19999999999999,{"$f":"[1]!AgePb7U5(1/M32)","v":6.737802117478064},null,1.68,{"$f":"[1]!AgePb6U8(1/P32)","v":3010.6236977121539},0.998,60]
["14W2","ES42",2.0000000000000001E-4,4.0000000000000001E-3,4.0930000000000001E-2,4.83,-2.2781269405276754E-3,0.80479999999999996,0.56399999999999995,0.89800000000000002,4554.2,20,260.39999999999998,{"$f":"[1]!AgePb7U5(1/M33)","v":3.8918524198683664},null,3.05,{"$f":"[1]!AgePb6U8(1/P33)","v":1828.043774369879},0.999,197]
[null,null,null,null,null,null,null,null,null,null,null,null,"AVG",{"$f":"AVERAGE(N3:N33)","v":8.1225506954531816},null,"AVG",{"$f":"AVERAGE(Q3:Q33)","v":3247.8952130741004}]
[null,null,null,null,null,null,null,null,null,null,null,null,"MAX",{"$f":"MAX(N3:N33)","v":19.988500859044887},null,"MAX",{"$f":"MAX(Q3:Q33)","v":6480.8278625238681}]
["Meteoritics & Planetary Science",null,null,null,null,null,null,"Pb-207/Pb-206","Age",null,null,null,"MIN",{"$f":"MIN(N3:N33)","v":2.1584155678952119},null,"MIN",{"$f":"MIN(Q3:Q33)","v":1071.5173424921593}]
["Volume 42, Numbers 7/8,",null,null,null,null,null,null,"Ratio","GA",null,null,null,"STD DEV",{"$f":"STDEV(N3:N33)","v":3.3366665193204481},null,"STD DEV",{"$f":"STDEV(Q3:Q33)","v":1046.619316519925}]
["Pages 1337–1350 (2007)",null,null,null,null,1,null,0.74470000000000003,4819.4796842960341,"Older Than The Earth"]
["Sample","Pb-207/Pb-206","Pb206/U238",null,null,2,null,0.74880000000000002,4827.3347310632016,"Older Than The Earth"]
["Name","Age","Age",null,null,3,null,0.68089999999999995,4690.9276260327506]
["Phosphates",null,null,null,null,4,null,0.66120000000000001,4648.6155412739781]
[1,4819.4796842960341,null,null,null,5,null,0.65039999999999998,4624.8422321164753]
[2,4827.3347310632016,null,null,null,6,null,0.62270000000000003,4561.8796592333283]
[3,4690.9276260327506,null,null,null,7,null,0.66379999999999995,4654.2766305322975]
[4,4648.6155412739781,null,null,null,"Silicates"]
[5,4624.8422321164753,null,null,null,"2R",null,0.64410000000000001,4610.7782931907714]
[6,4561.8796592333283,null,null,null,"3R",null,0.66539999999999999,4657.7485871520557]
[7,4654.2766305322975,null,null,null,"5R",null,0.64419999999999999,4611.0026802172542]
["Silicates",null,null,null,null,"6R",null,0.63949999999999996,4600.4159124220014]
["2R",4610.7782931907714,null,null,null,"7R",null,0.65539999999999998,4635.9005617982266]
["3R",4657.7485871520557,null,null,null,"9R",null,0.65720000000000001,4639.8594477541455]
["5R",4611.0026802172542,null,null,null,"10R",null,0.65100000000000002,4626.1740329766544]
["6R",4600.4159124220014,null,null,null,"11R",null,0.62570000000000003,4568.8423488755325]
["7R",4635.9005617982266,null,null,null,"12R",null,0.63590000000000002,4592.2503110998086]
["9R",4639.8594477541455,null,null,null,"13R",null,0.77239999999999998,4871.6757187570502,"Older Than The Earth"]
["10R",4626.1740329766544,null,null,null,"14R",null,0.69169999999999998,4713.5716680541327]
["11R",4568.8423488755325,null,null,null,"1W1",null,0.79110000000000003,4905.7972751520865,"Older Than The Earth"]
["12R",4592.2503110998086,null,null,null,"2W1",null,0.78959999999999997,4903.0920931659657,"Older Than The Earth"]
["13R",4871.6757187570502,null,null,null,"1W2",null,0.79569999999999996,4914.0592473253428,"Older Than The Earth"]
["14R",4713.5716680541327,null,null,null,"2W2",null,0.78859999999999997,4901.2855974812901,"Older Than The Earth"]
["1W1",4905.7972751520865,null,null,null,"11W1",null,0.8589,5022.6890919499165,"Older Than Solar System"]
["2W1",4903.0920931659657,null,null,null,"12W1",null,0.79500000000000004,4912.8052750660408,"Older Than The Earth"]
["1W2",4914.0592473253428,null,null,null,"13W1",null,0.75980000000000003,4848.1847434189731,"Older Than The Earth"]
["2W2",4901.2855974812901,null,null,null,"14W1",null,0.80149999999999999,4924.4043596972269,"Older Than The Earth"]
["11W1",5022.6890919499165,null,null,null,"11W2",null,0.79969999999999997,4921.2023556787044,"Older Than The Earth"]
["12W1",4912.8052750660408,null,null,null,"12W2",null,0.85570000000000002,5017.3959601086126,"Older Than Solar System"]
["13W1",4848.1847434189731,null,null,null,"13W2",null,0.79700000000000004,4916.3849411701376,"Older Than The Earth"]
["14W1",4924.4043596972269,null,null,null,"14W2",null,0.80479999999999996,4930.2548773506414,"Older Than The Earth"]
["11W2",4921.2023556787044]
["12W2",5017.3959601086126]
["13W2",4916.3849411701376]
["14W2",4930.2548773506414]
["AVG",{"$f":"AVERAGE(B42:B72)","v":4769.1043828136881},{"$f":"AVERAGE(C42:C72)","v":{"$error":"#DIV/0!"}}]
["MAX",{"$f":"MAX(B42:B72)","v":5022.6890919499165},{"$f":"MAX(C42:C72)","v":0}]
["MIN",{"$f":"MIN(B42:B72)","v":4561.8796592333283},{"$f":"MIN(C42:C72)","v":0}]
["STD DEV",{"$f":"STDEV(B42:B72)","v":150.53598661083575},{"$f":"STDEV(C42:C72)","v":{"$error":"#DIV/0!"}}]

{"sheet":"Iso_Plot_003","index":3,"n_rows":64,"n_cols":15,"rows_kept":64,"cut":false,"hidden":false,"merged":[]}
["Sample",null,null,null,"U-238","U-238/Pb-206","Pb-207","Error","Pb-204","Error","Pb-204","Error",null,"Th-232","Th232/Pb208"]
["Name",null,null,null,"Pb-206","Age","Pb-206","Level","Pb-206","Level","Pb-208","Level",null,"Pb-208","Age"]
["84001.02.1",1.9,24.4,0.59824848453643686,0.89200000000000002,{"$f":"[1]!AgePb6U8(1/E3)","v":4847.2110686982396},0.441,1.7999999999999999E-2,8.8999999999999999E-3,1.2999999999999999E-3,2.8E-3,4.0000000000000002E-4,0.25040675655948696,4.149,{"$f":"[1]!AgePb8Th2(1/N3)","v":4364.5311715669222}]
["84001.02.2",1.6,21,7.2235740083148189E-2,0.8,{"$f":"[1]!AgePb6U8(1/E4)","v":5227.5920465194449},0.57199999999999995,2.1999999999999999E-2,2.41E-2,2.3999999999999998E-3,8.2000000000000007E-3,8.0000000000000004E-4,-0.57939963033935382,4.3650000000000002,{"$f":"[1]!AgePb8Th2(1/N4)","v":4169.3418249842607}]
["84001.02.3",17.899999999999999,24.1,1.5123338879238197,1.355,{"$f":"[1]!AgePb6U8(1/E5)","v":3563.1862893583684},0.441,8.9999999999999993E-3,1.9E-3,2.9999999999999997E-4,4.1999999999999997E-3,5.9999999999999995E-4,1.5054531247351706,4.6619999999999999,{"$f":"[1]!AgePb8Th2(1/N5)","v":3927.8958277138463}]
["84001.03.1",1.4,30.2,-0.87064412382971856,1.3129999999999999,{"$f":"[1]!AgePb6U8(1/E6)","v":3650.1581816512044},0.47599999999999998,2.3E-2,3.5999999999999999E-3,5.9999999999999995E-4,5.9999999999999995E-4,1E-4,-0.5818946400228584,5.444,{"$f":"[1]!AgePb8Th2(1/N6)","v":3408.4968271957205}]
["84001.04.1",2.2000000000000002,18.2,0.15279234716856585,1.1559999999999999,{"$f":"[1]!AgePb6U8(1/E7)","v":4017.9782936120223},0.38600000000000001,1.9E-2,1.8E-3,4.0000000000000002E-4,6.9999999999999999E-4,2.0000000000000001E-4,0.17591098117743059,4.5220000000000002,{"$f":"[1]!AgePb8Th2(1/N7)","v":4038.1150005494624}]
["84001.04.2",2.5,22.4,1.4825958534164247,1.262,{"$f":"[1]!AgePb6U8(1/E8)","v":3761.815397743158},0.44700000000000001,8.0000000000000002E-3,2.0999999999999999E-3,6.9999999999999999E-4,5.5999999999999999E-3,8.9999999999999998E-4,1.1776793082120949,3.5089999999999999,{"$f":"[1]!AgePb8Th2(1/N8)","v":5068.1011185016487}]
["84001.05.1",2.4,26.9,-0.33666995467824112,1.7130000000000001,{"$f":"[1]!AgePb6U8(1/E9)","v":2964.1180617876671},0.49299999999999999,1.6E-2,3.8999999999999998E-3,6.9999999999999999E-4,1.1000000000000001E-3,2.0000000000000001E-4,0.47202117137894267,6.4939999999999998,{"$f":"[1]!AgePb8Th2(1/N9)","v":2894.8767395824434}]
["84001.06.1",0.8,9.6999999999999993,-0.89076285272719169,0.71299999999999997,{"$f":"[1]!AgePb6U8(1/E10)","v":5650.4114611431041},0.47499999999999998,0.04,1.3299999999999999E-2,3.0000000000000001E-3,3.7000000000000002E-3,8.0000000000000004E-4,-1.3588246480611523,2.8330000000000002,{"$f":"[1]!AgePb8Th2(1/N10)","v":6110.3904103090154}]
["84001.06.2",1.3,12.8,-1.3839680892145718,1.423,{"$f":"[1]!AgePb6U8(1/E11)","v":3431.0338290196514},0.60099999999999998,3.4000000000000002E-2,1.14E-2,2.0999999999999999E-3,3.3E-3,5.9999999999999995E-4,-0.76541972113900947,5,{"$f":"[1]!AgePb8Th2(1/N11)","v":3685.1249478313207}]
["84001.07.1",6.7,61.2,6.4820863958456348E-2,0.72,{"$f":"[1]!AgePb6U8(1/E12)","v":5613.720275889752},0.46899999999999997,1.0999999999999999E-2,2.3E-3,2.9999999999999997E-4,1E-3,2.0000000000000001E-4,0.69283008479579067,3.4740000000000002,{"$f":"[1]!AgePb8Th2(1/N12)","v":5113.2126376760925}]
["84001.08.1",5.5,57.6,0.65468522750140568,1.0049999999999999,{"$f":"[1]!AgePb6U8(1/E13)","v":4452.2579806446001},0.52400000000000002,1.7000000000000001E-2,1.0200000000000001E-2,1.1000000000000001E-3,4.1000000000000003E-3,4.0000000000000002E-4,0.49242141615694146,5.0140000000000002,{"$f":"[1]!AgePb8Th2(1/N13)","v":3675.7167221876825}]
["84001.08.2",1,19.2,-1.0556673841385356,1.0169999999999999,{"$f":"[1]!AgePb6U8(1/E14)","v":4414.2088116399791},0.58399999999999996,3.1E-2,1.29E-2,1.8E-3,2.8999999999999998E-3,4.0000000000000002E-4,-1.4811842034534815,5.0999999999999996,{"$f":"[1]!AgePb8Th2(1/N14)","v":3618.9637483372503}]
[]
["Meteoritics & Planetary Science"]
["Volume 38, Number 11",null,null,null,null,null,"Pb-207","Age"]
["Pages 1697–1703 (2003)",null,null,null,null,null,"Pb-206","MA"]
[null,null,null,null,null,null,0.441,4055.1307338608221]
[null,null,null,null,null,null,0.57199999999999995,4438.4349046987054]
[null,6,2,null,null,null,0.441,4055.1307338608221]
["Sample","U-238/Pb-206","Th232/Pb208",null,null,null,0.47599999999999998,4168.5510934881877]
["Name","Age","Age",null,null,null,0.38600000000000001,3855.4203991018649]
["84001.02.1",4110.4558944701794,4364.5311715669222,null,null,null,0.44700000000000001,4075.2552464579835]
["84001.02.2",3789.1162926808643,4169.3418249842607,null,null,null,0.49299999999999999,4220.4146675460261]
["84001.02.3",5521.6162931080171,3927.8958277138463,null,null,null,0.47499999999999998,4165.4379514376524]
["84001.03.1",5405.6108509221731,3408.4968271957205,null,null,null,0.60099999999999998,4510.4178101902162]
["84001.04.1",4952.4876908734932,4038.1150005494624,null,null,null,0.46899999999999997,4146.6083731201988]
["84001.04.2",5261.8815645055838,5068.1011185016487,null,null,null,0.52400000000000002,4310.1839123682303]
["84001.05.1",6433.8761236215614,2894.8767395824434,null,null,null,0.58399999999999996,4468.6868619617098]
["84001.06.1",3469.7580618338948,6110.3904103090154]
["84001.06.2",5705.1180779009755,3685.1249478313207]
["84001.07.1",3496.0469996800111,5113.2126376760925]
["84001.08.1",4484.4097389752296,3675.7167221876825]
["84001.08.2",4522.8767701664765,3618.9637483372503]
["AVG",{"$f":"AVERAGE(B24:B35)","v":4762.7711965615381},{"$f":"AVERAGE(C24:C35)","v":4172.8972480363054}]
["MAX",{"$f":"MAX(B24:B35)","v":6433.8761236215614},{"$f":"MAX(C24:C35)","v":6110.3904103090154}]
["MIN",{"$f":"MIN(B24:B35)","v":3469.7580618338948},{"$f":"MIN(C24:C35)","v":2894.8767395824434}]
["STD DEV",{"$f":"STDEV(B24:B35)","v":940.97764687056463},{"$f":"STDEV(C24:C35)","v":882.3516071504456}]
[]
[]
[]
[null,null,"Age"]
[null,null,6110.3904103090154]
[null,null,5113.2126376760925]
[null,null,5068.1011185016487]
[null,null,4364.5311715669222]
[null,null,4169.3418249842607]
[null,null,4038.1150005494624]
[null,null,3927.8958277138463]
[null,null,3685.1249478313207]
[null,null,3675.7167221876825]
[null,null,3618.9637483372503]
[null,null,3408.4968271957205]
[null,null,2894.8767395824434]
[]
[]
[]
["Chronological","U-238/Pb-206","Th232/Pb208"]
["Summary","Age","Age"]
["AVG",4762.7711965615381,4172.8972480363054]
["MAX",6433.8761236215614,6110.3904103090154]
["MIN",3469.7580618338948,2894.8767395824434]
["STD DEV",940.97764687056463,882.3516071504456]

{"sheet":"Iso_Plot_004","index":4,"n_rows":140,"n_cols":17,"rows_kept":140,"cut":false,"hidden":false,"merged":[]}
[null,null,null,null,null,null,"207Pb/206Pb",null,"206Pb/238U",null,"208Pb/232Th",null,"207Pb/206Pb",82561,"206Pb/238U",null,"208Pb/232Th"]
["238U/204Pb","232Th/204Pb","206Pb/204Pb","207Pb/204Pb","208Pb/204Pb","207Pb/206Pb","Age","206Pb/238U","Age","208Pb/232Th","Age",null,null,52909]
[18.5,60.6,19.187000000000001,15.596,38.720999999999997,{"$f":"(D3/C3)","v":0.81284202845676756},{"$f":"[1]!AgePb76(F3)","v":4944.4062450556421},{"$f":"(C3/A3)","v":1.0371351351351352},{"$f":"[1]!AgePb6U8(H3)","v":4586.9103968849386},{"$f":"(E3/B3)","v":0.63896039603960386},{"$f":"[1]!AgePb8Th2(J3)","v":9986.0967353123015},null,null,51126]
[9.16,15.9,19.138000000000002,15.605,38.67,{"$f":"(D4/C4)","v":0.81539345804159258},{"$f":"[1]!AgePb76(F4)","v":4948.8648365604076},{"$f":"(C4/A4)","v":2.0893013100436684},{"$f":"[1]!AgePb6U8(H4)","v":7271.200335779029},{"$f":"(E4/B4)","v":2.4320754716981132},{"$f":"[1]!AgePb8Th2(J4)","v":24925.016108579173},null,null,39277]
[18.7,46.7,18.978000000000002,15.552,38.445999999999998,0.81947518178944034,{"$f":"[1]!AgePb76(F5)","v":4955.9668365468269},1.0148663101604278,{"$f":"[1]!AgePb6U8(H5)","v":4516.0538010162227},0.82325481798715194,{"$f":"[1]!AgePb8Th2(J5)","v":12139.934621639286},null,null,37502]
[20.5,63.4,18.907,15.569000000000001,38.393000000000001,0.82345163167080981,{"$f":"[1]!AgePb76(F6)","v":4962.8495870863026},0.92229268292682931,{"$f":"[1]!AgePb6U8(H6)","v":4212.8514382181629},0.60556782334384862,{"$f":"[1]!AgePb8Th2(J6)","v":9570.0349273376414},null,null,35301]
[30.6,102,19.015000000000001,15.547000000000001,38.725999999999999,0.81761767026032084,{"$f":"[1]!AgePb76(F7)","v":4952.7395321428721},0.62140522875816995,{"$f":"[1]!AgePb6U8(H7)","v":3115.5081283343743},0.37966666666666665,{"$f":"[1]!AgePb8Th2(J7)","v":6505.142477988592},null,null,31541]
[37.9,93.9,18.928000000000001,15.545,38.398000000000003,0.82127007607776836,{"$f":"[1]!AgePb76(F8)","v":4959.0779667154347},0.4994195250659631,{"$f":"[1]!AgePb6U8(H8)","v":2611.3008858755848},0.40892438764643241,{"$f":"[1]!AgePb8Th2(J8)","v":6929.2888859919767},null,null,30608]
[15.4,66.7,17.858000000000001,15.537000000000001,38.142000000000003,0.87003023854854966,{"$f":"[1]!AgePb76(F9)","v":5040.9379555487803},1.1596103896103895,{"$f":"[1]!AgePb6U8(H9)","v":4963.2736841008164},0.57184407796101955,{"$f":"[1]!AgePb8Th2(J9)","v":9140.9702281951832},null,null,28811]
[19.5,65.3,17.7,15.532999999999999,38.098999999999997,0.8775706214689265,{"$f":"[1]!AgePb76(F10)","v":5053.160740696866},0.90769230769230769,{"$f":"[1]!AgePb6U8(H10)","v":4163.7021480058002},0.58344563552833073,{"$f":"[1]!AgePb8Th2(J10)","v":9289.6059538209829},null,null,28284]
[27.9,39.9,18.303999999999998,15.494999999999999,38.991,0.84653627622377625,{"$f":"[1]!AgePb76(F11)","v":5002.1211311204279},0.65605734767025092,{"$f":"[1]!AgePb6U8(H11)","v":3251.8271432658439},0.97721804511278199,{"$f":"[1]!AgePb8Th2(J11)","v":13778.490732868051},null,null,27460]
[9.59,66.3,19.187000000000001,15.579000000000001,38.899000000000001,0.81195601188304578,{"$f":"[1]!AgePb76(F12)","v":4942.8544593737515},2.0007299270072996,{"$f":"[1]!AgePb6U8(H12)","v":7083.6781181351043},0.58671191553544499,{"$f":"[1]!AgePb8Th2(J12)","v":9331.2561366991631},null,null,27364]
[7.03,13.3,17.398,15.492000000000001,38.445,0.89044717783653304,{"$f":"[1]!AgePb76(F13)","v":5073.7779586421702},2.4748221906116643,{"$f":"[1]!AgePb6U8(H13)","v":8029.2880550415139},2.8906015037593984,{"$f":"[1]!AgePb8Th2(J13)","v":27459.601291408351},null,null,27241]
[3.94,3.32,17.548999999999999,15.426,38.335999999999999,0.87902444583736972,{"$f":"[1]!AgePb76(F14)","v":5055.5045391131271},4.4540609137055833,{"$f":"[1]!AgePb6U8(H14)","v":10935.442082131065},11.546987951807228,{"$f":"[1]!AgePb8Th2(J14)","v":51126.440281600822},null,null,25102]
[9.51,15.6,17.652000000000001,15.446999999999999,38.411999999999999,0.87508497620666204,{"$f":"[1]!AgePb76(F15)","v":5049.1439217042916},1.8561514195583597,{"$f":"[1]!AgePb6U8(H15)","v":6765.3509178054965},2.4623076923076921,{"$f":"[1]!AgePb8Th2(J15)","v":25102.280542562999},null,null,24925]
[17.600000000000001,49.4,18.399999999999999,15.648999999999999,38.965000000000003,0.85048913043478258,{"$f":"[1]!AgePb76(F16)","v":5008.7314972979184},1.0454545454545452,{"$f":"[1]!AgePb6U8(H16)","v":4613.1831517292749},0.78876518218623493,{"$f":"[1]!AgePb8Th2(J16)","v":11753.927022695978},null,null,23860]
[8.06,33,18.486999999999998,15.625999999999999,38.838999999999999,0.84524260291015307,{"$f":"[1]!AgePb76(F17)","v":4999.950595529951},2.2936724565756821,{"$f":"[1]!AgePb6U8(H17)","v":7684.1462719406027},1.176939393939394,{"$f":"[1]!AgePb8Th2(J17)","v":15723.495555507954},null,null,23310]
[8.07,22.7,18.042999999999999,15.452,38.796999999999997,0.856398603336474,{"$f":"[1]!AgePb76(F18)","v":5018.5533137697621},2.2358116480793058,{"$f":"[1]!AgePb6U8(H18)","v":7569.8939070760462},1.7091189427312774,{"$f":"[1]!AgePb8Th2(J18)","v":20143.981175290621},null,null,21943]
[17.2,12.2,18.178000000000001,15.459,38.548000000000002,0.8504235889536802,{"$f":"[1]!AgePb76(F19)","v":5008.6221583919796},1.0568604651162792,{"$f":"[1]!AgePb6U8(H19)","v":4649.0299706811193},3.1596721311475413,{"$f":"[1]!AgePb8Th2(J19)","v":28811.243184217095},null,null,20266]
[14.4,35,18.440000000000001,15.57,38.994,0.84436008676789587,{"$f":"[1]!AgePb76(F20)","v":4998.4678770488981},1.2805555555555557,{"$f":"[1]!AgePb6U8(H20)","v":5314.5468364368908},1.1141142857142856,{"$f":"[1]!AgePb8Th2(J20)","v":15131.6007548545},null,null,20144]
[8.67,27.8,19.283000000000001,15.622999999999999,38.81,0.81019550899756254,{"$f":"[1]!AgePb76(F21)","v":4939.7657306015908},2.2241061130334487,{"$f":"[1]!AgePb6U8(H21)","v":7546.5317490711295},1.396043165467626,{"$f":"[1]!AgePb8Th2(J21)","v":17661.823056664914},null,null,19005]
[5.39,17.2,19.140999999999998,15.628,38.802999999999997,0.81646726921268487,{"$f":"[1]!AgePb76(F22)","v":4950.7368739370713},3.5512059369202227,{"$f":"[1]!AgePb6U8(H22)","v":9768.8460204805433},2.2559883720930234,{"$f":"[1]!AgePb8Th2(J22)","v":23860.452287203952},null,null,18674]
[4.47,10.3,18.62,15.589,38.738999999999997,0.83721804511278197,{"$f":"[1]!AgePb76(F23)","v":4986.407587876156},4.1655480984340052,{"$f":"[1]!AgePb6U8(H23)","v":10585.084381891551},3.7610679611650482,{"$f":"[1]!AgePb8Th2(J23)","v":31540.616567303226},null,null,17662]
[2.7,10.9,18.576000000000001,15.571999999999999,38.655999999999999,0.83828596037898362,{"$f":"[1]!AgePb76(F24)","v":4988.2178400376552},6.88,{"$f":"[1]!AgePb6U8(H24)","v":13307.51267603409},3.5464220183486237,{"$f":"[1]!AgePb8Th2(J24)","v":30608.197150447584},null,null,15723]
[15.3,34.5,18.314,15.507,38.08,0.84672927814786503,{"$f":"[1]!AgePb76(F25)","v":5002.4446492572806},1.1969934640522875,{"$f":"[1]!AgePb6U8(H25)","v":5073.9069682899908},1.1037681159420289,{"$f":"[1]!AgePb8Th2(J25)","v":15032.442198031533},null,null,15132]
[53.5,17.600000000000001,18.545000000000002,15.519,38.167000000000002,0.83682933405230508,{"$f":"[1]!AgePb76(F26)","v":4985.7480640711647},0.34663551401869164,{"$f":"[1]!AgePb6U8(H26)","v":1918.5126181011221},2.1685795454545453,{"$f":"[1]!AgePb8Th2(J26)","v":23310.427378453976},null,null,15032]
[34.799999999999997,13.4,18.405999999999999,15.505000000000001,38.173999999999999,0.84238835162447034,{"$f":"[1]!AgePb76(F27)","v":4995.1492013772986},0.52890804597701147,{"$f":"[1]!AgePb6U8(H27)","v":2736.8495417415038},2.8488059701492534,{"$f":"[1]!AgePb8Th2(J27)","v":27241.292826144589},null,null,14950]
[29.6,25.4,18.449000000000002,15.538,38.584000000000003,0.84221367011762149,{"$f":"[1]!AgePb76(F28)","v":4994.8547928262033},0.62327702702702703,{"$f":"[1]!AgePb6U8(H28)","v":3122.9457677047212},1.5190551181102365,{"$f":"[1]!AgePb8Th2(J28)","v":18673.751957149503},null,null,14699]
[9.74,12.6,18.533999999999999,15.528,38.463000000000001,0.83781158951116874,{"$f":"[1]!AgePb76(F29)","v":4987.4140237588899},1.9028747433264885,{"$f":"[1]!AgePb6U8(H29)","v":6869.9535006633178},3.0526190476190478,{"$f":"[1]!AgePb8Th2(J29)","v":28284.251653087689},null,null,14232]
[25.3,100,18.457999999999998,15.494,38.545999999999999,0.83941922201755348,{"$f":"[1]!AgePb76(F30)","v":4990.1361847638927},0.72956521739130431,{"$f":"[1]!AgePb6U8(H30)","v":3531.7973086006537},0.38545999999999997,{"$f":"[1]!AgePb8Th2(J30)","v":6589.837583835344},null,null,13778]
[9.14,35.6,18.061,15.507999999999999,38.99,0.85864570068102541,{"$f":"[1]!AgePb76(F31)","v":5022.2692209740298},1.9760393873085338,{"$f":"[1]!AgePb6U8(H31)","v":7030.4164503849806},1.0952247191011235,{"$f":"[1]!AgePb8Th2(J31)","v":14950.193271532835},null,null,13308]
[11.1,35.700000000000003,18.545000000000002,15.531000000000001,38.177,0.83747640873550822,{"$f":"[1]!AgePb76(F32)","v":4986.8457719619992},1.6707207207207209,{"$f":"[1]!AgePb6U8(H32)","v":6332.624456670701},1.0693837535014004,{"$f":"[1]!AgePb8Th2(J32)","v":14699.360471596672},null,null,13276]
[64.5,311,18.352,15.505000000000001,38.084000000000003,0.84486704446381866,{"$f":"[1]!AgePb76(F33)","v":4999.3198195596297},0.28452713178294575,{"$f":"[1]!AgePb6U8(H33)","v":1614.1219003484264},0.1224565916398714,{"$f":"[1]!AgePb8Th2(J33)","v":2334.9099290882996},null,null,12496]
[44.2,209,18.478999999999999,15.564,38.192,0.84225336868878187,{"$f":"[1]!AgePb76(F34)","v":4994.921706570919},0.41807692307692301,{"$f":"[1]!AgePb6U8(H34)","v":2251.7432665564611},0.18273684210526317,{"$f":"[1]!AgePb8Th2(J34)","v":3392.2407404851342},null,null,12140]
[83.7,425,18.638000000000002,15.548,38.213999999999999,0.83420967915012334,{"$f":"[1]!AgePb76(F35)","v":4981.2948035228446},0.2226762246117085,{"$f":"[1]!AgePb6U8(H35)","v":1296.0005349863256},8.9915294117647052E-2,{"$f":"[1]!AgePb8Th2(J35)","v":1740.2724891896942},null,null,11754]
[12.2,37.299999999999997,18.484999999999999,15.505000000000001,38.122,0.83878820665404386,{"$f":"[1]!AgePb76(F36)","v":4989.0683643227812},1.5151639344262295,{"$f":"[1]!AgePb6U8(H36)","v":5945.7726614140174},1.0220375335120644,{"$f":"[1]!AgePb8Th2(J36)","v":14231.544881127515},null,null,10935]
[38.299999999999997,182,18.367000000000001,15.547000000000001,38.066000000000003,0.84646376653781241,{"$f":"[1]!AgePb76(F37)","v":5001.9995670154003},0.47955613577023504,{"$f":"[1]!AgePb6U8(H37)","v":2525.3320517723905},0.20915384615384616,{"$f":"[1]!AgePb8Th2(J37)","v":3838.7228758881092},null,null,10728]
[30.8,64.599999999999994,18.187000000000001,15.488,38.018999999999998,0.85159729477099022,{"$f":"[1]!AgePb76(F38)","v":5010.5788275678569},0.590487012987013,{"$f":"[1]!AgePb6U8(H38)","v":2991.3957570266148},0.58852941176470586,{"$f":"[1]!AgePb8Th2(J38)","v":9354.3949467132534},null,null,10585]
[17.5,54.2,18.238,15.519,37.951999999999998,0.85091567057791428,{"$f":"[1]!AgePb76(F39)","v":5009.4428499809119},1.0421714285714285,{"$f":"[1]!AgePb6U8(H39)","v":4602.8278325672927},0.70022140221402207,{"$f":"[1]!AgePb8Th2(J39)","v":10727.8116054291},null,null,9986]
[11.5,0.66,18.878,15.577,38.56,0.82514037503972881,{"$f":"[1]!AgePb76(F40)","v":4965.7619133854987},1.6415652173913045,{"$f":"[1]!AgePb6U8(H40)","v":6261.8638314044993},58.424242424242422,{"$f":"[1]!AgePb8Th2(J40)","v":82560.935113286818},null,null,9769]
[22.2,114,18.170999999999999,15.467000000000001,37.661000000000001,0.85119145891805625,{"$f":"[1]!AgePb76(F41)","v":5009.9025881944681},0.81851351351351354,{"$f":"[1]!AgePb6U8(H41)","v":3855.0808480211463},0.33035964912280702,{"$f":"[1]!AgePb8Th2(J41)","v":5769.5668226979687},null,null,9570]
[9.48,41.1,18.32,15.52,38.167999999999999,0.84716157205240172,{"$f":"[1]!AgePb76(F42)","v":5003.1689948040403},1.9324894514767932,{"$f":"[1]!AgePb6U8(H42)","v":6935.3856852838744},0.92866180048661795,{"$f":"[1]!AgePb8Th2(J42)","v":13275.925109707478},null,null,9354]
[3.08,3,18.32,15.510999999999999,38.112000000000002,0.84667030567685586,{"$f":"[1]!AgePb76(F43)","v":5002.3458053726736},5.9480519480519476,{"$f":"[1]!AgePb6U8(H43)","v":12496.124577226899},12.704000000000001,{"$f":"[1]!AgePb8Th2(J43)","v":52909.302900895782},null,null,9331]
[6.17,13.3,18.343,15.504,38.200000000000003,0.84522706209453191,{"$f":"[1]!AgePb76(F44)","v":4999.9244995778135},2.9729335494327391,{"$f":"[1]!AgePb6U8(H44)","v":8892.858992124955},2.8721804511278197,{"$f":"[1]!AgePb8Th2(J44)","v":27363.674026113844},null,null,9290]
[38,195,18.995000000000001,15.557,38.683,0.81900500131613585,{"$f":"[1]!AgePb76(F45)","v":4955.1506646474973},0.49986842105263163,{"$f":"[1]!AgePb6U8(H45)","v":2613.2305235284848},0.19837435897435898,{"$f":"[1]!AgePb8Th2(J45)","v":3657.7248610911729},null,null,9141]
[38.6,177,18.850000000000001,15.545999999999999,38.634,0.82472148541114054,{"$f":"[1]!AgePb76(F46)","v":4965.0401076298058},0.48834196891191711,{"$f":"[1]!AgePb6U8(H46)","v":2563.4986483415278},0.21827118644067797,{"$f":"[1]!AgePb8Th2(J46)","v":3990.5567149302979},null,null,8893]
[67.2,354,18.895,15.568,38.796999999999997,0.82392167240010583,{"$f":"[1]!AgePb76(F47)","v":4963.6608341551791},0.28117559523809521,{"$f":"[1]!AgePb6U8(H47)","v":1597.280194740018},0.10959604519774011,{"$f":"[1]!AgePb8Th2(J47)","v":2101.9914268383804},null,null,8029]
[32.1,99.4,18.905000000000001,15.552,38.811,0.82263951335625485,{"$f":"[1]!AgePb76(F48)","v":4961.4467847868063},0.58894080996884735,{"$f":"[1]!AgePb6U8(H48)","v":2985.1257824239296},0.39045271629778672,{"$f":"[1]!AgePb8Th2(J48)","v":6662.5445031572117},null,null,7684]
[73,413,17.818000000000001,15.448,37.200000000000003,0.86698843865753727,{"$f":"[1]!AgePb76(F49)","v":5035.9754126488715},0.24408219178082194,{"$f":"[1]!AgePb6U8(H49)","v":1407.8843687206183},9.0072639225181605E-2,{"$f":"[1]!AgePb8Th2(J49)","v":1743.190207409785},null,null,7570]
[47.2,162,18.951000000000001,15.558999999999999,38.302999999999997,0.82101208379505031,{"$f":"[1]!AgePb76(F50)","v":4958.6312280874299},0.40150423728813556,{"$f":"[1]!AgePb6U8(H50)","v":2175.9620629374126},0.23643827160493824,{"$f":"[1]!AgePb8Th2(J50)","v":4289.7399668706576},null,null,7547]
[40,208,18.809999999999999,15.563000000000001,38.503,0.82737905369484321,{"$f":"[1]!AgePb76(F51)","v":4969.6128797786541},0.47024999999999995,{"$f":"[1]!AgePb6U8(H51)","v":2484.6572400188775},0.18511057692307692,{"$f":"[1]!AgePb8Th2(J51)","v":3432.7657219356011},null,null,7271]
[31.6,196,18.832999999999998,15.532,38.340000000000003,0.82472256146126488,{"$f":"[1]!AgePb76(F52)","v":4965.0419623147918},0.59598101265822778,{"$f":"[1]!AgePb6U8(H52)","v":3013.6251547214501},0.1956122448979592,{"$f":"[1]!AgePb8Th2(J52)","v":3611.0842447598225},null,null,7133]
[65.3,367,17.712,15.459,37.451000000000001,0.87279810298102978,{"$f":"[1]!AgePb76(F53)","v":5045.4376117728543},0.27124042879019911,{"$f":"[1]!AgePb6U8(H53)","v":1547.0951772894664},0.10204632152588557,{"$f":"[1]!AgePb8Th2(J53)","v":1963.9968448680027},null,null,7084]
[48.5,182,18.492000000000001,15.516999999999999,38.168999999999997,0.83911961929483014,{"$f":"[1]!AgePb76(F54)","v":4989.6292957010137},0.38127835051546394,{"$f":"[1]!AgePb6U8(H54)","v":2082.2524501746984},0.20971978021978022,{"$f":"[1]!AgePb8Th2(J54)","v":3848.1808224984379},null,null,7030]
[142,632,17.728000000000002,15.48,36.645000000000003,0.87319494584837543,{"$f":"[1]!AgePb76(F55)","v":5046.0815090194974},0.12484507042253522,{"$f":"[1]!AgePb6U8(H55)","v":758.39040124292455},5.7982594936708869E-2,{"$f":"[1]!AgePb8Th2(J55)","v":1139.2396642810857},null,null,6935]
[13.8,6.25,17.533999999999999,15.416,37.383000000000003,0.87920611383597591,{"$f":"[1]!AgePb76(F56)","v":5055.7971279975545},1.2705797101449274,{"$f":"[1]!AgePb6U8(H56)","v":5286.2864000524505},5.9812800000000008,{"$f":"[1]!AgePb8Th2(J56)","v":39277.054695317835},null,null,6929]
[10.7,7.88,17.518999999999998,15.401999999999999,37.308,0.87915976939323026,{"$f":"[1]!AgePb76(F57)","v":5055.7224931599912},1.6372897196261682,{"$f":"[1]!AgePb6U8(H57)","v":6251.4215533785737},4.7345177664974623,{"$f":"[1]!AgePb8Th2(J57)","v":35300.730894287917},null,null,6870]
[8.67,6.93,17.547999999999998,15.419,37.383000000000003,0.87867563255071812,{"$f":"[1]!AgePb76(F58)","v":5054.9425712790944},2.0239907727796997,{"$f":"[1]!AgePb6U8(H58)","v":7133.4562899801249},5.3943722943722952,{"$f":"[1]!AgePb8Th2(J58)","v":37502.137938853171},null,null,6765]
[14.7,23.9,17.472999999999999,15.401,37.301000000000002,0.88141704343844796,{"$f":"[1]!AgePb76(F59)","v":5059.352851462254},1.188639455782313,{"$f":"[1]!AgePb6U8(H59)","v":5049.3479304001485},1.5607112970711299,{"$f":"[1]!AgePb8Th2(J59)","v":19005.256600638753},null,null,6663]
[20.399999999999999,21.6,17.414999999999999,15.391999999999999,37.270000000000003,0.88383577375825439,{"$f":"[1]!AgePb76(F60)","v":5063.2319482841185},0.85367647058823526,{"$f":"[1]!AgePb6U8(H60)","v":3978.5395549255254},1.725462962962963,{"$f":"[1]!AgePb8Th2(J60)","v":20265.55448913695},null,null,6590]
[11.2,19,17.436,15.395,37.265000000000001,0.88294333562743743,{"$f":"[1]!AgePb76(F61)","v":5061.8019916880858},1.5567857142857144,{"$f":"[1]!AgePb6U8(H61)","v":6051.5770458204024},1.9613157894736843,{"$f":"[1]!AgePb8Th2(J61)","v":21943.076160394539},null,null,6505]
[null,null,null,null,null,"Average",{"$f":"AVERAGE(G3:G61)","v":4999.6611543741865},"Average",{"$f":"AVERAGE(I3:I61)","v":5013.734024229183},"Average",{"$f":"AVERAGE(K3:K61)","v":16890.426783320599},null,null,6333]
[null,null,null,null,null,"Maximum",{"$f":"MAX(G3:G62)","v":5073.7779586421702},"Maximum",{"$f":"MAX(I3:I62)","v":13307.51267603409},"Maximum",{"$f":"MAX(K3:K62)","v":82560.935113286818},null,null,6262]
["Million Years","Million Years","Million Years","Million Years",null,"Minimum",{"$f":"MIN(G3:G63)","v":4939.7657306015908},"Minimum",{"$f":"MIN(I3:I63)","v":758.39040124292455},"Minimum",{"$f":"MIN(K3:K63)","v":1139.2396642810857},null,null,6251]
[82560.935113286818,27363.674026113844,17661.823056664914,10727.8116054291,null,"Difference",{"$f":"(G63-G64)","v":134.01222804057943},"Difference",{"$f":"(I63-I64)","v":12549.122274791165},"Difference",{"$f":"(K63-K64)","v":81421.695449005725},null,null,6052]
[52909.302900895782,27241.292826144589,15723.495555507954,9986.0967353123015,null,null,null,null,null,null,null,null,null,5946]
[51126.440281600822,25102.280542562999,15131.6007548545,9570.0349273376414,null,"Dating","207Pb/206Pb","206Pb/238U","208Pb/232Th",null,null,null,null,5770]
[39277.054695317835,24925.016108579173,15032.442198031533,9354.3949467132534,null,"Summary","Age","Age","Age",null,null,null,null,5315]
[37502.137938853171,23860.452287203952,14950.193271532835,9331.2561366991631,null,"Average",4999.6611543741865,5013.734024229183,16890.426783320599,null,null,null,null,5286]
[35300.730894287917,23310.427378453976,14699.360471596672,9289.6059538209829,null,"Maximum",5073.7779586421702,13307.51267603409,82560.935113286818,null,null,null,null,5074]
[31540.616567303226,21943.076160394539,14231.544881127515,9140.9702281951832,null,"Minimum",4939.7657306015908,758.39040124292455,1139.2396642810857,null,null,null,null,5074]
[30608.197150447584,20265.55448913695,13778.490732868051,6929.2888859919767,null,"Difference",134.01222804057943,12549.122274791165,81421.695449005725,null,null,null,null,5063]
[28811.243184217095,20143.981175290621,13275.925109707478,6662.5445031572117,null,null,null,null,null,null,null,null,null,5062]
[28284.251653087689,19005.256600638753,12139.934621639286,6589.837583835344,null,null,null,null,null,null,null,null,null,5059]
[27459.601291408351,18673.751957149503,11753.927022695978,6505.142477988592,null,null,null,null,null,null,null,null,null,5056]
[null,null,null,null,null,null,null,null,null,null,null,null,null,5056]
[null,null,null,null,null,null,null,null,null,null,null,null,null,5056]
[null,null,null,null,null,null,null,null,null,null,null,null,null,5055]
[null,null,null,null,null,null,null,null,null,null,null,null,null,5053]
["206Pb/238U","206Pb/238U","206Pb/238U",null,null,null,null,null,null,null,null,null,null,5049]
["Age Sorted","Age Sorted","Age Sorted",null,null,null,null,null,null,null,null,null,null,5049]
[13307.51267603409,7684.1462719406027,6935.3856852838744,null,null,null,null,null,null,null,null,null,null,5046]
[12496.124577226899,7569.8939070760462,6869.9535006633178,null,null,null,null,null,null,null,null,null,null,5045]
[10935.442082131065,7546.5317490711295,6765.3509178054965,null,null,null,null,null,null,null,null,null,null,5041]
[10585.084381891551,7271.200335779029,6332.624456670701,null,null,null,null,null,null,null,null,null,null,5036]
[9768.8460204805433,7133.4562899801249,6261.8638314044993,null,null,null,null,null,null,null,null,null,null,5022]
[8892.858992124955,7083.6781181351043,6251.4215533785737,null,null,null,null,null,null,null,null,null,null,5019]
[8029.2880550415139,7030.4164503849806,6051.5770458204024,null,null,null,null,null,null,null,null,null,null,5011]
[null,null,null,null,null,null,null,null,null,null,null,null,null,5010]
[null,null,null,null,null,null,null,null,null,null,null,null,null,5009]
[null,null,null,null,null,null,null,null,null,null,null,null,null,5009]
[null,null,null,null,null,null,null,null,null,null,null,null,null,5009]
[null,null,null,null,null,null,null,null,null,null,null,null,null,5003]
[null,null,null,null,null,null,null,null,null,null,null,null,null,5002]
[null,null,null,null,null,null,null,null,null,null,null,null,null,5002]
[6935.3856852838744,null,null,null,null,null,null,null,null,null,null,null,null,5002]
[6869.9535006633178,null,null,null,null,null,null,null,null,null,null,null,null,5002]
[6765.3509178054965,null,null,null,null,null,null,null,null,null,null,null,null,5000]
[6332.624456670701,null,null,null,null,null,null,null,null,null,null,null,null,5000]
[6261.8638314044993,null,null,null,null,null,null,null,null,null,null,null,null,4999]
[6251.4215533785737,null,null,null,null,null,null,null,null,null,null,null,null,4998]
[6051.5770458204024,null,null,null,null,null,null,null,null,null,null,null,null,4995]
[5945.7726614140174,null,null,null,null,null,null,null,null,null,null,null,null,4995]
[5314.5468364368908,null,null,null,null,null,null,null,null,null,null,null,null,4995]
[5286.2864000524505,null,null,null,null,null,null,null,null,null,null,null,null,4990]
[5073.9069682899908,null,null,null,null,null,null,null,null,null,null,null,null,4990]
[5049.3479304001485,null,null,null,null,null,null,null,null,null,null,null,null,4989]
[4963.2736841008164,null,null,null,null,null,null,null,null,null,null,null,null,4988]
[4649.0299706811193,null,null,null,null,null,null,null,null,null,null,null,null,4987]
[4613.1831517292749,null,null,null,null,null,null,null,null,null,null,null,null,4987]
[4602.8278325672927,null,null,null,null,null,null,null,null,null,null,null,null,4986]
[4586.9103968849386,null,null,null,null,null,null,null,null,null,null,null,null,4986]
[4516.0538010162227,null,null,null,null,null,null,null,null,null,null,null,null,4981]
[4212.8514382181629,null,null,null,null,null,null,null,null,null,null,null,null,4970]
[4163.7021480058002,null,null,null,null,null,null,null,null,null,null,null,null,4966]
[3978.5395549255254,null,null,null,null,null,null,null,null,null,null,null,null,4965]
[3855.0808480211463,null,null,null,null,null,null,null,null,null,null,null,null,4965]
[3531.7973086006537,null,null,null,null,null,null,null,null,null,null,null,null,4964]
[3251.8271432658439,null,null,null,null,null,null,null,null,null,null,null,null,4963]
[3122.9457677047212,null,null,null,null,null,null,null,null,null,null,null,null,4963]
[3115.5081283343743,null,null,null,null,null,null,null,null,null,null,null,null,4961]
[3013.6251547214501,null,null,null,null,null,null,null,null,null,null,null,null,4959]
[2991.3957570266148,null,null,null,null,null,null,null,null,null,null,null,null,4959]
[2985.1257824239296,null,null,null,null,null,null,null,null,null,null,null,null,4956]
[2736.8495417415038,null,null,null,null,null,null,null,null,null,null,null,null,4955]
[2613.2305235284848,null,null,null,null,null,null,null,null,null,null,null,null,4953]
[2611.3008858755848,null,null,null,null,null,null,null,null,null,null,null,null,4951]
[2563.4986483415278,null,null,null,null,null,null,null,null,null,null,null,null,4949]
[2525.3320517723905,null,null,null,null,null,null,null,null,null,null,null,null,4944]
[2484.6572400188775,null,null,null,null,null,null,null,null,null,null,null,null,4943]
[2251.7432665564611,null,null,null,null,null,null,null,null,null,null,null,null,4940]
[2175.9620629374126]
[2082.2524501746984]
[1918.5126181011221]
[1614.1219003484264]
[1597.280194740018]
[1547.0951772894664]
[1407.8843687206183]
[1296.0005349863256]
[758.39040124292455]

{"sheet":"Iso_Plot_005","index":5,"n_rows":95,"n_cols":18,"rows_kept":95,"cut":false,"hidden":false,"merged":[]}
[null,null,null,null,null,null,null,null,null,null,null,null,null,null,null,null,null,44378]
["Table 2","Mount Bureau",null,null,null,null,null,"Age",null,"Age",null,"Age",null,"Age",null,null,null,23366]
["238U/204Pb","235U/204Pb","232Th/204Pb","206Pb/204Pb","207Pb/204Pb","208Pb/204Pb","207Pb/206Pb","207Pb/206Pb","206Pb/238U","206Pb/238U","207Pb/235U","207Pb/235U","208Pb/232Th","208Pb/232Th","Model Age",null,null,9092]
[10.92,7.9200000000000007E-2,162.69999999999999,18.225999999999999,15.536,38.94,{"$f":"(E4/D4)","v":0.8524086469878196},{"$f":"[1]!AgePb76(G4)","v":5011.9297484819017},{"$f":"(D4/A4)","v":1.6690476190476189},{"$f":"[1]!AgePb6U8(I4)","v":6328.5847658001348},{"$f":"(E4/B4)","v":196.16161616161614},{"$f":"[1]!AgePb7U5(K4)","v":5365.3081982149779},{"$f":"(F4/C4)","v":0.2393362015980332},{"$f":"[1]!AgePb8Th2(M4)","v":4337.0574025151682},30,null,null,8651]
[14.75,0.107,121.1,18.283000000000001,15.536,38.97,{"$f":"(E5/D5)","v":0.84975113493409171},{"$f":"[1]!AgePb76(G5)","v":5007.4998266130551},{"$f":"(D5/A5)","v":1.2395254237288136},{"$f":"[1]!AgePb6U8(I5)","v":5197.5115488395477},{"$f":"(E5/B5)","v":145.19626168224298},{"$f":"[1]!AgePb7U5(K5)","v":5061.6337280802809},{"$f":"(F5/C5)","v":0.32180016515276633},{"$f":"[1]!AgePb8Th2(M5)","v":5639.1019504711376},30,null,null,8624]
[11.29,8.1900000000000001E-2,67.69,18.222000000000001,15.509,38.450000000000003,{"$f":"(E6/D6)","v":0.85111403797607288},{"$f":"[1]!AgePb76(G6)","v":5009.773543723798},1.613994685562445,{"$f":"[1]!AgePb6U8(I6)","v":6194.2277655619928},189.36507936507937,{"$f":"[1]!AgePb7U5(K6)","v":5329.688479301607},0.56803072832028367,{"$f":"[1]!AgePb8Th2(M6)","v":9091.8750657752935},30,null,null,8496]
[14.96,0.1085,117.7,18.338000000000001,15.545999999999999,39.020000000000003,0.84774784600283559,{"$f":"[1]!AgePb76(G7)","v":5004.1507201128843},1.2258021390374332,{"$f":"[1]!AgePb6U8(I7)","v":5157.887913465458},143.2811059907834,{"$f":"[1]!AgePb7U5(K7)","v":5048.2444246252753},0.3315208156329652,{"$f":"[1]!AgePb8Th2(M7)","v":5787.2007957565302},30,null,null,8144]
[22.31,0.1618,101.1,18.27,15.536,38.68,0.85035577449370547,{"$f":"[1]!AgePb76(G8)","v":5008.5090181914238},0.81891528462572838,{"$f":"[1]!AgePb6U8(I8)","v":3856.5049215357135},96.019777503090239,{"$f":"[1]!AgePb7U5(K8)","v":4645.2910082801582},0.38259149357072209,{"$f":"[1]!AgePb8Th2(M8)","v":6547.9460742305673},30,null,null,8142]
[15.12,0.10970000000000001,94.81,18.372,15.541,38.979999999999997,0.84590681471804918,{"$f":"[1]!AgePb76(G9)","v":5001.0654559317072},1.2150793650793652,{"$f":"[1]!AgePb6U8(I9)","v":5126.7573478858894},141.66818596171376,{"$f":"[1]!AgePb7U5(K9)","v":5036.8295234008556},0.41113806560489397,{"$f":"[1]!AgePb8Th2(M9)","v":6961.0210723731198},30,null,null,8023]
[20.85,0.1512,277.89999999999998,18.396999999999998,15.59,38.93,0.84742077512637937,{"$f":"[1]!AgePb76(G10)","v":5003.6031235531336},0.88235011990407664,{"$f":"[1]!AgePb6U8(I10)","v":4077.4927312904301},103.10846560846561,{"$f":"[1]!AgePb7U5(K10)","v":4716.8942419675641},0.14008636200071969,{"$f":"[1]!AgePb8Th2(M10)","v":2649.904308803129},30,null,null,7788]
[19.21,0.13930000000000001,72.97,18.481999999999999,15.555999999999999,38.83,0.8416838004544962,{"$f":"[1]!AgePb76(G11)","v":4993.9613524733704},0.96210307131702233,{"$f":"[1]!AgePb6U8(I11)","v":4344.9920616537929},111.6726489590811,{"$f":"[1]!AgePb7U5(K11)","v":4797.1637332337405},0.53213649444977384,{"$f":"[1]!AgePb8Th2(M11)","v":8623.81329850369},30,null,null,7518]
[26.9,0.1951,134,18.228999999999999,15.478,38.520000000000003,0.84908662022052772,{"$f":"[1]!AgePb76(G12)","v":5006.3898185708231},0.67765799256505577,{"$f":"[1]!AgePb6U8(I12)","v":3335.3667608445003},79.333675038441825,{"$f":"[1]!AgePb7U5(K12)","v":4453.661875822776},0.28746268656716423,{"$f":"[1]!AgePb8Th2(M12)","v":5107.0919015407972},30,null,null,7507]
[16.25,0.1179,78.16,18.466999999999999,15.539,38.78,0.84144690529051824,{"$f":"[1]!AgePb76(G13)","v":4993.5617181034459},1.1364307692307691,{"$f":"[1]!AgePb6U8(I13)","v":4893.7087623095968},131.79813401187445,{"$f":"[1]!AgePb7U5(K13)","v":4964.0353209404611},0.49616171954964178,{"$f":"[1]!AgePb8Th2(M13)","v":8143.5669532692691},30,null,null,7416]
[18.809999999999999,0.13639999999999999,116.6,18.419,15.5,38.549999999999997,0.84152234106086099,{"$f":"[1]!AgePb76(G14)","v":4993.6889887429197},0.97921318447634242,{"$f":"[1]!AgePb6U8(I14)","v":4400.9629921151109},113.63636363636364,{"$f":"[1]!AgePb7U5(K14)","v":4814.7078876646692},0.33061749571183535,{"$f":"[1]!AgePb8Th2(M14)","v":5773.4839207275827},30,null,null,7245]
[0.5,3.5999999999999999E-3,4.82,18.257000000000001,15.491,38.49,0.84849646710850624,{"$f":"[1]!AgePb76(G15)","v":5005.4032506051008},36.514000000000003,{"$f":"[1]!AgePb6U8(I15)","v":23366.409003307977},4303.0555555555557,{"$f":"[1]!AgePb7U5(K15)","v":8496.0278312916835},7.9854771784232366,{"$f":"[1]!AgePb8Th2(M15)","v":44378.163257484106},30,null,null,7046]
[14.83,0.1076,90.03,18.204999999999998,15.526999999999999,38.81,0.85289755561658886,{"$f":"[1]!AgePb76(G16)","v":5012.7431338965898},1.2275792312879297,{"$f":"[1]!AgePb6U8(I16)","v":5163.0327112458226},144.30297397769516,{"$f":"[1]!AgePb7U5(K16)","v":5055.4105073975852},0.43107852937909585,{"$f":"[1]!AgePb8Th2(M16)","v":7244.6362070260266},30,null,null,6961]
[10.27,7.4499999999999997E-2,248.6,18.353000000000002,15.542,38.950000000000003,0.84683702936849559,{"$f":"[1]!AgePb76(G17)","v":5002.6252324234338},1.7870496592015581,{"$f":"[1]!AgePb6U8(I17)","v":6607.468599499447},208.61744966442953,{"$f":"[1]!AgePb7U5(K17)","v":5427.5109927373742},0.15667739340305714,{"$f":"[1]!AgePb8Th2(M17)","v":2941.9217601445685},30,null,null,6607]
[22.28,0.16159999999999999,121.4,18.297000000000001,15.51,38.86,0.84767994753238229,{"$f":"[1]!AgePb76(G18)","v":5004.0370599428852},0.821229802513465,{"$f":"[1]!AgePb6U8(I18)","v":3864.7025854143553},95.977722772277232,{"$f":"[1]!AgePb7U5(K18)","v":4644.8507792917935},0.32009884678747941,{"$f":"[1]!AgePb8Th2(M18)","v":5613.0695851344444},30,null,null,6560]
[17.04,0.1236,93.1,18.279,15.513,38.83,0.84867881175118987,{"$f":"[1]!AgePb76(G19)","v":5005.7081567116329},1.0727112676056338,{"$f":"[1]!AgePb6U8(I19)","v":4698.5175913811418},125.50970873786407,{"$f":"[1]!AgePb7U5(K19)","v":4914.7779399283636},0.41707841031149301,{"$f":"[1]!AgePb8Th2(M19)","v":7045.9281376991175},30,null,null,6548]
[12.67,9.1899999999999996E-2,72.37,18.131,15.51,38.659999999999997,0.85544095747614579,{"$f":"[1]!AgePb76(G20)","v":5016.966557689705},1.4310181531176007,{"$f":"[1]!AgePb6U8(I20)","v":5726.4152306326505},168.77040261153428,{"$f":"[1]!AgePb7U5(K20)","v":5213.4304222281444},0.53419925383446176,{"$f":"[1]!AgePb8Th2(M20)","v":8651.007300417139},30,null,null,6422]
[15.2,0.11020000000000001,86.24,18.248000000000001,15.512,38.79,0.85006576063130201,{"$f":"[1]!AgePb76(G21)","v":5008.025057097464},1.2005263157894739,{"$f":"[1]!AgePb6U8(I21)","v":5084.2647297471931},140.7622504537205,{"$f":"[1]!AgePb7U5(K21)","v":5030.3613360689951},0.44979128014842301,{"$f":"[1]!AgePb8Th2(M21)","v":7507.2178139711214},30,null,null,6329]
["XX.XX","X.XXXX",79.569999999999993,18.126999999999999,15.521000000000001,38.770000000000003,0.85623655320792202,{"$f":"[1]!AgePb76(G22)","v":5018.2849398596491},null,null,null,null,0.48724393615684314,{"$f":"[1]!AgePb8Th2(M22)","v":8022.7326904316224},30,null,null,6328]
[14.9,0.108,78.22,18.129000000000001,15.537000000000001,38.799999999999997,0.85702465662750282,{"$f":"[1]!AgePb76(G23)","v":5019.5896247102164},1.2167114093959732,{"$f":"[1]!AgePb6U8(I23)","v":5131.505240843564},143.86111111111111,{"$f":"[1]!AgePb7U5(K23)","v":5052.318047396825},0.49603681922781895,{"$f":"[1]!AgePb8Th2(M23)","v":8141.8795559923601},30,null,null,6216]
[null,null,null,null,null,null,"Average",{"$f":"AVERAGE(H4:H23)","v":5006.3758163717566},null,{"$f":"AVERAGE(J4:J23)","v":5924.0164875460177},null,{"$f":"AVERAGE(L4:L23)","v":5161.4813830459543},null,{"$f":"AVERAGE(N4:N23)","v":8410.4309526133402},null,null,null,6194]
[null,null,null,null,null,null,"Maximum",{"$f":"MAX(H4:H24)","v":5019.5896247102164},null,{"$f":"MAX(J4:J24)","v":23366.409003307977},null,{"$f":"MAX(L4:L24)","v":8496.0278312916835},null,{"$f":"MAX(N4:N24)","v":44378.163257484106},null,null,null,5966]
[null,null,null,null,null,null,"Minimum",{"$f":"MIN(H4:H25)","v":4993.5617181034459},null,{"$f":"MIN(J4:J25)","v":3335.3667608445003},null,{"$f":"MIN(L4:L25)","v":4453.661875822776},null,{"$f":"MIN(N4:N25)","v":2649.904308803129},null,null,null,5787]
[null,null,null,null,null,null,"Difference",{"$f":"(H25-H26)","v":26.027906606770557},null,{"$f":"(J25-J26)","v":20031.042242463478},null,{"$f":"(L25-L26)","v":4042.3659554689075},null,{"$f":"(N25-N26)","v":41728.258948680974},null,null,null,5773]
[null,null,null,null,null,null,null,null,null,null,null,null,null,null,null,null,null,5726]
[null,null,null,null,null,null,null,null,null,null,null,null,null,null,null,null,null,5639]
["Table 2","Mount Rabouillere",null,null,null,null,null,"Age",null,"Age",null,"Age",null,"Age",null,null,null,5613]
["238U/204Pb","235U/204Pb","232Th/204Pb","206Pb/204Pb","207Pb/204Pb","208Pb/204Pb","207Pb/206Pb","207Pb/206Pb","206Pb/238U","206Pb/238U","207Pb/235U","207Pb/235U","208Pb/232Th","208Pb/232Th","Model Age",null,null,5428]
[16.62,0.1205,86.42,18.181999999999999,15.577999999999999,38.94,{"$f":"(E32/D32)","v":0.85678143218567815},{"$f":"[1]!AgePb76(G32)","v":5019.187108886581},{"$f":"(D32/A32)","v":1.093983152827918},{"$f":"[1]!AgePb6U8(I32)","v":4764.3388684356778},{"$f":"(E32/B32)","v":129.2780082987552},{"$f":"[1]!AgePb7U5(K32)","v":4944.5810960451299},{"$f":"(F32/C32)","v":0.45059014117102519},{"$f":"[1]!AgePb8Th2(M32)","v":7518.3520473770232},30,null,null,5365]
[16.690000000000001,0.1211,158.69999999999999,18.202000000000002,15.547000000000001,38.65,{"$f":"(E33/D33)","v":0.85413690803208431},{"$f":"[1]!AgePb76(G33)","v":5014.802797998399},{"$f":"(D33/A33)","v":1.0905931695626123},{"$f":"[1]!AgePb6U8(I33)","v":4753.8942072343489},{"$f":"(E33/B33)","v":128.38150289017341},{"$f":"[1]!AgePb7U5(K33)","v":4937.5696061754024},{"$f":"(F33/C33)","v":0.24354127284183996},{"$f":"[1]!AgePb8Th2(M33)","v":4405.5214669326479},30,null,null,5355]
[15.2,0.11020000000000001,101.4,18.416,15.568,38.880000000000003,{"$f":"(E34/D34)","v":0.84535186794092088},{"$f":"[1]!AgePb76(G34)","v":5000.1340576780012},1.2115789473684211,{"$f":"[1]!AgePb6U8(I34)","v":5116.5622320735802},141.2704174228675,{"$f":"[1]!AgePb7U5(K34)","v":5033.9946130656053},0.3834319526627219,{"$f":"[1]!AgePb8Th2(M34)","v":6560.2290877189398},30,null,null,5330]
[15.18,0.1101,87.87,18.271999999999998,15.574,38.950000000000003,0.85234238178633981,{"$f":"[1]!AgePb76(G35)","v":5011.8194665510582},1.2036890645586298,{"$f":"[1]!AgePb6U8(I35)","v":5093.5233105675779},141.45322434150771,{"$f":"[1]!AgePb7U5(K35)","v":5035.2984673684023},0.44326846477751225,{"$f":"[1]!AgePb8Th2(M35)","v":7416.0749623877464},30,null,null,5260]
[19.3,0.14000000000000001,113.5,18.334,15.568,38.97,0.84913275880877059,{"$f":"[1]!AgePb76(G36)","v":5006.4669184558252},0.94994818652849733,{"$f":"[1]!AgePb6U8(I36)","v":4304.9334485841282},111.19999999999999,{"$f":"[1]!AgePb7U5(K36)","v":4792.895357758639},0.34334801762114536,{"$f":"[1]!AgePb8Th2(M36)","v":5965.9427683144677},30,null,null,5213]
[14.24,0.1033,103.7,18.437999999999999,15.581,38.119999999999997,0.84504826987742709,{"$f":"[1]!AgePb76(G37)","v":4999.624237153047},1.2948033707865167,{"$f":"[1]!AgePb6U8(I37)","v":5354.6956494749538},150.83252662149079,{"$f":"[1]!AgePb7U5(K37)","v":5100.0437781156752},0.36759884281581484,{"$f":"[1]!AgePb8Th2(M37)","v":6327.5701392697101},30,null,null,5198]
[17.13,0.1242,82.61,18.398,15.558,38.83,0.84563539515164687,{"$f":"[1]!AgePb76(G38)","v":5000.6099983935046},1.0740221833041448,{"$f":"[1]!AgePb6U8(I38)","v":4702.5934288720227},125.26570048309178,{"$f":"[1]!AgePb7U5(K38)","v":4912.8176074381736},0.47003994673768307,{"$f":"[1]!AgePb8Th2(M38)","v":7787.5608908116383},30,null,null,5163]
[17.739999999999998,0.12870000000000001,262.2,18.384,15.586,38.94,0.84780243690165358,{"$f":"[1]!AgePb76(G39)","v":5004.242096762373},1.0363021420518603,{"$f":"[1]!AgePb6U8(I39)","v":4584.2738920684542},121.10334110334109,{"$f":"[1]!AgePb7U5(K39)","v":4878.7812808102835},0.14851258581235699,{"$f":"[1]!AgePb8Th2(M39)","v":2798.7408098089518},30,null,null,5158]
[14.47,0.105,108,18.25,15.553000000000001,38.89,0.85221917808219183,{"$f":"[1]!AgePb76(G40)","v":5011.6144004535772},1.2612301313061507,{"$f":"[1]!AgePb6U8(I40)","v":5259.6871625537715},148.12380952380954,{"$f":"[1]!AgePb7U5(K40)","v":5081.765646860269},0.36009259259259258,{"$f":"[1]!AgePb8Th2(M40)","v":6216.3270382840583},30,null,null,5132]
[15.19,0.11020000000000001,104.2,18.288,15.574,38.97,0.85159667541557305,{"$f":"[1]!AgePb76(G41)","v":5010.5777958041954},1.2039499670836078,{"$f":"[1]!AgePb6U8(I41)","v":5094.2864791152087},141.32486388384754,{"$f":"[1]!AgePb7U5(K41)","v":5034.3831227711044},0.3739923224568138,{"$f":"[1]!AgePb8Th2(M41)","v":6421.8414563510778},30,null,null,5127]
[null,null,null,null,null,null,"Average",{"$f":"AVERAGE(H32:H41)","v":5007.9078878136561},null,{"$f":"AVERAGE(J32:J41)","v":4902.8788678979718},null,{"$f":"AVERAGE(L32:L41)","v":4975.213057640869},null,{"$f":"AVERAGE(N32:N41)","v":6141.8160667256261},null,null,null,5117]
[null,null,null,null,null,null,"Maximum",{"$f":"MAX(H32:H42)","v":5019.187108886581},null,{"$f":"MAX(J32:J42)","v":5354.6956494749538},null,{"$f":"MAX(L32:L42)","v":5100.0437781156752},null,{"$f":"MAX(N32:N42)","v":7787.5608908116383},null,null,null,5107]
[null,null,null,null,null,null,"Minimum",{"$f":"MIN(H32:H43)","v":4999.624237153047},null,{"$f":"MIN(J32:J43)","v":4304.9334485841282},null,{"$f":"MIN(L32:L43)","v":4792.895357758639},null,{"$f":"MIN(N32:N43)","v":2798.7408098089518},null,null,null,5100]
[null,null,null,null,null,null,"Difference",{"$f":"(H43-H44)","v":19.562871733533939},null,{"$f":"(J43-J44)","v":1049.7622008908256},null,{"$f":"(L43-L44)","v":307.14842035703623},null,{"$f":"(N43-N44)","v":4988.8200810026865},null,null,null,5094]
[null,null,null,null,null,null,null,null,null,null,null,null,null,null,null,null,null,5094]
[null,null,null,null,null,null,null,null,null,null,null,null,null,null,null,null,null,5084]
[null,"MAXIMUM","MINIMUM","DIFFERENCE","AVERAGE","4600 To 4999","5000 To 5999 ","6,000 To 9999","10,000 To 19,999","Over 19,999","Total",null,null,null,null,null,null,5082]
["207Pb/206Pb",5019.5896247102164,4993.5617181034459,26.027906606770557,5006.8865068523901,4,26,null,null,null,{"$f":"SUM(F49:J49)","v":30},null,null,null,null,null,null,5062]
["206Pb/238U",23366.409003307977,3335.3667608445003,20031.042242463478,5571.9000669777261,5,12,3,null,1,{"$f":"SUM(F50:J50)","v":21},null,null,null,null,null,null,5055]
["207Pb/235U",8496.0278312916835,4453.661875822776,4042.3659554689075,5097.2509260097177,12,15,1,null,null,{"$f":"SUM(F51:J51)","v":28},null,null,null,null,null,null,5052]
["208Pb/232Th",44378.163257484106,2649.904308803129,41728.258948680974,7654.2259906507697,null,6,18,null,1,{"$f":"SUM(F52:J52)","v":25},null,null,null,null,null,null,5048]
[null,null,null,null,null,null,null,null,null,null,null,null,null,null,null,null,null,5037]
[null,null,null,null,null,null,null,null,null,null,null,null,null,null,null,null,null,5035]
["Mount Bureau","Mount Rabouillere",null,null,null,null,"Mount Bureau","Age","Age","Age","Age",null,null,null,null,null,null,5034]
[44378.163257484106,7787.5608908116383,null,null,null,null,"Summary","207Pb/206Pb","206Pb/238U","207Pb/235U","208Pb/232Th",null,null,null,null,null,null,5034]
[9091.8750657752935,7518.3520473770232,null,null,null,null,"Average",5006.3758163717566,5924.0164875460177,5161.4813830459543,8410.4309526133402,null,null,null,null,null,null,5030]
[8651.007300417139,7416.0749623877464,null,null,null,null,"Maximum",5019.5896247102164,23366.409003307977,8496.0278312916835,44378.163257484106,null,null,null,null,null,null,5020]
[8623.81329850369,6560.2290877189398,null,null,null,null,"Minimum",4993.5617181034459,3335.3667608445003,4453.661875822776,2649.904308803129,null,null,null,null,null,null,5019]
[8143.5669532692691,6421.8414563510778,null,null,null,null,"Difference",26.027906606770557,20031.042242463478,4042.3659554689075,41728.258948680974,null,null,null,null,null,null,5018]
[8141.8795559923601,6327.5701392697101,null,null,null,null,null,null,null,null,null,null,null,null,null,null,null,5017]
[8022.7326904316224,6216.3270382840583,null,null,null,null,null,null,null,null,null,null,null,null,null,null,null,5015]
[7507.2178139711214,5965.9427683144677,null,null,null,null,"Mount Rabouillere","Age","Age","Age","Age",null,null,null,null,null,null,5013]
[7244.6362070260266,4405.5214669326479,null,null,null,null,"Summary","207Pb/206Pb","206Pb/238U","207Pb/235U","208Pb/232Th",null,null,null,null,null,null,5012]
[7045.9281376991175,2798.7408098089518,null,null,null,null,"Average",5007.9078878136561,4902.8788678979718,4975.213057640869,6141.8160667256261,null,null,null,null,null,null,5012]
[6961.0210723731198,null,null,null,null,null,"Maximum",5019.187108886581,5354.6956494749538,5100.0437781156752,7787.5608908116383,null,null,null,null,null,null,5012]
[6547.9460742305673,null,null,null,null,null,"Minimum",4999.624237153047,4304.9334485841282,4792.895357758639,2798.7408098089518,null,null,null,null,null,null,5011]
[5787.2007957565302,null,null,null,null,null,"Difference",19.562871733533939,1049.7622008908256,307.14842035703623,4988.8200810026865,null,null,null,null,null,null,5010]
[5773.4839207275827,null,null,null,null,null,null,null,null,null,null,null,null,null,null,null,null,5009]
[5639.1019504711376,null,null,null,null,null,null,null,null,null,null,null,null,null,null,null,null,5008]
[5613.0695851344444,null,null,null,null,null,null,null,null,null,null,null,null,null,null,null,null,5007]
[5107.0919015407972,null,null,null,null,null,null,null,null,null,null,null,null,null,null,null,null,5006]
[4337.0574025151682,null,null,null,null,null,null,null,null,null,null,null,null,null,null,null,null,5006]
[2941.9217601445685,null,null,null,null,null,null,null,null,null,null,null,null,null,null,null,null,5006]
[2649.904308803129,null,null,null,null,null,null,null,null,null,null,null,null,null,null,null,null,5005]
[null,null,null,null,null,null,null,null,null,null,null,null,null,null,null,null,null,5004]
[null,null,null,null,null,null,null,null,null,null,null,null,null,null,null,null,null,5004]
[null,null,null,null,null,null,null,null,null,null,null,null,null,null,null,null,null,5004]
[null,null,null,null,null,null,null,null,null,null,null,null,null,null,null,null,null,5004]
[null,null,null,null,null,null,null,null,null,null,null,null,null,null,null,null,null,5003]
[null,null,null,null,null,null,null,null,null,null,null,null,null,null,null,null,null,5001]
[null,null,null,null,null,null,null,null,null,null,null,null,null,null,null,null,null,5001]
[null,null,null,null,null,null,null,null,null,null,null,null,null,null,null,null,null,5000]
[null,null,null,null,null,null,null,null,null,null,null,null,null,null,null,null,null,5000]
[null,null,null,null,null,null,null,null,null,null,null,null,null,null,null,null,null,4994]
[null,null,null,null,null,null,null,null,null,null,null,null,null,null,null,null,null,4994]
[null,null,null,null,null,null,null,null,null,null,null,null,null,null,null,null,null,4994]
[null,null,null,null,null,null,null,null,null,null,null,null,null,null,null,null,null,4964]
[null,null,null,null,null,null,null,null,null,null,null,null,null,null,null,null,null,4945]
[null,null,null,null,null,null,null,null,null,null,null,null,null,null,null,null,null,4938]
[null,null,null,null,null,null,null,null,null,null,null,null,null,null,null,null,null,4915]
[null,null,null,null,null,null,null,null,null,null,null,null,null,null,null,null,null,4913]
[null,null,null,null,null,null,null,null,null,null,null,null,null,null,null,null,null,4894]
[null,null,null,null,null,null,null,null,null,null,null,null,null,null,null,null,null,4879]
[null,null,null,null,null,null,null,null,null,null,null,null,null,null,null,null,null,4815]

{"sheet":"Iso_Plot_006","index":6,"n_rows":82,"n_cols":24,"rows_kept":82,"cut":false,"hidden":false,"merged":[]}
[null,null,"Table 4","North Tibet",null,null,null,null,null,"MAXIMUM","MINIMUM","DIFFERENCE","AVERAGE","4600 To 4999","5000 To 5999 ","6,000 To 9999","10,000 To 19,999","Over 19,999","Total",null,null,null,null,88294.26279754343]
["208Pb/204Pb","232Th/204Pb","208Pb/232Th","Age","Model Age","Ratio","Percentage",null,"208Pb/232Th",88294.26279754343,4825.639072074915,83468.623725468511,24257.791817225319,1,null,3,5,4,{"$f":"SUM(N2:R2)","v":13},null,null,null,null,81613.942267147373]
[38.959000000000003,51.3,{"$f":"(A3/B3)","v":0.75943469785575057},{"$f":"[1]!AgePb8Th2(C3)","v":11419.758727760471},0.5,{"$f":"(D3/E3)","v":22839.517455520941},{"$f":"(F3 * 1000)","v":22839517.455520943},null,"206Pb/238U",33751.196897701564,4085.8676092720625,29665.329288429501,11984.576351198619,null,2,6,2,2,{"$f":"SUM(N3:R3)","v":12},null,null,null,null,33751.196897701564]
[39.023000000000003,51.8,{"$f":"(A4/B4)","v":0.75333976833976846},{"$f":"[1]!AgePb8Th2(C4)","v":11349.619165852151},0.5,{"$f":"(D4/E4)","v":22699.238331704302},{"$f":"(F4 * 1000)","v":22699238.331704304},null,"207Pb/235U",7470.608358384141,238.25719157513799,7232.3511668090032,2959.5971881363339,null,4,2,null,null,{"$f":"SUM(N4:R4)","v":6},null,null,null,null,33742.062252517193]
[38.859000000000002,41,0.94778048780487811,{"$f":"[1]!AgePb8Th2(C5)","v":13475.300918423836},13,1036.5616091095258,1036561.6091095258,null,"207Pb/206Pb ",4993.9836483959552,4919.2394511831753,74.744197212779909,4981.017121179957,13,null,null,null,null,{"$f":"SUM(N5:R5)","v":13},null,null,null,null,33190.723604729152]
[39.106000000000002,51,0.76678431372549027,{"$f":"[1]!AgePb8Th2(C6)","v":11504.014600254242},18.5,621.83862704076989,621838.6270407699,null,null,null,null,null,null,null,null,null,null,null,null,null,null,null,null,25014.918077208516]
[38.993000000000002,0.7,55.704285714285717,{"$f":"[1]!AgePb8Th2(C7)","v":81613.942267147373},13,6277.9955590113368,6277995.5590113364,null,null,null,null,null,null,null,null,null,null,null,null,null,null,null,null,15052.776558432242]
[38.957000000000001,0.5,77.914000000000001,{"$f":"[1]!AgePb8Th2(C8)","v":88294.26279754343},12.5,7063.5410238034747,7063541.0238034744,null,null,null,null,null,null,null,null,null,null,null,null,null,null,null,null,13475.300918423836]
[null,null,null,null,null,null,null,null,null,null,null,null,null,null,null,null,null,null,null,null,null,null,null,13327.509265235063]
[null,null,null,null,null,null,null,null,null,null,null,null,null,null,null,null,null,null,null,null,null,null,null,11504.014600254242]
[null,null,"Table 4","North Tibet",null,null,null,null,null,null,null,null,null,null,null,null,null,null,null,null,null,null,null,11419.758727760471]
["238U/204Pb","206Pb/204Pb","206Pb/238U","206Pb/238U Age","Model Age","Ratio","Percentage",null,null,null,null,null,null,null,null,null,null,null,null,null,null,null,null,11349.619165852151]
[8,18.7578,{"$f":"(B13/A13)","v":2.3447249999999999},{"$f":"[1]!AgePb6U8(C13)","v":7783.3004218757706},0.5,{"$f":"(D13/E13)","v":15566.600843751541},{"$f":"(F13 * 1000)","v":15566600.84375154},null,null,null,null,null,null,null,null,null,null,null,null,null,null,null,null,11101.892230374853]
[7.6,18.782699999999998,{"$f":"(B14/A14)","v":2.4714078947368421},{"$f":"[1]!AgePb6U8(C14)","v":8022.9508140196913},0.5,{"$f":"(D14/E14)","v":16045.901628039383},{"$f":"(F14 * 1000)","v":16045901.628039382},null,"North Tibet","South Tibet",null,null,null,null,null,null,null,null,null,null,null,null,null,9265.045241572434]
[7.1,18.648800000000001,2.626591549295775,{"$f":"[1]!AgePb6U8(C15)","v":8304.8718132784779},13,638.83629332911369,638836.29332911363,null,"Age","Age",null,null,null,null,null,null,null,null,null,null,null,null,null,8304.8718132784779]
[8.8000000000000007,18.715,2.1267045454545452,{"$f":"[1]!AgePb6U8(C16)","v":7348.7805900245694},18.5,397.2313832445713,397231.38324457128,null,88294.26279754343,33190.723604729152,null,null,null,null,null,null,null,null,null,null,null,null,null,8204.5270813781917]
[0.1,18.685199999999998,186.85199999999998,{"$f":"[1]!AgePb6U8(C17)","v":33751.196897701564},13,2596.2459152078127,2596245.9152078126,null,81613.942267147373,25014.918077208516,null,null,null,null,null,null,null,null,null,null,null,null,null,8022.9508140196913]
[0.1,18.6586,186.58599999999998,{"$f":"[1]!AgePb6U8(C18)","v":33742.062252517193},12.5,2699.3649802013756,2699364.9802013757,null,13475.300918423836,11101.892230374853,null,null,null,null,null,null,null,null,null,null,null,null,null,7783.3004218757706]
[null,null,null,null,null,null,null,null,11504.014600254242,9265.045241572434,null,null,null,null,null,null,null,null,null,null,null,null,null,7470.608358384141]
[null,null,null,null,null,null,null,null,11419.758727760471,8204.5270813781917,null,null,null,null,null,null,null,null,null,null,null,null,null,7469.7660662966409]
[null,null,"Table 4","North Tibet",null,null,null,null,11349.619165852151,6091.6498396095676,null,null,null,null,null,null,null,null,null,null,null,null,null,7348.7805900245694]
["235U/204Pb ","207Pb/204Pb ","207Pb/235U","207Pb/235U Age","Model Age","Ratio","Percentage",null,null,4825.639072074915,null,null,null,null,null,null,null,null,null,null,null,null,null,6682.2681477332317]
[0.1,15.638,{"$f":"(B23/A23)","v":156.38},{"$f":"[1]!AgePb7U5(C23)","v":5136.4809494916353},0.5,{"$f":"(D23/E23)","v":10272.961898983271},{"$f":"(F23 * 1000)","v":10272961.89898327},null,null,null,null,null,null,null,null,null,null,null,null,null,null,null,null,6331.0555203144813]
[0.1,15.654999999999999,{"$f":"(B24/A24)","v":156.54999999999998},{"$f":"[1]!AgePb7U5(C24)","v":5137.5771622107768},0.5,{"$f":"(D24/E24)","v":10275.154324421554},{"$f":"(F24 * 1000)","v":10275154.324421553},null,null,null,null,null,null,null,null,null,null,null,null,null,null,null,null,6091.6498396095676]
[0.1,15.615,156.15,{"$f":"[1]!AgePb7U5(C25)","v":5134.9959519150907},13,394.99968860885315,394999.68860885315,null,null,null,null,null,null,null,null,null,null,null,null,null,null,null,null,5799.4400516298692]
[0.1,15.693,156.92999999999998,{"$f":"[1]!AgePb7U5(C26)","v":5140.0232491059178},18.5,277.83909454626581,277839.09454626578,null,null,null,null,null,null,null,null,null,null,null,null,null,null,null,null,5567.4126235478452]
[0.01,15.654999999999999,1565.5,{"$f":"[1]!AgePb7U5(C27)","v":7469.7660662966409},13,574.59738971512627,574597.38971512625,null,null,null,null,null,null,null,null,null,null,null,null,null,null,null,null,5140.0232491059178]
[0.01,15.667999999999999,1566.8,{"$f":"[1]!AgePb7U5(C28)","v":7470.608358384141},12.5,597.64866867073124,597648.66867073125,null,null,null,null,null,null,null,null,null,null,null,null,null,null,null,null,5137.5771622107768]
[null,null,null,null,null,null,null,null,null,null,null,null,null,null,null,null,null,null,null,null,null,null,null,5136.4809494916353]
[null,null,null,null,null,null,null,null,null,null,null,null,null,null,null,null,null,null,null,null,null,null,null,5134.9959519150907]
[null,null,"Table 4","North Tibet",null,null,null,null,null,null,null,null,null,null,null,null,null,null,null,null,null,null,null,4993.9836483959552]
["207Pb/204Pb ","206Pb/204Pb ","207Pb/206Pb ","Age","Model Age","Ratio","Percentage",null,null,null,null,null,null,null,null,null,null,null,null,null,null,null,null,4992.1533889882894]
[15.638,18.7578,{"$f":"(A33/B33)","v":0.83367985584663451},{"$f":"[1]!AgePb76($C$33)","v":4980.3923281836787},0.5,{"$f":"(D33/E33)","v":9960.7846563673575},{"$f":"(F33 * 1000)","v":9960784.6563673578},null,null,null,null,null,null,null,null,null,null,null,null,null,null,null,null,4991.6166493637202]
[15.654999999999999,18.782699999999998,{"$f":"(A34/B34)","v":0.83347974465864871},{"$f":"[1]!AgePb76($C$34)","v":4980.0513098960646},0.5,{"$f":"(D34/E34)","v":9960.1026197921292},{"$f":"(F34 * 1000)","v":9960102.6197921298},null,null,null,null,null,null,null,null,null,null,null,null,null,null,null,null,4990.6449058727258]
[15.615,18.648800000000001,0.83731929132169358,{"$f":"[1]!AgePb76($C$35)","v":4986.5793183222768},13,383.58302448632901,383583.024486329,null,null,null,null,null,null,null,null,null,null,null,null,null,null,null,null,4988.6231254672994]
[15.693,18.715,0.83852524712797216,{"$f":"[1]!AgePb76($C$36)","v":4988.6231254672994},18.5,269.65530407931345,269655.30407931347,null,null,null,null,null,null,null,null,null,null,null,null,null,null,null,null,4987.4433136892785]
[15.654999999999999,18.685199999999998,0.83782886990773453,{"$f":"[1]!AgePb76($C$37)","v":4987.4433136892785},13,383.64948566840604,383649.48566840607,null,null,null,null,null,null,null,null,null,null,null,null,null,null,null,null,4986.5793183222768]
[15.667999999999999,18.6586,0.83972002186659234,{"$f":"[1]!AgePb76($C$38)","v":4990.6449058727258},12.5,399.25159246981804,399251.59246981802,null,null,null,null,null,null,null,null,null,null,null,null,null,null,null,null,4982.463815562789]
[null,null,null,null,null,null,null,null,null,null,null,null,null,null,null,null,null,null,null,null,null,null,null,4980.3923281836787]
[null,null,null,null,null,null,null,null,null,null,null,null,null,null,null,null,null,null,null,null,null,null,null,4980.2821009069476]
[null,null,"Table 4","South Tibet",null,null,null,null,null,null,null,null,null,null,null,null,null,null,null,null,null,null,null,4980.0513098960646]
["208Pb/204Pb","232Th/204Pb","208Pb/232Th","Age","Model Age","Ratio","Percentage",null,null,null,null,null,null,null,null,null,null,null,null,null,null,null,null,4979.7492195072373]
[39.527000000000001,54,{"$f":"(A43/B43)","v":0.73198148148148146},{"$f":"[1]!AgePb8Th2(C43)","v":11101.892230374853},24,{"$f":"(D43/E43)","v":462.57884293228557},{"$f":"(F43 * 1000)","v":462578.84293228557},null,null,null,null,null,null,null,null,null,null,null,null,null,null,null,null,4919.2394511831753]
[41.503999999999998,118,{"$f":"(A44/B44)","v":0.35172881355932201},{"$f":"[1]!AgePb8Th2(C44)","v":6091.6498396095676},13.8,{"$f":"(D44/E44)","v":441.42390142098316},{"$f":"(F44 * 1000)","v":441423.90142098314},null,null,null,null,null,null,null,null,null,null,null,null,null,null,null,null,4825.639072074915]
[39.718000000000004,68.3,0.58152269399707179,{"$f":"[1]!AgePb8Th2(C45)","v":9265.045241572434},13.8,671.38008996901692,671380.08996901696]
[39.558999999999997,146.69999999999999,0.26965916837082482,{"$f":"[1]!AgePb8Th2(C46)","v":4825.639072074915},13.8,349.68399073006628,349683.99073006626]
[39.704000000000001,79.3,0.50068095838587645,{"$f":"[1]!AgePb8Th2(C47)","v":8204.5270813781917},13.3,616.88173544196923,616881.73544196924]
[39.158000000000001,16,2.4473750000000001,{"$f":"[1]!AgePb8Th2(C48)","v":25014.918077208516},18.8,1330.5807487876871,1330580.7487876872]
[39.161000000000001,9.4,{"$f":"(A49/B49)","v":4.1660638297872339},{"$f":"[1]!AgePb8Th2(C49)","v":33190.723604729152},17.3,1918.5389366895463,1918538.9366895463]
[]
[]
[null,null,"Table 4","South Tibet"]
["238U/204Pb","206Pb/204Pb","206Pb/238U","206Pb/238U Age","Model Age","Ratio","Percentage"]
[11.3,18.8718,{"$f":"(B54/A54)","v":1.6700707964601769},{"$f":"[1]!AgePb6U8(C54)","v":6331.0555203144813},24,{"$f":"(D54/E54)","v":263.79398001310341},{"$f":"(F54 * 1000)","v":263793.9800131034}]
[13.6,19.8385,{"$f":"(B55/A55)","v":1.4587132352941177},{"$f":"[1]!AgePb6U8(C55)","v":5799.4400516298692},13.8,{"$f":"(D55/E55)","v":420.24927910361367},{"$f":"(F55 * 1000)","v":420249.27910361369}]
[10.4,18.9236,1.819576923076923,{"$f":"[1]!AgePb6U8(C56)","v":6682.2681477332317},13.8,484.22232954588634,484222.32954588631]
[21.2,18.7577,0.88479716981132073,{"$f":"[1]!AgePb6U8(C57)","v":4085.8676092720625},13.8,296.07736299072917,296077.36299072916]
[13.8,18.930700000000002,1.3717898550724639,{"$f":"[1]!AgePb6U8(C58)","v":5567.4126235478452},13.3,418.60245289833421,418602.45289833419]
[2.7,18.642099999999999,6.904481481481481,{"$f":"[1]!AgePb6U8(C59)","v":13327.509265235063},18.8,708.91006729973742,708910.06729973736]
[2,18.6602,9.3300999999999998,{"$f":"[1]!AgePb6U8(C60)","v":15052.776558432242},17.3,870.10269123885791,870102.69123885792]
[]
[]
[null,null,"Table 4","South Tibet"]
["235U/204Pb ","207Pb/204Pb ","207Pb/235U","207Pb/235U Age","Model Age","Ratio","Percentage"]
[43.7,15.756,{"$f":"(B65/A65)","v":0.36054919908466815},{"$f":"[1]!AgePb7U5(C65)","v":312.62470537627939},24,{"$f":"(D65/E65)","v":13.026029390678309},{"$f":"(F65 * 1000)","v":13026.029390678308}]
[10.3,15.843,{"$f":"(B66/A66)","v":1.5381553398058252},{"$f":"[1]!AgePb7U5(C66)","v":945.76592680759666},13.8,{"$f":"(D66/E66)","v":68.533762812144687},{"$f":"(F66 * 1000)","v":68533.762812144691}]
[52.7,15.775,0.29933586337760909,{"$f":"[1]!AgePb7U5(C67)","v":265.88136223975755},13.8,19.266765379692576,19266.765379692577]
[59.6,15.762,0.26446308724832213,{"$f":"[1]!AgePb7U5(C68)","v":238.25719157513799},13.8,17.265013882256376,17265.013882256375]
[47,15.775,0.33563829787234045,{"$f":"[1]!AgePb7U5(C69)","v":293.86130205979606},13.3,22.094834741338047,22094.834741338047]
[28.4,15.691000000000001,0.5525000000000001,{"$f":"[1]!AgePb7U5(C70)","v":446.63302515661974},18.8,23.757075806203176,23757.075806203175]
[25.8,15.686,0.60798449612403094,{"$f":"[1]!AgePb7U5(C71)","v":482.28819515294902},17.3,27.877930355661793,27877.930355661792]
[]
[]
[null,null,"Table 4","South Tibet"]
["207Pb/204Pb ","206Pb/204Pb ","207Pb/206Pb ","Age","Model Age","Ratio","Percentage"]
[15.756,18.8718,{"$f":"(A76/B76)","v":0.83489651225638251},{"$f":"[1]!AgePb76(C76)","v":4982.463815562789},24,{"$f":"(D76/E76)","v":207.60265898178287},{"$f":"(F76 * 1000)","v":207602.65898178288}]
[15.843,19.8385,{"$f":"(A77/B77)","v":0.79859868437633896},{"$f":"[1]!AgePb76(C77)","v":4919.2394511831753},13.8,{"$f":"(D77/E77)","v":356.46662689733154},{"$f":"(F77 * 1000)","v":356466.62689733156}]
[15.775,18.9236,0.83361516836119975,{"$f":"[1]!AgePb76(C78)","v":4980.2821009069476},13.8,360.89000731209762,360890.00731209764]
[15.762,18.7577,0.84029491888664387,{"$f":"[1]!AgePb76(C79)","v":4991.6166493637202},13.8,361.71135140316812,361711.35140316811]
[15.775,18.930700000000002,0.83330251918840814,{"$f":"[1]!AgePb76(C80)","v":4979.7492195072373},13.3,374.41723454941632,374417.23454941635]
[15.691000000000001,18.642099999999999,0.84169701911265371,{"$f":"[1]!AgePb76(C81)","v":4993.9836483959552},18.8,265.63742810616782,265637.42810616782]
[15.686,18.6602,0.84061264080770837,{"$f":"[1]!AgePb76(C82)","v":4992.1533889882894},17.3,288.56377971030571,288563.77971030574]

{"sheet":"Iso_Plot_007","index":7,"n_rows":26,"n_cols":18,"rows_kept":26,"cut":false,"hidden":false,"merged":[]}
["Table 9",null,null,null,"207Pb/206Pb",null,null,"208Pb/232Th",null,null,"206Pb/238U",null,null,"207Pb/235U"]
["Sample","206Pb/204Pb","207Pb/204Pb","207Pb/206Pb","Age","208Pb/204Pb","208Pb/232Th","Age","238U/204Pb","206Pb/238U","Age","235U/204Pb","207Pb/235U","Age","232Th/204Pb","206Pb/204Pb(i)","207Pb/204Pb(i)","208Pb/204Pb(i)"]
["04YJ-1",18.062000000000001,15.498100000000001,{"$f":"(C3/B3)","v":0.85805004982836897},{"$f":"[1]!AgePb76(D3)","v":5021.2852309812815},38.095109999999998,{"$f":"(F3/O3)","v":0.49771505095374963},{"$f":"[1]!AgePb8Th2(G3)","v":8164.5406234245802},7.46,{"$f":"(B3/I3)","v":2.4211796246648793},{"$f":"[1]!AgePb6U8(J3)","v":7928.9953978798721},0.05,{"$f":"(C3/L3)","v":309.96199999999999},{"$f":"[1]!AgePb7U5(M3)","v":5827.9643785537692},76.540000000000006,18.055,15.547000000000001,37.886000000000003]
["04YJ-2",18.020700000000001,15.4537,{"$f":"(C4/B4)","v":0.85755270328011668},{"$f":"[1]!AgePb76(D4)","v":5020.4630797822874},37.925699999999999,{"$f":"(F4/O4)","v":0.47095119831118837},{"$f":"[1]!AgePb8Th2(G4)","v":7800.0862093950082},8.3699999999999992,{"$f":"(B4/I4)","v":2.1530107526881723},{"$f":"[1]!AgePb6U8(J4)","v":7402.7899491442449},0.06,{"$f":"(C4/L4)","v":257.56166666666667},{"$f":"[1]!AgePb7U5(M4)","v":5640.589146843733},80.53,18.012,15.507999999999999,37.706000000000003]
["04YJ-5",17.988099999999999,15.45313,0.85907516635998249,{"$f":"[1]!AgePb76(D5)","v":5022.9782305532881},37.908160000000002,0.66273006993006989,{"$f":"[1]!AgePb8Th2(G5)","v":10277.127274401371},5.29,3.4003969754253305,{"$f":"[1]!AgePb6U8(J5)","v":9551.6181050253617},0.04,386.32824999999997,{"$f":"[1]!AgePb7U5(M5)","v":6050.944331353362},57.2,17.984000000000002,15.488,37.753]
["04YJ-6",17.997599999999998,15.470599999999999,0.85959239009645738,{"$f":"[1]!AgePb76(D6)","v":5023.8316215120558},37.948599999999999,0.68265155603525807,{"$f":"[1]!AgePb8Th2(G6)","v":10517.854600530769},5.17,3.4811605415860734,{"$f":"[1]!AgePb6U8(J6)","v":9668.8609981663358},0.04,386.76499999999999,{"$f":"[1]!AgePb7U5(M6)","v":6052.0886287535659},55.59,17.992999999999999,15.504,37.795999999999999]
["04YJ-7",18.014900000000001,15.4748,0.85900004995864532,{"$f":"[1]!AgePb76(D7)","v":5022.8542472241343},38.007899999999999,0.5122358490566038,{"$f":"[1]!AgePb8Th2(G7)","v":8359.5603924966017},6.66,2.7049399399399401,{"$f":"[1]!AgePb6U8(J7)","v":8442.6562325487939},0.05,309.49599999999998,{"$f":"[1]!AgePb7U5(M7)","v":5826.4416092226111},74.2,18.007999999999999,15.516999999999999,37.805]
["04YJ-9",17.998699999999999,15.460699999999999,0.85898981593115054,{"$f":"[1]!AgePb76(D8)","v":5022.837354565494},37.928600000000003,0.52496332179930805,{"$f":"[1]!AgePb8Th2(G8)","v":8528.9612630822867},5.32,3.3832142857142853,{"$f":"[1]!AgePb6U8(J8)","v":9526.3968440561657},0.04,386.51749999999998,{"$f":"[1]!AgePb7U5(M8)","v":6051.4403300644599},72.25,17.992999999999999,15.494999999999999,37.731000000000002]
[]
[]
[null,"MAXIMUM","MINIMUM","DIFFERENCE","AVERAGE","4600 To 4999","5000 To 5999 ","6,000 To 9999","10,000 To 19,999","Over 19,999","Total"]
["207Pb/206Pb",5023.8316215120558,5020.4630797822874,3.3685417297683671,5022.3749607697573,null,6,null,null,null,{"$f":"SUM(F12:J12)","v":6}]
["208Pb/232Th",10517.854600530769,7800.0862093950082,2717.7683911357608,8941.3550605551027,null,null,4,2,null,{"$f":"SUM(F13:J13)","v":6}]
["206Pb/238U",9668.8609981663358,7402.7899491442449,2266.0710490220908,8753.5529211367957,null,null,6,null,null,{"$f":"SUM(F14:J14)","v":6}]
["207Pb/235U",6052.0886287535659,5640.589146843733,411.49948190983287,5908.2447374652511,null,3,3,null,null,{"$f":"SUM(F15:J15)","v":6}]
[]
[]
[]
["Table 9","208Pb/232Th",null,null,"207Pb/206Pb","208Pb/232Th","206Pb/238U","207Pb/235U"]
["Sample","Age",null,null,"Age","Age","Age","Age"]
["04YJ-1",8164.5406234245802,null,null,5023.8316215120558,10517.854600530769,9668.8609981663358,6052.0886287535659]
["04YJ-2",7800.0862093950082,null,null,5022.9782305532881,10277.127274401371,9551.6181050253617,6051.4403300644599]
["04YJ-5",10277.127274401371,null,null,5022.8542472241343,8528.9612630822867,9526.3968440561657,6050.944331353362]
["04YJ-6",10517.854600530769,null,null,5022.837354565494,8359.5603924966017,8442.6562325487939,5827.9643785537692]
["04YJ-7",8359.5603924966017,null,null,5021.2852309812815,8164.5406234245802,7928.9953978798721,5826.4416092226111]
["04YJ-9",8528.9612630822867,null,null,5020.4630797822874,7800.0862093950082,7402.7899491442449,5640.589146843733]

{"sheet":"Iso_Plot_008","index":8,"n_rows":46,"n_cols":18,"rows_kept":46,"cut":false,"hidden":false,"merged":[]}
[null,null,"Pb-206","Error","Pb-207","Error","Pb-208","Error","Pb-207","Error","Pb-208","Error",null,null,null,"Pb-207","Million","Table 3"]
["Sample",null,"Pb-204","Level","Pb-204","Level","Pb-204","Level","Pb-206","Level","Pb-206","Level",null,null,null,"Pb-206","Years","Page 133"]
["RRCR2",1,28.696000000000002,0.107,16.791,6.4000000000000001E-2,55.917999999999999,0.21299999999999999,0.58499999999999996,1E-3,1.9486000000000001,1.4E-3,0.97799999999999998,0.98099999999999998,null,0.58499999999999996,4471.1775943620833,"RRCR2"]
["RRCR2",2,30.212,0.18099999999999999,17.059999999999999,0.10299999999999999,67.326999999999998,0.40899999999999997,0.56499999999999995,1E-3,2.2284999999999999,1.9E-3,0.99,0.99099999999999999,null,0.56499999999999995,4420.4706176485206]
["RRCR2",3,225.96,0.63200000000000001,38.271000000000001,0.111,799.88800000000003,2.3460000000000001,0.16900000000000001,1E-3,3.54,2.7000000000000001E-3,0.97299999999999998,0.96599999999999997,null,0.16900000000000001,2547.7634360473958]
["RRCR2",4,2311.33,160.57900000000001,268.952,18.754999999999999,8320.0810000000001,578.125,0.11600000000000001,1E-3,3.5996999999999999,4.1000000000000003E-3,0.996,1,null,0.11600000000000001,1895.4694911154259]
["RRCR2",5,167.834,3.359,32.18,0.81200000000000006,480.40800000000002,9.7219999999999995,0.192,3.0000000000000001E-3,2.8624000000000001,8.5000000000000006E-3,0.79300000000000004,0.98899999999999999,null,0.192,2759.369456881212]
["RRCR2",6,140.827,1.931,28.914999999999999,0.39800000000000002,47.328000000000003,0.65100000000000002,0.20499999999999999,1E-3,0.33610000000000001,2.9999999999999997E-4,0.997,0.998,null,0.20499999999999999,2866.4244329057083]
["RRCR2",7,36.81,1.4999999999999999E-2,17.632000000000001,7.3999999999999996E-2,44.972000000000001,0.188,0.47899999999999998,1E-3,1.2217,8.9999999999999998E-4,0.98199999999999998,0.98599999999999999,null,0.47899999999999998,4177.8480954738543]
["RRSW1",1,21.129000000000001,0.27400000000000002,15.993,0.20899999999999999,40.033999999999999,0.52200000000000002,0.75700000000000001,1E-3,1.8948,2.2000000000000001E-3,0.99199999999999999,0.996,null,0.75700000000000001,4842.9081470938281,"Older Than Earth"]
["RRSW1",2,18.869,2.3E-2,16.003,2.3E-2,42.676000000000002,6.8000000000000005E-2,0.84799999999999998,1E-3,2.2616999999999998,2E-3,0.88700000000000001,0.83199999999999996,null,0.84799999999999998,5004.5727343476356,"Older Than Earth"]
["RRSW1",3,18.757000000000001,4.1000000000000002E-2,15.978999999999999,3.6999999999999998E-2,43.863999999999997,0.10100000000000001,0.85199999999999998,1E-3,2.3384999999999998,1.5E-3,0.95199999999999996,0.95899999999999996,null,0.85199999999999998,5011.2495122066348,"Older Than Earth"]
["RRSW1",4,26.516999999999999,0.44600000000000001,16.616,0.28899999999999998,41.429000000000002,0.71799999999999997,0.627,3.0000000000000001E-3,1.5624,6.6E-3,0.96499999999999997,0.97,null,0.627,4571.8483945799699," "]
["RRSW1",5,41.743000000000002,1.18,18.25,0.67200000000000004,40.704999999999998,1.635,0.437,0.01,0.97519999999999996,2.7799999999999998E-2,0.76800000000000002,0.70399999999999996,null,0.437,4041.5479718457473," "]
["RRSW1",6,34.973999999999997,0.216,17.431000000000001,0.109,38.622999999999998,0.24099999999999999,0.498,null,1.1043000000000001,8.9999999999999998E-4,0.99,0.99099999999999999,null,0.498,4235.3002550282326," "]
["RRSW1",7,19.425999999999998,0.14899999999999999,15.736000000000001,0.122,38.542000000000002,0.29799999999999999,0.81,1E-3,1.984,2E-3,0.99099999999999999,0.99099999999999999,null,0.81,4939.4222778980275,"Older Than Earth"]
["HLM2",1,37.796999999999997,0.186,17.765000000000001,8.8999999999999996E-2,59.734000000000002,0.29799999999999999,0.47,null,1.5804,1.1000000000000001E-3,0.98599999999999999,0.99099999999999999,null,0.47,4149.7647422740456,"HLM2"]
["HLM2",2,45.402000000000001,0.47399999999999998,18.559000000000001,0.222,76.605000000000004,0.97,0.40899999999999997,2E-3,1.6873,1.2E-2,0.874,0.82599999999999996,null,0.40899999999999997,3942.4979792725499," "]
["HLM2",3,1677.6310000000001,33.149000000000001,196.70099999999999,3.8889999999999998,3090.085,61.1,0.11700000000000001,null,1.8419000000000001,1.1000000000000001E-3,0.999,1,null,0.11700000000000001,1910.8921735333104," "]
["HLM2",4,3995.9209999999998,116.892,449.89499999999998,13.166,8011.5259999999998,234.45,0.113,null,2.0049000000000001,1.2999999999999999E-3,1,1,null,0.113,1848.2136426313393," "]
["HLM2",5,536.74300000000005,16.885000000000002,71.414000000000001,2.2869999999999999,856.48299999999995,26.966000000000001,0.13300000000000001,1E-3,1.5956999999999999,1.9E-3,0.98199999999999998,0.999,null,0.13300000000000001,2137.9494730403903," "]
["HLM2",6,174.755,3.9140000000000001,32.993000000000002,0.74,52.707000000000001,1.1819999999999999,0.189,0,0.30159999999999998,2.9999999999999997E-4,0.999,0.999,null,0.189,2733.4793555988999," "]
["HLM2",7,27.43,0.113,16.623999999999999,7.0000000000000007E-2,41.234000000000002,0.17499999999999999,0.60599999999999998,1E-3,1.5033000000000001,1.2999999999999999E-3,0.98099999999999998,0.98099999999999998,null,0.60599999999999998,4522.4503962457511," "]
["TRMR2",1,18.893999999999998,0.106,16.128,9.1999999999999998E-2,38.174999999999997,0.217,0.85399999999999998,1E-3,2.0204,1.5E-3,0.98699999999999999,0.99099999999999999,null,0.85399999999999998,5014.5754282515481,"Older Than Earth"]
["TRMR2",2,18.372,1.4999999999999999E-2,16.07,1.7000000000000001E-2,36.969000000000001,0.04,0.875,0,2.0122,1.1000000000000001E-3,0.84599999999999997,0.873,null,0.875,5049.0063856620482,"Older Than Earth"]
["TRMR2",3,136.27199999999999,0.251,34.957000000000001,6.9000000000000006E-2,318.87900000000002,0.63900000000000001,0.25700000000000001,0,2.34,1.5E-3,0.95,0.94599999999999995,null,0.25700000000000001,3228.4093700132735," "]
["TRMR2",4,763.99199999999996,7.7539999999999996,136.613,1.405,2642.261,26.896999999999998,0.17899999999999999,0,3.4584999999999999,2.2000000000000001E-3,0.98699999999999999,0.998,null,0.17899999999999999,2643.627071010209," "]
["TRMR2",5,92.843999999999994,0.93,27.405999999999999,0.28299999999999997,292.66300000000001,2.9950000000000001,0.29499999999999998,1E-3,3.1522000000000001,6.4999999999999997E-3,0.96899999999999997,0.97899999999999998,null,0.29499999999999998,3444.1646240894643," "]
["TRMR2",6,37.811999999999998,0.23899999999999999,19.895,0.127,39.279000000000003,0.251,0.52600000000000002,1E-3,1.0387999999999999,1E-3,0.98899999999999999,0.98899999999999999,null,0.52600000000000002,4315.7768673615956," "]
["TRMR2",7,22.161000000000001,0.22,16.341999999999999,0.16300000000000001,40.53,0.40500000000000003,0.73699999999999999,1E-3,1.8289,1.8E-3,0.99399999999999999,0.995,null,0.73699999999999999,4804.6020672085069,"Older Than Earth"]
[null,null,null,null,null,null,null,null,null,null,null,null,null,null,null,"AVG",{"$f":"AVERAGE(Q3:Q30)","v":3768.956499772401}]
[null,null,null,null,null,null,null,null,null,null,null,null,null,null,null,"MAX",{"$f":"MAX(Q3:Q30)","v":5049.0063856620482}]
["Precambrian Research",null,null,null,null,null,null,null,null,null,null,null,null,null,null,"MIN",{"$f":"MIN(Q3:Q30)","v":1848.2136426313393}]
["Volume 117",null,null,null,null,null,null,null,null,null,null,null,null,null,null,"STD DEV",{"$f":"STDEV(Q3:Q30)","v":1093.6237202427903}]
["Pages 119–143"]
[2002]
[]
["Table 3"]
["Page 133"]
[null,null,null,null,null,null,null,null,null,null,null,null,null,null,null,"Sample","Million","Age"]
[null,null,null,null,null,null,null,null,null,null,null,null,null,null,null,"Name","Years","Category"]
[null,null,null,null,null,null,null,null,null,null,null,null,null,null,null,"RRSW1",5004.5727343476356,"Older Than The Solar System"]
[null,null,null,null,null,null,null,null,null,null,null,null,null,null,null,"RRSW1",5011.2495122066348,"Older Than The Solar System"]
[null,null,null,null,null,null,null,null,null,null,null,null,null,null,null,"RRSW1",4939.4222778980275,"Older Than Earth"]
[null,null,null,null,null,null,null,null,null,null,null,null,null,null,null,"TRMR2",5014.5754282515481,"Older Than The Solar System"]
[null,null,null,null,null,null,null,null,null,null,null,null,null,null,null,"TRMR2",5049.0063856620482,"Older Than The Solar System"]

{"sheet":"Iso_Plot_009","index":9,"n_rows":204,"n_cols":23,"rows_kept":204,"cut":false,"hidden":false,"merged":[]}
["Sample",null,null,null,"Table 2",null,null,null,null,null,null,null,null,null,null,"Table 2",null,null,null,null,null,null,58796]
["Number",null,null,null,null,null,"206Pb/238U",null,null,"208Pb/232Th",null,null,null,null,"207Pb/206Pb",null,null,null,null,null,null,null,54206]
["Dajiweng",null,null,null,"238U/204Pb","206Pb/238U","Age","232Th/204Pb","208Pb/232Th","Age",null,"206Pb/204Pb","207Pb/204Pb","207Pb/206Pb","Age","208Pb/204Pb",null,null,null,null,null,null,48252]
["DJB98-11",1.5629999999999999,0.42580000000000001,0.93010000000000004,17.600000000000001,{"$f":"(L4/E4)","v":1.0888636363636364},{"$f":"[1]!AgePb6U8(F4)","v":4748.5589263610445},39.799999999999997,{"$f":"(P4/H4)","v":0.98371859296482422},{"$f":"[1]!AgePb8Th2(I4)","v":13844.833968252937},2.1800000000000002,19.164000000000001,15.602,{"$f":"(M4/L4)","v":0.81413066165727399},{"$f":"[1]!AgePb76($N$4)","v":4946.6599729124682},39.152000000000001,18.809999999999999,15.58,38.9,null,null,null,47976]
["L",1.3240000000000001,0.2893,0.79239999999999999,14.1,{"$f":"(L5/E5)","v":1.3525531914893618},{"$f":"[1]!AgePb6U8(F5)","v":5514.9150868283759},39.9,{"$f":"(P5/H5)","v":0.97661654135338349},{"$f":"[1]!AgePb8Th2(I5)","v":13772.340889623347},2.74,19.071000000000002,15.593,{"$f":"(M5/L5)","v":0.81762886057364581},{"$f":"[1]!AgePb76($N$5)","v":4952.7589979119784},38.966999999999999,18.78,15.58,38.71,null,null,null,46117]
["DJB98-18",0.1069,4.2900000000000001E-2,0.1976,25.2,0.73146825396825399,{"$f":"[1]!AgePb6U8(F6)","v":3538.8863837665258},121,0.31749586776859506,{"$f":"[1]!AgePb8Th2(I6)","v":5573.1756444656512},4.6500000000000004,18.433,15.523999999999999,0.84218521130581014,{"$f":"[1]!AgePb76($N$6)","v":4994.8068221443073},38.417000000000002,17.920000000000002,15.5,37.64,null,null,null,42203]
["DJB98-20",1.163,0.69399999999999995,2.2269999999999999,39,0.49715384615384611,{"$f":"[1]!AgePb6U8(F7)","v":2601.5527464876791},129,0.30786821705426359,{"$f":"[1]!AgePb8Th2(I7)","v":5424.9317124137187},3.21,19.388999999999999,15.584,0.80375470627675483,{"$f":"[1]!AgePb76($N$7)","v":4928.4044588692905},39.715000000000003,18.59,15.54,38.880000000000003,null,null,null,42192]
["Bar",null,null,null,null,0,null,null,0,null,null,null,null,0,null,null,null,null,null,null,null,null,41604]
["BAR98-1",0.13170000000000001,1.17E-2,3.0300000000000001E-2,5.56,3.2320143884892087,{"$f":"[1]!AgePb6U8(F9)","v":9300.100528456278},14.9,2.5468456375838926,{"$f":"[1]!AgePb8Th2(I9)","v":25589.866714442047},2.59,17.97,15.478999999999999,0.86138007790762383,{"$f":"[1]!AgePb76($N$9)","v":5026.777016082382},37.948,17.86,15.47,37.85,null,null,null,41343]
["BAR98-6",3.28,0.79459999999999997,3.9359999999999999,15.8,1.2108860759493671,{"$f":"[1]!AgePb6U8(F10)","v":5114.5423014895432},80.7,0.48976456009913261,{"$f":"[1]!AgePb8Th2(I10)","v":8056.9599619131932},4.95,19.132000000000001,15.629,0.8169036169767927,{"$f":"[1]!AgePb76($N$10)","v":4951.4968363299722},39.524000000000001,18.809999999999999,15.61,39,null,null,null,41231]
["Dangqiong",null,null,null,null,0,null,null,0,null,null,null,null,0,null,null,null,null,null,null,null,null,39637]
["DQ98-9",0.24129999999999999,1.7299999999999999E-2,3.04E-2,4.42,3.9880090497737553,{"$f":"[1]!AgePb6U8(F12)","v":10359.625090251327},8.0500000000000007,4.653167701863353,{"$f":"[1]!AgePb8Th2(I12)","v":35011.946301101525},1.76,17.626999999999999,15.42,0.87479434957735303,{"$f":"[1]!AgePb76($N$12)","v":5048.6734768231536},37.457999999999998,17.489999999999998,15.41,37.380000000000003,null,null,null,38125]
["DQ98-12",0.1074,6.1999999999999998E-3,9.2999999999999992E-3,3.55,4.9878873239436627,{"$f":"[1]!AgePb6U8(F13)","v":11537.396611788328},5.57,6.7324955116696588,{"$f":"[1]!AgePb8Th2(I13)","v":41342.731584170317},1.52,17.707000000000001,15.433999999999999,0.87163268763765733,{"$f":"[1]!AgePb76($N$13)","v":5043.5448700910838},37.5,17.600000000000001,15.43,37.450000000000003,null,null,null,37115]
["DQ98-14",0.42959999999999998,7.17E-2,0.12959999999999999,10.4,1.7075961538461539,{"$f":"[1]!AgePb6U8(F14)","v":6421.0231306903152},19.3,1.9443523316062177,{"$f":"[1]!AgePb8Th2(I14)","v":21826.960516648396},1.81,17.759,15.414,0.86795427670476943,{"$f":"[1]!AgePb76($N$14)","v":5037.553128273109},37.526000000000003,17.43,15.4,37.33,null,null,null,35012]
["Xialu",null,null,null,null,0,null,null,0,null,null,null,null,0,null,null,null,null,null,null,null,null,33584]
["XL98-10",0.23499999999999999,4.8800000000000003E-2,9.4700000000000006E-2,12.9,1.3737209302325581,{"$f":"[1]!AgePb6U8(F16)","v":5572.6590602536317},25.8,1.4510852713178295,{"$f":"[1]!AgePb8Th2(I16)","v":18120.887202832822},1.94,17.721,15.435,0.87100050787201633,{"$f":"[1]!AgePb76($N$16)","v":5042.5170281462033},37.438000000000002,17.48,15.42,37.28,null,null,null,31556]
["Dazhuqu_Dazhuka",null,null,null,null,0,null,null,0,null,null,null,null,0,null,null,null,null,null,null,null,null,31286]
["DZ98-1",0.59240000000000004,1.6E-2,4.9200000000000001E-2,1.66,10.504819277108433,{"$f":"[1]!AgePb6U8(F18)","v":15747.081483703845},5.27,7.0688804554079701,{"$f":"[1]!AgePb8Th2(I18)","v":42203.430893673831},3.07,17.437999999999999,15.395,0.88284206904461526,{"$f":"[1]!AgePb76($N$18)","v":5061.6396350515342},37.253,17.41,15.39,37.22,null,null,null,30740]
["DZ98-12",0.39860000000000001,3.9199999999999999E-2,7.9799999999999996E-2,6.06,2.8981848184818482,{"$f":"[1]!AgePb6U8(F19)","v":8770.4174931854868},12.7,2.9390551181102365,{"$f":"[1]!AgePb8Th2(I19)","v":27709.770122495229},2.04,17.562999999999999,15.404,0.87707111541308436,{"$f":"[1]!AgePb76($N$19)","v":5052.3545056742487},37.326000000000001,17.45,15.4,37.25,null,null,null,29705]
["L",0.35389999999999999,4.0399999999999998E-2,7.5899999999999995E-2,7.03,2.4978662873399711,{"$f":"[1]!AgePb6U8(F20)","v":8071.8978269494119},13.6,2.7422794117647062,{"$f":"[1]!AgePb8Th2(I20)","v":26673.974616721516},1.88,17.559999999999999,15.398999999999999,0.87693621867881555,{"$f":"[1]!AgePb76($N$20)","v":5052.1366900832882},37.295000000000002,17.43,15.39,37.21,null,null,null,27710]
["DZ98-19",0.36759999999999998,3.3599999999999998E-2,8.0299999999999996E-2,5.64,3.1171985815602836,{"$f":"[1]!AgePb6U8(F21)","v":9122.7911436234444},13.9,2.6862589928057554,{"$f":"[1]!AgePb8Th2(I21)","v":26369.118154589694},2.39,17.581,15.401,0.87600250270178037,{"$f":"[1]!AgePb76($N$21)","v":5050.6280585126924},37.338999999999999,17.48,15.4,37.26,null,null,null,27422]
["Langceling",null,null,null,null,0,null,null,0,null,null,null,null,0,null,null,null,null,null,null,null,null,26674]
["LC98-3",0.30859999999999999,0.12039999999999999,5.04E-2,24.3,0.74600823045267484,{"$f":"[1]!AgePb6U8(F23)","v":3592.7940131940122},10.5,3.5761904761904759,{"$f":"[1]!AgePb8Th2(I23)","v":30740.108706474457},0.42,18.128,15.465,0.85310017652250658,{"$f":"[1]!AgePb76($N$23)","v":5013.0800842634999},37.549999999999997,17.670000000000002,15.44,37.49,null,null,null,26369]
["LC98-4",0.58550000000000002,0.2319,5.5800000000000002E-2,24.7,0.7339676113360325,{"$f":"[1]!AgePb6U8(F24)","v":3548.1850095103969},6.14,6.1068403908794799,{"$f":"[1]!AgePb8Th2(I24)","v":39637.347257735411},0.24,18.129000000000001,15.465,0.85305311931160011,{"$f":"[1]!AgePb76($N$24)","v":5013.0018376034859},37.496000000000002,17.66,15.44,37.46,null,null,null,25972]
["LC98-6",0.27839999999999998,1.54E-2,2.3900000000000001E-2,3.42,5.1956140350877194,{"$f":"[1]!AgePb6U8(F25)","v":11757.238536795367},5.5,6.8330909090909095,{"$f":"[1]!AgePb8Th2(I25)","v":41603.985532642393},1.55,17.768999999999998,15.456,0.86982947830491308,{"$f":"[1]!AgePb76($N$25)","v":5040.6109933226335},37.582000000000001,17.71,15.45,37.549999999999997,null,null,null,25590]
["Luobusha",null,null,null,null,0,null,null,0,null,null,null,null,0,null,null,null,null,null,null,null,null,25096]
["LB98-1",0.50729999999999997,4.41E-2,4.4400000000000002E-2,5.42,3.3158671586715869,{"$f":"[1]!AgePb6U8(F27)","v":9426.5802940584254},5.64,6.6898936170212773,{"$f":"[1]!AgePb8Th2(I27)","v":41231.065174016119},1.01,17.972000000000001,15.478,0.86122857778766959,{"$f":"[1]!AgePb76($N$27)","v":5026.5276562695526},37.731000000000002,17.82,15.47,37.68,null,null,null,24010]
["L",0.61370000000000002,5.0999999999999997E-2,8.4099999999999994E-2,5.17,3.4630560928433267,{"$f":"[1]!AgePb6U8(F28)","v":9642.7639257679948},8.81,4.2676503972758226,{"$f":"[1]!AgePb8Th2(I28)","v":33584.323763833752},1.65,17.904,15.442,0.86248882931188564,{"$f":"[1]!AgePb76($N$28)","v":5028.6005361731213},37.597999999999999,17.760000000000002,15.44,37.520000000000003,null,null,null,22718]
["LB98-3",0.37809999999999999,1.3100000000000001E-2,3.9699999999999999E-2,2.14,8.2822429906542059,{"$f":"[1]!AgePb6U8(F29)","v":14363.276191278681},6.71,5.5943368107302529,{"$f":"[1]!AgePb8Th2(I29)","v":38124.532020389815},3.04,17.724,15.44,0.87113518393139244,{"$f":"[1]!AgePb76($N$29)","v":5042.7360602258132},37.537999999999997,17.66,15.44,37.479999999999997,null,null,null,22307]
["Southern","Iran",null,null,null,0,null,null,0,null,null,null,null,0,null,null,null,null,null,null,null,null,22228]
["Band-e-Zeyarat",null,null,null,null,0,null,null,0,null,null,null,null,0,null,null,null,null,null,null,null,null,21827]
["BZ96-4",0.52270000000000005,5.74E-2,0.2223,6.92,2.6317919075144509,{"$f":"[1]!AgePb6U8(F32)","v":8314.1090405229497},27.7,1.3812274368231046,{"$f":"[1]!AgePb8Th2(I32)","v":17536.454461811121},3.88,18.212,15.523,0.85235009883593238,{"$f":"[1]!AgePb76($N$32)","v":5011.83231012734},38.26,18.059999999999999,15.52,38.06,null,null,null,21560]
["BZ96-6",2.0019999999999998,0.1221,0.51480000000000004,3.83,4.7248041775456917,{"$f":"[1]!AgePb6U8(F33)","v":11247.757254213015},16.7,2.2802395209580837,{"$f":"[1]!AgePb8Th2(I33)","v":24010.438492414803},4.22,18.096,15.49,0.85599027409372241,{"$f":"[1]!AgePb76($N$33)","v":5017.8769696435875},38.08,18.010000000000002,15.49,37.96,null,null,null,19910]
["BZ96-10",0.98019999999999996,0.1075,0.50829999999999997,6.91,2.6322720694645443,{"$f":"[1]!AgePb6U8(F34)","v":8314.9612694733296},33.799999999999997,1.1317455621301775,{"$f":"[1]!AgePb8Th2(I34)","v":15299.467546059468},4.7300000000000004,18.189,15.509,0.85265820001099568,{"$f":"[1]!AgePb76($N$34)","v":5012.3449856713933},38.253,18.03,15.5,38.01,null,null,null,19594]
[null,null,null,null,null,0,null,null,0,null,null,null,null,0,null,null,null,null,null,null,null,null,19148]
[null,null,null,null,null,0,null,null,0,null,null,null,null,0,null,null,null,null,null,null,null,null,18765]
["BZ97-4-1",1.073,6.4100000000000004E-2,6.3799999999999996E-2,3.7,4.7829729729729724,{"$f":"[1]!AgePb6U8(F37)","v":11312.927675323997},3.79,9.8836411609498693,{"$f":"[1]!AgePb8Th2(I37)","v":48251.861565806168},1,17.696999999999999,15.404,0.87043001638695827,{"$f":"[1]!AgePb76($N$37)","v":5041.5888034735262},37.459000000000003,17.61,15.4,37.43,null,null,null,18607]
["L",0.92230000000000001,5.1799999999999999E-2,6.1400000000000003E-2,3.47,5.1014409221902017,{"$f":"[1]!AgePb6U8(F38)","v":11658.500951084437},4.26,8.792723004694837,{"$f":"[1]!AgePb8Th2(I38)","v":46117.019895057652},1.19,17.702000000000002,15.404999999999999,0.87024065077392376,{"$f":"[1]!AgePb76($N$38)","v":5041.2805512614186},37.457000000000001,17.62,15.4,37.43,null,null,null,18121]
["BZ97-11-5",2.2999999999999998,0.2417,0.82369999999999999,6.61,2.7426626323751893,{"$f":"[1]!AgePb6U8(F39)","v":8507.9599800931792},23.3,1.6363519313304722,{"$f":"[1]!AgePb8Th2(I39)","v":19593.655731947074},3.41,18.129000000000001,15.497999999999999,0.85487340724805549,{"$f":"[1]!AgePb76($N$39)","v":5016.0252739341304},38.127000000000002,17.98,15.49,37.96,null,null,null,17797]
["BZ97-14-1",0.9133,0.27200000000000002,0.69340000000000002,18.899999999999999,0.97941798941798941,{"$f":"[1]!AgePb6U8(F40)","v":4401.6300193897332},49.9,0.76995991983967937,{"$f":"[1]!AgePb8Th2(I40)","v":11540.311312197709},2.5499999999999998,18.510999999999999,15.537000000000001,0.83933877154124581,{"$f":"[1]!AgePb76($N$40)","v":4990.0000918418746},38.420999999999999,18.09,15.52,38.07,null,null,null,17787]
["BZ97-14-2",1.9810000000000001,0.29249999999999998,0.69340000000000002,9.33,1.9631296891747052,{"$f":"[1]!AgePb6U8(F41)","v":7002.391859358022},22.8,1.6779385964912279,{"$f":"[1]!AgePb8Th2(I41)","v":19910.001377221022},2.37,18.315999999999999,15.528,0.84778335881196776,{"$f":"[1]!AgePb76($N$41)","v":5004.2101637264614},38.256999999999998,18.11,15.52,38.1,null,null,null,17591]
["BZ97-14-6",0.45350000000000001,9.8699999999999996E-2,0.29420000000000002,13.8,1.3332608695652175,{"$f":"[1]!AgePb6U8(F42)","v":5461.8327413655952},42.5,0.90308235294117645,{"$f":"[1]!AgePb8Th2(I42)","v":13006.0608934099},2.98,18.399000000000001,15.532999999999999,0.84423066471003849,{"$f":"[1]!AgePb76($N$42)","v":4998.2502961884784},38.381,18.09,15.52,38.08,null,null,null,17536]
["Neyriz",null,null,null,null,0,null,null,0,null,null,null,null,0,null,null,null,null,null,null,null,null,17054]
["N95-28",0.40400000000000003,4.7100000000000003E-2,9.6500000000000002E-2,7.3,2.4721917808219178,{"$f":"[1]!AgePb6U8(F44)","v":8024.406328344704},15.4,2.4612337662337662,{"$f":"[1]!AgePb8Th2(I44)","v":25096.010214178888},2.0499999999999998,18.047000000000001,15.473000000000001,0.85737241646811102,{"$f":"[1]!AgePb76($N$44)","v":5020.1649271111492},37.902999999999999,17.940000000000001,15.47,37.83,null,null,null,16053]
["N95-33",0.156,5.0799999999999998E-2,0.1308,20.5,0.89146341463414625,{"$f":"[1]!AgePb6U8(F45)","v":4108.6273838403868},54.5,0.69779816513761472,{"$f":"[1]!AgePb8Th2(I45)","v":10698.983619843166},2.58,18.274999999999999,15.464,0.84618331053351581,{"$f":"[1]!AgePb76($N$45)","v":5001.5292721195246},38.03,17.98,15.45,37.78,null,null,null,15747]
["N96-61",0.43730000000000002,7.4700000000000003E-2,0.18129999999999999,10.7,1.697943925233645,{"$f":"[1]!AgePb6U8(F46)","v":6398.0014423346747},26.9,1.4109665427509295,{"$f":"[1]!AgePb8Th2(I46)","v":17787.321317530936},2.4300000000000002,18.167999999999999,15.473000000000001,0.8516622633201234,{"$f":"[1]!AgePb76($N$46)","v":5010.6870520946468},37.954999999999998,18.010000000000002,15.47,37.83,null,null,null,15299]
["N96-62",0.36969999999999997,6.3899999999999998E-2,0.1414,10.8,1.6807407407407406,{"$f":"[1]!AgePb6U8(F47)","v":6356.7648807817404},24.8,1.5304032258064515,{"$f":"[1]!AgePb8Th2(I47)","v":18764.60167416371},2.21,18.152000000000001,15.477,0.85263331864257375,{"$f":"[1]!AgePb76($N$47)","v":5012.3035907656149},37.954000000000001,18,15.47,37.840000000000003,null,null,null,15067]
["N96-64",0.2389,6.59E-2,0.14879999999999999,17.3,1.0535838150289016,{"$f":"[1]!AgePb6U8(F48)","v":4638.7524207971528},40.4,0.94086633663366348,{"$f":"[1]!AgePb8Th2(I48)","v":13403.424733091932},2.2599999999999998,18.227,15.474,0.84896033357107592,{"$f":"[1]!AgePb76($N$48)","v":5006.1787645131835},38.011000000000003,17.98,15.46,37.82,null,null,null,14363]
["N14B",0.32669999999999999,8.7900000000000006E-2,0.2321,16.899999999999999,1.0739053254437871,{"$f":"[1]!AgePb6U8(F49)","v":4702.2302045066463},46,0.82606521739130445,{"$f":"[1]!AgePb8Th2(I49)","v":12171.066144951017},2.64,18.149000000000001,15.444000000000001,0.85095597553584224,{"$f":"[1]!AgePb76($N$49)","v":5009.5100480796946},37.999000000000002,17.899999999999999,15.43,37.79,null,null,null,14340]
["Albania",null,null,null,null,0,null,null,0,null,null,null,null,0,null,null,null,null,null,null,null,null,13845]
["AL-1",0.54910000000000003,1.7000000000000001E-2,4.5400000000000003E-2,1.94,9.3530927835051543,{"$f":"[1]!AgePb6U8(F51)","v":15067.109071626164},5.35,7.0644859813084118,{"$f":"[1]!AgePb8Th2(I51)","v":42192.419910103199},2.67,18.145,15.474,0.8527969137503445,{"$f":"[1]!AgePb76($N$51)","v":5012.5757389466153},37.795000000000002,18.100000000000001,15.47,37.75,null,null,null,13772]
["AL-2",0.31640000000000001,2.5499999999999998E-2,9.1999999999999998E-2,5.1100000000000003,3.0371819960861055,{"$f":"[1]!AgePb6U8(F52)","v":8996.2734753750046},19,2.0151052631578947,{"$f":"[1]!AgePb8Th2(I52)","v":22306.917488089526},3.61,15.52,15.500999999999999,0.99877577319587629,{"$f":"[1]!AgePb76($N$52)","v":5235.6510568162757},38.286999999999999,18.39,15.49,38.130000000000003,null,null,null,13652]
["L",0.2223,2.1499999999999998E-2,6.2600000000000003E-2,6.08,3.0105263157894733,{"$f":"[1]!AgePb6U8(F53)","v":8953.5695956561485},18.3,2.0769945355191255,{"$f":"[1]!AgePb8Th2(I53)","v":22717.601221353034},2.91,18.303999999999998,15.488,0.84615384615384615,{"$f":"[1]!AgePb76($N$53)","v":5001.4798538773048},38.009,18.149999999999999,15.48,37.86,null,null,null,13580]
["AL-4",0.1091,5.6500000000000002E-2,0.1225,33,0.56424242424242432,{"$f":"[1]!AgePb6U8(F54)","v":2884.1362309362626},73.900000000000006,0.52175913396481732,{"$f":"[1]!AgePb8Th2(I54)","v":8486.447511889779},2.17,18.62,15.531000000000001,0.83410311493018263,{"$f":"[1]!AgePb76($N$54)","v":4981.1133361395041},38.558,17.760000000000002,15.49,37.950000000000003,null,null,null,13404]
["IA-509",0.1036,2.1399999999999999E-2,5.8700000000000002E-2,13.2,1.4284848484848487,{"$f":"[1]!AgePb6U8(F55)","v":5719.6940773022943},37.4,1.0329411764705883,{"$f":"[1]!AgePb8Th2(I55)","v":14340.244565530851},2.74,18.856000000000002,15.491,0.82154221467967747,{"$f":"[1]!AgePb76($N$55)","v":4959.5490393900409},38.631999999999998,18.510000000000002,15.47,38.32,null,null,null,13403]
["RU-124",0.4869,2.0899999999999998E-2,7.6999999999999999E-2,2.68,6.7548507462686569,{"$f":"[1]!AgePb6U8(F56)","v":13204.309752226725},10.199999999999999,3.7014705882352947,{"$f":"[1]!AgePb8Th2(I56)","v":31286.0101240968},3.69,18.103000000000002,15.47,0.85455449373032089,{"$f":"[1]!AgePb76($N$56)","v":5015.4960636645092},37.755000000000003,18.03,15.47,37.67,null,null,null,13204]
["RU-143",8.4500000000000006E-2,4.0399999999999998E-2,0.1822,30.7,0.61596091205211734,{"$f":"[1]!AgePb6U8(F57)","v":3093.8260868319489},143,0.27239860139860139,{"$f":"[1]!AgePb8Th2(I57)","v":4869.2022578777523},4.51,18.91,15.529,0.82120571126388153,{"$f":"[1]!AgePb76($N$57)","v":4958.9665267759256},38.953000000000003,18.11,15.49,37.78,null,null,null,13006]
[null,null,null,null,null,0,null,null,0,null,null,null,null,0,null,null,null,null,null,null,null,null,12780]
[null,null,null,null,null,0,null,null,0,null,null,null,null,0,null,null,null,null,null,null,null,null,12171]
["95/10-13A",1.9830000000000001,0.4627,1.661,15.1,1.2705298013245032,{"$f":"[1]!AgePb6U8(F60)","v":5286.1447021140966},56.1,0.69939393939393935,{"$f":"[1]!AgePb8Th2(I60)","v":10717.972334711558},3.59,19.184999999999999,15.567,0.8114151681000783,{"$f":"[1]!AgePb76($N$60)","v":4941.9063301701026},39.235999999999997,18.8,15.55,38.79,null,null,null,11757]
["L",2.2930000000000001,0.14130000000000001,0.25440000000000002,3.96,4.779040404040404,{"$f":"[1]!AgePb6U8(F61)","v":11308.542458270533},7.37,5.2731343283582088,{"$f":"[1]!AgePb8Th2(I61)","v":37115.232392523598},1.8,18.925000000000001,15.552,0.82177014531043591,{"$f":"[1]!AgePb76($N$61)","v":4959.943460293186},38.863,18.829999999999998,15.55,38.799999999999997,null,null,null,11659]
["95/10-15A",5.7969999999999997,1.2430000000000001,5.1120000000000001,14,1.3842142857142858,{"$f":"[1]!AgePb6U8(F62)","v":5601.0935059530138},59.4,0.66462962962962968,{"$f":"[1]!AgePb8Th2(I62)","v":10300.20523539229},4.1100000000000003,19.379000000000001,15.592000000000001,0.80458227978739871,{"$f":"[1]!AgePb76($N$62)","v":4929.8696717041994},39.478999999999999,19.03,15.58,39.01,null,null,null,11540]
["L",2.2400000000000002,0.39360000000000001,0.94299999999999995,11.4,1.6858771929824561,{"$f":"[1]!AgePb6U8(F63)","v":6369.1047600488901},28.1,1.3876156583629891,{"$f":"[1]!AgePb8Th2(I63)","v":17590.606073629278},2.4,19.219000000000001,15.558999999999999,0.8095634528331338,{"$f":"[1]!AgePb76($N$63)","v":4938.6550725522929},38.991999999999997,18.93,15.54,38.770000000000003,null,null,null,11537]
["96/23-4",2.4,0.47710000000000002,2.6339999999999999,12.9,1.4821705426356591,{"$f":"[1]!AgePb6U8(F64)","v":5860.6504187006758},73.400000000000006,0.53275204359673023,{"$f":"[1]!AgePb8Th2(I64)","v":8631.9321060631955},5.52,19.12,15.619,0.81689330543933047,{"$f":"[1]!AgePb76($N$64)","v":4951.4788822847049},39.103999999999999,18.8,15.6,38.520000000000003,null,null,null,11427]
["L",0.85819999999999996,0.115,0.26379999999999998,8.6199999999999992,2.2027842227378192,{"$f":"[1]!AgePb6U8(F65)","v":7503.7582666888038},20.399999999999999,1.9057843137254904,{"$f":"[1]!AgePb8Th2(I65)","v":21560.451569012272},2.29,18.988,15.593,0.82120286496734785,{"$f":"[1]!AgePb76($N$65)","v":4958.961598541151},38.878,18.77,15.58,38.72,null,null,null,11377]
["96/24-1",1.39,0.25419999999999998,1.0740000000000001,11.8,1.6239830508474575,{"$f":"[1]!AgePb6U8(F66)","v":6218.813291089682},51.6,0.75571705426356584,{"$f":"[1]!AgePb8Th2(I66)","v":11377.005586671121},4.2300000000000004,19.163,15.609,0.81453843343944055,{"$f":"[1]!AgePb76($N$66)","v":4947.3723466461333},38.994999999999997,18.87,15.59,38.58,null,null,null,11366]
["L",0.50529999999999997,8.3500000000000005E-2,0.2092,10.6,1.7847169811320756,{"$f":"[1]!AgePb6U8(F67)","v":6602.0708824597114},27.4,1.412116788321168,{"$f":"[1]!AgePb8Th2(I67)","v":17796.962049413236},2.5099999999999998,18.917999999999999,15.593,0.82424146315678193,{"$f":"[1]!AgePb76($N$67)","v":4964.2124824004641},38.692,18.649999999999999,15.58,38.47,null,null,null,11313]
["96/8-10A",9.0429999999999993,1.3180000000000001,7.0570000000000004,9.43,1.9879109225874867,{"$f":"[1]!AgePb6U8(F68)","v":7056.0802907879724},52.2,0.75473180076628343,{"$f":"[1]!AgePb8Th2(I68)","v":11365.659932561086},5.35,18.745999999999999,15.714,0.83825882855009082,{"$f":"[1]!AgePb76($N$68)","v":4988.1718784809182},39.396999999999998,18.55,15.7,39.049999999999997,null,null,null,11309]
["L",6.3520000000000003,0.81759999999999999,3.0880000000000001,8.31,{"$f":"(L69/E69)","v":2.2529482551143203},{"$f":"[1]!AgePb6U8(F69)","v":7603.9435329226899},32.4,{"$f":"(P69/H69)","v":1.2127469135802469},{"$f":"[1]!AgePb8Th2(I69)","v":16053.252976887441},3.78,18.722000000000001,15.701000000000001,{"$f":"(M69/L69)","v":0.83863903429120812},{"$f":"[1]!AgePb76($N$69)","v":4988.8158062743805},39.292999999999999,18.55,15.69,39.08,null,null,null,11248]
["96/34-2",0.97770000000000001,0.19420000000000001,0.60909999999999997,12.5,1.4616,{"$f":"[1]!AgePb6U8(F70)","v":5807.0043192631429},40.6,0.94091133004926109,{"$f":"[1]!AgePb8Th2(I70)","v":13403.89329016583},3.14,18.27,15.53,0.85002736726874661,{"$f":"[1]!AgePb76($N$70)","v":5007.9609749690026},38.201000000000001,18.010000000000002,15.52,37.93,null,null,null,11241]
["96/34-3",0.46129999999999999,0.10489999999999999,0.2797,14.3,1.2793006993006992,{"$f":"[1]!AgePb6U8(F71)","v":5310.998775748174},39.5,0.96486075949367089,{"$f":"[1]!AgePb8Th2(I71)","v":13651.771248144512},2.67,18.294,15.526999999999999,0.84874822346124401,{"$f":"[1]!AgePb76($N$71)","v":5005.8242046521245},38.112000000000002,17.989999999999998,15.51,37.85,null,null,null,10718]
["96/34-4",0.54879999999999995,0.1069,0.2427,12.2,1.482950819672131,{"$f":"[1]!AgePb6U8(F72)","v":5862.6765480249178},28.7,1.3250522648083625,{"$f":"[1]!AgePb8Th2(I72)","v":17053.916488612984},2.27,18.091999999999999,15.523,0.85800353747512714,{"$f":"[1]!AgePb76($N$72)","v":5021.2083640174324},38.029000000000003,17.84,15.51,37.840000000000003,null,null,null,10699]
["DSDP","Site",null,null,null,0,null,null,0,null,null,null,null,0,null,null,null,null,null,null,null,null,10699]
["261-34R-2",0.1198,0.1143,4.5699999999999998E-2,60.2,0.31347176079734218,{"$f":"[1]!AgePb6U8(F74)","v":1757.7684493776885},24.9,1.5107630522088356,{"$f":"[1]!AgePb8Th2(I74)","v":18607.108879386655},0.4,18.870999999999999,15.525,0.82269090138307466,{"$f":"[1]!AgePb76($N$74)","v":4961.5355928699191},37.618000000000002,17.440000000000001,15.45,37.43,null,null,null,10360]
["261-35R-2",0.29980000000000001,0.28739999999999999,5.1799999999999999E-2,60.3,0.31145936981757877,{"$f":"[1]!AgePb6U8(F75)","v":1747.8842218319473},11.2,3.3476785714285717,{"$f":"[1]!AgePb8Th2(I75)","v":29704.740594480569},0.18,18.780999999999999,15.515000000000001,0.8261008466002876,{"$f":"[1]!AgePb76($N$75)","v":4967.415471519249},37.494,17.34,15.44,37.409999999999997,null,null,null,10300]
["L",0.15129999999999999,0.157,8.8999999999999999E-3,65.400000000000006,0.28899082568807333,{"$f":"[1]!AgePb6U8(F76)","v":1636.4841678946445},3.85,9.7358441558441555,{"$f":"[1]!AgePb8Th2(I76)","v":47975.504074554556},0.06,18.899999999999999,15.523999999999999,0.82137566137566143,{"$f":"[1]!AgePb76($N$76)","v":4959.2607548601145},37.482999999999997,17.34,15.45,37.450000000000003,null,null,null,9643]
["261-35R-4",0.6038,1.0109999999999999,0.45229999999999998,108,0.18688888888888891,{"$f":"[1]!AgePb6U8(F77)","v":1104.4996266324524},50.1,0.76003992015968069,{"$f":"[1]!AgePb8Th2(I77)","v":11426.710271889626},0.45,20.184000000000001,15.609,0.77333531510107012,{"$f":"[1]!AgePb76($N$77)","v":4873.4031783633918},38.078000000000003,17.600000000000001,15.48,37.700000000000003,null,null,null,9427]
["L",0.219,0.157,0.32740000000000002,47.1,0.44609341825902332,{"$f":"[1]!AgePb6U8(F78)","v":2377.8612490244577},101,0.3790990099009901,{"$f":"[1]!AgePb8Th2(I78)","v":6496.8245490981408},2.09,21.010999999999999,15.670999999999999,0.74584741325972115,{"$f":"[1]!AgePb76($N$78)","v":4821.6826121966369},38.289000000000001,19.89,15.62,37.520000000000003,null,null,null,9357]
["261-37R-2",0.19270000000000001,3.9300000000000002E-2,5.6099999999999997E-2,12.7,1.4299212598425197,{"$f":"[1]!AgePb6U8(F79)","v":5723.5059047250234},18.8,2.0034042553191491,{"$f":"[1]!AgePb8Th2(I79)","v":22228.325358201328},1.43,18.16,15.497,0.85335903083700437,{"$f":"[1]!AgePb76($N$79)","v":5013.5104248951384},37.664000000000001,17.86,15.48,37.520000000000003,null,null,null,9300]
["L",7.5800000000000006E-2,1.8100000000000002E-2,1.18E-2,15,1.2127333333333332,{"$f":"[1]!AgePb6U8(F80)","v":5119.9262126213234},10,3.7646000000000002,{"$f":"[1]!AgePb8Th2(I80)","v":31555.605621972372},0.65,18.190999999999999,15.489000000000001,0.85146501016986431,{"$f":"[1]!AgePb76($N$80)","v":5010.3584409414507},37.646000000000001,17.829999999999998,15.47,37.57,null,null,null,9123]
["ODP","Site",null,null,null,0,null,null,0,null,null,null,null,0,null,null,null,null,null,null,null,null,9014]
["765C-63R-4",0.314,0.5413,6.2100000000000002E-2,110,0.17934545454545456,{"$f":"[1]!AgePb6U8(F82)","v":1063.3978084584596},13,2.8833076923076919,{"$f":"[1]!AgePb8Th2(I82)","v":27421.673339718644},0.12,19.728000000000002,15.552,0.7883211678832116,{"$f":"[1]!AgePb76($N$82)","v":4900.7814536500937},37.482999999999997,17.05,15.42,37.380000000000003,null,null,null,8996]
["765D-21R-1",0.34250000000000003,7.1599999999999997E-2,0.1268,13.1,1.383587786259542,{"$f":"[1]!AgePb6U8(F83)","v":5599.3993605449523},23.9,1.5788284518828453,{"$f":"[1]!AgePb8Th2(I83)","v":19147.755581337195},1.77,18.125,15.475,0.85379310344827586,{"$f":"[1]!AgePb76($N$83)","v":5014.2317517509919},37.734000000000002,17.809999999999999,15.46,37.549999999999997,null,null,null,8954]
["Paleotethyan","sites",null,null,null,0,null,null,0,null,null,null,null,0,null,null,null,null,null,null,null,null,8770]
["Mayodia",275,null,null,null,0,null,null,0,null,null,null,null,0,null,null,null,null,null,null,null,null,8632]
["AP-146",1.216,0.36709999999999998,1.208,19,0.96084210526315794,{"$f":"[1]!AgePb6U8(F86)","v":4340.8478743828246},64.599999999999994,0.58869969040247683,{"$f":"[1]!AgePb8Th2(I86)","v":9356.5614324217659},3.29,18.256,15.484999999999999,0.8482142857142857,{"$f":"[1]!AgePb76($N$86)","v":5004.9312660774658},38.03,17.43,15.44,37.15,null,null,null,8508]
["AP-148",1.089,0.1762,0.85929999999999995,10.1,1.7791089108910894,{"$f":"[1]!AgePb6U8(F87)","v":6589.0755240568997},51,0.74398039215686274,{"$f":"[1]!AgePb8Th2(I87)","v":11241.436733587927},4.88,17.969000000000001,15.46,0.8603706383215538,{"$f":"[1]!AgePb76($N$87)","v":5025.1146618974535},37.942999999999998,17.53,15.44,37.24,null,null,null,8486]
["Lancang",null,null,null,null,0,null,null,0,null,null,null,null,0,null,null,null,null,null,null,null,null,8315]
["HN-4",0.59299999999999997,2.7400000000000001E-2,2.5499999999999998E-2,2.94,6.2612244897959188,{"$f":"[1]!AgePb6U8(F89)","v":12780.328619636475},2.82,13.612056737588654,{"$f":"[1]!AgePb8Th2(I89)","v":54206.103928655786},0.93,18.408000000000001,15.603999999999999,0.84767492394611033,{"$f":"[1]!AgePb76($N$89)","v":5004.0286502135996},38.386000000000003,18.27,15.6,38.340000000000003,null,null,null,8314]
["Ailaoshan",null,null,null,null,0,null,null,0,null,null,null,null,0,null,null,null,null,null,null,null,null,8072]
["LZK",1.5509999999999999,6.2300000000000001E-2,5.2499999999999998E-2,2.56,7.2199218749999998,{"$f":"[1]!AgePb6U8(F91)","v":13579.762802675361},2.23,17.336771300448433,{"$f":"[1]!AgePb8Th2(I91)","v":58795.521060387298},0.84,18.483000000000001,15.682,0.84845533733701239,{"$f":"[1]!AgePb76($N$91)","v":5005.3344661738183},38.661000000000001,18.34,15.67,38.619999999999997,null,null,null,8057]
["Changning_Menglian",350,null,null,null,0,null,null,0,null,null,null,null,0,null,null,null,null,null,null,null,null,8024]
["MW-10",0.46150000000000002,4.2999999999999997E-2,0.1038,5.78,3.0484429065743943,{"$f":"[1]!AgePb6U8(F93)","v":9014.2294258138245},14.4,2.6145138888888888,{"$f":"[1]!AgePb8Th2(I93)","v":25971.851965610815},2.41,17.62,15.436999999999999,0.87610669693530074,{"$f":"[1]!AgePb76($N$93)","v":5050.7964926667828},37.649000000000001,17.3,15.42,37.4,null,null,null,7604]
["MX",0.5,0.12180000000000001,0.4234,15.7,1.1861146496815287,{"$f":"[1]!AgePb6U8(F94)","v":5041.9070789740472},56.2,0.6978113879003558,{"$f":"[1]!AgePb8Th2(I94)","v":10699.141035762988},3.48,18.622,15.542,0.83460423155407581,{"$f":"[1]!AgePb76($N$94)","v":4981.966469364982},39.216999999999999,17.75,15.5,38.24,null,null,null,7504]
[null,null,null,null,null,"Average",{"$f":"AVERAGE(G4:G94)","v":7014.1402514935289},null,null,{"$f":"AVERAGE(J4:J94)","v":22675.450550113088},null,null,null,null,{"$f":"AVERAGE(O4:O94)","v":4998.7408020193316},null,null,null,null,null,null,null,7056]
[null,null,null,null,null,"Maximum",{"$f":"MAX(G4:G94)","v":15747.081483703845},null,null,{"$f":"MAX(J4:J94)","v":58795.521060387298},null,null,null,null,{"$f":"MAX(O4:O94)","v":5235.6510568162757},null,null,null,null,null,null,null,7002]
[null,null,null,null,null,"Minimum",{"$f":"MIN(G4:G94)","v":1063.3978084584596},null,null,{"$f":"MIN(J4:J94)","v":4869.2022578777523},null,null,null,null,{"$f":"MIN(O4:O94)","v":4821.6826121966369},null,null,null,null,null,null,null,6602]
[null,null,null,null,null,"Std Deviation",{"$f":"STDEV(G4:G94)","v":3459.8001381264226},null,null,{"$f":"STDEV(J4:J94)","v":12915.842809974378},null,null,null,null,{"$f":"STDEV(O4:O94)","v":52.639669880041538},null,null,null,null,null,null,null,6589]
[null,null,null,null,null,null,null,null,null,null,null,null,null,null,null,null,null,null,null,null,null,null,6497]
[null,null,null,null,null,null,null,null,null,null,null,null,null,null,null,null,null,null,null,null,null,null,6421]
[null,null,null,null,null,null,"Table 2",null,null,null,null,null,null,null,null,null,null,null,null,null,null,null,6398]
[null,null,null,null,null,null,null,null,null,null,null,null,null,null,null,null,null,null,null,null,null,null,6369]
[null,null,null,null,null,null,"206Pb/238U","MAXIMUM","MINIMUM","DIFFERENCE","AVERAGE","4600 To 4999","5000 To 5999 ","6,000 To 9999","10,000 To 19,999","Over 19,999","Total",null,null,null,null,null,6357]
[null,null,null,null,null,null,null,15747.081483703845,1063.3978084584596,14683.683675245386,7014.1402514935289,3,15,24,13,null,{"$f":"SUM(L104:P104)","v":55},null,null,null,null,null,6219]
[null,null,null,null,null,null,"208Pb/232Th","MAXIMUM","MINIMUM","DIFFERENCE","AVERAGE","4600 To 4999","5000 To 5999 ","6,000 To 9999","10,000 To 19,999","Over 19,999","Total",null,null,null,null,null,5863]
[null,null,null,null,null,null,null,58795.283383648006,4869.1825744716907,53926.100809176314,22675.358886206515,1,2,5,30,32,{"$f":"SUM(L106:P106)","v":70},null,null,null,null,null,5861]
[null,null,null,null,null,null,"207Pb/206Pb","MAXIMUM","MINIMUM","DIFFERENCE","AVERAGE","4600 To 4999","5000 To 5999 ","6,000 To 9999","10,000 To 19,999","Over 19,999","Total",null,null,null,null,null,5807]
[null,null,null,null,null,null,null,5235.6510568162757,4821.6826121966369,413.96844461963883,4998.7408020193316,27,43,null,null,null,{"$f":"SUM(L108:P108)","v":70},null,null,null,null,null,5724]
[null,null,null,null,null,null,null,null,null,null,null,null,null,null,null,null,null,null,null,null,null,null,5720]
[null,null,null,null,null,"Dating","206Pb/238U","208Pb/232Th","207Pb/206Pb",null,null,null,null,null,null,null,null,null,null,null,null,null,5601]
[null,null,null,null,null,"Summary","Age","Age","Age",null,null,"206Pb/238U","206Pb/238U","206Pb/238U","206Pb/238U",null,null,null,null,null,null,null,5599]
["208Pb/232Th",null,null,null,null,"Average",7014.1402514935289,22675.450550113088,4998.7408020193316,null,null,"Age Sorted","Age Sorted","Age Sorted","Age Sorted",null,null,null,null,null,null,null,5573]
["Age","Age","Age","Age",null,"Maximum",15747.081483703845,58795.521060387298,5235.6510568162757,null,null,15747.081483703845,10359.625090251327,8071.8978269494119,6218.813291089682,null,null,null,null,null,null,null,5573]
[58795.521060387298,29704.740594480569,18607.108879386655,11426.710271889626,null,"Minimum",1063.3978084584596,4869.2022578777523,4821.6826121966369,null,null,15067.109071626164,9642.7639257679948,8024.406328344704,5862.6765480249178,null,null,null,null,null,null,null,5515]
[54206.103928655786,27709.770122495229,18120.887202832822,11377.005586671121,null,"Std Deviation",3459.8001381264226,12915.842809974378,52.63966988005599,null,null,14363.276191278681,9426.5802940584254,7603.9435329226899,5860.6504187006758,null,null,null,null,null,null,null,5462]
[48251.861565806168,27421.673339718644,17796.962049413236,11365.659932561086,null,null,null,null,null,null,null,13579.762802675361,9300.100528456278,7503.7582666888038,5807.0043192631429,null,null,null,null,null,null,null,5425]
[47975.504074554556,26673.974616721516,17787.321317530936,11241.436733587927,null,null,null,null,null,null,null,13204.309752226725,9122.7911436234444,7056.0802907879724,5723.5059047250234,null,null,null,null,null,null,null,5311]
[46117.019895057652,26369.118154589694,17590.606073629278,10717.972334711558,null,null,null,null,null,null,null,12780.328619636475,9014.2294258138245,7002.391859358022,5719.6940773022943,null,null,null,null,null,null,null,5286]
[42203.430893673831,25971.851965610815,17536.454461811121,10699.141035762988,null,null,null,null,null,null,null,11757.238536795367,8996.2734753750046,6602.0708824597114,5601.0935059530138,null,null,null,null,null,null,null,5236]
[42192.419910103199,25589.866714442047,17053.916488612984,10698.983619843166,null,null,null,null,null,null,null,11658.500951084437,8953.5695956561485,6589.0755240568997,5599.3993605449523,null,null,null,null,null,null,null,5120]
[41603.985532642393,25096.010214178888,16053.252976887441,10300.20523539229,null,null,null,null,null,null,null,11537.396611788328,8770.4174931854868,6421.0231306903152,5572.6590602536317,null,null,null,null,null,null,null,5115]
[41342.731584170317,24010.438492414803,15299.467546059468,9356.5614324217659,null,null,null,null,null,null,null,11312.927675323997,8507.9599800931792,6398.0014423346747,5514.9150868283759,null,null,null,null,null,null,null,5062]
[41231.065174016119,22717.601221353034,14340.244565530851,8631.9321060631955,null,null,null,null,null,null,null,11308.542458270533,8314.9612694733296,6369.1047600488901,5461.8327413655952,null,null,null,null,null,null,null,5052]
[39637.347257735411,22306.917488089526,13844.833968252937,8486.447511889779,null,null,null,null,null,null,null,11247.757254213015,8314.1090405229497,6356.7648807817404,5310.998775748174,null,null,null,null,null,null,null,5052]
[38124.532020389815,22228.325358201328,13772.340889623347,8056.9599619131932,null,null,null,null,null,null,null,null,null,null,null,null,null,null,null,null,null,null,5051]
[37115.232392523598,21826.960516648396,13651.771248144512,6496.8245490981408,null,null,null,null,null,null,null,null,null,null,null,null,null,null,null,null,null,null,5051]
[35011.946301101525,21560.451569012272,13403.89329016583,5573.1756444656512,null,null,null,null,null,null,null,null,null,null,null,null,null,null,null,null,null,null,5049]
[33584.323763833752,19910.001377221022,13403.424733091932,5424.9317124137187,null,null,null,null,null,null,null,null,null,null,null,null,null,null,null,null,null,null,5044]
[31555.605621972372,19593.655731947074,13006.0608934099,4869.2022578777523,null,null,null,null,null,null,null,null,null,null,null,null,null,null,null,null,null,null,5043]
[31286.0101240968,19147.755581337195,12171.066144951017,null,null,null,null,null,null,null,null,null,null,null,null,null,null,null,null,null,null,null,5043]
[30740.108706474457,18764.60167416371,11540.311312197709,null,null,null,null,null,null,null,null,null,null,null,null,null,null,null,null,null,null,null,5042]
[29704.740594480569,null,null,null,null,null,null,null,null,null,null,null,null,null,null,null,null,null,null,null,null,null,5042]
[27709.770122495229,null,null,null,null,null,null,null,null,null,null,null,null,null,null,null,null,null,null,null,null,null,5041]
[27421.673339718644,null,null,null,null,null,null,null,null,null,null,null,null,null,null,null,null,null,null,null,null,null,5041]
[26673.974616721516,null,null,null,null,null,null,null,null,null,null,null,null,null,null,null,null,null,null,null,null,null,5038]
[26369.118154589694,null,null,null,null,null,null,null,null,null,null,null,null,null,null,null,null,null,null,null,null,null,5029]
[25971.851965610815,null,null,null,null,null,null,null,null,null,null,null,null,null,null,null,null,null,null,null,null,null,5027]
[25589.866714442047,null,null,null,null,null,null,null,null,null,null,null,null,null,null,null,null,null,null,null,null,null,5027]
[25096.010214178888,null,null,null,null,null,null,null,null,null,null,null,null,null,null,null,null,null,null,null,null,null,5025]
[24010.438492414803,null,null,null,null,null,null,null,null,null,null,null,null,null,null,null,null,null,null,null,null,null,5021]
[22717.601221353034,null,null,null,null,null,null,null,null,null,null,null,null,null,null,null,null,null,null,null,null,null,5020]
[22306.917488089526,null,null,null,null,null,null,null,null,null,null,null,null,null,null,null,null,null,null,null,null,null,5018]
[22228.325358201328,null,null,null,null,null,null,null,null,null,null,null,null,null,null,null,null,null,null,null,null,null,5016]
[21826.960516648396,null,null,null,null,null,null,null,null,null,null,null,null,null,null,null,null,null,null,null,null,null,5015]
[21560.451569012272,null,null,null,null,null,null,null,null,null,null,null,null,null,null,null,null,null,null,null,null,null,5014]
[19910.001377221022,null,null,null,null,null,null,null,null,null,null,null,null,null,null,null,null,null,null,null,null,null,5014]
[19593.655731947074,null,null,null,null,null,null,null,null,null,null,null,null,null,null,null,null,null,null,null,null,null,5013]
[19147.755581337195,null,null,null,null,null,null,null,null,null,null,null,null,null,null,null,null,null,null,null,null,null,5013]
[18764.60167416371,null,null,null,null,null,null,null,null,null,null,6218.813291089682,null,null,null,null,null,null,null,null,null,null,5013]
[18607.108879386655,1,null,null,null,null,null,null,null,null,null,5862.6765480249178,null,null,null,null,null,null,null,null,null,null,5012]
[18120.887202832822,2,null,null,null,null,null,null,null,null,null,5860.6504187006758,null,null,null,null,null,null,null,null,null,null,5012]
[17796.962049413236,3,null,null,null,null,null,null,null,null,null,5807.0043192631429,null,null,null,null,null,null,null,null,null,null,5012]
[17787.321317530936,4,null,null,null,null,null,null,null,null,null,5723.5059047250234,null,null,null,null,null,null,null,null,null,null,5011]
[17590.606073629278,5,null,null,null,null,null,null,null,null,null,5719.6940773022943,null,null,null,null,null,null,null,null,null,null,5010]
[17536.454461811121,6,null,null,null,null,null,null,null,null,null,5601.0935059530138,null,null,null,null,null,null,null,null,null,null,5010]
[17053.916488612984,7,null,null,null,null,null,null,null,null,null,5599.3993605449523,null,null,null,null,null,null,null,null,null,null,5008]
[16053.252976887441,8,null,null,null,null,null,null,null,null,null,5572.6590602536317,null,null,null,null,null,null,null,null,null,null,5006]
[15299.467546059468,9,null,null,null,null,null,null,null,null,null,5514.9150868283759,null,null,null,null,null,null,null,null,null,null,5006]
[14340.244565530851,10,null,null,null,null,null,null,null,null,null,5461.8327413655952,null,null,null,null,null,null,null,null,null,null,5005]
[13844.833968252937,11,null,null,null,null,null,null,null,null,null,5310.998775748174,null,null,null,null,null,null,null,null,null,null,5005]
[13772.340889623347,12,null,null,null,null,null,null,null,null,null,5286.1447021140966,null,null,null,null,null,null,null,null,null,null,5004]
[13651.771248144512,13,null,null,null,null,null,null,null,null,null,5119.9262126213234,null,null,null,null,null,null,null,null,null,null,5004]
[13403.89329016583,14,null,null,null,null,null,null,null,null,null,5114.5423014895432,null,null,null,null,null,null,null,null,null,null,5002]
[13403.424733091932,15,null,null,null,null,null,null,null,null,null,5041.9070789740472,null,null,null,null,null,null,null,null,null,null,5001]
[13006.0608934099,16,null,null,null,null,null,null,null,null,null,4748.5589263610445,null,null,null,null,null,null,null,null,null,null,4998]
[12171.066144951017,17,null,null,null,null,null,null,null,null,null,4702.2302045066463,null,null,null,null,null,null,null,null,null,null,4995]
[11540.311312197709,18,null,null,null,null,null,null,null,null,null,4638.7524207971528,null,null,null,null,null,null,null,null,null,null,4990]
[11426.710271889626,55,null,null,null,null,null,null,null,null,null,4401.6300193897332,null,null,null,null,null,null,null,null,null,null,4989]
[11377.005586671121,56,null,null,null,null,null,null,null,null,null,4340.8478743828246,null,null,null,null,null,null,null,null,null,null,4988]
[11365.659932561086,57,null,null,null,null,null,null,null,null,null,4108.6273838403868,null,null,null,null,null,null,null,null,null,null,4982]
[11241.436733587927,58,null,null,null,null,null,null,null,null,null,3592.7940131940122,null,null,null,null,null,null,null,null,null,null,4981]
[10717.972334711558,59,null,null,null,null,null,null,null,null,null,3548.1850095103969,null,null,null,null,null,null,null,null,null,null,4967]
[10699.141035762988,60,null,null,null,null,null,null,null,null,null,3538.8863837665258,null,null,null,null,null,null,null,null,null,null,4964]
[10698.983619843166,61,null,null,null,null,null,null,null,null,null,3093.8260868319489,null,null,null,null,null,null,null,null,null,null,4962]
[10300.20523539229,62,null,null,null,null,null,null,null,null,null,2884.1362309362626,null,null,null,null,null,null,null,null,null,null,4960]
[9356.5614324217659,63,null,null,null,null,null,null,null,null,null,2601.5527464876791,null,null,null,null,null,null,null,null,null,null,4960]
[8631.9321060631955,64,null,null,null,null,null,null,null,null,null,2377.8612490244577,null,null,null,null,null,null,null,null,null,null,4959]
[8486.447511889779,65,null,null,null,null,null,null,null,null,null,1757.7684493776885,null,null,null,null,null,null,null,null,null,null,4959]
[8056.9599619131932,66,null,null,null,null,null,null,null,null,null,1747.8842218319473,null,null,null,null,null,null,null,null,null,null,4959]
[6496.8245490981408,67,null,null,null,null,null,null,null,null,null,1636.4841678946445,null,null,null,null,null,null,null,null,null,null,4953]
[5573.1756444656512,68,null,null,null,null,null,null,null,null,null,1104.4996266324524,null,null,null,null,null,null,null,null,null,null,4951]
[5424.9317124137187,69,null,null,null,null,null,null,null,null,null,1063.3978084584596,null,null,null,null,null,null,null,null,null,null,4951]
[4869.2022578777523,70,null,null,null,null,null,null,null,null,null,null,null,null,null,null,null,null,null,null,null,null,4947]
[0,null,null,null,null,null,null,null,null,null,null,null,null,null,null,null,null,null,null,null,null,null,4947]
[0,null,null,null,null,null,null,null,null,null,null,null,null,null,null,null,null,null,null,null,null,null,4942]
[0,null,null,null,null,null,null,null,null,null,null,null,null,null,null,null,null,null,null,null,null,null,4939]
[0,null,null,null,null,null,null,null,null,null,null,null,null,null,null,null,null,null,null,null,null,null,4930]
[0,null,null,null,null,null,null,null,null,null,null,null,null,null,null,null,null,null,null,null,null,null,4928]
[0,null,null,null,null,null,null,null,null,null,null,null,null,null,null,null,null,null,null,null,null,null,4901]
[0,null,null,null,null,null,null,null,null,null,null,null,null,null,null,null,null,null,null,null,null,null,4873]
[0,null,null,null,null,null,null,null,null,null,null,null,null,null,null,null,null,null,null,null,null,null,4869]
[0,null,null,null,null,null,null,null,null,null,null,null,null,null,null,null,null,null,null,null,null,null,4822]
[0]
[0]
[0]
[0]
[0]
[0]
[0]
[0]
[0]
[0]
[0]
[0]

{"sheet":"Iso_Plot_010","index":10,"n_rows":27,"n_cols":10,"rows_kept":27,"cut":false,"hidden":false,"merged":[]}
["Sample","206Pb/204Pb","207Pb/204Pb","207Pb/206Pb","Age"]
[null,18.888000000000002,15.605,{"$f":"(C2/B2)","v":0.82618593816179575},{"$f":"[1]!AgePb76($D$2)","v":4967.561867504076}]
["98T04",18.812999999999999,15.555999999999999,{"$f":"(C3/B3)","v":0.82687503322170841},{"$f":"[1]!AgePb76($D$3)","v":4968.7468326498492}]
["Bangdaco"]
["02T394",18.213999999999999,15.500999999999999,{"$f":"(C5/B5)","v":0.85104864390029655},{"$f":"[1]!AgePb76($D$5)","v":5009.6645358040096}]
["02T395",18.414000000000001,15.513,0.84245682632779395,{"$f":"[1]!AgePb76($D$6)","v":4995.2645910808378}]
["02T396",18.387,15.49,0.84244303040191437,{"$f":"[1]!AgePb76($D$7)","v":4995.2413437670602}]
["98T07",18.963999999999999,15.702,0.82798987555368075,{"$f":"[1]!AgePb76($D$8)","v":4970.6616900278195}]
["98T15",19.105,15.827999999999999,0.8284742214080083,{"$f":"[1]!AgePb76($D$9)","v":4971.4927505007545}]
["98T16",19.012,15.731,0.82742478434672839,{"$f":"[1]!AgePb76($D$10)","v":4969.6914299862319}]
["98T33",18.882999999999999,15.641999999999999,0.82836413705449352,{"$f":"[1]!AgePb76($D$11)","v":4971.3039086115268}]
["98T38",19.052,15.766,0.82752466932605506,{"$f":"[1]!AgePb76($D$12)","v":4969.862983457122}]
["98T43",18.984000000000002,15.696,0.82680151706700367,{"$f":"[1]!AgePb76($D$13)","v":4968.6204645907983}]
["98T44",18.936,15.675000000000001,0.82778833967046894,{"$f":"[1]!AgePb76($D$14)","v":4970.3157342460318}]
["98T46",19.058,15.760999999999999,0.82700178402770486,{"$f":"[1]!AgePb76($D$15)","v":4968.9646785337436}]
["Yulinshan"]
["98T49",18.946000000000002,15.676,{"$f":"(C17/B17)","v":0.82740420141454651},{"$f":"[1]!AgePb76($D$17)","v":4969.6560758547703}]
["98T51",18.966999999999999,15.704000000000001,0.82796435915010291,{"$f":"[1]!AgePb76($D$18)","v":4970.6178936091055}]
["98T52",18.966000000000001,15.699,0.82774438468838973,{"$f":"[1]!AgePb76($D$19)","v":4970.2402693873964}]
["98T53",18.943999999999999,15.667,0.82701646959459463,{"$f":"[1]!AgePb76($D$20)","v":4968.989916239143}]
["98T54",18.986999999999998,15.73,0.82846157897508832,{"$f":"[1]!AgePb76($D$21)","v":4971.4710646607282}]
["98T57",19.026,15.744,0.82749921160517181,{"$f":"[1]!AgePb76($D$22)","v":4969.8192616519409}]
[]
[]
[]
["MAXIMUM","MINIMUM","DIFFERENCE","AVERAGE","4600 To 4999","5000 To 5999 ","6,000 To 9999","10,000 To 19,999","Over 19,999","Total"]
[5009.6645358040096,4967.561867504076,42.102668299933612,4974.6414364296288,18,1,0,0,0,{"$f":"SUM(E27:I27)","v":19}]

{"sheet":"Iso_Plot_011","index":11,"n_rows":16,"n_cols":11,"rows_kept":16,"cut":false,"hidden":false,"merged":[]}
["Table 4","206Pb/204Pb","207Pb/204Pb","207Pb/206Pb","Age"]
[null,17.486999999999998,15.472,{"$f":"(C2/B2)","v":0.88477154457597074},{"$f":"[1]!AgePb76($D$2)","v":5064.7296929073418}]
[null,17.707999999999998,15.488,{"$f":"(C3/B3)","v":0.87463293426699806},{"$f":"[1]!AgePb76($D$3)","v":5048.4121180227594}]
[null,18.117000000000001,15.513,0.85626759397251195,{"$f":"[1]!AgePb76($D$4)","v":5018.3363511612833}]
[null,18.402999999999999,15.513999999999999,0.84301472585991422,{"$f":"[1]!AgePb76($D$5)","v":4996.2043607410751}]
[null,18.245000000000001,15.506,0.84987667854206628,{"$f":"[1]!AgePb76($D$6)","v":5007.7094316165358}]
[null,18.321999999999999,15.510999999999999,0.84657788451042459,{"$f":"[1]!AgePb76($D$7)","v":5002.1908833464176}]
[null,18.352,15.526,0.84601133391455974,{"$f":"[1]!AgePb76($D$8)","v":5001.2408037175201}]
[null,17.756,15.468,0.8711421491326875,{"$f":"[1]!AgePb76($D$9)","v":5042.7473871899656}]
[null,17.908999999999999,15.49,0.86492824836674309,{"$f":"[1]!AgePb76($D$10)","v":5032.6038079987857}]
[]
[]
[]
[]
[null,"MAXIMUM","MINIMUM","DIFFERENCE","AVERAGE","4600 To 4999","5000 To 5999 ","6,000 To 9999","10,000 To 19,999","Over 19,999","Total"]
[null,5064.7296929073418,4996.2043607410751,68.525332166266708,5023.797204077965,1,8,null,null,null,{"$f":"SUM(F16:J16)","v":9}]

{"sheet":"Iso_Plot_012","index":12,"n_rows":42,"n_cols":13,"rows_kept":42,"cut":false,"hidden":false,"merged":[]}
["Sample","U-238","Age",null,"U-238","Error","Pb-207","Error","Pb-204","Error","Pb-204","Error","TABLE 2"]
["Name","Pb-206","Millions",null,"Pb-206","Level","Pb-206","Level","Pb-206","Level","Pb-208","Level"]
["SHR04.1",2.0499999999999998,{"$f":"[1]!AgePb6U8(1/B3)","v":2561.1719417824561},35,2.0499999999999998,{"$f":"(E3 * (C3/100))","v":52.504024806540343},0.88900000000000001,1.2E-2,14.81,0.31,35.53,0.96]
["SHRO5.1",2.5,{"$f":"[1]!AgePb6U8(1/B4)","v":2169.0393980416625},14,2.5,{"$f":"(E4 * (C4/100))","v":54.225984951041568},0.91600000000000004,3.2000000000000001E-2,16.239999999999998,0.99,33.6,1.39]
["SHR06.1",3.28,{"$f":"[1]!AgePb6U8(1/B5)","v":1715.4526169067083},29,3.28,56.266845834540028,0.78800000000000003,5.3999999999999999E-2,17.13,0.76,38.61,1.91]
["SHR13.1",1.35,{"$f":"[1]!AgePb6U8(1/B6)","v":3573.3165879499084},57,1.35,48.239773937323768,0.876,2.3E-2,15.89,0.7,37.72,2]
["SHRI5.1",1.48,{"$f":"[1]!AgePb6U8(1/B7)","v":3327.7451887243651},27,1.48,49.250628793120605,0.83299999999999996,0.06,14.36,0.69,36.92,2.1]
["SHR16.1",2.29,{"$f":"[1]!AgePb6U8(1/B8)","v":2335.7662995077026},18,2.29,53.489048258726385,0.86899999999999999,1.6E-2,17.100000000000001,0.59,36.93,1.43]
["SHR19.1",2.79,{"$f":"[1]!AgePb6U8(1/B9)","v":1974.6941064371363},26,2.79,55.093965569596101,0.82099999999999995,5.1999999999999998E-2,16.100000000000001,0.59,35.57,1.36]
["SHR21.1",2.16,{"$f":"[1]!AgePb6U8(1/B10)","v":2452.6272741514713},15,2.16,52.976749121671787,0.84199999999999997,2.3E-2,17.05,0.88,34.14,1.1000000000000001]
["SHR26.1",1.58,{"$f":"[1]!AgePb6U8(1/B11)","v":3161.0930017382789},59,1.58,49.945269427464808,0.92200000000000004,0.108,14.33,0.97,35.119999999999997,2.65]
["SHR26.2",1.79,{"$f":"[1]!AgePb6U8(1/B12)","v":2861.0860659507539},42,1.79,51.213440580518494,0.83099999999999996,0.04,16.170000000000002,0.95,34.61,2.2599999999999998]
["SHR27.1",4.66,{"$f":"[1]!AgePb6U8(1/B13)","v":1253.2373510236066},9.1,4.66,58.400860557700071,0.86699999999999999,4.8000000000000001E-2,16.260000000000002,1.1100000000000001,38.68,3.19]
["SHR28.1",4.09,{"$f":"[1]!AgePb6U8(1/B14)","v":1410.0426140707236},29,4.09,57.670742915492596,0.81299999999999994,0.02,16.5,0.56000000000000005,41.68,1.7]
["SHR29.1",3.38,{"$f":"[1]!AgePb6U8(1/B15)","v":1670.7365988295073},26,3.38,56.47089704043735,0.82699999999999996,9.5000000000000001E-2,35.119999999999997,1.71]
[]
[null,null,null,null,null,null,"Pb-207","Million","Table 2",null,"Table 2"]
["Meteoritics & Planetary Science",null,null,null,null,null,"Pb-206","Years","Page 342",null,"Page 342"]
["2000, Volume 35",null,null,null,null,null,0.88900000000000001,{"$f":"[1]!AgePb76($G$19)","v":5071.4766465396351},"Older Than Solar System"]
["Pages 341–346",null,null,null,null,null,0.91600000000000004,{"$f":"[1]!AgePb76($G$20)","v":5113.7714794091862},"Older Than Solar System"]
[null,null,null,null,null,null,0.78800000000000003,{"$f":"[1]!AgePb76($G$21)","v":4900.2005291064015},"Older Than Solar System"]
[null,null,null,null,null,null,0.876,{"$f":"[1]!AgePb76($G$22)","v":5050.6240125335389},"Older Than Solar System"]
[null,null,null,null,null,null,0.83299999999999996,{"$f":"[1]!AgePb76($G$23)","v":4979.2334014257685},"Older Than Solar System"]
["Sample","Pb206/U238","Pb-207/Pb-206",null,null,null,0.86899999999999999,{"$f":"[1]!AgePb76($G$24)","v":5039.2592384450418},"Older Than Solar System"]
["Name","Age","Age",null,null,null,0.82099999999999995,{"$f":"[1]!AgePb76($G$25)","v":4958.6103001668189}]
["SHR04.1",7188.6645648304293,5071.4766465396351,null,null,null,0.84199999999999997,{"$f":"[1]!AgePb76($G$26)","v":4994.4945845769371}]
["SHRO5.1",8075.8289669322685,5113.7714794091862,null,null,null,0.92200000000000004,{"$f":"[1]!AgePb76($G$27)","v":5122.9908530769999}]
["SHR06.1",9372.783301168125,4900.2005291064015,null,null,null,0.83099999999999996,{"$f":"[1]!AgePb76($G$28)","v":4975.8182334496641},"Meteorite"]
["SHR13.1",5507.9150888384702,5050.6240125335389,null,null,null,0.86699999999999999,{"$f":"[1]!AgePb76($G$29)","v":5035.9943093610373}]
["SHRI5.1",5855.0108633482087,4979.2334014257685,null,null,null,0.81299999999999994,{"$f":"[1]!AgePb76($G$30)","v":4944.6827303380096}]
["SHR16.1",7676.9544868801331,5039.2592384450418,null,null,null,0.82699999999999996,{"$f":"[1]!AgePb76($G$31)","v":4968.9616125818102}]
["SHR19.1",8588.983201252764,4958.6103001668189]
["SHR21.1",7417.0638362534783,4994.4945845769371]
["SHR26.1",6109.8430229397336,5122.9908530769999]
["SHR26.2",6614.2890948156282,4975.8182334496641]
["SHR27.1",11174.368362385763,5035.9943093610373]
["SHR28.1",10490.106885172805,4944.6827303380096]
["SHR29.1",9521.6678445663492,4968.9616125818102]
["AVG",{"$f":"AVERAGE(B26:B38)","v":7968.7291937987811},{"$f":"AVERAGE(C26:C38)","v":5012.0090716162194}]
["MAX",{"$f":"MAX(B26:B38)","v":11174.368362385763},{"$f":"MAX(C26:C38)","v":5122.9908530769999}]
["MIN",{"$f":"MIN(B26:B38)","v":5507.9150888384702},{"$f":"MIN(C26:C38)","v":4900.2005291064015}]
["STD DEV",{"$f":"STDEV(B26:B38)","v":1784.749859122503},{"$f":"STDEV(C26:C38)","v":66.737789343075775}]

{"sheet":"PlotDat4","index":13,"n_rows":23,"n_cols":6,"rows_kept":23,"cut":false,"hidden":true,"merged":[]}
["Source sheet","Iso_Plot_013",6.0699999999999999E-3,6.9999999999999994E-5,0,3.9712067817577985E-5]
["Plot name","Isochron4",5.5700000000000003E-3,1.4999999999999999E-4,0.11,5.3561517853861621E-4]
["Plot Type",12,5.0200000000000002E-3,3.0000000000000001E-5]
["1st free col",7,6.8199999999999997E-3,1.2E-4]
["Sigma Level",1,5.6499999999999996E-3,3.0000000000000001E-5]
["Absolute Errs",true,5.6299999999999996E-3,5.0000000000000002E-5]
["Symbol Type",4,6.9370000000000001E-2,3.5E-4]
["Inverse Plot",false,5.3800000000000002E-3,3.0000000000000001E-5]
["Color Plot",true,6.45E-3,1E-4]
["3D plot",false,5.5300000000000002E-3,1.1E-4]
["Linear",false,5.45E-3,4.0000000000000003E-5]
["Data Range","H3:I24",6.8500000000000002E-3,1.1E-4]
["Filled Symbols",true,6.0800000000000003E-3,6.0000000000000002E-5]
["ConcAge",false,5.6699999999999997E-3,4.0000000000000003E-5]
["ConcSwap",false,5.6299999999999996E-3,5.0000000000000002E-5]
["1st Symbol-row",1,5.2199999999999998E-3,9.0000000000000006E-5]
[null,null,5.5199999999999997E-3,3.0000000000000001E-5]
[null,null,5.6499999999999996E-3,5.0000000000000002E-5]
[null,null,5.8399999999999997E-3,9.0000000000000006E-5]
[null,null,5.3800000000000002E-3,3.0000000000000001E-5]
[null,null,5.4200000000000003E-3,3.0000000000000001E-5]
[null,null,5.7499999999999999E-3,6.9999999999999994E-5]
[null,null,"IsoLine","IsoLine"]

{"sheet":"Iso_Plot_013","index":14,"n_rows":90,"n_cols":14,"rows_kept":90,"cut":false,"hidden":false,"merged":[]}
[null,null,null,null,"207Pb/206Pb",null,null,"206Pb/238U",null,null,null,null,null,40059]
["Table 4","206Pb/204Pb","207Pb/204Pb","207Pb/206Pb","Age","238U/204Pb","206Pb/238U","Age",null,null,null,null,null,35742]
[null,15.515000000000001,14.993,{"$f":"(C3/B3)","v":0.96635514018691593},{"$f":"[1]!AgePb6U8(D3)","v":4358.9469550468893},3.47,{"$f":"(B3/F3)","v":4.4711815561959654},{"$f":"[1]!AgePb6U8(G3)","v":10955.646090088625},null,null,null,null,null,34459]
[null,0,0,0,{"$f":"[1]!AgePb6U8(D4)","v":0},0,0,null,null,null,null,null,null,33978]
[null,14.334,14.808999999999999,{"$f":"(C5/B5)","v":1.0331379935816938},{"$f":"[1]!AgePb6U8(D5)","v":4574.249212995619},0,0,null,null,null,null,null,null,28118]
[null,17.126000000000001,15.239000000000001,0.88981665304215807,{"$f":"[1]!AgePb6U8(D6)","v":4103.0125085800046},0,0,null,null,null,null,null,null,27473]
[null,14.606,14.965,1.0245789401615775,{"$f":"[1]!AgePb6U8(D7)","v":4547.0539768154304},7.0000000000000007E-2,{"$f":"(B7/F7)","v":208.65714285714284},{"$f":"[1]!AgePb6U8(G7)","v":34459.136460440379},null,null,null,null,null,25884]
[null,17.882000000000001,15.3,0.85560899228274234,{"$f":"[1]!AgePb6U8(D8)","v":3985.2566633878314},2.12,8.4349056603773587,{"$f":"[1]!AgePb6U8(G8)","v":14468.436292476412},null,null,null,null,null,21209]
[null,19.550999999999998,15.715999999999999,0.80384635057030329,{"$f":"[1]!AgePb6U8(D9)","v":3802.8766896948241},10.55,1.8531753554502366,{"$f":"[1]!AgePb6U8(G9)","v":6758.6303553409089},null,null,null,null,null,21092]
[null,18.882000000000001,15.545999999999999,0.82332380044486808,{"$f":"[1]!AgePb6U8(D10)","v":3872.1102303104153},0.27,69.933333333333337,{"$f":"[1]!AgePb6U8(G10)","v":27472.94419854556},null,null,null,null,null,20648]
[null,14.19,15.782999999999999,1.1122621564482029,{"$f":"[1]!AgePb6U8(D11)","v":4820.3673505046909},2.2799999999999998,6.2236842105263159,{"$f":"[1]!AgePb6U8(G11)","v":12746.914431736985},null,null,null,null,null,17527]
[null,16.885999999999999,15.372999999999999,0.91039914722255122,{"$f":"[1]!AgePb6U8(D12)","v":4172.8425323396659},2.2799999999999998,7.4061403508771937,{"$f":"[1]!AgePb6U8(G12)","v":13724.173620984504},null,null,null,null,null,16337]
[null,0,0,0,{"$f":"[1]!AgePb6U8(D13)","v":0},0,0,null,null,null,null,null,null,16026]
[null,15.417,15.212999999999999,0.98676785366802877,{"$f":"[1]!AgePb6U8(D14)","v":4425.5221541755463},0,0,null,null,null,null,null,null,15626]
[null,17.898,15.48,0.86490110626885686,{"$f":"[1]!AgePb6U8(D15)","v":4017.457054379016},0,0,null,null,null,null,null,null,15018]
[null,15.491,15.302,0.98779936737460461,{"$f":"[1]!AgePb6U8(D16)","v":4428.8682114273661},0,0,null,null,null,null,null,null,14468]
[null,16.571999999999999,15.378,0.92795076031860979,{"$f":"[1]!AgePb6U8(D17)","v":4231.7979475158008},0,0,null,null,null,null,null,null,14371]
[null,15.289,15.18,0.9928706913467199,{"$f":"[1]!AgePb6U8(D18)","v":4445.2935227344869},0.06,254.81666666666666,{"$f":"[1]!AgePb6U8(G18)","v":35741.892293900455},null,null,null,null,null,13724]
[null,19.952000000000002,15.823,0.79305332798716921,{"$f":"[1]!AgePb6U8(D19)","v":3764.1897599022336},0.04,498.8,{"$f":"[1]!AgePb6U8(G19)","v":40059.358700408397},null,null,null,null,null,13724]
[null,17.260000000000002,15.429,0.89391657010428727,{"$f":"[1]!AgePb6U8(D20)","v":4116.9827185709955},8.42,2.0498812351543947,{"$f":"[1]!AgePb6U8(G20)","v":7188.4135411282859},null,null,null,null,null,13404]
[null,39.091000000000001,15.624000000000001,0.39968279143536878,{"$f":"[1]!AgePb6U8(D21)","v":2167.578619838695},138,0.283268115942029,{"$f":"[1]!AgePb6U8(G21)","v":1607.8004163983624},null,null,null,null,null,13404]
[null,19.716000000000001,15.679,0.79524244268614319,{"$f":"[1]!AgePb6U8(D22)","v":3772.0552998099683},16,1.2322500000000001,{"$f":"[1]!AgePb6U8(G22)","v":5176.5353451422334},null,null,null,null,null,12747]
[null,19.350999999999999,15.798999999999999,0.81644359464627148,{"$f":"[1]!AgePb6U8(D23)","v":3847.739052568339},0.25,77.403999999999996,{"$f":"[1]!AgePb6U8(G23)","v":28118.452515474801},null,null,null,null,null,12622]
[null,17.167000000000002,15.465999999999999,0.90091454534863391,{"$f":"[1]!AgePb6U8(D24)","v":4140.7581629189226},2.0699999999999998,8.2932367149758477,{"$f":"[1]!AgePb6U8(G24)","v":14370.906692324043},null,null,null,null,null,12165]
[null,18.260999999999999,15.601000000000001,0.85433437380209198,{"$f":"[1]!AgePb6U8(D25)","v":3980.8270976705439},0.72,25.362500000000001,{"$f":"[1]!AgePb6U8(G25)","v":21092.296830329691},null,null,null,null,null,11432]
[null,16.448,15.44,0.93871595330739299,{"$f":"[1]!AgePb6U8(D26)","v":4267.6929843525177},2.35,6.9991489361702124,{"$f":"[1]!AgePb6U8(G26)","v":13404.255619932585},null,null,null,null,null,10956]
[null,0,0,0,{"$f":"[1]!AgePb6U8(D27)","v":0},0,0,null,null,null,null,null,null,10956]
[null,15.712999999999999,15.404999999999999,0.98039839623241898,{"$f":"[1]!AgePb6U8(D28)","v":4404.822141400653},0,0,null,null,null,null,null,null,10049]
[null,18.001999999999999,15.539,0.86318186868125768,{"$f":"[1]!AgePb6U8(D29)","v":4011.5114150639865},0,0,null,null,null,null,null,null,9250]
[null,15.487,15.39,0.99373668237876933,{"$f":"[1]!AgePb6U8(D30)","v":4448.0941682132388},0.08,193.58750000000001,{"$f":"[1]!AgePb6U8(G30)","v":33978.288047458293},null,null,null,null,null,7382]
[null,18.303000000000001,15.597,0.85215538436321903,{"$f":"[1]!AgePb6U8(D31)","v":3973.2475974122772},37.74,0.48497615262321142,{"$f":"[1]!AgePb6U8(G31)","v":2548.9038729162303},null,null,null,null,null,7188]
[null,19.641999999999999,15.714,0.80002036452499747,{"$f":"[1]!AgePb6U8(D32)","v":3789.1892245809445},6.14,3.1990228013029318,{"$f":"[1]!AgePb6U8(G32)","v":9249.6491981425424},null,null,null,null,null,6792]
[null,19.263999999999999,15.624000000000001,0.81104651162790709,{"$f":"[1]!AgePb6U8(D33)","v":3828.5567214443508},8.99,2.1428253615127919,{"$f":"[1]!AgePb6U8(G33)","v":7381.9319387973801},null,null,null,null,null,6759]
[null,17.963999999999999,15.566000000000001,0.86651079937653097,{"$f":"[1]!AgePb6U8(D34)","v":4023.0188896222126},0.33,54.43636363636363,{"$f":"[1]!AgePb6U8(G34)","v":25883.872759102553},null,null,null,null,null,6265]
[null,17.731000000000002,15.585000000000001,0.87896903727934128,{"$f":"[1]!AgePb6U8(D35)","v":4065.9032522046264},1.61,11.013043478260871,{"$f":"[1]!AgePb6U8(G35)","v":16025.740634973225},null,null,null,null,null,5865]
[null,18.09,15.593999999999999,0.86202321724709785,{"$f":"[1]!AgePb6U8(D36)","v":4007.5013554265397},0.7,25.842857142857145,{"$f":"[1]!AgePb6U8(G36)","v":21208.701095014385},null,null,null,null,null,5177]
[null,19.327000000000002,15.561,0.80514306410720748,{"$f":"[1]!AgePb6U8(D37)","v":3807.509096129796},16.600000000000001,1.1642771084337349,{"$f":"[1]!AgePb6U8(G37)","v":4977.1887612629489},null,null,null,null,null,4977]
[null,null,null,null,null,null,"Average",{"$f":"AVERAGE(H3:H37)","v":17025.002904679986},null,null,null,null,null,4820]
[null,null,null,null,null,null,"Maximum",{"$f":"MAX(H3:H38)","v":40059.358700408397}]
[null,null,null,null,null,null,"Minimum",{"$f":"MIN(H3:H39)","v":1607.8004163983624}]
[null,null,null,null,null,null,"Std Deviation",{"$f":"STDEV(H4:H37)","v":11600.717441716946}]
[]
[]
[null,null,null,null,"207Pb/206Pb",null,null,"206Pb/238U"]
["Table 5","206Pb/204Pb","207Pb/204Pb","207Pb/206Pb","Age","238U/204Pb","206Pb/238U","Age"]
[null,17.497,15.52,{"$f":"(C46/B46)","v":0.88700920157741325},{"$f":"[1]!AgePb6U8(D46)","v":4093.4288004780674},0,0]
[null,17.192,15.311999999999999,0.8906468124709167,{"$f":"[1]!AgePb6U8(D47)","v":4105.8436702350764},3.07,{"$f":"(B47/F47)","v":5.6000000000000005},{"$f":"[1]!AgePb6U8(G47)","v":12164.832548153941}]
[null,16.68,15.255000000000001,0.91456834532374109,{"$f":"[1]!AgePb6U8(D48)","v":4186.8956653212053},0,0]
[null,19.239999999999998,15.589,0.81023908523908528,{"$f":"[1]!AgePb6U8(D49)","v":3825.6820489718625},0,0]
[null,18.222000000000001,15.638,0.85819339260234873,{"$f":"[1]!AgePb6U8(D50)","v":3994.2286634219022},1.57,11.606369426751593,{"$f":"[1]!AgePb6U8(G50)","v":16336.516978500666}]
[null,17.495999999999999,15.551,0.88883173296753548,{"$f":"[1]!AgePb6U8(D51)","v":4099.6519403384127},0,0]
[null,19.827000000000002,15.771000000000001,0.79543047359661068,{"$f":"[1]!AgePb6U8(D52)","v":3772.7304518816168},1.4,14.162142857142859,{"$f":"[1]!AgePb6U8(G52)","v":17526.521963842672}]
[null,19.45,15.582000000000001,0.80113110539845767,{"$f":"[1]!AgePb6U8(D53)","v":3793.1658948244449},1.89,10.291005291005291,{"$f":"[1]!AgePb6U8(G53)","v":15626.149342801331}]
[null,19.359000000000002,15.656000000000001,0.80871945864972361,{"$f":"[1]!AgePb6U8(D54)","v":3820.2682577641808},0.82,23.608536585365858,{"$f":"[1]!AgePb6U8(G54)","v":20648.466710121422}]
[null,18.085000000000001,15.629,0.86419684821675413,{"$f":"[1]!AgePb6U8(D55)","v":4015.0221818150189},1.95,9.2743589743589752,{"$f":"[1]!AgePb6U8(G55)","v":15017.897640692685}]
[null,19.033999999999999,15.673999999999999,0.82347378375538516,{"$f":"[1]!AgePb6U8(D56)","v":3872.6404788466825},10.19,1.8679097154072619,{"$f":"[1]!AgePb6U8(G56)","v":6791.8352442117512}]
[null,17.292999999999999,15.593999999999999,0.90175215405077203,{"$f":"[1]!AgePb6U8(D57)","v":4143.5980503614383},0,0]
[null,18.792999999999999,15.574,0.82871281860267121,{"$f":"[1]!AgePb6U8(D58)","v":3891.1351590933141},0,0]
[null,16.885999999999999,15.372999999999999,0.91039914722255122,{"$f":"[1]!AgePb6U8(D59)","v":4172.8425323396659},2.2799999999999998,7.4061403508771937,{"$f":"[1]!AgePb6U8(G59)","v":13724.173620984504}]
[null,15.515000000000001,14.993,0.96635514018691593,{"$f":"[1]!AgePb6U8(D60)","v":4358.9469550468893},3.47,4.4711815561959654,{"$f":"[1]!AgePb6U8(G60)","v":10955.646090088625}]
[null,16.448,15.44,0.93871595330739299,{"$f":"[1]!AgePb6U8(D61)","v":4267.6929843525177},2.35,6.9991489361702124,{"$f":"[1]!AgePb6U8(G61)","v":13404.255619932585}]
[null,18.562999999999999,15.618,0.84135107471852622,{"$f":"[1]!AgePb6U8(D62)","v":3935.5331629830812},0,0]
[null,17.998999999999999,15.500999999999999,0.86121451191732878,{"$f":"[1]!AgePb6U8(D63)","v":4004.7009704024413},3.68,4.8910326086956513,{"$f":"[1]!AgePb6U8(G63)","v":11432.272669560287}]
[null,17.706,15.526999999999999,0.87693437252908613,{"$f":"[1]!AgePb6U8(D64)","v":4058.918891025},2.91,6.0845360824742265,{"$f":"[1]!AgePb6U8(G64)","v":12621.527105022808}]
[null,22.474,15.026999999999999,0.66863931654356146,{"$f":"[1]!AgePb6U8(D65)","v":3300.6189447334214},13.68,1.6428362573099415,{"$f":"[1]!AgePb6U8(G65)","v":6264.9649015842588}]
[null,18.545000000000002,15.503,0.83596656780803447,{"$f":"[1]!AgePb6U8(D66)","v":3916.6548446583402},0,0]
[null,18.518000000000001,15.468999999999999,0.83534938978291384,{"$f":"[1]!AgePb6U8(D67)","v":3914.4874554946387},0,0]
[null,19.065999999999999,15.625,0.81952166159655937,{"$f":"[1]!AgePb6U8(D68)","v":3858.6536228590767},5.08,3.7531496062992122,{"$f":"[1]!AgePb6U8(G68)","v":10048.718603189718}]
[null,19.199000000000002,15.653,0.81530288035835197,{"$f":"[1]!AgePb6U8(D69)","v":3843.6894763901487},0,0]
[null,17.390999999999998,15.423999999999999,0.88689552067161181,{"$f":"[1]!AgePb6U8(D70)","v":4093.0404312649839},0,0]
[null,17.387,15.420999999999999,0.88692701443607291,{"$f":"[1]!AgePb6U8(D71)","v":4093.1480260699782},0,0]
[null,17.954000000000001,15.420999999999999,0.85891723292859523,{"$f":"[1]!AgePb6U8(D72)","v":3996.7393094982558},12.1,1.4838016528925622,{"$f":"[1]!AgePb6U8(G72)","v":5864.8851635831707}]
[null,17.556999999999999,15.587,0.8877940422623456,{"$f":"[1]!AgePb6U8(D73)","v":4096.1094213571587},0,0]
[null,null,null,null,null,null,"Average",{"$f":"AVERAGE(H46:H73)","v":12561.910946818029}]
[null,null,null,null,null,null,"Maximum",{"$f":"MAX(H46:H74)","v":20648.466710121422}]
[null,null,null,null,null,null,"Minimum",{"$f":"MIN(H46:H75)","v":5864.8851635831707}]
[null,null,null,null,null,null,"Std Deviation",{"$f":"STDEV(H46:H73)","v":4224.9109203963199}]
[]
[]
[null,"MAXIMUM","MINIMUM","DIFFERENCE","AVERAGE","4600 To 4999","5000 To 5999 ","6,000 To 9999","10,000 To 19,999","Over 19,999","Total"]
["207Pb/206Pb",4820.3673505046909,2167.578619838695,2652.7887306659959,4028.8150143144539,1,null,null,null,null,{"$f":"SUM(F81:J81)","v":1}]
["206Pb/238U",40059.358700408397,1607.8004163983624,38451.558284010032,15308.429074733082,1,2,6,18,10,{"$f":"SUM(F82:J82)","v":37}]
[]
[]
[null,null,null,null,null,"Dating","Table 4","Table 5"]
[null,null,null,null,null,"Summary","Age","Age"]
[null,null,null,null,null,"Average",17025.002904679986,12561.910946818029]
[null,null,null,null,null,"Maximum",40059.358700408397,20648.466710121422]
[null,null,null,null,null,"Minimum",1607.8004163983624,5864.8851635831707]
[null,null,null,null,null,"Std Deviation",11600.717441716946,4224.9109203963199]

{"sheet":"Iso_Plot_014","index":15,"n_rows":164,"n_cols":17,"rows_kept":164,"cut":false,"hidden":false,"merged":[]}
["Sample","Pb-207/207","Error","Rho",null,"Pb-207/206","Age","Table 1"]
["Number",null,null,null,null,"Ratios","Million Years","Page 145"]
["CIL",0.76449999999999996,0.39500000000000002,0.90400000000000003,null,0.76449999999999996,4856.9954643634201,"Older Than Earth"]
["CIR",0.70089000000000001,0.33100000000000002,0.90100000000000002,null,0.70089000000000001,4732.5443131077554,"Older Than Earth"]
[null,0.73485999999999996,1.39,0.97499999999999998,null,0.73485999999999996,4800.4377882204099,"Older Than Earth"]
["C1-L1-5"]
["C1-L6",0.72328000000000003,0.78600000000000003,0.98,null,0.72328000000000003,4777.6771127094862,"Older Than Earth"]
["C1-L7",0.79329000000000005,2.3E-2,0.36299999999999999,null,0.79329000000000005,4909.7370515761277,"Older Than Earth"]
["C1-L8",0.74517,0.29399999999999998,0.83099999999999996,null,0.74517,4820.3824785032148,"Older Than Earth"]
["C1-L9",0.71423999999999999,0.20499999999999999,0.78,null,0.71423999999999999,4759.6367640774597,"Older Than Earth"]
["Cl-L70",0.71813000000000005,1.89,983,null,0.71813000000000005,4767.429419860965,"Older Than Earth"]
["Cl -Lit",0.74146999999999996,0.997,984,null,0.74146999999999996,4813.2588872428669,"Older Than Earth"]
["C1-L12",0.72162999999999999,4.1000000000000002E-2,0.26300000000000001,null,0.72162999999999999,4774.4023765384081,"Older Than Earth"]
["Total"]
[]
["C2-Ll",0.96955999999999998,0.315,969,null,0.96955999999999998,5193.8962604991939,"Older Than Solar System"]
["C2-L2",0.96677999999999997,0.17199999999999999,0.80400000000000005,null,0.96677999999999997,5189.8539716326641,"Older Than Solar System"]
["C2-L3",0.90034000000000003,1.1200000000000001,0.96299999999999997,null,0.90034000000000003,5089.4041402942175,"Older Than Solar System"]
["C2-L4",0.83414999999999995,0.17100000000000001,0.63300000000000001,null,0.83414999999999995,4981.1931793962358,"Older Than Earth"]
["C2-L5",0.82235000000000003,1.7000000000000001E-2,0.65300000000000002,null,0.82235000000000003,4960.9463415339605,"Older Than Earth"]
["C2-L6",0.85729999999999995,0.99099999999999999,0.192,null,0.85729999999999995,5020.0451482891367,"Older Than Earth"]
["C2-L7",0.80025000000000002,2.0299999999999998,0.97899999999999998,null,0.80025000000000002,4922.1815587759056,"Older Than Earth"]
["C2-L9",0.66183000000000003,0.79900000000000004,0.99199999999999999,null,0.66183000000000003,4649.9894525743339,"Older Than Earth"]
["C2-R",0.62941000000000003,0.99399999999999999,0.999,null,0.62941000000000003,4577.403488557834,"Older Than Earth"]
["Total"]
["C4",0.95599999999999996,0.21,0.26800000000000002,null,0.95599999999999996,5174.0620395293727,"Older Than Solar System"]
["C4-L6",0.85287999999999997,0.14699999999999999,0,null,0.85287999999999997,5012.7139356150237,"Older Than Solar System"]
["C4-L7",0.90344999999999998,1.1000000000000001,0.96699999999999997,null,0.90344999999999998,5094.2789455954126,"Older Than Solar System"]
["C4-L8",0.87648999999999999,0.183,0.79600000000000004,null,0.87648999999999999,5051.4159345638036,"Older Than Solar System"]
[]
["C4-Ll0",0.71748000000000001,4.46,0.995,null,0.71748000000000001,4766.1304469234228,"Older Than Earth"]
["C4-Ll1",0.73343999999999998,3.37,0.99399999999999999,null,0.73343999999999998,4797.6674266455102,"Older Than Earth"]
["Total"]
["C7 - Single Chondrule (39.1 mg) - uncrushed - Copenhagen University",0.90115000000000001,2.1999999999999999E-2,0.83099999999999996,null,0.90115000000000001,5090.675501405547,"Older Than Solar System"]
["C7-L1-5"]
["C7-L6",0.77459999999999996,0.877,0.98299999999999998,null,0.77459999999999996,4875.7354242838928,"Older Than Earth"]
["C7-L7",0.86480999999999997,3.5000000000000003E-2,1E-3,null,0.86480999999999997,5032.4100300103237,"Older Than Solar System"]
["C7-L8",0.85780999999999996,2.7E-2,-0.247,null,0.85780999999999996,5020.8884737735489,"Older Than Solar System"]
["C7-L9",0.72080999999999995,9.1999999999999998E-2,0.90800000000000003,null,0.72080999999999995,4772.7719567257755,"Older Than Earth"]
["C7-Ll0",0.73785999999999996,9.1999999999999998E-2,0.96499999999999997,null,0.73785999999999996,4806.2719295168963,"Older Than Earth"]
["C7-Ll1",0.73167000000000004,0.93600000000000005,0.99199999999999999,null,0.73167000000000004,4794.2062045045168,"Older Than Earth"]
["C7-L12",0.74200999999999995,0.38,0.98399999999999999,null,0.74200999999999995,4814.3009066764871,"Older Than Earth"]
["Total"]
["C12 - 10 chondrules (21.1 mg) - crushed - Olso University",0.87533000000000005,1.2999999999999999E-2,3.6999999999999998E-2,null,0.87533000000000005,5049.5404192983024,"Older Than Solar System"]
["C12-L1"]
["C12-L2",0.88363999999999998,5.1999999999999998E-2,0.38300000000000001,null,0.88363999999999998,5062.9183905255959,"Older Than Solar System"]
["C12-L3",0.97801000000000005,1.2999999999999999E-2,0.56799999999999995,null,0.97801000000000005,5206.1082131413204,"Older Than Solar System"]
["C12-L4"]
["C12-L5",0.84665999999999997,2.5000000000000001E-2,-0.109,null,0.84665999999999997,5002.3285312550479,"Older Than Solar System"]
["C12-L6",0.82972999999999997,0.14099999999999999,0.33800000000000002,null,0.82972999999999997,4973.6450639538589,"Older Than Earth"]
["C12-L7",0.83611999999999997,1.9E-2,0.09,null,0.83611999999999997,4984.5437016479382,"Older Than Earth"]
["C12-LS",0.67435999999999996,0.20599999999999999,0.95499999999999996,null,0.67435999999999996,4677.0278160770513,"Older Than Earth"]
["C12-L9",0.71718000000000004,8.5000000000000006E-2,0.61299999999999999,null,0.71718000000000004,4765.5304970041061,"Older Than Earth"]
["C12-L70",0.75116000000000005,0.14499999999999999,0.48699999999999999,null,0.75116000000000005,4831.8354005196952,"Older Than Earth"]
[null,null,null,null,null,"AVG",{"$f":"AVERAGE(G3:G54)","v":4910.8195806415715}]
[null,null,null,null,null,"MAX",{"$f":"MAX(G3:G54)","v":5206.1082131413204}]
[null,null,"Table 1",null,null,"MIN",{"$f":"MIN(G3:G54)","v":4577.403488557834}]
[null,null,"Page 145",null,null,"STD DEV",{"$f":"STDEV(G3:G54)","v":159.45643743190195},"Meteorite"]
["Sample","Age","Age"]
["Number","Million Years","Category"]
["CIL",4856.9954643634201,"Older Than Earth",null,null,"Sample","Age","Age"]
["CIR",4732.5443131077554,"Older Than Earth",null,null,"Number","Million Years","Category"]
[null,4800.4377882204099,"Older Than Earth",null,null,"C2-L1",5193.8962604991939,"Older Than Solar System"]
["C1-L6",4777.6771127094862,"Older Than Earth",null,null,"C2-L2",5189.8539716326641,"Older Than Solar System"]
["C1-L7",4909.7370515761277,"Older Than Earth",null,null,"C2-L3",5089.4041402942175,"Older Than Solar System"]
["C1-L8",4820.3824785032148,"Older Than Earth",null,null,"C2-L6",5020.0451482891367,"Older Than Solar System"]
["C1-L9",4759.6367640774597,"Older Than Earth",null,null,"C4",5174.0620395293727,"Older Than Solar System"]
["Cl-L70",4767.429419860965,"Older Than Earth",null,null,"C4-L6",5012.7139356150237,"Older Than Solar System"]
["Cl -Lit",4813.2588872428669,"Older Than Earth",null,null,"C4-L7",5094.2789455954126,"Older Than Solar System"]
["C1-L12",4774.4023765384081,"Older Than Earth",null,null,"C4-L8",5051.4159345638036,"Older Than Solar System"]
["C2-L1",5193.8962604991939,"Older Than Solar System",null,null,"C7",5090.675501405547,"Older Than Solar System"]
["C2-L2",5189.8539716326641,"Older Than Solar System",null,null,"C7-L7",5032.4100300103237,"Older Than Solar System"]
["C2-L3",5089.4041402942175,"Older Than Solar System",null,null,"C7-L8",5020.8884737735489,"Older Than Solar System"]
["C2-L4",4981.1931793962358,"Older Than Earth",null,null,"C12-10",5049.5404192983024,"Older Than Solar System"]
["C2-L5",4960.9463415339605,"Older Than Earth",null,null,"C12-L2",5062.9183905255959,"Older Than Solar System"]
["C2-L6",5020.0451482891367,"Older Than Solar System",null,null,"C12-L3",5206.1082131413204,"Older Than Solar System"]
["C2-L7",4922.1815587759056,"Older Than Earth",null,null,"C12-L5",5002.3285312550479,"Older Than Solar System"]
["C2-L9",4649.9894525743339,"Older Than Earth"]
["C2-R",4577.403488557834,"Older Than Earth"]
["C4",5174.0620395293727,"Older Than Solar System"]
["C4-L6",5012.7139356150237,"Older Than Solar System"]
["C4-L7",5094.2789455954126,"Older Than Solar System"]
["C4-L8",5051.4159345638036,"Older Than Solar System"]
["C4-10",4766.1304469234228,"Older Than Earth"]
["C4-L11",4797.6674266455102,"Older Than Earth"]
["C7",5090.675501405547,"Older Than Solar System"]
["C7-L6",4875.7354242838928,"Older Than Earth"]
["C7-L7",5032.4100300103237,"Older Than Solar System"]
["C7-L8",5020.8884737735489,"Older Than Solar System"]
["C7-L9",4772.7719567257755,"Older Than Earth"]
["C7-L10",4806.2719295168963,"Older Than Earth"]
["C7-L11",4794.2062045045168,"Older Than Earth"]
["C7-L12",4814.3009066764871,"Older Than Earth"]
["C12-10",5049.5404192983024,"Older Than Solar System"]
["C12-L2",5062.9183905255959,"Older Than Solar System"]
["C12-L3",5206.1082131413204,"Older Than Solar System"]
["C12-L5",5002.3285312550479,"Older Than Solar System"]
["C12-L6",4973.6450639538589,"Older Than Earth"]
["C12-L7",4984.5437016479382,"Older Than Earth"]
["C12-LS",4677.0278160770513,"Older Than Earth"]
["C12-L9",4765.5304970041061,"Older Than Earth"]
["C12-L70",4831.8354005196952,"Older Than Earth"]
[]
[]
[]
[]
[]
[]
["Table I"]
["Isotnpic data for Allende chondrules"]
["Sample","Acid","MS Method'","Treatment","Duration","U (ng)","Pb (ng)","206Pb/204Pb","208U/204Pb","208U/206Pb","208U/206Pb","2u0Pb1205Pb","%err","20JPb/t06Pb","%err","Rho"]
[null,null,null,null,null,null,null,"Ratio","Ratio","Ratio","Age","(corr.)",null,"(corr.)"]
["Cl - Single Chondrule - Copenhagen University'"]
["FragmentA (6.4 mg) - Immeshed"]
["CIL","6M HCI","SF","HP(90\")-US","2days-10",null,null,30.259,1.5362,null,null,3.2618000000000001E-2,0.13100000000000001,0.76449999999999996,0.39500000000000002,0.90400000000000003]
["C1R","28M HF","SF","HP (145\")","3days",null,null,56.58,1.2909999999999999,null,null,1.7357999999999998E-2,0.121,0.70089000000000001,0.33100000000000002,0.90100000000000002]
["Fragment a (31.1 mg) - crushed","DD","x5 US",5,null,3.3000000000000002E-2,36.191899999999997,36.191899999999997,1.5679000000000001,null,2.6020000000000001E-2,0.58899999999999997,0.73485999999999996,1.39,0.97499999999999998]
["C1-L1-5","2M HCI"]
["C1-L6","6M HCI","DD","US",5,null,7.1999999999999995E-2,41.851999999999997,1.4409000000000001,null,null,2.3026000000000001E-2,0.29399999999999998,0.72328000000000003,0.78600000000000003,0.98]
["C1-L7","6M HCI","SF","US",5,null,0.311,20.626000000000001,1.9357,null,null,4.7884999999999997E-2,3.1E-2,0.79329000000000005,2.3E-2,0.36299999999999999]
["C1-L8","6M HCI","SF","HP(100°)-US","2012-05-15","-",0.14399999999999999,34.645000000000003,1.5264,"-","-",2.8133999999999999E-2,0.12,0.74517,0.29399999999999998,0.83099999999999996]
["C1-L9","1M HF","SF","88(100°)-US","66-5","-",0.28999999999999998,47.927999999999997,1.3526,"-","-",2.0632000000000001E-2,7.5999999999999998E-2,0.71423999999999999,0.20499999999999999,0.78]
["Cl-LID","7M HF","DD","88(100°)-05","1day-5",null,3.2000000000000001E-2,42.928400000000003,1.4798,null,null,2.1589000000000001E-2,0.70299999999999996,0.71813000000000005,1.89,983]
["Cl-Lit","28M HF+ 14M HNO3","DD","HP(130°)-US","2days-5",null,4.5999999999999999E-2,35.180599999999998,1.5605,null,null,2.7289999999999998E-2,0.40300000000000002,0.74146999999999996,0.997,984]
["C1-L12","28M HF+ 14M HNO3","SF","Oven(200°)","3days",null,1.427,44.236800000000002,1.4115,null,null,2.2473E-2,0.02,0.72162999999999999,4.1000000000000002E-2,0.26300000000000001]
["Total",null,null,null,null,null,2.355]
["C2 - 8 chondrules (9.1 mg) - uncrushed - Copenhagen University",5,null,0.13300000000000001,12.759,2.5895000000000001,null,12.759,2.5895000000000001,0.18099999999999999,0.96955999999999998,0.315,969]
["C2-L2","4M HNO3","SF","HP(110°)-US-HP","2005-05-05",null,0.23,12.9985,2.5733999999999999,null,null,7.6855000000000007E-2,0.10199999999999999,0.96677999999999997,0.17199999999999999,0.80400000000000005]
["C2-L3","2M HCI","DD","US",5,null,2.1999999999999999E-2,16.007999999999999,2.3083999999999998,null,null,6.2938999999999995E-2,0.53400000000000003,0.90034000000000003,1.1200000000000001,0.96299999999999997]
["C2-L4","1-120 HP","DD","11P(110°)-US","overnight -5",null,1.9E-2,20.821999999999999,2.081,null,null,4.7044000000000002E-2,0.151,0.83414999999999995,0.17100000000000001,0.63300000000000001]
["C2-L5","2M HCI","SF","US",5,"-",0.23300000000000001,21.347999999999999,1.9835,null,null,4.6692999999999998E-2,1.9E-2,0.82235000000000003,1.7000000000000001E-2,0.65300000000000002]
["C2-L6","2M HCI","DI)","US",5,"-",8.9999999999999993E-3,18.271000000000001,2.1044,null,null,5.4445E-2,0.46600000000000003,0.85729999999999995,0.99099999999999999,0.192]
["C2-L7","6M HCI","DD","US",5,null,7.0000000000000001E-3,23.082999999999998,2.0851000000000002,null,null,3.9551000000000003E-2,1.93,0.80025000000000002,2.0299999999999998,0.97899999999999998]
["C2-L9","6M HCI","SF","HP(90\")-85","2012-05-15","-","-\"",101.75,1.5219,null,null,8.7919999999999995E-3,0.46200000000000002,0.66183000000000003,0.79900000000000004,0.99199999999999999]
["C2-R","28M HF+ 14M HNO3","SF","HP(145°1","3days",null,null,404.53,2.3874,null,null,1.3029999999999999E-3,1.1000000000000001,0.62941000000000003,0.99399999999999999,0.999]
["Total",null,null,null,null,null,0.65200000000000002]
["C4 - Single Chondrule (7.61 mg) - uncrushed - Copenhagen University","2005-05-05",null,0.21099999999999999,13.5352,2.6537999999999999,null,13.5352,2.6537999999999999,0.10199999999999999,0.95599999999999996,0.21,0.26800000000000002]
["C4-L6","2M 88r","DO",5,5,null,2E-3,18.830500000000001,2.0314000000000001,null,null,5.1691000000000001E-2,0.49099999999999999,0.85287999999999997,0.14699999999999999,0]
["C4-L7","6M HCI","DI)","US","S","-",1.2999999999999999E-2,16.300899999999999,2.1787000000000001,null,null,6.3125000000000001E-2,0.71399999999999997,0.90344999999999998,1.1000000000000001,0.96699999999999997]
["C4-L8","6M HCI","DD","HP (100')",15,null,2.5000000000000001E-2,17.700800000000001,2.0720999999999998,null,null,5.6481999999999997E-2,0.22900000000000001,0.87648999999999999,0.183,0.79600000000000004]
["C4-L9","1M HF","DD","HP(1000-US","14h-5",null,"ca. 0"]
["C4-L10","7M HF","DD","HP(80°)-US","76 -5",null,0.01,33.868000000000002,1.9196,null,null,2.1446E-2,1.81,0.71748000000000001,4.46,0.995]
["C4-L11","28M HF+ 14M HNO3","DD","HP(140°)","3days",null,1.0999999999999999E-2,30.023599999999998,1.8888,null,null,2.6519000000000001E-2,1.52,0.73343999999999998,3.37,0.99399999999999999]
["Total",null,null,null,0.27200000000000002]
["C7 - Single Chondrule (39.1 mg) - uncrushed - Copenhagen University","2005-05-05","-",0.80700000000000005,15.959,2.2467999999999999,"-",15.959,2.2467999999999999,1.4E-2,0.90115000000000001,2.1999999999999999E-2,0.83099999999999996]
["C7-L6","2M I18r","DD","US","S",null,3.2000000000000001E-2,26.792999999999999,1.7422,null,null,3.5661999999999999E-2,0.379,0.77459999999999996,0.877,0.98299999999999998]
["C7-L7","6M HCI","DD","US",5,null,9.4E-2,18.383800000000001,2.0487000000000002,null,null,5.4116999999999998E-2,0.05,0.86480999999999997,3.5000000000000003E-2,1E-3]
["C7-L8","6M HCI","DD","88(100\")",15,null,0.246,19.000800000000002,1.9518,null,null,5.2349E-2,2.1000000000000001E-2,0.85780999999999996,2.7E-2,-0.247]
["C7-L9","1M HF","SF-01)614","88(100°)-US","140 -5",null,0.51200000000000001,46.0764,1.4682999999999999,null,null,2.1693E-2,4.1000000000000002E-2,0.72080999999999995,9.1999999999999998E-2,0.90800000000000003]
["C7-L70","7M HF","SF- 006)4","HP(80\")-US","7h-5",null,0.48899999999999999,38.100999999999999,1.4867999999999999,null,null,2.5988000000000001E-2,3.5999999999999997E-2,0.73785999999999996,9.1999999999999998E-2,0.96499999999999997]
["C7-L71","28M HF","DD","HP(130°)-US","2days-5",null,5.1999999999999998E-2,38.178199999999997,1.5368999999999999,null,null,2.4674000000000001E-2,0.36899999999999999,0.73167000000000004,0.93600000000000005,0.99199999999999999]
["C7-L12","28M HF+ 14M HNO3","DD","HP(145°)","3days",null,0.11,35.25,1.5551999999999999,null,null,2.7607E-2,0.16,0.74200999999999995,0.38,0.98399999999999999]
["Total",null,null,null,2.3420000000000001]
["C12 - 10 chondrules (21.1 mg) - crushed - Olso University","US-HP(110°)-US","2005-05-05",5.5E-2,0.54100000000000004,17.3613,2.1362000000000001,6.2460000000000004,2.1362000000000001,5.7521000000000003E-2,9.0999999999999998E-2,0.87533000000000005,1.2999999999999999E-2,3.6999999999999998E-2]
["C12-L2","2M HCI US","SF","US","S",1.6E-2,8.5000000000000006E-2,16.842700000000001,2.1682999999999999,11.183,207,5.9455000000000001E-2,0.17499999999999999,0.88363999999999998,5.1999999999999998E-2,0.38300000000000001]
["C12-L3","4M 11NO3 05+118","SF","281-1P (110°)-US",10,2,6.0999999999999999E-2,12.624700000000001,2.1631,2.1631,2.8159999999999998,0.88,7.9093999999999998E-2,40,0.97801000000000005,1.2999999999999999E-2,0.56799999999999995]
["C12-L4","Water liP","did not run","HP(110°)","US","overnight",5]
["C12-L5","2M HCI 08+HP","SF-I)D614","HP(110°)-US","10e 5",1.4E-2,0.109,19.970500000000001,2.0021,8.5670000000000002,2.1,4.9692E-2,0.113,0.84665999999999997,2.5000000000000001E-2,-0.109]
["C12-L6","6M HCI US","DI)","US",5,2E-3,1.2E-2,21.231999999999999,1.9899,8.1419999999999995,12.1,4.5894999999999998E-2,0.71699999999999997,0.82972999999999997,0.14099999999999999,0.33800000000000002]
["C12-L7","6M HCI US+HP","SF-DD6)4","HP(110°)-85","2012-05-15",2.4E-2,0.14699999999999999,21.131,1.9625999999999999,11.47,1.32,4.7407999999999999E-2,0.13800000000000001,0.83611999999999997,1.9E-2,0.09]
["C12-LS","1M HF US","DD",5,"S",3.6999999999999998E-2,7.1999999999999995E-2,79.78,1.2573000000000001,116.22,4,1.1199000000000001E-2,3.05,0.67435999999999996,0.20599999999999999,0.95499999999999996]
["C12-L9","1MHF US+HP","SF","HP(1100-US","2012-05-26",7.5999999999999998E-2,0.18099999999999999,46.973999999999997,1.4538,55.508000000000003,1.05,2.0820999999999999E-2,0.61299999999999999,71718,8.5000000000000006E-2,0.61299999999999999]
["C12-L70","28M HF+ 14M HNO3 HP","SF-006)4","HP(145°)","3days",4.3999999999999997E-2,0.17299999999999999,33.058,1.6285000000000001,33.058,1.23,2.9808999999999999E-2,0.80600000000000005,0.75116000000000005,0.14499999999999999,0.48699999999999999]
[null,null,null,329,2312]

{"sheet":"Iso_Plot_015","index":16,"n_rows":91,"n_cols":19,"rows_kept":91,"cut":false,"hidden":false,"merged":[]}
["Pb206-Pb-207","Age","Age",null,"Pb206-Pb-207","Age","Age",null,"Pb206-Pb-207","Age","Age",null,"Pb206-Pb-207","Age","Age",null,null,null,5379]
["Ratio","Million Years","Category",null,"Ratio","Million Years","Category",null,"Ratio","Million Years","Category",null,"Ratio","Million Years","Category",null,null,null,5359]
[0.73085,4792.5996703580877,"Older Than Earth",null,0.79873000000000005,4919.4736497630856,"Older Than Earth",null,0.84336,4996.7856366222659,"Older Than Earth",null,0.82891000000000004,4972.240036047805,"Older Than Earth",null,null,null,5344]
[0.80647000000000002,4933.2058753163292,"Older Than Earth",null,0.83006000000000002,4974.2100855814861,"Older Than Earth",null,0.90695000000000003,5099.7438305030901,"Older Than Solar System",null,0.88990000000000002,5072.9082993868979,"Older Than Solar System",null,null,null,5336]
[0.74939,4828.4613150480573,"Older Than Earth",null,0.79730999999999996,4916.9389335703017,"Older Than Earth",null,0.83128000000000002,4976.2968825207017,"Older Than Earth",null,0.71172999999999997,4754.5844978462537,"Older Than Earth",null,null,null,5334]
[0.86665000000000003,5035.4221249605635,"Older Than Solar System",null,0.85704999999999998,5019.6315588644975,"Older Than Solar System",null,0.86255000000000004,5028.7010687656348,"Older Than Solar System",null,0.87124999999999997,5042.9227643868335,"Older Than Solar System",null,null,null,5333]
[0.71884999999999999,4768.8668172748912,"Older Than Earth",null,0.82845000000000002,4971.4512026844295,"Older Than Earth",null,0.85612999999999995,5018.1084459303202,"Older Than Solar System",null,0.77815999999999996,4882.2788189913299,"Older Than Earth",null,null,null,5325]
[0.84518000000000004,4999.845470361407,"Older Than Solar System",null,0.85870999999999997,5022.3753973844123,"Older Than Solar System",null,0.86643999999999999,5035.0786965768038,"Older Than Solar System",null,0.89581,5082.2715050855359,"Older Than Solar System",null,null,null,5321]
[0.82835999999999999,4971.2968112683375,"Older Than Earth",null,0.84018000000000004,4991.4224594543948,"Older Than Earth",null,0.80744000000000005,4934.9169449523815,"Older Than Earth",null,0.80491000000000001,4930.4494547977001,"Older Than Earth",null,null,null,5296]
[0.83172000000000001,4977.0486992617107,"Older Than Earth",null,0.85887999999999998,5022.6560749390501,"Older Than Solar System",null,0.92835000000000001,5132.6790456211038,"Older Than Solar System",null,0.89268999999999998,5077.3366840221333,"Older Than Solar System",null,null,null,5267]
[0.86306000000000005,5029.5389473282648,"Older Than Solar System",null,0.85680999999999996,5019.2343924844436,"Older Than Solar System",null,0.80844000000000005,4936.6786466388266,"Older Than Earth",null,0.77419000000000004,4874.9797747765078,"Older Than Earth",null,null,null,5259]
[0.72121999999999997,4773.5874140532769,"Older Than Earth",null,0.64422999999999997,4611.0699890432834,null,null,0.91990000000000005,5119.771322003915,"Older Than Solar System",null,0.85401000000000005,5014.5920370423328,"Older Than Solar System",null,null,null,5258]
[0.84982999999999997,5007.6315019316762,"Older Than Solar System",null,0.62158999999999998,4559.2943334728016,null,null,0.92542000000000002,5128.2174970360575,"Older Than Solar System",null,0.89561000000000002,5081.95571749389,"Older Than Solar System",null,null,null,5250]
[0.81891000000000003,4954.9856942675224,"Older Than Earth",null,0.62987000000000004,4578.4612026520799,null,null,0.72589999999999999,4782.8606441512939,"Older Than Earth",null,0.98433000000000004,5215.1691621833761,"Older Than Solar System",null,null,null,5245]
[0.96358999999999995,5185.2003379135986,"Older Than Solar System",null,0.62624000000000002,4570.0918271462451,null,null,0.90807000000000004,5101.4878734511167,"Older Than Solar System",null,0.92618,5129.3761945528622,"Older Than Solar System",null,null,null,5244]
[0.78652999999999995,4897.5383898770024,"Older Than Earth",null,0.64370000000000005,4609.8803714371224,null,null,0.90861000000000003,5102.3279368183021,"Older Than Solar System",null,0.99856999999999996,5235.361506054739,"Older Than Solar System",null,null,null,5244]
[0.98080999999999996,5210.1301749871936,"Older Than Solar System",null,0.63424999999999998,4588.4911578653073,null,null,"AVG",{"$f":"AVERAGE(J3:J16)","v":5028.1181765422725},"Table 5",null,0.95025000000000004,5165.5614475320745,"Older Than Solar System",null,null,null,5238]
[0.68994999999999995,4709.9282754129263,"Older Than Earth",null,0.65195999999999998,4628.3021806080569,"Older Than Earth",null,"MAX",{"$f":"MAX(J3:J16)","v":5132.6790456211038},"Page 1590",null,1.01559,5259.10031396664,"Older Than Solar System",null,null,null,5235]
[0.91120000000000001,5106.3497877125956,"Older Than Solar System",null,0.66154000000000002,4649.357191284902,"Older Than Earth",null,"MIN",{"$f":"MIN(J3:J16)","v":4782.8606441512939},null,null,0.64766999999999997,4618.7658663478378,null,null,null,null,5215]
[1.0906800000000001,5359.0455089547158,"Older Than Solar System",null,0.63822999999999996,4597.5409106142861,null,null,"STD DEV",{"$f":"STDEV(J3:J16)","v":98.601238837420567},null,null,"AVG",{"$f":"AVERAGE(N3:N19)","v":5024.1090635596911},"Table 6",null,null,null,5210]
[0.70469000000000004,4740.3117884620278,"Older Than Earth",null,0.64800000000000002,4619.5018292774548,null,null,null,null,null,null,"MAX",{"$f":"MAX(N3:N19)","v":5259.10031396664},"Page 1590",null,null,null,5193]
[0.87958000000000003,5056.3990957445358,"Older Than Solar System",null,0.65690000000000004,4639.2004407382256,null,null,null,null,null,null,"MIN",{"$f":"MIN(N3:N19)","v":4618.7658663478378},null,null,null,null,5185]
[0.96906000000000003,5193.1701352364153,"Older Than Solar System",null,"AVG",{"$f":"AVERAGE(F3:F22)","v":4775.4292594432927},"Table 4",null,null,null,null,null,"STD DEV",{"$f":"STDEV(N3:N19)","v":171.49982668419659},null,null,null,null,5166]
[0.69308000000000003,4716.4377989840132,"Older Than Earth",null,"MAX",{"$f":"MAX(F3:F22)","v":5022.6560749390501},"Page 1599",null,null,null,null,null,null,null,null,null,null,null,5133]
[0.80688000000000004,4933.9293779148466,"Older Than Earth",null,"MIN",{"$f":"MIN(F3:F22)","v":4559.2943334728016},null,null,null,null,null,null,null,null,null,null,null,null,5129]
[0.65600999999999998,4637.2434877831947,"Older Than Earth",null,"STD DEV",{"$f":"STDEV(F3:F22)","v":196.76881419595287},null,null,null,null,null,null,null,null,null,null,null,null,5128]
[0.82706000000000002,4969.0647220982019,"Older Than Earth",null,null,null,null,null,null,null,null,null,null,null,null,null,null,null,5120]
[0.68483000000000005,4699.2117217793084,"Older Than Earth",null,null,null,null,null,null,null,null,null,null,null,null,null,null,null,5106]
[0.80081999999999998,4923.1956138916548,"Older Than Earth",null,null,null,null,null,null,null,null,null,null,null,null,null,null,null,5102]
[0.68337999999999999,4696.1611834093101,"Older Than Earth",null,null,null,null,null,null,null,null,null,null,null,null,null,null,null,5101]
[0.70765,4746.3312935646982,"Older Than Earth",null,null,null,null,null,null,null,null,null,null,null,null,null,null,null,5100]
[0.73443000000000003,4799.5994793578129,"Older Than Earth",null,null,null,null,null,null,null,null,null,null,null,null,null,null,null,5082]
[0.82823999999999998,4971.0909283093488,"Older Than Earth",null,null,null,null,null,null,null,null,null,null,null,null,null,null,null,5082]
["AVG",{"$f":"AVERAGE(B3:B33)","v":4923.3170788007583},"Table 3",null,null,null,null,null,null,null,null,null,null,null,null,null,null,null,5077]
["MAX",{"$f":"MAX(B3:B33)","v":5359.0455089547158},"Page 1588",null,null,null,null,null,null,null,null,null,null,null,null,null,null,null,5073]
["MIN",{"$f":"MIN(B3:B33)","v":4637.2434877831947},null,null,null,null,null,null,null,null,null,null,null,null,null,null,null,null,5056]
["STD DEV",{"$f":"STDEV(B3:B33)","v":176.77377779869164},null,null,null,null,null,null,null,null,null,"Pb206-Pb-207","Age","Age",null,null,null,null,5043]
[null,null,null,null,null,null,null,null,null,null,null,"Ratio","Million Years","Category",null,null,null,null,5035]
["Allende","Whole-rock-R0",0.81699999999999995,0.7,10.074400000000001,10.0595,1.8E-3,10.780200000000001,1.8E-3,30.280200000000001,1.8E-3,1.0716399999999999,{"$f":"[1]!AgePb76($L$39)","v":5334.4065717325338},"Older Than Solar System",null,null,null,null,5035]
["CV3","L0",0.21199999999999999,0.3,10.2087,10.2075,3.3999999999999998E-3,10.8667,2.5999999999999999E-3,30.4131,3.0000000000000001E-3,1.0645800000000001,{"$f":"[1]!AgePb76($L$40)","v":5325.1529262072454},"Older Than Solar System",null,null,null,null,5030]
["MNHN","CAI-MNHN-A-R2",4.1000000000000002E-2,0.4,21.427600000000002,21.463100000000001,5.4999999999999997E-3,17.895499999999998,4.3E-3,45.654800000000002,4.7000000000000002E-3,0.83377999999999997,{"$f":"[1]!AgePb76($L$41)","v":4980.5629555876276},5,null,null,null,null,5029]
[null,"L1",2.8000000000000001E-2,1.3,11.630800000000001,11.6286,3.3999999999999998E-3,11.729799999999999,8.2000000000000007E-3,32.218299999999999,8.3000000000000001E-3,1.0086999999999999,{"$f":"[1]!AgePb76($L$42)","v":5249.5414411683223},"Older Than Solar System",null,null,null,null,5029]
[null,"L2",3.9E-2,1.8,11.704499999999999,11.7019,2.5000000000000001E-3,11.8735,7.1000000000000004E-3,32.480600000000003,5.7999999999999996E-3,1.01467,{"$f":"[1]!AgePb76($L$43)","v":5257.8279183969307},"Older Than Solar System",null,null,null,null,5023]
[null,"CAI-MNHN-B-R2",0.02,0.3,35.377400000000002,36.1462,1.9E-2,26.555299999999999,1.9400000000000001E-2,65.9696,1.9300000000000001E-2,0.73465999999999998,{"$f":"[1]!AgePb76($L$44)","v":4800.0479422523558},80,null,null,null,null,5022]
[null,"L1",0.02,1.8,10.7423,10.74,1.8E-3,11.194599999999999,4.0000000000000001E-3,31.241599999999998,4.1000000000000003E-3,1.04233,{"$f":"[1]!AgePb76($L$45)","v":5295.5601316294351},"Older Than Solar System",null,null,null,null,5020]
[null,"L2",2.7E-2,0.1,18.957699999999999,18.9589,1.9800000000000002E-2,16.3567,1.8800000000000001E-2,41.432000000000002,1.9300000000000001E-2,0.86275000000000002,{"$f":"[1]!AgePb76($L$46)","v":5029.0297112597564},"Older Than Solar System",null,null,null,null,5019]
["UCLA","CAI-UCLA-A-R2",0.04,0.2,75.652500000000003,79.562100000000001,3.5499999999999997E-2,54.1571,3.3599999999999998E-2,110.7024,3.0800000000000001E-2,0.68069000000000002,{"$f":"[1]!AgePb76($L$47)","v":4690.483525647478},80,null,null,null,null,5018]
[null,"L1",0.02,1.3,11.7424,11.7403,2.8999999999999998E-3,11.7994,7.4999999999999997E-3,31.826499999999999,5.5999999999999999E-3,1.0050300000000001,{"$f":"[1]!AgePb76($L$48)","v":5244.4216464043629},"Older Than Solar System",null,null,null,null,5016]
[null,"L2",3.5000000000000003E-2,0.2,30.393899999999999,30.4315,1.15E-2,23.5929,1.11E-2,48.326500000000003,9.4999999999999998E-3,0.77527999999999997,{"$f":"[1]!AgePb76($L$49)","v":4876.9877578366986},5,null,null,null,null,5015]
[null,"CAI-UCLA-B-R2",2.5000000000000001E-2,0.2,64.009900000000002,66.751499999999993,5.3499999999999999E-2,46.154299999999999,5.3600000000000002E-2,102.1554,5.28E-2,0.69144000000000005,{"$f":"[1]!AgePb76($L$50)","v":4713.0309878738917},79,null,null,null,null,5008]
[null,"L1",0.03,1.2,11.761699999999999,11.7585,3.8999999999999998E-3,11.811299999999999,4.4999999999999997E-3,31.913,4.1000000000000003E-3,1.0044999999999999,{"$f":"[1]!AgePb76($L$51)","v":5243.6806431439954},"Older Than Solar System",null,null,null,null,5000]
[null,"L2",2.1000000000000001E-2,0.2,31.534600000000001,31.612400000000001,3.0700000000000002E-2,24.145700000000001,2.5899999999999999E-2,51.511499999999998,3.1399999999999997E-2,0.76380000000000003,{"$f":"[1]!AgePb76($L$52)","v":4855.6868938275211},94,null,null,null,null,4997]
[null,"CAI-UCLA-C-R2",3.5000000000000003E-2,0.2,56.246400000000001,58.803100000000001,1.9199999999999998E-2,41.1736,1.9400000000000001E-2,92.316500000000005,2.0299999999999999E-2,0.70020000000000004,{"$f":"[1]!AgePb76($L$53)","v":4731.1290754895917},95,null,null,null,null,4991]
[null,"L1",1.7999999999999999E-2,1.5,11.711,11.7079,3.3999999999999998E-3,11.772600000000001,3.3E-3,31.912700000000001,3.3999999999999998E-3,1.00553,{"$f":"[1]!AgePb76($L$54)","v":5245.1203276006454},"Older Than Solar System",null,null,null,null,4981]
[null,"L2",1.7999999999999999E-2,0.2,25.684899999999999,25.7226,2.1700000000000001E-2,20.475999999999999,1.9699999999999999E-2,47.704700000000003,2.3400000000000001E-2,0.79603000000000002,{"$f":"[1]!AgePb76($L$55)","v":4914.6499985243672},7,null,null,null,null,4977]
[null,"Olivine-R0",0.6,0.8,9.9052000000000007,9.9049999999999994,2.0999999999999999E-3,10.6861,2.5999999999999999E-3,30.153199999999998,2.8E-3,1.07887,{"$f":"[1]!AgePb76($L$56)","v":5343.8166175794759},"Older Than Solar System",null,null,null,null,4976]
[null,"L0",0.19800000000000001,1.2,10.027100000000001,10.0267,2E-3,10.760199999999999,2.5000000000000001E-3,30.250399999999999,2.8E-3,1.07315,{"$f":"[1]!AgePb76($L$57)","v":5336.3774006617641},"Older Than Solar System",null,null,null,null,4974]
["Murchison","Whole-rock-R0",0.78400000000000003,1,10.088900000000001,10.0741,1.9E-3,10.782,2.3E-3,30.255700000000001,2.3999999999999998E-3,1.0702700000000001,{"$f":"[1]!AgePb76($L$58)","v":5332.6159320903662},"Older Than Solar System",null,null,null,null,4972]
["CM2","L0",0.221,1.7,10.2599,10.258699999999999,3.0999999999999999E-3,10.885,3.0000000000000001E-3,30.416,3.3999999999999998E-3,1.06105,{"$f":"[1]!AgePb76($L$59)","v":5320.5017910714478},"Older Than Solar System",null,null,null,null,4971]
[null,"CAI-R0-Murch",0.248,0.4,11.920999999999999,11.9229,2.5999999999999999E-3,11.9291,3.3E-3,34.150500000000001,2.5000000000000001E-3,1.0005200000000001,{"$f":"[1]!AgePb76($L$60)","v":5238.1028905897565},"Older Than Solar System",null,null,null,null,4971]
[null,"L0",0.14000000000000001,0.1,11.2361,11.235099999999999,3.2000000000000002E-3,11.474500000000001,2.8E-3,32.506700000000002,2.7000000000000001E-3,1.0213099999999999,{"$f":"[1]!AgePb76($L$61)","v":5266.9840736970045},"Older Than Solar System",null,null,null,null,4971]
["ENSL","Blanke","mean",null,null,18.350000000000001,0.4,15.71,0.4,38.25,0.4,0.85489999999999999,{"$f":"[1]!AgePb76($L$62)","v":5016.0693929088529},"Older Than Solar System",null,null,null,null,4969]
["Canyon-Diablo","Troilitef",null,null,null,9.3070000000000004,3.0000000000000001E-3,10.294,3.0000000000000001E-3,29.475999999999999,8.9999999999999993E-3,1.10605,{"$f":"[1]!AgePb76($L$63)","v":5378.6066251835773},"Older Than Solar System",null,null,null,null,4955]
[null,null,null,null,null,null,null,null,null,null,null,"AVG",{"$f":"AVERAGE(M39:M63)","v":5120.8158071345997},"Table 2",null,null,null,null,4937]
[null,null,null,null,null,null,null,null,null,null,null,"MAX",{"$f":"MAX(M39:M63)","v":5378.6066251835773},"Page 1587",null,null,null,null,4935]
[null,null,null,null,null,null,null,null,null,null,null,"MIN",{"$f":"MIN(M39:M63)","v":4690.483525647478},null,null,null,null,null,4934]
[null,null,null,null,null,null,null,null,null,null,null,"STD DEV",{"$f":"STDEV(M39:M63)","v":232.65903011223443},null,null,null,null,null,4933]
[null,null,null,null,null,null,null,null,null,null,null,null,null,null,null,null,null,null,4930]
[null,null,null,null,null,null,null,null,null,null,null,null,null,null,null,null,null,null,4923]
[null,null,null,null,null,null,null,null,null,null,null,null,null,null,null,null,null,null,4919]
[null,null,null,null,null,null,null,null,null,null,null,null,null,null,null,null,null,null,4917]
[null,null,null,null,null,null,null,null,null,null,null,null,null,null,null,null,null,null,4915]
[null,null,null,null,null,null,null,null,null,null,null,null,null,null,null,null,null,null,4898]
[null,null,null,null,null,null,null,null,null,null,null,null,null,null,null,null,null,null,4882]
[null,null,null,null,null,null,null,null,null,null,null,null,null,null,null,null,null,null,4877]
[null,null,null,null,null,null,null,null,null,null,null,null,null,null,null,null,null,null,4875]
[null,null,null,null,null,null,null,null,null,null,null,null,null,null,null,null,null,null,4856]
[null,null,null,null,null,null,null,null,null,null,null,null,null,null,null,null,null,null,4828]
[null,null,null,null,null,null,null,null,null,null,null,null,null,null,null,null,null,null,4800]
[null,null,null,null,null,null,null,null,null,null,null,null,null,null,null,null,null,null,4800]
[null,null,null,null,null,null,null,null,null,null,null,null,null,null,null,null,null,null,4793]
[null,null,null,null,null,null,null,null,null,null,null,null,null,null,null,null,null,null,4783]
[null,null,null,null,null,null,null,null,null,null,null,null,null,null,null,null,null,null,4774]
[null,null,null,null,null,null,null,null,null,null,null,null,null,null,null,null,null,null,4769]
[null,null,null,null,null,null,null,null,null,null,null,null,null,null,null,null,null,null,4755]
[null,null,null,null,null,null,null,null,null,null,null,null,null,null,null,null,null,null,4746]
[null,null,null,null,null,null,null,null,null,null,null,null,null,null,null,null,null,null,4740]
[null,null,null,null,null,null,null,null,null,null,null,null,null,null,null,null,null,null,4731]
[null,null,null,null,null,null,null,null,null,null,null,null,null,null,null,null,null,null,4716]
[null,null,null,null,null,null,null,null,null,null,null,null,null,null,null,null,null,null,4713]
[null,null,null,null,null,null,null,null,null,null,null,null,null,null,null,null,null,null,4710]

{"sheet":"Iso_Plot_016","index":17,"n_rows":44,"n_cols":15,"rows_kept":44,"cut":false,"hidden":false,"merged":[]}
[null,null,null,null,"207Pb/206Pb",null,null,null,null,null,null,null,null,null,99274.745726908324]
["Sample","206Pb/204Pb","207Pb/204Pb","207Pb/206Pb","Age","Model Age","Table 9",null,null,null,null,null,null,null,95540.744696299647]
["TE-118",18.603400000000001,15.723100000000001,{"$f":"(C3/B3)","v":0.84517346291538109},{"$f":"[1]!AgePb76(D3)","v":4999.8344925653437},3600,null,null,null,null,null,null,null,null,71705.774706020122]
["TE-126",18.562999999999999,15.698600000000001,{"$f":"(C4/B4)","v":0.84569304530517708},{"$f":"[1]!AgePb76(D4)","v":5000.7067516317838},3600,null,null,null,null,null,null,null,null,70276.623810157776]
["TE-137",18.521100000000001,15.7332,0.84947438327097202,{"$f":"[1]!AgePb76(D5)","v":5007.0376515891485},3600,null,null,null,null,null,null,null,null,68343.494936901567]
["TE-138",18.457100000000001,15.679500000000001,0.84951048647945782,{"$f":"[1]!AgePb76(D6)","v":5007.0979529838241},3600,null,null,null,null,null,null,null,null,67704.35205267508]
["TE-025",18.796800000000001,15.757899999999999,0.83832886448757227,{"$f":"[1]!AgePb76(D7)","v":4988.2905167490944},3600,null,null,null,null,null,null,null,null,6943.9215303258161]
["TE-150",18.589200000000002,15.6761,0.84329072794956206,{"$f":"[1]!AgePb76(D8)","v":4996.6690360225384},3600,null,null,null,null,null,null,null,null,5559.9106857821498]
[null,null,null,null,null,null,null,null,null,null,null,null,null,null,5013.0855626954799]
[null,null,null,null,"208Pb/232Th",null,null,null,null,null,null,null,null,null,5007.0979529838241]
["Sample","232Th/204Pb","208Pb/204Pb","208Pb/232Th","Age","Model Age",null,null,null,null,null,null,null,null,5007.0376515891485]
["TE-118",1.3933,39.582000000000001,{"$f":"(C12/B12)","v":28.408813607981052},{"$f":"[1]!AgePb8Th2(D12)","v":68343.494936901567},3600,null,null,null,null,null,null,null,null,5000.7067516317838]
["TE-126",1.4339,39.422800000000002,27.493409582258181,{"$f":"[1]!AgePb8Th2(D13)","v":67704.35205267508},3600,null,null,null,null,null,null,null,null,4999.8344925653437]
["TE-137",1.2677,39.755600000000001,31.360416502327048,{"$f":"[1]!AgePb8Th2(D14)","v":70276.623810157776},3600,null,null,null,null,null,null,null,null,4996.6690360225384]
["TE-138",1.1726000000000001,39.553400000000003,33.731366194780833,{"$f":"[1]!AgePb8Th2(D15)","v":71705.774706020122},3600,null,null,null,null,null,null,null,null,4988.2905167490944]
["TE-025",0.35270000000000001,39.482100000000003,111.94244400340233,{"$f":"[1]!AgePb8Th2(D16)","v":95540.744696299647},3600]
["TE-150",0.29020000000000001,39.136099999999999,134.85906271536871,{"$f":"[1]!AgePb8Th2(D17)","v":99274.745726908324},3600]
[]
[null,null,null,null,"206Pb/238U"]
["Sample","238U/204Pb","206Pb/204Pb","206Pb/238U","Age","Model Age"]
["TE-118",36.65,18.603400000000001,{"$f":"(C21/B21)","v":0.50759618008185547},{"$f":"[1]!AgePb6U8(D21)","v":2646.3590564598026},3600]
["TE-126",15.78,18.562999999999999,1.1763624841571609,{"$f":"[1]!AgePb6U8(D22)","v":5013.0855626954799},3600]
["TE-137",23.51,18.521100000000001,0.78779668226286681,{"$f":"[1]!AgePb6U8(D23)","v":3745.2632258155195},3600]
["TE-138",17.12,18.457100000000001,1.0781016355140187,{"$f":"[1]!AgePb6U8(D24)","v":4715.260607496888},3600]
["TE-025",13.73,18.796800000000001,1.3690313182811362,{"$f":"[1]!AgePb6U8(D25)","v":5559.9106857821498},3600]
["TE-150",9.6,18.589200000000002,1.9363750000000002,{"$f":"[1]!AgePb6U8(D26)","v":6943.9215303258161},3600]
[]
[]
[null,"MAXIMUM","MINIMUM","DIFFERENCE","AVERAGE","4600 To 4999","5000 To 5999 ","6,000 To 9999","10,000 To 19,999","Over 19,999","Total"]
["206Pb/238U",6943.9215303258161,2646.3590564598026,4297.5624738660135,4770.6334447626095,1,2,1,null,null,{"$f":"SUM(F30:J30)","v":4}]
["208Pb/232Th",99274.745726908324,67704.35205267508,31570.393674233244,78807.622654827093,null,null,null,null,6,{"$f":"SUM(F31:J31)","v":6}]
["207Pb/206Pb",5007.0979529838241,4988.2905167490944,18.807436234729721,4999.9394002569543,3,3,null,null,null,{"$f":"SUM(F32:J32)","v":6}]
[]
[]
[]
[]
[null,null,null,"207Pb/206Pb","208Pb/232Th","206Pb/238U","Model"]
[null,null,null,"Age","Age","Age","Age"]
[null,null,null,4999.8344925653437,68343.494936901567,2646.3590564598026,3600]
[null,null,null,5000.7067516317838,67704.35205267508,5013.0855626954799,3600]
[null,null,null,5007.0376515891485,70276.623810157776,3745.2632258155195,3600]
[null,null,null,5007.0979529838241,71705.774706020122,4715.260607496888,3600]
[null,null,null,4988.2905167490944,95540.744696299647,5559.9106857821498,3600]
[null,null,null,4996.6690360225384,99274.745726908324,6943.9215303258161,3600]

{"sheet":"Iso_Plot_017","index":18,"n_rows":49,"n_cols":18,"rows_kept":49,"cut":false,"hidden":false,"merged":[]}
["Table 4",null,null,null,null,null,null,"Age",null,"Age",null,"Age",null,null,null,null,null,10084]
["Sample","238U/204Pb","232Th/204Pb","206Pb/204Pb","207Pb/204Pb","208Pb/204Pb","207Pb/206Pb","207Pb/206Pb","208Pb/232Th","208Pb/232Th","206Pb/238U","206Pb/238U",null,null,null,null,null,9320]
[780,15.9,80,19.408999999999999,15.645,39.44,{"$f":"(E3/D3)","v":0.80606934927095675},{"$f":"[1]!AgePb76(G3)","v":4932.4984927076603},{"$f":"(F3/C3)","v":0.49299999999999999},{"$f":"[1]!AgePb8Th2(I3)","v":8100.8088642153252},{"$f":"(D3/B3)","v":1.2206918238993709},{"$f":"[1]!AgePb6U8(K3)","v":5143.0702963674803},null,null,null,null,null,8101]
[781,12,101,19.422999999999998,15.627000000000001,39.380000000000003,{"$f":"(E4/D4)","v":0.80456160222416728},{"$f":"[1]!AgePb76(G4)","v":4929.8330817642009},{"$f":"(F4/C4)","v":0.38990099009900991},{"$f":"[1]!AgePb8Th2(I4)","v":6654.5227783934497},{"$f":"(D4/B4)","v":1.6185833333333333},{"$f":"[1]!AgePb6U8(K4)","v":6205.5339827049675},null,null,null,null,null,7743]
[782,21.3,288,19.475000000000001,15.632,39.799999999999997,0.80267008985879329,{"$f":"[1]!AgePb76(G5)","v":4926.4817212531834},0.13819444444444443,{"$f":"[1]!AgePb8Th2(I5)","v":2616.3352435327629},0.91431924882629112,{"$f":"[1]!AgePb6U8(K5)","v":4186.0568947087713},null,null,null,null,null,7502]
[783,27.5,88,19.731999999999999,15.622999999999999,39.549999999999997,0.79175957834988853,{"$f":"[1]!AgePb76(G6)","v":4906.9850669657171},0.44943181818181815,{"$f":"[1]!AgePb8Th2(I6)","v":7502.2057627006352},0.71752727272727268,{"$f":"[1]!AgePb6U8(K6)","v":3486.7727594229282},null,null,null,null,null,7080]
[784,18,118,19.513999999999999,15.643000000000001,39.450000000000003,0.80162959926206834,{"$f":"[1]!AgePb76(G7)","v":4924.6346073120767},0.33432203389830512,{"$f":"[1]!AgePb8Th2(I7)","v":5829.6780814829481},1.084111111111111,{"$f":"[1]!AgePb6U8(K7)","v":4733.8755116324564},null,null,null,null,null,7060]
[785,24.7,120,19.613,15.638999999999999,39.53,0.79737928924692802,{"$f":"[1]!AgePb76(G8)","v":4917.0627271175154},0.32941666666666669,{"$f":"[1]!AgePb8Th2(I8)","v":5755.2349576727684},0.79404858299595138,{"$f":"[1]!AgePb6U8(K8)","v":3767.7669240460336},null,null,null,null,null,6891]
[786,33.4,97,19.504999999999999,15.651,39.409999999999997,0.80240963855421688,{"$f":"[1]!AgePb76(G9)","v":4926.0195984713027},0.4062886597938144,{"$f":"[1]!AgePb8Th2(I9)","v":6891.4416978604559},0.58398203592814368,{"$f":"[1]!AgePb6U8(K9)","v":2964.976324728254},null,null,null,null,null,6655]
[286,8.6,61,19.984999999999999,15.613,39.46,0.78123592694520894,{"$f":"[1]!AgePb76(G10)","v":4887.9068484244926},0.64688524590163932,{"$f":"[1]!AgePb8Th2(I10)","v":10083.593211694539},2.3238372093023254,{"$f":"[1]!AgePb6U8(K10)","v":7742.9163671650122},null,null,null,null,null,6507]
[288,35.4,174,19.702000000000002,15.782,40.06,{"$f":"(E11/D11)","v":0.80103542787534254},{"$f":"[1]!AgePb76(G11)","v":4923.5786696032783},{"$f":"(F11/C11)","v":0.23022988505747127},{"$f":"[1]!AgePb8Th2(I11)","v":4187.9949538494302},{"$f":"(D11/B11)","v":0.55655367231638431},{"$f":"[1]!AgePb6U8(K11)","v":2852.3719129801784},null,null,null,null,null,6387]
[289,31,139,19.533999999999999,15.581,39.270000000000003,0.79763489300706458,{"$f":"[1]!AgePb76(G12)","v":4917.5192948934782},0.28251798561151081,{"$f":"[1]!AgePb8Th2(I12)","v":5029.3142361410482},0.63012903225806449,{"$f":"[1]!AgePb6U8(K12)","v":3150.0994203392793},null,null,null,null,null,6313]
[290,43.7,107,19.678000000000001,15.592000000000001,39.229999999999997,0.79235694684419145,{"$f":"[1]!AgePb76(G13)","v":4908.0599205010458},0.36663551401869154,{"$f":"[1]!AgePb8Th2(I13)","v":6313.3277445554641},0.45029748283752857,{"$f":"[1]!AgePb6U8(K13)","v":2396.574994150109},null,null,null,null,null,6206]
[291,45.7,67,19.652999999999999,15.629,39.25,0.79524754490408589,{"$f":"[1]!AgePb76(G14)","v":4913.2488585256651},0.58582089552238803,{"$f":"[1]!AgePb8Th2(I14)","v":9319.9027471159188},0.43004376367614872,{"$f":"[1]!AgePb6U8(K14)","v":2305.9148929757216},null,null,null,null,null,5830]
[292,24.9,169,19.725999999999999,15.606,39.409999999999997,0.79113859880360948,{"$f":"[1]!AgePb76(G15)","v":4905.866814266019},0.23319526627218934,{"$f":"[1]!AgePb8Th2(I15)","v":4236.6564618458988},0.79220883534136544,{"$f":"[1]!AgePb6U8(K15)","v":3761.1529111468144},null,null,null,null,null,5755]
[293,11.6,180,19.643000000000001,15.624000000000001,39.450000000000003,0.79539785165198795,{"$f":"[1]!AgePb76(G16)","v":4913.5181261906091},0.21916666666666668,{"$f":"[1]!AgePb8Th2(I16)","v":4005.408089823803},1.6933620689655173,{"$f":"[1]!AgePb6U8(K16)","v":6387.0443382971443},null,null,null,null,null,5143]
[294,9.8000000000000007,94,19.501000000000001,15.638,39.43,0.80190759448233417,{"$f":"[1]!AgePb76(G17)","v":4925.1283634077126},0.41946808510638295,{"$f":"[1]!AgePb8Th2(I17)","v":7079.9841027655466},1.9898979591836734,{"$f":"[1]!AgePb6U8(K17)","v":7060.3658949680803},null,null,null,null,null,5029]
[295,11,161,19.184999999999999,15.647,39.31,0.81558509252019817,{"$f":"[1]!AgePb76(G18)","v":4949.1991161944288},0.24416149068322981,{"$f":"[1]!AgePb8Th2(I18)","v":4415.5998292758804},1.7440909090909089,{"$f":"[1]!AgePb6U8(K18)","v":6507.3317611604771},null,null,null,null,null,4949]
[null,null,null,null,null,null,"Average",{"$f":"AVERAGE(H3:H18)","v":4919.2213317248988},null,{"$f":"AVERAGE(J3:J18)","v":6126.3755476828674},null,{"$f":"AVERAGE(L3:L18)","v":4540.7390741746058},null,null,null,null,null,4932]
[null,null,null,null,null,null,"Maximum",{"$f":"MAX(H3:H19)","v":4949.1991161944288},null,{"$f":"MAX(J3:J19)","v":10083.593211694539},null,{"$f":"MAX(L3:L19)","v":7742.9163671650122},null,null,null,null,null,4930]
[null,null,null,null,null,null,"Minimum",{"$f":"MIN(H3:H20)","v":4887.9068484244926},null,{"$f":"MIN(J3:J20)","v":2616.3352435327629},null,{"$f":"MIN(L3:L20)","v":2305.9148929757216},null,null,null,null,null,4926]
[null,null,null,null,null,null,"Std Deviation",{"$f":"STDEV(H3:H18)","v":13.853204755321826},null,{"$f":"STDEV(J3:J18)","v":2032.4268691317186},null,{"$f":"STDEV(L3:L18)","v":1757.8716218508871},null,null,null,null,null,4926]
[null,null,null,null,null,null,null,null,null,null,null,null,null,null,null,null,null,4925]
[null,null,null,null,null,null,null,null,null,null,null,null,null,null,null,null,null,4925]
[null,null,null,null,null,null,"MAXIMUM","MINIMUM","DIFFERENCE","AVERAGE","4600 To 4999","5000 To 5999 ","6,000 To 9999","10,000 To 19,999","Over 19,999","Total",null,4924]
[null,null,null,null,null,"207Pb/206Pb",4949.1991161944288,4887.9068484244926,61.292267769936188,4919.2213317248988,16,null,null,null,null,{"$f":"SUM(K26:O26)","v":16},null,4918]
[null,null,null,null,null,"208Pb/232Th",10083.593211694539,2616.3352435327629,7467.2579681617754,6126.3755476828674,null,3,7,1,null,{"$f":"SUM(K27:O27)","v":11},null,4917]
[null,null,null,null,null,"206Pb/238U",7742.9163671650122,2305.9148929757216,5437.0014741892901,4540.7390741746058,1,1,5,null,null,{"$f":"SUM(K28:O28)","v":7},null,4914]
[null,null,null,null,null,null,null,null,null,null,null,null,null,null,null,null,null,4913]
[null,null,null,null,null,null,null,null,null,null,null,null,null,null,null,null,null,4908]
[null,null,null,null,null,null,null,"MAXIMUM","MINIMUM","DIFFERENCE","AVERAGE",null,null,null,null,null,null,4907]
[null,null,null,null,null,"Age",null,10083.593211694539,2616.3352435327629,7467.2579681617754,6126.3755476828674,null,null,null,null,null,null,4906]
[null,null,null,null,null,"208Pb/232Th",null,null,null,null,null,null,null,null,null,null,null,4888]
[null,null,null,null,null,10083.593211694539]
[null,null,null,null,null,9319.9027471159188,null,"Dating","Age","Age","Age"]
[null,null,null,null,null,8100.8088642153252,null,"Summary","207Pb/206Pb","208Pb/232Th","206Pb/238U"]
[null,null,null,null,null,7502.2057627006352,null,"Average",4919.2213317248988,6126.3755476828674,4540.7390741746058]
[null,null,null,null,null,7079.9841027655466,null,"Maximum",4949.1991161944288,10083.593211694539,7742.9163671650122]
[null,null,null,null,null,6891.4416978604559,null,"Minimum",4887.9068484244926,2616.3352435327629,2305.9148929757216]
[null,null,null,null,null,6654.5227783934497,null,"Std Deviation",13.853204755541306,2032.4268691317186,1757.8716218508871]
[null,null,null,null,null,6313.3277445554641]
[null,null,null,null,null,5829.6780814829481]
[null,null,null,null,null,5755.2349576727684]
[null,null,null,null,null,5029.3142361410482]
[null,null,null,null,null,4415.5998292758804]
[null,null,null,null,null,4236.6564618458988]
[null,null,null,null,null,4187.9949538494302]
[null,null,null,null,null,4005.408089823803]
[null,null,null,null,null,2616.3352435327629]

{"sheet":"Iso_Plot_018","index":19,"n_rows":140,"n_cols":18,"rows_kept":140,"cut":false,"hidden":false,"merged":[]}
[null,null,null,null,null,null,null,null,null,null,null,null,null,null,null,null,null,352962]
["Table 1",null,null,null,null,null,null,null,null,null,null,null,null,null,null,null,null,82030]
["Sample","207Pb/206Pb","207Pb/206Pb","206Pb/204Pb",null,"207Pb/204Pb",null,"208Pb/204Pb",null,"206Pb/238U","206Pb/238U","238U/204Pb","232Th/204Pb","208Pb/232Th","208Pb/232Th",null,null,57900]
["Number","Ratio","Age","Ratio",null,"Ratio",null,"Ratio",null,"Ratio","Age","Ratio","Ratio","Ratio","Age",null,null,31193]
["HD1939Pb1-Cc",{"$f":"(F5/D5)","v":0.84461288576069304},{"$f":"[1]!AgePb76($B$5)","v":4998.8927737070744},18.47,0.09,15.6,0.14000000000000001,39.24,{"$f":"(1/J5)","v":2.7125067677314565},{"$f":"(D5/L5)","v":0.36866267465069857},{"$f":"[1]!AgePb6U8(J5)","v":2023.1046781979298},50.1,22900,{"$f":"(H5/M5)","v":1.7135371179039301E-3},{"$f":"[1]!AgePb8Th2(N5)","v":34.604763782227465},null,null,28600]
["HD1939-Mn2",0,0,null,null,null,null,null,null,0,null,"-","-",0,null,null,null,28058]
["HD2055Pb6-Cc",{"$f":"(F7/D7)","v":0.75400291120815133},{"$f":"[1]!AgePb76($B$7)","v":4837.2370333173858},20.61,0.3,15.54,0.34,37.53,{"$f":"(1/J7)","v":0.89277049975739931},{"$f":"(D7/L7)","v":1.120108695652174},{"$f":"[1]!AgePb6U8(J7)","v":4844.269839829979},18.399999999999999,null,0,null,null,null,23318]
[null,0,0,null,null,null,null,null,null,0,null,null,null,0,null,null,null,21152]
["HD2055Pb7-Cc1",0.82139093782929395,{"$f":"[1]!AgePb76($B$9)","v":4959.2871992254304},18.98,9.1999999999999998E-2,15.59,0.14000000000000001,39.18,{"$f":"(1/J9)","v":4.10958904109589},0.24333333333333335,{"$f":"[1]!AgePb6U8(J9)","v":1404.0028685744694},78,null,0,null,null,null,20209]
["HD2055Pb7-Cc2",0.81524008350730681,{"$f":"[1]!AgePb76($B$10)","v":4948.5972358681929},19.16,0.22,15.62,0.24,39.28,0.72025052192066807,1.3884057971014492,{"$f":"[1]!AgePb6U8(J10)","v":5612.4165213738088},13.8,1480,{"$f":"(H10/M10)","v":2.6540540540540541E-2},{"$f":"[1]!AgePb8Th2(N10)","v":529.44821925879489},null,null,16434]
["HD2055Pb10-Cc",0.77855361596009964,{"$f":"[1]!AgePb76($B$11)","v":4883.0003395432686},20.05,0.16,15.61,0.2,39.299999999999997,5.6857855361596004,0.17587719298245616,{"$f":"[1]!AgePb6U8(J11)","v":1044.4120308620325},114,null,0,null,null,null,15648]
["HD2055Pb11-Cc",8.8084874863982587E-2,{"$f":"[1]!AgePb76($B$12)","v":1384.335948802971},183.8,0.53,16.190000000000001,0.23,39.97,15.28835690968444,6.5409252669039145E-2,{"$f":"[1]!AgePb6U8(J12)","v":408.43835715290163},2810,null,0,null,null,null,15434]
["HD2055Pb11-Op",1.7999001996007985E-2,0,2004,2.2000000000000002,36.07,1.8,41.28,5788.4231536926145,1.7275862068965518E-4,{"$f":"[1]!AgePb6U8(J13)","v":1.1135774352143044},11600000,19900,2.0743718592964823E-3,{"$f":"[1]!AgePb8Th2(N13)","v":41.884251050496282},null,null,13503]
["HD2055Pb12-Cc",5.1929158760278316E-2,{"$f":"[1]!AgePb76($B$14)","v":282.29178200205058},316.2,0.47,16.420000000000002,0.21,39.909999999999997,7.2738772928526254,0.13747826086956522,{"$f":"[1]!AgePb6U8(J14)","v":830.38685148677303},2300,null,0,null,null,null,12900]
["HD2055Pb12-Op",4.0290088638195005E-2,{"$f":"[1]!AgePb76($B$15)","v":-332.33410648682116},6205,"3..2",250,3.1,44.51,1110.3948428686545,9.0058055152394771E-4,{"$f":"[1]!AgePb6U8(J15)","v":5.8029026408715216},6890000,1.1599999999999999E-6,38370689.655172415,{"$f":"[1]!AgePb8Th2(N15)","v":352962.19225740928},null,null,12301]
["HD-2057-Pb1-Cc",0.14250457038391223,{"$f":"[1]!AgePb76($B$16)","v":2257.8635805422746},109.4,0.67,15.59,0.22,39.200000000000003,0.24399999999999999,0.30388888888888893,{"$f":"[1]!AgePb6U8(J16)","v":1710.5640739195323},360,1760,2.2272727272727274E-2,{"$f":"[1]!AgePb8Th2(N16)","v":445.24128575863386},null,null,11023]
["HD-2057-Pb2-Cc",0.37654171704957679,{"$f":"[1]!AgePb76($B$17)","v":3817.9471079901537},41.35,0.2,15.57,0.2,38.43,0.22900000000000001,7.0203735144312399E-2,{"$f":"[1]!AgePb6U8(J17)","v":437.3829945250065},589,1690,2.27396449704142E-2,{"$f":"[1]!AgePb8Th2(N17)","v":454.47100724187658},null,null,8442]
["HD-2057-Pb2-Op",2.3098688750862663E-2,0,1449,3.62,33.47,2.0299999999999998,39.72,0.63200000000000001,2.2818897637795276E-4,{"$f":"[1]!AgePb6U8(J18)","v":1.4708328459852666},6350000,13900,2.8575539568345323E-3,{"$f":"[1]!AgePb8Th2(N18)","v":57.6751674742777},null,null,8126]
["HD2059Pb4-Cc",0.19191185373531902,{"$f":"[1]!AgePb76($B$19)","v":2758.6154099350538},82.59,0.22,15.85,0.25,39.520000000000003,0.3,0.40092233009708739,{"$f":"[1]!AgePb6U8(J19)","v":2173.2849438531066},206,415,9.5228915662650612E-2,{"$f":"[1]!AgePb8Th2(N19)","v":1838.5729523822154},null,null,8010]
["HD2062Pb1-Cc",3.8586156111929309E-2,{"$f":"[1]!AgePb76($B$20)","v":-444.77331376212413},407.4,0.5,15.72,0.21,44.83,0.3,7.1223776223776216,{"$f":"[1]!AgePb6U8(J20)","v":13502.806910237272},57.2,null,0,null,null,null,7940]
["HD2062Pb2-Cc",0.81230448383733056,{"$f":"[1]!AgePb76($B$21)","v":4943.4649943184158},19.18,0.12,15.58,0.17,39.14,0.18,0.35917602996254683,{"$f":"[1]!AgePb6U8(J21)","v":1978.2669190573738},53.4,27800,1.4079136690647483E-3,{"$f":"[1]!AgePb8Th2(N21)","v":28.437058876182348},null,null,7556]
["HD2062Pb3-Mn",0.8590308370044053,{"$f":"[1]!AgePb76($B$22)","v":5022.9050641552758},18.16,5.8000000000000003E-2,15.6,8.6999999999999994E-2,39.18,0.12,4.5286783042394019,{"$f":"[1]!AgePb6U8(J22)","v":11023.038080965302},4.01,1600,2.4487499999999999E-2,{"$f":"[1]!AgePb8Th2(N22)","v":488.98408385425358},null,null,7504]
["HD2062-Mn2",0,0,null,null,null,null,null,null,0,null,"-","-",0,null,null,null,6416]
["HD2065Pb4-Cc",0.23585189644792295,{"$f":"[1]!AgePb76($B$24)","v":3092.1909355063431},66.44,0.19,15.67,0.23,39.18,0.25,0.11396226415094339,{"$f":"[1]!AgePb6U8(J24)","v":695.71807729312036},583,3790,1.0337730870712401E-2,{"$f":"[1]!AgePb8Th2(N24)","v":207.87593651339753},null,null,6372]
["HD2074Pb1-Cc2",2.7981981981981981E-2,0,555,1,15.53,0.33,43.61,0.77,0.12788018433179724,{"$f":"[1]!AgePb6U8(J25)","v":775.76101769643935},4340,null,0,null,null,null,6372]
["HD2074Pb1-Cc3",0.46128841607565008,{"$f":"[1]!AgePb76($B$26)","v":4122.0193774773015},33.840000000000003,0.28999999999999998,15.61,0.33,39.18,0.42,2.7737704918032791E-2,{"$f":"[1]!AgePb6U8(J26)","v":176.37378642069558},1220,825,4.7490909090909091E-2,{"$f":"[1]!AgePb8Th2(N26)","v":937.80079038570238},null,null,6292]
["HD2074Pb2-Cc1",0.17845079936951139,{"$f":"[1]!AgePb76($B$27)","v":2638.5251591243909},88.82,0.56000000000000005,15.85,0.28999999999999998,39.479999999999997,0.33,2.9121311475409833E-2,{"$f":"[1]!AgePb6U8(J27)","v":185.04652695193346},3050,null,0,null,null,null,5612]
["HD2074Pb2-Cc2",0.39334833708427108,{"$f":"[1]!AgePb76($B$28)","v":3883.8455058505187},39.99,0.38,15.73,0.43,38.61,0.43,2.272159090909091E-2,{"$f":"[1]!AgePb6U8(J28)","v":144.83352316564677},1760,482,8.0103734439834026E-2,{"$f":"[1]!AgePb8Th2(N28)","v":1557.49544074456},null,null,5389]
["HD2074Pb2-Op",5.6500146070698212E-2,{"$f":"[1]!AgePb76($B$29)","v":472.07628383261931},342.3,4.7,19.34,1.6,38.049999999999997,1.8,8.8449612403100785E-5,{"$f":"[1]!AgePb6U8(J29)","v":0.57015762105945977},3870000,34700,1.0965417867435157E-3,{"$f":"[1]!AgePb8Th2(N29)","v":22.151410286663168},null,null,5024]
["HD2089APbl-Ccl",5.8525688756515268E-3,0,2686,1.8,15.72,0.6,72.02,1,2.4642201834862387,{"$f":"[1]!AgePb6U8(J30)","v":8009.5893765814808},1090,null,0,null,null,null,5023]
["HD2089APb1-Cc2a",1.1378799110452187E-3,0,13490,6.3,15.35,2.9,210.2,5.4,1.7054361567635903,{"$f":"[1]!AgePb6U8(J31)","v":6415.878422228805},7910,null,0,null,null,null,5020]
["HD2089APb1-Cc2b",7.0230607966457028E-4,0,23850,8.5,16.75,4.5,341.1,7.9,2.2289719626168223,{"$f":"[1]!AgePb6U8(J32)","v":7556.253400456525},10700,"—",0,null,null,null,5019]
["HD2089APb1-Cc2c",7.8704168759417374E-3,0,1991,3.5,15.67,0.56999999999999995,65.930000000000007,1.6,1.6872881355932203,{"$f":"[1]!AgePb6U8(J33)","v":6372.4902954303752},1180,null,0,null,null,null,5000]
["HD2089APb1-Cc3",1.3624454148471615E-2,0,1145,1.6,15.6,0.71,53.63,0.8,1.0132743362831858,{"$f":"[1]!AgePb6U8(J34)","v":4510.9583863249927},1130,43600,1.230045871559633E-3,{"$f":"[1]!AgePb8Th2(N34)","v":24.846689942866455},null,null,4999]
["HD2089APb2-Cc",0.28036710455281627,{"$f":"[1]!AgePb76($B$35)","v":3364.9765099568349},55.57,0.14000000000000001,15.58,0.17,39.619999999999997,0.2,9.9587813620071692,{"$f":"[1]!AgePb6U8(J35)","v":15433.625049089198},5.58,56300,7.0373001776198932E-4,{"$f":"[1]!AgePb8Th2(N35)","v":14.218949285547959},null,null,4989]
["HD2089APb3-Mn",0.83870967741935476,{"$f":"[1]!AgePb76($B$36)","v":4988.9354154144557},18.600000000000001,0.06,15.6,0.09,39.17,0.12,5.7407407407407405,{"$f":"[1]!AgePb6U8(J36)","v":12300.85299643814},3.24,10500,3.7304761904761907E-3,{"$f":"[1]!AgePb8Th2(N36)","v":75.260944333457729},null,null,4965]
["HD2089A-Mn2",0,0,null,null,null,null,null,null,0,null,null,null,0,null,null,null,4959]
["HD2092Pb1-Cc",0.79037974683544299,{"$f":"[1]!AgePb76($B$38)","v":4904.4990133072524},19.75,0.14000000000000001,15.61,0.18,39.69,0.22,7.342007434944238E-2,{"$f":"[1]!AgePb6U8(J38)","v":456.72768563522476},269,288000,1.378125E-4,{"$f":"[1]!AgePb8Th2(N38)","v":2.7853058055541302},null,null,4950]
["HD2092Pb1-Mn",0.8574573472757292,{"$f":"[1]!AgePb76($B$39)","v":5020.3053913074682},18.170000000000002,0.06,15.58,0.09,39.054000000000002,0.12,76.666666666666671,{"$f":"[1]!AgePb6U8(J39)","v":28057.541755987695},0.23699999999999999,4940,7.9056680161943317E-3,{"$f":"[1]!AgePb8Th2(N39)","v":159.16284896852093},null,null,4949]
["HD2092-Mn2",0,null,null,null,null,null,null,null,0,null,"-","-",0,null,null,null,4943]
["HD2098Pb3-Cc",0.62444889779559121,{"$f":"[1]!AgePb76($B$41)","v":4565.9430351386945},24.95,0.11,15.58,0.15,39.33,0.2,1.1039823008849556,{"$f":"[1]!AgePb6U8(J41)","v":4795.0483978285829},22.6,15100,2.6046357615894041E-3,{"$f":"[1]!AgePb8Th2(N41)","v":52.57705055972307},null,null,4904]
["HD2109Pb1-Cc",0.66383340416489578,{"$f":"[1]!AgePb76($B$42)","v":4654.3492082259163},23.53,0.13,15.62,0.17,39.479999999999997,0.21,2.7045977011494258,{"$f":"[1]!AgePb6U8(J42)","v":8442.0607262969133},8.6999999999999993,41700,9.4676258992805744E-4,{"$f":"[1]!AgePb8Th2(N42)","v":19.127128709576112},null,null,4883]
["HD2155Pb1-Cc",0.44619347452776192,{"$f":"[1]!AgePb76($B$43)","v":4072.5672617366927},34.94,0.17,15.59,0.21,39.61,0.23,0.22411802437459907,{"$f":"[1]!AgePb6U8(J43)","v":1303.5977733065295},155.9,14800,2.6763513513513512E-3,{"$f":"[1]!AgePb8Th2(N43)","v":54.022765040546162},null,null,4845]
["HD2177Pb1-Cc",8.1803880440482438E-2,{"$f":"[1]!AgePb76($B$44)","v":1240.8253069563914},190.7,0.15,15.6,0.18,40.17,0.22,0.73629343629343624,{"$f":"[1]!AgePb6U8(J44)","v":3556.8259924391559},259,12200,3.2926229508196724E-3,{"$f":"[1]!AgePb8Th2(N44)","v":66.441922939025957},null,null,4844]
["HD2177Pb2-Cc",0.67139784946236558,{"$f":"[1]!AgePb76($B$45)","v":4670.6846567141438},23.25,0.26,15.61,0.31,39.159999999999997,0.43,4.7741273100616016E-2,{"$f":"[1]!AgePb6U8(J45)","v":300.63934638107531},487,13500,2.9007407407407406E-3,{"$f":"[1]!AgePb8Th2(N45)","v":58.545562618634001},null,null,4837]
["HD2177Pb1-Mn",8.5753575357535752,{"$f":"[1]!AgePb76($B$46)","v":8125.8564072258814},18.18,0.06,155.9,0.09,39.159999999999997,0.12,10.329545454545455,{"$f":"[1]!AgePb6U8(J46)","v":15648.115748484332},1.76,18300,2.1398907103825134E-3,{"$f":"[1]!AgePb8Th2(N46)","v":43.205748464961353}]
["HD2177-Mn2",0,null,"—","—","—","—","—","—",0,null,"—","—",0]
["HD2227Pb1-Cc",0.53228561667236074,{"$f":"[1]!AgePb76($B$48)","v":4333.2059851153372},29.27,0.1,15.58,0.16,39.549999999999997,0.21,0.11755020080321285,{"$f":"[1]!AgePb6U8(J48)","v":716.44782540265942},249,71600,5.5237430167597761E-4,{"$f":"[1]!AgePb8Th2(N48)","v":11.161633130829889}]
["HD2227Pb1-Mn",0.85690698954320299,{"$f":"[1]!AgePb76($B$49)","v":5019.3949108127808},18.170000000000002,0.06,15.57,0.09,39.090000000000003,0.12,11.7987012987013,{"$f":"[1]!AgePb6U8(J49)","v":16434.125413305988},1.54,16200,2.4129629629629631E-3,{"$f":"[1]!AgePb8Th2(N49)","v":48.712611267198483}]
["HD2227-Mn2",0,null,null,null,null,null,null,null,0,null,"-","-",0]
["HD2231Pb1-Cc",0.84503239740820735,{"$f":"[1]!AgePb76($B$51)","v":4999.5975777756503},18.52,0.3,15.65,0.33,39.18,0.35,2.5580110497237567E-2,{"$f":"[1]!AgePb6U8(J51)","v":162.82619793912031},724,349000,1.1226361031518624E-4,{"$f":"[1]!AgePb8Th2(N51)","v":2.2689703734760536}]
["HD2233Pb1-Ch1",6.8436675461741425E-2,{"$f":"[1]!AgePb76($B$52)","v":881.80746822939147},303.2,0.92,20.75,0.43,50.04,0.47,1.8047619047619047E-3,{"$f":"[1]!AgePb6U8(J52)","v":11.623756833627013},168000,"—",0]
["HD2233Pb1-Ch2",7.6300578034682084E-2,{"$f":"[1]!AgePb76($B$53)","v":1102.9680181560091},294.10000000000002,0.88,22.44,0.8,48.89,0.79,1.2899122807017544E-3,{"$f":"[1]!AgePb6U8(J53)","v":8.3099504179301977},228000,160,0.30556250000000001,{"$f":"[1]!AgePb8Th2(N53)","v":5389.2669507577175}]
["HD2233Pb2-Ch1",0.1351940095302927,{"$f":"[1]!AgePb76($B$54)","v":2166.5169092047463},146.9,0.33,19.86,0.31,41.76,2.1,1.2555555555555555E-3,{"$f":"[1]!AgePb6U8(J54)","v":8.0887542615260628},117000,null,0]
["HD2233Pb2-Ch2",0.11127780651836523,{"$f":"[1]!AgePb76($B$55)","v":1820.3894901005988},193.3,0.25,21.51,0.21,43.59,0.25,1.1858895705521473E-3,{"$f":"[1]!AgePb6U8(J55)","v":7.6402060205661488},163000,252,0.17297619047619048,{"$f":"[1]!AgePb8Th2(N55)","v":3224.745254998878}]
["HD2233Pb3-Ch",0.17659980897803246,{"$f":"[1]!AgePb76($B$56)","v":2621.1950635953726},104.7,0.25,18.489999999999998,0.23,40.93,0.27,1.5284671532846716E-3,{"$f":"[1]!AgePb6U8(J56)","v":9.8456099034772535},68500,null,0]
["HD2233Pb4-Ch",0.13894389438943894,{"$f":"[1]!AgePb76($B$57)","v":2214.0862301124707},151.5,0.95,21.05,0.62,40.56,4.8,1.8453105968331304E-3,{"$f":"[1]!AgePb6U8(J57)","v":11.88467431343854},82100,null,0]
["HD2233Pb5-Ch",0.31407269338303823,{"$f":"[1]!AgePb76($B$58)","v":3541.0502874186891},53.65,0.36,16.850000000000001,0.34,39.5,0.46,2.8386243386243387E-3,{"$f":"[1]!AgePb6U8(J58)","v":18.273025319617272},18900,"—",0]
["HD2247Pb1-Cc1",0.815803244374673,{"$f":"[1]!AgePb76($B$59)","v":4949.5795500452723},19.11,0.11,15.59,0.15,31.22,0.23,0.33703703703703702,{"$f":"[1]!AgePb6U8(J59)","v":1872.399673389242},56.7,9960,3.1345381526104417E-3,{"$f":"[1]!AgePb8Th2(N59)","v":63.256912173382517}]
["HD2247Pb1-Cc2",0.82443151771549439,{"$f":"[1]!AgePb76($B$60)","v":4964.5402241918455},18.91,1.1100000000000001,15.59,0.15,39.24,0.19,0.16734513274336282,{"$f":"[1]!AgePb6U8(J60)","v":997.46690184359636},113,30200,1.2993377483443709E-3,{"$f":"[1]!AgePb8Th2(N60)","v":26.245464164832196}]
["HD2247Pb2-Cc",0.7578998541565386,{"$f":"[1]!AgePb76($B$61)","v":4844.6061865939582},20.57,0.17,15.59,0.21,39.29,0.23,1.2171597633136096E-4,{"$f":"[1]!AgePb6U8(J61)","v":0.78458384878603971},169000,4730,8.3065539112050744E-3,{"$f":"[1]!AgePb8Th2(N61)","v":167.200492317986}]
["HD2247Pb1-Op",0.20615419296663659,{"$f":"[1]!AgePb76($B$62)","v":2875.5511140813828},88.72,0.11,18.29,0.15,38.75,0.192,125.31073446327684,{"$f":"[1]!AgePb6U8(J62)","v":31192.554504666758},0.70799999999999996,158000,2.4525316455696204E-4,{"$f":"[1]!AgePb8Th2(N62)","v":4.9565052029491889}]
["HD2247Pb1-Mn",0.85990071704357418,{"$f":"[1]!AgePb76($B$63)","v":5024.3400848397669},18.13,0.06,15.59,0.09,39.14,0.12,25.60734463276836,{"$f":"[1]!AgePb6U8(J63)","v":21151.892291307289},0.70799999999999996,3330,1.1753753753753754E-2,{"$f":"[1]!AgePb8Th2(N63)","v":236.18423297294208}]
["HD2247-Mn2",0,null,null,null,null,null,null,null,0,null,"-","-",0]
["HD2293Pb1-Cc",0.42849359847453011,{"$f":"[1]!AgePb76($B$65)","v":4012.206716367446},36.71,0.1,15.73,0.15,39.24,0.28000000000000003,0.15359832635983264,{"$f":"[1]!AgePb6U8(J65)","v":921.10257372987337},239,null,0]
["HD2293Pb1-Op",4.502423081257749E-2,{"$f":"[1]!AgePb76($B$66)","v":-54.343836264344986},887.3,2.7,39.950000000000003,1.9,41.17,1.4,9.0448521916411818E-4,{"$f":"[1]!AgePb6U8(J66)","v":5.8280510484597512},981000,33400,1.2326347305389221E-3,{"$f":"[1]!AgePb8Th2(N66)","v":24.898952199222105}]
["HD2294Pb1-Cc",0.24325588648058633,{"$f":"[1]!AgePb76($B$67)","v":3141.396162991653},64.13,0.16,15.6,0.2,39.61,0.23,36.231638418079093,{"$f":"[1]!AgePb6U8(J67)","v":23317.704399179525},1.77,42500,9.3199999999999999E-4,{"$f":"[1]!AgePb8Th2(N67)","v":18.829023904274266}]
[null,"Average",{"$f":"AVERAGE(C3:C67)","v":2755.8138755983318},null,null,null,null,null,null,"Average",{"$f":"AVERAGE(K3:K67)","v":4890.6921675954},null,null,"Average",{"$f":"AVERAGE(O3:O67)","v":9983.6420687878563}]
[null,"Maximum",{"$f":"MAX(C3:C68)","v":8125.8564072258814},null,null,null,null,null,null,"Maximum",{"$f":"MAX(K3:K68)","v":31192.554504666758},null,null,"Maximum",{"$f":"MAX(O3:O68)","v":352962.19225740928}]
[null,"Minimum",{"$f":"MIN(C3:C69)","v":-444.77331376212413},null,null,null,null,null,null,"Minimum",{"$f":"MIN(K3:K69)","v":0.57015762105945977},null,null,"Minimum",{"$f":"MIN(O3:O69)","v":2.2689703734760536}]
[null,"Difference",{"$f":"(C69 + ABS(C70))","v":8570.6297209880049},null,null,null,null,null,null,"Difference",{"$f":"(K69 + ABS(K70))","v":31193.124662287817},null,null,"Difference",{"$f":"(O69 + ABS(O70))","v":352964.46122778277}]
[]
[]
[]
[null,null,null,null,null,null,null,"Chronology","207Pb/206Pb","206Pb/238U","208Pb/232Th"]
[null,null,null,null,null,null,null,"Summary","Age","Age","Age"]
["Table 3",null,null,null,null,null,null,"Average",2755.8138755983318,4890.6921675954,9983.6420687878563]
[null,"206Pb/238U Age ","207Pb/235U Age","208Pb/232Th Age",null,null,null,"Maximum",8125.8564072258814,31192.554504666758,352962.19225740928]
["HD1939Pb1-Cc",38.200000000000003,28,96,null,null,null,"Minimum",-444.77331376212413,0.57015762105945977,2.2689703734760536]
["HD2055Pb6-Cc",798,"—","—",null,null,null,"Difference",8570.6297209880049,31193.124662287817,352964.46122778277]
["HD2055Pb7-Cc1",631,64,"—"]
["HD2055Pb7-Cc2",442,285,1864]
["HD2055Pb10-Cc",103.8,23,"—",null,null,null,null,null,"Table 1","Table 3"]
["HD2055Pb11-Cc",365.3,29.3,"—",null,null,null,null,null,"206Pb/238U","206Pb/238U"]
["HD2055Pb11-Op",1.0960000000000001,0.24510000000000001,1951,null,null,null,null,null,"Age Sorted","Age Sorted"]
["HD2055Pb12-Cc",775.9,49,"—",null,null,null,null,null,31192.554504666758,20209]
["HD2055Pb12-Op",5.726,4.702,88,null,null,null,null,null,28057.541755987695,7940]
["HD-2057-Pb1-Cc",1455,"—","—",null,null,null,null,null,23317.704399179525,7504]
["HD-2057-Pb2-Cc",248.8,"—","—",null,null,null,null,null,21151.892291307289,6372]
["HD-2057-Pb2-Op",1.454,0.39439999999999997,"—",null,null,null,null,null,16434.125413305988,6292]
["HD2059Pb4-Cc",1737.9,162,12900,null,null,null,null,null,15648.115748484332,4423]
["HD2062Pb1-Cc",420.2,3.29,"—",null,null,null,null,null,15433.625049089198,3353]
["HD2062Pb2-Cc",118.8,"—",9,null,null,null,null,null,13502.806910237272,3270]
["HD2065Pb4-Cc",505.9,18.8,276,null,null,null,null,null,12300.85299643814,2734]
["HD2074Pb1-Cc2",744.6,"—","—",null,null,null,null,null,11023.038080965302,1737.9]
["HD2074Pb1-Cc3",81.37,2.9,1300,null,null,null,null,null,8442.0607262969133,1473.4]
["HD2074Pb2-Cc1",145.69999999999999,11.9,"—",null,null,null,null,null,8009.5893765814808,1455]
["HD2074Pb2-Cc2",78.260000000000005,10.9,"—",null,null,null,null,null,7556.253400456525,798]
["HD2074Pb2-Op",0.53269999999999995,0.13289999999999999,"—",null,null,null,null,null,6415.878422228805,775.9]
["HD2089APb1-Cc1",7940,16,"—",null,null,null,null,null,6372.4902954303752,744.6]
["HD2089APb1-Cc2a",6372,"—","—",null,null,null,null,null,5612.4165213738088,631]
["HD2089APb1-Cc2b",7504,15,"—",null,null,null,null,null,4844.269839829979,505.9]
["HD2089APb1-Cc2c",6292,9,"—",null,null,null,null,null,4795.0483978285829,474.5]
["HD2089APb1-Cc3",4423,"n.d.",28600,null,null,null,null,null,4510.9583863249927,442]
["HD2089APb2-Cc",3270,"n.d.",166,null,null,null,null,null,3556.8259924391559,420.2]
["HD2092Pb1-Cc",37.5,10,37,null,null,null,null,null,2173.2849438531066,398.6]
["HD2098Pb3-Cc",2734,"—",250,null,null,null,null,null,2023.1046781979298,365.3]
["HD2109Pb1-Cc",3353,486,161,null,null,null,null,null,1978.2669190573738,279.89999999999998]
["HD2155Pb1-Cc",398.6,0,607,null,null,null,null,null,1872.399673389242,248.8]
["HD2177Pb1-Cc",20209,277,1555,null,null,null,null,null,1710.5640739195323,148.6]
["HD2177Pb2-Cc",66.62,6,49,null,null,null,null,null,1404.0028685744694,145.69999999999999]
["HD2227Pb1-Cc",279.89999999999998,"—",112,null,null,null,null,null,1303.5977733065295,143]
["HD2231Pb1-Cc",3.11,12,3.2,null,null,null,null,null,1044.4120308620325,118.8]
["HD2233Pb1-Ch1",10.781000000000001,4.218,"—",null,null,null,null,null,997.46690184359636,103.8]
["HD2233Pb1-Ch2",7.6870000000000003,4.133,82030,null,null,null,null,null,921.10257372987337,81.37]
["HD2233Pb2-Ch1",6.9790000000000001,5.01,"—",null,null,null,null,null,830.38685148677303,78.260000000000005]
["HD2233Pb2-Ch2",6.85,5.0229999999999997,57900,null,null,null,null,null,775.76101769643935,66.62]
["HD2233Pb3-Ch",7.9720000000000004,5.78,"—",null,null,null,null,null,716.44782540265942,41.5]
["HD2233Pb4-Ch",10.284000000000001,9.1,"—",null,null,null,null,null,695.71807729312036,38.200000000000003]
["HD2233Pb5-Ch",11.69,8.9499999999999993,"—",null,null,null,null,null,456.72768563522476,37.5]
["HD2247Pb1-Cc1",148.6,16,177,null,null,null,null,null,437.3829945250065,11.69]
["HD2247Pb1-Cc2",41.5,"—",69,null,null,null,null,null,408.43835715290163,10.781000000000001]
["HD2247Pb2-Cc",143,6,649,null,null,null,null,null,300.63934638107531,10.284000000000001]
["HD2293Pb1-Cc",474.5,81,"—",null,null,null,null,null,185.04652695193346,7.9720000000000004]
["HD2293Pb1-Op",5.649,3.4329999999999998,1120,null,null,null,null,null,176.37378642069558,7.6870000000000003]
["HD2294Pb1-Cc",1473.4,12,216,null,null,null,null,null,162.82619793912031,6.9790000000000001]
["Average",{"$f":"AVERAGE(B79:B126)","v":1540.2325145833338},{"$f":"AVERAGE(C79:C126)","v":45.546254054054046},{"$f":"AVERAGE(D79:D126)","v":7687.4080000000004},null,null,null,null,null,144.83352316564677,6.85]
["Maximum",{"$f":"MAX(B79:B126)","v":20209},{"$f":"MAX(C79:C126)","v":486},{"$f":"MAX(D79:D126)","v":82030},null,null,null,null,null,18.273025319617272,5.726]
["Minimum",{"$f":"MIN(B79:B126)","v":0.53269999999999995},{"$f":"MIN(C79:C126)","v":0},{"$f":"MIN(D79:D126)","v":3.2},null,null,null,null,null,11.88467431343854,5.649]
["Difference",{"$f":"(B128 - ABS(B129))","v":20208.4673},{"$f":"(C128 - ABS(C129))","v":486},{"$f":"(D128 - ABS(D129))","v":82026.8},null,null,null,null,null,11.623756833627013,3.11]
[null,null,null,null,null,null,null,null,null,9.8456099034772535,1.454]
[null,null,null,null,null,null,null,null,null,8.3099504179301977,1.0960000000000001]
["Summary","206Pb/238U Age ","207Pb/235U Age","208Pb/232Th Age",null,null,null,null,null,8.0887542615260628,0.53269999999999995]
["Average",1540.2325145833338,45.546254054054046,7687.4080000000004,null,null,null,null,null,7.6402060205661488]
["Maximum",20209,486,82030,null,null,null,null,null,5.8280510484597512]
["Minimum",0.53269999999999995,0,3.2,null,null,null,null,null,5.8029026408715216]
["Difference",20208.4673,486,82026.8,null,null,null,null,null,1.4708328459852666]
[null,null,null,null,null,null,null,null,null,1.1135774352143044]
[null,null,null,null,null,null,null,null,null,0.78458384878603971]
[null,null,null,null,null,null,null,null,null,0.57015762105945977]

{"sheet":"Iso_Plot_019","index":20,"n_rows":34,"n_cols":13,"rows_kept":34,"cut":false,"hidden":false,"merged":[]}
["1,1,01",null,null,null,null,null,null,"Pb207/206","Age",null,null,"Age, Pb 207/208"]
["1,1,I",9.44,1.2E-2,10.377000000000001,1.4E-2,29.594000000000001,0.05,1.0992,5369.9243867723144,"Older Than Solar System",3.5999999999999999E-3,4.5599999999999996,0.15]
["1,1,E1",9.5760000000000005,0.01,10.481,1.2E-2,29.753,0.04,1.0945,5363.9341691247364,"Older Than Solar System",2.5999999999999999E-3,4.72,0.05]
["I,I,E2",9.5299999999999994,1.2E-2,10.433,1.4999999999999999E-2,29.661000000000001,4.3999999999999997E-2,1.0947,5364.1896240702554,"Older Than Solar System",2.7000000000000001E-3,4.5599999999999996,0.1]
["I,I,E2H20L",10.79,0.08,11.15,0.1,30.61,0.27,1.0329999999999999,5282.952099383836,"Older Than Solar System",1.4E-2,4.45,7.0000000000000007E-2]
["2,2,02"]
["2,2,I",9.4429999999999996,8.0000000000000002E-3,10.387,1.0999999999999999E-2,29.559000000000001,3.6999999999999998E-2,1.1000000000000001,5370.9413083193722,"Older Than Solar System",2.8E-3,4.7,0.1]
["2,2,E",9.4870000000000001,1.4999999999999999E-2,10.404999999999999,1.7999999999999999E-2,29.556000000000001,5.8000000000000003E-2,1.0966,5366.613994531057,"Older Than Solar System",3.5000000000000001E-3,4.54,0.13]
["2,2,EH20L",15.17,0.11,13.59,0.12,34.520000000000003,0.31,0.89580000000000004,5082.2557174815702,"Older Than Solar System",1.2E-2,4.41,0.03]
["3,3,07"]
["3,3,1",9.4719999999999995,1.2999999999999999E-2,10.397,1.4999999999999999E-2,29.641999999999999,4.4999999999999998E-2,1.0975999999999999,5367.8882006684171,"Older Than Solar System",2.0999999999999999E-3,4.5599999999999996,0.1]
["3,3,E",9.5169999999999995,0.01,10.438000000000001,1.0999999999999999E-2,29.736999999999998,3.6999999999999998E-2,1.0967,5366.7414702640899,"Older Than Solar System",2.2000000000000001E-3,4.7,0.06]
["3,3,EH20L",10.029999999999999,0.04,10.74,0.05,30.03,0.15,1.0708,5333.3089479439504,"Older Than Solar System",8.0000000000000002E-3,4.55,0.05]
[]
[]
[]
[null,null,null,null,null,null,null,null,null,"Table 5"]
[null,null,null,null,null,null,null,null,null,"Page 139"]
[null,null,null,null,null,null,null,"Age","Age","Age"]
[null,null,null,null,null,null,null,"Pb207/208","Pb207/206","Category"]
[null,null,null,null,null,null,null,4560,5369.9243867723144,"Older Than Solar System"]
[null,null,null,null,null,null,null,4720,5363.9341691247364,"Older Than Solar System"]
[null,null,null,null,null,null,null,4560,5364.1896240702554,"Older Than Solar System"]
[null,null,null,null,null,null,null,4450,5282.952099383836,"Older Than Solar System"]
[null,null,null,null,null,null,null,4700,5370.9413083193722,"Older Than Solar System"]
[null,null,null,null,null,null,null,4540,5366.613994531057,"Older Than Solar System"]
[null,null,null,null,null,null,null,4410,5082.2557174815702,"Older Than Solar System"]
[null,null,null,null,null,null,null,4560,5367.8882006684171,"Older Than Solar System"]
[null,null,null,null,null,null,null,4700,5366.7414702640899,"Older Than Solar System"]
[null,null,null,null,null,null,null,4500,5333.3089479439504,"Older Than Solar System"]
[null,null,null,null,null,null,null,"AVG",{"$f":"AVERAGE(I21:I30)","v":5326.8749918559606}]
[null,null,null,null,null,null,null,"MAX",{"$f":"MAX(I21:I30)","v":5370.9413083193722}]
[null,null,null,null,null,null,null,"MIN",{"$f":"MIN(I21:I30)","v":5082.2557174815702}]
[null,null,null,null,null,null,null,"STD DEV",{"$f":"STDEV(I21:I30)","v":90.197726287756282},"Meteorites"]

{"sheet":"Iso_Plot_020","index":21,"n_rows":82,"n_cols":10,"rows_kept":82,"cut":false,"hidden":false,"merged":[]}
[]
["Table 1."]
["\nSamplel","\nWeight (mg)","Concentration",null,"(ppm)","\nU238/Pb204\n(v)","Th232/U238\n(k)"]
[null,null,"Pb","U","Th"]
["11-1",570.70000000000005,1.0449999999999999,1.4800000000000001E-2,null,0.64200000000000002]
["7-2",1272,1.1779999999999999,1.43E-2,null,0.56899999999999995]
["1-3",661,1.0880000000000001,1.21E-2,null,0.52]
["1-4",636.20000000000005,0.93500000000000005,1.2E-2,null,0.57299999999999995,null,null,null,3.17]
["W-1",805.8,1.069,1.29E-2,null,0.54200000000000004,null,null,null,-2.09]
["W-2",672.2,0.96599999999999997,"0,0119",null,0.54600000000000004,null,null,null,3.65]
["9-1",693.8,1.139,1.41E-2,null,0.55500000000000005,null,null,null,6.94]
["9-2","546,0",1.2150000000000001,1.38E-2,4.24E-2,0.51300000000000001,3.17,null,null,6.1]
["1-3",344.8,1.079,1.2999999999999999E-2,2.6100000000000002E-2,0.53600000000000003,-2.09,null,null,3.62]
["1-4",396.2,1.006,1.7500000000000002E-2,6.1899999999999997E-2,0.78,3.65,null,null,5.15]
["ChL-1",287.89999999999998,0.28899999999999998,2.3E-2,0.15429999999999999,4.38,6.94,null,null,5.77]
["C6L-2",151.80000000000001,0.27839999999999998,5.3600000000000002E-2,0.31640000000000001,18.47,6.1,null,null,7.8]
["Ch-3",225.5,0.30280000000000001,2.63E-2,9.2100000000000001E-2,4.3600000000000003,3.62,null,null,9]
["Ch-D",127.5,0.16750000000000001,1.89E-2,9.4399999999999998E-2,6.62,5.15]
["WI",54.6,0.26669999999999999,6.5100000000000005E-2,0.36359999999999998,23.3,5.77]
["WA",156.6,0.31219999999999998,9.4E-2,0.70930000000000004,129.6,7.8]
["PI\n\nleach solution\n(14-2)",112.1,"0.1834\n0.0072","0.0361\n\n\n-","0,3146",23.23,9]
[]
[]
[]
["Table 2.","Observed Ratios1","Page 638",null,"Corrected Ratios2"]
["Sample","206\nPb","Pb","Pb Pb208","206\nPb","207\nPb\nPbT\nb","207/206","206/207","Meteorite"]
["Name","Pb204",204,204,"Pb204","Pb204","Ratio","Ages"]
["7-1",10.645,11.098000000000001,30.693999999999999,10.583,11.064,{"$f":"(F28/E28)","v":1.0454502504015875},5174.8364680696295,"Older Than Solar System"]
["7-2",10.536,11.007999999999999,30.573,10.513,10.994999999999999,1.045847997717112,5300.2832456629631,"Older Than Solar System"]
["7-3",10.867000000000001,11.224,31.062000000000001,10.788,11.18,1.0363366703744901,5287.4748482998193,"Older Than Solar System"]
["7-4",10.004,10.695,31.091999999999999,9.843,10.632999999999999,1.0802600833079345,5345.6182238447518,"Older Than Solar System"]
["4-1",10.101000000000001,10.788,30.263000000000002,9.9890000000000008,10.727,1.073881269396336,5337.3307910916665,"Older Than Solar System"]
["W-2",10.226000000000001,10.944000000000001,30.815999999999999,9.859,10.619,1.0770869256516888,5341.50209032971,"Older Than Solar System"]
["Allende-1",10.71,11.13,30.79,10.64,11.1,1.0432330827067668,5296.7741758780803,"Older Than Solar System"]
["Allende-2",10.26,10.88,30.31,10.119999999999999,10.78,1.0652173913043479,5325.9910195147013,"Older Than Solar System"]
["Allende","-","-",null,11.25,11.451000000000001,1.0178666666666667,5262.2438036580716,"Older Than Solar System"]
["9-1",10.215,10.836,30.295999999999999,10.138999999999999,10.784000000000001,1.0636157411973568,5323.8840343063748,"Older Than Solar System"]
["M-2",10.272,10859,30.32,10.176,10.805999999999999,1.0619103773584904,5321.6369293194912,"Older Than Solar System"]
["9-3",10.01,10.711,30.12,9.91,10.656000000000001,1.0752774974772956,5339.1492188021239,"Older Than Solar System"]
["9-4",10.185,10.824999999999999,30.2,10.025,10.737,1.0710224438902742,5333.5997026658415,"Older Than Solar System"]
["ChL-1 (IC)",14.696,13.670999999999999,35.009,14.654,13.651999999999999,0.93162276511532682,5137.6449259797082,"Older Than Solar System"]
["ChL-1 (ID)",15.122,13.67,"-",14.5,13.5,0.93103448275862066,5136.753668201336,"Older Than Solar System"]
["C9L-2 (IC)",26.510999999999999,20.782,53.411999999999999,29.213999999999999,22.623000000000001,0.77438899157937979,4875.3465789508818]
["C6L-2 (10)",29.718,22.798999999999999,"-",28.984999999999999,22.893999999999998,0.7898568224943936,4903.5556488283746]
["Ch3 (IC)",12.3,12.103,32.213000000000001,12.204000000000001,12.052,0.98754506719108481,5219.7550059567693,"Older Than Solar System"]
["Ch3 (ID)",13.49,12761,"-",12.332000000000001,12.244,0.9928640934155043,5227.3073010298103,"Older Than Solar System"]
["ChD (IC)",16367,14.596,37.005000000000003,15.816000000000001,14.378,0.9090794132524026,5103.0577604666669,"Older Than Solar System"]
["ChD (ID)",16.949000000000002,14.678000000000001,"-",15.814,14.333,0.9063488048564563,5098.8067188810046,"Older Than Solar System"]
["WI (IC)",28.49,22.148,55.325000000000003,29.466000000000001,22.814,0.77424828616032038,4875.0872249326467]
["WI (10)",30.210999999999999,22.338000000000001,null,29.506,22.802,0.77279197451365822,4872.3999385526613]
["WA (IC)",101.6,69.67,207.95,134.06,88.12,0.6573176189765777,4640.1177322485128]
["WA (ID)",107.297,69.06,null,134.22,88.07,0.65616152585307697,4637.576867235909]
["PI (IC)",28.010999999999999,21.79,61.512999999999998,33.673000000000002,25.641999999999999,0.76150031182252842,4851.3788737317755]
["PI (ID)",null,24.013999999999999,null,33.881,25.402999999999999,0.74977125822732504,4829.1888110798063]
[null,null,null,null,null,{"$f":"COUNT(F28:F54)","v":27},"AVG",{"$f":"AVERAGE(H28:H54)","v":5125.8630225007064}]
[null,null,null,null,null,null,"MAX",{"$f":"MAX(H28:H54)","v":5345.6182238447518}]
[null,null,null,null,null,null,"MIN",{"$f":"MIN(H28:H54)","v":4637.576867235909}]
["Sample","Pb 206/207","Age",null,null,null,"STD DEV",{"$f":"STDEV(H28:H54)","v":227.87930934489776}]
["Name","Ages","Category"]
["7-1",5174.8364680696295,"Older Than Solar System"]
["7-2",5300.2832456629631,"Older Than Solar System"]
["7-3",5287.4748482998193,"Older Than Solar System"]
["7-4",5345.6182238447518,"Older Than Solar System"]
["4-1",5337.3307910916665,"Older Than Solar System"]
["W-2",5341.50209032971,"Older Than Solar System"]
["Allende-1",5296.7741758780803,"Older Than Solar System"]
["Allende-2",5325.9910195147013,"Older Than Solar System"]
["Allende",5262.2438036580716,"Older Than Solar System"]
["9-1",5323.8840343063748,"Older Than Solar System"]
["M-2",5321.6369293194912,"Older Than Solar System"]
["9-3",5339.1492188021239,"Older Than Solar System"]
["9-4",5333.5997026658415,"Older Than Solar System"]
["ChL-1 (IC)",5137.6449259797082,"Older Than Solar System"]
["ChL-1 (ID)",5136.753668201336,"Older Than Solar System"]
["C9L-2 (IC)",4875.3465789508818,"Older Than The Earth"]
["C6L-2 (10)",4903.5556488283746,"Older Than The Earth"]
["Ch3 (IC)",5219.7550059567693,"Older Than Solar System"]
["Ch3 (ID)",5227.3073010298103,"Older Than Solar System"]
["ChD (IC)",5103.0577604666669,"Older Than Solar System"]
["ChD (ID)",5098.8067188810046,"Older Than Solar System"]
["WI (IC)",4875.0872249326467,"Older Than The Earth"]
["WI (10)",4872.3999385526613,"Older Than The Earth"]