{"text_format":"1","workbook":"xlsx","n_sheets":23,"sheets":["Index","Pb_207_01","Pb_207_02","Pb_207_03","Pb_207_04","Pb_207_05","Pb_207_06","Pb_207_07","Pb_207_08","Pb_207_10","Pb_207_11","Pb_207_12","Pb_207_13","Pb_207_14","Pb_207_15","Pb_207_16","U_238_01","U_238_02","U_238_03","Th_232_01","Th_232_02","Th_232_03","PlotDat2"],"not_rendered":{"charts":0,"images":0,"macros":1,"external_links":1,"defined_names":6,"comments":0,"pivot_tables":0},"unopened":[],"bounds":{"document_bytes":16777216,"sheet_cells":100000,"rows_first":2000,"rows_last":500,"rows_between":2000,"halvings":0,"cell_chars":16384,"cell_head_chars":4096},"cells_cut":0,"cells_raw":0,"read":"whole","date_system":"1900"}

{"sheet":"Index","index":0,"n_rows":23,"n_cols":20,"rows_kept":23,"cut":false,"hidden":false,"merged":[]}
["Number","Magazine Reference","Spreadsheet","File Hyperlink Location","Title","Method","MAXIMUM","MINIMUM","DIFFERENCE","AVERAGE","4600 To 4999","5000 To 5999 ","6,000 To 9999","Galaxy","Universe","Total"]
[1,"Earth and Planetary Science Letters 301 (2011) 469–478","Pb_207_01","C:\\Essays\\Geo_Dating\\Lead_206_207\\Pb_207_01.pdf","The Tethyan Realm Lamproites","Pb-207/Pb-206",6194.3670719054762,969.7035437086015,5224.6635281968747,4754.9388131518017,16,19,2,null,null,{"$f":"SUM(K2:O2)","v":37},{"$f":"(K2+L2+M2)","v":37},37]
[2,"Earth and Planetary Science Letters, 104 (1991) 1-15","Pb_207_02","C:\\Essays\\Geo_Dating\\Lead_206_207\\Pb_207_02.pdf","Th, Pb, and Sr Isotope Variations","Pb-207/Pb-206",5145.4134824994935,4947.4532322025998,197.96025029689372,4983.7510514322303,33,4,null,null,null,37,{"$f":"(K3+L3+M3)","v":37},37]
[3,"Earth and Planetary Science Letters 245 (2006) 743–761","Pb_207_03","C:\\Essays\\Geo_Dating\\Lead_206_207\\Pb_207_03.pdf","Comparison of Th, Sr, Nd and Pb isotopes","Pb-207/Pb-206",4975.7877421806124,4893.9775916669014,81.810150513711051,4929.2583775414851,17,null,null,null,null,17,17,17]
[4,"Earth and Planetary Science Letters 240 (2005) 605– 620","Pb_207_04","C:\\Essays\\Geo_Dating\\Lead_206_207\\Pb_207_04.pdf","Pb Isotopic Variability in Melt Inclusions","Pb-207/Pb-206",5049.0063856620482,4742.9791524664488,306.02723319559936,4909.7642770130342,88,16,null,null,null,104,104,104]
[5,"Earth and Planetary Science Letters 296 (2010) 267–277","Pb_207_05","C:\\Essays\\Geo_Dating\\Lead_206_207\\Pb_207_05.pdf","Microanalysis Of Individual Fluid Inclusions","Pb-207/Pb-206",5074.5448633866918,5069.453808067291,5.0910553194007662,5071.1634580355912,null,36,null,null,null,36,36,36]
[6,"Earth and Planetary Science Letters 306 (2011) 86–97","Pb_207_06","C:\\Essays\\Geo_Dating\\Lead_206_207\\Pb_207_06.pdf","South Atlantic Mid-Ocean-Ridge","Pb-207/Pb-206",6214.3940489171591,4923.6756877600292,1290.7183611571299,4990.3883715707552,74,21,1,null,null,96,96,96]
[7,"Earth And Planetary Science Letters 7 (1969) 141-147","Pb_207_07","C:\\Essays\\Geo_Dating\\Lead_206_207\\Pb_207_07.pdf","Uranium, Thorium, And Lead Systematics","Pb-207/Pb-206",4821.5497998811061,3279.3475807909167,1542.2022190901894,4213.7154910436329,1,null,null,8,4,13,1,1,8,4]
[9,"Earth and Planetary Science Letters 165 (1999) 117–127","Pb_207_08","C:\\Essays\\Geo_Dating\\Lead_206_207\\Pb_207_08.pdf","Iceland Pb-Isotopic Array","Pb-207/Pb-206",4974.8558422151091,4932.5024921655131,42.353350049595974,4939.3890904940381,9,null,null,null,null,9,9,9]
[10,"Earth and Planetary Science Letters 267 (2008) 236–246","Pb_207_10","C:\\Essays\\Geo_Dating\\Lead_206_207\\Pb_207_10.pdf","U–Pb Dating Of Fossil Enamel","Pb-207/Pb-206",5002.1055799414398,4852.0911008255971,150.01447911584273,4956.0505645952344,8,1,null,null,null,9,9,9]
[11,"Earth and Planetary Science Letters, 34 (1977) 419-431","Pb_207_11","C:\\Essays\\Geo_Dating\\Lead_206_207\\Pb_207_11.pdf","Lead And Strontium Isotopes In Cretaceous Kimberlites","Pb-207/Pb-206",5111.649363349431,5109.1092037448607,2.5401596045703627,5110.223346623452,21,18,null,null,null,39,39,39]
[15,"Earth and Planetary Science Letters 245 (2006) 137–152","Pb_207_12","C:\\Essays\\Geo_Dating\\Lead_206_207\\Pb_207_12.pdf","Trace Element-Pb Isotope Enrichments","Pb-207/Pb-206",5004.7895461224489,4958.9960953245472,45.793450797901642,4987.9288966174563,33,3,null,null,null,36,36,36]
[16,"Precambrian Research 162 (2008) 441–474","Pb_207_13","C:\\Essays\\Geo_Dating\\Lead_206_207\\Pb_207_13.pdf","Iron Formations In The Black Hills","Pb-207/Pb-206",5250.0325537363497,4006.9057951200225,1243.1267586163272,4776.5599380448348,39,24,null,null,null,63,63,63]
[17,"Precambrian Research 114 (2002) 277–294","Pb_207_14","C:\\Essays\\Geo_Dating\\Lead_206_207\\Pb_207_14.pdf","Pb and Nd Isotope Systematics","Pb-207/Pb-206",5318.7543457677339,4872.6096336368264,446.14471213090746,5096.195617422025,11,32,null,null,null,43,43,43]
[18,"Precambrian Research 78 (1996) 261-272","Pb_207_15","C:\\Essays\\Geo_Dating\\Lead_206_207\\Pb_207_15.pdf","Whole-Rock Pb/Pb Isotopic Ages","Pb-207/Pb-206",5338.9755674816242,4299.5655659787672,1039.4100015028571,5007.8871395244705,5,25,null,null,null,30,30,30]
[20,"Precambrian Research 113 (2002) 155–168","Pb_207_16","C:\\Essays\\Geo_Dating\\Lead_206_207\\Pb_207_16.pdf","Ion Microprobe Pb–Pb Dating","Pb-207/Pb-206",5122.9908530769999,4027.829019075145,1095.1618340018549,4901.5718394480864,31,15,null,null,null,46,46,46]
[21,"Precambrian Research 72 ( 1995 ) 247-261","U_238_01","C:\\Essays\\Geo_Dating\\Lead_206_207\\U_238_01.pdf","Carbonate Pb-Pb ages of the Wittenoom Formation","Pb-207/Pb-206",6590.5787134037955,3959.4038954001667,2631.1748180036288,5593.6083608616382,6,2,17,null,null,25,25,25]
[22,"Precambrian Research 117 (2002) 185-24","U_238_02","C:\\Essays\\Geo_Dating\\Lead_206_207\\U_238_02.pdf","Dating Of Zircon-Free Protoliths",null,null,null,null,null,null,null,null,null,null,null,0]
[23,"Precambrian Research 90 (1998) 203-238","U_238_03","C:\\Essays\\Geo_Dating\\Lead_206_207\\U_238_03.pdf","The Broken Hill Pb-Zn-Ag Orebody, Australia",null,null,null,null,null,null,null,null,null,null,null,0]
[24,"Earth and Planetary Science Letters 319-320 (2012) 197–206","Th_232_01","C:\\Essays\\Geo_Dating\\Lead_206_207\\Th_232_01.pdf","U–Th–Pb Isotope Data","Pb-207/Pb-206",5403.1702168046904,5222.3361132001573,180.83410360453308,5325.2282003156715,null,13,2,3,19,{"$f":"SUM(K20:O20)","v":37},15,15,3,19]
[27,"Earth and Planetary Science Letters 183 (2000) 93-106","Th_232_02","C:\\Essays\\Geo_Dating\\Lead_206_207\\Th_232_02.pdf","The Age Of The Lithospheric Mantle","Pb-207/Pb-206",5235.0025579373369,5076.9959098502413,158.00664808709553,5161.2317453093674,1,3,null,null,null,4,4,4]
[29,"Earth and Planetary Science Letters 134 (1995) 169-185","Th_232_03","C:\\Essays\\Geo_Dating\\Lead_206_207\\Th_232_03.pdf","Evolution Of Reunion Hotspot Mantle","Pb-206⁄U-238",6285.4825103415596,3009.9156606519509,3275.5668496896087,4449.3503228465779,21,6,16,3,1,47,43,43,3,1]
[null,null,null,null,null,null,null,null,null,null,{"$f":"SUM(K2:K22)","v":414},238,38,14,24,728,690]

{"sheet":"Pb_207_01","index":1,"n_rows":112,"n_cols":20,"rows_kept":112,"cut":false,"hidden":false,"merged":[]}
[null,null,null,null,null,null,null,null,null,null,null,null,null,null,null,null,null,null,null,6194.3670719054762]
[null,null,null,null,null,"206Pb/204Pb","207Pb/204Pb","207Pb/206Pb","207Pb/206Pb",null,null,null,null,null,null,null,null,null,null,6012.3934966425959]
[null,null,null,null,null,"Ratio","Ratio","Ratio","Age",null,null,null,null,null,null,null,null,null,null,5945.6445478205205]
["2.86",101.2,21.3,0.71840000000000004,0.51202999999999999,18.78,15.72,{"$f":"(G4/F4)","v":0.83706070287539935},{"$f":"[1]!AgePb76($H$4)","v":4986.1406654172961},5.2,0.79,582,0.32,5.0999999999999996,37,null,null,null,null,5237.3724072839759]
[0.59,21.6,5.7,2.5000000000000001E-3,2.0000000000000002E-5,0.05,0.02,{"$f":"(G5/F5)","v":0.39999999999999997},{"$f":"[1]!AgePb76($H$5)","v":3909.078419516451},6.9,0.41,148,0.03,2.2999999999999998,7.6,null,null,null,null,5161.6228387974106]
[2.0299999999999998,64,8.5,0.71150000000000002,0.51197000000000004,18.66,15.68,0.84030010718113612,{"$f":"[1]!AgePb76($H$6)","v":4991.625415876907},2,0.05,255,0.26,3.4,23.8,null,null,null,null,5146.053176092425]
[3.95,159.69999999999999,34.5,0.72260000000000002,0.51207000000000003,18.84,15.78,0.83757961783439483,{"$f":"[1]!AgePb76($H$7)","v":4987.0207741979766},39.200000000000003,1.46,921,0.38,15.3,53.5,null,null,null,null,5117.2657970763539]
[null,null,null,null,null,null,null,0,null,33,41,33,33,33,31,null,null,null,null,5116.1124255526829]
[2.02,142.5,25.5,0.71679999999999999,0.51202999999999999,18.62,15.69,0.84264232008592899,{"$f":"[1]!AgePb76($H$9)","v":4995.5771246409513},9.5,0.56000000000000005,451,0.31,5.6,68.900000000000006,null,null,null,null,5104.5509686513069]
[0.39,35.200000000000003,5.2,2.3999999999999998E-3,4.0000000000000003E-5,0.06,0.02,0.33333333333333337,{"$f":"[1]!AgePb76($H$10)","v":3632.4789966681251},3.3,0.22,98,0.03,1,16.899999999999999,null,null,null,null,5091.9292590930145]
[1.41,81.900000000000006,15.2,0.71209999999999996,0.51198999999999995,18.5,15.67,0.84702702702702704,{"$f":"[1]!AgePb76($H$11)","v":5002.9435951531714},5.5,0.24,353,0.26,4.0999999999999996,46.8,null,null,null,null,5090.3426574690029]
[2.73,226,33.6,0.72170000000000001,0.5121,18.72,15.72,0.83974358974358987,{"$f":"[1]!AgePb76($H$12)","v":4990.6847563452584},14.6,1.17,728,0.35,8.1,108.7,null,null,null,null,5088.6872263141722]
[null,null,null,null,null,null,null,0,null,15,17,17,12,16,14,null,null,null,null,5079.0947979406146]
[3.54,36,12.8,0.71236999999999995,0.51214999999999999,18.82,15.7,0.83421891604675869,{"$f":"[1]!AgePb76($H$14)","v":4981.3105318022663},3.5,0.45,5197,0.11,6.1,8.4,null,null,null,null,5075.3363215053541]
[0.56999999999999995,16.600000000000001,16,2.0000000000000001E-4,0.05,0.01,0.02,2,{"$f":"[1]!AgePb76($H$15)","v":6194.3670719054762},0.03,7607,0.01,4,5.0999999999999996,null,null,null,null,null,5074.146141979938]
[3,4.3,4.3,0.71226,0.51214999999999999,18.79,15.69,0.83501862692921769,{"$f":"[1]!AgePb76($H$16)","v":4982.6715516596632},2.9,0.4,1590,0.1,0.1,1.4,null,null,null,null,5069.9792468981523]
[4.0999999999999996,53,36.799999999999997,0.71255999999999997,0.51214999999999999,18.850000000000001,15.7,0.83289124668435,{"$f":"[1]!AgePb76($H$17)","v":4979.0479201532962},4.5999999999999996,0.5,20715,0.12,8.6,13.7,null,null,null,null,5069.1889940713445]
[null,null,null,null,null,null,null,0,null,7,7,6,4,4,4,null,null,null,null,5062.9646884540261]
[2.4700000000000002,102.2,14.9,0.71609999999999996,0.51210999999999995,18.66,15.67,0.83976420150053588,{"$f":"[1]!AgePb76($H$19)","v":4990.7196073968744},2.2000000000000002,1.23,684,0.23,5.7,39.299999999999997,null,null,null,null,5060.6941060609934]
[0.37,26.5,3,4.0000000000000002E-4,2.0000000000000002E-5,0.03,0.03,1,{"$f":"[1]!AgePb76($H$20)","v":5237.3724072839759},0.6,0.56999999999999995,247,0.05,1.4,13.9,null,null,null,null,5010.7682761711876]
[2,50.4,10.7,0.71579999999999999,0.51209000000000005,18.62,15.64,0.83995703544575728,{"$f":"[1]!AgePb76($H$21)","v":4991.0456134965734},0.9,0.56999999999999995,513,0.18,4.3,20.399999999999999,null,null,null,null,5002.9435951531714]
[3.1,121,18.2,0.71679999999999999,0.51212000000000002,18.690000000000001,15.69,0.83948635634028879,{"$f":"[1]!AgePb76($H$22)","v":4990.2497409942889},3.5,2.46,1229,0.32,8,58,null,null,null,null,4996.2868900952772]
[null,null,null,null,null,null,null,0,null,30,30,14,9,7,9,null,null,null,null,4995.5771246409513]
[1.32,36.299999999999997,7.3,0.70950000000000002,0.51229999999999998,18.760000000000002,15.65,0.83422174840085284,{"$f":"[1]!AgePb76($H$24)","v":4981.3153546032463},10.8,0.28000000000000003,1370,0.2,6.2,28.4,null,null,null,null,4991.625415876907]
[0.47,14.6,3.8,1.4E-3,1.2E-4,0.08,0.14000000000000001,1.7500000000000002,{"$f":"[1]!AgePb76($H$25)","v":6012.3934966425959},8.6,0.18,634,0.04,3.9,16.399999999999999,null,null,null,null,4991.0456134965734]
[0.77,15,1.9,0.70750000000000002,0.51212999999999997,18.579999999999998,15.12,0.8137782561894511,{"$f":"[1]!AgePb76($H$26)","v":4946.0440179018779},1.6,7.0000000000000007E-2,611,0.13,2.5,11,null,null,null,null,4990.7196073968744]
[3.01,76.5,17.5,0.71160000000000001,0.51251999999999998,18.89,15.74,0.83324510322922185,{"$f":"[1]!AgePb76($H$27)","v":4979.651336259526},38.4,1.41,3132,0.26,18,72.2,null,null,null,null,4990.6847563452584]
[29,55,55,36,36,0,0,0,null,56,56,55,49,55,29,null,null,null,null,4990.2497409942889]
[5.41,17.2,6.4,0.70669999999999999,0,0,0,0,null,0.13,3,4.3,null,null,null,null,null,null,null,4987.0207741979766]
[2.83,4.0999999999999996,2,2.5000000000000001E-3,0,0,0,0,null,0.05,0.9,3.1,null,null,null,null,null,null,null,4986.1406654172961]
[1.23,10,2.5,0.70379999999999998,0,0,0,0,null,7.0000000000000007E-2,1.9,1.6,null,null,null,null,null,null,null,4985.6423338251188]
[10,28,10,0.71030000000000004,0,0,0,0,null,0.22,5.3,15.4,null,null,null,null,null,null,null,4982.6715516596632]
[24,25,16,6,2,15,25,1.6666666666666667,{"$f":"[1]!AgePb76($H$33)","v":5945.6445478205205},14,16,24,null,null,null,null,null,null,null,4981.3153546032463]
[2.78,171.4,21.3,0.72350000000000003,0.51188,18.670000000000002,15.74,0.8430637386181038,{"$f":"[1]!AgePb76($H$34)","v":4996.2868900952772},4.5999999999999996,0.75,365,0.28999999999999998,8.5,67.8,null,null,null,null,4981.3105318022663]
[0.94,34.200000000000003,5,6.8999999999999999E-3,6.0000000000000002E-5,0.17,0.05,0.29411764705882354,{"$f":"[1]!AgePb76($H$35)","v":3439.5149649710297},1.5,0.26,80,0.06,2.2999999999999998,24.4,null,null,null,null,4979.651336259526]
[1.3,112,9.6,0.71660000000000001,0.51180000000000003,18.41,15.68,0.85171102661596954,{"$f":"[1]!AgePb76($H$36)","v":5010.7682761711876},2.7,0.24,274,0.15,4.5999999999999996,33.4,null,null,null,null,4979.0479201532962]
[4.54,231.7,29.4,0.73629999999999995,0.51200000000000001,18.93,15.84,0.83676703645007922,{"$f":"[1]!AgePb76($H$37)","v":4985.6423338251188},8.8000000000000007,1.1399999999999999,549,0.38,13.7,130,null,null,null,null,4946.0440179018779]
[null,null,null,null,null,null,null,0,null,29,29,29,29,29,29,null,null,null,null,3909.078419516451]
[4.99,23.2,3.2,0.70960000000000001,0.51192000000000004,17.5,15.6,0.89142857142857146,{"$f":"[1]!AgePb76($H$39)","v":5075.3363215053541},18,0.18,4245,8.2000000000000003E-2,7.4,4.7,null,null,null,null,3909.078419516451]
[0.25,2.8,0.4,2.0000000000000001E-4,4.0000000000000003E-5,0.05,0.02,0.39999999999999997,{"$f":"[1]!AgePb76($H$40)","v":3909.078419516451},3.4,0.03,573,4.0000000000000001E-3,1,0.6,null,null,null,null,3632.4789966681251]
[4.41,15.9,2.2000000000000002,0.70920000000000005,0.51187000000000005,17.420000000000002,15.57,0.89380022962112504,{"$f":"[1]!AgePb76($H$41)","v":5079.0947979406146},15.5,0.1,3373,7.6999999999999999E-2,4.5999999999999996,2.9,null,null,null,null,3439.5149649710297]
[5.42,28.3,3.8,0.70989999999999998,0.51202000000000003,17.61,15.63,0.88756388415672915,{"$f":"[1]!AgePb76($H$42)","v":5069.1889940713445},29.7,0.21,6056,9.2999999999999999E-2,9.5,5.8,null,null,null,null,3369.8839759644397]
[null,null,null,null,null,null,null,0,null,24,24,24,24,24,24,null,null,null,null,2720.3561356052305]
[5.09,36.200000000000003,8.5,0.70569999999999999,0.51195000000000002,17.38,15.48,0.89067894131185277,{"$f":"[1]!AgePb76($H$44)","v":5074.146141979938},32.799999999999997,0.08,2513,0.1,4.2,7.3,null,null,null,null,2455.6604602806628]
[1.96,12.9,2.8,4.0000000000000002E-4,1.1E-4,0.14000000000000001,0.01,7.1428571428571425E-2,{"$f":"[1]!AgePb76($H$45)","v":969.7035437086015},14.2,0.04,2085,0.02,0.6,1.6,null,null,null,null,969.7035437086015]
[2,13.7,3.4,0.70533999999999997,0.51176999999999995,17.18,15.46,0.89988358556461012,{"$f":"[1]!AgePb76($H$46)","v":5088.6872263141722},10.199999999999999,0.02,904,0.06,3.1,4.9000000000000004]
[8.81,48,11.4,0.70779000000000003,0.51210999999999995,17.579999999999998,15.51,0.88225255972696248,{"$f":"[1]!AgePb76($H$47)","v":5060.6941060609934},70.400000000000006,0.17,6968,0.17,5.2,10.8]
[null,null,null,null,null,null,null,0,null,40,40,16,33,16,16]
[8.08,32.9,4.0999999999999996,0.71689999999999998,0.51188,17.440000000000001,15.73,0.90194954128440363,{"$f":"[1]!AgePb76($H$49)","v":5091.9292590930145},29.9,0.28000000000000003,2392,7.0999999999999994E-2,9.6999999999999993,3.7]
[3.1,19.100000000000001,2.9,3.0999999999999999E-3,1.2999999999999999E-4,0.16,0.03,0.1875,{"$f":"[1]!AgePb76($H$50)","v":2720.3561356052305},10.8,0.14000000000000001,1655,5.0000000000000001E-3,6.3,1]
[4.68,0,0,0.71099999999999997,0.51166,17.23,15.68,0.91004062681369702,{"$f":"[1]!AgePb76($H$51)","v":5104.5509686513069},12.7,0.16,687,6.4000000000000001E-2,2.6,2.5]
[15.9,69.099999999999994,10.3,0.72060000000000002,0.5121,17.88,15.8,0.88366890380313212,{"$f":"[1]!AgePb76($H$52)","v":5062.9646884540261},50,0.65,6286,8.1000000000000003E-2,31.5,6]
[null,null,null,null,null,null,null,0,null,14,15,15,15,25,15]
[5.81,6.5,1.9,0.70609999999999995,0.51137999999999995,16.239999999999998,15.22,0.93719211822660109,{"$f":"[1]!AgePb76($H$54)","v":5146.053176092425},126.7,0.04,10387,0.1,4,1.1000000000000001]
[0.64,1,1.1000000000000001,2.0000000000000001E-4,8.0000000000000007E-5,0.25,0.04,0.16,{"$f":"[1]!AgePb76($H$55)","v":2455.6604602806628},50.1,0.02,2379,1E-3,1.1000000000000001,0.1]
[5.08,5.3,1.1000000000000001,0.70579999999999998,0.51127,16.03,15.19,0.94759825327510905,{"$f":"[1]!AgePb76($H$56)","v":5161.6228387974106},73.900000000000006,0.02,8077,9.8000000000000004E-2,1.8,1]
[6.79,7.8,4,0.70630000000000004,0.51149999999999995,16.64,15.28,0.91826923076923073,{"$f":"[1]!AgePb76($H$57)","v":5117.2657970763539},191,0.05,13872,0.10100000000000001,4.8,1.2]
[null,null,null,null,null,null,null,0,null,6,6,6,6,6,6]
[0.4,4,1.7,0.70650000000000002,0.51166999999999996,17.059999999999999,15.37,0.9009378663540446,{"$f":"[1]!AgePb76($H$59)","v":5090.3426574690029},22.5,0.17,22321,0.24,2.6,12.3]
[0.43,3.6,1.6,8.0000000000000004E-4,2.2000000000000001E-4,0.32,0.09,0.28125,{"$f":"[1]!AgePb76($H$60)","v":3369.8839759644397},21.6,0.15,25192,0.09,0.7,6.1]
[0.09,0.8,0.2,0.70550000000000002,0.51134999999999997,16.61,15.24,0.91751956652618905,{"$f":"[1]!AgePb76($H$61)","v":5116.1124255526829},5.4,0.04,5481,0.15,1.9,4.8]
[1.4,12.5,5.7,0.70789999999999997,0.51193,17.420000000000002,15.47,0.88805970149253721,{"$f":"[1]!AgePb76($H$62)","v":5069.9792468981523},77.900000000000006,0.51,84592,0.45,3.9,23.8]
[null,null,null,null,null,null,null,0,{"$f":"MAX(I4:I62)","v":6194.3670719054762},10,10,10,10,10,10]
[]
[null,null,null,null,null,null,null,"207Pb/206Pb","207Pb/206Pb"]
[null,null,null,null,null,null,null,"Ratio","Age"]
[null,null,null,null,null,null,null,0.83706070287539935,4986.1406654172961]
[null,null,null,null,null,null,null,0.39999999999999997,3909.078419516451]
[null,null,null,null,null,null,null,0.84030010718113612,4991.625415876907]
[null,null,null,null,null,null,null,0.83757961783439483,4987.0207741979766]
[null,null,null,null,null,null,null,0.84264232008592899,4995.5771246409513]
[null,null,null,null,null,null,null,0.33333333333333337,3632.4789966681251]
[null,null,null,null,null,null,null,0.84702702702702704,5002.9435951531714]
[null,null,null,null,null,null,null,0.83974358974358987,4990.6847563452584]
[null,null,null,null,null,null,null,0.83421891604675869,4981.3105318022663]
[null,null,null,null,null,null,null,2,6194.3670719054762]
[null,null,null,null,null,null,null,0.83501862692921769,4982.6715516596632]
[null,null,null,null,null,null,null,0.83289124668435,4979.0479201532962]
[null,null,null,null,null,null,null,0.83976420150053588,4990.7196073968744]
[null,null,null,null,null,null,null,1,5237.3724072839759]
[null,null,null,null,null,null,null,0.83995703544575728,4991.0456134965734]
[null,null,null,null,null,null,null,0.83948635634028879,4990.2497409942889]
[null,null,null,null,null,null,null,0.83422174840085284,4981.3153546032463]
[null,null,null,null,null,null,null,1.7500000000000002,6012.3934966425959]
[null,null,null,null,null,null,null,0.8137782561894511,4946.0440179018779]
[null,null,null,null,null,null,null,0.83324510322922185,4979.651336259526]
[null,null,null,null,null,null,null,1.6666666666666667,5945.6445478205205]
[null,null,null,null,null,null,null,0.8430637386181038,4996.2868900952772]
[null,null,null,null,null,null,null,0.29411764705882354,3439.5149649710297]
[null,null,null,null,null,null,null,0.85171102661596954,5010.7682761711876]
[null,null,null,null,null,null,null,0.83676703645007922,4985.6423338251188]
[null,null,null,null,null,null,null,0.89142857142857146,5075.3363215053541]
[null,null,null,null,null,null,null,0.39999999999999997,3909.078419516451]
[null,null,null,null,null,null,null,0.89380022962112504,5079.0947979406146]
[null,null,null,null,null,null,null,0.88756388415672915,5069.1889940713445]
[null,null,null,null,null,null,null,0.89067894131185277,5074.146141979938]
[null,null,null,null,null,null,null,7.1428571428571425E-2,969.7035437086015]
[null,null,null,null,null,null,null,0.89988358556461012,5088.6872263141722]
[null,null,null,null,null,null,null,0.88225255972696248,5060.6941060609934]
[null,null,null,null,null,null,null,0.90194954128440363,5091.9292590930145]
[null,null,null,null,null,null,null,0.1875,2720.3561356052305]
[null,null,null,null,null,null,null,0.91004062681369702,5104.5509686513069]
[null,null,null,null,null,null,null,0.88366890380313212,5062.9646884540261]
[null,null,null,null,null,null,null,0.93719211822660109,5146.053176092425]
[null,null,null,null,null,null,null,0.16,2455.6604602806628]
[null,null,null,null,null,null,null,0.94759825327510905,5161.6228387974106]
[null,null,null,null,null,null,null,0.91826923076923073,5117.2657970763539]
[null,null,null,null,null,null,null,0.9009378663540446,5090.3426574690029]
[null,null,null,null,null,null,null,0.28125,3369.8839759644397]
[null,null,null,null,null,null,null,0.91751956652618905,5116.1124255526829]
[null,null,null,null,null,null,null,0.88805970149253721,5069.9792468981523]
[null,null,null,null,null,null,null,null,{"$f":"COUNT(I67:I111)","v":45}]

{"sheet":"Pb_207_02","index":2,"n_rows":42,"n_cols":15,"rows_kept":42,"cut":false,"hidden":false,"merged":[]}
[null,null,null,null,null,null,null,null,null,null,"206Pb/204Pb","207Pb/204Pb","207Pb/206Pb","207Pb/206Pb"]
[null,null,null,null,null,null,null,null,null,null,"Ratio","Ratio","Ratio","Age"]
["B3M","Philippines",20.36,3.67,0.54800000000000004,4,5.54,null,null,0.54700000000000004,18.454999999999998,15.64,{"$f":"(L3/K3)","v":0.84746681116228673},{"$f":"[1]!AgePb76(M3)","v":5003.6802126987159},0.70476000000000005]
["B10","Philippines",23.99,4.33,0.55500000000000005,4,5.47,null,null,0.54800000000000004,18.271999999999998,15.500999999999999,{"$f":"(L4/K4)","v":0.84834719789842383},{"$f":"[1]!AgePb76($M$4)","v":5005.1535995040313},0.70445000000000002]
["B82","Philippines",13.77,2.74,0.55100000000000005,5,5.51,null,null,0.60399999999999998,18.344000000000001,15.544,0.84736153510684686,{"$f":"[1]!AgePb76($M$5)","v":5003.5039172745583},0.70459000000000005]
["Cml2","Philippines",3.75,0.95,0.70599999999999996,15,4.29,null,null,0.76900000000000002,18.372,15.51,0.8442194644023514,{"$f":"[1]!AgePb76($M$6)","v":4998.2314648685024},0.70355999999999996]
["Call","Philippines",3.11,0.89,0.76700000000000002,7,3.96,null,null,0.86799999999999999,18.466000000000001,15.493,0.83900140799306833,{"$f":"[1]!AgePb76($M$7)","v":4989.4292445603169},0.70387999999999995]
["CL",2,"Nicaragua",3.58,2.2599999999999998,2.4449999999999998,19,1.24,1.9630000000000001,null,18.616,15.404,0.8274602492479588,{"$f":"[1]!AgePb76($M$8)","v":4969.7523438361741},0.70399999999999996]
["CL",10,"Nicaragua",3.52,2.29,2.3860000000000001,11,1.27,1.617,null,18.602,15.488,0.83259864530695615,{"$f":"[1]!AgePb76($M$9)","v":4978.5487539872693},0.70401999999999998]
["CL",13,"Nicaragua",18.608000000000001,15.494,38.167000000000002,0.93300000000000005,0.70399999999999996,null,null,18.608000000000001,15.494,0.83265262252794492,{"$f":"[1]!AgePb76($M$10)","v":4978.6408509745734},0.70399999999999996]
["CL",18,"Nicaragua",3.89,2.56,2.351,15,1.29,1.9970000000000001,18.606000000000002,18.606000000000002,15.497,0.83290336450607327,{"$f":"[1]!AgePb76($M$11)","v":4979.0685886501115},0.70403000000000004]
["CL",31,"Nicaragua",2.27,5,14,1.34,18.614999999999998,15.491,38.159999999999997,18.614999999999998,15.491,0.83217835079237179,{"$f":"[1]!AgePb76($M$12)","v":4977.8314221540359},0.70391999999999999]
["CL",35,"Nicaragua",18.631,15.494999999999999,38.188000000000002,0.93300000000000005,0.70408000000000004,null,null,18.631,15.494999999999999,0.83167838548655459,{"$f":"[1]!AgePb76($M$13)","v":4976.977611708272},0.70408000000000004]
["LATE",7,"Tonga",0.13600000000000001,0.11,2.4540000000000002,18.524000000000001,15.541,38.11,0.93600000000000005,18.524000000000001,15.541,0.83896566616281576,{"$f":"[1]!AgePb76($M$14)","v":4989.368752113136},0.70360999999999996]
["LATE",13,"Tonga",0.21,0.189,1.87,2.7309999999999999,0.70369000000000004,null,null,null,null,0]
["FON",31,"Tonga",0.29899999999999999,0.29899999999999999,1.5315000000000001,20,3.0339999999999998,18.553999999999998,15.552,18.553999999999998,15.552,0.83820200495849961,{"$f":"[1]!AgePb76($M$16)","v":4988.0756136950449},0.70381000000000005]
["FON",39,"Tonga",0.43,0.36499999999999999,1.5745,20,1.69,2.5750000000000002,18.533000000000001,18.533000000000001,15.56,0.83958344574542709,{"$f":"[1]!AgePb76($M$17)","v":4990.4139485222449},0.70376000000000005]
[14831,"Tonga",0.57699999999999996,0.16500000000000001,1.0645,15,2.85,0.86699999999999999,18.727,15.586,18.727,15.586,0.83227425642121,{"$f":"[1]!AgePb76($M$18)","v":4977.9951416555059},0.70404]
["PA",1,"Marianas",0.62,0.253,1.145,5,21,2.65,1.238,18.734000000000002,15.500999999999999,0.8274260702466103,{"$f":"[1]!AgePb76($M$19)","v":4969.6936386722673},0.70347999999999999]
["GU6","Marianas",0.36,0.30299999999999999,1.1505000000000001,15,2.64,2.5539999999999998,18.736000000000001,15.53,18.736000000000001,15.53,0.82888556789069168,{"$f":"[1]!AgePb76($M$20)","v":4972.1981502212684},0.70340000000000003]
["U",4,"Marianas",0.96,0.35499999999999998,1.1825000000000001,8,2.57,1.1220000000000001,18.731999999999999,18.731999999999999,15.542999999999999,0.82975656630365147,{"$f":"[1]!AgePb76($M$21)","v":4973.6905592662788},0.70362000000000002]
["GU9","Marianas",0.32,0.159,1.508,18.702999999999999,15.491,38.14,0.92100000000000004,0.70345000000000002,18.702999999999999,15.491,0.82826284553280227,{"$f":"[1]!AgePb76($M$22)","v":4971.1301266352202},0.70345000000000002]
["U2","Marianas",1.1100000000000001,0.42799999999999999,1.2310000000000001,5,15,2.46,1.169,18.782,18.782,15.567,0.82882547119582584,{"$f":"[1]!AgePb76($M$23)","v":4972.0951162942974},0.70352999999999999]
["M12","Java",6.07,1.075,0.53700000000000003,0.70576000000000005,null,null,null,null,null,null,0]
["M13","Java",6.46,1.198,0.56299999999999994,18.719000000000001,15.63,38.938000000000002,1.004,0.70535999999999999,18.719000000000001,15.63,0.83498050109514399,{"$f":"[1]!AgePb76($M$25)","v":4982.6066971382279},0.70535999999999999]
["M15","Java",4.6399999999999997,0.97899999999999998,0.64,18.718,15.647,38.923000000000002,1.0029999999999999,0.70518999999999998,18.718,15.647,0.83593332621006522,{"$f":"[1]!AgePb76($M$26)","v":4984.226571934556},0.70518999999999998]
["M17","Java",5.94,1.101,0.82099999999999995,12,3.69,0.56200000000000006,18.713999999999999,15.638,18.713999999999999,15.638,0.83563107833707395,{"$f":"[1]!AgePb76($M$27)","v":4983.7129402465298},0.70504]
["M18","Java",4.8099999999999996,0.72499999999999998,0.68200000000000005,5,19,4.45,0.45700000000000002,18.695,18.695,15.629,0.8359989301952393,{"$f":"[1]!AgePb76($M$28)","v":4984.338031469515},0.70513999999999999]
["STD8","Stromboli",11.58,2.98,0.92749999999999999,11,3.27,0.78,19.033999999999999,15.666,19.033999999999999,15.666,0.82305348324051708,{"$f":"[1]!AgePb76($M$29)","v":4962.1620343054783},0.70615000000000006]
["STB32","Stromboli",19.579999999999998,5.84,0.9335,4,3.25,0.89900000000000002,18.934000000000001,15.644,18.934000000000001,15.644,0.82623851272842497,{"$f":"[1]!AgePb76($M$30)","v":4967.6523115351074},0.70750000000000002]
["STC14","Stromboli",18.559999999999999,4.5,0.83899999999999997,6,3.62,0.73499999999999999,19.093,15.967000000000001,19.093,15.967000000000001,0.83627507463468287,{"$f":"[1]!AgePb76($M$31)","v":4984.8070921098288},0.70603000000000005]
["CY2",101,"N.","Pacific",10.3,1.63,0.45450000000000002,3,6.68,0.48,18.829999999999998,15.637,0.83043016463090824,{"$f":"[1]!AgePb76($M$32)","v":4974.8435925228578},0.72253000000000001]
["CY3",249,"N.","Pacific",6.42,2.0499999999999998,1.2749999999999999,5,16,2.38,18.722000000000001,15.592000000000001,0.83281700673005021,{"$f":"[1]!AgePb76($M$33)","v":4978.9212874269133},0]
["CY2",114,"N.","Pacific",11.5,1.56,0.40749999999999997,8,7.45,0.41199999999999998,19.07,15.744999999999999,0.82564237021499731,{"$f":"[1]!AgePb76($M$34)","v":4966.6264087409718},0.71672000000000002]
["CY1",214,"N.","Pacific",12,1.33,0.50649999999999995,6,5.99,0.33600000000000002,18.699000000000002,15.645,0.8366757580619284,{"$f":"[1]!AgePb76($M$35)","v":4985.4874028612485},0.70928999999999998]
["A2","7B4","N.","Pacific",6.08,2.04,1.1575,6,2.62,1.018,19.157,15.605,0.81458474708983664,{"$f":"[1]!AgePb76($M$36)","v":4947.4532322025998},0.70665]
["A2","9A1","N.","Pacific",6.03,2.83,1.357,9,2.2400000000000002,1.4239999999999999,19.126999999999999,15.593,0.81523500810372773,{"$f":"[1]!AgePb76($M$37)","v":4948.5883796269873},0.70689999999999997]
["CY1",224,"N.","Pacific",12.3,2.21,0.50249999999999995,4,6.04,0.54500000000000004,18.558,15.61,0.84114667528828535,{"$f":"[1]!AgePb76($M$38)","v":4993.0550681665945},0.71342000000000005]
["CY1",233,"N.","Pacific",16,3.21,0.4995,6,6.08,0.60899999999999999,16.716000000000001,15.659000000000001,0.93676716917922942,{"$f":"[1]!AgePb76($M$39)","v":5145.4134824994935},0.71557999999999999]
["CY2",90,"N.","Pacific",2.86,0.76,0.61850000000000005,47,4.91,0.80600000000000005,18.556000000000001,15.566000000000001,0.83886613494287565,{"$f":"[1]!AgePb76($M$40)","v":4989.200282765215},0.70787]
["A2","10A4","N.","Pacific",6.83,1.68,0.6845,4,4.4400000000000004,0.746,19.170000000000002,15.69,0.81846635367762122,{"$f":"[1]!AgePb76($M$41)","v":4954.2150301486308},0.70774999999999999]
[null,null,null,null,null,null,null,null,null,null,null,null,null,{"$f":"STDEV(N3:N41)","v":30.504584702828978}]

{"sheet":"Pb_207_03","index":3,"n_rows":21,"n_cols":9,"rows_kept":21,"cut":false,"hidden":false,"merged":[]}
[null,null,null,null,null,"207Pb/204Pb","206Pb/204Pb","207Pb/206Pb","207Pb/206Pb"]
["Samoa",null,null,null,null,"Ratio","Ratio","Ratio","Age"]
["63-13",0.70552000000000004,0.51271599999999995,1.5,39.698999999999998,15.624000000000001,19.352,{"$f":"(F3/G3)","v":0.80735841256717655},{"$f":"[1]!AgePb76($H$3)","v":4934.7731098413742}]
["68-30",0.70521500000000004,0.51273400000000002,1.9,39.588999999999999,15.615,19.332000000000001,{"$f":"(F4/G4)","v":0.80772811918063314},{"$f":"[1]!AgePb76($H$4)","v":4935.4247629160773}]
["70-1",0.70537099999999997,0.512768,2.5,39.640999999999998,15.608000000000001,19.370999999999999,0.8057405399824481,{"$f":"[1]!AgePb76($H$5)","v":4931.9176727047361}]
["70-9",0.70535199999999998,0.51275300000000001,2.2000000000000002,39.683,15.619,19.385999999999999,0.80568451459816359,{"$f":"[1]!AgePb76($H$6)","v":4931.8186824024178}]
["71-2",0.70594299999999999,0.51274299999999995,2,39.68,15.605,19.332000000000001,0.80721084212704319,{"$f":"[1]!AgePb76($H$7)","v":4934.5129102649244}]
["72-2",0.70539499999999999,0.51273999999999997,2,39.656999999999996,15.603999999999999,19.364999999999998,0.80578363026077982,{"$f":"[1]!AgePb76($H$8)","v":4931.9938032058271}]
["73-1",0.70672000000000001,0.51266900000000004,0.6,39.585000000000001,15.617000000000001,19.215,0.81275045537340629,{"$f":"[1]!AgePb76($H$9)","v":4944.2459456566212}]
["73-3",0.70561600000000002,0.51271100000000003,1.4,39.637999999999998,15.602,19.327999999999999,0.80722268211920534,{"$f":"[1]!AgePb76($H$10)","v":4934.5337886770603}]
["73-12",0.70665299999999998,0.51268599999999998,0.9,39.529000000000003,15.6,19.195,0.81271164365720239,{"$f":"[1]!AgePb76($H$11)","v":4944.1779996476089}]
["76-1",0.70719200000000004,0.51263700000000001,0,39.847000000000001,15.635999999999999,19.338000000000001,0.80856345020167542,{"$f":"[1]!AgePb76($H$12)","v":4936.895968307108}]
["77-9",0.70726,0.51257900000000001,"−1.2",39.853000000000002,15.635,19.331,0.80880451088924521,{"$f":"[1]!AgePb76($H$13)","v":4937.3202296791696}]
["78-1",0.708901,0.512521,"−2.3",39.862000000000002,15.647,19.236999999999998,0.81338046472942771,{"$f":"[1]!AgePb76($H$14)","v":4945.3483936564717}]
["SAV",0.70578600000000002,0.51271599999999995,1.5,39.121000000000002,15.61,18.785,0.83098216662230495,{"$f":"[1]!AgePb76($H$15)","v":4975.7877421806124}]
["Mt.","Erebus"]
["ER",0.70303899999999997,0.51290800000000003,5.3,39.515000000000001,15.648999999999999,19.946000000000002,0.78456833450315844,{"$f":"[1]!AgePb76($H$17)","v":4893.9775916669014}]
["ER-84505",0.70313300000000001,0.51290599999999997,5.2,39.488999999999997,15.648,19.916,0.78569993974693708,{"$f":"[1]!AgePb76($H$18)","v":4896.0328270212467}]
["ER",0.70303300000000002,0.51291100000000001,5.3,39.509,15.648,19.940999999999999,0.78471490898149543,{"$f":"[1]!AgePb76($H$19)","v":4894.2439799085532}]
["ER",0.70304299999999997,0.51290500000000006,5.2,39.508000000000003,15.648,19.939,0.78479362054265511,{"$f":"[1]!AgePb76($H$20)","v":4894.3870104685393}]
[null,null,null,null,null,null,null,null,{"$f":"STDEV(I3:I20)","v":22.262772362390582}]

{"sheet":"Pb_207_04","index":4,"n_rows":110,"n_cols":7,"rows_kept":110,"cut":false,"hidden":false,"merged":[]}
[null,"207Pb/206Pb","207Pb/206Pb"]
[null,"Ratio","Age"]
[1,0.754,{"$f":"[1]!AgePb76($B$3)","v":4837.2315130314528},1.7000000000000001E-2]
[2,0.74299999999999999,{"$f":"[1]!AgePb76($B$4)","v":4816.2091763307817},1.887,1.2999999999999999E-2]
[5,0.76500000000000001,{"$f":"[1]!AgePb76($B$5)","v":4857.9293760906912},1.9239999999999999,1.7000000000000001E-2]
[6,0.73099999999999998,{"$f":"[1]!AgePb76($B$6)","v":4792.8936922778048},1.89,2.1999999999999999E-2]
[8,0.72799999999999998,{"$f":"[1]!AgePb76($B$7)","v":4787.0009836346708},1.89,2.5999999999999999E-2]
[8,0.745,{"$f":"[1]!AgePb76($B$8)","v":4820.0560060451326},1.8939999999999999,2.3E-2]
[9,0.76800000000000002,{"$f":"[1]!AgePb76($B$9)","v":4863.5192223626136},1.94,3.2000000000000001E-2]
[10,0.79300000000000004,{"$f":"[1]!AgePb76($B$10)","v":4909.2160114909293},1.9690000000000001,8.9999999999999993E-3]
[11,0.79300000000000004,{"$f":"[1]!AgePb76($B$11)","v":4909.2160114909293},1.974,1.4E-2]
["Duplicate",0.80400000000000005,{"$f":"[1]!AgePb76($B$12)","v":4928.8389169129059},1.9790000000000001,2.4E-2]
[12,0.77100000000000002,{"$f":"[1]!AgePb76($B$13)","v":4869.085851000038},1.9550000000000001,3.1E-2]
[13,0.72899999999999998,{"$f":"[1]!AgePb76($B$14)","v":4788.9680951836599},1.861,2.1000000000000001E-2]
[16,0.73499999999999999,{"$f":"[1]!AgePb76($B$15)","v":4800.7106130384091},1.8680000000000001,1.7000000000000001E-2]
[19,0.81200000000000006,{"$f":"[1]!AgePb76($B$16)","v":4942.9315434472674},2.02,1.0999999999999999E-2]
[23,0.73799999999999999,{"$f":"[1]!AgePb76($B$17)","v":4806.5435710159991},1.8919999999999999,1.0999999999999999E-2]
[25,0.745,{"$f":"[1]!AgePb76($B$18)","v":4820.0560060451326},1.901,1.7000000000000001E-2]
["33A",0.72699999999999998,{"$f":"[1]!AgePb76($B$19)","v":4785.0309856762515},1.8640000000000001,2.1999999999999999E-2]
[36,0.81299999999999994,{"$f":"[1]!AgePb76($B$20)","v":4944.6827303380096},2.0219999999999998,1.4E-2]
[39,0.79200000000000004,{"$f":"[1]!AgePb76($B$21)","v":4907.4177647854458},1.9670000000000001,1.0999999999999999E-2]
[42,0.74399999999999999,{"$f":"[1]!AgePb76($B$22)","v":4818.133969954456},1.883,0.01]
[43,0.72699999999999998,{"$f":"[1]!AgePb76($B$23)","v":4785.0309856762515},1.8440000000000001,8.9999999999999993E-3]
[44,0.73499999999999999,{"$f":"[1]!AgePb76($B$24)","v":4800.7106130384091},1.86,1.2999999999999999E-2]
["44A",0.72699999999999998,{"$f":"[1]!AgePb76($B$25)","v":4785.0309856762515},1.8440000000000001,8.9999999999999993E-3]
["45A",0.72099999999999997,{"$f":"[1]!AgePb76($B$26)","v":4773.1499131466562},1.8540000000000001,2.3E-2]
[46,0.80600000000000005,{"$f":"[1]!AgePb76($B$27)","v":4932.3760127540654},1.9950000000000001,1.2999999999999999E-2]
[48,0.80500000000000005,{"$f":"[1]!AgePb76($B$28)","v":4930.6086334860865},1.9870000000000001,8.0000000000000002E-3]
[49,0.79300000000000004,{"$f":"[1]!AgePb76($B$29)","v":4909.2160114909293},1.978,0.01]
[50,0.748,{"$f":"[1]!AgePb76($B$30)","v":4825.8056466422795},1.911,2.7E-2]
[52,0.70599999999999996,{"$f":"[1]!AgePb76($B$31)","v":4742.9791524664488},1.84,2.7E-2]
[55,0.77600000000000002,{"$f":"[1]!AgePb76($B$32)","v":4878.3124834238133},1.9570000000000001,1.9E-2]
[56,0.753,{"$f":"[1]!AgePb76($B$33)","v":4835.3339490205462},1.9059999999999999,1.6E-2]
[57,0.80300000000000005,{"$f":"[1]!AgePb76($B$34)","v":4927.0668569371455},1.986,7.0000000000000001E-3,19.64,0.31]
["Duplicate",0.8,{"$f":"[1]!AgePb76($B$35)","v":4921.7365552639512},2,1.2999999999999999E-2]
[58,0.78300000000000003,{"$f":"[1]!AgePb76($B$36)","v":4891.1239386153629},1.964,2.5999999999999999E-2]
[60,0.747,{"$f":"[1]!AgePb76($B$37)","v":4823.8918366692114},1.897,1.6E-2]
[61,0.81299999999999994,{"$f":"[1]!AgePb76($B$38)","v":4944.6827303380096},2.0030000000000001,6.0000000000000001E-3]
["Duplicate",0.79600000000000004,{"$f":"[1]!AgePb76($B$39)","v":4914.5963046411625},1.986,1.9E-2]
[67,0.72699999999999998,{"$f":"[1]!AgePb76($B$40)","v":4785.0309856762515},1.8660000000000001,2.5000000000000001E-2]
[1,0.73099999999999998,{"$f":"[1]!AgePb76($B$41)","v":4792.8936922778048},1.8660000000000001,1.9E-2]
[2,0.75,{"$f":"[1]!AgePb76($B$42)","v":4829.625094267948},1.9159999999999999,2.1999999999999999E-2]
[12,0.748,{"$f":"[1]!AgePb76($B$43)","v":4825.8056466422795},1.899,2.5000000000000001E-2]
[17,0.84099999999999997,{"$f":"[1]!AgePb76($B$44)","v":4992.8074779865283},2.06,2.3E-2]
["18A",0.83899999999999997,{"$f":"[1]!AgePb76($B$45)","v":4989.4268616075115},2.0659999999999998,2.5000000000000001E-2]
[24,0.76,{"$f":"[1]!AgePb76($B$46)","v":4848.5608497063313},1.923,1.2E-2]
[25,0.73699999999999999,{"$f":"[1]!AgePb76($B$47)","v":4804.6020672085069},1.871,2.7E-2]
[25,0.73099999999999998,{"$f":"[1]!AgePb76($B$48)","v":4792.8936922778048},1.8660000000000001,5.0000000000000001E-3,21.46,0.12]
[28,0.73199999999999998,{"$f":"[1]!AgePb76($B$49)","v":4794.8521943463356},1.865,1.2999999999999999E-2]
["31E",0.74,{"$f":"[1]!AgePb76($B$50)","v":4810.4181720839997},1.891,8.9999999999999993E-3]
[32,0.72699999999999998,{"$f":"[1]!AgePb76($B$51)","v":4785.0309856762515},1.865,7.0000000000000001E-3,22.01,0.16]
[35,0.80800000000000005,{"$f":"[1]!AgePb76($B$52)","v":4935.9037836460539},2.0030000000000001,2.1999999999999999E-2]
[44,0.75,{"$f":"[1]!AgePb76($B$53)","v":4829.625094267948},1.909,1.2E-2,21.28,0.3]
[48,0.73599999999999999,{"$f":"[1]!AgePb76($B$54)","v":4802.6577505611867},1.8839999999999999,1.7000000000000001E-2]
[54,0.73899999999999999,{"$f":"[1]!AgePb76($B$55)","v":4808.4822699852521},1.885,8.9999999999999993E-3,21.61,0.21]
[1,0.81399999999999995,{"$f":"[1]!AgePb76($B$56)","v":4946.431627862964},2.0270000000000001,7.0000000000000001E-3,19.73,0.2]
["E1",0.81899999999999995,{"$f":"[1]!AgePb76($B$57)","v":4955.1419803381323},2.0449999999999999,1.4E-2]
["E2",0.81499999999999995,{"$f":"[1]!AgePb76($B$58)","v":4948.1782419113797},2.0329999999999999,0.01]
[3,0.82099999999999995,{"$f":"[1]!AgePb76($B$59)","v":4958.6103001668189},2.0430000000000001,1.6E-2]
[4,0.82199999999999995,{"$f":"[1]!AgePb76($B$60)","v":4960.341092899399},2.0390000000000001,1.2E-2,19.25,0.28999999999999998]
[4,0.81399999999999995,{"$f":"[1]!AgePb76($B$61)","v":4946.431627862964},2.028,4.0000000000000001E-3,19.170000000000002,0.1]
[6,0.81899999999999995,{"$f":"[1]!AgePb76($B$62)","v":4955.1419803381323},2.032,1.0999999999999999E-2]
[7,0.82299999999999995,{"$f":"[1]!AgePb76($B$63)","v":4962.06964846751},2.036,1.0999999999999999E-2,19.21,0.26]
[14,0.82299999999999995,{"$f":"[1]!AgePb76($B$64)","v":4962.06964846751},2.044,1.4999999999999999E-2]
[20,0.81599999999999995,{"$f":"[1]!AgePb76($B$65)","v":4949.9225783499642},2.0219999999999998,8.0000000000000002E-3]
[21,0.81,{"$f":"[1]!AgePb76($B$66)","v":4939.4222778980275},2.024,7.0000000000000001E-3,19.329999999999998,0.17]
["Duplicate",0.81799999999999995,{"$f":"[1]!AgePb76($B$67)","v":4953.4044417524683},2.028,8.9999999999999993E-3]
[22,0.81399999999999995,{"$f":"[1]!AgePb76($B$68)","v":4946.431627862964},2.0150000000000001,8.9999999999999993E-3]
[24,0.81699999999999995,{"$f":"[1]!AgePb76($B$69)","v":4951.6646430230039},2.0209999999999999,1.0999999999999999E-2]
[28,0.80900000000000005,{"$f":"[1]!AgePb76($B$70)","v":4937.6641873472918},2.0230000000000001,7.0000000000000001E-3]
[35,0.81699999999999995,{"$f":"[1]!AgePb76($B$71)","v":4951.6646430230039},2.0350000000000001,8.0000000000000002E-3]
[38,0.81599999999999995,{"$f":"[1]!AgePb76($B$72)","v":4949.9225783499642},2.04,2.3E-2,19.54,0.24]
["Duplicate",0.81399999999999995,{"$f":"[1]!AgePb76($B$73)","v":4946.431627862964},2.0339999999999998,1.0999999999999999E-2]
[40,0.81599999999999995,{"$f":"[1]!AgePb76($B$74)","v":4949.9225783499642},2.0329999999999999,1.2999999999999999E-2]
[50,0.82399999999999995,{"$f":"[1]!AgePb76($B$75)","v":4963.795972561601},2.0409999999999999,1.2999999999999999E-2]
[51,0.80900000000000005,{"$f":"[1]!AgePb76($B$76)","v":4937.6641873472918},2.048,0.02]
[52,0.81599999999999995,{"$f":"[1]!AgePb76($B$77)","v":4949.9225783499642},2.028,6.0000000000000001E-3,18.940000000000001,0.12]
[54,0.81100000000000005,{"$f":"[1]!AgePb76($B$78)","v":4941.1780612788325},2.0270000000000001,2.1999999999999999E-2]
[59,0.81599999999999995,{"$f":"[1]!AgePb76($B$79)","v":4949.9225783499642},2.0259999999999998,8.0000000000000002E-3]
[60,0.81699999999999995,{"$f":"[1]!AgePb76($B$80)","v":4951.6646430230039},2.0329999999999999,8.0000000000000002E-3]
[61,0.81,{"$f":"[1]!AgePb76($B$81)","v":4939.4222778980275},2.0129999999999999,8.9999999999999993E-3]
["62E",0.81499999999999995,{"$f":"[1]!AgePb76($B$82)","v":4948.1782419113797},2.0299999999999998,7.0000000000000001E-3,19.260000000000002,0.16]
[62,0.82,{"$f":"[1]!AgePb76($B$83)","v":4956.8772645576782},2.036,1.4E-2]
[63,0.81799999999999995,{"$f":"[1]!AgePb76($B$84)","v":4953.4044417524683},2.032,8.0000000000000002E-3]
[65,0.81200000000000006,{"$f":"[1]!AgePb76($B$85)","v":4942.9315434472674},2.0089999999999999,1.2999999999999999E-2,19.27,0.21]
[68,0.81399999999999995,{"$f":"[1]!AgePb76($B$86)","v":4946.431627862964},2.0230000000000001,8.9999999999999993E-3]
[69,0.81499999999999995,{"$f":"[1]!AgePb76($B$87)","v":4948.1782419113797},2.0230000000000001,1.7000000000000001E-2]
["5A",0.85,{"$f":"[1]!AgePb76($B$88)","v":5007.915294550211},2.1179999999999999,6.0000000000000001E-3]
[22,0.86399999999999999,{"$f":"[1]!AgePb76($B$89)","v":5031.0818962792409},2.1589999999999998,1.9E-2]
["23A",0.86799999999999999,{"$f":"[1]!AgePb76($B$90)","v":5037.6277719813334},2.1539999999999999,8.9999999999999993E-3]
["25B",0.86499999999999999,{"$f":"[1]!AgePb76($B$91)","v":5032.7213763555219},2.165,8.0000000000000002E-3]
["27A",0.87,{"$f":"[1]!AgePb76($B$92)","v":5040.8887135543455},2.177,0.01]
["32A",0.874,{"$f":"[1]!AgePb76($B$93)","v":5047.3867958910114},2.1960000000000002,6.0000000000000001E-3]
["46A",0.84099999999999997,{"$f":"[1]!AgePb76($B$94)","v":4992.8074779865283},2.0539999999999998,2.1999999999999999E-2]
["48A",0.875,{"$f":"[1]!AgePb76($B$95)","v":5049.0063856620482},2.19,8.9999999999999993E-3]
["52A",0.84899999999999998,{"$f":"[1]!AgePb76($B$96)","v":5006.2450598373498},2.1160000000000001,8.0000000000000002E-3]
[54,0.84899999999999998,{"$f":"[1]!AgePb76($B$97)","v":5006.2450598373498},2.089,1.7000000000000001E-2]
[59,0.86299999999999999,{"$f":"[1]!AgePb76($B$98)","v":5029.4404006640825},2.173,1.2E-2]
["73A",0.874,{"$f":"[1]!AgePb76($B$99)","v":5047.3867958910114},2.1949999999999998,8.0000000000000002E-3]
[81,0.86499999999999999,{"$f":"[1]!AgePb76($B$100)","v":5032.7213763555219},2.17,1.9E-2]
["81B",0.86499999999999999,{"$f":"[1]!AgePb76($B$101)","v":5032.7213763555219},2.177,8.0000000000000002E-3]
["83A",0.87,{"$f":"[1]!AgePb76($B$102)","v":5040.8887135543455},2.1850000000000001,1.4999999999999999E-2]
["89A",0.85799999999999998,{"$f":"[1]!AgePb76($B$103)","v":5021.2025177556479},2.1539999999999999,7.0000000000000001E-3]
["91B",0.874,{"$f":"[1]!AgePb76($B$104)","v":5047.3867958910114},2.16,2.5999999999999999E-2]
["2012-01-09",0.748,{"$f":"[1]!AgePb76($B$105)","v":4825.8056466422795},1.9219999999999999,5.0000000000000001E-3,21.07,"0.0.8"]
["2012-01-09",0.75,{"$f":"[1]!AgePb76($B$106)","v":4829.625094267948},1.925,3.0000000000000001E-3,21.12,0.13]
[null,"AVG",{"$f":"AVERAGE(C3:C106)","v":4909.7642770130342}]
[null,"MAX",{"$f":"MAX(C4:C107)","v":5049.0063856620482}]
[null,"MIN",{"$f":"MIN(C5:C108)","v":4742.9791524664488}]
[null,"STD DEV",{"$f":"STDEV(C3:C106)","v":83.032732034911916}]

{"sheet":"Pb_207_05","index":5,"n_rows":42,"n_cols":6,"rows_kept":42,"cut":false,"hidden":false,"merged":[]}
[null,null,null,null,"207Pb/206Pb","207Pb/206Pb"]
["Porphyry","Cu–Au","stage",null,"Ratio","Age"]
["208-37:",1,2.1829000000000001,1.4E-3,0.88859999999999995,{"$f":"[1]!AgePb76($E$3)","v":5070.8398628868817}]
["208-37:",2,2.1808000000000001,8.0000000000000004E-4,0.88810999999999996,{"$f":"[1]!AgePb76($E$4)","v":5070.059388456747}]
["208-37:",3,2.1812999999999998,1.1000000000000001E-3,0.88817000000000002,{"$f":"[1]!AgePb76($E$5)","v":5070.1549812897792}]
["208-37:",4,2.1821000000000002,1.1000000000000001E-3,0.88837999999999995,{"$f":"[1]!AgePb76($E$6)","v":5070.4895022751198}]
["208-37:",5,2.1852,1.1999999999999999E-3,0.88910999999999996,{"$f":"[1]!AgePb76($E$7)","v":5071.6517087702887}]
["208-37:",6,2.1819000000000002,1.1999999999999999E-3,0.88829000000000002,{"$f":"[1]!AgePb76($E$8)","v":5070.3461464095253}]
["208-37:",7,2.1825999999999999,1.1000000000000001E-3,0.88859999999999995,{"$f":"[1]!AgePb76($E$9)","v":5070.8398628868817}]
["208-37:",8,2.1823999999999999,1.2999999999999999E-3,0.88812999999999998,{"$f":"[1]!AgePb76($E$10)","v":5070.0912534954941}]
["Assemblage","average",2.1823999999999999,0.88841999999999999,0.88841999999999999,{"$f":"[1]!AgePb76($E$11)","v":5070.5532110488439}]
["Assemblage","2s.d.",2.5999999999999999E-3,6.8000000000000005E-4,6.8000000000000005E-4,{"$f":"[1]!AgePb76($E$11)","v":5070.5532110488439}]
["211-113.5M:","19a",2.1869999999999998,8.9999999999999998E-4,0.89093,{"$f":"[1]!AgePb76($E$13)","v":5074.5448633866918}]
["211-113.5M:","20a",2.1848999999999998,1E-3,0.89022999999999997,{"$f":"[1]!AgePb76($E$14)","v":5073.4328540424112}]
["211-113.5M:","21a",2.1850000000000001,1.1999999999999999E-3,0.88961000000000001,{"$f":"[1]!AgePb76($E$15)","v":5072.4471567765222}]
["211-113.5M:","22a",2.1844999999999999,1.2999999999999999E-3,0.88944999999999996,{"$f":"[1]!AgePb76($E$16)","v":5072.1926650149398}]
["Sample","average",2.1852999999999998,0.89005999999999996,0.89005999999999996,{"$f":"[1]!AgePb76($E$17)","v":5073.1626546762627}]
["Sample","2s.d.",2.2000000000000001E-3,1.3500000000000001E-3,1.3500000000000001E-3,{"$f":"[1]!AgePb76($E$11)","v":5070.5532110488439}]
["211-113.5N:","23a",2.1833999999999998,1.4E-3,0.88893,{"$f":"[1]!AgePb76($E$19)","v":5071.3652313397906}]
["211-113.5N:","24a",2.1833,1E-3,0.88983999999999996,{"$f":"[1]!AgePb76($E$20)","v":5072.8129036486735}]
["Assemblage","average",2.1833999999999998,0.88937999999999995,0.88937999999999995,{"$f":"[1]!AgePb76($E$21)","v":5072.0813096010343}]
["Assemblage","2s.d.",1E-4,1.2800000000000001E-3,1.2800000000000001E-3,{"$f":"[1]!AgePb76($E$11)","v":5070.5532110488439}]
["1386B:",9,2.1800000000000002,3.3999999999999998E-3,0.88773000000000002,{"$f":"[1]!AgePb76($E$23)","v":5069.453808067291}]
["1386B:",10,2.1795,1.6000000000000001E-3,0.88797999999999999,{"$f":"[1]!AgePb76($E$24)","v":5069.8522471510423}]
["1386B:",11,2.1814,2.0999999999999999E-3,0.88843000000000005,{"$f":"[1]!AgePb76($E$25)","v":5070.5691377669127}]
["Assemblage","average",2.1802999999999999,0.88805000000000001,0.88805000000000001,{"$f":"[1]!AgePb76($E$26)","v":5069.9637887736581}]
["Assemblage","2s.d.",2E-3,6.9999999999999999E-4,6.9999999999999999E-4,{"$f":"[1]!AgePb76($E$11)","v":5070.5532110488439}]
["CAH-2003-C:",12,2.1823000000000001,3.2000000000000002E-3,0.88773000000000002,{"$f":"[1]!AgePb76($E$28)","v":5069.453808067291}]
["CAH-2003-C:",13,2.1844000000000001,2.3E-3,0.88798999999999995,{"$f":"[1]!AgePb76($E$29)","v":5069.8681822395374}]
["CAH-2003-C:",14,2.1848000000000001,2.0999999999999999E-3,0.88846999999999998,{"$f":"[1]!AgePb76($E$30)","v":5070.6328427378676}]
["Assemblage","average",2.1838000000000002,0.88805999999999996,0.88805999999999996,{"$f":"[1]!AgePb76($E$31)","v":5069.9797225299117}]
["Assemblage","2s.d.",2.5999999999999999E-3,7.3999999999999999E-4,7.3999999999999999E-4,{"$f":"[1]!AgePb76($E$11)","v":5070.5532110488439}]
["195-714:",15,2.1854,8.9999999999999998E-4,0.89012000000000002,{"$f":"[1]!AgePb76($E$33)","v":5073.258025407803}]
["195-714:",16,2.1823000000000001,1.4E-3,0.88905999999999996,{"$f":"[1]!AgePb76($E$34)","v":5071.5721378769249}]
["195-714:",17,2.1838000000000002,1.1999999999999999E-3,0.88978999999999997,{"$f":"[1]!AgePb76($E$35)","v":5072.7334019887548}]
["195-714:",18,2.1835,1.1000000000000001E-3,0.88920999999999994,{"$f":"[1]!AgePb76($E$36)","v":5071.8108363201518}]
["Assemblage","average",2.1838000000000002,0.88954999999999995,0.88954999999999995,{"$f":"[1]!AgePb76($E$37)","v":5072.3517280551887}]
["Assemblage","2s.d.",2.5000000000000001E-3,9.8999999999999999E-4,9.8999999999999999E-4,{"$f":"[1]!AgePb76($E$11)","v":5070.5532110488439}]
[null,null,null,null,"AVG",{"$f":"AVERAGE(F3:F38)","v":5071.1634580355912}]
[null,null,null,null,"MAX",{"$f":"MAX(F3:F38)","v":5074.5448633866918}]
[null,null,null,null,"MIN",{"$f":"MIN(F3:F38)","v":5069.453808067291}]
[null,null,null,null,"STD DEV",{"$f":"STDEV(F3:F38)","v":1.2651635109645378}]

{"sheet":"Pb_207_06","index":6,"n_rows":102,"n_cols":7,"rows_kept":102,"cut":false,"hidden":false,"merged":[]}
[null,null,"207Pb/206Pb","207Pb/206Pb"]
[null,null,"Ratio","Age"]
["M64/1","109GTV-1",0.87477000000000005,{"$f":"[1]!AgePb76($C$3)","v":5048.63405399984},3,14]
["M64/1","118VSR",0.87771999999999994,{"$f":"[1]!AgePb76($C$4)","v":5053.4017527142705},3,15]
["M64/1","119VSR",0.87712999999999997,{"$f":"[1]!AgePb76($C$5)","v":5052.4495745268177},4,16]
["M64/1","123ROV-8",0.87411000000000005,{"$f":"[1]!AgePb76($C$6)","v":5047.5650469945622},4,18]
["M64/1","124GTV-1A",0.87446000000000002,{"$f":"[1]!AgePb76($C$7)","v":5048.1320512770908},1,7]
["M64/1","125ROV-6",0.87472000000000005,{"$f":"[1]!AgePb76($C$8)","v":5048.5530985882706},3,17]
["M64/1","125ROV-8",0.87595000000000001,{"$f":"[1]!AgePb76($C$9)","v":5050.5431777364602},4,23]
["M64/1","131GTV-1",0.87404000000000004,{"$f":"[1]!AgePb76($C$10)","v":5047.4516172284293},3,15]
["M64/1","135VSR",0.87383,{"$f":"[1]!AgePb76($C$11)","v":5047.1112700817102},2,8]
["M64/1","146ROV-2",0.87470999999999999,{"$f":"[1]!AgePb76($C$12)","v":5048.5369069167109},3,16]
["M41/2","119DS-1",0.87358000000000002,{"$f":"[1]!AgePb76($C$13)","v":5046.7059817204818},1,2]
["M41/2","120DS-2",0.86514000000000002,{"$f":"[1]!AgePb76($C$14)","v":5032.9507430037365},1,5]
["M41/2","121DS-1",0.87275000000000003,{"$f":"[1]!AgePb76($C$15)","v":5045.3595411876113},2,8]
["M41/2","126DS-2",0.86617999999999995,{"$f":"[1]!AgePb76($C$16)","v":5034.6533771004006},2,10]
["M41/2","130DS-1",0.86458999999999997,{"$f":"[1]!AgePb76($C$17)","v":5032.0494329909798},2,3]
["M41/2","132DS-1",0.82506000000000002,{"$f":"[1]!AgePb76($C$18)","v":4965.6234460907426},1,2]
["M41/2","133DS-7",0.83245000000000002,{"$f":"[1]!AgePb76($C$19)","v":4978.2950996640966},1,3]
["M41/2","136DS-1",0.83587,{"$f":"[1]!AgePb76($C$20)","v":4984.1189734657983},1,3]
["M41/2","137DS-2",0.84440999999999999,{"$f":"[1]!AgePb76($C$21)","v":4998.5517803575804},2,7]
["M41/2","138DS-1",0.80367999999999995,{"$f":"[1]!AgePb76($C$22)","v":4928.2721129754154},1,1]
["M41/2","138DS-2",0.80598000000000003,{"$f":"[1]!AgePb76($C$23)","v":4932.3406880349739},1,2]
["M41/2","138DS-3",0.80108999999999997,{"$f":"[1]!AgePb76($C$24)","v":4923.6756877600292},1,4]
["M41/2","139DS-1",0.84394999999999998,{"$f":"[1]!AgePb76($C$25)","v":4997.7783285118039},3,15]
["M41/2","139DS-3",0.83243999999999996,{"$f":"[1]!AgePb76($C$26)","v":4978.2780335343377},1,2]
["M41/2","140DS-1",0.85135000000000005,{"$f":"[1]!AgePb76($C$27)","v":5010.1668040283175},1,4]
["M41/2","141DS-1",0.85701000000000005,{"$f":"[1]!AgePb76($C$28)","v":5019.5653726692399},3,15]
["M41/2","142DS-2",0.84287999999999996,{"$f":"[1]!AgePb76($C$29)","v":4995.9774784764404},1,4]
["M41/2","143DS-2",0.85104999999999997,{"$f":"[1]!AgePb76($C$30)","v":5009.666796429492},1,4]
["M41/2","143DS-2",0.85104000000000002,{"$f":"[1]!AgePb76($C$31)","v":5009.6501262859138},2,6]
["M41/2","146DS-2",0.84008000000000005,{"$f":"[1]!AgePb76($C$32)","v":4991.2534565127999},1,2]
["M41/2","147DS-1",0.8337,{"$f":"[1]!AgePb76($C$33)","v":4980.4266519033044},1,5]
["M41/2","153DS-1",0.82369999999999999,{"$f":"[1]!AgePb76($C$34)","v":4963.27830930043},2,8]
["M64/1","163VSR",0.81989999999999996,{"$f":"[1]!AgePb76($C$35)","v":4956.7038374179892},2,11]
["M64/1","162VSR",0.83643000000000001,{"$f":"[1]!AgePb76($C$36)","v":4985.0701772220382},2,8]
["M64/1","162VSR",0.83633000000000002,{"$f":"[1]!AgePb76($C$37)","v":4984.900369048918},2,10]
["M64/1","160VSR",0.82011000000000001,{"$f":"[1]!AgePb76($C$38)","v":4957.0680084401283},1,5]
["M64/1","159ROV-10",0.81947000000000003,{"$f":"[1]!AgePb76($C$39)","v":4955.957844350839},1,4]
["M64/1","159ROV-10",2.0297000000000001,{"$f":"[1]!AgePb76($C$40)","v":6214.3940489171591},2]
["M64/1","159ROV-6",0.82960999999999996,{"$f":"[1]!AgePb76($C$41)","v":4973.4395423235528},1,3]
["M64/1","159ROV-4",0.82340000000000002,{"$f":"[1]!AgePb76($C$42)","v":4962.7604455640885},2,7]
["M64/1","159ROV-4",0.82330999999999999,{"$f":"[1]!AgePb76($C$43)","v":4962.6050473276546},1,2]
["M64/1","159ROV-3",0.82338,{"$f":"[1]!AgePb76($C$44)","v":4962.7259141832455},1,5]
["M64/1","159ROV-3",0.82333999999999996,{"$f":"[1]!AgePb76($C$45)","v":4962.6568487463355},1,5]
["M64/1","159ROV-1",0.82128000000000001,{"$f":"[1]!AgePb76($C$46)","v":4959.0951479678315},1,3]
["M41/2","157DS-3",0.82201999999999997,{"$f":"[1]!AgePb76($C$47)","v":4960.3756859159766},3,15]
["M64/1","155ROV-4",0.82332000000000005,{"$f":"[1]!AgePb76($C$48)","v":4962.6223146901784},1,3]
["M64/1","155ROV-1",0.82289000000000001,{"$f":"[1]!AgePb76($C$49)","v":4961.8796166885495},1,2]
["M64/1","155ROV-1",0.82277999999999996,{"$f":"[1]!AgePb76($C$50)","v":4961.6895579012125},2,10]
["M64/1","155ROV-7",0.82186999999999999,{"$f":"[1]!AgePb76($C$51)","v":4960.1162164772686},1,6]
["M41/2","160DS-1",0.82045000000000001,{"$f":"[1]!AgePb76($C$52)","v":4957.6574085038683},1,3]
["M41/2","160DS-2",0.82064999999999999,{"$f":"[1]!AgePb76($C$53)","v":4958.0039931238698},1,3]
["M41/2","160DS-3",0.81908000000000003,{"$f":"[1]!AgePb76($C$54)","v":4955.2808859599772},1,4]
["M41/2","161DS-1",0.82081999999999999,{"$f":"[1]!AgePb76($C$55)","v":4958.2985194476178},1,6]
["M41/2","162DS-1",0.81544000000000005,{"$f":"[1]!AgePb76($C$56)","v":4948.9460301997633},1,1]
["M41/2","162DS-1",0.81532000000000004,{"$f":"[1]!AgePb76($C$57)","v":4948.7366770954486},2,13]
["M41/2","166DS-4",0.81250999999999995,{"$f":"[1]!AgePb76($C$58)","v":4943.8249351841532},1,6]
["M41/2","166DS-4",0.81244000000000005,{"$f":"[1]!AgePb76($C$59)","v":4943.7023481072747},1,4]
["M68/1","36VSR",0.81281999999999999,{"$f":"[1]!AgePb76($C$60)","v":4944.3676858241815},1,6]
["M64/1","203VSR",0.81374000000000002,{"$f":"[1]!AgePb76($C$61)","v":4945.9771344144701},3,15]
["M64/1","214GTV-1",0.81279000000000001,{"$f":"[1]!AgePb76($C$62)","v":4944.3151711912978},2,7]
["M64/1","209GTV-1",0.81279999999999997,{"$f":"[1]!AgePb76($C$63)","v":4944.3326762979777},1,2]
["M64/1","200ROV-6",0.81293000000000004,{"$f":"[1]!AgePb76($C$64)","v":4944.5602218430213},1,6]
["M64/1","205VSR",0.81338999999999995,{"$f":"[1]!AgePb76($C$65)","v":4945.3650723677229},1,4]
["M41/2","172DS-3",0.81291000000000002,{"$f":"[1]!AgePb76($C$66)","v":4944.5252173551708},1,2]
["M64/1","211VSR",0.81291000000000002,{"$f":"[1]!AgePb76($C$67)","v":4944.5252173551708},2,7]
["M64/1","194ROV-7",0.81288000000000005,{"$f":"[1]!AgePb76($C$68)","v":4944.4727089059588},2,8]
["M64/1","194ROV-11",0.81291000000000002,{"$f":"[1]!AgePb76($C$69)","v":4944.5252173551708},2,9]
["M64/1","194ROV-9",0.81279999999999997,{"$f":"[1]!AgePb76($C$70)","v":4944.3326762979777},1,4]
["M41/2","190DS-4",0.81225999999999998,{"$f":"[1]!AgePb76($C$71)","v":4943.387072605311},1,5]
["M41/2","191DS-3",0.81518999999999997,{"$f":"[1]!AgePb76($C$72)","v":4948.5098409180891},1,2]
["M41/2","194DS-1",0.82582,{"$f":"[1]!AgePb76($C$73)","v":4966.9321745137422},1,4]
["M41/2","195DS-2",0.84177000000000002,{"$f":"[1]!AgePb76($C$74)","v":4994.1067386280529},1,3]
["M41/2","196DS-3",0.82104999999999995,{"$f":"[1]!AgePb76($C$75)","v":4958.6968930241974},1,6]
["M41/2","197DS-3",0.81823999999999997,{"$f":"[1]!AgePb76($C$76)","v":4953.8216569199822},1,5]
["M41/2","198DS-1",0.84128999999999998,{"$f":"[1]!AgePb76($C$77)","v":4993.2969582166861},1,3]
["M41/2","198DS-1",0.84126000000000001,{"$f":"[1]!AgePb76($C$78)","v":4993.2463306442496},2,7]
["M41/2","199DS-2",0.85514000000000001,{"$f":"[1]!AgePb76($C$79)","v":5016.4675014297482},2,7]
["M41/2","199DS-2",0.85512999999999995,{"$f":"[1]!AgePb76($C$80)","v":5016.4509159435956},2,11]
["M41/2","200DS-1",0.83955000000000002,{"$f":"[1]!AgePb76($C$81)","v":4990.3573839362707},1,6]
["M41/2","200DS-1",0.83957999999999999,{"$f":"[1]!AgePb76($C$82)","v":4990.4081210706154},1,3]
["M41/2","201DS-5",0.81725999999999999,{"$f":"[1]!AgePb76($C$83)","v":4952.117208441714},1,3]
["M41/2","201DS-5",0.81723000000000001,{"$f":"[1]!AgePb76($C$84)","v":4952.0649971691655},4,18]
["M41/2","202DS-1",0.83762999999999999,{"$f":"[1]!AgePb76($C$85)","v":4987.1061943089371},1,4]
["M41/2","202DS-1",0.83738999999999997,{"$f":"[1]!AgePb76($C$86)","v":4986.6992389415491},3,17]
["M41/2","202DS-1",0.83748999999999996,{"$f":"[1]!AgePb76($C$87)","v":4986.8688187371272},2,8]
["M41/2","203DS-2",0.84126000000000001,{"$f":"[1]!AgePb76($C$88)","v":4993.2463306442496},2,9]
["M41/2","203DS-2",0.84128999999999998,{"$f":"[1]!AgePb76($C$89)","v":4993.2969582166861},1,6]
["M64/1","188ROV-4",0.81074000000000002,{"$f":"[1]!AgePb76($C$90)","v":4940.7217792167585},0.81074000000000002,2.0213999999999999,3]
["M64/1","188ROV-5",0.81079000000000001,{"$f":"[1]!AgePb76($C$91)","v":4940.8095378534053},0.81079000000000001,2.02155,17]
["M41/2","175DS-2",0.81806999999999996,{"$f":"[1]!AgePb76($C$92)","v":4953.5261429539478},0.81806999999999996,2.0328900000000001,8]
["M41/2","176DS-2",0.81498000000000004,{"$f":"[1]!AgePb76($C$93)","v":4948.1433319704975},0.81498000000000004,2.0301800000000001,4]
["M41/2","179DS-1",0.80278000000000005,{"$f":"[1]!AgePb76($C$94)","v":4926.6766886504383},1,2]
["M41/2","179DS-3",0.80337000000000003,{"$f":"[1]!AgePb76($C$95)","v":4927.7227926388541},1,4]
["M41/2","183DS-1",0.81039000000000005,{"$f":"[1]!AgePb76($C$96)","v":4940.1073075255536},0.81039000000000005,2.0200999999999998,3]
["M41/2","183DS-3",0.80945999999999996,{"$f":"[1]!AgePb76($C$97)","v":4938.473195931896},0.80945999999999996,2.0180400000000001,5]
["M41/2","186DS-1",0.81215000000000004,{"$f":"[1]!AgePb76($C$98)","v":4943.1943676601031},0.81215000000000004,2.0217999999999998,3]
[null,null,"AVG",{"$f":"AVERAGE(D3:D98)","v":4990.3883715707552}]
[null,null,"MAX",{"$f":"MAX(D3:D98)","v":6214.3940489171591}]
[null,null,"MIN",{"$f":"MIN(D3:D98)","v":4923.6756877600292}]
[null,null,"STD DEV",{"$f":"STDEV(D3:D98)","v":131.47466179813784}]

{"sheet":"Pb_207_07","index":7,"n_rows":21,"n_cols":13,"rows_kept":21,"cut":false,"hidden":false,"merged":[]}
[null,null,null,null,"206Pb/204Pb","207Pb/204Pb","208Pb/204Pb","238U/204Pb",null,"207Pb/206Pb","207Pb/206Pb","206Pb/238U","206Pb/238U"]
[null,null,null,null,"Ratio","Ratio","Ratio","Ratio",null,"Ratio","Age","Ratio","Age"]
[1686,2.64,28.6,49.9,21.91,16.34,39.200000000000003,3.59,11.3,{"$f":"(F3/E3)","v":0.74577818347786395},{"$f":"[1]!AgePb76(J3)","v":4821.5497998811061},{"$f":"(E3/H3)","v":6.1030640668523679},{"$f":"[1]!AgePb6U8(L3)","v":12638.364220236539}]
["ZW-263",2.42,6.13,41.6,31.24,18.34,35.409999999999997,4.32,18.399999999999999,{"$f":"(F4/E4)","v":0.5870678617157491},{"$f":"[1]!AgePb76(J4)","v":4476.3135839444403},{"$f":"(E4/H4)","v":7.231481481481481},{"$f":"[1]!AgePb6U8(L4)","v":13588.821971891603}]
[114942,4.29,34,80,32.020000000000003,18.14,39.159999999999997,4.1900000000000004,35.1,0.56652092442223612,{"$f":"[1]!AgePb76(J5)","v":4424.3941199056853},7.6420047732696901,{"$f":"[1]!AgePb6U8(L5)","v":13902.559805598734}]
[114943,4.6900000000000004,23.5,73.900000000000006,30.09,18.03,37.979999999999997,4.78,30.1,0.59920239282153542,{"$f":"[1]!AgePb76(J6)","v":4506.0655207713689},6.2949790794979075,{"$f":"[1]!AgePb6U8(L6)","v":12810.226038254281}]
[114944,3.33,20.2,67.7,31.49,18.3,38.03,3.77,29.4,0.58113686884725313,{"$f":"[1]!AgePb76(J7)","v":4461.5301048792626},8.3527851458885944,{"$f":"[1]!AgePb6U8(L7)","v":14412.081711586172}]
[114945,5.21,22.3,70.099999999999994,32.28,18.41,37.770000000000003,5.73,31.5,0.5703221809169764,{"$f":"[1]!AgePb76(J8)","v":4434.1507372957112},5.6335078534031409,{"$f":"[1]!AgePb6U8(L8)","v":12197.477855113679}]
["DDH-747",7.09,50.5,47.7,116.9,31.57,56.35,13.1,104,0.27005988023952093,{"$f":"[1]!AgePb76(J9)","v":3306.3724808805696},8.9236641221374047,{"$f":"[1]!AgePb6U8(L9)","v":14794.019147451903}]
[256179,402,81,312,128.80000000000001,34.19,45.23,23.5,372,0.2654503105590062,{"$f":"[1]!AgePb76(J10)","v":3279.3475807909167},5.480851063829788,{"$f":"[1]!AgePb6U8(L10)","v":12047.392997589061}]
[null,null,null,null,null,null,null,null,null,"AVG",{"$f":"AVERAGE(K3:K10)","v":4213.7154910436329},"AVG",{"$f":"AVERAGE(M3:M10)","v":13298.867968465247}]
[null,null,null,null,null,null,null,null,null,"MAX",{"$f":"MAX(K3:K10)","v":4821.5497998811061},"MAX",{"$f":"MAX(M3:M10)","v":14794.019147451903}]
[null,null,null,null,null,null,null,null,null,"MIN",{"$f":"MIN(K3:K10)","v":3279.3475807909167},"MIN",{"$f":"MIN(M3:M10)","v":12047.392997589061}]
[null,null,null,null,null,null,null,null,null,"STD DEV",{"$f":"STDEV(K3:K10)","v":582.43244125190608},"STD DEV",{"$f":"STDEV(M3:M10)","v":1026.6119705214587}]
[]
[null,null,null,null,null,null,null,null,null,"Dating","207Pb/206Pb","206Pb/238U"]
[null,null,null,null,null,null,null,null,null,"Summary","Age","Age"]
[null,null,null,null,null,null,null,null,null,"AVG",4213.7154910436329,13298.867968465247]
[null,null,null,null,null,null,null,null,null,"MAX",4821.5497998811061,14794.019147451903]
[null,null,null,null,null,null,null,null,null,"MIN",3279.3475807909167,12047.392997589061]
[null,null,null,null,null,null,null,null,null,"STD DEV",582.43244125190608,1026.611970521463]

{"sheet":"Pb_207_08","index":8,"n_rows":15,"n_cols":5,"rows_kept":15,"cut":false,"hidden":false,"merged":[]}
[null,"206Pb/204Pb","207Pb/204Pb","207Pb/206Pb","207Pb/206Pb"]
[null,"Ratio","Ratio","Ratio","Age"]
["T-25",19.295999999999999,15.587,{"$f":"(C3/B3)","v":0.8077839966832504},{"$f":"[1]!AgePb76($D$3)","v":4935.5232262388718}]
["T-88",19.271999999999998,15.537000000000001,{"$f":"(C4/B4)","v":0.80619551681195523},{"$f":"[1]!AgePb76($D$4)","v":4932.7212924688529}]
["T-38",19.245000000000001,15.542,0.807586386074305,{"$f":"[1]!AgePb76($D$5)","v":4935.1749785106394}]
["T-85",19.256,15.522,0.80608641462401331,{"$f":"[1]!AgePb76($D$6)","v":4932.5286306518856}]
["T-21",19.308,15.579000000000001,0.80686761963952769,{"$f":"[1]!AgePb76($D$7)","v":4933.9075367564765}]
["T-30",19.167999999999999,15.54,0.81072621035058434,{"$f":"[1]!AgePb76($D$8)","v":4940.6975749873436}]
["T-64",19.27,15.532999999999999,0.80607161390762838,{"$f":"[1]!AgePb76($D$9)","v":4932.5024921655131}]
["T-54",19.190000000000001,15.513,0.80838978634705572,{"$f":"[1]!AgePb76($D$10)","v":4936.5902404516546}]
["BCR-1",18.818999999999999,15.628,0.83043732398108294,{"$f":"[1]!AgePb76($D$11)","v":4974.8558422151091}]
[null,null,null,"AVG",{"$f":"AVERAGE(E3:E11)","v":4939.3890904940381}]
[null,null,null,"MAX",{"$f":"MAX(E3:E11)","v":4974.8558422151091}]
[null,null,null,"MIN",{"$f":"MIN(E3:E11)","v":4932.5024921655131}]
[null,null,null,"STD DEV",{"$f":"STDEV(E3:E11)","v":13.551466363403859}]

{"sheet":"Pb_207_10","index":9,"n_rows":20,"n_cols":7,"rows_kept":20,"cut":false,"hidden":false,"merged":[]}
[null,"238U/206Pb","238U/206Pb",null,null,"207Pb/206Pb","207Pb/206Pb"]
[null,"Ratio","Age","Ratio",null,"Ratio","Age"]
["M2-2916a",29.5,{"$f":"[1]!AgePb6U8(1/B3)","v":214.90037239382249},5.3755999999999998E-2,2,0.84049399999999996,{"$f":"[1]!AgePb76($F$3)","v":4991.9529898159535}]
["M2-2916b",90.5,{"$f":"[1]!AgePb6U8(1/B4)","v":70.840429173860869},5.2130999999999997E-2,10,0.81798099999999996,{"$f":"[1]!AgePb76($F$4)","v":4953.3714066583434}]
["M2-3705a",23.5,{"$f":"[1]!AgePb6U8(1/B5)","v":268.63946108343646},5.2588999999999997E-2,3,0.82616900000000004,{"$f":"[1]!AgePb76($F$5)","v":4967.5327274799711}]
["M2-3705b",14.3,{"$f":"[1]!AgePb6U8(1/B6)","v":435.73435057230142},5.2651999999999997E-2,9,0.82817200000000002,{"$f":"[1]!AgePb76($F$6)","v":4970.9742472246626}]
["M3-34459",23.1,{"$f":"[1]!AgePb6U8(1/B7)","v":273.1940239733218},4.7056000000000001E-2,2,0.76188,{"$f":"[1]!AgePb76($F$7)","v":4852.0911008255971}]
["M3-34946",87.9,{"$f":"[1]!AgePb6U8(1/B8)","v":72.924015011943112},5.1799999999999999E-2,4,0.81617099999999998,{"$f":"[1]!AgePb76($F$8)","v":4950.2206322693037}]
["M3-30375",20.100000000000001,{"$f":"[1]!AgePb6U8(1/B9)","v":312.99420091533113},5.1340999999999998E-2,2,0.81281700000000001,{"$f":"[1]!AgePb76($F$9)","v":4944.3624344536584}]
["M3-36803",82.6,{"$f":"[1]!AgePb6U8(1/B10)","v":77.575114028837802},5.2803999999999997E-2,2,0.82867900000000005,{"$f":"[1]!AgePb76($F$10)","v":4971.8439626881836}]
["M3-38065",23.5,{"$f":"[1]!AgePb6U8(1/B11)","v":268.63946108343646},5.4108999999999997E-2,4,0.84652700000000003,{"$f":"[1]!AgePb76($F$11)","v":5002.1055799414398}]
[null,null,null,0.6,null,"AVG",{"$f":"AVERAGE(G3:G11)","v":4956.0505645952344}]
[null,null,null,1.7,null,"MAX",{"$f":"MAX(G3:G11)","v":5002.1055799414398}]
[null,null,null,0.9,null,"MIN",{"$f":"MIN(G3:G11)","v":4852.0911008255971}]
[null,null,null,0.3,null,"STD DEV",{"$f":"STDEV(G3:G11)","v":43.300382299090508}]
[null,null,null,0.4]
[null,null,null,1.2]
[null,null,null,0.3]
[null,null,null,3]
[null,null,null,0.7]

{"sheet":"Pb_207_11","index":10,"n_rows":69,"n_cols":9,"rows_kept":69,"cut":false,"hidden":false,"merged":[]}
[null,"206Pb/204Pb","207Pb/204Pb","207Pb/206Pb","207Pb/206Pb","TABLE 2",null,null,5112]
[null,"Ratio","Ratio","Ratio","Age",null,null,null,5110]
[null,16.937000000000001,15.491,{"$f":"(C3/B3)","v":0.91462478597154151},{"$f":"[1]!AgePb76($D$3)","v":5111.649363349431},null,null,null,5110]
[null,16.88,15.42,{"$f":"(C4/B4)","v":0.91350710900473941},{"$f":"[1]!AgePb76($D$4)","v":5109.9221648224111},null,null,null,5110]
[null,16.89,15.43,0.91355831853167546,{"$f":"[1]!AgePb76($D$5)","v":5110.0013502430556},null,null,null,5110]
[null,16.847000000000001,15.381,0.91298153974001295,{"$f":"[1]!AgePb76($D$6)","v":5109.1092037448607},null,null,null,5110]
[null,16.870999999999999,15.414,0.91363878845355939,{"$f":"[1]!AgePb76($D$7)","v":5110.1257715831998},null,null,null,5110]
[null,16.893999999999998,15.435,0.91363797798034818,{"$f":"[1]!AgePb76($D$8)","v":5110.1245185000362},null,null,null,5110]
[null,16.91,15.452,0.91377882909520991,{"$f":"[1]!AgePb76($D$9)","v":5110.3422725539194},null,null,null,5110]
[null,16.902000000000001,15.442,0.91361968997751741,{"$f":"[1]!AgePb76($D$10)","v":5110.0962428680259},null,null,null,5109]
[null,16.917999999999999,15.461,0.91387870906726565,{"$f":"[1]!AgePb76($D$11)","v":5110.4966641820001},null,null,null,5061]
[null,16.913,15.455,0.91379412286406902,{"$f":"[1]!AgePb76($D$12)","v":5110.3659143875857},null,null,null,5050]
[null,null,null,"AVG",{"$f":"AVERAGE(E3:E12)","v":5110.223346623452},null,null,null,5045]
[null,null,null,"MAX",{"$f":"MAX(E3:E12)","v":5111.649363349431},null,null,null,5039]
[null,null,null,"MIN",{"$f":"MIN(E3:E12)","v":5109.1092037448607},null,null,null,5036]
[null,null,null,"STD DEV",{"$f":"STDEV(E3:E12)","v":0.62888310255341839},null,null,null,5029]
[null,null,null,null,null,null,null,null,5012]
[null,null,null,null,null,null,null,null,5003]
[null,"206Pb/204Pb","207Pb/204Pb","207Pb/206Pb","207Pb/206Pb","TABLE 3",null,null,4971]
[null,"Ratio","Ratio","Ratio","Age",null,null,null,4966]
[null,20.36,15.73,{"$f":"(C21/B21)","v":0.77259332023575644},{"$f":"[1]!AgePb76($D$21)","v":4872.0329499337895},null,null,null,4956]
[null,20.149999999999999,15.72,0.78014888337468991,{"$f":"[1]!AgePb76($D$22)","v":4885.9205832459002},null,null,null,4950]
[null,19.97,15.7,0.78617926890335499,{"$f":"[1]!AgePb76($D$23)","v":4896.9024404789998},null,null,null,4945]
[null,23.06,15.91,0.68993928881179534,{"$f":"[1]!AgePb76($D$24)","v":4709.9059449588112},null,null,null,4936]
[null,19.440000000000001,15.67,0.80606995884773658,{"$f":"[1]!AgePb76($D$25)","v":4932.499569250901},null,null,null,4932]
[null,20.12,15.68,0.77932405566600393,{"$f":"[1]!AgePb76($D$26)","v":4884.411475805874},null,null,null,4925]
[null,18.84,15.6,0.82802547770700641,{"$f":"[1]!AgePb76($D$27)","v":4970.7227952553203},null,null,null,4916]
[null,19.600000000000001,15.72,0.80204081632653057,{"$f":"[1]!AgePb76($D$28)","v":4925.3649183860434},null,null,null,4904]
[null,19.309999999999999,15.6,0.80787156913516311,{"$f":"[1]!AgePb76($D$29)","v":4935.6775255507728},null,null,null,4904]
[null,20.22,15.74,0.778437190900099,{"$f":"[1]!AgePb76($D$30)","v":4882.7869662236926},null,null,null,4901]
[null,19.059999999999999,15.62,0.81951731374606507,{"$f":"[1]!AgePb76($D$31)","v":4956.0399478121462},null,null,null,4898]
[null,17.79,15.58,0.87577290612703773,{"$f":"[1]!AgePb76($D$32)","v":5050.2568314053806},null,null,null,4897]
[null,null,null,"AVG",{"$f":"AVERAGE(E21:E32)","v":4908.5434956923027},null,null,null,4886]
[null,null,null,"MAX",{"$f":"MAX(E21:E32)","v":5050.2568314053806},null,null,null,4884]
[null,null,null,"MIN",{"$f":"MIN(E21:E32)","v":4709.9059449588112},null,null,null,4883]
[null,null,null,"STD DEV",{"$f":"STDEV(E21:E32)","v":80.04596243084481},null,null,null,4872]
[null,null,null,null,null,null,null,null,4868]
[null,null,null,null,null,null,null,null,4856]
[null,"206Pb/204Pb","207Pb/204Pb","207Pb/206Pb","207Pb/206Pb","TABLE 4",null,null,4710]
[null,"Ratio","Ratio","Ratio","Age"]
[null,19.885000000000002,15.711,{"$f":"(C41/B41)","v":0.79009303495096805},{"$f":"[1]!AgePb76($D$41)","v":4903.9818624570398}]
[null,20.472000000000001,15.766999999999999,{"$f":"(C42/B42)","v":0.77017389605314568},{"$f":"[1]!AgePb76($D$42)","v":4867.5552852403589}]
[null,20.669,15.788,{"$f":"(C43/B43)","v":0.76384924282742273},{"$f":"[1]!AgePb76($D$43)","v":4855.7789894867683}]
[null,17.872,15.526,{"$f":"(C44/B44)","v":0.86873321396598024},{"$f":"[1]!AgePb76($D$44)","v":5038.824180941232}]
[null,17.881,15.506,{"$f":"(C45/B45)","v":0.86717745092556342},{"$f":"[1]!AgePb76($D$45)","v":5036.2843147099347}]
[null,null,null,"AVG",{"$f":"AVERAGE(E41:E45)","v":4940.4849265670664}]
[null,null,null,"MAX",{"$f":"MAX(E41:E45)","v":5038.824180941232}]
[null,null,null,"MIN",{"$f":"MIN(E41:E45)","v":4855.7789894867683}]
[null,null,null,"STD DEV",{"$f":"STDEV(E41:E45)","v":90.380354294405606}]
[]
[]
[null,"206Pb/204Pb","207Pb/204Pb","207Pb/206Pb","207Pb/206Pb","TABLE 6"]
[null,"Ratio","Ratio","Ratio","Age"]
[null,19.940000000000001,15.75,{"$f":"(C54/B54)","v":0.78986960882647939},{"$f":"[1]!AgePb76($D$54)","v":4903.5787235194593}]
[null,20.02,15.75,{"$f":"(C55/B55)","v":0.78671328671328677},{"$f":"[1]!AgePb76($D$55)","v":4897.8706072097084}]
[null,19.96,15.74,0.78857715430861719,{"$f":"[1]!AgePb76($D$56)","v":4901.2442983502251}]
[null,18.8,15.51,0.82499999999999996,{"$f":"[1]!AgePb76($D$57)","v":4965.5200708505772}]
[null,18.23,15.54,0.85244103126714199,{"$f":"[1]!AgePb76($D$58)","v":5011.9836407407292}]
[null,19.66,15.67,0.79704984740590035,{"$f":"[1]!AgePb76($D$59)","v":4916.4740375571328}]
[null,19.190000000000001,15.66,0.81605002605523702,{"$f":"[1]!AgePb76($D$60)","v":4950.0097809060808}]
[null,19.3,15.69,0.81295336787564765,{"$f":"[1]!AgePb76($D$61)","v":4944.6011197087364}]
[null,17.86,15.41,0.8628219484882419,{"$f":"[1]!AgePb76($D$62)","v":5029.1479181327231}]
[null,17.57,15.5,0.88218554354012524,{"$f":"[1]!AgePb76($D$63)","v":5060.5865746690606}]
[null,17.73,15.47,0.87253243090806543,{"$f":"[1]!AgePb76($D$64)","v":5045.006372008671}]
[null,18.21,15.43,0.84733662822624922,{"$f":"[1]!AgePb76($D$65)","v":5003.4622047756557}]
[null,null,null,"AVG",{"$f":"AVERAGE(E54:E65)","v":4969.12377903573}]
[null,null,null,"MAX",{"$f":"MAX(E54:E65)","v":5060.5865746690606}]
[null,null,null,"MIN",{"$f":"MIN(E54:E65)","v":4897.8706072097084}]
[null,null,null,"STD DEV",{"$f":"STDEV(E54:E65)","v":59.141651093572818}]

{"sheet":"Pb_207_12","index":11,"n_rows":42,"n_cols":13,"rows_kept":42,"cut":false,"hidden":false,"merged":[]}
[null,"206Pb/204Pb",null,"207Pb/204Pb",null,"207Pb/206Pb","207Pb/206Pb"]
[null,"Ratio",null,"Ratio",null,"Ratio","Age"]
["DR12-3",18.442699999999999,7,15.5351,6,{"$f":"(D3/B3)","v":0.8423441253178765},{"$f":"[1]!AgePb76($F$4)","v":4992.9052478850654},0.70327799999999996,13,0.51302899999999996,5,7.6]
["DR11-1",18.462700000000002,29,15.5282,26,{"$f":"(D4/B4)","v":0.84105791677273634},{"$f":"[1]!AgePb76($F$4)","v":4992.9052478850654},0.70320199999999999,4,0.51307599999999998,11,8.5]
["PL09-7",18.484200000000001,18,15.5213,17,0.83970634379632325,{"$f":"[1]!AgePb76($F$5)","v":4990.6217773403023},0.70323800000000003,3,0.51299600000000001,10,7]
["PL07-1",18.517800000000001,21,15.5382,19,0.8390953568998476,{"$f":"[1]!AgePb76($F$6)","v":4989.5882384500228},0.70324299999999995,5]
["PL06-4",18.5229,11,15.5311,11,0.83848101539175834,{"$f":"[1]!AgePb76($F$7)","v":4988.5482184247321},0.70335999999999999,4]
["PL06-4",18.523800000000001,11,15.534000000000001,11,0.83859683218346126,{"$f":"[1]!AgePb76($F$8)","v":4988.7443468303854},10,7.2]
["PL01-1",18.615600000000001,70,15.5443,60,0.83501471883796385,{"$f":"[1]!AgePb76($F$9)","v":4982.6649038872119},0.70332700000000004,9]
["PL01-1",18.616399999999999,7,15.5444,0.70332700000000004,0.83498420747298085,{"$f":"[1]!AgePb76($F$10)","v":4982.613002065882},6,7.6]
["PL20-2",18.432600000000001,12,15.525499999999999,12,0.84228486485899978,{"$f":"[1]!AgePb76($F$11)","v":4994.9747924126787},0.70341699999999996,5,0.51301699999999995,7,7.4]
["PL01-5",18.488299999999999,13,15.523999999999999,14,0.83966616725172138,{"$f":"[1]!AgePb76($F$12)","v":4990.5538396739221},0.70323899999999995,7,0.51300900000000005,6,7.2]
["PL03-2",18.489000000000001,21,15.5321,20,0.8400724755259884,{"$f":"[1]!AgePb76($F$13)","v":4991.2407390657509},0.70316400000000001,6]
["PL05-5",18.412400000000002,18,15.517799999999999,18,0.84279072798766042,{"$f":"[1]!AgePb76($F$14)","v":4995.8271205899564},0.703098,5,0.51302199999999998,8,7.5]
["DR06-2",18.541399999999999,11,15.5349,11,0.83784935333901434,{"$f":"[1]!AgePb76($F$15)","v":4987.4780318687817},0.70321800000000001,6,0.51301399999999997,11,7.3]
["DR06-1",18.423200000000001,8,15.5212,8,0.84248121933214637,{"$f":"[1]!AgePb76($F$16)","v":4995.3056943875008},0.70321400000000001,10,0.51302300000000001,9,7.5]
["PL18-7",18.449100000000001,20,15.523199999999999,23,0.84140689789745826,{"$f":"[1]!AgePb76($F$17)","v":4993.4942151461473},0.51301300000000005,11,7.3]
["DR05-1",18.389299999999999,22,15.5198,24,0.84395817132789186,{"$f":"[1]!AgePb76($F$18)","v":4997.7920718284931},0.70331100000000002,21,0.51302300000000001,10,7.5]
["DR05-1va",18.388100000000001,10,15.5191,11,0.8439751795998498,{"$f":"[1]!AgePb76($F$19)","v":4997.8206775051722},0.70334300000000005,5,0.51301600000000003,8,7.4]
["PL12-5",18.304300000000001,10,15.5029,10,0.84695399441661245,{"$f":"[1]!AgePb76($F$20)","v":5002.8212296668571},0.70314399999999999,3,0.51302700000000001,9,7.4]
["PL11-2",18.3855,18,15.5128,20,0.84375186967991078,{"$f":"[1]!AgePb76($F$21)","v":4997.4450508152668},0.70330300000000001,5,0.51303699999999997,14,7.8]
["PL11-1",18.385300000000001,9,15.511699999999999,10,0.84370121782075891,{"$f":"[1]!AgePb76($F$22)","v":4997.3598352928475},0.70329799999999998,10,0.51300699999999999,7,7.2]
["PL17-7",18.287299999999998,10,15.51,10,0.84812957626330843,{"$f":"[1]!AgePb76($F$23)","v":5004.7895461224489},0.70323800000000003,4,0.51304499999999997,10,7.9]
["DR02-3",18.3748,13,15.518700000000001,13,0.84456429457735593,{"$f":"[1]!AgePb76($F$24)","v":4998.8111136512534},0.70326599999999995,10,0.51302899999999996,10,7.6]
["DR02-2",18.368300000000001,10,15.5159,11,0.84471072445463102,{"$f":"[1]!AgePb76($F$25)","v":4999.0571816719921},0.70327399999999995,5,0.51300699999999999,10,7.5]
["DR03-1_vc",18.425999999999998,12,15.520899999999999,12,0.84233691522848153,{"$f":"[1]!AgePb76($F$26)","v":4995.0625171131624},0.70323199999999997,10]
["DR03-2",18.4222,12,15.519500000000001,11,0.8424346712119074,{"$f":"[1]!AgePb76($F$27)","v":4995.2272576209498},0.70331900000000003,8,0.513015,10,7.4]
["DR03-1",18.336600000000001,19,15.5075,20,0.84571294569331279,{"$f":"[1]!AgePb76($F$28)","v":5000.7401484764168},60,0.70314399999999999,12,0.51305699999999999,11,8.1999999999999993]
["DR10-1",18.703099999999999,13,15.5717,13,0.8325732097887516,{"$f":"[1]!AgePb76($F$29)","v":4978.5053532104221},0.70394500000000004,3,0.51290800000000003,4,5.3]
["DR07-1",18.7927,26,15.5793,27,0.82900807228338658,{"$f":"[1]!AgePb76($F$30)","v":4972.4081556310575},0.70361200000000002,5,0.51293100000000003,4,5.7]
["DR07-1",18.790900000000001,6,15.576700000000001,38.691099999999999,0.82894911898844659,{"$f":"[1]!AgePb76($F$31)","v":4972.307097977794}]
["DR09-1",18.7041,19,15.5708,16,0.83248057912436313,{"$f":"[1]!AgePb76($F$32)","v":4978.3472850427734},0.70387299999999997,5,0.51290599999999997,14,5.2]
["DR04-4",18.583200000000001,16,15.5517,16,0.83686878470876913,{"$f":"[1]!AgePb76($F$33)","v":4985.8150146121698},0.70383799999999996,3,0.51293500000000003,4,5.8]
["DR08-1",18.746500000000001,15,15.5716,16,0.83064038620542502,{"$f":"[1]!AgePb76($F$34)","v":4975.2032361999709},0.70397299999999996,4]
["18DS2",18.832599999999999,10,15.601100000000001,null,0.82840924779371949,{"$f":"[1]!AgePb76($F$35)","v":4971.3812961060894},0.51285000000000003,4.0999999999999996]
["18DS4",18.939599999999999,13,15.6058,null,0.82397727512724672,{"$f":"[1]!AgePb76($F$36)","v":4963.7567668034944},0.51284799999999997,4.0999999999999996]
["25DS9-1",19.004100000000001,11,15.6066,null,0.82122278876663457,{"$f":"[1]!AgePb76($F$37)","v":4958.9960953245472}]
["17DS2",18.930900000000001,8,15.604900000000001,null,0.82430840583384835,{"$f":"[1]!AgePb76($F$38)","v":4964.3279316418029},0.51283199999999995,3.8]
[null,null,null,null,null,"AVG",{"$f":"AVERAGE(G3:G38)","v":4987.9288966174563}]
[null,null,null,null,null,"MAX",{"$f":"MAX(G3:G38)","v":5004.7895461224489}]
[null,null,null,null,null,"MIN",{"$f":"MIN(G3:G38)","v":4958.9960953245472}]
[null,null,null,null,null,"STD DEV",{"$f":"STDEV(G3:G38)","v":11.719882866405143}]

{"sheet":"Pb_207_13","index":12,"n_rows":89,"n_cols":15,"rows_kept":89,"cut":false,"hidden":false,"merged":[[74,0,74,1]]}
["Samplea Locality/area",null,"Formation","Type/microband","206Pb/204Pb","±2σb","207Pb/204Pb","±2σb","207Pb/206Pb","207Pb/206Pb","r1c","r2d",null,null,5250.0325537363497]
["Northern Black Hills (South Dakota)\nNeoarchean (2.90?–2.56 Ga)",null,null,null,null,null,null,null,"Ratio","Age",null,null,null,null,5209.3745544839239]
["N-1A-89","DeadmanMtn./Nemo","NemoIronFm.","BulkBIF",21.074999999999999,1.2999999999999999E-2,15.884,1.2E-2,{"$f":"(G3/E3)","v":0.75368920521945437},{"$f":"[1]!AgePb76($I$3)","v":4836.6420475587074},0.96399999999999997,0.93799999999999994,null,null,5208.9111266114469]
["N-1A-89","DeadmanMtn./Nemo","NemoIronFm.","BulkBIF",21.097999999999999,4.1000000000000002E-2,15.904999999999999,3.2000000000000001E-2,{"$f":"(G4/E4)","v":0.75386292539577215},{"$f":"[1]!AgePb76($I$4)","v":4836.971563941499},0.98499999999999999,0.95099999999999996,null,null,5189.9116117594604]
["BH-RF-3B1","DeadmanMtn./Nemo","NemoIronFm.","OxideBIF/Si",20.247,0.01,15.943,0.01,0.78742529757494939,{"$f":"[1]!AgePb76($I$5)","v":4899.1603850118636},0.96799999999999997,0.93600000000000005,null,null,5182.772774991352]
["BH-RF-3B2","DeadmanMtn./Nemo","NemoIronFm.","OxideBIF/Si",19.187000000000001,1.2E-2,15.833,1.0999999999999999E-2,0.825194141866889,{"$f":"[1]!AgePb76($I$6)","v":4965.8545329827912},0.96799999999999997,0.92700000000000005,null,null,5170.4555011718558]
["BH-RF-3B3","DeadmanMtn./Nemo","NemoIronFm.","OxideBIF/Fe",19.779,1.0999999999999999E-2,15.879,1.0999999999999999E-2,0.80282117397239494,{"$f":"[1]!AgePb76($I$7)","v":4926.7497190225704},0.96499999999999997,0.93500000000000005,null,null,5166.4000739175199]
["P-1D-89","Piedmont/Nemo","NemoIronFm.","BulkBIF",15.023,8.9999999999999993E-3,15.159000000000001,1.0999999999999999E-2,1.0090527857285496,{"$f":"[1]!AgePb76($I$8)","v":5250.0325537363497},0.96199999999999997,0.93,null,null,5164.3738547914445]
["NQBIF-1","Piedmont/Nemo","NemoIronFm.","BulkBIF",16.170000000000002,1.9E-2,15.419,0.02,0.95355596784168206,{"$f":"[1]!AgePb76($I$9)","v":5170.4555011718558},0.96899999999999997,0.95799999999999996,null,null,5164.0118445374765]
["NQ-BIF-2B1","Piedmont/Nemo","NemoIronFm.","OxideBIF/Fe",18.704999999999998,1.2999999999999999E-2,15.714,1.2E-2,0.84009623095429042,{"$f":"[1]!AgePb76($I$10)","v":4991.2808887559977},0.96799999999999997,0.92900000000000005,null,null,5145.6107635763283]
["NQ-BIF-2B2","Piedmont/Nemo","NemoIronFm.","OxideBIF/Fe",19.994,2.8000000000000001E-2,15.852,2.3E-2,0.79283785135540663,{"$f":"[1]!AgePb76($I$11)","v":4908.9245922402897},0.98099999999999998,0.97099999999999997,null,null,5140.7382751088271]
["NQ-BIF-2B3","Piedmont/Nemo","NemoIronFm.","OxideBIF/Si",18.818000000000001,2.3E-2,15.750999999999999,0.02,0.83701774896375802,{"$f":"[1]!AgePb76($I$12)","v":4986.0677872029955},0.98,0.95499999999999996,null,null,5136.892096625711]
["NQ-CR-2","Piedmont/Nemo","Unnamed","Mafic phyllite",16.260999999999999,1.2999999999999999E-2,15.439,1.2999999999999999E-2,0.94944960334542772,{"$f":"[1]!AgePb76($I$13)","v":5164.3738547914445},0.96899999999999997,0.94,null,null,5121.0262336397827]
["NQ-CR-2 r","Piedmont/Nemo","Unnamed","Mafic phyllite",16.245000000000001,8.0000000000000002E-3,15.446,0.01,0.95081563558017845,{"$f":"[1]!AgePb76($I$14)","v":5166.4000739175199},0.95599999999999996,0.92900000000000005,null,null,5095.814327739763]
["N-7-89B1","Nemo","BenchmarkIronFm.","OxideBIF",40.646999999999998,0.04,18.207999999999998,1.9E-2,0.44795433857357242,{"$f":"[1]!AgePb76($I$15)","v":4078.4290496418544},0.96899999999999997,0.92800000000000005,null,null,5086.9526073214902]
["N-7-89B2","Nemo","BenchmarkIronFm.","OxideBIF",43.341999999999999,3.6999999999999998E-2,18.506,1.7000000000000001E-2,0.4269761432328919,{"$f":"[1]!AgePb76($I$16)","v":4006.9057951200225},0.97899999999999998,0.95,null,null,5081.662695157238]
["N-7-89B3","Nemo","BenchmarkIronFm.","OxideBIF",40.65,2.7E-2,18.238,1.4E-2,0.44865928659286591,{"$f":"[1]!AgePb76($I$17)","v":4080.7687419510012},0.96199999999999997,0.90800000000000003,null,null,5059.5843019589793]
["BH-RF-14B1","Nemo","BenchmarkIronFm.","OxideBIF/Si",35.409999999999997,4.1000000000000002E-2,17.405000000000001,2.1000000000000001E-2,0.4915278170008473,{"$f":"[1]!AgePb76($I$18)","v":4216.0006106741284},0.98099999999999998,0.96299999999999997,null,null,5038.1505363121669]
["BH-RF-14B1r","Nemo","BenchmarkIronFm.","OxideBIF/Si",34.511000000000003,4.2000000000000003E-2,17.32,2.1999999999999999E-2,0.50186896931413172,{"$f":"[1]!AgePb76($I$19)","v":4246.7079366788439},0.97199999999999998,0.95799999999999996,null,null,5037.3348267146248]
["BH-RF-14B2","Nemo","BenchmarkIronFm.","OxideBIF/Si",21.056999999999999,1.6E-2,15.932,1.4E-2,0.75661300280191868,{"$f":"[1]!AgePb76($I$20)","v":4842.1772152614758},0.93799999999999994,0.82499999999999996,null,null,5032.5220348512412]
["BH-RF-14B3","Nemo","BenchmarkIronFm.","OxideBIF/Fe",38.378,5.0999999999999997E-2,17.850999999999999,2.5000000000000001E-2,0.46513627599145341,{"$f":"[1]!AgePb76($I$21)","v":4134.3439608085546},0.98399999999999999,0.96399999999999997,null,null,5020.3169307372946]
["N-5A-89B1","Nemo","EstesFm.e","OxideBIF/Si",22.853999999999999,2.7E-2,16.273,0.02,0.71204165572766254,{"$f":"[1]!AgePb76($I$22)","v":4755.2128496811411},0.98,0.91,null,null,5016.3055540883825]
["N-5A-89B1 r","Nemo","EstesFm.e","Oxide BIF/Si",22.311,2.5000000000000001E-2,16.170999999999999,1.9E-2,0.72479942629196359,{"$f":"[1]!AgePb76($I$23)","v":4780.6856541012885},0.97499999999999998,0.95899999999999996,null,null,5009.9396528456236]
["N-5A-89B2","Nemo","EstesFm.e","OxideBIF/Fe",30.193999999999999,2.7E-2,16.995000000000001,1.6E-2,0.56286017089487983,{"$f":"[1]!AgePb76($I$24)","v":4414.9312245016927},0.97799999999999998,0.95199999999999996,null,null,5000.2048442431751]
["N-5A-89B2r","Nemo","EstesFm.e","OxideBIF/Fe",28.382999999999999,3.4000000000000002E-2,16.707000000000001,2.1000000000000001E-2,0.5886269950322377,{"$f":"[1]!AgePb76($I$25)","v":4480.1731805096997},0.97499999999999998,0.95899999999999996,null,null,4991.2808887559977]
["N-5A-89B3","Nemo","EstesFm.e","OxideBIF/Fe",26.164000000000001,2.1000000000000001E-2,16.597999999999999,1.4999999999999999E-2,0.63438312184681234,{"$f":"[1]!AgePb76($I$26)","v":4588.7948348227619},0.96599999999999997,0.91700000000000004,null,null,4986.0677872029955]
["N-5A-89 B3 r","Nemo","Estes Fm.e","Oxide BIF/Fe",25.401,0.04,16.484999999999999,2.7E-2,0.64899019723632922,{"$f":"[1]!AgePb76($I$27)","v":4621.707749086866},0.98799999999999999,0.97799999999999998,null,null,4965.8545329827912]
["N-5A-89B4","Nemo","EstesFm.e","OxideBIF/Si",23.02,2.1000000000000001E-2,16.359000000000002,1.6E-2,0.71064291920069511,{"$f":"[1]!AgePb76($I$28)","v":4752.3904519875578},0.97499999999999998,0.93600000000000005,null,null,4965.6619267242686]
["N-5A-89B4r","Nemo","EstesFm.e","OxideBIF/Si",22.599,0.02,16.279,1.6E-2,0.72034160803575376,{"$f":"[1]!AgePb76($I$29)","v":4771.839756102162},0.96199999999999997,0.93300000000000005,null,null,4930.2720383125306]
["N-3A-89B1","Nemo","EstesFm.e","OxideBIF/Si",21.033000000000001,1.9E-2,16.128,1.6E-2,0.76679503637141633,{"$f":"[1]!AgePb76($I$30)","v":4861.2768358381527},0.95899999999999996,0.93100000000000005,null,null,4926.7497190225704]
["N-3A-89B2","Nemo","EstesFm.e","OxideBIF/Fe",25.013000000000002,2.5999999999999999E-2,16.486999999999998,1.7999999999999999E-2,0.65913724863071188,{"$f":"[1]!AgePb76($I$31)","v":4644.1072380723681},0.97499999999999998,0.95,null,null,4916.8258035186645]
["N-3A-89B3","Nemo","EstesFm.e","OxideBIF/Si",22.823,3.1E-2,16.251999999999999,2.3E-2,0.71208868246943868,{"$f":"[1]!AgePb76($I$32)","v":4755.3076382125664},0.97799999999999998,0.91700000000000004,null,null,4908.9245922402897]
["N-3A-89B4","Nemo","EstesFm.e","OxideBIF/Fe",20.388000000000002,3.1E-2,16.04,2.5999999999999999E-2,0.78673729644889134,{"$f":"[1]!AgePb76($I$33)","v":4897.9141200825688},0.96699999999999997,0.95,null,null,4899.1603850118636]
["N-3A-89B5","Nemo","EstesFm.e","OxideBIF/Si",24.597999999999999,0.02,16.436,1.4999999999999999E-2,0.66818440523619804,{"$f":"[1]!AgePb76($I$34)","v":4663.7694089883717},0.95699999999999996,0.93799999999999994,null,null,4897.9141200825688]
["BH-RF-11 B1","Nemo","EstesFm.e","Oxide BIF/Si",21.228999999999999,1.7000000000000001E-2,16.23,1.4999999999999999E-2,0.76452023175844364,{"$f":"[1]!AgePb76($I$35)","v":4857.0332663510262},0.95799999999999996,0.89800000000000002,null,null,4883.4060281467418]
["BH-RF-11 B2","Nemo","EstesFm.e","Oxide BIF/Si",21.428000000000001,1.7999999999999999E-2,16.385000000000002,1.6E-2,0.76465372409930932,{"$f":"[1]!AgePb76($I$36)","v":4857.2826631219132},0.91900000000000004,0.77900000000000003,null,null,4877.4626515876143]
["BH-RF-11 B3","Nemo","EstesFm.e","Oxide BIF/Fe",23.995000000000001,1.7000000000000001E-2,16.648,1.4E-2,0.69381121066888929,{"$f":"[1]!AgePb76($I$37)","v":4717.9539829413488},0.96,0.93400000000000005,null,null,4871.2561334052671]
["BM-BIF-2B1","Nemo","EstesFm.e","OxideBIF/Si",20.994,1.4999999999999999E-2,16.210999999999999,1.2999999999999999E-2,0.77217300181004089,{"$f":"[1]!AgePb76($I$38)","v":4871.2561334052671},0.96099999999999997,0.93500000000000005,null,null,4861.2768358381527]
["BM-BIF-2B2","Nemo","EstesFm.e","OxideBIF/Fe",22.152000000000001,1.7999999999999999E-2,16.324000000000002,1.4999999999999999E-2,0.73690863127482853,{"$f":"[1]!AgePb76($I$39)","v":4804.4245343578687},0.96799999999999997,0.93700000000000006,null,null,4857.2826631219132]
["N-2A-89B1","Roubaix/Nemo","UnnamedIronFm.","SilicateBIF",24.140999999999998,1.7000000000000001E-2,16.126999999999999,1.2E-2,0.66803363572345797,{"$f":"[1]!AgePb76($I$40)","v":4663.4440830076073},0.96399999999999997,0.97599999999999998,null,null,4857.0332663510262]
["N-2A-89B2","Roubaix/Nemo","Unnamedironfm.","SilicateBIF",24.977,1.6E-2,16.241,1.2E-2,0.65023821916162872,{"$f":"[1]!AgePb76($I$41)","v":4624.4829069644966},0.96899999999999997,0.93200000000000005,null,null,4842.1772152614758]
["N-2A-89B3","Roubaix/Nemo","Unnamedironfm.","SilicateBIF",30.486999999999998,2.5999999999999999E-2,16.779,1.6E-2,0.55036572965526298,{"$f":"[1]!AgePb76($I$42)","v":4382.1266598871944},0.97299999999999998,0.92700000000000005,null,null,4836.971563941499]
["N-2A-89B4","Roubaix/Nemo","Unnamedironfm.","SilicateBIF",28.902999999999999,6.6000000000000003E-2,16.620999999999999,3.9E-2,0.57506141231014074,{"$f":"[1]!AgePb76($I$43)","v":4446.2171945142754},0.98699999999999999,0.97299999999999998,null,null,4836.6420475587074]
["N-8B-89B1","Roubaix/Nemo","Unnamedironfm.","SilicateBIF",21.541,1.6E-2,16.109000000000002,1.2999999999999999E-2,0.74782972006870629,{"$f":"[1]!AgePb76($I$44)","v":4825.4799560397205},0.96099999999999997,0.93200000000000005,null,null,4825.4799560397205]
["N-8B-89B2","Roubaix/Nemo","Unnamedironfm.","SilicateBIF",21.635000000000002,1.4999999999999999E-2,16.129000000000001,1.2999999999999999E-2,0.74550496880055461,{"$f":"[1]!AgePb76($I$45)","v":4821.0255289600127},0.96,0.92600000000000005,null,null,4821.0255289600127]
["N-8B-89B3","Roubaix/Nemo","Unnamedironfm.","SilicateBIF",22.15,1.2999999999999999E-2,16.163,1.2E-2,0.72970654627539511,{"$f":"[1]!AgePb76($I$46)","v":4790.3562148961528},0.96799999999999997,0.93700000000000006,null,null,4804.4245343578687]
["N-8B-89B4","Roubaix/Nemo","Unnamedironfm.","SilicateBIF",22.446999999999999,1.2999999999999999E-2,16.170999999999999,1.0999999999999999E-2,0.72040807234819793,{"$f":"[1]!AgePb76($I$47)","v":4771.9720737606895},0.96199999999999997,0.91600000000000004,null,null,4790.3562148961528]
["N-8B-89B5","Roubaix/Nemo","Unnamedironfm.","SilicateBIF",23.373000000000001,1.9E-2,16.216000000000001,1.4999999999999999E-2,0.6937919822016857,{"$f":"[1]!AgePb76($I$48)","v":4717.9141341024479},0.96199999999999997,0.94099999999999995,null,null,4780.6856541012885]
["PD-8C-89B1","PactolaDam","eq.toHayCreekgrst.","SulfideBIF",19.757999999999999,1.2E-2,15.752000000000001,1.0999999999999999E-2,0.79724668488713435,{"$f":"[1]!AgePb76($I$49)","v":4916.8258035186645},0.95099999999999996,0.93400000000000005,null,null,4771.9720737606895]
["PD-8C-89B2","PactolaDam","eq.toHayCreekgrst.","SulfideBIF",20.277999999999999,1.9E-2,15.792,1.6E-2,0.77877502712299052,{"$f":"[1]!AgePb76($I$50)","v":4883.4060281467418},0.96599999999999997,0.94499999999999995,null,null,4771.839756102162]
["PD-8C-89B3","PactolaDam","eq.toHayCreekgrst.","SulfideBIF",20.538,3.5999999999999997E-2,15.928000000000001,2.9000000000000001E-2,0.77553802707176944,{"$f":"[1]!AgePb76($I$51)","v":4877.4626515876143},0.97899999999999998,0.93899999999999995,null,null,4755.3076382125664]
["25L88-1 B 3020B1","Lead,HomestakeMine","HomestakeIronFm.","SilicateBIF",16.61,0.01,15.465999999999999,1.0999999999999999E-2,0.93112582781456954,{"$f":"[1]!AgePb76($I$52)","v":5136.892096625711},0.96799999999999997,0.93100000000000005,null,null,4755.2128496811411]
["25L88-1 B 3020B2","Lead,HomestakeMine","HomestakeIronFm.","SilicateBIF",16.513000000000002,8.9999999999999993E-3,15.471,1.0999999999999999E-2,0.93689820141706526,{"$f":"[1]!AgePb76($I$53)","v":5145.6107635763283},0.97,0.93600000000000005,null,null,4752.3904519875578]
["25L88-1 B 3020B3","Lead,HomestakeMine","HomestakeIronFm.","SilicateBIF",16.553000000000001,8.9999999999999993E-3,15.455,0.01,0.93366761312148849,{"$f":"[1]!AgePb76($I$54)","v":5140.7382751088271},0.94399999999999995,0.872,null,null,4717.9539829413488]
["25L88-1 B 3020 B4","Lead, Homestake Mine","Homestake Iron Fm.","Silicate BIF",16.242000000000001,8.0000000000000002E-3,15.417,0.01,0.94920576283708902,{"$f":"[1]!AgePb76($I$55)","v":5164.0118445374765},0.95599999999999996,0.93600000000000005,null,null,4717.9141341024479]
["25L88-1 B 3020B5","Lead,HomestakeMine","HomestakeIronFm.","SilicateBIF",17.298999999999999,1.0999999999999999E-2,15.548,1.0999999999999999E-2,0.89878027631655011,{"$f":"[1]!AgePb76($I$56)","v":5086.9526073214902},0.96399999999999997,0.92300000000000004,null,null,4696.5286670045325]
["19600-2845B1","Lead,HomestakeMine","HomestakeIronFm.","SilicateBIF",28.207999999999998,0.05,16.581,0.03,0.58781196823596149,{"$f":"[1]!AgePb76($I$57)","v":4478.1569754036364},0.98599999999999999,0.97799999999999998,null,null,4663.7694089883717]
["19600-2845B1 r","Lead,HomestakeMine","HomestakeIronFm.","SilicateBIF",24.49,1.7999999999999999E-2,16.22,1.4E-2,0.66231114740710495,{"$f":"[1]!AgePb76($I$58)","v":4651.0378013451036},0.94599999999999995,0.92500000000000004,null,null,4663.4440830076073]
["19600-2845B2","Lead,HomestakeMine","HomestakeIronFm.","SilicateBIF",38.094999999999999,0.10199999999999999,17.462,4.8000000000000001E-2,0.45838036487728051,{"$f":"[1]!AgePb76($I$59)","v":4112.6305920433306},0.98799999999999999,0.98799999999999999,null,null,4661.4702860399439]
["19600-2845B2r","Lead,HomestakeMine","HomestakeIronFm.","SilicateBIF",35.883000000000003,3.6999999999999998E-2,17.099,1.9E-2,0.47652091519661116,{"$f":"[1]!AgePb76($I$60)","v":4170.1699651989366},0.96499999999999997,0.95099999999999996,null,null,4651.0378013451036]
["19600-2845B3","Lead,HomestakeMine","HomestakeIronFm.","SilicateBIF",23.587,0.10199999999999999,16.123000000000001,7.0000000000000007E-2,0.68355450036036802,{"$f":"[1]!AgePb76($I$61)","v":4696.5286670045325},0.99299999999999999,0.99299999999999999,null,null,4644.1072380723681]
["19600-2845B3r","Lead,HomestakeMine","HomestakeIronFm.","SilicateBIF",27.184000000000001,0.03,16.443000000000001,1.9E-2,0.60487786933490295,{"$f":"[1]!AgePb76($I$62)","v":4519.7592791802663},0.97399999999999998,0.95099999999999996,null,null,4624.4829069644966]
["19600-2845B4","Lead,HomestakeMine","HomestakeIronFm.","Metatuff",15.672000000000001,8.9999999999999993E-3,15.363,1.0999999999999999E-2,0.98028330781010709,{"$f":"[1]!AgePb76($I$63)","v":5209.3745544839239},0.95399999999999996,0.91700000000000004,null,null,4621.707749086866]
["19600-2845B4r","Lead,HomestakeMine","HomestakeIronFm.","Metatuff",15.669,6.0000000000000001E-3,15.355,8.0000000000000002E-3,0.97996043142510691,{"$f":"[1]!AgePb76($I$64)","v":5208.9111266114469},0.97099999999999997,0.95599999999999996,null,null,4597.3687560671751]
["19600-2849B1","Lead,HomestakeMine","HomestakeIronFm.","SilicateBIF",33.600999999999999,0.02,17.082999999999998,1.2E-2,{"$f":"(G65/E65)","v":0.50840748787238477},{"$f":"[1]!AgePb76($I$65)","v":4265.7720167877178},0.95899999999999996,0.92800000000000005,null,null,4588.7948348227619]
["19600-2849B3","Lead,HomestakeMine","HomestakeIronFm.","SilicateBIF",18.22,0.01,15.622999999999999,0.01,0.85746432491767288,{"$f":"[1]!AgePb76($I$66)","v":5020.3169307372946},0.96,0.92900000000000005,null,null,4519.7592791802663]
["19600-2849B4","Lead,HomestakeMine","HomestakeIronFm.","SilicateBIF",15.913,7.0000000000000001E-3,15.385,8.0000000000000002E-3,0.96681958147426628,{"$f":"[1]!AgePb76($I$67)","v":5189.9116117594604},0.97,0.94299999999999995,null,null,4480.1731805096997]
["19600-2960","Lead,HomestakeMine","HomestakeIronFm.","SilicateBIF/bulk",39.624000000000002,0.112,17.637,0.05,0.44510902483343429,{"$f":"[1]!AgePb76($I$68)","v":4068.9446613133},0.99399999999999999,0.99099999999999999,null,null,4478.1569754036364]
["19600-2960B1","Lead,HomestakeMine","HomestakeIronFm.","SilicateBIF",24.282,0.02,16.199000000000002,1.4999999999999999E-2,0.66711967712709008,{"$f":"[1]!AgePb76($I$69)","v":4661.4702860399439},0.97199999999999998,0.94399999999999995,null,null,4446.2171945142754]
["19600-2960B2","Lead,HomestakeMine","HomestakeIronFm.","SilicateBIF",30.038,0.23799999999999999,16.722000000000001,0.13300000000000001,0.55669485318596446,{"$f":"[1]!AgePb76($I$70)","v":4398.8432041243705},0.995,0.997,null,null,4434.7995268519198]
["19600-2960B3","Lead,HomestakeMine","HomestakeIronFm.","SilicateBIF",25.591000000000001,2.1000000000000001E-2,16.331,1.4999999999999999E-2,0.63815403852917041,{"$f":"[1]!AgePb76($I$71)","v":4597.3687560671751},0.97199999999999998,0.93200000000000005,null,null,4414.9312245016927]
["19600-2960B4","Lead,HomestakeMine","HomestakeIronFm.","SilicateBIF",29.152999999999999,3.3000000000000002E-2,16.634,0.02,0.57057592700579707,{"$f":"[1]!AgePb76($I$72)","v":4434.7995268519198},0.97899999999999998,0.94899999999999995,null,null,4398.8432041243705]
["19600-2964","Lead,HomestakeMine","HomestakeIronFm.","SilicateBIF/bulk",15.997,7.0000000000000001E-3,15.388,8.9999999999999993E-3,0.9619303619428643,{"$f":"[1]!AgePb76($I$73)","v":5182.772774991352},0.97,0.94699999999999995,null,null,4382.1266598871944]
["PM-YM-1","Lead,HomestakeMine","PoormanFm.","Metabasalt",18.628,1.4999999999999999E-2,15.747999999999999,1.4E-2,0.84539403049173278,{"$f":"[1]!AgePb76($I$74)","v":5000.2048442431751},0.96699999999999997,0.94199999999999995,null,null,4265.7720167877178]
["Rochford",null,"RochfordIronFm.","SilicateBIF",18.456,1.2E-2,15.71,1.2E-2,0.85121369744256614,{"$f":"[1]!AgePb76($I$75)","v":5009.9396528456236},0.96699999999999997,0.93500000000000005,null,null,4246.7079366788439]
["R-3-89B2","Rochford","RochfordIronFm.","SilicateBIF",18.042999999999999,7.0000000000000001E-3,15.605,7.0000000000000001E-3,0.86487834617303117,{"$f":"[1]!AgePb76($I$76)","v":5032.5220348512412},0.94899999999999995,0.96199999999999997,null,null,4216.0006106741284]
["R-3-89B3","Rochford","RochfordIronFm.","SilicateBIF",18.021000000000001,0.01,15.648,1.0999999999999999E-2,0.86832029299150981,{"$f":"[1]!AgePb76($I$77)","v":5038.1505363121669},0.95899999999999996,0.93500000000000005,null,null,4170.1699651989366]
["RF-BIF-1 B1","Rochford","Rochford Iron Fm.","Silicate BIF",19.626999999999999,1.9E-2,15.795999999999999,1.6E-2,0.80480970092219906,{"$f":"[1]!AgePb76($I$78)","v":4930.2720383125306},0.97099999999999997,0.95299999999999996,null,null,4134.3439608085546]
["RF-BIF-2(D.C.)","Rochford","RochfordIronFm.","SilicateBIF/bulk",19.129000000000001,1.4999999999999999E-2,15.782999999999999,1.4E-2,0.8250823357206335,{"$f":"[1]!AgePb76($I$79)","v":4965.6619267242686},0.96599999999999997,0.94099999999999995,null,null,4112.6305920433306]
["RF-BIF-3","Rochford","Rochford Iron Fm.","Metachert",17.375,1.9E-2,15.558,1.9E-2,0.89542446043165469,{"$f":"[1]!AgePb76($I$80)","v":5081.662695157238},0.97199999999999998,0.95699999999999996,null,null,4080.7687419510012]
["RC-GRST-1","Rochford","Rapid Creek grst.","Metabasalt/bulk",18.295000000000002,5.8000000000000003E-2,15.643000000000001,0.05,0.85504236130090183,{"$f":"[1]!AgePb76($I$81)","v":5016.3055540883825},0.99,0.98799999999999999,null,null,4078.4290496418544]
["SP-6","AtlanticCity","SouthPassgrst.","OxideBIF/bulk",17.968,8.9999999999999993E-3,15.593,8.9999999999999993E-3,0.86782056990204803,{"$f":"[1]!AgePb76($I$82)","v":5037.3348267146248},0.96099999999999997,0.94299999999999995,null,null,4068.9446613133]
["SP-6B1","AtlanticCity","SouthPassgrst.","OxideBIF/Fe",17.170999999999999,8.9999999999999993E-3,15.53,0.01,0.90443189097897614,{"$f":"[1]!AgePb76($I$83)","v":5095.814327739763},0.95699999999999996,0.93600000000000005,null,null,4006.9057951200225]
["SP-6B2","AtlanticCity","SouthPassgrst.","OxideBIF/Si",16.826000000000001,0.01,15.492000000000001,1.0999999999999999E-2,0.92071793652680378,{"$f":"[1]!AgePb76($I$84)","v":5121.0262336397827},0.96399999999999997,0.93100000000000005]
["SP-6B3","AtlanticCity","SouthPassgrst.","OxideBIF/Fe",17.756,8.9999999999999993E-3,15.653,0.01,0.88156116242396942,{"$f":"[1]!AgePb76($I$85)","v":5059.5843019589793},0.96799999999999997,0.93500000000000005]
[null,null,null,null,null,null,null,null,"AVG",{"$f":"AVERAGE(J1:J85)","v":4776.5599380448348}]
[null,null,null,null,null,null,null,null,"MAX",{"$f":"MAX(J1:J85)","v":5250.0325537363497}]
[null,null,null,null,null,null,null,null,"MIN",{"$f":"MIN(J1:J85)","v":4006.9057951200225}]
[null,null,null,null,null,null,null,null,"STD DEV",{"$f":"STDEV(J1:J85)","v":320.76498414778825}]

{"sheet":"Pb_207_14","index":13,"n_rows":49,"n_cols":5,"rows_kept":49,"cut":false,"hidden":false,"merged":[]}
["Sample","206Pb/204Pb","207Pb/204Pb","207Pb/206Pb","207Pb/206Pb"]
["Name","Ratio","Ratio","Ratio","Age"]
["C1-1/L1",17.716999999999999,15.868,{"$f":"(C3/B3)","v":0.89563695885307903},{"$f":"[1]!AgePb76($D$3)","v":5081.998288210475}]
["C1-2/L1",17.513000000000002,15.843,{"$f":"(C4/B4)","v":0.90464226574544615},{"$f":"[1]!AgePb76($D$4)","v":5096.1430607396205}]
["C1-3/L1",18.321999999999999,15.962999999999999,0.8712476803842375,{"$f":"[1]!AgePb76($D$5)","v":5042.9189926826939}]
["C1-4/L1",17.760000000000002,15.888,0.89459459459459456,{"$f":"[1]!AgePb76($D$6)","v":5080.3513009375811}]
["C1-5/L1",18.213999999999999,15.951000000000001,0.87575491380256953,{"$f":"[1]!AgePb76($D$7)","v":5050.2277358478232}]
["C1-1/L2",19.117000000000001,16.09,0.84165925615943915,{"$f":"[1]!AgePb76($D$8)","v":4993.9199526022003}]
["C1-2/L2",19.376999999999999,16.12,0.83191412499354911,{"$f":"[1]!AgePb76($D$9)","v":4977.3802612951704}]
["C1-3/L2",19.914000000000001,16.216999999999999,0.81435171236316151,{"$f":"[1]!AgePb76($D$10)","v":4947.046193644258}]
["C1-5/L2",20.068999999999999,16.241,0.80925805969405551,{"$f":"[1]!AgePb76($D$11)","v":4938.1181008599906}]
["C1-C1/L2",15.500999999999999,15.481999999999999,0.99877427262757246,{"$f":"[1]!AgePb76($D$12)","v":5235.6489455416495}]
["C1-C2/L1",15.308,15.430999999999999,1.0080350143715704,{"$f":"[1]!AgePb76($D$13)","v":5248.6152217865729}]
["C1-1/R",19.001999999999999,16.010000000000002,0.84254289022208206,{"$f":"[1]!AgePb76($D$14)","v":4995.4096069651341}]
["C1-3/R",19.190999999999999,16.036000000000001,0.8356000208431037,{"$f":"[1]!AgePb76($D$15)","v":4983.6601508144595}]
["C2-1/L1",17.427,15.831,0.90841797211223962,{"$f":"[1]!AgePb76($D$16)","v":5102.0292648824925}]
["C2-2/L1",17.231999999999999,15.792999999999999,0.9164925719591458,{"$f":"[1]!AgePb76($D$17)","v":5114.5307544623656}]
["C2-3/L1",17.632999999999999,15.866,0.89979016616571206,{"$f":"[1]!AgePb76($D$18)","v":5088.5404400592051}]
["C2-5/L1",18.338999999999999,15.988,0.87180326081029502,{"$f":"[1]!AgePb76($D$19)","v":5043.822064323017}]
["C2-1/L2",17.867999999999999,15.904,0.89008282963957919,{"$f":"[1]!AgePb76($D$20)","v":5073.1989434703173}]
["C2-2/L2",17.927,15.913,0.88765549171640545,{"$f":"[1]!AgePb76($D$21)","v":5069.3350369974687}]
["C2-4/L2",17.629000000000001,15.779,0.89505927732713131,{"$f":"[1]!AgePb76($D$22)","v":5081.0857739645808}]
["C2-5/L2",18.167999999999999,15.597,0.85848745046235142,{"$f":"[1]!AgePb76($D$23)","v":5022.0078690250384}]
["C2-C1/L1",16.058,15.587,0.97066882550753519,{"$f":"[1]!AgePb76($D$24)","v":5195.5051405315735}]
["C2-C2/L1",17.039000000000001,15.77,0.92552379834497323,{"$f":"[1]!AgePb76($D$25)","v":5128.3758076237991}]
["C2-C1/L2",16.143000000000001,15.592000000000001,0.96586755869417085,{"$f":"[1]!AgePb76($D$26)","v":5188.5245454610895}]
["C2-5/R2",18.681999999999999,16.036000000000001,0.85836634193341199,{"$f":"[1]!AgePb76($D$27)","v":5021.8078224244437}]
["C2-1/31",18.027000000000001,15.893000000000001,0.88162201142730345,{"$f":"[1]!AgePb76($D$28)","v":5059.6820114669035}]
["M-I/L1",17.798999999999999,15.551,0.87370076970616328,{"$f":"[1]!AgePb76($D$29)","v":5046.9017833108246}]
["M-2/L1",14.391,14.951000000000001,1.038913209644917,{"$f":"[1]!AgePb76($D$30)","v":5290.9567552839117}]
["M-3/L1",15.715,15.183,0.96614699331848553,{"$f":"[1]!AgePb76($D$31)","v":5188.9318225666584}]
["M-4/L1",14.269,14.933,1.0465344453010021,{"$f":"[1]!AgePb76($D$32)","v":5301.2028851175919}]
["M-S/L1",19.321999999999999,15.885,0.82211986336818133,{"$f":"[1]!AgePb76($D$33)","v":4960.5484012857441}]
["M-6/L1",19.398,16.033000000000001,0.826528508093618,{"$f":"[1]!AgePb76($D$34)","v":4968.1510806730112}]
["M-1/L2",18.465,15.704000000000001,0.85047386948280534,{"$f":"[1]!AgePb76($D$35)","v":5008.7060391700388}]
["M-2/L2",14.71,15.032999999999999,1.0219578518014956,{"$f":"[1]!AgePb76($D$36)","v":5267.8740525746589}]
["M-3/L2",16.547999999999998,15.367000000000001,0.92863185883490462,{"$f":"[1]!AgePb76($D$37)","v":5133.1074490019573}]
["M-4/L2",14.475,14.986000000000001,1.0353022452504319,{"$f":"[1]!AgePb76($D$38)","v":5286.0743650753711}]
["M-5/L2",19.542000000000002,15.536,0.79500562890185233,{"$f":"[1]!AgePb76($D$39)","v":4912.8153633046722}]
["M-6/L2",14.552,15.01,1.0314733369983509,{"$f":"[1]!AgePb76($D$40)","v":5280.8776102027532}]
["M-7/L2",19.651,15.98,0.81319016843926517,{"$f":"[1]!AgePb76($D$41)","v":4945.0154915567518}]
["M-C2/L1",15.545,15.206,0.97819234480540362,{"$f":"[1]!AgePb76($D$42)","v":5206.3705064527212}]
["M-C2/L1",14.064,14.904,1.0597269624573378,{"$f":"[1]!AgePb76($D$43)","v":5318.7543457677339}]
["M-4/R",14.43,14.956,1.0364518364518365,{"$f":"[1]!AgePb76($D$44)","v":5287.6306775459489}]
["M-5/R",20.911999999999999,16.163,0.77290550879877584,{"$f":"[1]!AgePb76($D$45)","v":4872.6096336368264}]
[null,null,null,"AVG",{"$f":"AVERAGE(E3:E45)","v":5096.195617422025}]
[null,null,null,"MAX",{"$f":"MAX(E3:E45)","v":5318.7543457677339}]
[null,null,null,"MIN",{"$f":"MIN(E3:E45)","v":4872.6096336368264}]
[null,null,null,"STD DEV",{"$f":"STDEV(E3:E45)","v":121.3407226147263}]

{"sheet":"Pb_207_15","index":14,"n_rows":47,"n_cols":8,"rows_kept":47,"cut":false,"hidden":false,"merged":[]}
["Sample","206Pb/204Pb",null,"207Pb/204Pb",null,"207Pb/206Pb","207Pb/206Pb","Table 3"]
["Name","Ratio",null,"Ratio",null,"Ratio","Age"]
["001A",14.997999999999999,1.6E-2,14.867000000000001,1.7999999999999999E-2,{"$f":"(D3/B3)","v":0.99126550206694242},{"$f":"[1]!AgePb76($F$3)","v":5225.042023375694}]
["001B",16.114000000000001,1.6E-2,15.076000000000001,1.7999999999999999E-2,{"$f":"(D4/B4)","v":0.93558396425468537},{"$f":"[1]!AgePb76($F$4)","v":5143.6307342913751}]
["001C",16.228999999999999,1.6E-2,15.148999999999999,1.7999999999999999E-2,0.93345246164273832,{"$f":"[1]!AgePb76($F$5)","v":5140.4131420781951}]
["001D",16.081,1.6E-2,15.119,1.7999999999999999E-2,0.94017784963621664,{"$f":"[1]!AgePb76($F$6)","v":5150.5390805196057}]
["002A",15.601000000000001,1.6E-2,15.05,1.7999999999999999E-2,0.96468175116979682,{"$f":"[1]!AgePb76($F$7)","v":5186.7948379994559}]
["002B",16.091000000000001,1.6E-2,15.146000000000001,1.7999999999999999E-2,0.94127151824000987,{"$f":"[1]!AgePb76($F$8)","v":5152.1784864623178}]
["002C",15.22,1.6E-2,15.006,1.7999999999999999E-2,0.98593955321944804,{"$f":"[1]!AgePb76($F$9)","v":5217.4669413769816}]
["002D",15.804,1.6E-2,15.074,1.7999999999999999E-2,0.95380916223740819,{"$f":"[1]!AgePb76($F$10)","v":5170.8295817328926}]
["002E",15.077,1.6E-2,14.964,1.7999999999999999E-2,0.99250514027989656,{"$f":"[1]!AgePb76($F$11)","v":5226.7989837664927}]
["003A",13.7,1.4E-2,14.577,1.7999999999999999E-2,1.0640145985401461,{"$f":"[1]!AgePb76($F$12)","v":5324.4090476536057}]
["003B",13.585000000000001,1.4E-2,14.583,1.7999999999999999E-2,1.0734633787265366,{"$f":"[1]!AgePb76($F$13)","v":5336.7860511955123}]
["003C",13.534000000000001,1.4E-2,14.551,1.7999999999999999E-2,1.0751440815723363,{"$f":"[1]!AgePb76($F$14)","v":5338.9755674816242}]
["005A",13.984999999999999,1.4E-2,14.673,1.7999999999999999E-2,1.0491955666785842,{"$f":"[1]!AgePb76($F$15)","v":5304.7620017607096}]
["006A",33.74,3.4000000000000002E-2,18.262,2.1999999999999999E-2,0.54125666864256072,{"$f":"[1]!AgePb76($F$16)","v":4357.7001057116549}]
["006B",34.15,3.4000000000000002E-2,18.303999999999998,2.1999999999999999E-2,0.53598828696925327,{"$f":"[1]!AgePb76($F$17)","v":4343.369205525416}]
["006C",35.648000000000003,3.5999999999999997E-2,18.545000000000002,2.1999999999999999E-2,0.52022553859964094,{"$f":"[1]!AgePb76($F$18)","v":4299.5655659787672}]
["006D",35.029000000000003,3.5999999999999997E-2,18.475999999999999,2.1999999999999999E-2,0.52744868537497491,{"$f":"[1]!AgePb76($F$19)","v":4319.8137484393574}]
["008A",20.120999999999999,0.02,15.82,0.02,0.78624322846777006,{"$f":"[1]!AgePb76($F$20)","v":4897.0184351661965}]
["008B",19.649000000000001,0.02,15.752000000000001,0.02,0.80166929614738658,{"$f":"[1]!AgePb76($F$21)","v":4924.7051253542104}]
["008C",17.422000000000001,1.7999999999999999E-2,15.425000000000001,1.7999999999999999E-2,0.88537481345425328,{"$f":"[1]!AgePb76($F$22)","v":5065.6943621988812}]
["008D",17.86,1.7999999999999999E-2,15.519,1.7999999999999999E-2,0.86892497200447927,{"$f":"[1]!AgePb76($F$23)","v":5039.1369019449176}]
[null,null,null,null,null,"AVG",{"$f":"AVERAGE(G3:G23)","v":5007.8871395244705}]
[null,null,null,null,null,"MAX",{"$f":"MAX(G3:G23)","v":5338.9755674816242}]
[null,null,null,null,null,"MIN",{"$f":"MIN(G3:G23)","v":4299.5655659787672}]
[null,null,null,null,null,"STD DEV",{"$f":"STDEV(G3:G23)","v":356.64095812107126}]
[]
["Sample","206Pb/204Pb",null,"207Pb/204Pb",null,"207Pb/206Pb","207Pb/206Pb","Table 4"]
["Name","Ratio",null,"Ratio",null,"Ratio","Age"]
["#3-A",17.081,1.6E-2,15.614000000000001,1.6E-2,{"$f":"(D31/B31)","v":0.91411509864762019},{"$f":"[1]!AgePb76($F$31)","v":5110.8619972596443}]
["#3-B",17.497,1.7999999999999999E-2,15.694000000000001,0.02,{"$f":"(D32/B32)","v":0.8969537635023147},{"$f":"[1]!AgePb76($F$32)","v":5084.0760016517934}]
["#3-B-Res",22.416,2.1999999999999999E-2,16.36,0.02,0.72983583154889364,{"$f":"[1]!AgePb76($F$33)","v":4790.6100605883348}]
["#2-A",15.956,2.4E-2,15.433,2.5999999999999999E-2,0.96722236149410878,{"$f":"[1]!AgePb76($F$34)","v":5190.4980142143077}]
["#2-B",16.231999999999999,1.6E-2,15.500999999999999,0.02,0.95496550024642679,{"$f":"[1]!AgePb76($F$35)","v":5172.5366714503798}]
["#2-B-Res",16.908999999999999,2.1999999999999999E-2,15.595000000000001,2.8000000000000001E-2,0.9222899047844344,{"$f":"[1]!AgePb76($F$36)","v":5123.4346986260107}]
["#2-C",16.71,1.6E-2,15.558999999999999,0.02,0.93111909036505081,{"$f":"[1]!AgePb76($F$37)","v":5136.8818868816734}]
["#2-C-Res",17.957000000000001,0.03,15.798999999999999,7.1999999999999995E-2,0.87982402405747051,{"$f":"[1]!AgePb76($F$38)","v":5056.7918352755078}]
["#1-A",18.626999999999999,4.8000000000000001E-2,15.875,0.05,0.8522574757073067,{"$f":"[1]!AgePb76($F$39)","v":5011.6781482120168}]
["#1-B",18.675000000000001,1.7999999999999999E-2,15.875999999999999,0.02,0.85012048192771084,{"$f":"[1]!AgePb76($F$40)","v":5008.1163867686537}]
["#1-B-Res",21.802,2.1999999999999999E-2,16.291,0.02,0.74722502522704337,{"$f":"[1]!AgePb76($F$41)","v":4824.3227303371768}]
["#1-C",18.785,1.7999999999999999E-2,15.907999999999999,0.02,0.84684588767633751,{"$f":"[1]!AgePb76($F$42)","v":5002.6400772138695}]
["#1-C-Res",23.221,0.13400000000000001,16.53,0.11,0.71185564790491374,{"$f":"[1]!AgePb76($F$43)","v":4754.8378611042172}]
[null,null,null,null,null,"AVG",{"$f":"AVERAGE(G31:G43)","v":5020.5604899679684}]
[null,null,null,null,null,"MAX",{"$f":"MAX(G31:G43)","v":5190.4980142143077}]
[null,null,null,null,null,"MIN",{"$f":"MIN(G31:G43)","v":4754.8378611042172}]
[null,null,null,null,null,"STD DEV",{"$f":"STDEV(G31:G43)","v":144.95414549613037}]

{"sheet":"Pb_207_16","index":15,"n_rows":57,"n_cols":9,"rows_kept":57,"cut":false,"hidden":false,"merged":[]}
[null,"206Pb/204Pb",null,"207Pb/206Pb",null,"207Pb/206Pb","207Pb/206Pb",null,5122.9908530769999]
[null,"Ratio",null,"Ratio",null,"Ratio","Age",null,5096.7018726281267]
["Q725.1.1",4.9000000000000002E-2,3.0999999999999999E-3,0.79900000000000004,5.8000000000000003E-2,{"$f":"(D3)","v":0.79900000000000004},{"$f":"[1]!AgePb76($F$3)","v":4919.9550602277068},null,5035.9943093610373]
["Q725.1.2",5.1900000000000002E-2,1.6999999999999999E-3,0.84299999999999997,2.3E-2,{"$f":"(D4)","v":0.84299999999999997},{"$f":"[1]!AgePb76($F$4)","v":4996.1795638399935},null,5034.3588457647038]
["Q725.1.3",5.5399999999999998E-2,4.3E-3,0.83599999999999997,0.08,0.83599999999999997,{"$f":"[1]!AgePb76($F$5)","v":4984.3398489641095},null,5024.5037716029565]
["Q727.2.1",2.46E-2,5.1000000000000004E-3,0.54400000000000004,6.0999999999999999E-2,0.54400000000000004,{"$f":"[1]!AgePb76($F$6)","v":4365.1029333847764},null,5021.2025177556479]
["Q727.2.2",1.84E-2,5.0000000000000001E-3,0.433,3.3000000000000002E-2,0.433,{"$f":"[1]!AgePb76($F$7)","v":4027.829019075145},null,5019.5488256079152]
["Q727.5.1",5.4199999999999998E-2,4.4000000000000003E-3,0.80700000000000005,8.3000000000000004E-2,0.80700000000000005,{"$f":"[1]!AgePb76($F$8)","v":4934.1410607906246},null,5017.8930833210652]
["Q727.5.2",5.1799999999999999E-2,2.8E-3,0.81899999999999995,0.05,0.81899999999999995,{"$f":"[1]!AgePb76($F$9)","v":4955.1419803381323},null,5016.2352858800568]
["Q727.6.1",4.53E-2,5.1000000000000004E-3,0.80100000000000005,0.105,0.80100000000000005,{"$f":"[1]!AgePb76($F$10)","v":4923.5156822696072},null,5016.2352858800568]
["Q727.6.2",5.3999999999999999E-2,2.2000000000000001E-3,0.82099999999999995,5.6000000000000001E-2,0.82099999999999995,{"$f":"[1]!AgePb76($F$11)","v":4958.6103001668189},null,5014.5754282515481]
["Q727.6.3",4.7399999999999998E-2,6.3E-3,0.77600000000000002,7.8E-2,0.77600000000000002,{"$f":"[1]!AgePb76($F$12)","v":4878.3124834238133},null,5012.913505383809]
["Q727.7.1",4.7899999999999998E-2,1.4E-3,0.81200000000000006,0.04,0.81200000000000006,{"$f":"[1]!AgePb76($F$13)","v":4942.9315434472674},null,5004.5727343476356]
["Q727.7.2",5.3800000000000001E-2,1.1999999999999999E-3,0.84499999999999997,2.1999999999999999E-2,0.84499999999999997,{"$f":"[1]!AgePb76($F$14)","v":4999.5431614826075},null,5004.5727343476356]
["Q727.7.3",4.7399999999999998E-2,2E-3,0.85799999999999998,0.02,0.85799999999999998,{"$f":"[1]!AgePb76($F$15)","v":5021.2025177556479},null,5001.2217903628043]
["Q727.7.4",2.5899999999999999E-2,3.5000000000000001E-3,0.61599999999999999,0.1,0.61599999999999999,{"$f":"[1]!AgePb76($F$16)","v":4546.1987526610556},null,4999.5431614826075]
["Q727.7.5",4.8000000000000001E-2,3.8E-3,0.81,5.5E-2,0.81,{"$f":"[1]!AgePb76($F$17)","v":4939.4222778980275},null,4996.1795638399935]
["Q727.7.6",4.99E-2,2.8999999999999998E-3,0.82099999999999995,3.1E-2,0.82099999999999995,{"$f":"[1]!AgePb76($F$18)","v":4958.6103001668189},null,4996.1795638399935]
["Q727.8.1",5.0099999999999999E-2,4.4999999999999997E-3,0.749,5.1999999999999998E-2,0.749,{"$f":"[1]!AgePb76($F$19)","v":4827.7167299620423},null,4994.4945845769371]
["Q727.9.1",3.3799999999999997E-2,5.7999999999999996E-3,0.64900000000000002,4.3999999999999997E-2,0.64900000000000002,{"$f":"[1]!AgePb76($F$20)","v":4621.7295692346725},null,4992.8074779865283]
["Q727.9.2",4.0599999999999997E-2,6.3E-3,0.71199999999999997,9.6000000000000002E-2,0.71199999999999997,{"$f":"[1]!AgePb76($F$21)","v":4755.1288815435009},null,4984.3398489641095]
["Q728.1.1",5.0599999999999999E-2,2.3E-3,0.749,2.4E-2,0.749,{"$f":"[1]!AgePb76($F$22)","v":4827.7167299620423},null,4975.8182334496641]
["Q728.1.3",5.8400000000000001E-2,3.3999999999999998E-3,0.84799999999999998,6.9000000000000006E-2,0.84799999999999998,{"$f":"[1]!AgePb76($F$23)","v":5004.5727343476356},null,4958.6103001668189]
["Q728.8.1",5.2600000000000001E-2,4.7000000000000002E-3,0.79,7.0000000000000007E-2,0.79,{"$f":"[1]!AgePb76($F$24)","v":4903.8140095866875},null,4958.6103001668189]
["Q729.1.1",5.8900000000000001E-2,9.1000000000000004E-3,0.79800000000000004,0.121,0.79800000000000004,{"$f":"[1]!AgePb76($F$25)","v":4918.1711909436308},null,4958.6103001668189]
["Q729.1.2",5.1700000000000003E-2,2.3E-3,0.84599999999999997,4.7E-2,0.84599999999999997,{"$f":"[1]!AgePb76($F$26)","v":5001.2217903628043},null,4955.1419803381323]
["Q729.1.3",5.7599999999999998E-2,4.4999999999999997E-3,0.84099999999999997,7.6999999999999999E-2,0.84099999999999997,{"$f":"[1]!AgePb76($F$27)","v":4992.8074779865283},null,4948.1782419113797]
["Q729.7.1",5.3600000000000002E-2,6.9999999999999999E-4,0.83099999999999996,2.1999999999999999E-2,0.83099999999999996,{"$f":"[1]!AgePb76($F$28)","v":4975.8182334496641},null,4942.9315434472674]
["Q729.8.1",5.33E-2,1.6000000000000001E-3,0.80300000000000005,2.5999999999999999E-2,0.80300000000000005,{"$f":"[1]!AgePb76($F$29)","v":4927.0668569371455},null,4941.1780612788325]
["Q729.8.2",4.9799999999999997E-2,1.9E-3,0.86599999999999999,2.3E-2,0.86599999999999999,{"$f":"[1]!AgePb76($F$30)","v":5034.3588457647038},null,4939.4222778980275]
["Q730.1.1",5.6000000000000001E-2,3.8E-3,0.79900000000000004,7.0000000000000007E-2,0.79900000000000004,{"$f":"[1]!AgePb76($F$31)","v":4919.9550602277068},null,4935.9037836460539]
["Q730.1.2",5.1799999999999999E-2,3.7000000000000002E-3,0.85599999999999998,8.5999999999999993E-2,0.85599999999999998,{"$f":"[1]!AgePb76($F$32)","v":5017.8930833210652},null,4934.1410607906246]
["Q731.1.1",5.7000000000000002E-2,4.1000000000000003E-3,0.92200000000000004,3.3000000000000002E-2,0.92200000000000004,{"$f":"[1]!AgePb76($F$33)","v":5122.9908530769999},null,4927.0668569371455]
["Q731.1.2",5.7000000000000002E-2,5.1000000000000004E-3,0.84199999999999997,9.4E-2,0.84199999999999997,{"$f":"[1]!AgePb76($F$34)","v":4994.4945845769371},null,4927.0668569371455]
["Q733.1.1",5.6000000000000001E-2,4.0000000000000001E-3,0.82099999999999995,4.7E-2,0.82099999999999995,{"$f":"[1]!AgePb76($F$35)","v":4958.6103001668189},null,4923.5156822696072]
["Q733.8.1",5.2900000000000003E-2,2.7000000000000001E-3,0.81499999999999995,0.02,0.81499999999999995,{"$f":"[1]!AgePb76($F$36)","v":4948.1782419113797},null,4919.9550602277068]
["R727.10",5.6300000000000003E-2,1.4800000000000001E-2,0.80800000000000005,8.7999999999999995E-2,0.80800000000000005,{"$f":"[1]!AgePb76($F$37)","v":4935.9037836460539},null,4919.9550602277068]
["R727.11",5.2900000000000003E-2,3.7000000000000002E-3,0.86,3.9E-2,0.86,{"$f":"[1]!AgePb76($F$38)","v":5024.5037716029565},null,4918.1711909436308]
["R727.8",5.1200000000000002E-2,1.26E-2,0.85299999999999998,6.4000000000000001E-2,0.85299999999999998,{"$f":"[1]!AgePb76($F$39)","v":5012.913505383809},null,4907.4177647854458]
["R727.9",2.52E-2,9.4999999999999998E-3,0.63100000000000001,5.6000000000000001E-2,0.63100000000000001,{"$f":"[1]!AgePb76($F$40)","v":4581.0559854173543},null,4903.8140095866875]
["R728.2",4.7199999999999999E-2,3.3E-3,0.79200000000000004,2.5000000000000001E-2,0.79200000000000004,{"$f":"[1]!AgePb76($F$41)","v":4907.4177647854458},null,4878.3124834238133]
["R733.2",5.3100000000000001E-2,4.1000000000000003E-3,0.85499999999999998,0.04,0.85499999999999998,{"$f":"[1]!AgePb76($F$42)","v":5016.2352858800568},null,4827.7167299620423]
["C39.1.1",5.4399999999999997E-2,4.0000000000000001E-3,0.85399999999999998,5.5E-2,0.85399999999999998,{"$f":"[1]!AgePb76($F$43)","v":5014.5754282515481},null,4827.7167299620423]
["C39.1.2",5.0500000000000003E-2,6.8999999999999999E-3,0.81100000000000005,6.3E-2,0.81100000000000005,{"$f":"[1]!AgePb76($F$44)","v":4941.1780612788325},null,4761.1627940472799]
["C39.2.1",5.5800000000000002E-2,7.6E-3,0.85699999999999998,2.9000000000000001E-2,0.85699999999999998,{"$f":"[1]!AgePb76($F$45)","v":5019.5488256079152},null,4755.1288815435009]
["C39.2.2",5.4800000000000001E-2,6.4999999999999997E-3,0.85499999999999998,2.7E-2,0.85499999999999998,{"$f":"[1]!AgePb76($F$46)","v":5016.2352858800568},null,4621.7295692346725]
["C39.2.3",5.5E-2,2.5999999999999999E-3,0.84299999999999997,2.4E-2,0.84299999999999997,{"$f":"[1]!AgePb76($F$47)","v":4996.1795638399935},null,4585.6363237030864]
["C44.1",5.5399999999999998E-2,3.8999999999999998E-3,0.84799999999999998,0.03,0.84799999999999998,{"$f":"[1]!AgePb76($F$48)","v":5004.5727343476356},null,4581.0559854173543]
["C50.1.1",5.62E-2,2.3999999999999998E-3,0.86699999999999999,1.0999999999999999E-2,0.86699999999999999,{"$f":"[1]!AgePb76($F$49)","v":5035.9943093610373},null,4546.1987526610556]
["M21.1",5.3199999999999997E-2,1.3599999999999999E-2,0.71499999999999997,3.4000000000000002E-2,0.71499999999999997,{"$f":"[1]!AgePb76($F$50)","v":4761.1627940472799},null,4365.1029333847764]
["M22.1",4.1500000000000002E-2,1.21E-2,0.63300000000000001,3.4000000000000002E-2,0.63300000000000001,{"$f":"[1]!AgePb76($F$51)","v":4585.6363237030864},null,4027.829019075145]
["M31.1",6.5500000000000003E-2,2.0500000000000001E-2,0.80300000000000005,0.05,0.80300000000000005,{"$f":"[1]!AgePb76($F$52)","v":4927.0668569371455}]
["M32.1",8.7099999999999997E-2,2.5499999999999998E-2,0.90500000000000003,0.11700000000000001,0.90500000000000003,{"$f":"[1]!AgePb76($F$53)","v":5096.7018726281267}]
[null,null,null,null,null,"AVG",{"$f":"AVERAGE(G3:G53)","v":4901.5718394480864}]
[null,null,null,null,null,"MAX",{"$f":"MAX(G3:G53)","v":5122.9908530769999}]
[null,null,null,null,null,"MIN",{"$f":"MIN(G3:G53)","v":4027.829019075145}]
[null,null,null,null,null,"STD DEV",{"$f":"STDEV(G3:G53)","v":192.59374767227106}]

{"sheet":"U_238_01","index":16,"n_rows":36,"n_cols":13,"rows_kept":36,"cut":false,"hidden":false,"merged":[]}
["Sample","206Pb/204Pb","207Pb/204Pb","208Pb/204Pb","207Pb/206Pb","207Pb/206Pb","238U/204Pb","238U/206Pb","238U/206Pb",null,null,null,5086.0871590388597]
["Number","Ratio","Ratio","Ratio","Ratio","Age","Ratio","Ratio","Age",null,null,null,5070.4769083201627]
["l",18.053999999999998,15.760999999999999,36.908000000000001,{"$f":"(C3/B3)","v":0.87299213470699022},{"$f":"[1]!AgePb76(E3)","v":5045.7524766850993},null,null,".",null,null,null,5045.7524766850993]
["2a",33.402000000000001,18.016999999999999,40.207999999999998,{"$f":"(C4/B4)","v":0.53939883839291058},{"$f":"[1]!AgePb76(E4)","v":4352.6637468842255},null,null,".",null,null,null,4989.0025515684902]
["2b",44.982999999999997,19.827999999999999,42.435000000000002,0.44078874241380078,{"$f":"[1]!AgePb76(E5)","v":4054.4167319740336},null,null,".",null,null,null,4966.5634328496926]
["2c",48.154000000000003,20.323,43.069000000000003,0.42204178261411301,{"$f":"[1]!AgePb76(E6)","v":3989.5254079548145},null,null,".",null,null,null,4964.9921901696598]
["3a",21.923999999999999,16.378,40.692,0.74703521255245398,{"$f":"[1]!AgePb76(E7)","v":4823.9592732043157},8.24,{"$f":"(G7/B7)","v":0.3758438241196862},{"$f":"[1]!AgePb6U8(H7)","v":2056.8395368672404},null,null,null,4932.84690808304]
["3b",22.806999999999999,16.53,41.305999999999997,0.72477748059806213,{"$f":"[1]!AgePb76(E8)","v":4780.6422484514596},10.27,{"$f":"(G8/B8)","v":0.45030034638488187},{"$f":"[1]!AgePb6U8(H8)","v":2396.58772229331},null,null,null,4912.5595902234772]
[4,20.960999999999999,16.212,40.125,0.77343638185201091,{"$f":"[1]!AgePb76(E9)","v":4873.5897081143585},null,0,".",null,null,null,4883.4700139325032]
[5,21.509,16.306000000000001,39.957999999999998,0.7581012599377005,{"$f":"[1]!AgePb76(E10)","v":4844.9859482530828},6.54,0.30405876609791249,{"$f":"[1]!AgePb6U8(H10)","v":1711.4038905078164},null,null,null,4882.9693875403855]
["6a",21.134,16.218,41.55,0.76738904135516228,{"$f":"[1]!AgePb76(E11)","v":4862.3827229569006},4.8600000000000003,0.22996119996214631,{"$f":"[1]!AgePb6U8(H11)","v":1334.2957237102828},null,null,null,4878.4876651185523]
["6b",24.753,16.831,44.401000000000003,0.67995798489072035,{"$f":"[1]!AgePb76(E12)","v":4688.9343397260891},null,0,".",null,null,null,4873.5897081143585]
["6c",25.603999999999999,16.972000000000001,44.719000000000001,0.66286517731604444,{"$f":"[1]!AgePb76(E13)","v":4652.2439403759745},null,0,".",null,null,null,4869.2788042859356]
["7a",19.882999999999999,16.030999999999999,39.975000000000001,0.80626665996077052,{"$f":"[1]!AgePb76(E14)","v":4932.84690808304},4.45,0.22380928431323244,{"$f":"[1]!AgePb6U8(H14)","v":1301.9716904455972},null,null,null,4862.3827229569006]
["7b",22.565000000000001,16.475999999999999,39.642000000000003,0.7301573232882782,{"$f":"[1]!AgePb76(E15)","v":4791.2410868338184},null,0,".",null,null,null,4844.9859482530828]
["8a",20.245000000000001,16.091999999999999,39.832999999999998,0.7948629291183007,{"$f":"[1]!AgePb76(E16)","v":4912.5595902234772},null,0,".",null,null,null,4843.238971171676]
["8b",22.305,16.425000000000001,39.238,0.73638197713517151,{"$f":"[1]!AgePb76(E17)","v":4803.4007675892017},10.09,0.45236494059627885,{"$f":"[1]!AgePb6U8(H17)","v":2405.7580745959226},null,null,null,4823.9592732043157]
["9a",20.789000000000001,16.184999999999999,40.26,0.77853672615325398,{"$f":"[1]!AgePb76(E18)","v":4882.9693875403855},6.39,0.30737409206792049,{"$f":"[1]!AgePb6U8(H18)","v":1727.7718976473234},null,null,null,4803.4007675892017]
["96766B",21.184000000000001,16.04,39.826999999999998,0.75717522658610259,{"$f":"[1]!AgePb76(E19)","v":4843.238971171676},null,null,null,null,null,null,4791.2410868338184]
[96781,36.871000000000002,18.727,45.320999999999998,0.50790594233950803,{"$f":"[1]!AgePb76(E20)","v":4264.3191061261778},null,null,null,null,null,null,4780.6422484514596]
[104113,22.85,16.32,40.963000000000001,0.71422319474835883,{"$f":"[1]!AgePb76(E21)","v":4759.6030006414248},null,null,null,null,null,null,4759.6030006414248]
["104113-2",51.023000000000003,21.105,44.932000000000002,0.41363698724104814,{"$f":"[1]!AgePb76(E22)","v":3959.4038954001667},null,null,null,null,null,null,4688.9343397260891]
[104114,17.63,15.662000000000001,36.042999999999999,0.88837209302325593,{"$f":"[1]!AgePb76(E23)","v":5070.4769083201627},null,null,null,null,null,null,4652.2439403759745]
["101114-2",17.460999999999999,15.683999999999999,36.158000000000001,0.89823034190481643,{"$f":"[1]!AgePb76(E24)","v":5086.0871590388597},null,null,null,null,null,null,4516.6396252171589]
[104115,20.405999999999999,15.837,37.814,0.77609526609820645,{"$f":"[1]!AgePb76(E25)","v":4878.4876651185523},null,null,null,null,null,null,4420.4488015033367]
["104140B",20.611999999999998,15.894,37.972000000000001,0.77110421113914229,{"$f":"[1]!AgePb76(E26)","v":4869.2788042859356},null,null,null,null,null,null,4352.6637468842255]
[104143,20.452999999999999,15.929,38.831000000000003,0.77880995452989787,{"$f":"[1]!AgePb76(E27)","v":4883.4700139325032},null,null,null,null,null,null,4264.3191061261778]
[104151,18.71,15.693,37.262,0.83874933190807044,{"$f":"[1]!AgePb76(E28)","v":4989.0025515684902},null,null,null,null,null,null,4054.4167319740336]
[104161,19.065999999999999,15.741,37.494,0.82560579041225224,{"$f":"[1]!AgePb76(E29)","v":4966.5634328496926},null,null,null,null,null,null,3989.5254079548145]
["104161-2",19.097999999999999,15.75,38.683,0.82469368520263908,{"$f":"[1]!AgePb76(E30)","v":4964.9921901696598},null,null,null,null,null,null,3959.4038954001667]
[104186,31.381,17.73,42.692999999999998,0.5649915553997642,{"$f":"[1]!AgePb76(E31)","v":4420.4488015033367}]
["104186-2",28.437000000000001,17.164000000000001,41.66,0.60357984316207758,{"$f":"[1]!AgePb76(E32)","v":4516.6396252171589}]
[null,35.356999999999999,18.405999999999999,50.537999999999997,"AVG",{"$f":"AVERAGE(F3:F32)","v":4725.4708803398034}]
[null,31.221,17.695,47.448,"MAX",{"$f":"MAX(F3:F32)","v":5086.0871590388597}]
[null,null,null,null,"MIN",{"$f":"MIN(F3:F32)","v":3959.4038954001667}]
[null,null,null,null,"STD DEV",{"$f":"STDEV(F3:F32)","v":314.8833942027274}]

{"sheet":"U_238_02","index":17,"n_rows":160,"n_cols":9,"rows_kept":160,"cut":false,"hidden":false,"merged":[]}
["Sample",null,"238U/206Pb","238U/206Pb"]
["Number",null,"Ratio","Age"]
[1.1000000000000001,"c,osc,p",1.321,{"$f":"[1]!AgePb6U8(1/C3)","v":3633.2577067017673},3.5000000000000003E-2,0.36299999999999999,1.5E-3,3762,6]
[1.2,"r,s,p",1.355,{"$f":"[1]!AgePb6U8(1/C4)","v":3563.1862893583684},3.5000000000000003E-2,0.33729999999999999,1E-3,3651,5]
[2.1,"c,osc,eq",1.3320000000000001,{"$f":"[1]!AgePb6U8(1/C5)","v":3610.2800732960422},3.4000000000000002E-2,0.34289999999999998,1.5E-3,3676,7]
[2.2000000000000002,"r,s,eq",1.28,{"$f":"[1]!AgePb6U8(1/C6)","v":3721.6139567111918},3.3000000000000002E-2,0.33829999999999999,1.1000000000000001E-3,3655,5]
[3.1,"c,osc,p",1.292,{"$f":"[1]!AgePb6U8(1/C7)","v":3695.2998774670946},3.3000000000000002E-2,0.35799999999999998,1.5E-3,3741,7]
[3.2,"r,h,p",1.458,{"$f":"[1]!AgePb6U8(1/C8)","v":3366.8485257526304},0.04,0.31709999999999999,4.1999999999999997E-3,3556,20]
[3.3,"e,osc,p",1.3380000000000001,{"$f":"[1]!AgePb6U8(1/C9)","v":3597.8720473414351},3.5999999999999997E-2,0.32940000000000003,3.2000000000000002E-3,3614,15]
[4.0999999999999996,"m,s,anh",1.4410000000000001,{"$f":"[1]!AgePb6U8(1/C10)","v":3397.7145811019368},3.6999999999999998E-2,0.31469999999999998,1.6999999999999999E-3,3544,8]
[5.0999999999999996,"c,osc,p",1.337,{"$f":"[1]!AgePb6U8(1/C11)","v":3599.9339721960673},3.5999999999999997E-2,0.3488,1.6999999999999999E-3,3702,7]
[5.2,"r,h,p",1.905,{"$f":"[1]!AgePb6U8(1/C12)","v":2720.0733713148129},5.0999999999999997E-2,0.18410000000000001,1.1000000000000001E-3,2690,10]
[5.3,"e,osc,p",1.3380000000000001,{"$f":"[1]!AgePb6U8(1/C13)","v":3597.8720473414351},3.4000000000000002E-2,0.31409999999999999,5.7999999999999996E-3,3541,29]
[6.1,"s,f",1.9610000000000001,{"$f":"[1]!AgePb6U8(1/C14)","v":2656.3900203400162},5.3999999999999999E-2,0.18160000000000001,1.6000000000000001E-3,2667,15]
[7.1,"m,s,anh",1.4350000000000001,{"$f":"[1]!AgePb6U8(1/C15)","v":3408.7471866105961},3.6999999999999998E-2,0.30790000000000001,8.9999999999999998E-4,3510,5]
[8.1,"m,osc,p",1.2889999999999999,{"$f":"[1]!AgePb6U8(1/C16)","v":3701.8424948485381},3.3000000000000002E-2,0.3483,1.4E-3,3700,6]
[8.1999999999999993,"e,osc,p",1.2569999999999999,{"$f":"[1]!AgePb6U8(1/C17)","v":3773.1414551315925},2.7E-2,0.36180000000000001,9.1000000000000004E-3,3757,39]
[9.1,"m,osc,p",1.37,{"$f":"[1]!AgePb6U8(1/C18)","v":3533.1456264754638},3.9E-2,0.35699999999999998,3.0999999999999999E-3,3737,13]
[9.1999999999999993,"e,osc,p",1.2010000000000001,{"$f":"[1]!AgePb6U8(1/C19)","v":3904.9621882125912},2.9000000000000001E-2,0.36709999999999998,3.0999999999999999E-3,3780,13]
[10.1,"m,osc,p",1.2989999999999999,{"$f":"[1]!AgePb6U8(1/C20)","v":3680.1257572446871},3.4000000000000002E-2,0.35170000000000001,1.5E-3,3715,7]
[11.1,"m,s,anh",1.931,{"$f":"[1]!AgePb6U8(1/C21)","v":2690.1251138267721},5.1999999999999998E-2,0.186,1.5E-3,2707,14]
[12.1,"m,osc,p",1.2150000000000001,{"$f":"[1]!AgePb6U8(1/C22)","v":3871.1253937443166},3.2000000000000001E-2,0.37290000000000001,1.9E-3,3803,8]
[12.2,"e,osc,p",1.224,{"$f":"[1]!AgePb6U8(1/C23)","v":3849.6902001495673},0.04,0.35610000000000003,2.3E-3,3733,10]
[13.1,"m,s,anh",1.77,{"$f":"[1]!AgePb6U8(1/C24)","v":2887.1411675326958},0.05,0.2228,1.8E-3,3001,13]
[14.1,"c,osc,eq",1.266,{"$f":"[1]!AgePb6U8(1/C25)","v":3752.8047631512013},3.6999999999999998E-2,0.36959999999999998,3.2000000000000002E-3,3790,13]
[14.2,"r,h,eq",1.8320000000000001,{"$f":"[1]!AgePb6U8(1/C26)","v":2807.8962744853166},6.4000000000000001E-2,0.19900000000000001,3.5999999999999999E-3,2818,29]
[15.1,"m,osc,p",1.3720000000000001,{"$f":"[1]!AgePb6U8(1/C27)","v":3529.1793832830658},3.5999999999999997E-2,0.32819999999999999,1.6999999999999999E-3,3609,8]
[15.2,"e,osc,p",1.3380000000000001,{"$f":"[1]!AgePb6U8(1/C28)","v":3597.8720473414351},3.2000000000000001E-2,0.35649999999999998,5.4999999999999997E-3,3735,24]
[16.100000000000001,"s,f",1.873,{"$f":"[1]!AgePb6U8(1/C29)","v":2757.8749816934805},4.9000000000000002E-2,0.18629999999999999,1.5E-3,2710,13]
[17.100000000000001,"m,h,p",1.2709999999999999,{"$f":"[1]!AgePb6U8(1/C30)","v":3741.603680361673},3.4000000000000002E-2,0.31840000000000002,2.5000000000000001E-3,3562,12]
[17.2,"e,osc,p",1.395,{"$f":"[1]!AgePb6U8(1/C31)","v":3484.2147660889586},0.04,0.33350000000000002,5.4999999999999997E-3,3633,25]
[18.100000000000001,"m,osc,p",1.4710000000000001,{"$f":"[1]!AgePb6U8(1/C32)","v":3343.6292369841904},4.1000000000000002E-2,0.32390000000000002,3.3E-3,3588,16]
[19.100000000000001,"c,s,p",1.524,{"$f":"[1]!AgePb6U8(1/C33)","v":3252.2577754360177},0.04,0.28100000000000003,1.1000000000000001E-3,3368,6]
[20.100000000000001,"c,osc,anh",1.37,{"$f":"[1]!AgePb6U8(1/C34)","v":3533.1456264754638},3.9E-2,0.37159999999999999,3.8999999999999998E-3,3798,16]
[20.2,"r,s,anh",1.359,{"$f":"[1]!AgePb6U8(1/C35)","v":3555.12435298328},3.5000000000000003E-2,0.31219999999999998,2E-3,3532,10]
[21.1,"m,osc,p",1.3120000000000001,{"$f":"[1]!AgePb6U8(1/C36)","v":3652.2820969426834},3.4000000000000002E-2,0.3523,6.9999999999999999E-4,3717,3]
[21.2,"e,osc,p",1.5029999999999999,{"$f":"[1]!AgePb6U8(1/C37)","v":3287.8446522404497},5.3999999999999999E-2,0.29530000000000001,8.2000000000000007E-3,3446,44]
[21.3,"e,osc,p",1.2090000000000001,{"$f":"[1]!AgePb6U8(1/C38)","v":3885.552636940045},2.7E-2,0.36959999999999998,5.1999999999999998E-3,3790,21]
[22.1,"m,osc,p",1.605,{"$f":"[1]!AgePb6U8(1/C39)","v":3122.0558815365098},4.1000000000000002E-2,0.29549999999999998,8.0000000000000004E-4,3447,4]
[22.2,"e,osc,p",1.23,{"$f":"[1]!AgePb6U8(1/C40)","v":3835.5353172454552},2.5000000000000001E-2,0.3569,2.8E-3,3737,12]
[22.3,"e,osc,p",1.3029999999999999,{"$f":"[1]!AgePb6U8(1/C41)","v":3671.5121527532006},5.6000000000000001E-2,0.35439999999999999,5.3E-3,3726,23]
[22.4,"r,h/osc,p",1.496,{"$f":"[1]!AgePb6U8(1/C42)","v":3299.8844219493685},3.5000000000000003E-2,0.33239999999999997,6.7000000000000002E-3,3628,31]
[null,null,1.4219999999999999,{"$f":"[1]!AgePb6U8(1/C43)","v":3432.904520546987},4.2000000000000003E-2,0.33079999999999998,2.5999999999999999E-3,3621,12]
[null,null,1.329,{"$f":"[1]!AgePb6U8(1/C44)","v":3616.5170744309144},5.8999999999999997E-2,0.34749999999999998,4.1000000000000003E-3,3696,18]
[2.1,"osc,p,f",1.341,{"$f":"[1]!AgePb6U8(1/C45)","v":3591.7007845881212},6.0999999999999999E-2,0.32879999999999998,5.4000000000000003E-3,3611,26]
[3.1,"c,osc,p",1.6379999999999999,{"$f":"[1]!AgePb6U8(1/C46)","v":3072.0068903416291},7.2999999999999995E-2,0.29010000000000002,5.4999999999999997E-3,3418,30]
[3.2,"r,h,p",1.3640000000000001,{"$f":"[1]!AgePb6U8(1/C47)","v":3545.0993722648277},5.8000000000000003E-2,0.34300000000000003,2E-3,3676,9]
[4.0999999999999996,"m,osc,p",1.3169999999999999,{"$f":"[1]!AgePb6U8(1/C48)","v":3641.6878174961817},4.3999999999999997E-2,0.3553,5.1999999999999998E-3,3730,23]
[5.0999999999999996,"m,osc,p",1.518,{"$f":"[1]!AgePb6U8(1/C49)","v":3262.3449260191283},4.4999999999999998E-2,0.33710000000000001,3.7000000000000002E-3,3650,17]
[6.1,"c,osc,p",1.508,{"$f":"[1]!AgePb6U8(1/C50)","v":3279.2996176303623},0.09,0.33329999999999999,7.9000000000000008E-3,3632,37]
[6.2,"rex/r,h,p",1.59,{"$f":"[1]!AgePb6U8(1/C51)","v":3145.3592875378322},7.9000000000000001E-2,0.32319999999999999,2.0999999999999999E-3,3585,10]
[7.1,"e,osc,p,f",1.381,{"$f":"[1]!AgePb6U8(1/C52)","v":3511.4436298312371},6.4000000000000001E-2,0.30530000000000002,2.5000000000000001E-3,3497,13]
[7.2,"e,osc,p,f",1.3759999999999999,{"$f":"[1]!AgePb6U8(1/C53)","v":3521.2742110507434},8.8999999999999996E-2,0.35489999999999999,1.7399999999999999E-2,3728,77]
[8.1,"m,osc,p,f",1.359,{"$f":"[1]!AgePb6U8(1/C54)","v":3555.12435298328},0.20899999999999999,0.3458,4.0899999999999999E-2,3689,193]
[8.1999999999999993,"m,osc,p,f",1.4239999999999999,{"$f":"[1]!AgePb6U8(1/C55)","v":3429.1652229961901},4.2999999999999997E-2,0.3286,4.1000000000000003E-3,3611,19]
[9.1,"e,osc,p",1.39,{"$f":"[1]!AgePb6U8(1/C56)","v":3493.8895651946423},0.04,0.34379999999999999,2.7000000000000001E-3,3680,12]
[10.1,"c,osc,p",1.617,{"$f":"[1]!AgePb6U8(1/C57)","v":3103.6650633556105},0.10100000000000001,0.26300000000000001,5.4999999999999997E-3,3265,33]
[10.199999999999999,"r,h,p",1.3560000000000001,{"$f":"[1]!AgePb6U8(1/C58)","v":3561.1672926422975},4.9000000000000002E-2,0.32500000000000001,3.0999999999999999E-3,3594,15]
[1.6160000000000001,7.0000000000000007E-2,1.6160000000000001,{"$f":"[1]!AgePb6U8(1/C59)","v":3105.1891925611521},7.0000000000000007E-2,0.29880000000000001,2.2000000000000001E-3,3464,11]
[1.3480000000000001,4.2999999999999997E-2,1.3480000000000001,{"$f":"[1]!AgePb6U8(1/C60)","v":3577.3852665639633},4.2999999999999997E-2,0.3402,2.5999999999999999E-3,3664,12]
[1.4590000000000001,5.5E-2,1.4590000000000001,{"$f":"[1]!AgePb6U8(1/C61)","v":3365.0507248567728},5.5E-2,0.31159999999999999,3.5000000000000001E-3,3529,17]
[1.2849999999999999,3.3000000000000002E-2,1.2849999999999999,{"$f":"[1]!AgePb6U8(1/C62)","v":3710.6031007186775},3.3000000000000002E-2,0.34250000000000003,3.8E-3,3674,17]
[1.3180000000000001,0.11700000000000001,1.3180000000000001,{"$f":"[1]!AgePb6U8(1/C63)","v":3639.5765275567742},0.11700000000000001,0.31830000000000003,1.43E-2,3562,71]
[1.341,3.1E-2,1.341,{"$f":"[1]!AgePb6U8(1/C64)","v":3591.7007845881212},3.1E-2,0.34670000000000001,2.5999999999999999E-3,3693,11]
[1.3759999999999999,0.04,1.3759999999999999,{"$f":"[1]!AgePb6U8(1/C65)","v":3521.2742110507434},0.04,0.33660000000000001,2.8999999999999998E-3,3647,13]
[1.2909999999999999,3.9E-2,1.2909999999999999,{"$f":"[1]!AgePb6U8(1/C66)","v":3697.478108666257},3.9E-2,0.34770000000000001,2.8999999999999998E-3,3697,13]
[1.4490000000000001,3.5000000000000003E-2,1.4490000000000001,{"$f":"[1]!AgePb6U8(1/C67)","v":3383.1175802190842},3.5000000000000003E-2,0.32090000000000002,2.5999999999999999E-3,3574,12]
[1.9079999999999999,5.6000000000000001E-2,1.9079999999999999,{"$f":"[1]!AgePb6U8(1/C68)","v":2716.5833143927684},5.6000000000000001E-2,0.18340000000000001,2.7000000000000001E-3,2683,24]
[1.425,4.1000000000000002E-2,1.425,{"$f":"[1]!AgePb6U8(1/C69)","v":3427.2986989127007},4.1000000000000002E-2,0.32469999999999999,1.4E-3,3592,7]
[1.36,4.5999999999999999E-2,1.36,{"$f":"[1]!AgePb6U8(1/C70)","v":3553.1147093605687},4.5999999999999999E-2,0.3427,8.9999999999999998E-4,3675,4]
[1.3680000000000001,4.3999999999999997E-2,1.3680000000000001,{"$f":"[1]!AgePb6U8(1/C71)","v":3537.1210173821146},4.3999999999999997E-2,0.31979999999999997,5.1000000000000004E-3,3569,25]
[1.367,5.0999999999999997E-2,1.367,{"$f":"[1]!AgePb6U8(1/C72)","v":3539.112153360416},5.0999999999999997E-2,0.32319999999999999,3.7000000000000002E-3,3585,17]
[1.2549999999999999,6.3E-2,1.2549999999999999,{"$f":"[1]!AgePb6U8(1/C73)","v":3777.6915414723262},6.3E-2,0.33110000000000001,5.4999999999999997E-3,3622,26]
[1.3029999999999999,0.05,1.3029999999999999,{"$f":"[1]!AgePb6U8(1/C74)","v":3671.5121527532006},0.05,0.33,3.8E-3,3617,18]
[1.3340000000000001,4.9000000000000002E-2,1.3340000000000001,{"$f":"[1]!AgePb6U8(1/C75)","v":3606.134319877081},4.9000000000000002E-2,0.32779999999999998,2.3999999999999998E-3,3607,11]
[1.377,3.6999999999999998E-2,1.377,{"$f":"[1]!AgePb6U8(1/C76)","v":3519.3035850542406},3.6999999999999998E-2,0.32779999999999998,4.4000000000000003E-3,3607,21]
[1.167,7.4999999999999997E-2,1.167,{"$f":"[1]!AgePb6U8(1/C77)","v":3989.7332425450641},7.4999999999999997E-2,0.34570000000000001,4.8999999999999998E-3,3688,22]
[1.3759999999999999,9.8000000000000004E-2,1.3759999999999999,{"$f":"[1]!AgePb6U8(1/C78)","v":3521.2742110507434},9.8000000000000004E-2,0.32519999999999999,4.1000000000000003E-3,3595,19]
[1.4450000000000001,0.11,1.4450000000000001,{"$f":"[1]!AgePb6U8(1/C79)","v":3390.4000087828513},0.11,0.32629999999999998,2.8E-3,3600,13]
[1.4259999999999999,6.6000000000000003E-2,1.4259999999999999,{"$f":"[1]!AgePb6U8(1/C80)","v":3425.4342532135647},6.6000000000000003E-2,0.31590000000000001,4.7000000000000002E-3,3550,23]
[1.5329999999999999,6.2E-2,1.5329999999999999,{"$f":"[1]!AgePb6U8(1/C81)","v":3237.2459057525293},6.2E-2,0.29370000000000002,4.7000000000000002E-3,3437,25]
[1.718,9.5000000000000001E-2,1.718,{"$f":"[1]!AgePb6U8(1/C82)","v":2957.1989825423916},9.5000000000000001E-2,0.1736,1.24E-2,2592,124]
[1.89,0.17199999999999999,1.89,{"$f":"[1]!AgePb6U8(1/C83)","v":2737.661067221853},0.17199999999999999,0.193,8.3000000000000001E-3,2768,72]
[2.9670000000000001,1.0369999999999999,2.9670000000000001,{"$f":"[1]!AgePb6U8(1/C84)","v":1872.4177290798275},1.0369999999999999,0.1464,8.6199999999999999E-2,2304,1695]
[1.85,0.187,1.85,{"$f":"[1]!AgePb6U8(1/C85)","v":2785.7105894622118},0.187,0.20849999999999999,1.5100000000000001E-2,2894,122]
[1.885,0.11700000000000001,1.885,{"$f":"[1]!AgePb6U8(1/C86)","v":2743.5750463180584},0.11700000000000001,0.18740000000000001,6.0000000000000001E-3,2719,54]
[1.4419999999999999,9.8000000000000004E-2,1.4419999999999999,{"$f":"[1]!AgePb6U8(1/C87)","v":3395.8829126559594},9.8000000000000004E-2,0.30930000000000002,8.3999999999999995E-3,3517,43]
[2.0630000000000002,0.224,2.0630000000000002,{"$f":"[1]!AgePb6U8(1/C88)","v":2547.8394440710613},0.224,0.18579999999999999,7.4000000000000003E-3,2705,67]
[1.371,0.157,1.371,{"$f":"[1]!AgePb6U8(1/C89)","v":3531.1613634365262},0.157,0.30690000000000001,1.52E-2,3505,79]
[1.9610000000000001,9.5000000000000001E-2,1.9610000000000001,{"$f":"[1]!AgePb6U8(1/C90)","v":2656.3900203400162},9.5000000000000001E-2,0.18609999999999999,6.7000000000000002E-3,2708,61]
[1.8640000000000001,0.127,1.8640000000000001,{"$f":"[1]!AgePb6U8(1/C91)","v":2768.699647606767},0.127,0.21129999999999999,1.09E-2,2915,86]
[1.32,6.9000000000000006E-2,1.32,{"$f":"[1]!AgePb6U8(1/C92)","v":3635.3614767441686},6.9000000000000006E-2,0.33260000000000001,5.1000000000000004E-3,3629,24]
[2.036,0.14399999999999999,2.036,{"$f":"[1]!AgePb6U8(1/C93)","v":2575.6890304277663},0.14399999999999999,0.1885,5.7999999999999996E-3,2729,51]
[1.9690000000000001,0.114,1.9690000000000001,{"$f":"[1]!AgePb6U8(1/C94)","v":2647.5384117623485},0.114,0.18779999999999999,8.0999999999999996E-3,2723,73]
[1.2370000000000001,4.7E-2,1.2370000000000001,{"$f":"[1]!AgePb6U8(1/C95)","v":3819.1560941024445},4.7E-2,0.37059999999999998,4.1999999999999997E-3,3794,17]
[1.157,5.8000000000000003E-2,1.157,{"$f":"[1]!AgePb6U8(1/C96)","v":4015.3935161674767},5.8000000000000003E-2,0.38279999999999997,3.0000000000000001E-3,3843,12]
[1.3069999999999999,0.09,1.3069999999999999,{"$f":"[1]!AgePb6U8(1/C97)","v":3662.9398520517761},0.09,0.38340000000000002,4.7000000000000002E-3,3845,18]
[1.4,8.6999999999999994E-2,1.4,{"$f":"[1]!AgePb6U8(1/C98)","v":3474.5946864315047},8.6999999999999994E-2,0.37669999999999998,7.4000000000000003E-3,3819,30]
[1.508,7.3999999999999996E-2,1.508,{"$f":"[1]!AgePb6U8(1/C99)","v":3279.2996176303623},7.3999999999999996E-2,0.18099999999999999,4.1000000000000003E-3,2662,38]
[1.274,5.7000000000000002E-2,1.274,{"$f":"[1]!AgePb6U8(1/C100)","v":3734.9159592481719},5.7000000000000002E-2,0.35389999999999999,4.1999999999999997E-3,3724,18]
[1.357,7.6999999999999999E-2,1.357,{"$f":"[1]!AgePb6U8(1/C101)","v":3559.1506404593842},7.6999999999999999E-2,0.32900000000000001,5.3E-3,3612,25]
[1.302,3.2000000000000001E-2,1.302,{"$f":"[1]!AgePb6U8(1/C102)","v":3673.6616697070972},3.2000000000000001E-2,0.35630000000000001,2.8E-3,3734,12]
[1.4259999999999999,3.5999999999999997E-2,1.4259999999999999,{"$f":"[1]!AgePb6U8(1/C103)","v":3425.4342532135647},3.5999999999999997E-2,0.33279999999999998,5.4000000000000003E-3,3630,25]
[1.504,3.4000000000000002E-2,1.504,{"$f":"[1]!AgePb6U8(1/C104)","v":3286.132007801476},3.4000000000000002E-2,0.2797,3.5000000000000001E-3,3361,19]
[1.3540000000000001,5.1999999999999998E-2,1.3540000000000001,{"$f":"[1]!AgePb6U8(1/C105)","v":3565.207634797755},5.1999999999999998E-2,0.32669999999999999,4.4000000000000003E-3,3602,21]
[1.391,3.5999999999999997E-2,1.391,{"$f":"[1]!AgePb6U8(1/C106)","v":3491.9502048985123},3.5999999999999997E-2,0.32569999999999999,3.3E-3,3597,16]
[1.2829999999999999,7.9000000000000001E-2,1.2829999999999999,{"$f":"[1]!AgePb6U8(1/C107)","v":3714.999399930115},7.9000000000000001E-2,0.36130000000000001,6.6E-3,3755,28]
[1.304,7.6999999999999999E-2,1.304,{"$f":"[1]!AgePb6U8(1/C108)","v":3669.3652172711272},7.6999999999999999E-2,0.37109999999999999,8.3000000000000001E-3,3796,34]
[1.2350000000000001,6.9000000000000006E-2,1.2350000000000001,{"$f":"[1]!AgePb6U8(1/C109)","v":3823.8211634848781},6.9000000000000006E-2,0.37730000000000002,5.1000000000000004E-3,3821,21]
[1.19,9.2999999999999999E-2,1.19,{"$f":"[1]!AgePb6U8(1/C110)","v":3931.9789634486478},9.2999999999999999E-2,0.2424,4.7999999999999996E-3,3136,32]
[1.2849999999999999,7.2999999999999995E-2,1.2849999999999999,{"$f":"[1]!AgePb6U8(1/C111)","v":3710.6031007186775},7.2999999999999995E-2,0.3851,6.4999999999999997E-3,3852,26]
[1.6659999999999999,0.40600000000000003,1.6659999999999999,{"$f":"[1]!AgePb6U8(1/C112)","v":3030.8053377074361},0.40600000000000003,0.2016,1.46E-2,2839,123]
[1.181,5.0999999999999997E-2,1.181,{"$f":"[1]!AgePb6U8(1/C113)","v":3954.3719581258129},5.0999999999999997E-2,0.39019999999999999,3.8999999999999998E-3,3872,15]
[1.254,5.8999999999999997E-2,1.254,{"$f":"[1]!AgePb6U8(1/C114)","v":3779.970819705758},5.8999999999999997E-2,0.3841,5.1000000000000004E-3,3848,20]
[1.236,0.06,1.236,{"$f":"[1]!AgePb6U8(1/C115)","v":3821.4871636251651},0.06,0.38140000000000002,4.7999999999999996E-3,3837,19]
[1.873,0.16300000000000001,1.873,{"$f":"[1]!AgePb6U8(1/C116)","v":2757.8749816934805},0.16300000000000001,0.18770000000000001,6.6E-3,2722,59]
[1.2230000000000001,7.0999999999999994E-2,1.2230000000000001,{"$f":"[1]!AgePb6U8(1/C117)","v":3852.0598116165947},7.0999999999999994E-2,0.39179999999999998,6.1999999999999998E-3,3878,24]
[1.431,0.10100000000000001,1.431,{"$f":"[1]!AgePb6U8(1/C118)","v":3416.1430766135209},0.10100000000000001,0.34329999999999999,7.6E-3,3678,34]
[1.423,9.2999999999999999E-2,1.423,{"$f":"[1]!AgePb6U8(1/C119)","v":3431.0338290196514},9.2999999999999999E-2,0.36270000000000002,9.1999999999999998E-3,3761,39]
[1.419,8.4000000000000005E-2,1.419,{"$f":"[1]!AgePb6U8(1/C120)","v":3438.5291439160969},8.4000000000000005E-2,0.3483,1.21E-2,3700,54]
[1.232,6.3E-2,1.232,{"$f":"[1]!AgePb6U8(1/C121)","v":3830.8408019837975},6.3E-2,0.39529999999999998,5.7000000000000002E-3,3891,22]
[1.3959999999999999,9.5000000000000001E-2,1.3959999999999999,{"$f":"[1]!AgePb6U8(1/C122)","v":3482.2863878357593},9.5000000000000001E-2,0.34260000000000002,4.4999999999999997E-3,3674,20]
[1.294,9.5000000000000001E-2,1.294,{"$f":"[1]!AgePb6U8(1/C123)","v":3690.9513142850615},9.5000000000000001E-2,0.36109999999999998,1.7399999999999999E-2,3755,75]
[1.335,9.0999999999999998E-2,1.335,{"$f":"[1]!AgePb6U8(1/C124)","v":3604.0651040686407},9.0999999999999998E-2,0.36070000000000002,6.4000000000000003E-3,3753,27]
[1.304,7.3999999999999996E-2,1.304,{"$f":"[1]!AgePb6U8(1/C125)","v":3669.3652172711272},7.3999999999999996E-2,0.33860000000000001,1.1900000000000001E-2,3656,55]
[1.3109999999999999,0.114,1.3109999999999999,{"$f":"[1]!AgePb6U8(1/C126)","v":3654.4085512372658},0.114,0.34189999999999998,0.01,3671,45]
[1.2350000000000001,8.2000000000000003E-2,1.2350000000000001,{"$f":"[1]!AgePb6U8(1/C127)","v":3823.8211634848781},8.2000000000000003E-2,0.33589999999999998,1.6899999999999998E-2,3644,79]
[1.1679999999999999,9.0999999999999998E-2,1.1679999999999999,{"$f":"[1]!AgePb6U8(1/C128)","v":3987.1858125470717},9.0999999999999998E-2,0.34410000000000002,1.0200000000000001E-2,3681,46]
[1.26,8.4000000000000005E-2,1.26,{"$f":"[1]!AgePb6U8(1/C129)","v":3766.3374202791802},8.4000000000000005E-2,0.3402,8.3999999999999995E-3,3664,38]
[1.3420000000000001,0.1,1.3420000000000001,{"$f":"[1]!AgePb6U8(1/C130)","v":3589.6485197488191},0.1,0.33379999999999999,1.3599999999999999E-2,3635,64]
[0.36630000000000001,1.9E-3,1.2849999999999999,{"$f":"[1]!AgePb6U8(1/C131)","v":3710.6031007186775},1.9E-3,3776,8]
[1.3029999999999999,4.3999999999999997E-2,1.3029999999999999,{"$f":"[1]!AgePb6U8(1/C132)","v":3671.5121527532006},4.3999999999999997E-2,0.34810000000000002,3.8E-3,3699,17]
[1.218,3.7999999999999999E-2,1.218,{"$f":"[1]!AgePb6U8(1/C133)","v":3863.9530677870753},3.7999999999999999E-2,0.38179999999999997,2.8E-3,3839,11]
[1.2809999999999999,0.04,1.2809999999999999,{"$f":"[1]!AgePb6U8(1/C134)","v":3719.4064166810886},0.04,0.37330000000000002,3.5000000000000001E-3,3805,14]
[1.3220000000000001,4.4999999999999998E-2,1.3220000000000001,{"$f":"[1]!AgePb6U8(1/C135)","v":3631.1564341415319},4.4999999999999998E-2,0.35539999999999999,4.7999999999999996E-3,3730,21]
[1.306,4.8000000000000001E-2,1.306,{"$f":"[1]!AgePb6U8(1/C136)","v":3665.0790716688343},4.8000000000000001E-2,0.33360000000000001,5.3E-3,3634,25]
[1.254,3.6999999999999998E-2,1.254,{"$f":"[1]!AgePb6U8(1/C137)","v":3779.970819705758},3.6999999999999998E-2,0.38590000000000002,1.8E-3,3855,7]
[1.2010000000000001,4.1000000000000002E-2,1.2010000000000001,{"$f":"[1]!AgePb6U8(1/C138)","v":3904.9621882125912},4.1000000000000002E-2,0.38629999999999998,2.5000000000000001E-3,3856,10]
[1.2849999999999999,4.3999999999999997E-2,1.2849999999999999,{"$f":"[1]!AgePb6U8(1/C139)","v":3710.6031007186775},4.3999999999999997E-2,0.38490000000000002,1.5E-3,3851,6]
[1.228,3.7999999999999999E-2,1.228,{"$f":"[1]!AgePb6U8(1/C140)","v":3840.2416911528567},3.7999999999999999E-2,0.38440000000000002,2.7000000000000001E-3,3849,10]
[1.228,4.2000000000000003E-2,1.228,{"$f":"[1]!AgePb6U8(1/C141)","v":3840.2416911528567},4.2000000000000003E-2,0.37740000000000001,2.7000000000000001E-3,3821,11]
[1.333,5.1999999999999998E-2,1.333,{"$f":"[1]!AgePb6U8(1/C142)","v":3608.2059748120632},5.1999999999999998E-2,0.32200000000000001,4.1999999999999997E-3,3580,20]
[1.3080000000000001,4.7E-2,1.3080000000000001,{"$f":"[1]!AgePb6U8(1/C143)","v":3660.8031949127876},4.7E-2,0.37269999999999998,5.5999999999999999E-3,3802,23]
[1.306,6.2E-2,1.306,{"$f":"[1]!AgePb6U8(1/C144)","v":3665.0790716688343},6.2E-2,0.36499999999999999,6.0000000000000001E-3,3771,25]
[1.2549999999999999,4.5999999999999999E-2,1.2549999999999999,{"$f":"[1]!AgePb6U8(1/C145)","v":3777.6915414723262},4.5999999999999999E-2,0.36830000000000002,1.5E-3,3784,6]
[1.2889999999999999,0.05,1.2889999999999999,{"$f":"[1]!AgePb6U8(1/C146)","v":3701.8424948485381},0.05,0.3851,2.8999999999999998E-3,3852,11]
[1.244,4.2999999999999997E-2,1.244,{"$f":"[1]!AgePb6U8(1/C147)","v":3802.9201827136967},4.2999999999999997E-2,0.38190000000000002,1.6000000000000001E-3,3839,6]
[1.2050000000000001,3.9E-2,1.2050000000000001,{"$f":"[1]!AgePb6U8(1/C148)","v":3895.232502537895},3.9E-2,0.379,1.1999999999999999E-3,3828,5]
[1.321,5.3999999999999999E-2,1.321,{"$f":"[1]!AgePb6U8(1/C149)","v":3633.2577067017673},5.3999999999999999E-2,0.33560000000000001,2.8999999999999998E-3,3643,13]
[1.357,4.8000000000000001E-2,1.357,{"$f":"[1]!AgePb6U8(1/C150)","v":3559.1506404593842},4.8000000000000001E-2,0.33439999999999998,4.0000000000000001E-3,3637,18]
[1.35,4.8000000000000001E-2,1.35,{"$f":"[1]!AgePb6U8(1/C151)","v":3573.3165879499084},4.8000000000000001E-2,0.32919999999999999,3.3E-3,3613,16]
[1.3580000000000001,4.8000000000000001E-2,1.3580000000000001,{"$f":"[1]!AgePb6U8(1/C152)","v":3557.1363286296523},4.8000000000000001E-2,0.33090000000000003,3.5000000000000001E-3,3621,17]
[1.3380000000000001,5.0999999999999997E-2,1.3380000000000001,{"$f":"[1]!AgePb6U8(1/C153)","v":3597.8720473414351},5.0999999999999997E-2,0.33,3.8E-3,3617,18]
[1.3280000000000001,6.5000000000000002E-2,1.3280000000000001,{"$f":"[1]!AgePb6U8(1/C154)","v":3618.6009915548707},6.5000000000000002E-2,0.34229999999999999,4.0000000000000001E-3,3673,18]
[1.306,4.3999999999999997E-2,1.306,{"$f":"[1]!AgePb6U8(1/C155)","v":3665.0790716688343},4.3999999999999997E-2,0.34420000000000001,2.8E-3,3681,13]
[1.177,6.7000000000000004E-2,1.177,{"$f":"[1]!AgePb6U8(1/C156)","v":3964.4090505996505},6.7000000000000004E-2,0.34260000000000002,3.5999999999999999E-3,3675,16]
[null,null,"AVG",{"$f":"AVERAGE(D3:D156)","v":3491.752510263344}]
[null,null,"MAX",{"$f":"MAX(D3:D156)","v":4015.3935161674767}]
[null,null,"MIN",{"$f":"MIN(D3:D156)","v":1872.4177290798275}]
[null,null,"STD DEV",{"$f":"STDEV(D3:D156)","v":359.24976088494884}]

{"sheet":"U_238_03","index":18,"n_rows":391,"n_cols":13,"rows_kept":391,"cut":false,"hidden":false,"merged":[]}
["Sample","238U/206Pb","238U/206Pb",null,null,null,"207Pb/206Pb",null,"Table 3",null,null,null,11444]
["Number","Ratio","Age",null,null,null,"Age",null,null,null,null,null,11298]
[1.1000000000000001,3.77,{"$f":"[1]!AgePb6U8(1/B3)","v":1516.6562671415336},0.126,0.10829999999999999,2.3999999999999998E-3,1771,41,null,null,null,null,10909]
[16.100000000000001,3.8450000000000002,{"$f":"[1]!AgePb6U8(1/B4)","v":1490.2410468017554},0.11700000000000001,0.1071,2.8999999999999998E-3,1751,50,null,null,null,null,10754]
[9.1,3.2530000000000001,{"$f":"[1]!AgePb6U8(1/B5)","v":1727.9417810171283},9.7000000000000003E-2,0.107,2.8E-3,1749,49,null,null,null,null,10620]
[11.1,3.5230000000000001,{"$f":"[1]!AgePb6U8(1/B6)","v":1610.7177510820661},9.1999999999999998E-2,0.1069,1.4E-3,1747,23,null,null,null,null,10475]
[13.1,3.4239999999999999,{"$f":"[1]!AgePb6U8(1/B7)","v":1651.7956869655959},8.7999999999999995E-2,0.1057,1E-3,1727,18,null,null,null,null,10354]
["8.1c",3.4689999999999999,{"$f":"[1]!AgePb6U8(1/B8)","v":1632.865766083492},0.10299999999999999,0.1057,1.2999999999999999E-3,1727,23,null,null,null,null,10317]
[15.1,3.3919999999999999,{"$f":"[1]!AgePb6U8(1/B9)","v":1665.5277117007113},0.08,0.1047,8.9999999999999998E-4,1710,17,null,null,null,null,10308]
[7.1,3.3719999999999999,{"$f":"[1]!AgePb6U8(1/B10)","v":1674.2274306184243},9.0999999999999998E-2,0.10440000000000001,2.0999999999999999E-3,1703,37,null,null,null,null,10299]
[23,3.5110000000000001,{"$f":"[1]!AgePb6U8(1/B11)","v":1615.5871796290971},8.2000000000000003E-2,0.1043,8.0000000000000004E-4,1702,15,null,null,null,null,10275]
[10.1,3.2349999999999999,{"$f":"[1]!AgePb6U8(1/B12)","v":1736.370025148454},6.9000000000000006E-2,0.1041,1E-3,1698,18,null,null,null,null,10249]
[42,3.5760000000000001,{"$f":"[1]!AgePb6U8(1/B13)","v":1589.5593667444259},7.4999999999999997E-2,0.1041,8.0000000000000004E-4,1698,14,null,null,null,null,10187]
[18.100000000000001,3.383,{"$f":"[1]!AgePb6U8(1/B14)","v":1669.4313079007291},8.2000000000000003E-2,0.104,1.4E-3,1697,25,null,null,null,null,10149]
[2.1,3.5,{"$f":"[1]!AgePb6U8(1/B15)","v":1620.0768946392006},8.4000000000000005E-2,0.104,1.6000000000000001E-3,1696,29,null,null,null,null,10135]
[14.1,3.375,{"$f":"[1]!AgePb6U8(1/B16)","v":1672.9166509916818},7.2999999999999995E-2,0.10390000000000001,1.1000000000000001E-3,1695,20,null,null,null,null,10129]
[3.1,3.2749999999999999,{"$f":"[1]!AgePb6U8(1/B17)","v":1717.7517054085956},7.2999999999999995E-2,0.1037,1.1000000000000001E-3,1691,19,null,null,null,null,10117]
[20,4.923,{"$f":"[1]!AgePb6U8(1/B18)","v":1192.102991257145},0.13600000000000001,0.1036,3.3999999999999998E-3,1690,61,null,null,null,null,10112]
[10.199999999999999,3.355,{"$f":"[1]!AgePb6U8(1/B19)","v":1681.6943747353494},0.23400000000000001,0.10290000000000001,2.0999999999999999E-3,1677,38,null,null,null,null,10104]
[6.1,3.4,{"$f":"[1]!AgePb6U8(1/B20)","v":1662.0732267661554},8.8999999999999996E-2,0.1028,1.6999999999999999E-3,1676,32,null,null,null,null,10090]
[19.100000000000001,3.1309999999999998,{"$f":"[1]!AgePb6U8(1/B21)","v":1786.7337055301136},7.0999999999999994E-2,0.1028,5.0000000000000001E-4,1675,10,null,null,null,null,10086]
[17.100000000000001,3.4169999999999998,{"$f":"[1]!AgePb6U8(1/B22)","v":1654.7800772360006},9.4E-2,0.10249999999999999,2.8999999999999998E-3,1670,53,null,null,null,null,10034]
[5.0999999999999996,3.2839999999999998,{"$f":"[1]!AgePb6U8(1/B23)","v":1713.6177985193913},8.5999999999999993E-2,0.10199999999999999,8.9999999999999998E-4,1662,16,null,null,null,null,10032]
[4.0999999999999996,3.5710000000000002,{"$f":"[1]!AgePb6U8(1/B24)","v":1591.5315438343016},9.1999999999999998E-2,0.1011,2.0999999999999999E-3,1644,38,null,null,null,null,10032]
[21.1,3.54,{"$f":"[1]!AgePb6U8(1/B25)","v":1603.8696851414898},7.6999999999999999E-2,9.8900000000000002E-2,5.9999999999999995E-4,1604,12,null,null,null,null,10029]
[12.2,3.855,{"$f":"[1]!AgePb6U8(1/B26)","v":1486.7886847896561},0.114,9.8199999999999996E-2,5.9999999999999995E-4,1590,12,null,null,null,null,10021]
[12.1,3.6160000000000001,{"$f":"[1]!AgePb6U8(1/B27)","v":1573.9570454528182},9.0999999999999998E-2,9.7600000000000006E-2,1E-3,1579,20,null,null,null,null,10005]
[null,"AVG",{"$f":"AVERAGE(C3:C27)","v":1621.5526282054127},null,null,"AVG",{"$f":"AVERAGE(G3:G27)","v":1689.16},null,null,null,null,null,9991]
[null,"MAX",{"$f":"MAX(C3:C27)","v":1786.7337055301136},null,null,"MAX",{"$f":"MAX(G3:G27)","v":1771},null,null,null,null,null,9986]
[null,"MIN",{"$f":"MIN(C3:C27)","v":1192.102991257145},null,null,"MIN",{"$f":"MIN(G3:G27)","v":1579},null,null,null,null,null,9984]
[null,"STD DEV",{"$f":"STDEV(C3:C27)","v":115.84000394457522},null,null,"STD DEV",{"$f":"STDEV(G3:G27)","v":47.56195958957116},null,null,null,null,null,9972]
[null,null,null,null,null,null,null,null,null,null,null,null,9965]
[null,null,null,null,null,null,null,null,null,null,null,null,9964]
["Sample","238U/206Pb","238U/206Pb",null,null,null,"207Pb/206Pb",null,"Table 4",null,null,null,9949]
["Number","Ratio","Age",null,null,null,"Age",null,null,null,null,null,9946]
[9.1,3.4569999999999999,{"$f":"[1]!AgePb6U8(1/B36)","v":1637.8709622880342},0.08,0.1041,5.0000000000000001E-4,1699,8,null,null,null,null,9939]
[6.1,3.4089999999999998,{"$f":"[1]!AgePb6U8(1/B37)","v":1658.2041142306819},7.3999999999999996E-2,0.104,8.0000000000000004E-4,1697,14,null,null,null,null,9935]
[15.2,3.5590000000000002,{"$f":"[1]!AgePb6U8(1/B38)","v":1596.2848973617972},6.0999999999999999E-2,0.10390000000000001,4.0000000000000002E-4,1695,7,null,null,null,null,9934]
[13.1,3.47,{"$f":"[1]!AgePb6U8(1/B39)","v":1632.4500542575961},0.1,0.10390000000000001,6.9999999999999999E-4,1694,13,null,null,null,null,9931]
[10.1,3.39,{"$f":"[1]!AgePb6U8(1/B40)","v":1666.3935902963487},7.5999999999999998E-2,0.1038,5.9999999999999995E-4,1693,11,null,null,null,null,9929]
[11.1,3.371,{"$f":"[1]!AgePb6U8(1/B41)","v":1674.6648163046179},7.3999999999999996E-2,0.1037,8.0000000000000004E-4,1692,14,null,null,null,null,9911]
[8.1,3.5219999999999998,{"$f":"[1]!AgePb6U8(1/B42)","v":1611.1224095520627},7.8E-2,0.1037,1.1999999999999999E-3,1692,21,null,null,null,null,9905]
[2.2999999999999998,3.569,{"$f":"[1]!AgePb6U8(1/B43)","v":1592.3217925744473},6.0999999999999999E-2,0.1036,5.0000000000000001E-4,1690,8,null,null,null,null,9903]
[14.3,3.5230000000000001,{"$f":"[1]!AgePb6U8(1/B44)","v":1610.7177510820661},4.3999999999999997E-2,0.10340000000000001,5.9999999999999995E-4,1687,11,null,null,null,null,9895]
[5.0999999999999996,3.5,{"$f":"[1]!AgePb6U8(1/B45)","v":1620.0768946392006},0.104,0.10340000000000001,1.1999999999999999E-3,1686,22,null,null,null,null,9885]
[4.0999999999999996,3.4289999999999998,{"$f":"[1]!AgePb6U8(1/B46)","v":1649.6705976488502},7.1999999999999995E-2,0.10340000000000001,5.9999999999999995E-4,1686,10,null,null,null,null,9881]
[1.1000000000000001,3.3969999999999998,{"$f":"[1]!AgePb6U8(1/B47)","v":1663.3669687041179},9.8000000000000004E-2,0.1031,1.1000000000000001E-3,1680,19,null,null,null,null,9881]
[10.199999999999999,3.6829999999999998,{"$f":"[1]!AgePb6U8(1/B48)","v":1548.5014842125793},4.8000000000000001E-2,0.10299999999999999,5.9999999999999995E-4,1680,10,null,null,null,null,9877]
[3.3,3.536,{"$f":"[1]!AgePb6U8(1/B49)","v":1605.4757237714996},4.8000000000000001E-2,0.10299999999999999,5.9999999999999995E-4,1679,10,null,null,null,null,9857]
[14.1,3.484,{"$f":"[1]!AgePb6U8(1/B50)","v":1626.6523527455738},8.5000000000000006E-2,0.10290000000000001,1.2999999999999999E-3,1676,23,null,null,null,null,9833]
[2.1,3.4260000000000002,{"$f":"[1]!AgePb6U8(1/B51)","v":1650.9449909874606},7.6999999999999999E-2,0.10249999999999999,5.9999999999999995E-4,1670,11,null,null,null,null,9833]
[15.1,3.49,{"$f":"[1]!AgePb6U8(1/B52)","v":1624.1802774525515},7.3999999999999996E-2,0.1023,5.9999999999999995E-4,1666,10,null,null,null,null,9828]
[3.1,3.4279999999999999,{"$f":"[1]!AgePb6U8(1/B53)","v":1650.0951755736155},7.6999999999999999E-2,0.1022,1.1999999999999999E-3,1665,23,null,null,null,null,9826]
[1.3,3.573,{"$f":"[1]!AgePb6U8(1/B54)","v":1590.7420830597609},6.8000000000000005E-2,0.1022,8.0000000000000004E-4,1665,14,null,null,null,null,9822]
[16.100000000000001,3.573,{"$f":"[1]!AgePb6U8(1/B55)","v":1590.7420830597609},7.9000000000000001E-2,0.1018,8.0000000000000004E-4,1657,15,null,null,null,null,9821]
[7.1,3.4380000000000002,{"$f":"[1]!AgePb6U8(1/B56)","v":1645.8592589830434},7.9000000000000001E-2,0.1017,8.0000000000000004E-4,1655,15,null,null,null,null,9812]
[12.1,3.4860000000000002,{"$f":"[1]!AgePb6U8(1/B57)","v":1625.8274875112809},9.5000000000000001E-2,0.1016,1.1000000000000001E-3,1653,20,null,null,null,null,9812]
[null,"AVG",{"$f":"AVERAGE(C36:C57)","v":1626.0075348316793},null,null,"AVG",{"$f":"AVERAGE(G36:G57)","v":1679.8636363636363},null,null,null,null,null,9807]
[null,"MAX",{"$f":"MAX(C36:C57)","v":1674.6648163046179},null,null,"MAX",{"$f":"MAX(G36:G57)","v":1699},null,null,null,null,null,9804]
[null,"MIN",{"$f":"MIN(C36:C57)","v":1548.5014842125793},null,null,"MIN",{"$f":"MIN(G36:G57)","v":1653},null,null,null,null,null,9795]
[null,"STD DEV",{"$f":"STDEV(C36:C57)","v":31.012898164882774},null,null,"STD DEV",{"$f":"STDEV(G36:G57)","v":14.466037251653745},null,null,null,null,null,9783]
[null,null,null,null,null,null,null,null,null,null,null,null,9760]
[null,null,null,null,null,null,null,null,null,null,null,null,9760]
["Sample","238U/206Pb","238U/206Pb",null,null,null,"207Pb/206Pb","Table 5",null,null,null,null,9747]
["Number","Ratio","Age",null,null,null,"Age",null,null,null,null,null,9736]
[1.4,3.5459999999999998,{"$f":"[1]!AgePb6U8(1/B66)","v":1601.4666738329431},6.8000000000000005E-2,0.1037,3.0000000000000001E-3,1691,61,null,null,null,null,9730]
[14.2,3.4079999999999999,{"$f":"[1]!AgePb6U8(1/B67)","v":1658.6331209253451},7.0000000000000007E-2,0.1024,1E-3,1668,21,null,null,null,null,9720]
[13.1,3.5350000000000001,{"$f":"[1]!AgePb6U8(1/B68)","v":1605.8777387175753},8.5000000000000006E-2,0.1022,1E-3,1665,10,null,null,null,null,9704]
[19.2,3.621,{"$f":"[1]!AgePb6U8(1/B69)","v":1572.0283713432734},0.105,0.1021,1E-3,1663,12,null,null,null,null,9592]
[18.100000000000001,3.6629999999999998,{"$f":"[1]!AgePb6U8(1/B70)","v":1556.0131121966574},7.6999999999999999E-2,0.1017,1E-3,1655,13,null,null,null,null,9577]
[13.2,3.6150000000000002,{"$f":"[1]!AgePb6U8(1/B71)","v":1574.3433511302976},7.8E-2,0.10150000000000001,1E-3,1652,13,null,null,null,null,9577]
[14.1,3.4950000000000001,{"$f":"[1]!AgePb6U8(1/B72)","v":1622.1259773589682},0.08,0.1014,1E-3,1649,18,null,null,null,null,9555]
[33.1,3.28,{"$f":"[1]!AgePb6U8(1/B73)","v":1715.4526169067083},7.0999999999999994E-2,0.1013,2E-3,1648,41,null,null,null,null,9553]
[21.1,3.5289999999999999,{"$f":"[1]!AgePb6U8(1/B74)","v":1608.2940846475024},7.3999999999999996E-2,0.1012,1E-3,1646,17,null,null,null,null,9463]
[17.100000000000001,3.5550000000000002,{"$f":"[1]!AgePb6U8(1/B75)","v":1597.8756967395166},7.5999999999999998E-2,0.1012,1E-3,1645,15,null,null,null,null,9365]
[4.0999999999999996,3.431,{"$f":"[1]!AgePb6U8(1/B76)","v":1648.8221005062994},7.1999999999999995E-2,0.10059999999999999,1E-3,1635,22,null,null,null,null,9332]
[28.1,3.7549999999999999,{"$f":"[1]!AgePb6U8(1/B77)","v":1522.0526077760233},8.5999999999999993E-2,0.10050000000000001,1E-3,1634,11,null,null,null,null,8633]
[19.100000000000001,3.556,{"$f":"[1]!AgePb6U8(1/B78)","v":1597.4776982000167},7.8E-2,0.10050000000000001,1E-3,1633,17,null,null,null,null,8013]
[16.100000000000001,3.5619999999999998,{"$f":"[1]!AgePb6U8(1/B79)","v":1595.0938855421521},8.5000000000000006E-2,0.10050000000000001,1E-3,1633,10,null,null,null,null,7264]
[24.1,3.609,{"$f":"[1]!AgePb6U8(1/B80)","v":1576.6651930876374},0.08,0.1004,1E-3,1632,13,null,null,null,null,7252]
[1.2,3.472,{"$f":"[1]!AgePb6U8(1/B81)","v":1631.6192686845727},7.5999999999999998E-2,0.1003,1E-3,1630,14]
[15.1,3.5379999999999998,{"$f":"[1]!AgePb6U8(1/B82)","v":1604.6723005321933},7.0999999999999994E-2,0.1002,1E-3,1628,15]
[75.099999999999994,3.6,{"$f":"[1]!AgePb6U8(1/B83)","v":1580.1608898177917},8.3000000000000004E-2,0.10009999999999999,1E-3,1626,19]
[22.1,3.6059999999999999,{"$f":"[1]!AgePb6U8(1/B84)","v":1577.828696969334},9.1999999999999998E-2,0.10009999999999999,1E-3,1625,19]
[7.2,3.673,{"$f":"[1]!AgePb6U8(1/B85)","v":1552.2481668380917},0.10100000000000001,9.9599999999999994E-2,3.0000000000000001E-3,1616,49]
[29.1,3.3959999999999999,{"$f":"[1]!AgePb6U8(1/B86)","v":1663.7986661871005},0.14199999999999999,9.9400000000000002E-2,4.0000000000000001E-3,1614,77]
[16.2,3.6680000000000001,{"$f":"[1]!AgePb6U8(1/B87)","v":1554.128348300346},7.3999999999999996E-2,9.9199999999999997E-2,1E-3,1608,10]
[27.1,3.7080000000000002,{"$f":"[1]!AgePb6U8(1/B88)","v":1539.2138062492934},0.126,9.7799999999999998E-2,1E-3,1583,25]
[1.3,3.6760000000000002,{"$f":"[1]!AgePb6U8(1/B89)","v":1551.122250548792},0.08,9.7799999999999998E-2,3.0000000000000001E-3,1583,53]
[12.1,3.8839999999999999,{"$f":"[1]!AgePb6U8(1/B90)","v":1476.8670802216268},7.5999999999999998E-2,9.7799999999999998E-2,1E-3,1582,10]
[10.1,3.6520000000000001,{"$f":"[1]!AgePb6U8(1/B91)","v":1560.1758061156872},8.1000000000000003E-2,9.7699999999999995E-2,1E-3,1581,25]
[37.200000000000003,3.8679999999999999,{"$f":"[1]!AgePb6U8(1/B92)","v":1482.3245610587126},0.13700000000000001,9.7299999999999998E-2,4.0000000000000001E-3,1573,79]
[31.1,3.448,{"$f":"[1]!AgePb6U8(1/B93)","v":1641.6451516314876},5.2999999999999999E-2,9.7199999999999995E-2,1E-3,1571,19]
[11.1,3.722,{"$f":"[1]!AgePb6U8(1/B94)","v":1534.0614371846068},8.1000000000000003E-2,9.7199999999999995E-2,1E-3,1571,12]
[3.1,3.5939999999999999,{"$f":"[1]!AgePb6U8(1/B95)","v":1582.5000219535159},0.115,9.69E-2,1E-3,1565,19]
[5.0999999999999996,3.6160000000000001,{"$f":"[1]!AgePb6U8(1/B96)","v":1573.9570454528182},9.1999999999999998E-2,9.69E-2,2E-3,1565,41]
[26.1,3.625,{"$f":"[1]!AgePb6U8(1/B97)","v":1570.4888487203903},0.106,9.6799999999999997E-2,2E-3,1563,33]
[1.1000000000000001,3.488,{"$f":"[1]!AgePb6U8(1/B98)","v":1625.003462843913},9.6000000000000002E-2,9.6600000000000005E-2,3.0000000000000001E-3,1560,56]
[6.1,3.7029999999999998,{"$f":"[1]!AgePb6U8(1/B99)","v":1541.0623757062717},7.4999999999999997E-2,9.6500000000000002E-2,1E-3,1558,10]
[20.100000000000001,3.9140000000000001,{"$f":"[1]!AgePb6U8(1/B100)","v":1466.7423376316062},0.1,9.6299999999999997E-2,1E-3,1554,12]
[5.2,3.508,{"$f":"[1]!AgePb6U8(1/B101)","v":1616.8091646581358},0.10970000000000001,9.6199999999999994E-2,2E-3,1552,35]
[8.1,3.4609999999999999,{"$f":"[1]!AgePb6U8(1/B102)","v":1636.1991393580693},8.1000000000000003E-2,9.5699999999999993E-2,2E-3,1542,43]
[3.2,3.55,{"$f":"[1]!AgePb6U8(1/B103)","v":1599.8686831621899},0.10299999999999999,9.5699999999999993E-2,1E-3,1541,29]
[2.1,3.5550000000000002,{"$f":"[1]!AgePb6U8(1/B104)","v":1597.8756967395166},7.5999999999999998E-2,9.5500000000000002E-2,1E-3,1539,18]
[9.1,4.0060000000000002,{"$f":"[1]!AgePb6U8(1/B105)","v":1436.5444368474202},8.3000000000000004E-2,9.5200000000000007E-2,1E-3,1533,20]
[7.1,3.5830000000000002,{"$f":"[1]!AgePb6U8(1/B106)","v":1586.8065573193885},7.8E-2,9.5000000000000001E-2,1E-3,1529,30]
[26.2,3.472,{"$f":"[1]!AgePb6U8(1/B107)","v":1631.6192686845727},9.6000000000000002E-2,9.3299999999999994E-2,5.0000000000000001E-3,1494,104]
[30.1,3.33,{"$f":"[1]!AgePb6U8(1/B108)","v":1692.7976665401834},0.13300000000000001,9.0300000000000005E-2,5.0000000000000001E-3,1433,119]
[32.1,3.8730000000000002,{"$f":"[1]!AgePb6U8(1/B109)","v":1480.6147515149335},0.112,8.4099999999999994E-2,5.0000000000000001E-3,1296,122]
[null,"AVG",{"$f":"AVERAGE(C66:C109)","v":1582.7495026450788},null,null,"AVG",{"$f":"AVERAGE(G66:G109)","v":1590.090909090909}]
[null,"MAX",{"$f":"MAX(C66:C109)","v":1715.4526169067083},null,null,"MAX",{"$f":"MAX(G66:G109)","v":1691}]
[null,"MIN",{"$f":"MIN(C66:C109)","v":1436.5444368474202},null,null,"MIN",{"$f":"MIN(G66:G109)","v":1296}]
[null,"STD DEV",{"$f":"STDEV(C66:C109)","v":58.243879593374757},null,null,"STD DEV",{"$f":"STDEV(G66:G109)","v":69.441565925777496}]
[]
[]
[]
["Sample","238U/206Pb","238U/206Pb",null,null,null,"207Pb/206Pb",null,"Table 6"]
["Number","Ratio","Age",null,null,null,"Age"]
[1.1000000000000001,3.427,{"$f":"[1]!AgePb6U8(1/B119)","v":1650.5199732959368},7.9000000000000001E-2,0.10390000000000001,1.1999999999999999E-3,1695,21]
[13.1,1.911,{"$f":"[1]!AgePb6U8(1/B120)","v":2713.1023336364233},0.23599999999999999,0.1668,2.3099999999999999E-2,2526,254]
[34.1,2.294,{"$f":"[1]!AgePb6U8(1/B121)","v":2332.3488351218029},0.06,0.15740000000000001,1.6000000000000001E-3,2428,17]
[37.1,3.4689999999999999,{"$f":"[1]!AgePb6U8(1/B122)","v":1632.865766083492},0.10299999999999999,0.15179999999999999,7.4000000000000003E-3,2366,85]
[20.100000000000001,2.6509999999999998,{"$f":"[1]!AgePb6U8(1/B123)","v":2063.2662392690499},8.5000000000000006E-2,0.1298,1.8E-3,2095,24]
[22.1,3.0590000000000002,{"$f":"[1]!AgePb6U8(1/B124)","v":1823.359050365797},6.2E-2,0.12820000000000001,3.3999999999999998E-3,2074,48]
[28.1,3.3540000000000001,{"$f":"[1]!AgePb6U8(1/B125)","v":1682.1356932237775},6.7000000000000004E-2,0.12189999999999999,2.8999999999999998E-3,1985,42]
[16.3,3.51,{"$f":"[1]!AgePb6U8(1/B126)","v":1615.9943016071716},0.107,0.1108,2.7000000000000001E-3,1813,45]
[33.1,3.4159999999999999,{"$f":"[1]!AgePb6U8(1/B127)","v":1655.2073040997316},9.7000000000000003E-2,0.10630000000000001,1.6000000000000001E-3,1738,27]
[8.1,3.323,{"$f":"[1]!AgePb6U8(1/B128)","v":1695.9330624531024},0.112,0.10589999999999999,1.6000000000000001E-3,1730,29]
[9.1,3.395,{"$f":"[1]!AgePb6U8(1/B129)","v":1664.2305890506425},7.9000000000000001E-2,0.1056,2E-3,1725,35]
[2.1,3.3969999999999998,{"$f":"[1]!AgePb6U8(1/B130)","v":1663.3669687041179},0.10199999999999999,0.1056,3.0999999999999999E-3,1724,55]
[10.1,4.8879999999999999,{"$f":"[1]!AgePb6U8(1/B131)","v":1199.8914395312224},8.6999999999999994E-2,0.1055,8.9999999999999998E-4,1723,15]
[4.0999999999999996,3.3159999999999998,{"$f":"[1]!AgePb6U8(1/B132)","v":1699.0801619522299},9.1999999999999998E-2,0.1051,1.9E-3,1716,33]
[7.1,3.3460000000000001,{"$f":"[1]!AgePb6U8(1/B133)","v":1685.6746447678038},8.7999999999999995E-2,0.105,4.5999999999999999E-3,1714,84]
[11.1,3.6629999999999998,{"$f":"[1]!AgePb6U8(1/B134)","v":1556.0131121966574},8.5000000000000006E-2,0.10440000000000001,1.6000000000000001E-3,1705,28]
[39.1,3.8,{"$f":"[1]!AgePb6U8(1/B135)","v":1505.9780898082522},9.5000000000000001E-2,0.1043,1.1000000000000001E-3,1702,19]
[3.1,3.4359999999999999,{"$f":"[1]!AgePb6U8(1/B136)","v":1646.7046921264255},7.3999999999999996E-2,0.1042,2.5000000000000001E-3,1700,45]
[26.1,3.5470000000000002,{"$f":"[1]!AgePb6U8(1/B137)","v":1601.0668754319984},6.6000000000000003E-2,0.1041,6.9999999999999999E-4,1698,13]
[21.1,3.4470000000000001,{"$f":"[1]!AgePb6U8(1/B138)","v":1642.0655857781214},8.3000000000000004E-2,0.10390000000000001,1E-3,1696,17]
[12.1,3.391,{"$f":"[1]!AgePb6U8(1/B139)","v":1665.9605378635219},0.08,0.10390000000000001,2.3E-3,1694,42]
[19.100000000000001,3.7389999999999999,{"$f":"[1]!AgePb6U8(1/B140)","v":1527.8513907524555},7.0000000000000007E-2,0.1038,5.9999999999999995E-4,1694,11]
[35.1,4.1550000000000002,{"$f":"[1]!AgePb6U8(1/B141)","v":1390.1994466495521},0.108,0.1037,1.1000000000000001E-3,1691,20]
[24.1,3.4820000000000002,{"$f":"[1]!AgePb6U8(1/B142)","v":1627.4780598403734},6.9000000000000006E-2,0.1036,8.9999999999999998E-4,1690,15]
[40.1,4.5519999999999996,{"$f":"[1]!AgePb6U8(1/B143)","v":1280.2032321061961},0.111,0.1032,1.1000000000000001E-3,1683,19]
[5.0999999999999996,3.625,{"$f":"[1]!AgePb6U8(1/B144)","v":1570.4888487203903},8.5999999999999993E-2,0.1032,6.9999999999999999E-4,1683,12]
[27.1,3.4910000000000001,{"$f":"[1]!AgePb6U8(1/B145)","v":1623.7689990826887},9.1999999999999998E-2,0.10290000000000001,1.9E-3,1678,34]
[38.1,3.4729999999999999,{"$f":"[1]!AgePb6U8(1/B146)","v":1631.2041946093411},8.3000000000000004E-2,0.1022,1.4E-3,1665,25]
[25.2,3.1669999999999998,{"$f":"[1]!AgePb6U8(1/B147)","v":1768.9707325306285},8.5000000000000006E-2,0.1021,1.8E-3,1663,33]
[30.1,3.556,{"$f":"[1]!AgePb6U8(1/B148)","v":1597.4776982000167},8.6999999999999994E-2,0.1021,8.0000000000000004E-4,1662,15]
[36.1,3.367,{"$f":"[1]!AgePb6U8(1/B149)","v":1676.4166596260206},8.6999999999999994E-2,0.10199999999999999,1.1999999999999999E-3,1661,22]
[25.3,3.4969999999999999,{"$f":"[1]!AgePb6U8(1/B150)","v":1621.3057193059244},9.2999999999999999E-2,0.10199999999999999,1.1000000000000001E-3,1661,19]
[16.2,3.4319999999999999,{"$f":"[1]!AgePb6U8(1/B151)","v":1648.39818094612},9.1999999999999998E-2,0.1018,1.6000000000000001E-3,1656,29]
[32.1,3.6320000000000001,{"$f":"[1]!AgePb6U8(1/B152)","v":1567.8019631371301},0.11799999999999999,0.1016,1.8E-3,1653,33]
[25.1,3.3330000000000002,{"$f":"[1]!AgePb6U8(1/B153)","v":1691.4574919076213},7.9000000000000001E-2,0.1014,2E-3,1649,37]
[16.100000000000001,3.3380000000000001,{"$f":"[1]!AgePb6U8(1/B154)","v":1689.228603803638},7.0999999999999994E-2,0.1013,1.8E-3,1648,32]
[31.1,4.7480000000000002,{"$f":"[1]!AgePb6U8(1/B155)","v":1232.0934180135823},0.13,0.1007,1.2999999999999999E-3,1637,25]
[null,"AVG",{"$f":"AVERAGE(C119:C155)","v":1663.2191863675398},null,null,"AVG",{"$f":"AVERAGE(G119:G155)","v":1781.6486486486488}]
[null,"MAX",{"$f":"MAX(C119:C155)","v":2713.1023336364233},null,null,"MAX",{"$f":"MAX(G119:G155)","v":2526}]
[null,"MIN",{"$f":"MIN(C119:C155)","v":1199.8914395312224},null,null,"MIN",{"$f":"MIN(G119:G155)","v":1637}]
[null,"STD DEV",{"$f":"STDEV(C119:C155)","v":261.61229327618463},null,null,"STD DEV",{"$f":"STDEV(G119:G155)","v":225.1829153051919}]
[]
[]
["Sample","238U/206Pb","238U/206Pb",null,null,null,"207Pb/206Pb",null,"Table 7"]
["Number","Ratio","Age",null,null,null,"Age"]
["h-17.1",2.1840000000000002,{"$f":"[1]!AgePb6U8(1/B164)","v":2430.1705727605345},5.0999999999999997E-2,0.1961,1.6999999999999999E-3,2794,15]
["b-18.1",2.0150000000000001,{"$f":"[1]!AgePb6U8(1/B165)","v":2597.7800791652057},5.6000000000000001E-2,0.17760000000000001,2.2000000000000001E-3,2631,21]
["b-20.2",3.117,{"$f":"[1]!AgePb6U8(1/B166)","v":1793.7388686708632},8.1000000000000003E-2,0.1706,1.8E-3,2563,18]
["b-20.1",3.2440000000000002,{"$f":"[1]!AgePb6U8(1/B167)","v":1732.1455890318791},5.3999999999999999E-2,0.16450000000000001,2.3E-3,2502,24]
["b-21.1",2.4609999999999999,{"$f":"[1]!AgePb6U8(1/B168)","v":2198.1614391251478},6.8000000000000005E-2,0.1532,3.0000000000000001E-3,2382,34]
["b-26.1",2.339,{"$f":"[1]!AgePb6U8(1/B169)","v":2294.5874189168449},5.8999999999999997E-2,0.1489,2.0999999999999999E-3,1333,15]
["b-25.",3.2709999999999999,{"$f":"[1]!AgePb6U8(1/B170)","v":1719.5954443389694},8.7999999999999995E-2,0.14549999999999999,3.7000000000000002E-3,2294,44]
["a-13.1",3.706,{"$f":"[1]!AgePb6U8(1/B171)","v":1539.9526990620645},0.105,0.13700000000000001,3.5000000000000001E-3,2190,45]
["b-28.",3.5329999999999999,{"$f":"[1]!AgePb6U8(1/B172)","v":1606.6823760303241},8.3000000000000004E-2,1.1176999999999999,1.2999999999999999E-3,1921,20]
["b-32.1",3.2330000000000001,{"$f":"[1]!AgePb6U8(1/B173)","v":1737.3116054503821},7.9000000000000001E-2,0.1128,2.3999999999999998E-3,1846,39]
["a-6.1",3.8610000000000002,{"$f":"[1]!AgePb6U8(1/B174)","v":1484.724968774982},9.5000000000000001E-2,0.11169999999999999,2.0999999999999999E-3,1828,34]
["b-23.",3.5739999999999998,{"$f":"[1]!AgePb6U8(1/B175)","v":1590.3476477895447},0.08,0.111,2E-3,1815,34]
["a-14.1",4.6559999999999997,{"$f":"[1]!AgePb6U8(1/B176)","v":1254.2157496543757},0.12,0.1106,2E-3,1809,33]
["a-5.1",3.03,{"$f":"[1]!AgePb6U8(1/B177)","v":1838.5415402888887},7.1999999999999995E-2,0.1103,1.8E-3,1805,30]
["a- 16.",3.4649999999999999,{"$f":"[1]!AgePb6U8(1/B178)","v":1634.5307441521093},8.5000000000000006E-2,0.1086,2.8999999999999998E-3,1775,50]
["a-1.1",3.6230000000000002,{"$f":"[1]!AgePb6U8(1/B179)","v":1571.2582310597788},8.7999999999999995E-2,0.1075,2.5000000000000001E-3,1758,42]
["a-10.1",3.3809999999999998,{"$f":"[1]!AgePb6U8(1/B180)","v":1670.3012738502018},7.9000000000000001E-2,0.1066,1.8E-3,1742,31]
["a-8.1",3.3519999999999999,{"$f":"[1]!AgePb6U8(1/B181)","v":1683.019029387945},8.4000000000000005E-2,0.1065,2.2000000000000001E-3,1741,37]
["b-31.I",3.355,{"$f":"[1]!AgePb6U8(1/B182)","v":1681.6943747353494},0.107,0.1061,2.0999999999999999E-3,1733,37]
["a-9.1",3.5659999999999998,{"$f":"[1]!AgePb6U8(1/B183)","v":1593.5086457157463},8.6999999999999994E-2,0.10580000000000001,1.2999999999999999E-3,1728,23]
["a-15.1",3.399,{"$f":"[1]!AgePb6U8(1/B184)","v":1662.5042491706934},9.9000000000000005E-2,0.115,2E-3,1714,35]
["b-19.",3.3319999999999999,{"$f":"[1]!AgePb6U8(1/B185)","v":1691.9039795916062},8.7999999999999995E-2,0.104,2.5999999999999999E-3,1697,47]
["a-3.1",3.504,{"$f":"[1]!AgePb6U8(1/B186)","v":1618.4413715599951},9.9000000000000005E-2,0.1038,1.6000000000000001E-3,1692,29]
["b-24.1",3.7290000000000001,{"$f":"[1]!AgePb6U8(1/B187)","v":1531.4982270108301},8.1000000000000003E-2,0.10349999999999999,1.9E-3,1687,34]
["b-33.1",3.468,{"$f":"[1]!AgePb6U8(1/B188)","v":1633.281690821331},0.112,0.1033,1.8E-3,1685,33]
["a-4.1",3.2810000000000001,{"$f":"[1]!AgePb6U8(1/B189)","v":1714.993541878127},8.3000000000000004E-2,0.1032,1.9E-3,1682,34]
["a-7.1",3.2759999999999998,{"$f":"[1]!AgePb6U8(1/B190)","v":1717.2913919224873},9.9000000000000005E-2,0.10290000000000001,2.3E-3,1677,43]
["b-30.",3.339,{"$f":"[1]!AgePb6U8(1/B191)","v":1688.7835349214899},0.105,0.1028,1.8E-3,1675,33]
["b-27.1",3.3319999999999999,{"$f":"[1]!AgePb6U8(1/B192)","v":1691.9039795916062},7.9000000000000001E-2,0.1026,1.4E-3,1672,25]
["a-1.2",3.3610000000000002,{"$f":"[1]!AgePb6U8(1/B193)","v":1679.0513464474509},8.1000000000000003E-2,0.1024,2.3E-3,1668,43]
["b-22.",3.4129999999999998,{"$f":"[1]!AgePb6U8(1/B194)","v":1656.4903166017095},0.08,0.1023,1.1999999999999999E-3,1667,22]
["b-29.1",3.5249999999999999,{"$f":"[1]!AgePb6U8(1/B195)","v":1609.909046818098},0.10100000000000001,0.1014,1.4E-3,1650,25]
["a-2.1",3.3370000000000002,{"$f":"[1]!AgePb6U8(1/B196)","v":1689.6739086800467},9.5000000000000001E-2,0.1012,2.8999999999999998E-3,1646,54]
["a-12.",3.427,{"$f":"[1]!AgePb6U8(1/B197)","v":1650.5199732959368},8.7999999999999995E-2,9.8299999999999998E-2,2.7000000000000001E-3,1593,53]
[null,"AVG",{"$f":"AVERAGE(C164:C197)","v":1732.0151428315451},null,null,"AVG",{"$f":"AVERAGE(G164:G197)","v":1870.4411764705883}]
[null,"MAX",{"$f":"MAX(C164:C197)","v":2597.7800791652057},null,null,"MAX",{"$f":"MAX(G164:G197)","v":2794}]
[null,"MIN",{"$f":"MIN(C164:C197)","v":1254.2157496543757},null,null,"MIN",{"$f":"MIN(G164:G197)","v":1333}]
[null,"STD DEV",{"$f":"STDEV(C164:C197)","v":264.9530934401273},null,null,"STD DEV",{"$f":"STDEV(G164:G197)","v":340.03094254712067}]
[]
[]
["Sample","238U/206Pb","238U/206Pb",null,null,null,"207Pb/206Pb",null,"Table 8"]
["Number","Ratio","Age",null,null,null,"Age"]
[1.1000000000000001,1.91,{"$f":"[1]!AgePb6U8(1/B206)","v":2714.2616543101535},4.9000000000000002E-2,0.2011,2.2000000000000001E-3,2835,18]
[12.1,4.0289999999999999,{"$f":"[1]!AgePb6U8(1/B207)","v":1429.1890474173574},0.107,0.1089,2.2000000000000001E-3,1781,38]
[4.0999999999999996,3.1440000000000001,{"$f":"[1]!AgePb6U8(1/B208)","v":1780.2780363592055},8.4000000000000005E-2,0.1077,1.8E-3,1761,31]
[5.0999999999999996,3.2429999999999999,{"$f":"[1]!AgePb6U8(1/B209)","v":1732.6139493634607},8.1000000000000003E-2,0.107,1.6000000000000001E-3,1749,28]
[11.1,3.9039999999999999,{"$f":"[1]!AgePb6U8(1/B210)","v":1470.1017249512599},0.20899999999999999,0.1069,1.15E-2,1747,211]
[14.1,3.4729999999999999,{"$f":"[1]!AgePb6U8(1/B211)","v":1631.2041946093411},0.11799999999999999,0.1016,1.5E-3,1653,28]
[7.1,3.7490000000000001,{"$f":"[1]!AgePb6U8(1/B212)","v":1524.2219617289918},0.109,0.1003,2.3E-3,1630,44]
[2.1,3.5779999999999998,{"$f":"[1]!AgePb6U8(1/B213)","v":1588.7718707097345},8.6999999999999994E-2,9.74E-2,8.0000000000000004E-4,1574,16]
[13.1,2.8450000000000002,{"$f":"[1]!AgePb6U8(1/B214)","v":1941.7278670705109},7.4999999999999997E-2,9.7299999999999998E-2,4.7999999999999996E-3,1574,94]
[15.1,4.6429999999999998,{"$f":"[1]!AgePb6U8(1/B215)","v":1257.4061559981842},0.13,9.7100000000000006E-2,4.0000000000000001E-3,1569,80]
[16.100000000000001,4.657,{"$f":"[1]!AgePb6U8(1/B216)","v":1253.9710063547361},0.13100000000000001,9.7000000000000003E-2,2.3E-3,1568,44]
[9.1,5.0659999999999998,{"$f":"[1]!AgePb6U8(1/B217)","v":1161.3077046698204},0.159,9.5899999999999999E-2,3.3E-3,1545,67]
[8.1,2.7789999999999999,{"$f":"[1]!AgePb6U8(1/B218)","v":1981.4231981111059},7.6999999999999999E-2,9.5200000000000007E-2,4.3E-3,1533,88]
[10.1,3.9039999999999999,{"$f":"[1]!AgePb6U8(1/B219)","v":1470.1017249512599},0.32400000000000001,9.4200000000000006E-2,6.8999999999999999E-3,1512,145]
[2.2000000000000002,3.3380000000000001,{"$f":"[1]!AgePb6U8(1/B220)","v":1689.228603803638},8.7999999999999995E-2,9.8699999999999996E-2,1E-3,1600,18]
[3.1,3.4660000000000002,{"$f":"[1]!AgePb6U8(1/B221)","v":1634.1141796909067},0.09,9.8500000000000004E-2,2.9999999999999997E-4,1594,6]
[2.1,3.5019999999999998,{"$f":"[1]!AgePb6U8(1/B222)","v":1619.2587179428226},0.13400000000000001,9.7900000000000001E-2,1E-3,1584,19]
[1.1000000000000001,3.452,{"$f":"[1]!AgePb6U8(1/B223)","v":1639.9655773867328},7.1999999999999995E-2,9.7100000000000006E-2,6.9999999999999999E-4,1570,13]
[4.0999999999999996,3.6579999999999999,{"$f":"[1]!AgePb6U8(1/B224)","v":1557.9024753809852},8.5000000000000006E-2,9.69E-2,5.9999999999999995E-4,1565,12]
[null,"AVG",{"$f":"AVERAGE(C206:C224)","v":1635.6341921479054},null,null,"AVG",{"$f":"AVERAGE(G206:G224)","v":1681.2631578947369}]
[null,"MAX",{"$f":"MAX(C206:C224)","v":2714.2616543101535},null,null,"MAX",{"$f":"MAX(G206:G224)","v":2835}]
[null,"MIN",{"$f":"MIN(C206:C224)","v":1161.3077046698204},null,null,"MIN",{"$f":"MIN(G206:G224)","v":1512}]
[null,"STD DEV",{"$f":"STDEV(C206:C224)","v":336.81433490693115},null,null,"STD DEV",{"$f":"STDEV(G206:G224)","v":291.25854152573066}]
[]
[]
["Sample","238U/206Pb","238U/206Pb",null,null,null,"207Pb/206Pb",null,"Table 9"]
["Number","Ratio","Age",null,null,null,"Age"]
[1,4.1639999999999997,{"$f":"[1]!AgePb6U8(D233)","v":1387.4960337255347},{"$f":"(1/B233)","v":0.24015369836695488},0.1042,1E-3,1700,18]
[5.0999999999999996,3.5830000000000002,{"$f":"[1]!AgePb6U8(D234)","v":1586.8065573193885},{"$f":"(1/B234)","v":0.27909572983533348},0.1037,3.2000000000000002E-3,1692,57]
[2,4.2539999999999996,{"$f":"[1]!AgePb6U8(D235)","v":1361.0312617908316},0.23507287259050308,0.1036,1.6999999999999999E-3,1690,31]
[7.1,3.1789999999999998,{"$f":"[1]!AgePb6U8(D236)","v":1763.128454711444},0.31456432840515886,0.10349999999999999,3.8999999999999998E-3,1689,71]
[11,4.1660000000000004,{"$f":"[1]!AgePb6U8(D237)","v":1386.8967080410541},0.24003840614498317,0.1032,2.3E-3,1682,42]
[4.0999999999999996,3.5539999999999998,{"$f":"[1]!AgePb6U8(D238)","v":1598.2738946597151},0.28137310073157007,0.1021,5.9999999999999995E-4,1662,11]
[3.1,3.3849999999999998,{"$f":"[1]!AgePb6U8(D239)","v":1668.5622527633077},0.29542097488921715,0.1021,2.3E-3,1662,42]
[17.100000000000001,3.8679999999999999,{"$f":"[1]!AgePb6U8(D240)","v":1482.3245610587126},0.25853154084798347,0.1017,1.1999999999999999E-3,1655,23]
[13.1,3.4079999999999999,{"$f":"[1]!AgePb6U8(D241)","v":1658.6331209253451},0.29342723004694837,0.1013,6.9999999999999999E-4,1647,12]
[18.100000000000001,4.8479999999999999,{"$f":"[1]!AgePb6U8(D242)","v":1208.9184443543206},0.20627062706270627,0.1007,1E-3,1636,19]
[12,3.4569999999999999,{"$f":"[1]!AgePb6U8(D243)","v":1637.8709622880342},0.28926815157651142,0.10059999999999999,2.2000000000000001E-3,1634,41]
[27.1,3.8090000000000002,{"$f":"[1]!AgePb6U8(D244)","v":1502.8040277135128},0.26253609871357309,0.1,1E-3,1624,18]
[27,4.133,{"$f":"[1]!AgePb6U8(D245)","v":1396.8525256958635},0.24195499637067505,9.98E-2,6.9999999999999999E-4,1621,13]
[15,3.4649999999999999,{"$f":"[1]!AgePb6U8(D246)","v":1634.5307441521093},0.28860028860028863,9.9299999999999999E-2,1.5E-3,1611,28]
[10,3.9209999999999998,{"$f":"[1]!AgePb6U8(D247)","v":1464.3999263409928},0.2550369803621525,9.8699999999999996E-2,1.5E-3,1600,28]
[26.1,3.4159999999999999,{"$f":"[1]!AgePb6U8(D248)","v":1655.2073040997316},0.29274004683840749,9.7699999999999995E-2,5.9999999999999995E-4,1581,11]
[29.1,4.8410000000000002,{"$f":"[1]!AgePb6U8(D249)","v":1210.5121940410311},0.2065688907250568,9.7299999999999998E-2,8.9999999999999998E-4,1573,17]
[20,3.827,{"$f":"[1]!AgePb6U8(D250)","v":1496.4960530848707},0.26130128037627387,9.64E-2,1.5E-3,1555,29]
[14.1,3.5819999999999999,{"$f":"[1]!AgePb6U8(D251)","v":1587.1992289623452},0.27917364600781686,9.6000000000000002E-2,6.9999999999999999E-4,1548,13]
[19,3.6579999999999999,{"$f":"[1]!AgePb6U8(D252)","v":1557.9024753809852},0.27337342810278842,9.1999999999999998E-2,1.2999999999999999E-3,1468,28]
[16,4.4509999999999996,{"$f":"[1]!AgePb6U8(D253)","v":1306.4966191679396},0.22466861379465292,9.1899999999999996E-2,3.2000000000000002E-3,1465,68]
[9.1,3.609,{"$f":"[1]!AgePb6U8(D254)","v":1576.6651930876374},0.27708506511499031,9.1399999999999995E-2,1.1999999999999999E-3,1455,26]
[14.3,3.8079999999999998,{"$f":"[1]!AgePb6U8(D255)","v":1503.1560374136184},0.26260504201680673,8.7999999999999995E-2,2.5999999999999999E-3,1383,57]
[null,"AVG",{"$f":"AVERAGE(C233:C255)","v":1505.7462861207969},null,null,"AVG",{"$f":"AVERAGE(G233:G255)","v":1601.4347826086957}]
[null,"MAX",{"$f":"MAX(C233:C255)","v":1763.128454711444},null,null,"MAX",{"$f":"MAX(G233:G255)","v":1700}]
[null,"MIN",{"$f":"MIN(C233:C255)","v":1208.9184443543206},null,null,"MIN",{"$f":"MIN(G233:G255)","v":1383}]
[null,"STD DEV",{"$f":"STDEV(C233:C255)","v":147.75047543760934},null,null,"STD DEV",{"$f":"STDEV(G233:G255)","v":87.192486168641707}]
[]
[]
["Sample","238U/206Pb","238U/206Pb",null,null,null,"207Pb/206Pb",null,"Table 10"]
["Number","Ratio","Age",null,null,null,"Age"]
[2.1,2.4950000000000001,{"$f":"[1]!AgePb6U8(D264)","v":2172.7293890881006},{"$f":"(1/B264)","v":0.40080160320641278},0.3029,2.8999999999999998E-3,3485,15]
[22.1,2.7229999999999999,{"$f":"[1]!AgePb6U8(D265)","v":2016.4098707426747},{"$f":"(1/B265)","v":0.36724201248622845},0.13619999999999999,8.9999999999999998E-4,2180,12]
[1.1000000000000001,3.2210000000000001,{"$f":"[1]!AgePb6U8(D266)","v":1742.9827329656723},0.31046258925799441,0.1109,6.9999999999999999E-4,1813,12]
[12.1,4.5659999999999998,{"$f":"[1]!AgePb6U8(D267)","v":1276.6421595235797},0.21901007446342532,0.1085,3.5000000000000001E-3,1775,60]
[31.1,3.4380000000000002,{"$f":"[1]!AgePb6U8(D268)","v":1645.8592589830434},0.29086678301337987,0.10539999999999999,1.6999999999999999E-3,1722,30]
[4.0999999999999996,4.4089999999999998,{"$f":"[1]!AgePb6U8(D269)","v":1317.7523062916314},0.22680880018144706,0.10539999999999999,2.5999999999999999E-3,1722,46]
[18.100000000000001,3.4809999999999999,{"$f":"[1]!AgePb6U8(D270)","v":1627.8912294904369},0.28727377190462511,0.1047,1.1999999999999999E-3,1709,22]
[21.1,3.4649999999999999,{"$f":"[1]!AgePb6U8(D271)","v":1634.5307441521093},0.28860028860028863,0.1047,1.4E-3,1708,25]
[19.100000000000001,3.383,{"$f":"[1]!AgePb6U8(D272)","v":1669.4313079007291},0.29559562518474725,0.10440000000000001,1.6000000000000001E-3,1704,28]
[10.199999999999999,3.7349999999999999,{"$f":"[1]!AgePb6U8(D273)","v":1529.3080293522059},0.2677376171352075,0.1042,1.4E-3,1701,24]
[7.1,4.3650000000000002,{"$f":"[1]!AgePb6U8(D274)","v":1329.7546287903067},0.22909507445589919,0.104,4.7000000000000002E-3,1696,86]
[20.100000000000001,3.6030000000000002,{"$f":"[1]!AgePb6U8(D275)","v":1578.9939279235987},0.27754648903691365,0.1031,2.3E-3,1681,41]
[30.1,3.585,{"$f":"[1]!AgePb6U8(D276)","v":1586.021799560642},0.2789400278940028,0.1024,2.2000000000000001E-3,1668,41]
[23.1,3.4319999999999999,{"$f":"[1]!AgePb6U8(D277)","v":1648.39818094612},0.29137529137529139,0.1023,1.8E-3,1667,33]
[10.1,3.859,{"$f":"[1]!AgePb6U8(D278)","v":1485.4122344450234},0.25913449080072559,0.1023,1.4E-3,1666,25]
[23.2,3.4169999999999998,{"$f":"[1]!AgePb6U8(D279)","v":1654.7800772360006},0.29265437518290899,0.1021,8.9999999999999998E-4,1663,16]
[16.100000000000001,3.3780000000000001,{"$f":"[1]!AgePb6U8(D280)","v":1671.6079336990358},0.29603315571343991,0.10199999999999999,1.9E-3,1661,35]
[32.1,3.9740000000000002,{"$f":"[1]!AgePb6U8(D281)","v":1446.9054069401311},0.25163563160543534,0.1017,1.1000000000000001E-3,1655,20]
["9.3b",3.5009999999999999,{"$f":"[1]!AgePb6U8(D282)","v":1619.6677024223495},0.28563267637817769,0.1016,1.6000000000000001E-3,1654,29]
[11.1,4.2610000000000001,{"$f":"[1]!AgePb6U8(D283)","v":1359.0152988293007},0.2346866932644919,0.10150000000000001,2.2000000000000001E-3,1652,41]
[5.0999999999999996,3.41,{"$f":"[1]!AgePb6U8(D284)","v":1657.7753306258128},0.29325513196480935,0.1014,1.4E-3,1650,26]
[14.1,3.6240000000000001,{"$f":"[1]!AgePb6U8(D285)","v":1570.8734452173624},0.27593818984547458,0.1011,2.3999999999999998E-3,1644,45]
[3.1,3.8370000000000002,{"$f":"[1]!AgePb6U8(D286)","v":1493.0145532701417},0.26062027625749284,0.1009,2.2000000000000001E-3,1640,41]
[13.1,3.532,{"$f":"[1]!AgePb6U8(D287)","v":1607.084998704569},0.28312570781426954,0.1008,1.9E-3,1639,34]
[9.4499999999999993,3.7109999999999999,{"$f":"[1]!AgePb6U8(B288)","v":9991.29862831848},0.109,0.1008,2.0999999999999999E-3,1638,39]
[6.1,3.2749999999999999,{"$f":"[1]!AgePb6U8(B289)","v":9365.248041184359},7.8E-2,0.1007,1.4E-3,1638,26]
[15.1,3.5920000000000001,{"$f":"[1]!AgePb6U8(B290)","v":9826.3700823030813},9.9000000000000005E-2,0.10059999999999999,1.5E-3,1636,28]
[8.1,3.9409999999999998,{"$f":"[1]!AgePb6U8(B291)","v":10298.583335140132},0.10199999999999999,0.1004,2E-3,1631,38]
[9.1999999999999993,3.5779999999999998,{"$f":"[1]!AgePb6U8(B292)","v":9806.6863595834002},0.10100000000000001,0.1003,1.5E-3,1630,28]
[9.1,3.5059999999999998,{"$f":"[1]!AgePb6U8(B293)","v":9704.4953554233871},0.108,0.1002,1.8E-3,1629,33]
[8.1999999999999993,2.8159999999999998,{"$f":"[1]!AgePb6U8(B294)","v":8633.0556234394207},7.3999999999999996E-2,9.9699999999999997E-2,1.8E-3,1619,33]
[24.1,3.2530000000000001,{"$f":"[1]!AgePb6U8(B295)","v":9331.9878567058604},0.24099999999999999,9.9199999999999997E-2,2E-3,1608,37]
[25.1,3.4180000000000001,{"$f":"[1]!AgePb6U8(B296)","v":9577.3544238383602},0.108,9.8900000000000002E-2,2.2000000000000001E-3,1604,42]
[17.100000000000001,3.5819999999999999,{"$f":"[1]!AgePb6U8(B297)","v":9812.3164159955122},0.121,9.8799999999999999E-2,1.1999999999999999E-3,1602,23]
[27.1,3.6920000000000002,{"$f":"[1]!AgePb6U8(B298)","v":9965.2469349958374},0.123,9.8699999999999996E-2,1.9E-3,1599,37]
[15.2,3.7839999999999998,{"$f":"[1]!AgePb6U8(B299)","v":10090.423959054508},0.14199999999999999,9.8599999999999993E-2,2E-3,1598,39]
[28.1,3.7410000000000001,{"$f":"[1]!AgePb6U8(B300)","v":10032.21971906515},9.4E-2,9.8100000000000007E-2,8.9999999999999998E-4,1589,17]
[29.1,3.9550000000000001,{"$f":"[1]!AgePb6U8(B301)","v":10316.82299940017},0.107,9.7100000000000006E-2,8.0000000000000004E-4,1569,16]
[26.1,3.903,{"$f":"[1]!AgePb6U8(B302)","v":10248.813941460734},0.105,9.5000000000000001E-2,5.9999999999999995E-4,1528,12]
[null,"AVG",{"$f":"AVERAGE(C264:C302)","v":4752.4042621284361},null,null,"AVG",{"$f":"AVERAGE(G264:G302)","v":1714.6923076923076}]
[null,"MAX",{"$f":"MAX(C264:C302)","v":10316.82299940017},null,null,"MAX",{"$f":"MAX(G264:G302)","v":3485}]
[null,"MIN",{"$f":"MIN(C264:C302)","v":1276.6421595235797},null,null,"MIN",{"$f":"MIN(G264:G302)","v":1528}]
[null,"STD DEV",{"$f":"STDEV(C264:C302)","v":4054.5952147959597},null,null,"STD DEV",{"$f":"STDEV(G264:G302)","v":307.52279794360066}]
[]
[]
[]
["Sample","238U/206Pb","238U/206Pb",null,null,null,"207Pb/206Pb",null,"Table 11"]
["Number","Ratio","Age",null,null,null,"Age"]
[21.1,3.589,{"$f":"[1]!AgePb6U8(B312)","v":9822.1571984702441},8.5999999999999993E-2,0.1027,5.9999999999999995E-4,1673,10]
[23.1,4.194,{"$f":"[1]!AgePb6U8(B313)","v":10620.493880680464},9.2999999999999999E-2,0.10199999999999999,1.9E-3,1662,35]
[18.100000000000001,3.8170000000000002,{"$f":"[1]!AgePb6U8(B314)","v":10134.738614975562},0.113,0.10059999999999999,1.1999999999999999E-3,1636,23]
[3.1,3.923,{"$f":"[1]!AgePb6U8(B315)","v":10275.056249966567},9.7000000000000003E-2,0.10050000000000001,6.9999999999999999E-4,1633,13]
[36.1,3.7069999999999999,{"$f":"[1]!AgePb6U8(B316)","v":9985.8228036680448},8.5000000000000006E-2,0.1,1.1000000000000001E-3,1625,20]
[17.100000000000001,3.6970000000000001,{"$f":"[1]!AgePb6U8(B317)","v":9972.1128576622596},9.4E-2,0.1,8.9999999999999998E-4,1624,16]
[15.1,3.7410000000000001,{"$f":"[1]!AgePb6U8(B318)","v":10032.21971906515},0.10199999999999999,9.9900000000000003E-2,5.0000000000000001E-4,1621,10]
[22.1,3.6339999999999999,{"$f":"[1]!AgePb6U8(B319)","v":9885.0631813710534},8.7999999999999995E-2,9.98E-2,5.0000000000000001E-4,1619,10]
[1.1000000000000001,3.6659999999999999,{"$f":"[1]!AgePb6U8(B320)","v":9929.4257766268402},8.5999999999999993E-2,9.9699999999999997E-2,5.0000000000000001E-4,1618,9]
[4.0999999999999996,3.6779999999999999,{"$f":"[1]!AgePb6U8(B321)","v":9945.9833564028195},9.5000000000000001E-2,9.9699999999999997E-2,6.9999999999999999E-4,1618,13]
[19.100000000000001,3.8130000000000002,{"$f":"[1]!AgePb6U8(B322)","v":10129.383338088461},9.7000000000000003E-2,9.9599999999999994E-2,5.9999999999999995E-4,1616,12]
[7.1,3.593,{"$f":"[1]!AgePb6U8(B323)","v":9827.7737653096301},8.4000000000000005E-2,9.9500000000000005E-2,5.9999999999999995E-4,1614,12]
[6.1,3.6309999999999998,{"$f":"[1]!AgePb6U8(B324)","v":9880.8884931417579},8.3000000000000004E-2,9.9400000000000002E-2,5.9999999999999995E-4,1614,11]
[35.1,3.653,{"$f":"[1]!AgePb6U8(B325)","v":9911.440276309504},8.4000000000000005E-2,9.9400000000000002E-2,6.9999999999999999E-4,1613,13]
[5.0999999999999996,3.8,{"$f":"[1]!AgePb6U8(B326)","v":10111.947899525192},0.10100000000000001,9.9400000000000002E-2,5.9999999999999995E-4,1612,11]
[29.1,4.9020000000000001,{"$f":"[1]!AgePb6U8(B327)","v":11444.262862341646},0.11,9.9199999999999997E-2,1.2999999999999999E-3,1610,25]
[37,3.5449999999999999,{"$f":"[1]!AgePb6U8(B328)","v":9760.0498155000296},0.09,9.9099999999999994E-2,1.9E-3,1607,35]
[13.1,3.7210000000000001,{"$f":"[1]!AgePb6U8(B329)","v":10004.96787470846},9.1999999999999998E-2,9.8699999999999996E-2,1.1000000000000001E-3,1599,20]
[33.1,3.524,{"$f":"[1]!AgePb6U8(B330)","v":9730.1953795576082},0.08,9.8599999999999993E-2,8.0000000000000004E-4,1598,15]
[9.1,3.5819999999999999,{"$f":"[1]!AgePb6U8(B331)","v":9812.3164159955122},0.1,9.8599999999999993E-2,8.0000000000000004E-4,1598,15]
[24.1,3.6280000000000001,{"$f":"[1]!AgePb6U8(B332)","v":9876.7110996385509},8.3000000000000004E-2,9.8599999999999993E-2,8.0000000000000004E-4,1598,16]
[20.100000000000001,3.6909999999999998,{"$f":"[1]!AgePb6U8(B333)","v":9963.872872498443},9.4E-2,9.8500000000000004E-2,5.0000000000000001E-4,1597,9]
[10,3.597,{"$f":"[1]!AgePb6U8(B334)","v":9833.3854428627947},0.123,9.8500000000000004E-2,1.8E-3,1595,35]
[11.1,3.5880000000000001,{"$f":"[1]!AgePb6U8(B335)","v":9820.7522918106333},0.127,9.8400000000000001E-2,1.4E-3,1594,26]
[34.1,3.673,{"$f":"[1]!AgePb6U8(B336)","v":9939.0895324305511},8.2000000000000003E-2,9.8299999999999998E-2,6.9999999999999999E-4,1592,13]
[14.1,3.7810000000000001,{"$f":"[1]!AgePb6U8(B337)","v":10086.380207213322},0.11899999999999999,9.8299999999999998E-2,5.9999999999999995E-4,1592,11]
[25.1,3.6480000000000001,{"$f":"[1]!AgePb6U8(B338)","v":9904.5093927452708},9.2999999999999999E-2,9.8199999999999996E-2,1.1000000000000001E-3,1591,19]
[16.100000000000001,3.8279999999999998,{"$f":"[1]!AgePb6U8(B339)","v":10149.442728349944},0.11899999999999999,9.8100000000000007E-2,5.9999999999999995E-4,1589,11]
[12.1,3.7330000000000001,{"$f":"[1]!AgePb6U8(B340)","v":10021.332802089355},9.1999999999999998E-2,9.8100000000000007E-2,6.9999999999999999E-4,1588,13]
[31.2,3.5169999999999999,{"$f":"[1]!AgePb6U8(B341)","v":9720.2130970022063},0.08,9.8100000000000007E-2,8.9999999999999998E-4,1588,18]
[2.1,3.5609999999999999,{"$f":"[1]!AgePb6U8(B342)","v":9782.703611471803},9.7000000000000003E-2,9.8000000000000004E-2,1.1000000000000001E-3,1587,21]
[8.1,3.742,{"$f":"[1]!AgePb6U8(B343)","v":10033.579291817656},9.2999999999999999E-2,9.7699999999999995E-2,1.2999999999999999E-3,1582,26]
[32.1,4.7699999999999996,{"$f":"[1]!AgePb6U8(B344)","v":11298.450156454526},0.106,9.7699999999999995E-2,1.8E-3,1580,35]
[28,3.669,{"$f":"[1]!AgePb6U8(B345)","v":9933.5691602823536},8.4000000000000005E-2,9.7600000000000006E-2,1.2999999999999999E-3,1578,24]
[30.1,3.597,{"$f":"[1]!AgePb6U8(B346)","v":9833.3854428627947},0.08,9.7500000000000003E-2,8.0000000000000004E-4,1576,15]
[26.1,3.641,{"$f":"[1]!AgePb6U8(B347)","v":9894.7936197198305},8.2000000000000003E-2,9.74E-2,6.9999999999999999E-4,1574,13]
[27.1,3.5760000000000001,{"$f":"[1]!AgePb6U8(B348)","v":9803.8694863980472},0.08,9.7299999999999998E-2,6.9999999999999999E-4,1574,14]
[31.1,3.8559999999999999,{"$f":"[1]!AgePb6U8(B349)","v":10186.720733326008},0.09,9.7000000000000003E-2,8.9999999999999998E-4,1567,18]
[null,"AVG",{"$f":"AVERAGE(C312:C349)","v":10034.18580864055},null,null,"AVG",{"$f":"AVERAGE(G312:G349)","v":1604}]
[null,"MAX",{"$f":"MAX(C312:C349)","v":11444.262862341646},null,null,"MAX",{"$f":"MAX(G312:G349)","v":1673}]
[null,"MIN",{"$f":"MIN(C312:C349)","v":9720.2130970022063},null,null,"MIN",{"$f":"MIN(G312:G349)","v":1567}]
[null,"STD DEV",{"$f":"STDEV(C312:C349)","v":362.80789421495638},null,null,"STD DEV",{"$f":"STDEV(G312:G349)","v":23.136492761378015}]
[]
[]
[]
[]
[]
["Sample","238U/206Pb","238U/206Pb",null,null,null,"207Pb/206Pb",null,"Table 12"]
["Number","Ratio","Age",null,null,null,"Age"]
[6.1,2.0859999999999999,{"$f":"[1]!AgePb6U8(B361)","v":7264.3078416823155},4.7E-2,0.21310000000000001,1.1999999999999999E-3,2929,9]
[18.100000000000001,2.08,{"$f":"[1]!AgePb6U8(B362)","v":7251.7621078838565},5.2999999999999999E-2,0.19600000000000001,2.8E-3,2793,24]
[10.1,2.4660000000000002,{"$f":"[1]!AgePb6U8(B363)","v":8012.9005079349854},5.2999999999999999E-2,0.15129999999999999,1.5E-3,2360,16]
[26.1,3.403,{"$f":"[1]!AgePb6U8(B364)","v":9555.430309580126},6.5000000000000002E-2,0.1176,8.9999999999999998E-4,1920,14]
[2.1,3.6469999999999998,{"$f":"[1]!AgePb6U8(B365)","v":9903.1223213720641},7.3999999999999996E-2,0.113,2.3999999999999998E-3,1849,39]
[4.0999999999999996,3.984,{"$f":"[1]!AgePb6U8(B366)","v":10354.441782337806},9.5000000000000001E-2,0.1104,1E-3,1807,19]
[14.1,3.34,{"$f":"[1]!AgePb6U8(B367)","v":9462.5260152284518},6.4000000000000001E-2,0.1104,2.3E-3,1807,39]
[21.1,3.536,{"$f":"[1]!AgePb6U8(B368)","v":9747.2719834033905},0.1,0.10929999999999999,1.6000000000000001E-3,1788,26]
[1.1000000000000001,3.4180000000000001,{"$f":"[1]!AgePb6U8(B369)","v":9577.3544238383602},0.104,0.10829999999999999,1.4E-3,1777,73]
[25.1,3.5449999999999999,{"$f":"[1]!AgePb6U8(B370)","v":9760.0498155000296},8.8999999999999996E-2,0.10829999999999999,1.8E-3,1771,30]
[3.1,3.4279999999999999,{"$f":"[1]!AgePb6U8(B371)","v":9591.9291851499784},7.4999999999999997E-2,0.1079,2E-3,1764,34]
[22.1,3.4009999999999998,{"$f":"[1]!AgePb6U8(B372)","v":9552.5014525637689},7.2999999999999995E-2,0.10680000000000001,8.0000000000000004E-4,1746,14]
[15.1,3.794,{"$f":"[1]!AgePb6U8(B373)","v":10103.884841335652},8.6999999999999994E-2,0.106,1.5E-3,1731,25]
[20.100000000000001,3.6669999999999998,{"$f":"[1]!AgePb6U8(B374)","v":9930.8072004362839},7.5999999999999998E-2,0.1047,1.1000000000000001E-3,1709,19]
[19.100000000000001,3.948,{"$f":"[1]!AgePb6U8(B375)","v":10307.70961824491},7.3999999999999996E-2,0.10390000000000001,8.9999999999999998E-4,1695,17]
[8.1,3.67,{"$f":"[1]!AgePb6U8(B376)","v":9934.9496965724811},7.4999999999999997E-2,0.1022,8.0000000000000004E-4,1665,14]
[11.1,4.3029999999999999,{"$f":"[1]!AgePb6U8(B377)","v":10754.376781015266},9.2999999999999999E-2,0.1016,2.5999999999999999E-3,1653,49]
[12.1,3.57,{"$f":"[1]!AgePb6U8(B378)","v":9795.4114740120131},0.105,0.1012,2E-3,1646,37]
[13.1,3.7389999999999999,{"$f":"[1]!AgePb6U8(B379)","v":10029.499713040783},7.3999999999999996E-2,0.10100000000000001,8.9999999999999998E-4,1643,16]
[23.1,3.68,{"$f":"[1]!AgePb6U8(B380)","v":9948.7388230752968},8.6999999999999994E-2,0.1008,1.4E-3,1639,26]
[9.1,3.6309999999999998,{"$f":"[1]!AgePb6U8(B381)","v":9880.8884931417579},7.0999999999999994E-2,0.1007,5.9999999999999995E-4,1637,11]
[5.0999999999999996,3.528,{"$f":"[1]!AgePb6U8(B382)","v":9735.8926085471849},8.2000000000000003E-2,0.1004,5.0000000000000001E-4,1631,10]
[17.100000000000001,3.8039999999999998,{"$f":"[1]!AgePb6U8(B383)","v":10117.317674248105},9.0999999999999998E-2,0.1004,1.2999999999999999E-3,1631,25]
[3.2,3.6139999999999999,{"$f":"[1]!AgePb6U8(B384)","v":9857.1807236200602},7.9000000000000001E-2,0.10009999999999999,6.9999999999999999E-4,1626,13]
[16.100000000000001,4.0780000000000003,{"$f":"[1]!AgePb6U8(B385)","v":10474.891108992662},8.6999999999999994E-2,0.10009999999999999,5.0000000000000001E-4,1625,9]
[4.2,4.4320000000000004,{"$f":"[1]!AgePb6U8(B386)","v":10909.31436104042},9.9000000000000005E-2,9.9500000000000005E-2,8.0000000000000004E-4,1614,15]
[4.3,3.706,{"$f":"[1]!AgePb6U8(B387)","v":9984.4531204201176},8.5999999999999993E-2,9.8599999999999993E-2,1.1000000000000001E-3,1597,21]
[null,"AVG",{"$f":"AVERAGE(C361:C387)","v":9696.2560734895578},null,null,"AVG",{"$f":"AVERAGE(G361:G387)","v":1816.7777777777778}]
[null,"MAX",{"$f":"MAX(C361:C387)","v":10909.31436104042},null,null,"MAX",{"$f":"MAX(G361:G387)","v":2929}]
[null,"MIN",{"$f":"MIN(C361:C387)","v":7251.7621078838565},null,null,"MIN",{"$f":"MIN(G361:G387)","v":1597}]
[null,"STD DEV",{"$f":"STDEV(C361:C387)","v":870.06626305320276},null,null,"STD DEV",{"$f":"STDEV(G361:G387)","v":336.7205338982435}]

{"sheet":"Th_232_01","index":19,"n_rows":35,"n_cols":17,"rows_kept":35,"cut":false,"hidden":false,"merged":[]}
[null,null,"207Pb/206Pb","207Pb/206Pb","206/Pb/238U","206/Pb/238U","208Pb/232Th","208Pb/232Th","206Pb/","207Pb/","208Pb/","238U/",null,"235U/",null,"232Th/"]
[null,null,"Ratio","Age","Ratio","Age","Ratio","Age","204Pb","204Pb","204Pb","204Pb",null,"204Pb",null,"204Pb"]
["ABDP-42.60b","Tholeiite",{"$f":"(J3/I3)","v":0.98935952527112758},{"$f":"[1]!AgePb76($C$3)","v":5222.3361132001573},{"$f":"(I3/L3)","v":3.6634182908545729},{"$f":"[1]!AgePb6U8(E3)","v":9925.8579728570567},{"$f":"(K3/P3)","v":2.684838026511883},{"$f":"[1]!AgePb8Th2(G3)","v":26361.325313019875},14.661,14.505000000000001,34.228999999999999,4.0019999999999998,0.32,2.9000000000000001E-2,0.32,12.749000000000001,0.34]
["ABDP-190.26","Tholeiite",{"$f":"(J4/I4)","v":1.0428987618353969},{"$f":"[1]!AgePb76($C$4)","v":5296.3248665591236},{"$f":"(I4/L4)","v":13.163950143815917},{"$f":"[1]!AgePb6U8(E4)","v":17087.510164840198},{"$f":"(K4/P4)","v":37.845022624434385},{"$f":"[1]!AgePb8Th2(G4)","v":73968.265807593663},13.73,14.319000000000001,33.454999999999998,1.0429999999999999,0.09,7.6E-3,0.09,0.88400000000000001,0.13]
["ABDP-193.28","Tholeiite",1.0670534167106156,{"$f":"[1]!AgePb76($C$5)","v":5328.4022190224496},6.5384236453201972,{"$f":"[1]!AgePb6U8(E5)","v":13021.841060790997},14.432835820895523,{"$f":"[1]!AgePb8Th2(G5)","v":55310.711180948121},13.273,14.163,32.878,2.0299999999999998,0.84,1.47E-2,0.84,2.278,0.84]
["ABDP-194.17","Tholeiite",1.0442834138486312,{"$f":"[1]!AgePb76($C$6)","v":5298.1847762047119},7.0061538461538468,{"$f":"[1]!AgePb6U8(E6)","v":13409.898319050528},15.874405328258803,{"$f":"[1]!AgePb8Th2(G6)","v":57115.674508959499},13.662000000000001,14.266999999999999,33.368000000000002,1.95,1.0900000000000001,1.41E-2,1.0900000000000001,2.1019999999999999,1.1200000000000001]
["ABDP-194.44","Tholeiite",1.069909043072991,{"$f":"[1]!AgePb76($C$7)","v":5332.1437457872435},22.471283783783786,{"$f":"[1]!AgePb6U8(E7)","v":20343.450167881376},144.07391304347826,{"$f":"[1]!AgePb8Th2(G7)","v":100601.17953859721},13.303000000000001,14.233000000000001,33.137,0.59199999999999997,0.01,4.3E-3,0.01,0.23,0.08]
["ABDP-211.40","Tholeiite",1.0569832402234636,{"$f":"[1]!AgePb76($C$8)","v":5315.1231346929635},4.2190446260213701,{"$f":"[1]!AgePb6U8(E8)","v":10651.502744941312},5.9170531573314307,{"$f":"[1]!AgePb8Th2(G8)","v":39090.244257016078},13.425000000000001,14.19,33.170999999999999,3.1819999999999999,0.09,2.3099999999999999E-2,0.09,5.6059999999999999,0.13]
["ABDP-214.13","Tholeiite",1.0842364153408655,{"$f":"[1]!AgePb76($C$9)","v":5350.758246584749},4.8188888888888881,{"$f":"[1]!AgePb6U8(E9)","v":11352.840167317821},8.012439024390245,{"$f":"[1]!AgePb8Th2(G9)","v":44438.721312121168},13.010999999999999,14.106999999999999,32.850999999999999,2.7,0.49,1.9599999999999999E-2,0.49,4.0999999999999996,0.5]
["ABDP-214.18","Tholeiite",1.075210179504658,{"$f":"[1]!AgePb76($C$10)","v":5339.0616019936288},2.0259321773822307,{"$f":"[1]!AgePb6U8(E10)","v":7137.5935653456636},11.848766535573828,{"$f":"[1]!AgePb8Th2(G10)","v":51606.828040109933},13.202999999999999,14.196,33.140999999999998,6.5170000000000003,0.17,4.7300000000000002E-2,0.17,2.7970000000000002,0.19]
["ABDP-217.80","Tholeiite",1.0227891643973055,{"$f":"[1]!AgePb76($C$11)","v":5269.0151859386178},null,null,null,null,13.954000000000001,14.272,33.962000000000003]
["ABDP-223.25","Tholeiite",1.1256746958833481,{"$f":"[1]!AgePb76($C$12)","v":5403.1702168046904},121.69607843137256,{"$f":"[1]!AgePb6U8(E12)","v":31005.385273692853},64.268924302788847,{"$f":"[1]!AgePb8Th2(G12)","v":84457.120399835621},12.413,13.973000000000001,32.262999999999998,0.10199999999999999,7.0000000000000007E-2,6.9999999999999999E-4,7.0000000000000007E-2,0.502,0.06]
["ABDP-229.45","Tholeiite",1.115047770700637,{"$f":"[1]!AgePb76($C$13)","v":5389.9253885410144},13.652173913043478,{"$f":"[1]!AgePb6U8(E13)","v":17305.970761793469},16.939884997386304,{"$f":"[1]!AgePb8Th2(G13)","v":58353.237922344662},12.56,14.005000000000001,32.405999999999999,0.92,0.1,6.7000000000000002E-3,0.1,1.913,0.11]
["ABDP-229.60","Tholeiite",1.1189466101016567,{"$f":"[1]!AgePb76($C$14)","v":5394.8000813471717},19.861685214626391,{"$f":"[1]!AgePb6U8(E14)","v":19583.653396966205},27.099916036943746,{"$f":"[1]!AgePb8Th2(G14)","v":67423.276166268144},12.493,13.978999999999999,32.276000000000003,0.629,0.19,4.5999999999999999E-3,0.19,1.1910000000000001,0.19]
["ABDP-261.45","Tholeiite",1.0372580410420607,{"$f":"[1]!AgePb76($C$15)","v":5288.7210274272065},4.9342908438061039,{"$f":"[1]!AgePb6U8(E15)","v":11479.436156515339},2.441351603414879,{"$f":"[1]!AgePb8Th2(G15)","v":24979.571544954521},13.742000000000001,14.254,34.03,2.7850000000000001,0.03,2.0199999999999999E-2,0.03,13.939,0.26]
[null,null,"Average",{"$f":"AVERAGE(D3:D15)","v":5325.2282003156715},"AVG",{"$f":"AVERAGE(F3:F15)","v":15192.078312666068},"AVG",{"$f":"AVERAGE(H3:H15)","v":56975.512999314051}]
[null,null,"Maximum",{"$f":"MAX(D3:D15)","v":5403.1702168046904},"MAX",{"$f":"MAX(F3:F15)","v":31005.385273692853},"MAX",{"$f":"MAX(H3:H15)","v":100601.17953859721}]
[null,null,"Miunimum",{"$f":"MIN(D3:D15)","v":5222.3361132001573},"MIN",{"$f":"MIN(F3:F15)","v":7137.5935653456636},"MIN",{"$f":"MIN(H3:H15)","v":24979.571544954521}]
[null,null,"Std Deviation",{"$f":"STDEV(D3:D15)","v":52.24166300878624},"STD DEV",{"$f":"STDEV(F3:F15)","v":6421.4033316286832},"STD DEV",{"$f":"STDEV(H3:H15)","v":22417.28591357746}]
["Dating","207Pb/206Pb","206/Pb/238U","208Pb/232Th"]
["Summary","Age","Age","Age"]
["Average",5325.2282003156715,15192.078312666068,56975.512999314051,null,null,null,"207Pb/206Pb","206/Pb/238U","208Pb/232Th",null,"206/Pb/238U","206/Pb/238U","206/Pb/238U"]
["Maximum",5403.1702168046904,31005.385273692853,100601.17953859721,null,null,null,"Age","Age","Age",null,"Age","Age","Age"]
["Miunimum",5222.3361132001573,7137.5935653456636,24979.571544954521,null,null,null,5403.1702168046904,31005.385273692853,100601.17953859721,null,31005.385273692853,17087.510164840198,11352.840167317821]
["Std Deviation",52.241663008819465,6421.4033316286832,22417.28591357746,null,null,null,5394.8000813471717,20343.450167881376,84457.120399835621,null,20343.450167881376,13409.898319050528,10651.502744941312]
[null,null,null,null,null,null,null,5389.9253885410144,19583.653396966205,73968.265807593663,null,19583.653396966205,13021.841060790997,9925.8579728570567]
[null,null,null,null,null,null,null,5350.758246584749,17305.970761793469,67423.276166268144,null,17305.970761793469,11479.436156515339,7137.5935653456636]
[null,null,null,null,null,null,null,5339.0616019936288,17087.510164840198,58353.237922344662,null,17087.510164840198]
[null,null,null,null,null,null,null,5332.1437457872435,13409.898319050528,57115.674508959499,null,13409.898319050528]
[null,null,null,null,null,null,null,5328.4022190224496,13021.841060790997,55310.711180948121,null,13021.841060790997]
[null,null,null,null,null,null,null,5315.1231346929635,11479.436156515339,51606.828040109933,null,11479.436156515339]
[null,null,null,null,null,null,null,5298.1847762047119,11352.840167317821,44438.721312121168,null,11352.840167317821]
[null,null,null,null,null,null,null,5296.3248665591236,10651.502744941312,39090.244257016078,null,10651.502744941312]
[null,null,null,null,null,null,null,5288.7210274272065,9925.8579728570567,26361.325313019875,null,9925.8579728570567]
[null,null,null,null,null,null,null,5269.0151859386178,7137.5935653456636,24979.571544954521,null,7137.5935653456636]

{"sheet":"Th_232_02","index":20,"n_rows":9,"n_cols":5,"rows_kept":9,"cut":false,"hidden":false,"merged":[]}
["Rock","207Pb/206Pb","207Pb/206Pb","232Th/208Pb","232Th/208Pb"]
["Sample","Ratio","Age","Ratio","Age"]
["Garnet",0.9543963863622299,{"$f":"[1]!AgePb76($B$3)","v":5171.6967681405231},39.17,{"$f":"[1]!AgePb8Th2(1/D3)","v":509.53614337445077}]
["Clinopyroxene",0.99831497083603371,{"$f":"[1]!AgePb76($B$4)","v":5235.0025579373369},3.84,{"$f":"[1]!AgePb8Th2(1/D4)","v":4677.965722666092}]
["Phlogopite",0.8924749741111494,{"$f":"[1]!AgePb76($B$5)","v":5076.9959098502413},118.4,{"$f":"[1]!AgePb8Th2(1/D5)","v":169.99451255374453}]
[null,"AVG",{"$f":"AVERAGE(C3:C5)","v":5161.2317453093674},"AVG",{"$f":"AVERAGE(E3:E5)","v":1785.8321261980957}]
[null,"MAX",{"$f":"MAX(C3:C5)","v":5235.0025579373369},"MAX",{"$f":"MAX(E3:E5)","v":4677.965722666092}]
[null,"MIN",{"$f":"MIN(C3:C5)","v":5076.9959098502413},"MIN",{"$f":"MIN(E3:E5)","v":169.99451255374453}]
[null,"STD DEV",{"$f":"STDEV(C3:C5)","v":79.521460858514629},"STD DEV",{"$f":"STDEV(E3:E5)","v":2510.4082705068663}]

{"sheet":"Th_232_03","index":21,"n_rows":33,"n_cols":26,"rows_kept":33,"cut":false,"hidden":false,"merged":[]}
["Sample",null,null,null,null,null,null,"238U/204Pb","232Th/204Pb","206Pb/204Pb","207Pb/204Pb","208Pb/204Pb","238U/206Pb","238U/206Pb","232Th/208Pb","232Th/208Pb","207Pb/206Pb","207Pb/206Pb",null,null,null,"238U/206Pb",null,"232Th/208Pb",null,"207Pb/206Pb"]
["Number",null,null,null,null,null,null,"Ratio","Ratio","Ratio","Ratio","Ratio","Ratio","Age","Ratio","Age","Ratio","Age",null,null,null,6285.4825103415596,null,13286.710379461309,null,5015.8465195765784]
["D-37",2.2999999999999998,1.45,0.54,18.759,15.670999999999999,39.279000000000003,15.2,42.1,18.603000000000002,15.664,39.14,{"$f":"(J3/H3)","v":1.2238815789473685},{"$f":"[1]!AgePb6U8(M3)","v":5152.3231464592272},{"$f":"(L3/I3)","v":0.92969121140142519},{"$f":"[1]!AgePb8Th2(O3)","v":13286.710379461309},{"$f":"(K3/J3)","v":0.84201472880718153},{"$f":"[1]!AgePb76($Q$3)","v":4994.5194177343756},null,null,null,6164.8292297988119,null,11832.492678472823,null,4999.5082676877455]
["D-34",2.5099999999999998,2.2000000000000002,0.5,18.79,15.68,39.481000000000002,12.9,58.7,18.657,15.673999999999999,39.29,{"$f":"(J4/H4)","v":1.4462790697674419},{"$f":"[1]!AgePb6U8(M4)","v":5766.756635343243},{"$f":"(L4/I4)","v":0.66933560477001697},{"$f":"[1]!AgePb8Th2(O4)","v":10357.265403005078},{"$f":"(K4/J4)","v":0.84011363027281982},{"$f":"[1]!AgePb76($Q$4)","v":4991.310295048369},null,null,null,5766.756635343243,null,11017.080887984719,null,4999.3884687562731]
["D-29",5.93,7.89,1.61,19.225000000000001,15.733000000000001,41.098999999999997,18.100000000000001,91.6,19.039000000000001,15.724,40.799999999999997,1.051878453038674,{"$f":"[1]!AgePb6U8(M5)","v":4633.3968872986497},0.44541484716157204,{"$f":"[1]!AgePb8Th2(O5)","v":7446.1116083440766},0.82588371237985181,{"$f":"[1]!AgePb76($Q$5)","v":4967.0418297671768},null,null,null,5552.6113639994774,null,10357.265403005078,null,4998.7349138715736]
["I)-26",3.94,4.4000000000000004,1.2,19.204000000000001,15.734,41.034999999999997,20.3,76.8,18.995000000000001,15.724,40.78,0.93571428571428572,{"$f":"[1]!AgePb6U8(M6)","v":4257.7044207600111},0.53098958333333335,{"$f":"[1]!AgePb8Th2(O6)","v":8608.6773687818568},0.82779678862858641,{"$f":"[1]!AgePb76($Q$6)","v":4970.3302394954389},null,null,null,5152.3231464592272,null,9101.2620521979952,null,4994.5194177343756]
["I)-20",2.4500000000000002,4.41,1.02,18.811,15.673,39.497999999999998,27,121,18.533000000000001,15.66,39.1,0.68640740740740747,{"$f":"[1]!AgePb6U8(M7)","v":3368.8990929459355},0.32314049586776861,{"$f":"[1]!AgePb8Th2(O7)","v":5659.5871532274459},0.84497922624507626,{"$f":"[1]!AgePb76($Q$7)","v":4999.5082676877455},null,null,null,4903.3871163054519,null,8725.1212708534385,null,4991.310295048369]
["I)-19",3.26,3.53,1.1100000000000001,19.141999999999999,15.599,39.54,22.2,72.8,18.914999999999999,15.587999999999999,39.299999999999997,0.85202702702702704,{"$f":"[1]!AgePb6U8(M8)","v":3972.8008350983082},0.5398351648351648,{"$f":"[1]!AgePb8Th2(O8)","v":8725.1212708534385},0.82410785091197458,{"$f":"[1]!AgePb76($Q$8)","v":4963.9820251163601},null,null,null,null,null,8608.6773687818568,null,4989.0433634786614]
["D-18",3.14,4.05,1.06,19.302,15.606,39.670999999999999,22.1,87.1,19.074999999999999,15.595000000000001,39.39,0.86312217194570129,{"$f":"[1]!AgePb6U8(M9)","v":4011.3048673005442},0.45223880597014932,{"$f":"[1]!AgePb8Th2(O9)","v":7541.3111632338196},0.81756225425950202,{"$f":"[1]!AgePb76($Q$9)","v":4952.6431307491439},null,null,null,null,null,7541.3111632338196,null,4973.0131468251384]
["1)-16",1.76,2.79,0.45,19.204000000000001,15.611000000000001,39.646999999999998,16.7,107,19.032,15.603,39.299999999999997,1.1396407185628743,{"$f":"[1]!AgePb6U8(M10)","v":4903.3871163054519},0.36728971962616819,{"$f":"[1]!AgePb8Th2(O10)","v":6323.0009815901449},0.81982976040353084,{"$f":"[1]!AgePb76($Q$10)","v":4956.5820094478722},null,null,null,null,null,7517.3779127594671,null,4970.5623799364876]
["D-16*",2.2400000000000002,3.43,0.41,19.187999999999999,15.608000000000001,39.692,11.9,103,19.065000000000001,15.602,39.35,1.6021008403361345,{"$f":"[1]!AgePb6U8(M11)","v":6164.8292297988119},0.38203883495145635,{"$f":"[1]!AgePb8Th2(O11)","v":6539.8650933685849},0.81835824809861002,{"$f":"[1]!AgePb76($Q$11)","v":4954.0271711566356},null,null,null,null,null,7446.1116083440766,null,4970.3302394954389]
["D-8",2.48,3.5,0.8,19.178999999999998,15.646000000000001,39.956000000000003,21.1,95.5,18.960999999999999,15.635999999999999,39.64,0.89862559241706153,{"$f":"[1]!AgePb6U8(M12)","v":4132.9911490749901},0.41507853403141359,{"$f":"[1]!AgePb8Th2(O12)","v":7017.383135671429},0.82464005063024104,{"$f":"[1]!AgePb76($Q$12)","v":4964.8997387989239},null,null,null,null,null,7362.9446344019061,null,4969.3971041234299]
["1)-6",2.4300000000000002,3.24,0.78,19.227,15.657999999999999,40.015000000000001,21.1,90.4,19.010000000000002,15.648,39.72,0.90094786729857823,{"$f":"[1]!AgePb6U8(M13)","v":4140.8711638996983},0.43938053097345131,{"$f":"[1]!AgePb8Th2(O13)","v":7361.5529905410785},0.82314571278274584,{"$f":"[1]!AgePb76($Q$13)","v":4962.3213347077717},null,null,null,null,null,7361.5529905410785,null,4969.3270684060535]
["D-5",2.11,2.95,0.71,19.151,15.666,39.987000000000002,22,94.6,18.925000000000001,15.654999999999999,39.68,0.86022727272727273,{"$f":"[1]!AgePb6U8(M14)","v":4001.2807084537167},0.41945031712473574,{"$f":"[1]!AgePb8Th2(O14)","v":7079.7310976048821},0.82721268163804484,{"$f":"[1]!AgePb76($Q$14)","v":4969.3270684060535},null,null,null,null,null,7079.7310976048821,null,4967.0418297671768]
["D-3",7.25,5.92,1.51,18.859000000000002,15.708,40.334000000000003,13.7,55.4,18.719000000000001,15.701000000000001,40.15,1.3663503649635038,{"$f":"[1]!AgePb6U8(M15)","v":5552.6113639994774},0.72472924187725629,{"$f":"[1]!AgePb8Th2(O15)","v":11017.080887984719},0.83877343875207011,{"$f":"[1]!AgePb76($Q$15)","v":4989.0433634786614},null,null,null,null,null,7017.383135671429,null,4964.8997387989239]
["D-1",5.46,4.04,0.94,18.443000000000001,15.672000000000001,39.307000000000002,11.1,49.2,18.329000000000001,15.667,39.15,1.6512612612612614,{"$f":"[1]!AgePb6U8(M16)","v":6285.4825103415596},0.7957317073170731,{"$f":"[1]!AgePb8Th2(O16)","v":11832.492678472823},0.8547656718860821,{"$f":"[1]!AgePb76($Q$16)","v":5015.8465195765784},null,null,null,null,null,6678.7593696324566,null,4963.9820251163601]
["W-5",1.39,2.52,0.67,19.25,15.71,40.326999999999998,31.8,124,18.922999999999998,15.694000000000001,39.92,0.59506289308176097,{"$f":"[1]!AgePb6U8(M17)","v":3009.9156606519509},0.32193548387096776,{"$f":"[1]!AgePb8Th2(O17)","v":5641.171062670187},0.82936109496380084,{"$f":"[1]!AgePb76($Q$17)","v":4973.0131468251384},null,null,null,null,null,6539.8650933685849,null,4963.4825097213607]
["W-1",2.14,3.2,0.81,19.202999999999999,15.698,40.268000000000001,24.9,102,18.946000000000002,15.686,39.94,0.7608835341365463,{"$f":"[1]!AgePb6U8(M18)","v":3647.4822956861349},0.39156862745098037,{"$f":"[1]!AgePb8Th2(O18)","v":6678.7593696324566},0.82793201731236143,{"$f":"[1]!AgePb76($Q$18)","v":4970.5623799364876},null,null,null,null,null,6478.7171365666209,null,4962.3213347077717]
["B-5",1.03,1.06,0.32,18.696999999999999,15.625999999999999,39.186999999999998,20,68.5,18.491,15.616,38.96,0.92454999999999998,{"$f":"[1]!AgePb6U8(M19)","v":4220.4169165408302},0.56875912408759122,{"$f":"[1]!AgePb8Th2(O19)","v":9101.2620521979952},0.84451895516737874,{"$f":"[1]!AgePb76($Q$19)","v":4998.7349138715736},null,null,null,null,null,6323.0009815901449,null,4956.5820094478722]
["B-4",1.1499999999999999,1.53,0.4,18.690000000000001,15.608000000000001,39.137,22.4,88.4,18.46,15.597,38.85,0.82410714285714293,{"$f":"[1]!AgePb6U8(M20)","v":3874.8791653729695},0.43947963800904977,{"$f":"[1]!AgePb8Th2(O20)","v":7362.9446344019061},0.84490790899241597,{"$f":"[1]!AgePb76($Q$20)","v":4999.3884687562731},null,null,null,null,null,5659.5871532274459,null,4954.0271711566356]
["A171",1.96,3.04,0.78,18.888000000000002,15.603,38.954000000000001,25.7,103,18.86,15.602,38.92,0.73385214007782096,{"$f":"[1]!AgePb6U8(M21)","v":3547.7557048693279},0.37786407766990293,{"$f":"[1]!AgePb8Th2(O21)","v":6478.7171365666209},0.82725344644750798,{"$f":"[1]!AgePb76($Q$21)","v":4969.3971041234299},null,null,null,null,null,5641.171062670187,null,4952.6431307491439]
["A172",2.57,3.34,0.79,18.956,15.6,39.003,19.7,86.5,18.934999999999999,15.599,38.97,0.96116751269035527,{"$f":"[1]!AgePb6U8(M22)","v":4341.9175867307295},0.4505202312138728,{"$f":"[1]!AgePb8Th2(O22)","v":7517.3779127594671},0.82381832585159764,{"$f":"[1]!AgePb76($Q$22)","v":4963.4825097213607}]
[null,null,null,null,null,null,null,null,null,null,null,null,"AVG",{"$f":"AVERAGE(N3:N22)","v":4449.3503228465779},"AVG",{"$f":"AVERAGE(P3:P22)","v":8078.806169018465},"AVG",{"$f":"AVERAGE(R3:R22)","v":4976.2980467202678}]
[null,null,null,null,null,null,null,null,null,null,null,null,"MAX",{"$f":"MAX(N3:N22)","v":6285.4825103415596},"MAX",{"$f":"MAX(P3:P22)","v":13286.710379461309},"MAX",{"$f":"MAX(R3:R22)","v":5015.8465195765784}]
[null,null,null,null,null,null,null,null,null,null,null,null,"MIN",{"$f":"MIN(N3:N22)","v":3009.9156606519509},"MIN",{"$f":"MIN(P3:P22)","v":5641.171062670187},"MIN",{"$f":"MIN(R3:R22)","v":4952.6431307491439}]
[null,null,null,null,null,null,null,null,null,null,null,null,"STD DEV",{"$f":"STDEV(N3:N22)","v":916.00071344877324},"STD DEV",{"$f":"STDEV(P3:P22)","v":2086.3408398770539},"STD DEV",{"$f":"STDEV(R3:R22)","v":18.072755501381227}]
[]
[null,null,null,null,null,null,null,null,null,null,"Dating","238U/206Pb","232Th/208Pb","207Pb/206Pb",null,"Age","Age","Age","Age"]
[null,null,null,null,null,null,null,null,null,null,"Summary","Age","Age","Age",null,13286.710379461309,8725.1212708534385,7362.9446344019061,6539.8650933685849]
[null,null,null,null,null,null,null,null,null,null,"Average",4449.3503228465779,8078.806169018465,4976.2980467202678,null,11832.492678472823,8608.6773687818568,7361.5529905410785,6478.7171365666209]
[null,null,null,null,null,null,null,null,null,null,"Maximum",6285.4825103415596,13286.710379461309,5015.8465195765784,null,11017.080887984719,7541.3111632338196,7079.7310976048821,6323.0009815901449]
[null,null,null,null,null,null,null,null,null,null,"Miunimum",3009.9156606519509,5641.171062670187,4952.6431307491439,null,10357.265403005078,7517.3779127594671,7017.383135671429,5659.5871532274459]
[null,null,null,null,null,null,null,null,null,null,"Std Deviation",916.00071344877324,2086.3408398770539,18.072755501546045,null,9101.2620521979952,7446.1116083440766,6678.7593696324566,5641.171062670187]

{"sheet":"PlotDat2","index":22,"n_rows":81,"n_cols":8,"rows_kept":81,"cut":false,"hidden":true,"merged":[]}
["Source sheet","Plot_08",1.9486000000000001,1.4E-3,0.25129304251593926,0,0.33610000000000001,2.9999999999999997E-4]
["Plot name","PbPlot2",2.2284999999999999,1.9E-3,4.5,6.0183650369106025E-3,0.38109999999999999,3.6361345022489989E-4]
["Plot Type",9,3.54,2.7000000000000001E-3,null,null,0.42609999999999998,4.405298128400012E-4]
["1st free col",9,3.5996999999999999,4.1000000000000003E-3,null,null,0.47109999999999996,5.2586043515878288E-4]
["Sigma Level",1,2.8624000000000001,8.5000000000000006E-3,null,null,0.5161,6.1471666449472396E-4]
["Absolute Errs",true,0.33610000000000001,2.9999999999999997E-4,null,null,0.56110000000000004,7.0220984816130331E-4]
["Symbol Type",12,1.2217,8.9999999999999998E-4,null,null,0.60610000000000008,7.8345133347199969E-4]
["Inverse Plot",true,"IsoLine","IsoLine",null,null,0.65110000000000012,8.5355246774029218E-4]
["Color Plot",true,null,null,null,null,0.69610000000000016,9.0762459827965975E-4]
["3D plot",false,null,null,null,null,0.7411000000000002,9.4077907240358116E-4]
["Linear",false,null,null,null,null,0.78610000000000024,9.4812723742553539E-4]
["Data Range","K3:L9",null,null,null,null,0.83110000000000028,9.2478044065900131E-4]
["Filled Symbols",true,null,null,null,null,0.87610000000000032,8.6585002941745809E-4]
["ConcAge",false,null,null,null,null,0.92110000000000036,7.6644735101438408E-4]
["ConcSwap",false,null,null,null,null,0.9661000000000004,6.2168375276325921E-4]
["1st Symbol-row",1,null,null,null,null,1.0111000000000003,4.2667058197756204E-4]
[null,null,null,null,null,null,1.0561000000000003,1.7651918597077151E-4]
[null,null,null,null,null,null,1.1011000000000002,-1.3365908794363342E-4]
[null,null,null,null,null,null,1.1461000000000001,-5.087528924521738E-4]
[null,null,null,null,null,null,1.1911,-9.5365088024137058E-4]
[null,null,null,null,null,null,1.2217,8.9999999999999998E-4]
[null,null,null,null,null,null,1.2666999999999999,9.6947336796372513E-4]
[null,null,null,null,null,null,1.3116999999999999,1.0304645993032746E-3]
[null,null,null,null,null,null,1.3566999999999998,1.0835810930299242E-3]
[null,null,null,null,null,null,1.4016999999999997,1.1294302481549504E-3]
[null,null,null,null,null,null,1.4466999999999997,1.1686194636896295E-3]
[null,null,null,null,null,null,1.4916999999999996,1.2017561386452374E-3]
[null,null,null,null,null,null,1.5366999999999995,1.2294476720330508E-3]
[null,null,null,null,null,null,1.5816999999999994,1.2523014628643455E-3]
[null,null,null,null,null,null,1.6266999999999994,1.2709249101503979E-3]
[null,null,null,null,null,null,1.6716999999999993,1.285925412902484E-3]
[null,null,null,null,null,null,1.7166999999999992,1.2979103701318802E-3]
[null,null,null,null,null,null,1.7616999999999992,1.3074871808498628E-3]
[null,null,null,null,null,null,1.8066999999999991,1.315263244067708E-3]
[null,null,null,null,null,null,1.851699999999999,1.3218459587966917E-3]
[null,null,null,null,null,null,1.8966999999999989,1.3278427240480904E-3]
[null,null,null,null,null,null,1.9416999999999989,1.3338609388331803E-3]
[null,null,null,null,null,null,1.9486000000000001,1.4E-3]
[null,null,null,null,null,null,1.9936,2.5704346320412946E-3]
[null,null,null,null,null,null,2.0386000000000002,1.5578786438601373E-3]
[null,null,null,null,null,null,2.0836000000000001,-8.2225496392492516E-3]
[null,null,null,null,null,null,2.1286,-3.3355731891992632E-2]
[null,null,null,null,null,null,2.1736,-8.0426549789075763E-2]
[null,null,null,null,null,null,2.2185999999999999,-0.15601988500520442]
[null,null,null,null,null,null,2.2284999999999999,1.9E-3]
[null,null,null,null,null,null,2.2734999999999999,2.0845290441243317E-3]
[null,null,null,null,null,null,2.3184999999999998,2.425529187586482E-3]
[null,null,null,null,null,null,2.3634999999999997,2.9400278822807623E-3]
[null,null,null,null,null,null,2.4084999999999996,3.6450525801014831E-3]
[null,null,null,null,null,null,2.4534999999999996,4.5576307329429555E-3]
[null,null,null,null,null,null,2.4984999999999995,5.6947897926994907E-3]
[null,null,null,null,null,null,2.5434999999999994,7.0735572112654004E-3]
[null,null,null,null,null,null,2.5884999999999994,8.7109604405349941E-3]
[null,null,null,null,null,null,2.6334999999999993,1.0624026932402586E-2]
[null,null,null,null,null,null,2.6784999999999992,1.2829784138762483E-2]
[null,null,null,null,null,null,2.7234999999999991,1.5345259511508998E-2]
[null,null,null,null,null,null,2.7684999999999991,1.8187480502536445E-2]
[null,null,null,null,null,null,2.813499999999999,2.1373474563739132E-2]
[null,null,null,null,null,null,2.8584999999999989,2.4920269147011367E-2]
[null,null,null,null,null,null,2.8624000000000001,8.5000000000000006E-3]
[null,null,null,null,null,null,2.9074,8.6100087028005545E-3]
[null,null,null,null,null,null,2.9523999999999999,8.7143378150009391E-3]
[null,null,null,null,null,null,2.9973999999999998,8.8127593896121011E-3]
[null,null,null,null,null,null,3.0423999999999998,8.905045479644982E-3]
[null,null,null,null,null,null,3.0873999999999997,8.990968138110525E-3]
[null,null,null,null,null,null,3.1323999999999996,9.0702994180196748E-3]
[null,null,null,null,null,null,3.1773999999999996,9.1428113723833748E-3]
[null,null,null,null,null,null,3.2223999999999995,9.2082760542125663E-3]
[null,null,null,null,null,null,3.2673999999999994,9.2664655165181943E-3]
[null,null,null,null,null,null,3.3123999999999993,9.3171518123112019E-3]
[null,null,null,null,null,null,3.3573999999999993,9.3601069946025323E-3]
[null,null,null,null,null,null,3.4023999999999992,9.3951031164031303E-3]
[null,null,null,null,null,null,3.4473999999999991,9.4219122307239358E-3]
[null,null,null,null,null,null,3.4923999999999991,9.4403063905758953E-3]
[null,null,null,null,null,null,3.537399999999999,9.4500576489699502E-3]
[null,null,null,null,null,null,3.54,2.7000000000000001E-3]
[null,null,null,null,null,null,3.5549249999999999,2.7193115363555883E-3]
[null,null,null,null,null,null,3.5698499999999997,2.7377203114238033E-3]
[null,null,null,null,null,null,3.5847749999999996,2.7552570573351133E-3]
[null,null,null,null,null,null,3.5996999999999995,2.7719525062199872E-3]
[null,null,null,null,null,null,"IsoLine","IsoLine"]