{"text_format":"1","workbook":"xlsx","n_sheets":8,"sheets":["Index","Os_Os_01","Os_Os_02","Os_Os_03","Rh_Os_01","Rh_Os_02","Rh_Os_03","Rh_Os_04"],"not_rendered":{"charts":0,"images":0,"macros":0,"external_links":1,"defined_names":8,"comments":0,"pivot_tables":0},"unopened":[],"bounds":{"document_bytes":16777216,"sheet_cells":100000,"rows_first":2000,"rows_last":500,"rows_between":2000,"halvings":0,"cell_chars":16384,"cell_head_chars":4096},"cells_cut":0,"cells_raw":0,"read":"whole","date_system":"1900"}

{"sheet":"Index","index":0,"n_rows":51,"n_cols":9,"rows_kept":51,"cut":false,"hidden":false,"merged":[]}
["Number","Spreadsheet","Magazine","Title","Folder","File Name","Hyperlink"]
[1,{"$f":"(\"Rh_Os_00\" & A2)","v":"Rh_Os_001"},"XXX","XXX",{"$f":"(\"C:\\Essays\\Geo_Dating\\Rhenium\\\")","v":"C:\\Essays\\Geo_Dating\\Rhenium\\"},{"$f":"(\"Rhenium_00\" & A2 & \".pdf\")","v":"Rhenium_001.pdf"},{"$f":"(E2 & F2)","v":"C:\\Essays\\Geo_Dating\\Rhenium\\Rhenium_001.pdf"},{"$f":"(A2)","v":1},{"$f":"(D2 & \", \"  & C2)","v":"XXX, XXX"}]
[2,{"$f":"(\"Rh_Os_00\" & A3)","v":"Rh_Os_002"},"XXX","XXX","C:\\Essays\\Geo_Dating\\Rhenium\\",{"$f":"(\"Rhenium_00\" & A3 & \".pdf\")","v":"Rhenium_002.pdf"},"C:\\Essays\\Geo_Dating\\Rhenium\\Rhenium_002.pdf",2,{"$f":"(D3 & \", \"  & C3)","v":"XXX, XXX"}]
[3,"Rh_Os_003","XXX","XXX","C:\\Essays\\Geo_Dating\\Rhenium\\","Rhenium_003.pdf","C:\\Essays\\Geo_Dating\\Rhenium\\Rhenium_003.pdf",3,"XXX, XXX"]
[4,"Rh_Os_004","XXX","XXX","C:\\Essays\\Geo_Dating\\Rhenium\\","Rhenium_004.pdf","C:\\Essays\\Geo_Dating\\Rhenium\\Rhenium_004.pdf",4,"XXX, XXX"]
[5,"Rh_Os_005","XXX","XXX","C:\\Essays\\Geo_Dating\\Rhenium\\","Rhenium_005.pdf","C:\\Essays\\Geo_Dating\\Rhenium\\Rhenium_005.pdf",5,"XXX, XXX"]
[6,"Rh_Os_006","XXX","XXX",{"$f":"(\"C:\\Essays\\Geo_Dating\\Rhenium\\\")","v":"C:\\Essays\\Geo_Dating\\Rhenium\\"},"Rhenium_006.pdf","C:\\Essays\\Geo_Dating\\Rhenium\\Rhenium_006.pdf",6,"XXX, XXX"]
[7,"Rh_Os_007","XXX","XXX",{"$f":"(\"C:\\Essays\\Geo_Dating\\Rhenium\\\")","v":"C:\\Essays\\Geo_Dating\\Rhenium\\"},"Rhenium_007.pdf","C:\\Essays\\Geo_Dating\\Rhenium\\Rhenium_007.pdf",7,"XXX, XXX"]
[8,"Rh_Os_008","XXX","XXX","C:\\Essays\\Geo_Dating\\Rhenium\\","Rhenium_008.pdf","C:\\Essays\\Geo_Dating\\Rhenium\\Rhenium_008.pdf",8,"XXX, XXX"]
[9,"Rh_Os_009","XXX","XXX","C:\\Essays\\Geo_Dating\\Rhenium\\","Rhenium_009.pdf","C:\\Essays\\Geo_Dating\\Rhenium\\Rhenium_009.pdf",9,"XXX, XXX"]
[10,{"$f":"(\"Rh_Os_0\" & A11)","v":"Rh_Os_010"},"XXX","XXX","C:\\Essays\\Geo_Dating\\Rhenium\\",{"$f":"(\"Rhenium_0\" & A11 & \".pdf\")","v":"Rhenium_010.pdf"},"C:\\Essays\\Geo_Dating\\Rhenium\\Rhenium_010.pdf",10,"XXX, XXX"]
[11,{"$f":"(\"Rh_Os_0\" & A12)","v":"Rh_Os_011"},"XXX","XXX","C:\\Essays\\Geo_Dating\\Rhenium\\",{"$f":"(\"Rhenium_0\" & A12 & \".pdf\")","v":"Rhenium_011.pdf"},"C:\\Essays\\Geo_Dating\\Rhenium\\Rhenium_011.pdf",11,"XXX, XXX"]
[12,"Rh_Os_012","XXX","XXX","C:\\Essays\\Geo_Dating\\Rhenium\\","Rhenium_012.pdf","C:\\Essays\\Geo_Dating\\Rhenium\\Rhenium_012.pdf",12,"XXX, XXX"]
[13,"Rh_Os_013","XXX","XXX","C:\\Essays\\Geo_Dating\\Rhenium\\","Rhenium_013.pdf","C:\\Essays\\Geo_Dating\\Rhenium\\Rhenium_013.pdf",13,"XXX, XXX"]
[14,"Rh_Os_014","XXX","XXX","C:\\Essays\\Geo_Dating\\Rhenium\\","Rhenium_014.pdf","C:\\Essays\\Geo_Dating\\Rhenium\\Rhenium_014.pdf",14,"XXX, XXX"]
[15,"Rh_Os_015","XXX","XXX","C:\\Essays\\Geo_Dating\\Rhenium\\","Rhenium_015.pdf","C:\\Essays\\Geo_Dating\\Rhenium\\Rhenium_015.pdf",15,"XXX, XXX"]
[16,"Rh_Os_016","XXX","XXX","C:\\Essays\\Geo_Dating\\Rhenium\\","Rhenium_016.pdf","C:\\Essays\\Geo_Dating\\Rhenium\\Rhenium_016.pdf",16,"XXX, XXX"]
[17,"Rh_Os_017","XXX","XXX","C:\\Essays\\Geo_Dating\\Rhenium\\","Rhenium_017.pdf","C:\\Essays\\Geo_Dating\\Rhenium\\Rhenium_017.pdf",17,"XXX, XXX"]
[18,"Rh_Os_018","XXX","XXX","C:\\Essays\\Geo_Dating\\Rhenium\\","Rhenium_018.pdf","C:\\Essays\\Geo_Dating\\Rhenium\\Rhenium_018.pdf",18,"XXX, XXX"]
[19,"Rh_Os_019","XXX","XXX","C:\\Essays\\Geo_Dating\\Rhenium\\","Rhenium_019.pdf","C:\\Essays\\Geo_Dating\\Rhenium\\Rhenium_019.pdf",19,"XXX, XXX"]
[20,"Rh_Os_020","XXX","XXX","C:\\Essays\\Geo_Dating\\Rhenium\\","Rhenium_020.pdf","C:\\Essays\\Geo_Dating\\Rhenium\\Rhenium_020.pdf",20,"XXX, XXX"]
[21,"Rh_Os_021","XXX","XXX","C:\\Essays\\Geo_Dating\\Rhenium\\","Rhenium_021.pdf","C:\\Essays\\Geo_Dating\\Rhenium\\Rhenium_021.pdf",21,"XXX, XXX"]
[22,"Rh_Os_022","XXX","XXX","C:\\Essays\\Geo_Dating\\Rhenium\\","Rhenium_022.pdf","C:\\Essays\\Geo_Dating\\Rhenium\\Rhenium_022.pdf",22,"XXX, XXX"]
[23,"Rh_Os_023","XXX","XXX","C:\\Essays\\Geo_Dating\\Rhenium\\","Rhenium_023.pdf","C:\\Essays\\Geo_Dating\\Rhenium\\Rhenium_023.pdf",23,"XXX, XXX"]
[24,"Rh_Os_024","XXX","XXX","C:\\Essays\\Geo_Dating\\Rhenium\\","Rhenium_024.pdf","C:\\Essays\\Geo_Dating\\Rhenium\\Rhenium_024.pdf",24,"XXX, XXX"]
[25,"Rh_Os_025","XXX","XXX","C:\\Essays\\Geo_Dating\\Rhenium\\","Rhenium_025.pdf","C:\\Essays\\Geo_Dating\\Rhenium\\Rhenium_025.pdf",25,"XXX, XXX"]
[26,"Rh_Os_026","XXX","XXX","C:\\Essays\\Geo_Dating\\Rhenium\\","Rhenium_026.pdf","C:\\Essays\\Geo_Dating\\Rhenium\\Rhenium_026.pdf",26,"XXX, XXX"]
[27,"Rh_Os_027","XXX","XXX","C:\\Essays\\Geo_Dating\\Rhenium\\","Rhenium_027.pdf","C:\\Essays\\Geo_Dating\\Rhenium\\Rhenium_027.pdf",27,"XXX, XXX"]
[28,"Rh_Os_028","XXX","XXX","C:\\Essays\\Geo_Dating\\Rhenium\\","Rhenium_028.pdf","C:\\Essays\\Geo_Dating\\Rhenium\\Rhenium_028.pdf",28,"XXX, XXX"]
[29,"Rh_Os_029","XXX","XXX","C:\\Essays\\Geo_Dating\\Rhenium\\","Rhenium_029.pdf","C:\\Essays\\Geo_Dating\\Rhenium\\Rhenium_029.pdf",29,"XXX, XXX"]
[30,"Rh_Os_030","XXX","XXX","C:\\Essays\\Geo_Dating\\Rhenium\\","Rhenium_030.pdf","C:\\Essays\\Geo_Dating\\Rhenium\\Rhenium_030.pdf",30,"XXX, XXX"]
[31,"Rh_Os_031","XXX","XXX","C:\\Essays\\Geo_Dating\\Rhenium\\","Rhenium_031.pdf","C:\\Essays\\Geo_Dating\\Rhenium\\Rhenium_031.pdf",31,"XXX, XXX"]
[32,"Rh_Os_032","XXX","XXX","C:\\Essays\\Geo_Dating\\Rhenium\\","Rhenium_032.pdf","C:\\Essays\\Geo_Dating\\Rhenium\\Rhenium_032.pdf",32,"XXX, XXX"]
[33,"Rh_Os_033","XXX","XXX","C:\\Essays\\Geo_Dating\\Rhenium\\","Rhenium_033.pdf","C:\\Essays\\Geo_Dating\\Rhenium\\Rhenium_033.pdf",33,"XXX, XXX"]
[34,"Rh_Os_034","XXX","XXX","C:\\Essays\\Geo_Dating\\Rhenium\\","Rhenium_034.pdf","C:\\Essays\\Geo_Dating\\Rhenium\\Rhenium_034.pdf",34,"XXX, XXX"]
[35,"Rh_Os_035","XXX","XXX","C:\\Essays\\Geo_Dating\\Rhenium\\","Rhenium_035.pdf","C:\\Essays\\Geo_Dating\\Rhenium\\Rhenium_035.pdf",35,"XXX, XXX"]
[36,"Rh_Os_036","XXX","XXX","C:\\Essays\\Geo_Dating\\Rhenium\\","Rhenium_036.pdf","C:\\Essays\\Geo_Dating\\Rhenium\\Rhenium_036.pdf",36,"XXX, XXX"]
[37,"Rh_Os_037","XXX","XXX","C:\\Essays\\Geo_Dating\\Rhenium\\","Rhenium_037.pdf","C:\\Essays\\Geo_Dating\\Rhenium\\Rhenium_037.pdf",37,"XXX, XXX"]
[38,"Rh_Os_038","XXX","XXX","C:\\Essays\\Geo_Dating\\Rhenium\\","Rhenium_038.pdf","C:\\Essays\\Geo_Dating\\Rhenium\\Rhenium_038.pdf",38,"XXX, XXX"]
[39,"Rh_Os_039","XXX","XXX","C:\\Essays\\Geo_Dating\\Rhenium\\","Rhenium_039.pdf","C:\\Essays\\Geo_Dating\\Rhenium\\Rhenium_039.pdf",39,"XXX, XXX"]
[40,"Rh_Os_040","XXX","XXX","C:\\Essays\\Geo_Dating\\Rhenium\\","Rhenium_040.pdf","C:\\Essays\\Geo_Dating\\Rhenium\\Rhenium_040.pdf",{"$f":"(A41-4)","v":36},"XXX, XXX"]
[41,"Rh_Os_041","XXX","XXX","C:\\Essays\\Geo_Dating\\Rhenium\\","Rhenium_041.pdf","C:\\Essays\\Geo_Dating\\Rhenium\\Rhenium_041.pdf",37,"XXX, XXX"]
[42,"Rh_Os_042","XXX","XXX","C:\\Essays\\Geo_Dating\\Rhenium\\","Rhenium_042.pdf","C:\\Essays\\Geo_Dating\\Rhenium\\Rhenium_042.pdf",38,"XXX, XXX"]
[43,"Rh_Os_043","XXX","XXX","C:\\Essays\\Geo_Dating\\Rhenium\\","Rhenium_043.pdf","C:\\Essays\\Geo_Dating\\Rhenium\\Rhenium_043.pdf",39,"XXX, XXX"]
[44,"Rh_Os_044","XXX","XXX","C:\\Essays\\Geo_Dating\\Rhenium\\","Rhenium_044.pdf","C:\\Essays\\Geo_Dating\\Rhenium\\Rhenium_044.pdf",40,"XXX, XXX"]
[45,"Rh_Os_045","XXX","XXX","C:\\Essays\\Geo_Dating\\Rhenium\\","Rhenium_045.pdf","C:\\Essays\\Geo_Dating\\Rhenium\\Rhenium_045.pdf",41,"XXX, XXX"]
[46,"Rh_Os_046","XXX","XXX","C:\\Essays\\Geo_Dating\\Rhenium\\","Rhenium_046.pdf","C:\\Essays\\Geo_Dating\\Rhenium\\Rhenium_046.pdf",42,"XXX, XXX"]
[47,"Rh_Os_047","XXX","XXX","C:\\Essays\\Geo_Dating\\Rhenium\\","Rhenium_047.pdf","C:\\Essays\\Geo_Dating\\Rhenium\\Rhenium_047.pdf",43,"XXX, XXX"]
[48,"Rh_Os_048","XXX","XXX","C:\\Essays\\Geo_Dating\\Rhenium\\","Rhenium_048.pdf","C:\\Essays\\Geo_Dating\\Rhenium\\Rhenium_048.pdf",44,"XXX, XXX"]
[49,"Rh_Os_049","XXX","XXX","C:\\Essays\\Geo_Dating\\Rhenium\\","Rhenium_049.pdf","C:\\Essays\\Geo_Dating\\Rhenium\\Rhenium_049.pdf",45,"XXX, XXX"]
[50,"Rh_Os_050","XXX","XXX","C:\\Essays\\Geo_Dating\\Rhenium\\","Rhenium_050.pdf","C:\\Essays\\Geo_Dating\\Rhenium\\Rhenium_050.pdf",46,"XXX, XXX"]

{"sheet":"Os_Os_01","index":1,"n_rows":25,"n_cols":11,"rows_kept":25,"cut":false,"hidden":false,"merged":[]}
["Osmium",null,null,"Rhenium_007.pdf"]
["Osmium","Today","Age","Age","Model Age","Model Age","Model Age"]
["Dating","187Os/186Os","Billion Years","Million Years","Million Years","% Difference"," Difference"]
[null,8.8261108978958429,{"$f":"(1.04-B4)/0.050768","v":-153.36650838906087},{"$f":"(C4* 1000)","v":-153366.50838906088}]
[null,8.8414491689473333,{"$f":"(1.04-B5)/0.050768","v":-153.66863317340318},{"$f":"(C5* 1000)","v":-153668.63317340318}]
[null,8.7987885260400152,-152.82832741175574,-152828.32741175574,null,null,null,null,"186Os/188Os","187Os/188Os","187Os/186Os"]
[null,8.8347821734269942,-153.5373103810864,-153537.3103810864,null,null,null,"PGM79-113","0.119858","1.05788",{"$f":"(J7/I7)","v":8.8261108978958429}]
[null,8.8341301028708745,-153.52446625572949,-153524.46625572949,null,null,null,"PGM79-113","0.119848","1.05963",{"$f":"(J8/I8)","v":8.8414491689473333}]
[null,8.8061146156670347,-152.97263267544585,-152972.63267544584,null,null,null,"PGM79-113","0.119854","1.05457",8.7987885260400152]
[null,10.037962221332265,-177.2368858598382,-177236.88585983819,null,null,null,"PGM79-113","0.119866","1.05899",8.8347821734269942]
[null,10.02085557928457,-176.89992868114894,-176899.92868114894,null,null,null,"PGM79-113","0.119859","1.05885",8.8341301028708745]
[null,10.185949896138348,-180.15186527218617,-180151.86527218617,null,null,null,"PGM79-113","0.119844","1.05536",8.8061146156670347]
[null,16.370456916336323,-301.97086582761432,-301970.86582761433,null,null,null," ","",""," "]
[null,16.371458376799499,-301.99059204222146,-301990.59204222145,null,null,null,"McCreedy","",""," "]
[null,16.345572894934492,-301.48071412965828,-301480.7141296583,null,null,null,"F41874","0.119856","1.20311",10.037962221332265]
[null,17.087074807223686,-316.08640890371271,-316086.4089037127,null,null,null,"F41874","0.119872","1.20122",10.02085557928457]
[null,17.078465082120442,-315.91681929799171,-315916.81929799169,null,null,null,"F41874","0.119871","1.221",10.185949896138348]
[null,17.070349662021194,-315.75696623899296,-315756.96623899299,null,null,null," ","",""," "]
[null,null,"Average",{"$f":"AVERAGE(D4:D18)","v":-220492.59496932308},null,null,null,"Strathcona","",""," "]
[null,null,"Maximum",{"$f":"MAX(D4:D19)","v":-152828.32741175574},null,null,null,"PGM79-138","0.119825","1.96159",16.370456916336323]
[null,null,"Minimum",{"$f":"MIN(D4:D20)","v":-316086.4089037127},null,null,null,"PGM79-138","0.119825","1.96171",16.371458376799499]
[null,null,"Difference",{"$f":"(D20+ABS(D21))","v":163258.08149195695},null,null,null,"PGM79-138","0.119830","1.95869",16.345572894934492]
[null,null,null,null,null,null,null,"PGM79-139","0.119828","2.04751",17.087074807223686]
[null,null,null,null,null,null,null,"PGM79-139","0.119824","2.04641",17.078465082120442]
[null,null,null,null,null,null,null,"PGM79-139","0.119830","2.04554",17.070349662021194]

{"sheet":"Os_Os_02","index":2,"n_rows":68,"n_cols":13,"rows_kept":68,"cut":false,"hidden":false,"merged":[]}
["Osmium","Table 1",null,null,null,null,"Rhenium_021.pdf"]
["Osmium","Today","Age","Age",null,null,null,"Model Age","Model Age","Model Age"]
["Dating","187Os/186Os","Billion Years","Million Years",null,null,null,"Million Years","% Difference"," Difference"]
[null,1.051792004179076,{"$f":"(1.04-B4)/0.050768","v":-0.23227237982737153},{"$f":"(C4* 1000)","v":-232.27237982737154}]
[null,1.0534575817455973,{"$f":"(1.04-B5)/0.050768","v":-0.26508000601948672},{"$f":"(C5/0.050768)","v":-5.2213994252183804},null,null,null,null,null,null,"187Os/188Os","186Os/188Os","187Os/186Os"]
[null,1.0522240565683409,-0.24078270895723514,-4.7428046989685457,null,null,null,null,null,null,0.1260416,0.1198351,{"$f":"(K6/L6)","v":1.051792004179076}]
[null,1.0568513411547886,-0.33192840282832869,-6.5381421924899286,null,null,null,null,null,null,0.1262413,0.1198352,{"$f":"(K7/L7)","v":1.0534575817455973}]
[null,1.0612427996040721,-0.41842892381169339,-8.2419816382700404,null,null,null,null,null,null,0.12606970000000001,0.11981260000000001,1.0522240565683409]
[null,1.0519753279135324,-0.23588338940932077,-4.6463006108044587,null,null,null,null,null,null,0.12661839999999999,0.1198072,1.0568513411547886]
[null,1.0552572635992203,-0.30052914432753519,-5.919656955710983,null,null,null,null,null,null,0.12715789999999999,0.1198198,1.0612427996040721]
[null,1.0711992149427898,-0.61454488935529794,-12.104965516768397,null,null,null,null,null,null,0.12602169999999999,0.11979529999999999,1.0519753279135324]
[null,1.071046331443849,-0.61153347470550223,-12.045648335674091,null,null,null,null,null,null,0.12645190000000001,0.1198304,1.0552572635992203]
[null,1.0782623715779143,-0.75367104431756682,-14.845395609785038,null,null,null,null,null,null,0.12837080000000001,0.1198384,1.0711992149427898]
[null,1.1010045043316017,-1.2016330036952736,-23.66910265709253,null,null,null,null,null,null,0.12835279999999999,0.11983870000000001,1.071046331443849]
[null,1.0746344504051648,-0.68221025853224027,-13.437800554133318,null,null,null,null,null,null,0.1292181,0.11983920000000001,1.0782623715779143]
[null,1.0869478508154151,-0.92475281309909951,-18.215269719096664,null,null,null,null,null,null,0.1319446,0.11984019999999999,1.1010045043316017]
[null,1.0953013940276937,-1.0892962895464393,-21.456356160306477,null,null,null,null,null,null,0.12878429999999999,0.1198401,1.0746344504051648]
[null,1.0812768379119457,-0.81304833580101044,-16.014976674302915,null,null,null,null,null,null,0.13026070000000001,0.1198408,1.0869478508154151]
[null,1.0761786028999438,-0.71262612078363907,{"$f":"(C19/0.050768)","v":-14.036915395202472},null,null,null,null,null,null,0.13126070000000001,0.1198398,1.0953013940276937]
[null,1.0691245008741224,-0.57367831851013096,-11.299998394857607,null,null,null,null,null,null,0.12958,0.1198398,1.0812768379119457]
[null,1.0698668638312574,-0.58830097366958245,-11.588027372943241,null,null,null,null,null,null,0.12896579999999999,0.11983679999999999,1.0761786028999438]
[null,1.0696141688391019,-0.58332352740115501,-11.489984387826091,null,null,null,null,null,null,0.12811800000000001,0.1198345,1.0691245008741224]
[null,1.0647313382021122,-0.48714422868957125,-9.5954977286789163,null,null,null,null,null,null,0.1282045,0.1198322,1.0698668638312574]
[null,1.0645677307376178,-0.48392157929439322,-9.5320197623383471,null,null,null,null,null,null,0.12817700000000001,0.11983480000000001,1.0696141688391019]
[null,1.0713033450406,-0.61659598645997382,-12.145366893712058,null,null,null,null,null,null,0.12759570000000001,0.1198384,1.0647313382021122]
[null,null,null,null,"Average",{"$f":"AVERAGE(F4:F25)","v":{"$error":"#DIV/0!"}},{"$f":"AVERAGE(G21:G25)","v":{"$error":"#DIV/0!"}},null,null,null,0.1275762,0.1198385,1.0645677307376178]
[null,null,null,null,"Maximum",{"$f":"MAX(F4:F26)","v":{"$error":"#DIV/0!"}},{"$f":"MAX(G21:G26)","v":{"$error":"#DIV/0!"}},null,null,null,0.1283851,0.1198401,1.0713033450406]
[null,null,null,null,"Minimum",{"$f":"MIN(F4:F27)","v":{"$error":"#DIV/0!"}},{"$f":"MIN(G21:G27)","v":{"$error":"#DIV/0!"}}]
[null,null,null,null,"Difference",{"$f":"(F27+ABS(F28))","v":{"$error":"#DIV/0!"}},{"$f":"(G27+ABS(G28))","v":{"$error":"#DIV/0!"}}]
[]
[]
[]
[]
["Osmium","Table 2",null,null,null,null,"Rhenium_021.pdf"]
["Osmium","Today","Age","Age",null,null,null,null,null,null,"187Os/188Os","186Os/188Os","187Os/186Os"]
["Dating","187Os/186Os","Billion Years","Million Years",null,null,null,null,null,null,0.1243534,0.1198403,{"$f":"(K36/L36)","v":1.0376592848983188}]
[null,1.0376592848983188,{"$f":"(1.04-B37)/0.050768","v":4.6106112150985111E-2},{"$f":"(C37* 1000)","v":46.106112150985112},null,null,null,null,null,null,0.1245518,0.119839,1.039326095845259]
[null,1.039326095845259,{"$f":"(1.04-B38)/0.050768","v":1.3274191513177606E-2},{"$f":"(C38/0.050768)","v":0.26146768659741582},null,null,null,null,null,null,0.1229181,0.1198352,1.0257261639317996]
[null,1.0257261639317996,0.28115813244958299,{"$f":"(C39/0.050768)","v":5.538097471824436},null,null,null,null,null,null,0.12741939999999999,0.1198374,1.0632690629135813]
[null,1.0632690629135813,-0.45834113838601515,-9.0281503779155212,null,null,null,null,null,null,0.12288880000000001,0.1198393,1.0254465772079777]
[null,1.0254465772079777,0.28666527718291679,5.6465741644917422,null,null,null,null,null,null,0.126133,0.11983779999999999,1.0525310044076244]
[null,1.0525310044076244,-0.24682879781800218,-4.8618972151355617,null,null,null,null,null,null,0.1227834,0.1198362,1.0245935702233548]
[null,1.0245935702233548,0.3034673372330049,5.9775318553617414,null,null,null,null,null,null,0.122294,0.11983820000000001,1.0204926308973266]
[null,1.0204926308973266,0.38424537312231083,7.5686529530868034,null,null,null,null,null,null,0.14688039999999999,0.1198408,1.2256293349176575]
[null,1.2256293349176575,-3.6564240253241693,-72.022219219275314,null,null,null,null,null,null,0.13146720000000001,0.1198388,1.0970336819127029]
[null,1.0970336819127029,-1.1234179387153889,-22.128465543558715,null,null,null,null,null,null,0.14122960000000001,0.1198394,1.1784905465147524]
[null,1.1784905465147524,-2.72791022917492,-53.732867735087453,null,null,null,null,null,null,0.12954399999999999,0.1198375,1.0809971836862418]
[null,1.0809971836862418,-0.80753986145291767,-15.906473791619083,null,null,null,null,null,null,0.1207897,0.119837,1.0079499653696271]
[null,1.0079499653696271,0.63130386523741189,12.435074559514101,null,null,null,null,null,null,0.12093,0.1198393,1.0091013548977672]
[null,1.0091013548977672,0.60862443078775674,11.988347596670279,null,null,null,null,null,null,0.1595461,0.1198398,1.3313281564221568]
[null,1.3313281564221568,-5.7384209821572014,-113.03224436962657,null,null,null,null,null,null,0.14094290000000001,0.11983770000000001,1.1761148620175454]
[null,1.1761148620175454,-2.681115309201572,-52.811127269176886,null,null,null,null,null,null,0.1166746,0.1198369,0.97361163381228988]
[null,0.97361163381228988,1.3076813383964339,25.757984131666284,null,null,null,null,null,null,0.10952679999999999,0.11983199999999999,0.91400293744575734]
[null,0.91400293744575734,2.4818204883832866,48.885528056714598,null,null,null,null,null,null,0.12156160000000001,0.119836,1.0143996795620682]
[null,1.0143996795620682,0.50426096040678792,9.9326536481009278,null,null,null,null,null,null,0.12006559999999999,0.1198375,1.0019034108688849]
[null,1.0019034108688849,0.75040555332325742,14.781073773307151,null,null,null,null,null,null,0.12900239999999999,0.1198399,1.0764561719427335]
[null,1.0764561719427335,-0.71809352235135182,-14.144609248962965,null,null,null,null,null,null,0.12428409999999999,0.1198388,1.0370939962683203]
[null,1.0370939962683203,5.7240855099269364E-2,1.1274987216212844,null,null,null,null,null,null,0.1242834,0.11984,1.0370777703604805]
[null,1.0370777703604805,5.7560464062391493E-2,1.1337942023004943,null,null,null,null,null,null,0.1233602,0.119839,1.0293827551965553]
[null,1.0293827551965553,0.20913261904043345,4.1193787236139583,null,null,null,null,null,null,0.1199733,0.11983820000000001,1.001127353381476]
[null,1.001127353381476,0.76569190471407333,15.082175872874121,null,null,null,null,null,null,0.12386990000000001,0.119837,1.0336532122800137]
[null,1.0336532122800137,0.12501551607284733,2.4624865283810142,null,null,null,null,null,null,0.1238042,0.1198376,1.0330997950559757]
[null,1.0330997950559757,0.13591642262890646,2.6772065598193047,null,null,null,null,null,null,0.1096116,0.11983290000000001,0.91470372493697472]
[null,0.91470372493697472,2.4680167637690142,48.61362991981197]
[null,null,"Average",{"$f":"AVERAGE(D37:D64)","v":-3.127599506914831}]
[null,null,"Maximum",{"$f":"MAX(D37:D65)","v":48.885528056714598}]
[null,null,"Minimum",{"$f":"MIN(D37:D66)","v":-113.03224436962657}]
[null,null,"Difference",{"$f":"(D66+ABS(D67))","v":161.91777242634117}]

{"sheet":"Os_Os_03","index":3,"n_rows":27,"n_cols":13,"rows_kept":27,"cut":false,"hidden":false,"merged":[]}
["Osmium",null,null,null,null,null,"Rhenium_027.pdf"]
["Osmium","Today","Age","Age",null,null,null,"Model Age","Model Age","Model Age"]
["Dating","187Os/186Os","Billion Years","Million Years",null,null,null,"Million Years","% Difference"," Difference"]
[null,1.0823260028939019,{"$f":"(1.04-B4)/0.050768","v":-0.83371420764855564},{"$f":"(C4* 1000)","v":-833.71420764855566}]
[null,1.1040683052038325,{"$f":"(1.04-B5)/0.050768","v":-1.2619820596405698},{"$f":"(C5* 1000)","v":-1261.9820596405698}]
[null,1.1066852139895993,-1.3135284823037987,-1313.5284823037987,null,null,null,null,null,null,"186Os/188Os","187Os/188Os","187Os/186Os"]
[null,1.1073567490480811,-1.326756008668474,-1326.7560086684739,null,null,null,null,null,null,0.11983820000000001,0.12970400000000001,{"$f":"(L7/K7)","v":1.0823260028939019}]
[null,1.1048933950849085,-1.2782342240172635,-1278.2342240172634,null,null,null,null,null,null,0.1198386,0.13231000000000001,{"$f":"(L8/K8)","v":1.1040683052038325}]
[null,1.1288553763938853,-1.7502240859180054,-1750.2240859180054,null,null,null,null,null,null,0.1198376,0.1326225,1.1066852139895993]
[null,1.1445589300436245,-2.05954400495636,-2059.5440049563599,null,null,null,null,null,null,0.1198369,0.13270219999999999,1.1073567490480811]
[null,1.1488331223521304,-2.1437346823221395,-2143.7346823221396,null,null,null,null,null,null,0.119835,0.13240489999999999,1.1048933950849085]
[null,1.1526452247099594,-2.2188233672778011,-2218.823367277801,null,null,null,null,null,null,0.1198359,0.13527739999999999,1.1288553763938853]
[null,1.1001009687998065,-1.1838356602546174,-1183.8356602546173,null,null,null,null,null,null,0.1198404,0.13716439999999999,1.1445589300436245]
[null,1.101263805268011,-1.2067405702019187,-1206.7405702019187,null,null,null,null,null,null,0.1198369,0.13767260000000001,1.1488331223521304]
[null,1.0922589097220483,-1.0293671155461761,-1029.3671155461761,null,null,null,null,null,null,0.1198367,0.13812920000000001,1.1526452247099594]
[null,1.1186367273846964,-1.5489427864933896,-1548.9427864933896,null,null,null,null,null,null,0.119839,0.13183500000000001,1.1001009687998065]
[null,1.1215984031656308,-1.6072802388439709,-1607.2802388439709,null,null,null,null,null,null,0.1198365,0.13197159999999999,1.101263805268011]
[null,0.94949270767279648,1.7827626128112897,1782.7626128112897,null,null,null,null,null,null,0.119841,0.1308974,1.0922589097220483]
[null,0.94953162794229196,1.7819959828574707,1781.9959828574708,null,null,null,null,null,null,0.1198381,0.13405529999999999,1.1186367273846964]
[null,0.94949446067740095,1.7827280830956327,1782.7280830956327,null,null,null,null,null,null,0.1198371,0.1344091,1.1215984031656308]
[null,0.94950597321024799,1.782501315587615,1782.501315587615,null,null,null,null,null,null,0.119852,0.1137986,0.94949270767279648]
[null,0.94947780689743777,1.7830561200473185,1783.0561200473185,null,null,null,null,null,null,0.11985129999999999,0.1138026,0.94953162794229196]
[null,0.94952754821511254,1.782076343068222,1782.0763430682221,null,null,null,null,null,null,0.11985220000000001,0.113799,0.94949446067740095]
[null,null,"Average",{"$f":"AVERAGE(D4:D23)","v":-503.37935183127468},"Average",{"$f":"AVERAGE(F4:F23)","v":{"$error":"#DIV/0!"}},{"$f":"AVERAGE(G19:G23)","v":{"$error":"#DIV/0!"}},null,null,null,0.11985179999999999,0.1138,0.94950597321024799]
[null,null,"Maximum",{"$f":"MAX(D4:D24)","v":1783.0561200473185},"Maximum",{"$f":"MAX(F4:F24)","v":{"$error":"#DIV/0!"}},{"$f":"MAX(G19:G24)","v":{"$error":"#DIV/0!"}},null,null,null,0.11985030000000001,0.1137952,0.94947780689743777]
[null,null,"Minimum",{"$f":"MIN(D4:D25)","v":-2218.823367277801},"Minimum",{"$f":"MIN(F4:F25)","v":{"$error":"#DIV/0!"}},{"$f":"MIN(G19:G25)","v":{"$error":"#DIV/0!"}},null,null,null,0.1198535,0.11380419999999999,0.94952754821511254]
[null,null,"Difference",{"$f":"(D25+ABS(D26))","v":4001.8794873251195},"Difference",{"$f":"(F25+ABS(F26))","v":{"$error":"#DIV/0!"}},{"$f":"(G25+ABS(G26))","v":{"$error":"#DIV/0!"}}]

{"sheet":"Rh_Os_01","index":4,"n_rows":48,"n_cols":12,"rows_kept":48,"cut":false,"hidden":false,"merged":[]}
["Table 1","Rhenium_025.pdf",null,null,null,null,null,null,null,"Age","Age","Age"]
["Sample","238U/204Pb","232Th/204Pb","206Pb/204Pb","208Pb/204Pb","207Pb/204Pb","206Pb/238U","208Pb/232Th","207Pb/206Pb","206Pb/238U","208Pb/232Th","207Pb/206Pb"]
["EMS-3",12.5,56,18.724,39.35,15.61,{"$f":"(D3/B3)","v":1.4979199999999999},{"$f":"(E3/C3)","v":0.70267857142857149},{"$f":"(F3/D3)","v":0.83368938261055325},{"$f":"[1]!AgePb6U8(G3)","v":5901.4239198714477},{"$f":"[1]!AgePb8Th2(H3)","v":10757.001340298715},{"$f":"[1]!AgePb76(I3)","v":4980.4085609923013}]
["Jd-3",13.4,55.2,19.417000000000002,39.890999999999998,15.66,{"$f":"(D4/B4)","v":1.4490298507462687},{"$f":"(E4/C4)","v":0.72266304347826082},{"$f":"(F4/D4)","v":0.80650975948910741},{"$f":"[1]!AgePb6U8(G4)","v":5774.0013978978095},{"$f":"[1]!AgePb8Th2(H4)","v":10992.852441959283},{"$f":"[1]!AgePb76(I4)","v":4933.2760536513306}]
["Jd-10",12.8,57.7,18.84,39.630000000000003,15.64,1.4718749999999998,0.68682842287694978,0.83014861995753719,{"$f":"[1]!AgePb6U8(G5)","v":5833.8563866164814},{"$f":"[1]!AgePb8Th2(H5)","v":10567.965496197035},{"$f":"[1]!AgePb76(I5)","v":4974.3617788326201}]
["Fd-2",10.199999999999999,54.6,18.690000000000001,39.305,15.587999999999999,1.8323529411764707,0.71987179487179487,0.83402889245585865,{"$f":"[1]!AgePb6U8(G6)","v":6711.412049559508},{"$f":"[1]!AgePb8Th2(H6)","v":10960.075799535956},{"$f":"[1]!AgePb76(I6)","v":4980.9869287071579}]
["Fd-3",13.9,64.8,18.350000000000001,38.81,15.64,1.3201438848920863,0.59891975308641976,0.85231607629427786,{"$f":"[1]!AgePb6U8(G7)","v":5425.490430975894},{"$f":"[1]!AgePb8Th2(H7)","v":9486.1697201704173},{"$f":"[1]!AgePb76(I7)","v":5011.7756850836813}]
["Fd-7",10.9,41.5,18.771999999999998,39.25,15.58,1.7222018348623851,0.94578313253012047,0.82995951417004055,{"$f":"[1]!AgePb6U8(G8)","v":6455.7037934065538},{"$f":"[1]!AgePb8Th2(H8)","v":13454.563615282734},{"$f":"[1]!AgePb76(I8)","v":4974.0380603598405}]
["Fd-10",13.6,55.3,18.84,39.35,15.64,1.3852941176470588,0.71157323688969265,0.83014861995753719,{"$f":"[1]!AgePb6U8(G9)","v":5604.0124835146225},{"$f":"[1]!AgePb8Th2(H9)","v":10862.313676140329},{"$f":"[1]!AgePb76(I9)","v":4974.3617788326201}]
["WL-6",13.9,50,19.016999999999999,39.235999999999997,15.663,1.3681294964028776,0.78471999999999997,0.82363148761634331,{"$f":"[1]!AgePb6U8(G10)","v":5557.4562546815823},{"$f":"[1]!AgePb8Th2(H10)","v":11708.166552445826},{"$f":"[1]!AgePb76(I10)","v":4963.1600600398269}]
["WL-12",10.5,25.5,18.946000000000002,39.42,15.74,1.8043809523809524,1.5458823529411765,0.83078222316056149,{"$f":"[1]!AgePb6U8(G11)","v":6647.4315570007357},{"$f":"[1]!AgePb8Th2(H11)","v":18887.868428135622},{"$f":"[1]!AgePb76(I11)","v":4975.4458339244793}]
["WL-25",16.3,47.9,19.224,39.61,15.61,1.1793865030674846,0.82693110647181634,0.81200582605076987,{"$f":"[1]!AgePb6U8(G12)","v":5022.0365291445032},{"$f":"[1]!AgePb8Th2(H12)","v":12180.648168385451},{"$f":"[1]!AgePb76(I12)","v":4942.9417525924973}]
["WL-33",12.1,45.1,18.72,39.090000000000003,15.59,1.5471074380165288,0.86674057649667413,0.83279914529914534,{"$f":"[1]!AgePb6U8(G13)","v":6027.1289430412526},{"$f":"[1]!AgePb8Th2(H13)","v":12616.349728973013},{"$f":"[1]!AgePb76(I13)","v":4978.8908190001839}]
["SC-2",15.9,137.5,19.04,39.554000000000002,15.73,1.1974842767295597,0.28766545454545456,0.82615546218487401,{"$f":"[1]!AgePb6U8(G14)","v":5075.3469491037849},{"$f":"[1]!AgePb8Th2(H14)","v":5110.2749607696451},{"$f":"[1]!AgePb76(I14)","v":4967.5094368774589}]
["RY-8",11.3,45.4,18.731000000000002,39.432000000000002,15.617000000000001,1.6576106194690265,0.86854625550660802,0.83375153488868714,{"$f":"[1]!AgePb6U8(G15)","v":6300.9022127691233},{"$f":"[1]!AgePb8Th2(H15)","v":12635.891360471203},{"$f":"[1]!AgePb76(I15)","v":4980.5144584361578}]
["JP-4",5.3,19,18.962,39.152000000000001,15.651999999999999,3.5777358490566038,2.0606315789473686,0.82544035439299646,{"$f":"[1]!AgePb6U8(G16)","v":9806.314390270114},{"$f":"[1]!AgePb8Th2(H16)","v":22609.829065505684},{"$f":"[1]!AgePb76(I16)","v":4966.2785806870725}]
["JP-8",5.7,23.1,18.649999999999999,39,15.62,3.2719298245614032,1.6883116883116882,0.83753351206434323,{"$f":"[1]!AgePb6U8(G17)","v":9360.6167586661995},{"$f":"[1]!AgePb8Th2(H17)","v":19988.14292898808},{"$f":"[1]!AgePb76(I17)","v":4986.9425996894188}]
["ZJ-6",15.1,6.74,19.04,39.44,15.61,1.2609271523178807,5.8516320474777439,0.81985294117647056,{"$f":"[1]!AgePb6U8(G18)","v":5258.8233588745588},{"$f":"[1]!AgePb8Th2(H18)","v":38898.168347693449},{"$f":"[1]!AgePb76(I18)","v":4956.6222168640816}]
["LZ-20",27.3,124.9,20.45,41.44,15.79,0.74908424908424909,0.3317854283426741,0.77212713936430322,{"$f":"[1]!AgePb6U8(G19)","v":3604.1409491431123},{"$f":"[1]!AgePb8Th2(H19)","v":5791.2171664276811},{"$f":"[1]!AgePb76(I19)","v":4871.1713449209747}]
["LZ-50",22.4,31.5,19.22,39.93,15.7,0.85803571428571423,1.2676190476190476,0.8168574401664932,{"$f":"[1]!AgePb6U8(G20)","v":3993.681625169987},{"$f":"[1]!AgePb8Th2(H20)","v":16548.365908747724},{"$f":"[1]!AgePb76(I20)","v":4951.4164331990723}]
["LZ-56",35.299999999999997,78.099999999999994,19.47,40.04,15.63,0.55155807365439091,0.51267605633802815,0.80277349768875206,{"$f":"[1]!AgePb6U8(G21)","v":2831.6495397671488},{"$f":"[1]!AgePb8Th2(H21)","v":8365.4432548448476},{"$f":"[1]!AgePb76(I21)","v":4926.6651551212317}]
["LZ-66",6.7,48.3,18.640999999999998,39.4,15.618,2.7822388059701488,0.81573498964803315,0.83783058848774217,{"$f":"[1]!AgePb6U8(G22)","v":8575.7686447480992},{"$f":"[1]!AgePb8Th2(H22)","v":12056.398963509053},{"$f":"[1]!AgePb76(I22)","v":4987.4462266133069}]
[null,null,null,null,null,null,null,null,"Average",{"$f":"AVERAGE(J3:J22)","v":5988.359908711127},{"$f":"AVERAGE(K3:K22)","v":13723.885346224086},{"$f":"AVERAGE(L3:L22)","v":4964.2106882212656}]
[null,null,null,null,null,null,null,null,"Maximum",{"$f":"MAX(J3:J23)","v":9806.314390270114},{"$f":"MAX(K3:K23)","v":38898.168347693449},{"$f":"MAX(L3:L23)","v":5011.7756850836813}]
[null,null,null,null,null,null,null,null,"Minimum",{"$f":"MIN(J3:J24)","v":2831.6495397671488},{"$f":"MIN(K3:K24)","v":5110.2749607696451},{"$f":"MIN(L3:L24)","v":4871.1713449209747}]
[null,null,null,null,null,null,null,null,"Difference",{"$f":"(J24-ABS(J25))","v":6974.6648505029652},{"$f":"(K24-ABS(K25))","v":33787.893386923803},{"$f":"(L24-ABS(L25))","v":140.60434016270665}]
["Age Sorted","Age Sorted"]
["206Pb/238U","208Pb/232Th"]
[9806.314390270114,38898.01110459651]
[9360.6167586661995,22609.737666869336]
[8575.7686447480992,19988.062128332684]
[6711.412049559508,18887.79207526215]
[6647.4315570007357,16548.299013147876]
[6455.7037934065538,13454.509226160042]
[6300.9022127691233,12635.840280773253]
[6027.1289430412526,12616.298728270727]
[5901.4239198714477,12180.598928975935]
[5833.8563866164814,12056.350226368168]
[5774.0013978978095,11708.119223009857]
[5604.0124835146225,10992.80800413006]
[5557.4562546815823,10960.031494203993]
[5425.490430975894,10862.269766004843]
[5258.8233588745588,10756.957855880904]
[5075.3469491037849,10567.922775943267]
[5022.0365291445032,9486.1313729996327]
[3993.681625169987,8365.4094381316063]
[3604.1409491431123,5791.1937558415029]
[2831.6495397671488,5110.2543028442169]

{"sheet":"Rh_Os_02","index":5,"n_rows":30,"n_cols":5,"rows_kept":30,"cut":false,"hidden":false,"merged":[]}
["Rhenium","Table 3.","Rhenium_008.pdf",null,"Table 4."]
["Osmium","Age",null,null,"Age"]
["Dating","Billion Years",null,null,"Billion Years"]
[null,22.2,null,null,331.8]
[null,19.8,null,null,68.2]
[null,17.600000000000001,null,null,19.100000000000001]
[null,15.6,null,null,13.4]
[null,12.9]
[null,11.5]
[null,10.6]
[null,8.9]
[null,7.9]
[null,5.6]
[null,5.5]
[null,5.4]
[null,5.0999999999999996]
[null,4.7]
[null,4]
[null,3.6]
[null,2.7]
[null,2.2000000000000002]
[null,2]
[null,1.7]
[null,1.6]
[null,1.4]
[null,1.1000000000000001]
["Average",{"$f":"AVERAGE(B4:B26)","v":7.5478260869565199}]
["Maximum",{"$f":"MAX(B4:B27)","v":22.2}]
["Minimum",{"$f":"MIN(B4:B28)","v":1.1000000000000001}]
["Difference",{"$f":"(B28+ABS(B29))","v":23.3}]

{"sheet":"Rh_Os_03","index":6,"n_rows":25,"n_cols":14,"rows_kept":25,"cut":false,"hidden":false,"merged":[]}
["Rhenium",null,null,null,null,null,null,null,null,null,"Rhenium_009.pdf"]
["Osmium","Initial","Today","Today","The Ratio","Half","Decay","2.303/Delta","Age","Age","Age","Model Age","Model Age","Model Age"]
["Dating","187Os/188Os","187Os/188Os","187Re/188Os","Plus One","Life","Constant","Constant","Years","Million Years","Billion Years","Million Years","% Difference"," Difference"]
[null,0.1046,0.10473,1.2999999999999999E-3,{"$f":"1+((C4-B4)/D4)","v":1.1000000000000039},41600000000,{"$f":"(0.693/F4)","v":1.6658653846153847E-11},{"$f":"(2.303/G4)","v":138246464646.46463},{"$f":"(LOG(E4))*(H4)","v":5722392385.3490105},{"$f":"(I4/1000000)","v":5722.3923853490105},{"$f":"(J4/1000)","v":5.7223923853490106}]
[null,0.1047,0.10471,8.0000000000000004E-4,{"$f":"1+((C5-B5)/D5)","v":1.0124999999999951},41600000000,1.6658653846153847E-11,{"$f":"(2.303/G5)","v":138246464646.46463},{"$f":"(LOG(E5))*(H5)","v":745844084.99178076},{"$f":"(I5/1000000)","v":745.84408499178073},{"$f":"(J5/1000)","v":0.74584408499178079}]
[null,0.10979999999999999,0.1232,0.20399999999999999,1.0656862745098039,41600000000,1.6658653846153847E-11,138246464646.46463,3819663044.2459898,3819.66304424599,3.8196630442459902]
[null,0.1014,0.11430999999999999,0.1973,1.0654333502280791,41600000000,1.6658653846153847E-11,138246464646.46463,3805411857.2087855,3805.4118572087855,3.8054118572087856]
[null,0.1072,0.12038,0.20130000000000001,1.0654744162940883,41600000000,1.6658653846153847E-11,138246464646.46463,3807725982.0781622,3807.7259820781624,3.8077259820781624]
[null,0.1009,0.10329000000000001,3.5999999999999997E-2,1.0663888888888891,41600000000,1.6658653846153847E-11,138246464646.46463,3859234577.5984988,3859.2345775984986,3.8592345775984986]
[null,0.104,0.10542,2.2200000000000001E-2,1.0639639639639642,41600000000,1.6658653846153847E-11,138246464646.46463,3722551331.6353731,3722.5513316353731,3.7225513316353731]
[null,0.1115,0.11287,2.0799999999999999E-2,1.0658653846153845,41600000000,1.6658653846153847E-11,138246464646.46463,3829753076.8463688,3829.7530768463689,3.829753076846369]
[null,0.1021,0.10262,8.3000000000000001E-3,1.0626506024096394,41600000000,1.6658653846153847E-11,138246464646.46463,3648392323.7600431,3648.3923237600429,3.6483923237600431]
[null,0.1114,0.11677999999999999,9.1399999999999995E-2,1.0588621444201312,41600000000,1.6658653846153847E-11,138246464646.46463,3433962280.72194,3433.9622807219403,3.4339622807219401]
[null,9.7900000000000001E-2,0.10517,0.1232,1.0590097402597403,41600000000,1.6658653846153847E-11,138246464646.46463,3442330687.3064375,3442.3306873064375,3.4423306873064377]
[null,9.9599999999999994E-2,0.10964,0.16880000000000001,1.0594786729857821,41600000000,1.6658653846153847E-11,138246464646.46463,3468910553.9391718,3468.9105539391717,3.4689105539391716]
[null,0.113,0.11626,5.4199999999999998E-2,1.0601476014760147,41600000000,1.6658653846153847E-11,138246464646.46463,3506806151.0376062,3506.806151037606,3.5068061510376061]
[null,0.1071,0.11128,6.9900000000000004E-2,1.059799713876967,41600000000,1.6658653846153847E-11,138246464646.46463,3487100888.5299826,3487.1008885299825,3.4871008885299823]
[null,0.1051,0.10853,5.7799999999999997E-2,1.0593425605536333,41600000000,1.6658653846153847E-11,138246464646.46463,3461196692.7523928,3461.1966927523927,3.4611966927523925]
[null,0.105,0.10806,5.1299999999999998E-2,1.0596491228070177,41600000000,1.6658653846153847E-11,138246464646.46463,3478569010.7906399,3478.5690107906398,3.4785690107906397]
[null,0.104,0.10649,4.2299999999999997E-2,1.0588652482269505,41600000000,1.6658653846153847E-11,138246464646.46463,3434138272.7393632,3434.1382727393634,3.4341382727393635]
[null,0.1045,0.10614999999999999,2.81E-2,1.0587188612099643,41600000000,1.6658653846153847E-11,138246464646.46463,3425837276.190124,3425.8372761901242,3.4258372761901241]
[null,null,null,null,null,null,null,null,"Average",{"$f":"AVERAGE(J4:J21)","v":3561.1011376512042},{"$f":"AVERAGE(K4:K21)","v":3.5611011376512045}]
[null,null,null,null,null,null,null,null,"Maximum",{"$f":"MAX(J4:J22)","v":5722.3923853490105},{"$f":"MAX(K4:K22)","v":5.7223923853490106}]
[null,null,null,null,null,null,null,null,"Minimum",{"$f":"MIN(J4:J23)","v":745.84408499178073},{"$f":"MIN(K4:K23)","v":0.74584408499178079}]
[null,null,null,null,null,null,null,null,"Difference",{"$f":"(J23-ABS(J24))","v":4976.5483003572299},{"$f":"(K23+ABS(K24))","v":6.4682364703407913}]

{"sheet":"Rh_Os_04","index":7,"n_rows":73,"n_cols":4,"rows_kept":73,"cut":false,"hidden":false,"merged":[]}
["Rhenium_029.pdf"]
[]
[]
["Sample Number","Billion Years","Billion Years","Billion Years"]
["KPH9801/2-1-s2e",1.9,1.8,4.0999999999999996]
["KPH9803-s5",0.5,0.4,0.8]
["KPH9810-s1",0.8,0.6,1]
["KPH9810-s-s1",1.8,1.7,2.9]
["KPH9816/3-1-s1e",1.7,1.6,3.5]
["KPH9816/3-1-s1-2",1.2,1.1000000000000001,1.7]
["KPH9816/3-1-s4e",3.1,3.1,10.7]
["KPH9822-s0",1.3,1.3,-1.6]
["KPH9822-s4",2.6,2.6,-3.4]
["KPH9822-s4-2",1.4,1.3,1.8]
["KPH9822-s-s1e",1.1000000000000001,1,2.2000000000000002]
["KPH9822-s-s3",0.9,0.8,1]
["KPH9822-s-s5e",0.7,0.6,-8.3000000000000007]
["KPH9826-s1e",1.3,1.2,1.9]
["KPH9826-s2e",0.6,0.5,1.7]
["KPH9826-s4",-0.7,0.8,2]
["KP0201-s2e",1.1000000000000001,1,-1.1000000000000001]
["KP0201-s4",0.4,0.2,-0.1]
["KP0201-s5",2.2000000000000002,2.2000000000000002,-1.3]
["KP0201-s7",1,0.9,-0.7]
["KP0201-s-s4",0,-0.2,-0.7]
["KP0201-s-s12",-2.9,-3.2,7.9]
["KP0214-8-s3",2,1.9,2.6]
["KP0214-11-s0",1,0.9,-13]
["KP0214-11-s3-1",0.2,0,0]
["KP0214-16-s0-1",1.8,1.7,2.7]
["KP0215-s1e",0.5,0.3,-2.4]
["KP0215-s4e",0.9,0.8,2.7]
["KP0215-s5e",1.6,1.5,3.1]
["KP0215-s6e",1.2,1.1000000000000001,6.5]
["KP0215-s8",0.9,0.8,-90]
["KP0215-s-s3",1.6,1.5,-3.3]
["TC0225-s11",1.4,1.3,1.4]
["TC0225-s23",1.4,1.3,1.7]
["TC0225-s-s24",0.1,-0.1,-0.1]
["TC0242/2-s6",2,1.9,2.2999999999999998]
["TC0242/2-s11",1.7,1.7,4.4000000000000004]
["TC0242/2-s13",2.1,2.1,6.5]
["TC0242/2-s-s5",1.7,1.6,3.8]
["TC0242/2-s-s9",1.7,1.6,1.8]
["TC0242/2-s-s19",1.9,1.8,2]
["TC0247-s-15",2.9,2.9,-3]
["TC0247-ns-6",2.2999999999999998,2.2000000000000002,4.0999999999999996]
["TC0247-ns-8",1.9,1.8,1.9]
["TC0248-s6",1.3,1.2,2.6]
["TC0248-s11",0.8,0.7,1.3]
["TC0248-s12",0.8,0.7,1.5]
["TC0248-s18e",1.3,1.3,3.4]
["TC0223-2s11",0.5,0.4,2.1]
["TC0223-s-s9-1",0.9,0.8,1.3]
["TC0223-s-s10-1e",0.8,0.7,0.9]
["TC0223-s-s11",0,-0.1,-0.2]
["TC0223-s-s12",0.8,0.7,0.8]
["TC0223-s-s18",0.7,0.5,0.7]
["TC0223-s-s19",0.3,0.2,0.2]
["TC0223-s-s20",0.5,0.3,0.4]
["TC0223-s-s25",1,0.8,1]
["TC0223-s-s75",0.7,0.6,0.8]
["TC0223-s-s77-3",0.9,0.8,1]
["TC0223-s-s81",0.4,0.3,0.4]
["TC0223-s-s102",-0.7,-0.9,-1.2]
["TC0223-s-s114",-1.1000000000000001,-0.2,-0.3]
["TC0223-s-s115",0,-0.1,-0.2]
["TC0223-s-s130e",1.5,1.4,5.3]
["TC0223-s-s132",0.3,0.2,0.3]
["Average",{"$f":"AVERAGE(B5:B69)","v":1.023076923076923},{"$f":"AVERAGE(C5:C69)","v":0.95692307692307688},{"$f":"AVERAGE(D5:D69)","v":-0.24923076923076956}]
["Maximum",{"$f":"MAX(B5:B70)","v":3.1},{"$f":"MAX(C5:C70)","v":3.1},{"$f":"MAX(D5:D70)","v":10.7}]
["Minimum",{"$f":"MIN(B5:B71)","v":-2.9},{"$f":"MIN(C5:C71)","v":-3.2},{"$f":"MIN(D5:D71)","v":-90}]
["Difference",{"$f":"(B71 +ABS(B72))","v":6},{"$f":"(C71 +ABS(C72))","v":6.3000000000000007},{"$f":"(D71 +ABS(D72))","v":100.7}]