{"text_format":"1","workbook":"xlsx","n_sheets":51,"sheets":["Index","Rb-Sr_01","Rb-Sr _02","Rb-Sr _03","Rb-Sr _04","Rb-Sr _05","Rb-Sr _06","Rb-Sr _07","Rb-Sr _08","Rb-Sr _09","Rb-Sr _10","Rb-Sr _11","Rb-Sr _12","Rb-Sr _13","Rb-Sr _14","Rb-Sr _15","Rb-Sr _16","Rb-Sr _17","Rb-Sr _18","Rb-Sr _19","Rb-Sr _20","Rb-Sr _21","Rb-Sr _22","Rb-Sr _23","Rb-Sr _24","Rb-Sr _25","Rb-Sr _26","Rb-Sr _27","Rb-Sr _28","Rb-Sr _29","Rb-Sr _30","Rb-Sr _31","Rb-Sr _32","Rb-Sr _33","Rb-Sr _34","Rb-Sr _35","Rb-Sr _36","Rb-Sr _37","Rb-Sr _38","Rb-Sr _39","Rb-Sr _40","Rb-Sr _41","Rb-Sr _42","Rb-Sr _43","Rb-Sr _44","Rb-Sr _45","Rb-Sr _46","Rb-Sr _47","Rb-Sr _48","Rb-Sr _49","Rb-Sr _50"],"not_rendered":{"charts":0,"images":0,"macros":1,"external_links":1,"defined_names":50,"comments":0,"pivot_tables":0},"unopened":[],"bounds":{"document_bytes":16777216,"sheet_cells":100000,"rows_first":2000,"rows_last":500,"rows_between":2000,"halvings":0,"cell_chars":16384,"cell_head_chars":4096},"cells_cut":0,"cells_raw":0,"read":"whole","date_system":"1900"}

{"sheet":"Index","index":0,"n_rows":53,"n_cols":11,"rows_kept":53,"cut":false,"hidden":false,"merged":[]}
["Number","Spreadsheet","Magazine","Title","Folder","File Name","Hyperlink","Negative","Earth","Galaxy","Universe"]
[1,"Rb-Sr_01","Precambrian Research, Volume 21, 1983, Pages 197-222","Early Archaean Rocks At Fyfe Hills",{"$f":"(\"C:\\Essays\\Geo_Dating\\Lead_206_207\\\")","v":"C:\\Essays\\Geo_Dating\\Lead_206_207\\"},"Diamonds_04.pdf",{"$f":"(E2 & F2)","v":"C:\\Essays\\Geo_Dating\\Lead_206_207\\Diamonds_04.pdf"},4]
[2,"Rb-Sr_02","Geochimica et Cosmochimica Acta, 1990, Voume 54, Pages 3509-3523","Shock-Melted Antarctic LL-Chondrites",{"$f":"(\"C:\\Essays\\Geo_Dating\\Age_Earth\\\")","v":"C:\\Essays\\Geo_Dating\\Age_Earth\\"},"Meteorite_Okano.pdf","C:\\Essays\\Geo_Dating\\Age_Earth\\Meteorite_Okano.pdf",null,36,9,2]
[3,"Rb-Sr_03","Earth and Planetary Science Letters, Volume 42, 1979, Pages 58-70","Diamonds And Mantle-Derived Xenoliths",{"$f":"(\"C:\\Essays\\Geo_Dating\\Lead_206_207\\\")","v":"C:\\Essays\\Geo_Dating\\Lead_206_207\\"},"Pb-206_06.pdf","C:\\Essays\\Geo_Dating\\Lead_206_207\\Pb-206_06.pdf",null,26,12,11]
[4,"Rb-Sr_04","Earth And Planetary Science Letters, Volume 3, 1967, Pages 179-189","87Rb-87Sr Isochron Of The Norton County Achondrite",{"$f":"(\"C:\\Essays\\Geo_Dating\\Rubidium\\\")","v":"C:\\Essays\\Geo_Dating\\Rubidium\\"},"Rubidium_001.pdf","C:\\Essays\\Geo_Dating\\Rubidium\\Rubidium_001.pdf",4]
[5,"Rb-Sr_05","Economic Geology, Volume 97, 2002, Pages 23–42","Base and Precious Metal Veins",{"$f":"(\"C:\\Essays\\Geo_Dating\\Age_Earth\\\")","v":"C:\\Essays\\Geo_Dating\\Age_Earth\\"},"Ages_001.pdf","C:\\Essays\\Geo_Dating\\Age_Earth\\Ages_001.pdf",null,221,219,218]
[6,"Rb-Sr_06","Earth and Planetary Science Letters, Volume 99, 1990, Pages 230-249","The Munchberg Massif, Southern Germany",{"$f":"(\"C:\\Essays\\Geo_Dating\\Rubidium\\\")","v":"C:\\Essays\\Geo_Dating\\Rubidium\\"},"Rubidium_005.pdf","C:\\Essays\\Geo_Dating\\Rubidium\\Rubidium_005.pdf",1,1]
[7,"Rb-Sr_07","Canadian Journal Of Earth Science, 2006, Volume 43, Pages 1419-1444","Rocks of the Central Wyoming Province","C:\\Essays\\Geo_Dating\\Rubidium\\","Rubidium_041.pdf","C:\\Essays\\Geo_Dating\\Rubidium\\Rubidium_041.pdf",null,46,15,11]
[8,"Rb-Sr_08","Earth and Planetary Science Letters, Volume 17, 1973, Pages 324-337","Basalts From Apollo 15",{"$f":"(\"C:\\Essays\\Geo_Dating\\Rubidium\\\")","v":"C:\\Essays\\Geo_Dating\\Rubidium\\"},"Rubidium_003.pdf","C:\\Essays\\Geo_Dating\\Rubidium\\Rubidium_003.pdf",4,1,1,1]
[9,"Rb-Sr_09","Earth and Planetary Science Letters, Volume 37, 1977, Pages 1-12","History Of The Pasamonte Achondrite","C:\\Essays\\Geo_Dating\\Rubidium\\","Rubidium_004.pdf","C:\\Essays\\Geo_Dating\\Rubidium\\Rubidium_004.pdf",3,11,3,3]
[10,"Rb-Sr_10","Earth and Planetary Science Letters, Volume 50, 1980, Pages 247-259","Sr Isotopic Composition Of Afar Volcanics","C:\\Essays\\Geo_Dating\\Rubidium\\","Rubidium_006.pdf","C:\\Essays\\Geo_Dating\\Rubidium\\Rubidium_006.pdf",7]
[11,"Rb-Sr_11","Earth and Planetary Science Letters, Volume 51, 1980, Pages 71-93","Orogenic Lherzolite Complexes","C:\\Essays\\Geo_Dating\\Rubidium\\","Rubidium_007.pdf","C:\\Essays\\Geo_Dating\\Rubidium\\Rubidium_007.pdf",40]
[12,"Rb-Sr_12","Earth and Planetary Science Letters, Volume 61, 1982, Pages 97- 111","Isotopic Geochemistry (O, Sr, Pb)","C:\\Essays\\Geo_Dating\\Rubidium\\","Rubidium_008.pdf","C:\\Essays\\Geo_Dating\\Rubidium\\Rubidium_008.pdf",null,11]
[13,"Rb-Sr_13","Earth and Planetary Science Letters, Volume 64, 1983, Pages 356-373","Cretaceous-Tertiary Boundary Sediments","C:\\Essays\\Geo_Dating\\Rubidium\\","Rubidium_009.pdf","C:\\Essays\\Geo_Dating\\Rubidium\\Rubidium_009.pdf",1,2]
[14,"Rb-Sr_14","Earth and Planetary Science Letters, Volume 59, 1982, Pages 327-342","Correlated Nd, Sr And Pb Isotope Variation","C:\\Essays\\Geo_Dating\\Rubidium\\","Rubidium_010.pdf","C:\\Essays\\Geo_Dating\\Rubidium\\Rubidium_010.pdf",null,9]
[15,"Rb-Sr_15","Earth and Planetary Science Letters, Volume 73, 1985, Pages 269-277","A Depleted Mantle Source For Kimberlites","C:\\Essays\\Geo_Dating\\Rubidium\\","Rubidium_011.pdf","C:\\Essays\\Geo_Dating\\Rubidium\\Rubidium_011.pdf",null,13]
[16,"Rb-Sr_16","Earth and Planetary Science Letters, Volume 71, 1984, Pages 46-58","Sm-Nd Isotopic Systematics","C:\\Essays\\Geo_Dating\\Rubidium\\","Rubidium_012.pdf","C:\\Essays\\Geo_Dating\\Rubidium\\Rubidium_012.pdf",5]
[17,"Rb-Sr_17","Earth and Planetary Science Lellers, Volume 75, 1985, Pages 354-368","Strontium, Neodymium And Lead Compositions","C:\\Essays\\Geo_Dating\\Rubidium\\","Rubidium_013.pdf","C:\\Essays\\Geo_Dating\\Rubidium\\Rubidium_013.pdf",null,35,3,6]
[18,"Rb-Sr_18","Earth and Planetary Science Letters, Volume 80, 1986, Pages 281-298","Trace Element And Sr And Nd Isotope","C:\\Essays\\Geo_Dating\\Rubidium\\","Rubidium_014.pdf","C:\\Essays\\Geo_Dating\\Rubidium\\Rubidium_014.pdf",2,1,1,1]
[19,"Rb-Sr_19","Earth and Planetary Science Letters, Volume 86, 1987, Pages 327-340","The southeast Australian lithospheric","C:\\Essays\\Geo_Dating\\Rubidium\\","Rubidium_015.pdf","C:\\Essays\\Geo_Dating\\Rubidium\\Rubidium_015.pdf",2,10,10,10]
[20,"Rb-Sr_20","Earth and Planetary Science Letters, Volume 90, 1988, Pages 26-40","Strontium, neodymium and lead isotopic","C:\\Essays\\Geo_Dating\\Rubidium\\","Rubidium_016.pdf","C:\\Essays\\Geo_Dating\\Rubidium\\Rubidium_016.pdf",null,15]
[21,"Rb-Sr_21","Earth and Planetary Science Letters, Volume 99, 1990, Pages 362-379","Sr, Nd, and O isotope geochemistry","C:\\Essays\\Geo_Dating\\Rubidium\\","Rubidium_017.pdf","C:\\Essays\\Geo_Dating\\Rubidium\\Rubidium_017.pdf"]
[22,"Rb-Sr_22","Earth and Planetary Science Letters, Volume 105, 1991, Pages 149-169","Pb, Nd and Sr isotopic geochemistry","C:\\Essays\\Geo_Dating\\Rubidium\\","Rubidium_018.pdf","C:\\Essays\\Geo_Dating\\Rubidium\\Rubidium_018.pdf",24,65,12,9]
[23,"Rb-Sr_23","Earth and Planetary Science Letters, Volume 113, 1992, Pages 107-128","Sr, Nd, and Pb isotopes","C:\\Essays\\Geo_Dating\\Rubidium\\","Rubidium_019.pdf","C:\\Essays\\Geo_Dating\\Rubidium\\Rubidium_019.pdf",null,105,22,18]
[24,"Rb-Sr_24","Earth and Planetary Science Letters, Volume 134, 1995, Pages 23-36","Production of Jurassic rhyolite","C:\\Essays\\Geo_Dating\\Rubidium\\","Rubidium_020.pdf","C:\\Essays\\Geo_Dating\\Rubidium\\Rubidium_020.pdf",7,1,1,1]
[25,"Rb-Sr_25","Earth and Planetary Science Letters, Volume 134, 1995, Pages 169-185","Evolution of Reunion Hotspot Mantle","C:\\Essays\\Geo_Dating\\Rubidium\\","Rubidium_021.pdf","C:\\Essays\\Geo_Dating\\Rubidium\\Rubidium_021.pdf",null,46,null,1]
[26,"Rb-Sr_26","Geochimica et Cosmochimica Acta, 1993, Volume 57, Pages 4687-4702","An extremely low U/Pb source","C:\\Essays\\Geo_Dating\\Rubidium\\","Rubidium_022.pdf","C:\\Essays\\Geo_Dating\\Rubidium\\Rubidium_022.pdf",null,62,19,14]
[27,"Rb-Sr_27","Earth and Planetary Science Letters, Volume 183, 2000, Pages 73-92","The 72 Ma Geochemical Evolution","C:\\Essays\\Geo_Dating\\Rubidium\\","Rubidium_023.pdf","C:\\Essays\\Geo_Dating\\Rubidium\\Rubidium_023.pdf",null,58]
[28,"Rb-Sr_28","Earth and Planetary Science Letters, Volume 244, 2006, Pages 234–250","The Himalayan collision zone","C:\\Essays\\Geo_Dating\\Rubidium\\","Rubidium_024.pdf","C:\\Essays\\Geo_Dating\\Rubidium\\Rubidium_024.pdf",null,28]
[29,"Rb-Sr_29","Geochimica et Cosmochimica Acta, 2001, Volume 65, Number 4, Pages 571–587","Evidence for a nonmagmatic component","C:\\Essays\\Geo_Dating\\Rubidium\\","Rubidium_025.pdf","C:\\Essays\\Geo_Dating\\Rubidium\\Rubidium_025.pdf",null,14]
[30,"Rb-Sr_30","Geochimica et Cosmochimica Acta, Volume 71, 2007, Pages 3656–3671","The origin of geochemical diversity","C:\\Essays\\Geo_Dating\\Rubidium\\","Rubidium_026.pdf","C:\\Essays\\Geo_Dating\\Rubidium\\Rubidium_026.pdf",null,13,1,1]
[31,"Rb-Sr_31","Geochimica et Cosmochimica Acta, Volume 73, 2009, Pages 3963–3980","Mechanisms for incompatible-element enrichment","C:\\Essays\\Geo_Dating\\Rubidium\\","Rubidium_027.pdf","C:\\Essays\\Geo_Dating\\Rubidium\\Rubidium_027.pdf",null,3,2,1]
[32,"Rb-Sr_32","Geochimica et Cosmochimica Acta, 1997, Volume 61, Number 22, Pages 4915-4931","Constraints on Martian differentiation processes","C:\\Essays\\Geo_Dating\\Rubidium\\","Rubidium_028.pdf","C:\\Essays\\Geo_Dating\\Rubidium\\Rubidium_028.pdf",4]
[33,"Rb-Sr_33","Journal Of Petrology, 2008, Volume 49, Number 6, Pages 1069-1096","Geochemistry of the Volcan de l’Androy","C:\\Essays\\Geo_Dating\\Rubidium\\","Rubidium_029.pdf","C:\\Essays\\Geo_Dating\\Rubidium\\Rubidium_029.pdf",null,23]
[34,"Rb-Sr_34","Journal Of Petrology, 1997, Volume 38, Number 1, Pages 115-132","Continental Lithospheric Contribution","C:\\Essays\\Geo_Dating\\Rubidium\\","Rubidium_030.pdf","C:\\Essays\\Geo_Dating\\Rubidium\\Rubidium_030.pdf",null,32]
[35,"Rb-Sr_35","Journal Of Petrology, 2001, Volume 42, Number 4, Pages 731-763","Garnet Granulite Xenoliths","C:\\Essays\\Geo_Dating\\Rubidium\\","Rubidium_031.pdf","C:\\Essays\\Geo_Dating\\Rubidium\\Rubidium_031.pdf",null,93,28,21]
[36,"Rb-Sr_36","Journal Of Petrology, 2000, Volume 41, Number 6, Pages 759–788","The Isotope and Trace Element Budget","C:\\Essays\\Geo_Dating\\Rubidium\\","Rubidium_032.pdf","C:\\Essays\\Geo_Dating\\Rubidium\\Rubidium_032.pdf",null,10,5,5]
[37,"Rb-Sr_37","Journal Of Petrology, 1997, Volume 38, Number 11, Pages 1489–1512","Fluid Flow and Diffusion","C:\\Essays\\Geo_Dating\\Rubidium\\","Rubidium_033.pdf","C:\\Essays\\Geo_Dating\\Rubidium\\Rubidium_033.pdf"]
[38,"Rb-Sr_38","Journal Of Petrology, 2009, Volume 50, Number 10, Pages 1857-1898","Temporal Evolution of the Lithospheric Mantle","C:\\Essays\\Geo_Dating\\Rubidium\\","Rubidium_034.pdf","C:\\Essays\\Geo_Dating\\Rubidium\\Rubidium_034.pdf",13,2,1,1]
[39,"Rb-Sr_39","Journal Of Petrology, 2010, Volume 51, Number 10, Pages 2003-2045","Petrogenesis and Origins of Mid-Cretaceous","C:\\Essays\\Geo_Dating\\Rubidium\\","Rubidium_035.pdf","C:\\Essays\\Geo_Dating\\Rubidium\\Rubidium_035.pdf",null,38]
[40,"Rb-Sr_40","Journal Of Petrology, 1999, Volume 40, Number 4, Pages 525–548","The Petrogenetic Association of Carbonatite","C:\\Essays\\Geo_Dating\\Rubidium\\","Rubidium_036.pdf","C:\\Essays\\Geo_Dating\\Rubidium\\Rubidium_036.pdf",null,13]
[41,"Rb-Sr_41"," "," ","C:\\Essays\\Geo_Dating\\Rubidium\\","Rubidium_037.pdf","C:\\Essays\\Geo_Dating\\Rubidium\\Rubidium_037.pdf"]
[38,"Rb-Sr_42","Journal Of Petrology, 1998, Volume 39, Number 5, Pages 859–880 ","Geochemistry of Jurassic Oceanic Crust","C:\\Essays\\Geo_Dating\\Rubidium\\","Rubidium_038.pdf","C:\\Essays\\Geo_Dating\\Rubidium\\Rubidium_038.pdf",13,21,null,3]
[43,"Rb-Sr_43","Geochimica Et Cosmochimica Acta, 2003, Volume 67, Number 18, Pages 3519–3536","The age of Dar al Gani 476","C:\\Essays\\Geo_Dating\\Rubidium\\","Rubidium_039.pdf","C:\\Essays\\Geo_Dating\\Rubidium\\Rubidium_039.pdf",8]
[44,"Rb-Sr_44","Journal Of Petrology, 1998, Volume 39, Number 4, Pages 711–748","Petrogenesis of the Flood Basalts","C:\\Essays\\Geo_Dating\\Iso_Plot_Dates\\","Iso_Plot_005.pdf","C:\\Essays\\Geo_Dating\\Iso_Plot_Dates\\Iso_Plot_005.pdf",null,92,2,2]
[45,"Rb-Sr_45","Journal Of Petrology, 2004, Volume 45, Number 3, Pages 555-607","Nature of the Source Regions","C:\\Essays\\Geo_Dating\\Iso_Plot_Dates\\","Iso_Plot_006.pdf","C:\\Essays\\Geo_Dating\\Iso_Plot_Dates\\Iso_Plot_006.pdf",null,44,13,9]
[46,"Rb-Sr_46","Journal Of Petrology, 2007, Volume 48, Number 4, Pages 661-692","Generation of Palaeocene Adakitic Andesites","C:\\Essays\\Geo_Dating\\Iso_Plot_Dates\\","Iso_Plot_007.pdf","C:\\Essays\\Geo_Dating\\Iso_Plot_Dates\\Iso_Plot_007.pdf",null,24,2]
[47,"Rb-Sr_47","Journal Of Petrology, 2005, Volume 46, Number 4, Pages 829-858","Evidence for a Widespread Tethyan ","C:\\Essays\\Geo_Dating\\Iso_Plot_Dates\\","Iso_Plot_009.pdf","C:\\Essays\\Geo_Dating\\Iso_Plot_Dates\\Iso_Plot_009.pdf",null,192,75,57]
[48,"Rb-Sr_48","Journal Of Petrology, 1999, Volume 40, Number 9, Pages 1399-1424","Post-Collisional Potassic and Ultrapotassic ","C:\\Essays\\Geo_Dating\\Iso_Plot_Dates\\","Iso_Plot_016.pdf","C:\\Essays\\Geo_Dating\\Iso_Plot_Dates\\Iso_Plot_016.pdf",null,15,6,6]
[49,"Rb-Sr_49","Journal Of Geophysical Research, 1998, Volume 103, Number B9, Pages 20,963-20,979","Origin of the Indian Ocean-type isotopic signature",{"$f":"(\"C:\\Essays\\Geo_Dating\\Rubidium\\\")","v":"C:\\Essays\\Geo_Dating\\Rubidium\\"},"Rubidium_056.pdf","C:\\Essays\\Geo_Dating\\Rubidium\\Rubidium_056.pdf",null,56,6,1]
[50,"Rb-Sr_50","Geochimica et Cosmochimica Acta, 2008, Volume 72, Pages 2067 - 2089","U–Th–Pb Dating Of Secondary Minerals","C:\\Essays\\Geo_Dating\\Iso_Plot_Dates\\","Iso_Plot_018.pdf","C:\\Essays\\Geo_Dating\\Iso_Plot_Dates\\Iso_Plot_018.pdf",3,36,11,9]
[null,null,null,null,null,null,null,{"$f":"SUM(H2:H51)","v":145},{"$f":"SUM(I2:I51)","v":1524},{"$f":"SUM(J2:J51)","v":479},{"$f":"SUM(K2:K51)","v":422}]
[null,null,null,null,null,null,null,"Negative","Earth","Galaxy","Universe"]

{"sheet":"Rb-Sr_01","index":1,"n_rows":56,"n_cols":16,"rows_kept":56,"cut":false,"hidden":false,"merged":[]}
["Rubidium",null,null,null,null,null,null,null,null,null,"Diamond_04.pdf"]
["Strontium","Initial","Today","Today","The Ratio","Half","Decay","2.303/Delta","Age","Age","Age","Model Age","Model Age","Model Age"]
["Dating","87Sr/86Sr","87Sr/86Sr","87Rb/86Sr","Plus One","Life","Constant","Constant","Years","Million Years","Billion Years","Million Years","% Difference"," Difference"]
[null,0.72499999999999998,0.80983000000000005,1.875,{"$f":"1+((C4-B4)/D4)","v":1.0452426666666668},48800000000,{"$f":"(0.693/F4)","v":1.4200819672131146E-11},{"$f":"(2.303/G4)","v":162173737373.7374},{"$f":"(LOG(E4))*(H4)","v":3116513673.7086535},{"$f":"(I4/1000000)","v":3116.5136737086536},{"$f":"(J4/1000)","v":3.1165136737086536},null,null,null,null,4924.7879190995664]
[null,0.72499999999999998,0.83433000000000002,2.4020000000000001,{"$f":"1+((C5-B5)/D5)","v":1.0455162364696087},48800000000,{"$f":"(0.693/F5)","v":1.4200819672131146E-11},{"$f":"(2.303/G5)","v":162173737373.7374},{"$f":"(LOG(E5))*(H5)","v":3134945103.9786243},{"$f":"(I5/1000000)","v":3134.9451039786245},{"$f":"(J5/1000)","v":3.1349451039786245},null,null,null,null,4893.3485184242954]
[null,0.72499999999999998,0.79435,1.385,1.0500722021660649,48800000000,1.4200819672131146E-11,162173737373.7374,3441190781.9515333,3441.1907819515332,3.4411907819515331,null,null,null,null,4685.9187485509992]
[null,0.72499999999999998,0.80122000000000004,1.8720000000000001,1.040715811965812,48800000000,1.4200819672131146E-11,162173737373.7374,2810820029.1513257,2810.8200291513258,2.8108200291513259,null,null,null,null,4588.1960623414197]
[null,0.72499999999999998,0.80164000000000002,1.7150000000000001,1.0446880466472304,48800000000,1.4200819672131146E-11,162173737373.7374,3079132021.2156906,3079.1320212156907,3.0791320212156905,null,null,null,null,4112.3293094910068]
[null,0.72499999999999998,0.82572000000000001,2.21,1.0455746606334841,48800000000,1.4200819672131146E-11,162173737373.7374,3138880735.4681911,3138.8807354681912,3.1388807354681911,null,null,null,null,3441.1907819515332]
[null,0.72499999999999998,0.82738999999999996,2.294,1.0446338273757629,48800000000,1.4200819672131146E-11,162173737373.7374,3075476551.7626262,3075.4765517626261,3.0754765517626259,null,null,null,null,3352.871287542544]
[null,0.72499999999999998,0.79991000000000001,1.667,1.0449370125974806,48800000000,1.4200819672131146E-11,162173737373.7374,3095914898.5989389,3095.9148985989391,3.0959148985989389,null,null,null,null,3149.0292524246602]
[null,0.72499999999999998,0.83516999999999997,2.4700000000000002,1.0446032388663968,48800000000,1.4200819672131146E-11,162173737373.7374,3073414187.2666287,3073.4141872666287,3.0734141872666285,null,null,null,null,3138.8807354681912]
[null,0.72499999999999998,0.82555000000000001,2.1989999999999998,1.0457253296953162,48800000000,1.4200819672131146E-11,162173737373.7374,3149029252.4246602,3149.0292524246602,3.1490292524246604,null,null,null,null,3134.9451039786245]
[null,0.72499999999999998,0.83,2.3479999999999999,1.0447189097103917,48800000000,1.4200819672131146E-11,162173737373.7374,3081212727.7147632,3081.2127277147633,3.0812127277147634,null,null,null,null,3126.4238306695493]
[null,0.72499999999999998,0.82828000000000002,2.3420000000000001,1.0440990606319385,48800000000,1.4200819672131146E-11,162173737373.7374,3039412349.6469288,3039.4123496469288,3.0394123496469287,null,null,null,null,3116.5136737086536]
[null,0.72499999999999998,0.74361999999999995,0.25879999999999997,1.0719474497681607,48800000000,1.4200819672131146E-11,162173737373.7374,4893348518.4242954,4893.3485184242954,4.8933485184242951,null,null,null,null,3097.4678261961221]
[null,0.72499999999999998,0.74504000000000004,0.2913,1.0687950566426367,48800000000,1.4200819672131146E-11,162173737373.7374,4685918748.5509996,4685.9187485509992,4.685918748550999,null,null,null,null,3095.9148985989391]
[null,0.72499999999999998,0.76512000000000002,0.88390000000000002,1.0453897499717164,48800000000,1.4200819672131146E-11,162173737373.7374,3126423830.6695495,3126.4238306695493,3.1264238306695491,null,null,null,null,3081.2127277147633]
[null,0.72499999999999998,0.82862999999999998,2.6389999999999998,1.0392686623721106,48800000000,1.4200819672131146E-11,162173737373.7374,2712815028.443193,2712.8150284431931,2.7128150284431931,null,null,null,null,3079.1320212156907]
[null,0.72499999999999998,0.83196000000000003,2.74,1.0390364963503649,48800000000,1.4200819672131146E-11,162173737373.7374,2697079396.8881807,2697.0793968881808,2.697079396888181,null,null,null,null,3075.4765517626261]
[null,0.72499999999999998,0.82057000000000002,2.4319999999999999,1.039296875,48800000000,1.4200819672131146E-11,162173737373.7374,2714726970.1666236,2714.7269701666237,2.7147269701666237,null,null,null,null,3073.4141872666287]
[null,0.72499999999999998,0.77075000000000005,0.76090000000000002,1.0601261663819161,48800000000,1.4200819672131146E-11,162173737373.7374,4112329309.4910064,4112.3293094910068,4.1123293094910069,null,null,null,null,3039.4123496469288]
[null,0.72499999999999998,0.75588999999999995,0.45889999999999997,1.0673131401176725,48800000000,1.4200819672131146E-11,162173737373.7374,4588196062.3414202,4588.1960623414197,4.58819606234142,null,null,null,null,2810.8200291513258]
[null,0.72499999999999998,0.76368999999999998,0.53420000000000001,1.0724260576563085,48800000000,1.4200819672131146E-11,162173737373.7374,4924787919.0995665,4924.7879190995664,4.9247879190995665,null,null,null,null,2714.7269701666237]
[null,0.72499999999999998,0.79320999999999997,1.399,1.0487562544674767,48800000000,1.4200819672131146E-11,162173737373.7374,3352871287.5425439,3352.871287542544,3.3528712875425439,null,null,null,null,2712.8150284431931]
[null,0.72499999999999998,0.70884000000000003,5.6030000000000003E-2,0.71158308049259411,48800000000,1.4200819672131146E-11,162173737373.7374,-23965124596.307278,-23965.124596307276,-23.965124596307277,null,null,null,null,2697.0793968881808]
[null,0.72499999999999998,0.76607999999999998,0.91369999999999996,1.0449600525336544,48800000000,1.4200819672131146E-11,162173737373.7374,3097467826.1961222,3097.4678261961221,3.0974678261961222,null,null,null,null,1834.7821028364772]
[null,0.72499999999999998,0.73648000000000002,0.6895,1.0166497461928934,48800000000,1.4200819672131146E-11,162173737373.7374,1163005696.2309201,1163.00569623092,1.1630056962309199,null,null,null,null,1421.6632456524321]
[null,0.72499999999999998,0.76422000000000001,1.486,1.0263930013458951,48800000000,1.4200819672131146E-11,162173737373.7374,1834782102.8364773,1834.7821028364772,1.8347821028364772,null,null,null,null,1163.00569623092]
[null,0.72499999999999998,0.71023999999999998,8.3040000000000003E-2,0.82225433526011571,48800000000,1.4200819672131146E-11,162173737373.7374,-13783766750.464552,-13783.766750464552,-13.783766750464553,null,null,null,null,-13783.766750464552]
[null,0.72499999999999998,0.70565,2.4639999999999999E-2,0.21469155844155929,48800000000,1.4200819672131146E-11,162173737373.7374,-108362063808.60246,-108362.06380860246,-108.36206380860246,null,null,null,null,-23965.124596307276]
[null,0.72499999999999998,0.70653999999999995,4.0320000000000002E-2,0.54216269841269771,48800000000,1.4200819672131146E-11,162173737373.7374,-43117190882.566063,-43117.190882566065,-43.117190882566064,null,null,null,null,-43117.190882566065]
[null,0.72499999999999998,0.74590000000000001,1.0249999999999999,1.020390243902439,48800000000,1.4200819672131146E-11,162173737373.7374,1421663245.6524322,1421.6632456524321,1.4216632456524321,null,null,null,null,-108362.06380860246]
[null,null,null,null,null,null,null,null,"Average",{"$f":"AVERAGE(J4:J33)","v":-3555.5595927506147},{"$f":"AVERAGE(K4:K33)","v":-3.555559592750615},null,null,null,null,{"$f":"COUNT(P4:P33)","v":30}]
[null,null,null,null,null,null,null,null,"Maximum",{"$f":"MAX(J4:J34)","v":4924.7879190995664},{"$f":"MAX(K4:K34)","v":4.9247879190995665}]
[null,null,null,null,null,null,null,null,"Minimum",{"$f":"MIN(J4:J35)","v":-108362.06380860246},{"$f":"MIN(K4:K35)","v":-108.36206380860246}]
[null,null,null,null,null,null,null,null,"Difference",{"$f":"(J35+ABS(J36))","v":113286.85172770201},{"$f":"(K35+ABS(K36))","v":113.28685172770203}]
[]
[]
[]
[]
[]
[]
[]
[]
[null,"207Pb/206Pb","Age","20bPb/238 U","Age","207Pb/235U","Age"]
[null,0.18185999999999999,{"$f":"[1]!AgePb76(B47)","v":2669.9059309514309},0.49231000000000003,{"$f":"[1]!AgePb6U8(D47)","v":2580.6624012783409},12.343999999999999,{"$f":"[1]!AgePb7U5(F47)","v":2630.9253648945432}]
[null,0.17408000000000001,{"$f":"[1]!AgePb76(B48)","v":2597.261492168841},0.48180000000000001,{"$f":"[1]!AgePb6U8(D48)","v":2535.1011442412214},11.564,{"$f":"[1]!AgePb7U5(F48)","v":2569.7675602136369}]
[null,0.17710999999999999,{"$f":"[1]!AgePb76(B49)","v":2625.9927252348848},0.48401,{"$f":"[1]!AgePb6U8(D49)","v":2544.7083530505029},11.82,{"$f":"[1]!AgePb7U5(F49)","v":2590.2487195943786}]
[null,0.17344000000000001,{"$f":"[1]!AgePb76(B50)","v":2591.1185848007494},0.47106999999999999,{"$f":"[1]!AgePb6U8(D50)","v":2488.2515852558995},11.265000000000001,{"$f":"[1]!AgePb7U5(F50)","v":2545.3111415042422}]
[null,0.16963,{"$f":"[1]!AgePb76(B51)","v":2553.9953434442496},0.46371000000000001,{"$f":"[1]!AgePb6U8(D51)","v":2455.9181852410593},10.846,{"$f":"[1]!AgePb7U5(F51)","v":2510.0170156417457}]
[null,0.20571999999999999,{"$f":"[1]!AgePb76(B52)","v":2872.1246455707296},0.50726000000000004,{"$f":"[1]!AgePb6U8(D52)","v":2644.9214050914111},14.388,{"$f":"[1]!AgePb7U5(F52)","v":2775.6389144438731}]
[null,0.16825000000000001,{"$f":"[1]!AgePb76(B53)","v":2540.3091312859406},0.45983000000000002,{"$f":"[1]!AgePb6U8(D53)","v":2438.8073526807998},10.667,{"$f":"[1]!AgePb7U5(F53)","v":2494.5568805825451}]
[null,0.16929,{"$f":"[1]!AgePb76(B54)","v":2550.6354455224396},0.45983000000000002,{"$f":"[1]!AgePb6U8(D54)","v":2438.8073526807998},10.733000000000001,{"$f":"[1]!AgePb7U5(F54)","v":2500.2846976102824}]
[null,0.16489000000000001,{"$f":"[1]!AgePb76(B55)","v":2506.4317670374999},0.45284000000000002,{"$f":"[1]!AgePb6U8(D55)","v":2407.8663112039471},10.295,{"$f":"[1]!AgePb7U5(F55)","v":2461.654211219949}]
[null,"Average",{"$f":"AVERAGE(C47:C55)","v":2611.9750073351956},"Average",{"$f":"AVERAGE(E47:E55)","v":2503.8937878582201},"Average",{"$f":"AVERAGE(G47:G55)","v":2564.2671673005771}]

{"sheet":"Rb-Sr _02","index":2,"n_rows":61,"n_cols":14,"rows_kept":61,"cut":false,"hidden":false,"merged":[]}
["Strontium","Initial","Today","Today","The Ratio","Half","Decay","2.303/Delta","Age","Age","Age","Model Age",null,21.61]
["Dating","87Sr/86Sr","87Sr/86Sr","87Rb/86Sr","Plus One","Life","Constant","Constant","Years","Million Years","Billion Years","Million Years",null,14.47]
[null,0.63885000000000003,0.79483000000000004,1.2709999999999999,{"$f":"1+((C3-B3)/D3)","v":1.1227222659323368},48800000000,{"$f":"(0.693/F3)","v":1.4200819672131146E-11},{"$f":"(2.303/G3)","v":162173737373.7374},{"$f":"(LOG(E3))*(H3)","v":8152852566.9335175},{"$f":"(I3/1000000)","v":8152.8525669335177},{"$f":"(J3/1000)","v":8.1528525669335181},"Meteorite_Okano.pdf",null,12.97]
[null,0.63885000000000003,0.73016000000000003,0.49399999999999999,{"$f":"1+((C4-B4)/D4)","v":1.184838056680162},48800000000,{"$f":"(0.693/F4)","v":1.4200819672131146E-11},{"$f":"(2.303/G4)","v":162173737373.7374},{"$f":"(LOG(E4))*(H4)","v":11945554536.177799},{"$f":"(I4/1000000)","v":11945.554536177799},{"$f":"(J4/1000)","v":11.945554536177799},null,null,12.35]
[null,0.63885000000000003,0.75305,0.90100000000000002,{"$f":"1+((C5-B5)/D5)","v":1.1267480577136515},48800000000,{"$f":"(0.693/F5)","v":1.4200819672131146E-11},{"$f":"(2.303/G5)","v":162173737373.7374},{"$f":"(LOG(E5))*(H5)","v":8404948788.6960106},{"$f":"(I5/1000000)","v":8404.9487886960105},{"$f":"(J5/1000)","v":8.4049487886960108},null,null,11.95]
[null,0.63885000000000003,0.75446000000000002,1.016,1.1137893700787402,48800000000,1.4200819672131146E-11,162173737373.7374,7590228571.6271343,7590.2285716271344,7.5902285716271347,null,null,10.87]
[null,0.63885000000000003,0.74187000000000003,0.78600000000000003,1.1310687022900763,48800000000,1.4200819672131146E-11,162173737373.7374,8674508642.3392601,8674.5086423392604,8.6745086423392603,null,null,10.73]
[null,0.63885000000000003,0.73187999999999998,0.40799999999999997,1.2280147058823527,48800000000,1.4200819672131146E-11,162173737373.7374,14466475953.906715,14466.475953906714,14.466475953906714,null,null,10.62]
[null,0.63885000000000003,0.73685,0.60199999999999998,1.1627906976744184,48800000000,1.4200819672131146E-11,162173737373.7374,10622630965.598694,10622.630965598693,10.622630965598693,null,null,10.16]
[null,0.63885000000000003,0.74217999999999995,0.77,1.134194805194805,48800000000,1.4200819672131146E-11,162173737373.7374,8868901206.8787766,8868.9012068787761,8.8689012068787765,null,null,9.89]
[null,0.63885000000000003,0.75348999999999999,1.4419999999999999,1.0795006934812761,48800000000,1.4200819672131146E-11,162173737373.7374,5387886021.6072025,5387.8860216072026,5.3878860216072022,null,null,9.24]
[null,0.63885000000000003,0.73716000000000004,0.72799999999999998,1.1350412087912087,48800000000,1.4200819672131146E-11,162173737373.7374,8921441523.4311771,8921.4415234311764,8.9214415234311772,null,null,9.16]
[null,0.63885000000000003,0.73068999999999995,0.47899999999999998,1.191732776617954,48800000000,1.4200819672131146E-11,162173737373.7374,12354214335.82966,12354.21433582966,12.35421433582966,null,null,9.02]
[null,0.63885000000000003,0.73729,0.59,1.1668474576271186,48800000000,1.4200819672131146E-11,162173737373.7374,10867924505.650904,10867.924505650904,10.867924505650905,null,null,8.99]
[null,0.63885000000000003,0.74072000000000005,0.746,1.1365549597855229,48800000000,1.4200819672131146E-11,162173737373.7374,9015309663.0267258,9015.3096630267264,9.0153096630267271,null,null,8.92]
[null,0.63885000000000003,0.74565999999999999,1.0609999999999999,1.1006691800188502,48800000000,1.4200819672131146E-11,162173737373.7374,6755639901.3925905,6755.6399013925902,6.7556399013925903,null,null,8.8699999999999992]
[null,0.63885000000000003,0.74309000000000003,1.141,1.0913584574934267,48800000000,1.4200819672131146E-11,162173737373.7374,6157318134.4303694,6157.3181344303694,6.1573181344303691,null,null,8.75]
[null,0.63885000000000003,0.74899000000000004,1.9,1.0579684210526317,48800000000,1.4200819672131146E-11,162173737373.7374,3968829998.0027504,3968.8299980027505,3.9688299980027506,null,null,8.67]
[null,0.63885000000000003,0.72943999999999998,0.60099999999999998,1.1507321131447585,48800000000,1.4200819672131146E-11,162173737373.7374,9888419247.8295174,9888.4192478295172,9.8884192478295176,null,null,8.56]
[null,0.63885000000000003,0.71211000000000002,0.20399999999999999,1.3591176470588235,48800000000,1.4200819672131146E-11,162173737373.7374,21610794069.340385,21610.794069340387,21.610794069340386,null,null,8.4]
[null,0.63885000000000003,0.90359,2.9870000000000001,1.0886307331771008,48800000000,1.4200819672131146E-11,162173737373.7374,5981063236.6534815,5981.0632366534819,5.9810632366534815,null,null,8.15]
[null,0.63885000000000003,1.0143,2.6789999999999998,1.1401455767077269,48800000000,1.4200819672131146E-11,162173737373.7374,9237465820.9185886,9237.4658209185891,9.2374658209185885,null,null,7.59]
[null,0.63885000000000003,0.84196000000000004,2.5049999999999999,1.0810818363273453,48800000000,1.4200819672131146E-11,162173737373.7374,5490970946.0974178,5490.9709460974182,5.4909709460974181,null,null,6.95]
[null,0.63885000000000003,0.87221000000000004,2.3919999999999999,1.0975585284280935,48800000000,1.4200819672131146E-11,162173737373.7374,6556309374.3896484,6556.3093743896488,6.5563093743896488,null,null,6.9]
[null,0.63885000000000003,0.85001000000000004,2.298,1.0918885987815492,48800000000,1.4200819672131146E-11,162173737373.7374,6191522661.229888,6191.5226612298884,6.1915226612298886,null,null,6.76]
[null,0.63885000000000003,0.82303999999999999,2.2879999999999998,1.0805026223776224,48800000000,1.4200819672131146E-11,162173737373.7374,5453225753.4490814,5453.2257534490818,5.4532257534490816,null,null,6.56]
[null,0.63885000000000003,0.79307000000000005,1.9139999999999999,1.0805747126436782,48800000000,1.4200819672131146E-11,162173737373.7374,5457924707.0021353,5457.9247070021356,5.4579247070021353,null,null,6.19]
[null,0.63885000000000003,0.74063000000000001,0.78800000000000003,1.1291624365482233,48800000000,1.4200819672131146E-11,162173737373.7374,8555706157.4376068,8555.7061574376075,8.5557061574376068,null,null,6.16]
[null,0.63885000000000003,0.74719999999999998,0.78,1.1389102564102562,48800000000,1.4200819672131146E-11,162173737373.7374,9161113984.4663754,9161.1139844663758,9.1611139844663754,null,null,5.98]
[null,0.63885000000000003,0.74578,0.65,1.1645076923076922,48800000000,1.4200819672131146E-11,162173737373.7374,10726553990.605137,10726.553990605136,10.726553990605137,null,null,5.68]
[null,0.63885000000000003,0.77005000000000001,0.64900000000000002,1.2021571648690292,48800000000,1.4200819672131146E-11,162173737373.7374,12967614623.847834,12967.614623847834,12.967614623847835,null,null,5.49]
[null,0.63885000000000003,0.74502000000000002,0.78,1.1361153846153846,48800000000,1.4200819672131146E-11,162173737373.7374,8988064366.080637,8988.0643660806363,8.9880643660806356,null,null,5.48]
[null,0.63885000000000003,0.75477000000000005,1.381,1.0839391745112237,48800000000,1.4200819672131146E-11,162173737373.7374,5676877462.938489,5676.8774629384889,5.6768774629384886,null,null,5.46]
[null,0.63885000000000003,0.74551000000000001,0.80600000000000005,1.1323325062034739,48800000000,1.4200819672131146E-11,162173737373.7374,8753161232.6117744,8753.1612326117738,8.7531612326117738,null,null,5.45]
[null,0.63885000000000003,0.74299999999999999,0.67100000000000004,1.1552160953800297,48800000000,1.4200819672131146E-11,162173737373.7374,10162330399.669994,10162.330399669994,10.162330399669994,null,null,5.39]
[null,0.63885000000000003,1.0502899999999999,5.2450000000000001,1.0784442326024786,48800000000,1.4200819672131146E-11,162173737373.7374,5318924326.2068253,5318.9243262068248,5.3189243262068251,null,null,5.32]
[null,0.63885000000000003,0.97143000000000002,4.1079999999999997,1.0809591041869524,48800000000,1.4200819672131146E-11,162173737373.7374,5482974643.3701773,5482.9746433701775,5.4829746433701771]
[null,0.63885000000000003,0.80896999999999997,1.641,1.1036684948202315,48800000000,1.4200819672131146E-11,162173737373.7374,6947303230.6494446,6947.3032306494442,6.9473032306494442]
[null,0.63885000000000003,0.74578,1.0389999999999999,1.1029162656400384,48800000000,1.4200819672131146E-11,162173737373.7374,6899282981.2711525,6899.2829812711525,6.8992829812711527]
[null,null,null,null,null,null,null,null,"Average",{"$f":"AVERAGE(J3:J39)","v":8585.4667170701323},{"$f":"AVERAGE(K3:K39)","v":8.5854667170701315}]
[null,null,null,null,null,null,null,null,"Maximum",{"$f":"MAX(J3:J40)","v":21610.794069340387},{"$f":"MAX(K3:K40)","v":21.610794069340386}]
[null,null,null,null,null,null,null,null,"Minimum",{"$f":"MIN(J3:J41)","v":3968.8299980027505},{"$f":"MIN(K3:K41)","v":3.9688299980027506}]
[null,null,null,null,null,null,null,null,"Difference",{"$f":"(J41-J42)","v":17641.964071337636},{"$f":"(K41-K42)","v":17.641964071337636}]
[]
[]
[]
[]
[null,null,null,null,null,null,null,null,null,null,"Age","Age","Age"]
[null,null,null,null,null,null,null,null,null,null,"Million Years","Million Years","Million Years"]
[null,null,null,null,null,null,null,null,null,null,21610.794069340387,9015.3096630267264,6755.6399013925902]
[null,null,null,null,null,null,null,null,null,null,14466.475953906714,8988.0643660806363,6556.3093743896488]
[null,null,null,null,null,null,null,null,null,null,12967.614623847834,8921.4415234311764,6191.5226612298884]
[null,null,null,null,null,null,null,null,null,null,12354.21433582966,8868.9012068787761,6157.3181344303694]
[null,null,null,null,null,null,null,null,null,null,11945.554536177799,8753.1612326117738,5981.0632366534819]
[null,null,null,null,null,null,null,null,null,null,10867.924505650904,8674.5086423392604,5676.8774629384889]
[null,null,null,null,null,null,null,null,null,null,10726.553990605136,8555.7061574376075,5490.9709460974182]
[null,null,null,null,null,null,null,null,null,null,10622.630965598693,8404.9487886960105,5482.9746433701775]
[null,null,null,null,null,null,null,null,null,null,10162.330399669994,8152.8525669335177,5457.9247070021356]
[null,null,null,null,null,null,null,null,null,null,9888.4192478295172,7590.2285716271344,5453.2257534490818]
[null,null,null,null,null,null,null,null,null,null,9237.4658209185891,6947.3032306494442,5387.8860216072026]
[null,null,null,null,null,null,null,null,null,null,9161.1139844663758,6899.2829812711525,5318.9243262068248]

{"sheet":"Rb-Sr _03","index":3,"n_rows":50,"n_cols":14,"rows_kept":50,"cut":false,"hidden":false,"merged":[]}
["Rubidium",null,null,null,null,null,null,null,null,null,"Pb-206_06.pdf"]
["Strontium","Initial","Today","Today","The Ratio","Half","Decay","2.303/Delta","Age","Age","Age","Model Age","Model Age","Model Age"]
["Dating","87Sr/86Sr","87Sr/86Sr","87Rb/86Sr","Plus One","Life","Constant","Constant","Years","Million Years","Billion Years","Million Years","% Difference"," Difference"]
[null,0.70099999999999996,0.70399999999999996,4.5999999999999999E-2,{"$f":"1+((C4-B4)/D4)","v":1.0652173913043479},48800000000,{"$f":"(0.693/F4)","v":1.4200819672131146E-11},{"$f":"(2.303/G4)","v":162173737373.7374},{"$f":"(LOG(E4))*(H4)","v":4449763281.4119692},{"$f":"(I4/1000000)","v":4449.7632814119688},{"$f":"(J4/1000)","v":4.4497632814119692}]
[null,0.70099999999999996,0.70701999999999998,2.1999999999999999E-2,1.2736363636363648,48800000000,1.4200819672131146E-11,162173737373.7374,17035613241.291315,17035.613241291314,{"$f":"(J5/1000)","v":17.035613241291315}]
[null,0.70099999999999996,0.70638000000000001,2E-3,3.6900000000000257,48800000000,1.4200819672131146E-11,162173737373.7374,91956784989.464615,91956.784989464621,91.956784989464623]
[null,0.70099999999999996,0.70328000000000002,2E-3,2.1400000000000299,48800000000,1.4200819672131146E-11,162173737373.7374,53584436503.798256,53584.436503798257,53.584436503798258]
[null,0.70099999999999996,0.70667999999999997,0.12,1.0473333333333334,48800000000,1.4200819672131146E-11,162173737373.7374,3257247511.7475471,3257.2475117475469,3.257247511747547]
[null,0.70099999999999996,0.70350000000000001,0.01,1.2500000000000058,48800000000,1.4200819672131146E-11,162173737373.7374,15716258998.45434,15716.258998454339,15.716258998454339]
[null,0.70099999999999996,0.70335000000000003,8.0000000000000002E-3,1.2937500000000093,48800000000,1.4200819672131146E-11,162173737373.7374,18139191362.045986,18139.191362045985,18.139191362045985]
[null,0.70099999999999996,0.70343999999999995,4.0000000000000001E-3,1.6099999999999994,48800000000,1.4200819672131146E-11,162173737373.7374,33541725301.682335,33541.725301682338,33.541725301682341]
[null,0.70099999999999996,0.70316000000000001,2E-3,2.0800000000000254,48800000000,1.4200819672131146E-11,162173737373.7374,51581519752.46682,51581.519752466818,51.581519752466818]
[null,0.70099999999999996,0.70354000000000005,3.0000000000000001E-3,1.8466666666666991,48800000000,1.4200819672131146E-11,162173737373.7374,43201220261.544281,43201.22026154428,43.201220261544279]
[null,0.70099999999999996,0.70347999999999999,6.0000000000000001E-3,1.4133333333333395,48800000000,1.4200819672131146E-11,162173737373.7374,24365728605.985329,24365.728605985329,24.365728605985328]
[null,0.70099999999999996,0.70326999999999995,1.2E-2,1.1891666666666663,48800000000,1.4200819672131146E-11,162173737373.7374,12202394258.651026,12202.394258651026,12.202394258651026]
[null,0.70099999999999996,0.70399,1.4E-2,1.2135714285714321,48800000000,1.4200819672131146E-11,162173737373.7374,13633190888.859337,13633.190888859337,13.633190888859337]
[null,0.70099999999999996,0.70391999999999999,1.2E-2,1.2433333333333361,48800000000,1.4200819672131146E-11,162173737373.7374,15339620885.653864,15339.620885653863,15.339620885653863]
[null,null,null,null,null,null,null,null,"Average",{"$f":"AVERAGE(J4:J17)","v":28428.906845932648}]
[null,null,null,null,null,null,null,null,"Maximum",{"$f":"MAX(J4:J18)","v":91956.784989464621}]
[null,null,null,null,null,null,null,null,"Minimum",{"$f":"MIN(J4:J19)","v":3257.2475117475469}]
[null,null,null,null,null,null,null,null,"Difference",{"$f":"(J19-J20)","v":88699.53747771708}]
[]
[]
[null,null,null,null,null,null,null,null,null,null,"Age","Age"]
[null,null,null,null,null,null,null,null,null,null,"Million Years","Million Years"]
[null,null,null,null,null,null,null,null,null,null,91956.784989464621,18139.191362045985]
[null,null,null,null,null,null,null,null,null,null,53584.436503798257,17035.613241291314]
[null,null,null,null,null,null,null,null,null,null,51581.519752466818,15716.258998454339]
[null,null,null,null,null,null,null,null,null,null,43201.22026154428,15339.620885653863]
[null,null,null,null,null,null,null,null,null,null,33541.725301682338,13633.190888859337]
["Sample","Pb isotope ratios","Pb isotope ratios","Pb-207/206","Pb-207/206",null,null,null,null,null,24365.728605985329,12202.394258651026]
[null,"206/204","207/204","Ratio","Ages"]
["HRV 67",18.73,15.32,{"$f":"(C33/B33)","v":0.81793913507741589},{"$f":"[1]!AgePb76($D$33)","v":4953.2986136913387}]
["HRV 173b",14.93,14.86,0.99531145344943062,{"$f":"[1]!AgePb76($D$34)","v":5230.7678633802652}]
["HRV 158a",16.809999999999999,15.215,0.90511600237953604,{"$f":"[1]!AgePb76($D$35)","v":5096.8830281176297}]
["10A",14.78,14.9,1.0081190798376185,{"$f":"[1]!AgePb76($D$36)","v":5248.7323472795088}]
["JJG 6",17.48,15.34,0.87757437070938216,{"$f":"[1]!AgePb76($D$37)","v":5053.1667903717935}]
["LBM 1",19.02,15.46,0.81282860147213465,{"$f":"[1]!AgePb76($D$38)","v":4944.3827422156437}]
["LBM 9",19.22,15.51,0.80697190426638921,{"$f":"[1]!AgePb76($D$39)","v":4934.0915022455538}]
["LBM 11",17.649999999999999,15.35,0.86968838526912184,{"$f":"[1]!AgePb76($D$40)","v":5040.3811584012146}]
["LBM 90",20.170000000000002,15.72,0.77937530986613779,{"$f":"[1]!AgePb76($D$41)","v":4884.5053002117211}]
["LBM 38b",19.89,15.71,0.78984414278531923,{"$f":"[1]!AgePb76($D$42)","v":4903.5327661604615}]
["KD 771",19.61,15.66,0.79857215706272311,{"$f":"[1]!AgePb76($D$43)","v":4919.1921353165808}]
["KD 772",19.760000000000002,15.68,0.79352226720647767,{"$f":"[1]!AgePb76($D$44)","v":4910.1542175377244}]
["KD 773",19.62,15.6,0.7951070336391437,{"$f":"[1]!AgePb76($D$45)","v":4912.9970900301196}]
["KD 774",19.88,15.64,0.78672032193158958,{"$f":"[1]!AgePb76($D$46)","v":4897.8833572907879}]
[" ",null,null,"Average",{"$f":"AVERAGE(E33:E46)","v":4994.9977794464521}]
[null,null,null,"Maximum",{"$f":"MAX(E33:E46)","v":5248.7323472795088}]
[null,null,null,"Minimum",{"$f":"MIN(E33:E46)","v":4884.5053002117211}]
[null,null,null,"Std Deviation",{"$f":"STDEV(E33:E46)","v":121.99546510622982}]

{"sheet":"Rb-Sr _04","index":4,"n_rows":31,"n_cols":14,"rows_kept":31,"cut":false,"hidden":false,"merged":[]}
["Rubidium",null,null,null,null,null,null,null,null,null,"Dates_004.pdf"]
["Strontium","Initial","Today","Today","The Ratio","Half","Decay","2.303/Delta","Age","Age","Age","Model Age","Model Age","Model Age"]
["Dating","87Sr/86Sr","87Sr/86Sr","87Rb/86Sr","Plus One","Life","Constant","Constant","Years","Million Years","Billion Years","Million Years","% Difference"," Difference"]
[null,0.70299999999999996,0.73080000000000001,0.434,{"$f":"1+((C4-B4)/D4)","v":1.0640552995391706},48800000000,{"$f":"(0.693/F4)","v":1.4200819672131146E-11},{"$f":"(2.303/G4)","v":162173737373.7374},{"$f":"(LOG(E4))*(H4)","v":4372884938.2519083},{"$f":"(I4/1000000)","v":4372.8849382519084},{"$f":"(J4/1000)","v":4.3728849382519082}]
[null,0.70299999999999996,0.73,0.441,1.0612244897959184,48800000000,1.4200819672131146E-11,162173737373.7374,4185260390.4205599,4185.2603904205598,4.1852603904205594]
[null,0.70299999999999996,0.73050000000000004,0.441,1.0623582766439912,48800000000,1.4200819672131146E-11,162173737373.7374,4260467188.0107794,4260.467188010779,4.2604671880107787]
[null,0.70299999999999996,0.73129999999999995,0.46400000000000002,1.0609913793103447,48800000000,1.4200819672131146E-11,162173737373.7374,4169787655.4951763,4169.7876554951763,4.1697876554951767]
[null,0.70299999999999996,0.73019999999999996,0.46400000000000002,1.0586206896551724,48800000000,1.4200819672131146E-11,162173737373.7374,4012239495.8990378,4012.239495899038,4.0122394958990384]
[null,0.70299999999999996,0.73099999999999998,0.45,1.0622222222222222,48800000000,1.4200819672131146E-11,162173737373.7374,4251446611.3231611,4251.4466113231611,4.2514466113231615]
[null,0.70299999999999996,0.72650000000000003,0.39600000000000002,1.0593434343434345,48800000000,1.4200819672131146E-11,162173737373.7374,4060308061.0233688,4060.3080610233687,4.0603080610233686]
[null,0.70299999999999996,0.72419999999999995,0.39600000000000002,1.0535353535353535,48800000000,1.4200819672131146E-11,162173737373.7374,3673091437.8490419,3673.091437849042,3.6730914378490418]
[null,0.70299999999999996,0.92500000000000004,3.1,1.0716129032258064,48800000000,1.4200819672131146E-11,162173737373.7374,4871364065.3531752,4871.3640653531747,4.8713640653531751]
[null,0.70299999999999996,1.1259999999999999,6.3,1.0671428571428572,48800000000,1.4200819672131146E-11,162173737373.7374,4576958325.5524693,4576.9583255524694,4.5769583255524697]
[null,0.70299999999999996,1.1259999999999999,6.3,1.0671428571428572,48800000000,1.4200819672131146E-11,162173737373.7374,4576958325.5524693,4576.9583255524694,4.5769583255524697]
[null,0.70299999999999996,0.89659999999999995,2.89,1.0669896193771626,48800000000,1.4200819672131146E-11,162173737373.7374,4566843945.4788828,4566.8439454788831,4.5668439454788832]
[null,0.70299999999999996,0.89629999999999999,2.89,1.0668858131487888,48800000000,1.4200819672131146E-11,162173737373.7374,4559991443.3166943,4559.9914433166941,4.5599914433166937]
[null,0.70299999999999996,0.74639999999999995,0.66300000000000003,1.0654600301659125,48800000000,1.4200819672131146E-11,162173737373.7374,4465804504.9224052,4465.8045049224056,4.4658045049224055]
[null,0.70299999999999996,0.90510000000000002,3.05,1.0662622950819673,48800000000,1.4200819672131146E-11,162173737373.7374,4518817460.7493839,4518.8174607493838,4.5188174607493838]
[null,0.70299999999999996,0.90590000000000004,3.05,1.0665245901639344,48800000000,1.4200819672131146E-11,162173737373.7374,4536141035.7485743,4536.1410357485738,4.5361410357485736]
[null,0.70299999999999996,0.75290000000000001,0.81499999999999995,1.0612269938650307,48800000000,1.4200819672131146E-11,162173737373.7374,4185426579.8404651,4185.4265798404649,4.1854265798404651]
[null,0.70299999999999996,0.74870000000000003,0.74399999999999999,1.0614247311827958,48800000000,1.4200819672131146E-11,162173737373.7374,4198548721.7286801,4198.54872172868,4.1985487217286801]
[null,0.70299999999999996,0.75190000000000001,0.78500000000000003,1.0622929936305734,48800000000,1.4200819672131146E-11,162173737373.7374,4256138987.5383611,4256.1389875383611,4.2561389875383613]
[null,0.70299999999999996,0.75190000000000001,0.78500000000000003,1.0622929936305734,48800000000,1.4200819672131146E-11,162173737373.7374,4256138987.5383611,4256.1389875383611,4.2561389875383613]
[null,0.70299999999999996,0.70140000000000002,1.26E-2,0.87301587301587813,48800000000,1.4200819672131146E-11,162173737373.7374,-9564659971.9103069,-9564.6599719103069,-9.5646599719103076]
[null,0.70299999999999996,0.70079999999999998,1.26E-2,0.82539682539682702,48800000000,1.4200819672131146E-11,162173737373.7374,-13515106129.916203,-13515.106129916203,-13.515106129916203]
[null,0.70299999999999996,0.70069999999999999,1.26E-2,0.81746031746031989,48800000000,1.4200819672131146E-11,162173737373.7374,-14195605716.010048,-14195.605716010048,-14.195605716010048]
[null,0.70299999999999996,0.70040000000000002,1.26E-2,0.79365079365079882,48800000000,1.4200819672131146E-11,162173737373.7374,-16277466423.954046,-16277.466423954047,-16.277466423954046]
[null,null,null,null,null,null,null,null,"Average",{"$f":"AVERAGE(J4:J27)","v":1375.0741633250982}]
[null,null,null,null,null,null,null,null,"Maximum",{"$f":"MAX(J4:J28)","v":4871.3640653531747}]
[null,null,null,null,null,null,null,null,"Minimum",{"$f":"MIN(J4:J29)","v":-16277.466423954047}]
[null,null,null,null,null,null,null,null,"Difference",{"$f":"(J29+ABS(J30))","v":21148.83048930722}]

{"sheet":"Rb-Sr _05","index":5,"n_rows":429,"n_cols":21,"rows_kept":429,"cut":false,"hidden":false,"merged":[]}
["Rubidium","TABLE 1.",null,null,null,null,null,null,null,null,"Ages_001.pdf",null,null,null,null,null,null,null,null,null,508074]
["Strontium","Initial","Today","Today","The Ratio","Half","Decay","2.303/Delta","Age","Age","Age","Model Age","Model Age","Model Age",null,null,null,null,null,null,508074]
["Dating","87Sr/86Sr","87Sr/86Sr","87Rb/86Sr","Plus One","Life","Constant","Constant","Years","Million Years","Billion Years","Million Years","% Difference"," Difference",null,null,null,null,null,null,314336]
[null,0.70530000000000004,0.75800000000000001,0.43869999999999998,{"$f":"1+((C4-B4)/D4)","v":1.1201276498746295},48800000000,{"$f":"(0.693/F4)","v":1.4200819672131146E-11},{"$f":"(2.303/G4)","v":162173737373.7374},{"$f":"(LOG(E4))*(H4)","v":7989897482.8795013},{"$f":"(I4/1000000)","v":7989.8974828795017},{"$f":"(J4/1000)","v":7.9898974828795017},null,null,null,null,null,null,null,null,null,314336]
[null,0.70530000000000004,0.74399999999999999,3.9699999999999999E-2,1.9748110831234245,48800000000,1.4200819672131146E-11,162173737373.7374,47926483893.212402,47926.483893212404,47.926483893212406,null,null,null,null,null,null,null,null,null,302580]
[null,0.70530000000000004,0.88819999999999999,0.16689999999999999,2.095865787896944,48800000000,1.4200819672131146E-11,162173737373.7374,52116714736.098549,52116.714736098547,52.116714736098544,null,null,null,null,null,null,null,null,null,288775]
[null,0.70530000000000004,1.3255999999999999,7.3300000000000004E-2,9.4624829467939939,48800000000,1.4200819672131146E-11,162173737373.7374,158282396356.51379,158282.39635651378,158.28239635651377,null,null,null,null,null,null,null,null,null,287077]
[null,0.70530000000000004,1.4121999999999999,0.1037,7.8167791706846659,48800000000,1.4200819672131146E-11,162173737373.7374,144825662880.81467,144825.66288081466,144.82566288081466,null,null,null,null,null,null,null,null,null,207257]
[null,0.70530000000000004,0.90739999999999998,1.55E-2,14.038709677419352,48800000000,1.4200819672131146E-11,162173737373.7374,186066338855.95209,186066.33885595208,186.0663388559521,null,null,null,null,null,null,null,null,null,201185]
[null,0.70530000000000004,1.0152000000000001,5.6500000000000002E-2,6.4849557522123904,48800000000,1.4200819672131146E-11,162173737373.7374,131669995375.45584,131669.99537545585,131.66999537545584,null,null,null,null,null,null,null,null,null,191104]
[null,0.70530000000000004,1.2912999999999999,6.3500000000000001E-2,10.228346456692911,48800000000,1.4200819672131146E-11,162173737373.7374,163763920622.37979,163763.92062237978,163.76392062237977,null,null,null,null,null,null,null,null,null,190573]
[null,0.70530000000000004,1.0865,9.2899999999999996E-2,5.1033369214208824,48800000000,1.4200819672131146E-11,162173737373.7374,114795367831.57774,114795.36783157775,114.79536783157775,null,null,null,null,null,null,null,null,null,189167]
[null,0.70530000000000004,1.1357999999999999,0.22320000000000001,2.9287634408602141,48800000000,1.4200819672131146E-11,162173737373.7374,75683936245.186768,75683.936245186764,75.683936245186757,null,null,null,null,null,null,null,null,null,186066]
[null,0.70530000000000004,1.0235000000000001,2.2599999999999999E-2,15.079646017699117,48800000000,1.4200819672131146E-11,162173737373.7374,191104096388.56241,191104.09638856241,191.1040963885624,null,null,null,null,null,null,null,null,null,183607]
[null,0.70530000000000004,0.87150000000000005,1.1900000000000001E-2,14.966386554621849,48800000000,1.4200819672131146E-11,162173737373.7374,190573108941.58496,190573.10894158497,190.57310894158496,null,null,null,null,null,null,null,null,null,183225]
[null,0.70530000000000004,0.85399999999999998,2.5700000000000001E-2,6.7859922178988308,48800000000,1.4200819672131146E-11,162173737373.7374,134865846197.62732,134865.84619762731,134.86584619762732,null,null,null,null,null,null,null,null,null,165542]
[null,0.70530000000000004,0.91110000000000002,2.47E-2,9.3319838056680151,48800000000,1.4200819672131146E-11,162173737373.7374,157304304918.75702,157304.30491875703,157.30430491875703,null,"Age","Age","Age","Age",null,null,null,null,163764]
[null,0.70530000000000004,0.84099999999999997,1E-4,1357.9999999999993,48800000000,1.4200819672131146E-11,162173737373.7374,508074064509.21881,508074.06450921879,508.07406450921877,null,"Million Years","Million Years","Million Years","Million Years",null,null,null,null,158436]
[null,0.70530000000000004,0.85699999999999998,2.7099999999999999E-2,6.5977859778597772,48800000000,1.4200819672131146E-11,162173737373.7374,132884872316.26071,132884.87231626071,132.8848723162607,null,508074.06450921879,157304.30491875703,125399.23932285735,86482.800004871446,null,null,null,null,158282]
[null,0.70530000000000004,0.8327,2.2000000000000001E-3,58.909090909090885,48800000000,1.4200819672131146E-11,162173737373.7374,287077082782.84058,287077.08278284059,287.07708278284059,null,314336.40617064381,151141.85310055091,114795.64342376367,75683.936245186764,null,null,null,null,157714]
[null,0.70530000000000004,0.73960000000000004,4.0000000000000002E-4,{"$f":"1+((C21-B21)/D21)","v":86.749999999999986},48800000000,{"$f":"(0.693/F21)","v":1.4200819672131146E-11},{"$f":"(2.303/G21)","v":162173737373.7374},{"$f":"(LOG(E21))*(H21)","v":314336406170.6438},{"$f":"(I21/1000000)","v":314336.40617064381},{"$f":"(J21/1000)","v":314.33640617064378},null,302580.13680461858,150088.85376161884,114795.36783157775,72915.482953637766,null,null,null,null,157589]
[null,0.70530000000000004,1.2945,4.3099999999999999E-2,14.670533642691414,48800000000,1.4200819672131146E-11,162173737373.7374,189166892937.00006,189166.89293700006,189.16689293700006,null,287077.08278284059,149802.2977128427,113949.65461737092,71225.005590068584,null,null,null,null,157304]
[null,0.70530000000000004,1.2461,3.0099999999999998E-2,18.966777408637874,48800000000,1.4200819672131146E-11,162173737373.7374,207256989923.46085,207256.98992346085,207.25698992346085,null,207256.98992346085,144825.66288081466,111884.36271426953,69728.588724170651,null,null,null,null,151317]
[null,0.70530000000000004,1.1698,0.1132,5.1033568904593638,48800000000,1.4200819672131146E-11,162173737373.7374,114795643423.76367,114795.64342376367,114.79564342376366,null,201184.50799016966,142976.52774080011,110719.49850938426,63934.252084278989,null,null,null,null,151142]
[null,0.70530000000000004,1.3169999999999999,4.9000000000000002E-2,13.483673469387753,48800000000,1.4200819672131146E-11,162173737373.7374,183225222652.47592,183225.22265247593,183.22522265247594,null,191104.09638856241,138114.89026444161,109164.23430201877,63405.818182032606,null,null,null,null,150089]
[null,0.70530000000000004,1.1416999999999999,5.7799999999999997E-2,8.5501730103806217,48800000000,1.4200819672131146E-11,162173737373.7374,151141853100.5509,151141.85310055091,151.14185310055092,null,190573.10894158497,134865.84619762731,108617.33099566661,61739.828080013933,null,null,null,null,149802]
[null,0.70530000000000004,1.2829999999999999,6.8099999999999994E-2,9.4831130690161523,48800000000,1.4200819672131146E-11,162173737373.7374,158435783349.10846,158435.78334910845,158.43578334910845,null,189166.89293700006,134061.08006443235,108277.92996775177,56734.592878132775,null,null,null,null,147429]
[null,0.70530000000000004,1.1289,7.4200000000000002E-2,6.7088948787061993,48800000000,1.4200819672131146E-11,162173737373.7374,134061080064.43236,134061.08006443235,134.06108006443236,null,186066.33885595208,134038.90958325501,102140.24464816987,52116.714736098547,null,null,null,null,144826]
[null,0.70530000000000004,0.79210000000000003,2.7699999999999999E-2,4.1335740072202167,48800000000,1.4200819672131146E-11,162173737373.7374,99951845064.600876,99951.845064600871,99.951845064600874,null,183607.44575885547,132884.87231626071,99951.845064600871,47926.483893212404,null,null,null,null,142977]
[null,0.70530000000000004,0.86109999999999998,9.4999999999999998E-3,17.399999999999995,48800000000,1.4200819672131146E-11,162173737373.7374,201184507990.16965,201184.50799016966,201.18450799016966,null,183225.22265247593,132745.53068031449,93847.781911544836,46968.307161815341,null,null,null,null,138882]
[null,0.70530000000000004,1.0831,0.1018,4.711198428290766,48800000000,1.4200819672131146E-11,162173737373.7374,109164234302.01877,109164.23430201877,109.16423430201877,null,163763.92062237978,131669.99537545585,89245.629597548628,39944.217932620391,null,null,null,null,138115]
[null,0.70530000000000004,0.96609999999999996,4.5699999999999998E-2,6.7067833698030617,48800000000,1.4200819672131146E-11,162173737373.7374,134038909583.25502,134038.90958325501,134.03890958325502,null,158435.78334910845,130663.56037632414,88625.540174251786,37622.94592660966,null,null,null,null,134866]
[null,0.70530000000000004,0.95679999999999998,6.59E-2,4.816388467374809,48800000000,1.4200819672131146E-11,162173737373.7374,110719498509.38426,110719.49850938426,110.71949850938425,null,158282.39635651378,129494.57529097174,87708.157858029779,16153.35353616047,null,null,null,null,134061]
[null,0.70530000000000004,1.0729,0.1459,3.5195339273474979,48800000000,1.4200819672131146E-11,162173737373.7374,88625540174.251785,88625.540174251786,88.625540174251782,null,null,null,null,null,null,null,null,null,134039]
[null,0.70530000000000004,1.155,1.7444999999999999,1.2577815993121237,48800000000,1.4200819672131146E-11,162173737373.7374,16153353536.160469,16153.35353616047,16.15335353616047,null,null,null,null,null,null,null,null,null,132885]
[null,0.70530000000000004,0.80400000000000005,0.1041,1.9481268011527377,48800000000,1.4200819672131146E-11,162173737373.7374,46968307161.815338,46968.307161815341,46.968307161815339,null,null,null,null,null,null,null,null,null,132746]
[null,0.70530000000000004,0.91930000000000001,8.6499999999999994E-2,3.4739884393063583,48800000000,1.4200819672131146E-11,162173737373.7374,87708157858.029785,87708.157858029779,87.708157858029779,null,null,null,null,null,null,null,null,null,131670]
[null,0.70530000000000004,1.3149,8.2500000000000004E-2,8.3890909090909069,48800000000,1.4200819672131146E-11,162173737373.7374,149802297712.84271,149802.2977128427,149.80229771284269,null,null,null,null,null,null,null,null,null,130664]
[null,0.70530000000000004,1.3682000000000001,8.9300000000000004E-2,8.4232922732362816,48800000000,1.4200819672131146E-11,162173737373.7374,150088853761.61884,150088.85376161884,150.08885376161885,null,null,null,null,null,null,null,null,null,129495]
[null,0.70530000000000004,1.6259999999999999,0.13919999999999999,7.6142241379310338,48800000000,1.4200819672131146E-11,162173737373.7374,142976527740.80011,142976.52774080011,142.97652774080012,null,null,null,null,null,null,null,null,null,125399]
[null,0.70530000000000004,1.6408,7.4499999999999997E-2,13.557046979865772,48800000000,1.4200819672131146E-11,162173737373.7374,183607445758.85547,183607.44575885547,183.60744575885548,null,null,null,null,null,null,null,null,null,118679]
[null,0.70530000000000004,1.5779000000000001,0.1429,7.1063680895731283,48800000000,1.4200819672131146E-11,162173737373.7374,138114890264.44162,138114.89026444161,138.11489026444161,null,null,null,null,null,null,null,null,null,114796]
[null,0.70530000000000004,0.91900000000000004,0.28000000000000003,1.7632142857142856,48800000000,1.4200819672131146E-11,162173737373.7374,39944217932.620392,39944.217932620391,39.94421793262039,null,null,null,null,null,null,null,null,null,114795]
[null,0.70530000000000004,1.1253,5.7999999999999996E-3,73.41379310344827,48800000000,1.4200819672131146E-11,162173737373.7374,302580136804.61859,302580.13680461858,302.58013680461858,null,null,null,null,null,null,null,null,null,113950]
[null,0.70530000000000004,1.0769,2.2446999999999999,1.1655455071947254,48800000000,1.4200819672131146E-11,162173737373.7374,10789294627.111595,10789.294627111594,10.789294627111595,null,null,null,null,null,null,null,null,null,111884]
[null,0.70530000000000004,1.1009,0.1212,4.2640264026402637,48800000000,1.4200819672131146E-11,162173737373.7374,102140244648.16988,102140.24464816987,102.14024464816987,null,null,null,null,null,null,null,null,null,110719]
[null,0.70530000000000004,0.98019999999999996,0.18590000000000001,2.4787520172135551,48800000000,1.4200819672131146E-11,162173737373.7374,63934252084.278992,63934.252084278989,63.934252084278988,null,null,null,null,null,null,null,null,null,109164]
[null,0.70530000000000004,0.95389999999999997,0.35210000000000002,1.70604941777904,48800000000,1.4200819672131146E-11,162173737373.7374,37622945926.609657,37622.94592660966,37.62294592660966,null,null,null,null,null,null,null,null,null,108617]
[null,0.70530000000000004,1.0488,0.1231,3.7904142973192521,48800000000,1.4200819672131146E-11,162173737373.7374,93847781911.54483,93847.781911544836,93.847781911544843,null,null,null,null,null,null,null,null,null,108278]
[null,0.70530000000000004,1.0350999999999999,0.1293,3.5506573859242061,48800000000,1.4200819672131146E-11,162173737373.7374,89245629597.54863,89245.629597548628,89.245629597548628,null,null,null,null,null,null,null,null,null,102716]
[null,0.70530000000000004,1.2390000000000001,0.1082,5.9325323475046217,48800000000,1.4200819672131146E-11,162173737373.7374,125399239322.85735,125399.23932285735,125.39923932285735,null,null,null,null,null,null,null,null,null,102140]
[null,0.70530000000000004,0.94320000000000004,0.1696,2.4027122641509431,48800000000,1.4200819672131146E-11,162173737373.7374,61739828080.013931,61739.828080013933,61.739828080013936,null,null,null,null,null,null,null,null,null,101380]
[null,0.70530000000000004,1.1319999999999999,0.34470000000000001,2.2378880185668693,48800000000,1.4200819672131146E-11,162173737373.7374,56734592878.132774,56734.592878132775,56.734592878132773,null,null,null,null,null,null,null,null,null,100277]
[null,0.70530000000000004,0.95309999999999995,0.16969999999999999,2.4602239245727748,48800000000,1.4200819672131146E-11,162173737373.7374,63405818182.032608,63405.818182032606,63.405818182032604,null,null,null,null,null,null,null,null,null,99952]
[null,0.70530000000000004,0.94650000000000001,0.13789999999999999,2.7490935460478605,48800000000,1.4200819672131146E-11,162173737373.7374,71225005590.068588,71225.005590068584,71.225005590068591,null,null,null,null,null,null,null,null,null,99779]
[null,0.70530000000000004,0.97209999999999996,6.6000000000000003E-2,5.0424242424242411,48800000000,1.4200819672131146E-11,162173737373.7374,113949654617.37093,113949.65461737092,113.94965461737092,null,null,null,null,null,null,null,null,null,99683]
[null,0.70530000000000004,1.1548,0.1862,3.4140708915145006,48800000000,1.4200819672131146E-11,162173737373.7374,86482800004.871445,86482.800004871446,86.48280000487145,null,null,null,null,null,null,null,null,null,99369]
[null,0.70530000000000004,1.2324999999999999,9.4399999999999998E-2,6.5847457627118633,48800000000,1.4200819672131146E-11,162173737373.7374,132745530680.3145,132745.53068031449,132.74553068031449,null,null,null,null,null,null,null,null,null,99238]
[null,0.70530000000000004,1.196,9.2799999999999994E-2,6.287715517241379,48800000000,1.4200819672131146E-11,162173737373.7374,129494575290.97174,129494.57529097174,129.49457529097174,null,null,null,null,null,null,null,null,null,99177]
[null,0.70530000000000004,1.1315999999999999,0.1094,4.8967093235831802,48800000000,1.4200819672131146E-11,162173737373.7374,111884362714.26953,111884.36271426953,111.88436271426953,null,null,null,null,null,null,null,null,null,98948]
[null,0.70530000000000004,1.137,0.1182,4.6522842639593911,48800000000,1.4200819672131146E-11,162173737373.7374,108277929967.75177,108277.92996775177,108.27792996775177,null,null,null,null,null,null,null,null,null,98765]
[null,0.70530000000000004,0.9194,3.9699999999999999E-2,6.3929471032745582,48800000000,1.4200819672131146E-11,162173737373.7374,130663560376.32414,130663.56037632414,130.66356037632414,null,null,null,null,null,null,null,null,null,98736]
[null,0.70530000000000004,0.98440000000000005,0.1537,2.8158750813272611,48800000000,1.4200819672131146E-11,162173737373.7374,72915482953.637772,72915.482953637766,72.915482953637763,null,null,null,null,null,null,null,null,null,98685]
[null,0.70530000000000004,0.93240000000000001,6.1800000000000001E-2,4.6747572815533971,48800000000,1.4200819672131146E-11,162173737373.7374,108617330995.66661,108617.33099566661,108.61733099566661,null,null,null,null,null,null,null,null,null,98591]
[null,0.70530000000000004,0.92500000000000004,0.12989999999999999,2.6913010007698235,48800000000,1.4200819672131146E-11,162173737373.7374,69728588724.170654,69728.588724170651,69.728588724170649,null,null,null,null,null,null,null,null,null,98450]
[null,null,null,null,null,null,null,null,"Average",{"$f":"AVERAGE(J2:J65)","v":128708.0183110574},null,null,null,null,null,null,null,null,null,null,98436]
[null,null,null,null,null,null,null,null,"Maximum",{"$f":"MAX(J4:J66)","v":508074.06450921879},null,null,null,null,null,null,null,null,null,null,98285]
[null,null,null,null,null,null,null,null,"Minimum",{"$f":"MIN(J4:J67)","v":7989.8974828795017},null,null,null,null,null,null,null,null,null,null,98243]
[null,null,null,null,null,null,null,null,"Difference",{"$f":"(J67+ABS(J68))","v":516063.96199209831},null,null,null,null,null,null,null,null,null,null,97979]
[null,null,null,null,null,null,null,null,null,null,null,null,null,null,null,null,null,null,null,null,97830]
[null,"TABLE 2.",null,null,null,null,null,null,null,null,null,null,null,null,null,null,null,null,null,null,97628]
[null,"Initial","Today","Today","The Ratio","Half","Decay","2.303/Delta","Age","Age","Age",null,"Age","Age","Age",null,null,null,null,null,97604]
[null,"87Sr/86Sr","87Sr/86Sr","87Rb/86Sr","Plus One","Life","Constant","Constant","Years","Million Years","Billion Years",null,"Million Years","Million Years","Million Years",null,null,null,null,null,97545]
[null,0.70530000000000004,0.751,0.2392,{"$f":"1+((C74-B74)/D74)","v":1.1910535117056855},48800000000,{"$f":"(0.693/F74)","v":1.4200819672131146E-11},{"$f":"(2.303/G74)","v":162173737373.7374},{"$f":"(LOG(E74))*(H74)","v":12314058475.658718},{"$f":"(I74/1000000)","v":12314.058475658718},{"$f":"(J74/1000)","v":12.314058475658717},null,508074.06450921879,147428.95804298684,87708.157858029779,null,null,null,null,null,97421]
[null,0.70530000000000004,1.2087000000000001,0.11459999999999999,{"$f":"1+((C75-B75)/D75)","v":5.3926701570680633},48800000000,{"$f":"(0.693/F75)","v":1.4200819672131146E-11},{"$f":"(2.303/G75)","v":162173737373.7374},{"$f":"(LOG(E75))*(H75)","v":118679366588.39159},{"$f":"(I75/1000000)","v":118679.36658839158},{"$f":"(J75/1000)","v":118.67936658839159},null,314336.40617064381,138881.53139279856,84716.367425131888,null,null,null,null,null,97402]
[null,0.70530000000000004,0.96130000000000004,3.5999999999999997E-2,8.1111111111111107,48800000000,1.4200819672131146E-11,162173737373.7374,147428958042.98685,147428.95804298684,147.42895804298684,null,165541.60569716324,118679.36658839158,82293.810231587733,null,null,null,null,null,97242]
[null,0.70530000000000004,1.1889000000000001,7.8200000000000006E-2,7.1841432225063935,48800000000,1.4200819672131146E-11,162173737373.7374,138881531392.79855,138881.53139279856,138.88153139279856,null,157714.35775565376,98450.255520672945,59079.889941313158,null,null,null,null,null,97117]
[null,0.70530000000000004,1.0797000000000001,0.1229,4.0463791700569569,48800000000,1.4200819672131146E-11,162173737373.7374,98450255520.672943,98450.255520672945,98.45025552067294,null,157588.9493339214,91449.954617225216,45663.274562038467,null,null,null,null,null,97033]
[null,0.70530000000000004,0.87890000000000001,2.07E-2,9.386473429951689,48800000000,1.4200819672131146E-11,162173737373.7374,157714357755.65378,157714.35775565376,157.71435775565377,null,151316.72629416749,89235.665879431253,12314.058475658718,null,null,null,null,null,96792]
[null,0.70530000000000004,0.84099999999999997,1E-4,1357.9999999999993,48800000000,1.4200819672131146E-11,162173737373.7374,508074064509.21881,508074.06450921879,508.07406450921877,null,null,null,null,null,null,null,null,null,96687]
[null,0.70530000000000004,0.8448,1.47E-2,10.489795918367344,48800000000,1.4200819672131146E-11,162173737373.7374,165541605697.16324,165541.60569716324,165.54160569716325,null,null,null,null,null,null,null,null,null,96655]
[null,0.70530000000000004,0.73960000000000004,4.0000000000000002E-4,86.749999999999986,48800000000,1.4200819672131146E-11,162173737373.7374,314336406170.6438,314336.40617064381,314.33640617064378,null,null,null,null,null,null,null,null,null,96602]
[null,0.70530000000000004,1.0221,0.1429,3.2169349195241423,48800000000,1.4200819672131146E-11,162173737373.7374,82293810231.587738,82293.810231587733,82.293810231587727,null,null,null,null,null,null,null,null,null,96293]
[null,0.70530000000000004,1.2259,6.2199999999999998E-2,9.369774919614148,48800000000,1.4200819672131146E-11,162173737373.7374,157588949333.92139,157588.9493339214,157.58894933392139,null,null,null,null,null,null,null,null,null,96252]
[null,0.70530000000000004,0.96140000000000003,0.28070000000000001,1.9123619522622017,48800000000,1.4200819672131146E-11,162173737373.7374,45663274562.038467,45663.274562038467,45.663274562038467,null,null,null,null,null,null,null,null,null,96236]
[null,0.70530000000000004,1.0726,0.27960000000000002,2.3136623748211731,48800000000,1.4200819672131146E-11,162173737373.7374,59079889941.313156,59079.889941313158,59.079889941313155,null,null,null,null,null,null,null,null,null,96043]
[null,0.70530000000000004,0.95189999999999997,9.6699999999999994E-2,3.5501551189245082,48800000000,1.4200819672131146E-11,162173737373.7374,89235665879.431259,89235.665879431253,89.235665879431252,null,null,null,null,null,null,null,null,null,95981]
[null,0.70530000000000004,0.92869999999999997,9.5899999999999999E-2,3.3295099061522411,48800000000,1.4200819672131146E-11,162173737373.7374,84716367425.131882,84716.367425131888,84.716367425131892,null,null,null,null,null,null,null,null,null,95894]
[null,0.70530000000000004,0.91930000000000001,8.6499999999999994E-2,3.4739884393063583,48800000000,1.4200819672131146E-11,162173737373.7374,87708157858.029785,87708.157858029779,87.708157858029779,null,null,null,null,null,null,null,null,null,95761]
[null,0.70530000000000004,1.5056,0.1057,8.5714285714285712,48800000000,1.4200819672131146E-11,162173737373.7374,151316726294.16748,151316.72629416749,151.31672629416749,null,null,null,null,null,null,null,null,null,95711]
[null,0.70530000000000004,0.96099999999999997,9.6000000000000002E-2,3.6635416666666658,48800000000,1.4200819672131146E-11,162173737373.7374,91449954617.22522,91449.954617225216,91.449954617225217,null,null,null,null,null,null,null,null,null,95609]
[null,null,null,null,null,null,null,null,"Average",{"$f":"AVERAGE(J74:J91)","v":139470.7444608908},null,null,null,null,null,null,null,null,null,null,95522]
[null,null,null,null,null,null,null,null,"Maximum",{"$f":"MAX(J74:J92)","v":508074.06450921879},null,null,null,null,null,null,null,null,null,null,95510]
[null,null,null,null,null,null,null,null,"Minimum",{"$f":"MIN(J74:J93)","v":12314.058475658718},null,null,null,null,null,null,null,null,null,null,95388]
[null,null,null,null,null,null,null,null,"Difference",{"$f":"(J93+ABS(J94))","v":520388.1229848775},null,null,null,null,null,null,null,null,null,null,95218]
[null,null,null,null,null,null,null,null,null,null,null,null,null,null,null,null,null,null,null,null,95197]
[null,"TABLE 3.",null,null,null,null,null,null,null,null,null,null,null,null,null,null,null,null,null,null,95185]
[null,"Initial","Today","Today","The Ratio","Half","Decay","2.303/Delta","Age","Age","Age",null,null,null,null,null,null,null,null,null,95125]
[null,"87Sr/86Sr","87Sr/86Sr","87Rb/86Sr","Plus One","Life","Constant","Constant","Years","Million Years","Billion Years",null,null,null,null,null,null,null,null,null,94994]
[null,0.70920000000000005,0.92500000000000004,15.27,{"$f":"1+((C100-B100)/D100)","v":1.0141322855271775},48800000000,{"$f":"(0.693/F100)","v":1.4200819672131146E-11},{"$f":"(2.303/G100)","v":162173737373.7374},{"$f":"(LOG(E100))*(H100)","v":988385514.33961582},{"$f":"(I100/1000000)","v":988.38551433961584},{"$f":"(J100/1000)","v":0.98838551433961586},null,null,null,null,null,null,null,null,null,94819]
[null,0.70920000000000005,0.86199999999999999,9.64,1.015850622406639,48800000000,1.4200819672131146E-11,162173737373.7374,1107622466.3720899,1107.6224663720898,1.1076224663720897,null,null,null,null,null,null,null,null,null,94465]
[null,0.70920000000000005,0.71399999999999997,0.34,1.0141176470588233,48800000000,1.4200819672131146E-11,162173737373.7374,987368870.10924184,987.36887010924181,0.98736887010924179,null,null,null,null,null,null,null,null,null,94453]
[null,0.70920000000000005,0.71899999999999997,0.39200000000000002,1.0249999999999997,48800000000,1.4200819672131146E-11,162173737373.7374,1739129329.6767015,1739.1293296767014,1.7391293296767014,null,null,null,null,null,null,null,null,null,94431]
[null,0.70920000000000005,0.71699999999999997,0.30499999999999999,1.0255737704918031,48800000000,1.4200819672131146E-11,162173737373.7374,1778543977.9258201,1778.5439779258202,1.7785439779258201,null,null,null,null,null,null,null,null,null,94408]
[null,0.70920000000000005,0.76,1.321,1.0384557153671461,48800000000,1.4200819672131146E-11,162173737373.7374,2657700111.8502254,2657.7001118502253,2.6577001118502253,null,null,null,null,null,null,null,null,null,94397]
[null,0.70920000000000005,0.74,0.76800000000000002,1.0401041666666666,48800000000,1.4200819672131146E-11,162173737373.7374,2769414343.7462006,2769.4143437462008,2.7694143437462007,null,null,null,null,null,null,null,null,null,94345]
[null,null,null,null,null,null,null,null,null,null,null,null,null,null,null,null,null,null,null,null,94339]
[null,null,null,null,null,null,null,null,null,null,null,null,null,null,null,null,null,null,null,null,94249]
[null,"TABLE 4.",null,null,null,null,null,null,null,null,null,null,null,null,null,null,null,null,null,null,94235]
["Sample","Initial","Today","Today","The Ratio","Half","Decay","2.303/Delta","Age","Age","Age","Model Age",null,null,null,null,null,null,null,null,94139]
["Number","87Sr/86Sr","87Sr/86Sr","87Rb/86Sr","Plus One","Life","Constant","Constant","Years","Million Years","Billion Years","Million Years",null,null,null,null,null,null,null,null,94100]
["918-13G",0.70530000000000004,0.70557999999999998,0.39950000000000002,{"$f":"1+((C112-B112)/D112)","v":1.0007008760951188},48800000000,{"$f":"(0.693/F112)","v":1.4200819672131146E-11},{"$f":"(2.303/G112)","v":162173737373.7374},{"$f":"(LOG(E112))*(H112)","v":49346225.095094912},{"$f":"(I112/1000000)","v":49.346225095094908},{"$f":"(J112/1000)","v":4.9346225095094912E-2},1245,null,null,null,null,null,null,null,null,93928]
["918-13H",0.70530000000000004,0.70548,0.2293,1.0007849978194503,48800000000,{"$f":"(0.693/F113)","v":1.4200819672131146E-11},{"$f":"(2.303/G113)","v":162173737373.7374},{"$f":"(LOG(E113))*(H113)","v":55266617.183362015},{"$f":"(I113/1000000)","v":55.266617183362015},{"$f":"(J113/1000)","v":5.5266617183362017E-2},1385,null,null,null,null,null,null,null,null,93848]
["918-13J",0.70530000000000004,0.70587999999999995,0.27579999999999999,1.0021029731689628,48800000000,1.4200819672131146E-11,162173737373.7374,147959315.40055779,147.95931540055778,0.14795931540055779,1500,null,null,null,null,null,null,null,null,93841]
["837-8A",0.70530000000000004,0.70538999999999996,0.20200000000000001,1.0004455445544551,48800000000,1.4200819672131146E-11,162173737373.7374,31373230.901046447,31.373230901046448,3.1373230901046448E-2,1078,null,null,null,null,null,null,null,null,93766]
["837-8C",0.70530000000000004,0.70569000000000004,0.18090000000000001,1.0021558872305141,48800000000,1.4200819672131146E-11,162173737373.7374,151678195.00262734,151.67819500262735,0.15167819500262736,1254,null,null,null,null,null,null,null,null,93730]
["837-10A",0.70530000000000004,0.70560999999999996,0.25330000000000003,1.0012238452427948,48800000000,1.4200819672131146E-11,162173737373.7374,86144136.393781945,86.144136393781949,8.6144136393781948E-2,1165,null,null,null,null,null,null,null,null,93582]
["837-10B",0.70530000000000004,0.70570999999999995,0.18360000000000001,1.0022331154684092,48800000000,1.4200819672131146E-11,162173737373.7374,157105558.96963871,157.10555896963871,0.15710555896963871,1489,null,null,null,null,null,null,null,null,93574]
["837-10C",0.70530000000000004,0.70594999999999997,0.25130000000000002,1.0025865499403102,48800000000,1.4200819672131146E-11,162173737373.7374,181938515.53191358,181.93851553191357,0.18193851553191356,1135,null,null,null,null,null,null,null,null,93504]
["877-28F",0.70530000000000004,0.70537000000000005,0.11310000000000001,1.0006189213085765,48800000000,1.4200819672131146E-11,162173737373.7374,43577861.005499117,43.577861005499116,4.3577861005499118E-2,1345,null,null,null,null,null,null,null,null,93401]
["877-29D",0.70530000000000004,0.70577999999999996,0.13569999999999999,1.0035372144436252,48800000000,1.4200819672131146E-11,162173737373.7374,248690536.74616203,248.69053674616202,0.24869053674616201,1697,null,null,null,null,null,null,null,null,93394]
[null,null,null,null,null,null,null,null,null,null,null,null,null,null,null,null,null,null,null,null,93271]
[null,null,null,null,null,null,null,null,null,null,null,null,null,null,null,null,null,null,null,null,93199]
[null,"TABLE 5.",null,null,null,null,null,null,null,null,null,null,null,null,null,null,null,null,null,null,93124]
["Sample","Initial","Today","Today","The Ratio","Half","Decay","2.303/Delta","Age","Age","Age","Model Age",null,null,null,null,null,null,null,null,93079]
["Number","87Sr/86Sr","87Sr/86Sr","87Rb/86Sr","Plus One","Life","Constant","Constant","Years","Million Years","Billion Years","Million Years",null,null,null,null,null,null,null,null,92995]
["858-6A",0.70499999999999996,47.179600000000001,26.114000000000001,{"$f":"1+((C127-B127)/D127)","v":2.7796813969518266},48800000000,1.4200819672131146E-11,162173737373.7374,72004331860.727173,72004.331860727179,{"$f":"(J127/1000)","v":72.004331860727177},838,null,null,null,null,null,null,null,null,92972]
["858-6C",0.70499999999999996,78.843500000000006,26.091999999999999,3.9947301854974708,48800000000,1.4200819672131146E-11,162173737373.7374,97545467953.885056,97545.467953885061,97.545467953885066,406,null,null,null,null,null,null,null,null,92967]
["858-6D",0.70499999999999996,50.258899999999997,16.271000000000001,4.0455350009218858,48800000000,1.4200819672131146E-11,162173737373.7374,98435560404.104385,98435.560404104384,98.435560404104379,966,null,null,null,null,null,null,null,null,92963]
["858-6E",0.70499999999999996,53.534100000000002,17.239000000000001,4.0645107024769418,48800000000,1.4200819672131146E-11,162173737373.7374,98765147473.250656,98765.147473250661,98.765147473250664,988,null,null,null,null,null,null,null,null,92915]
["858-6F",0.70499999999999996,87.344700000000003,28.175000000000001,4.075055900621118,48800000000,1.4200819672131146E-11,162173737373.7374,98947641451.511536,98947.641451511532,98.947641451511529,589,null,null,null,null,null,null,null,null,92878]
["858-6G",0.70499999999999996,9.2936999999999994,3.1709999999999998,3.7085146641438032,48800000000,1.4200819672131146E-11,162173737373.7374,92309291415.438736,92309.29141543874,92.309291415438736,1023,null,null,null,null,null,null,null,null,92863]
["858-6H",0.70499999999999996,24.446300000000001,8.2390000000000008,3.8815754339118826,48800000000,1.4200819672131146E-11,162173737373.7374,95521633664.000992,95521.633664000998,95.521633664001001,726,null,null,null,null,null,null,null,null,92829]
["858-6I",0.70499999999999996,7.5233999999999996,2.573,3.6499805674310144,48800000000,1.4200819672131146E-11,162173737373.7374,91188760351.599258,91188.760351599252,91.188760351599257,1044,null,null,null,null,null,null,null,null,92634]
["858-6J",0.70499999999999996,6.7472000000000003,2.302,3.6247610773240662,48800000000,1.4200819672131146E-11,162173737373.7374,90700428222.037048,90700.428222037051,90.700428222037047,1405,null,null,null,null,null,null,null,null,92630]
["858-6K",0.70499999999999996,10.2455,3.4780000000000002,3.7430994824611843,48800000000,1.4200819672131146E-11,162173737373.7374,92963073613.299942,92963.073613299945,92.96307361329994,1279,null,null,null,null,null,null,null,null,92374]
["858-6L",0.70499999999999996,3.3085,1.1359999999999999,3.2918133802816905,48800000000,1.4200819672131146E-11,162173737373.7374,83914401235.683395,83914.401235683399,83.9144012356834,1460,null,null,null,null,null,null,null,null,92315]
["858-6M",0.70499999999999996,32.527999999999999,10.712999999999999,3.970503127041912,48800000000,1.4200819672131146E-11,162173737373.7374,97117019719.585632,97117.019719585631,97.117019719585628,1091,null,null,null,null,null,null,null,null,92309]
["858-6N",0.70499999999999996,1.7302,0.59599999999999997,2.7201342281879191,48800000000,1.4200819672131146E-11,162173737373.7374,70479138906.877655,70479.138906877648,70.479138906877651,1717,null,null,null,null,null,null,null,null,92205]
["858-6P",0.70499999999999996,5.6954000000000002,1.948,3.5618069815195073,48800000000,1.4200819672131146E-11,162173737373.7374,89466447459.161865,89466.447459161864,89.46644745916187,1317,null,null,null,null,null,null,null,null,92140]
["858-6Q",0.70499999999999996,19.03,6.399,3.8637287076105644,48800000000,1.4200819672131146E-11,162173737373.7374,95197058198.963501,95197.058198963496,95.197058198963489,1057,null,null,null,null,null,null,null,null,92108]
["858-6R",0.70499999999999996,11.2179,3.8149999999999999,3.7556749672346004,48800000000,1.4200819672131146E-11,162173737373.7374,93199300694.667084,93199.300694667079,93.199300694667073,1056,null,null,null,null,null,null,null,null,91906]
["858-6S",0.70499999999999996,3.6166999999999998,1.2430000000000001,3.3424778761061944,48800000000,1.4200819672131146E-11,162173737373.7374,84990153989.776566,84990.153989776562,84.990153989776559,1245,null,null,null,null,null,null,null,null,91674]
["858-6T",0.70499999999999996,15.9306,5.399,3.8200777921837377,48800000000,1.4200819672131146E-11,162173737373.7374,94396825228.653381,94396.825228653383,94.396825228653384,896,null,null,null,null,null,null,null,null,91650]
["858-7A",0.70499999999999996,84.186000000000007,26.478999999999999,4.1527248007855286,48800000000,1.4200819672131146E-11,162173737373.7374,100277398130.96811,100277.39813096811,100.27739813096811,842,null,null,null,null,null,null,null,null,91450]
["858-7B",0.70499999999999996,13.589399999999999,4.5949999999999998,3.8040043525571274,48800000000,1.4200819672131146E-11,162173737373.7374,94099852388.695709,94099.852388695712,94.099852388695709,1181,null,null,null,null,null,null,null,null,91435]
["858-7C",0.70499999999999996,3.2341000000000002,1.111,3.2764176417641764,48800000000,1.4200819672131146E-11,162173737373.7374,83584223538.3582,83584.223538358201,83.584223538358202,1480,null,null,null,null,null,null,null,null,91238]
["858-7D",0.70499999999999996,13.5747,4.6050000000000004,3.7947231270358301,48800000000,1.4200819672131146E-11,162173737373.7374,93927800476.171722,93927.800476171717,93.927800476171711,1052,null,null,null,null,null,null,null,null,91189]
["858-7E",0.70499999999999996,2.1968999999999999,0.75600000000000001,2.9734126984126981,48800000000,1.4200819672131146E-11,162173737373.7374,76749563188.416016,76749.56318841601,76.749563188416005,1563,null,null,null,null,null,null,null,null,91005]
["858-7F",0.70499999999999996,21.712399999999999,7.2569999999999997,3.8947774562491388,48800000000,1.4200819672131146E-11,162173737373.7374,95760777808.856216,95760.777808856219,95.760777808856218,1131,null,null,null,null,null,null,null,null,90891]
["858-7G",0.70499999999999996,0.53649999999999998,0.185,8.9189189189189277E-2,48800000000,1.4200819672131146E-11,162173737373.7374,-170231791037.50458,-170231.79103750459,-170.23179103750459,4475,null,null,null,null,null,null,null,null,90700]
["858-7H",0.70499999999999996,20.327000000000002,6.8109999999999999,3.8809279107326389,48800000000,1.4200819672131146E-11,162173737373.7374,95509883380.300751,95509.883380300744,95.509883380300749,1727,null,null,null,null,null,null,null,null,90536]
["858-7I",0.70499999999999996,16.7395,5.6210000000000004,3.8526062978117772,48800000000,1.4200819672131146E-11,162173737373.7374,94994017569.502258,94994.017569502263,94.994017569502262,1262,null,null,null,null,null,null,null,null,90367]
["858-7J",0.70499999999999996,11.643000000000001,3.94,3.7761421319796957,48800000000,1.4200819672131146E-11,162173737373.7374,93582084734.396042,93582.084734396049,93.582084734396048,1331,null,null,null,null,null,null,null,null,90127]
["858-7K",0.70499999999999996,2.6074999999999999,0.89600000000000002,3.1233258928571428,48800000000,1.4200819672131146E-11,162173737373.7374,80213936367.042694,80213.936367042697,80.213936367042692,1573,null,null,null,null,null,null,null,null,90089]
["858-7L",0.70499999999999996,0.2079,7.1999999999999995E-2,-5.9041666666666668,48800000000,1.4200819672131146E-11,162173737373.7374,{"$error":"#NUM!"},null,0,7816,null,null,null,null,null,null,null,null,90018]
["858-7M",0.70499999999999996,28.036799999999999,9.2579999999999991,3.9522359040829556,48800000000,1.4200819672131146E-11,162173737373.7374,96792237099.806931,96792.237099806924,96.792237099806925,1195,null,null,null,null,null,null,null,null,89838]
["858-7N",0.70499999999999996,22.588799999999999,7.5670000000000002,3.8920047574996697,48800000000,1.4200819672131146E-11,162173737373.7374,95710619889.943909,95710.619889943904,95.710619889943899,1001,null,null,null,null,null,null,null,null,89736]
["858-7P",0.70499999999999996,0.56459999999999999,0.19500000000000001,{"$f":"1+((C159-B159)/D159)","v":0.28000000000000014},48800000000,1.4200819672131146E-11,162173737373.7374,-89656448234.286865,-89656.448234286872,{"$f":"(J159/1000)","v":-89.65644823428687},2680,null,null,null,null,null,null,null,null,89466]
["858-7Q",0.70499999999999996,10.754,3.6520000000000001,3.7516429353778751,48800000000,1.4200819672131146E-11,162173737373.7374,93123646324.146088,93123.646324146088,93.123646324146094,1203,null,null,null,null,null,null,null,null,89246]
["858-7R",0.70499999999999996,4.2465999999999999,1.4570000000000001,3.4307481125600545,48800000000,1.4200819672131146E-11,162173737373.7374,86826008009.327164,86826.008009327168,86.826008009327168,1246,null,null,null,null,null,null,null,null,89236]
["858-7S",0.70499999999999996,49.691099999999999,16.009,4.0599100505965389,48800000000,1.4200819672131146E-11,162173737373.7374,98685380733.016327,98685.380733016325,98.685380733016331,1055,null,null,null,null,null,null,null,null,89236]
["858-7T",0.70499999999999996,18.988800000000001,6.3819999999999997,3.8649012848636799,48800000000,1.4200819672131146E-11,162173737373.7374,95218429638.911438,95218.429638911432,95.218429638911431,1077,null,null,null,null,null,null,null,null,89171]
["858-7U",0.70499999999999996,15.3773,5.2080000000000002,3.8172619047619047,48800000000,1.4200819672131146E-11,162173737373.7374,94344889284.385712,94344.889284385717,94.344889284385715,971,null,null,null,null,null,null,null,null,88932]
["858-7V",0.70499999999999996,2.6913,0.92100000000000004,3.1566775244299672,48800000000,1.4200819672131146E-11,162173737373.7374,80962030278.061844,80962.030278061837,80.962030278061832,2630,null,null,null,null,null,null,null,null,88876]
["858-7W",0.70499999999999996,10.4422,3.5529999999999999,3.7405572755417955,48800000000,1.4200819672131146E-11,162173737373.7374,92915222517.755127,92915.22251775513,92.915222517755126,1104,null,null,null,null,null,null,null,null,88626]
["858-7X",0.70499999999999996,35.456400000000002,11.802,3.9445348246059995,48800000000,1.4200819672131146E-11,162173737373.7374,96654865471.420959,96654.865471420955,96.654865471420962,779,null,null,null,null,null,null,null,null,88540]
["858-8A",0.70499999999999996,3.0314999999999999,1.042,3.2327255278310938,48800000000,1.4200819672131146E-11,162173737373.7374,82638682052.217133,82638.682052217133,82.638682052217135,1628,null,null,null,null,null,null,null,null,88295]
["858-8B",0.70499999999999996,10.1632,3.4569999999999999,3.7359560312409603,48800000000,1.4200819672131146E-11,162173737373.7374,92828532105.333878,92828.532105333885,92.828532105333892,1147,null,null,null,null,null,null,null,null,87708]
["858-8C",0.70499999999999996,2.4508999999999999,0.84199999999999997,3.0735154394299284,48800000000,1.4200819672131146E-11,162173737373.7374,79081655145.788574,79081.65514578858,79.081655145788574,1855,null,null,null,null,null,null,null,null,87708]
["858-8D",0.70499999999999996,0.36220000000000002,0.125,-1.7423999999999995,48800000000,1.4200819672131146E-11,162173737373.7374,{"$error":"#NUM!"},null,0,6105,null,null,null,null,null,null,null,null,87585]
["858-8E",0.70499999999999996,12.6709,4.298,3.784062354583527,48800000000,1.4200819672131146E-11,162173737373.7374,93729654992.470459,93729.65499247046,93.729654992470458,1085,null,null,null,null,null,null,null,null,87359]
["858-8F",0.70499999999999996,3.9965000000000002,1.373,3.397305171158048,48800000000,1.4200819672131146E-11,162173737373.7374,86136076671.945877,86136.076671945877,86.136076671945872,1190,null,null,null,null,null,null,null,null,87260]
["858-8G",0.70499999999999996,8.8794000000000004,3.028,3.6996036988110967,48800000000,1.4200819672131146E-11,162173737373.7374,92139852999.265518,92139.852999265524,92.139852999265528,1120,null,null,null,null,null,null,null,null,86826]
["858-8H",0.70499999999999996,2.1440999999999999,0.73699999999999999,2.9526458616010851,48800000000,1.4200819672131146E-11,162173737373.7374,76255933784.306351,76255.933784306355,76.25593378430635,2135,null,null,null,null,null,null,null,null,86691]
["858-8I",0.70499999999999996,9.0546000000000006,3.089,3.7030106830689546,48800000000,1.4200819672131146E-11,162173737373.7374,92204683572.734573,92204.683572734575,92.204683572734581,1067,null,null,null,null,null,null,null,null,86483]
["858-8L",0.70499999999999996,8.2053999999999991,2.7909999999999999,3.6873522035112862,48800000000,1.4200819672131146E-11,162173737373.7374,91906228264.22612,91906.228264226127,91.906228264226129,1432,null,null,null,null,null,null,null,null,86474]
["858-8M",0.70499999999999996,1.127,0.38700000000000001,2.090439276485788,48800000000,1.4200819672131146E-11,162173737373.7374,51934121400.179077,51934.12140017908,51.93412140017908,3516,null,null,null,null,null,null,null,null,86136]
["858-8N",0.70499999999999996,4.0696000000000003,1.3939999999999999,3.4136298421807751,48800000000,1.4200819672131146E-11,162173737373.7374,86473700714.46138,86473.700714461374,86.473700714461373,1615,null,null,null,null,null,null,null,null,86050]
["858-8P",0.70499999999999996,2.1377999999999999,0.73499999999999999,2.9493877551020407,48800000000,1.4200819672131146E-11,162173737373.7374,76178173386.483032,76178.173386483031,76.178173386483024,1712,null,null,null,null,null,null,null,null,85924]
["858-8Q",0.70499999999999996,3.8532000000000002,1.3220000000000001,3.3813918305597581,48800000000,{"$f":"(0.693/F181)","v":1.4200819672131146E-11},{"$f":"(2.303/G181)","v":162173737373.7374},{"$f":"(LOG(E181))*(H181)","v":85805394511.490326},{"$f":"(I181/1000000)","v":85805.394511490333},{"$f":"(J181/1000)","v":85.805394511490334},1454,null,null,null,null,null,null,null,null,85805]
["858-8R",0.70499999999999996,5.5553999999999997,1.9019999999999999,3.5501577287066244,48800000000,1.4200819672131146E-11,162173737373.7374,89235717654.608994,89235.71765460899,89.23571765460899,1260,null,null,null,null,null,null,null,null,85263]
["858-8S",0.70499999999999996,10.6546,3.6190000000000002,3.7492677535230725,48800000000,1.4200819672131146E-11,162173737373.7374,93079041922.362045,93079.041922362041,93.079041922362038,1230,null,null,null,null,null,null,null,null,84990]
["858-8T",0.70499999999999996,5.5491999999999999,1.9019999999999999,3.5468980021030494,48800000000,1.4200819672131146E-11,162173737373.7374,89171018616.477081,89171.018616477086,89.171018616477085,1127,null,null,null,null,null,null,null,null,84716]
["858-8U",0.70499999999999996,3.6446000000000001,1.248,3.3554487179487178,48800000000,1.4200819672131146E-11,162173737373.7374,85262940666.849869,85262.94066684987,85.262940666849872,1837,null,null,null,null,null,null,null,null,83914]
["858-8V",0.70499999999999996,4.4099000000000004,1.5109999999999999,3.4519523494374589,48800000000,1.4200819672131146E-11,162173737373.7374,87259978285.237,87259.978285236997,87.259978285236997,1413,null,null,null,null,null,null,null,null,83584]
["858-8W",0.70499999999999996,17.4941,5.9829999999999997,3.8061340464649844,48800000000,1.4200819672131146E-11,162173737373.7374,94139272648.047424,94139.272648047423,94.139272648047424,449,null,null,null,null,null,null,null,null,82639]
["858-8X",0.70499999999999996,17.888200000000001,6.1,3.8169180327868859,48800000000,1.4200819672131146E-11,162173737373.7374,94338544319.491257,94338.544319491251,94.338544319491248,551,null,null,null,null,null,null,null,null,82294]
["858-8Y",0.70499999999999996,3.9477000000000002,1.355,3.3931365313653137,48800000000,1.4200819672131146E-11,162173737373.7374,86049601540.327682,86049.601540327683,86.049601540327686,1280,null,null,null,null,null,null,null,null,80962]
["858-8Z",0.70499999999999996,10.169600000000001,3.456,3.7385995370370373,48800000000,1.4200819672131146E-11,162173737373.7374,92878350501.562668,92878.350501562672,92.878350501562679,1167,null,null,null,null,null,null,null,null,80214]
["858-8AA",0.70499999999999996,2.3098999999999998,0.79100000000000004,{"$f":"1+((C191-B191)/D191)","v":3.0289506953223762},48800000000,1.4200819672131146E-11,162173737373.7374,78052955496.102051,78052.955496102048,78.052955496102044,3028,null,null,null,null,null,null,null,null,79082]
["858-8AB",0.70499999999999996,36.602200000000003,12.285,3.9220350020350025,48800000000,1.4200819672131146E-11,162173737373.7374,96251972484.30751,96251.972484307509,96.251972484307515,588,null,null,null,null,null,null,null,null,78053]
["858-8AD",0.70499999999999996,16.157,5.4349999999999996,3.843054277828887,48800000000,1.4200819672131146E-11,162173737373.7374,94819176130.105774,94819.17613010577,94.819176130105774,1222,null,null,null,null,null,null,null,null,76750]
["858-9A",0.70499999999999996,104.042,32.11,4.218218623481782,48800000000,1.4200819672131146E-11,162173737373.7374,101379520018.29791,101379.52001829792,101.37952001829791,827,null,null,null,null,null,null,null,null,76256]
["858-9B",0.70499999999999996,61.353000000000002,19.452000000000002,4.1178285009253548,48800000000,1.4200819672131146E-11,162173737373.7374,99683048188.847977,99683.04818884797,99.683048188847977,1056,null,null,null,null,null,null,null,null,76178]
["858-9C",0.70499999999999996,92.198999999999998,29.518999999999998,4.0994952403536704,48800000000,1.4200819672131146E-11,162173737373.7374,99368776784.195435,99368.776784195434,99.368776784195433,620,null,null,null,null,null,null,null,null,75684]
["858-9D",0.70499999999999996,5.0514000000000001,1.728,3.5152777777777779,48800000000,1.4200819672131146E-11,162173737373.7374,88540316689.308105,88540.316689308107,88.540316689308113,1490,null,null,null,null,null,null,null,null,75048]
["858-9E",0.70499999999999996,49.355200000000004,16.22,3.9993958076448832,48800000000,1.4200819672131146E-11,162173737373.7374,97627679621.317352,97627.679621317351,97.627679621317355,754,null,null,null,null,null,null,null,null,72915]
["858-9F",0.70499999999999996,1.1934,0.41099999999999998,2.188321167883212,48800000000,1.4200819672131146E-11,162173737373.7374,55157081942.227341,55157.081942227342,55.157081942227343,2453,null,null,null,null,null,null,null,null,72004]
["858-9G",0.70499999999999996,18.508900000000001,0.3,60.346333333333341,48800000000,1.4200819672131146E-11,162173737373.7374,288774809356.73517,288774.80935673515,288.77480935673515,682,null,null,null,null,null,null,null,null,71225]
["858-9H",0.70499999999999996,10.9526,3.7429999999999999,3.7378039006144803,48800000000,1.4200819672131146E-11,162173737373.7374,92863359979.378586,92863.359979378583,92.863359979378586,753,null,null,null,null,null,null,null,null,70479]
["858-9I",0.70499999999999996,4.2176,1.4490000000000001,3.4241545893719807,48800000000,1.4200819672131146E-11,162173737373.7374,86690516771.859848,86690.516771859853,86.690516771859848,1072,null,null,null,null,null,null,null,null,69790]
["858-9J",0.70499999999999996,14.3596,4.8940000000000001,3.7900694728238657,48800000000,1.4200819672131146E-11,162173737373.7374,93841374302.294189,93841.374302294193,93.841374302294199,719,null,null,null,null,null,null,null,null,69729]
["858-9K",0.70499999999999996,1.1608000000000001,0.4,2.1395,48800000000,1.4200819672131146E-11,162173737373.7374,53567978702.752396,53567.978702752393,53.567978702752391,2696,null,null,null,null,null,null,null,null,63934]
["858-9L",0.70499999999999996,28.084700000000002,9.5630000000000006,3.8630868974171286,48800000000,1.4200819672131146E-11,162173737373.7374,95185357793.943512,95185.357793943505,95.18535779394351,395,null,null,null,null,null,null,null,null,63406]
["858-9M",0.70499999999999996,5.2626999999999997,1.8,3.5320555555555555,48800000000,1.4200819672131146E-11,162173737373.7374,88875672068.482071,88875.672068482076,88.875672068482075,1465,null,null,null,null,null,null,null,null,61740]
["858-9P",0.70499999999999996,10.118600000000001,3.4540000000000002,3.7254198031268095,48800000000,1.4200819672131146E-11,162173737373.7374,92629619928.831818,92629.619928831817,92.629619928831815,886,null,null,null,null,null,null,null,null,59080]
["858-9Q",0.70499999999999996,5.2171000000000003,1.78,3.5348876404494383,48800000000,1.4200819672131146E-11,162173737373.7374,88932122793.305939,88932.122793305942,88.932122793305936,1799,null,null,null,null,null,null,null,null,56735]
["858-9R",0.70499999999999996,4.4882999999999997,1.5329999999999999,3.4679060665362034,48800000000,1.4200819672131146E-11,162173737373.7374,87584736600.486099,87584.736600486096,87.584736600486096,1889,null,null,null,null,null,null,null,null,55157]
["858-9S",0.70499999999999996,9.6034000000000006,3.2850000000000001,3.7087975646879756,48800000000,1.4200819672131146E-11,162173737373.7374,92314663985.090317,92314.663985090316,92.31466398509032,793,null,null,null,null,null,null,null,null,53568]
["858-10B",0.70499999999999996,15.997999999999999,5.5170000000000003,3.7719775240166755,48800000000,1.4200819672131146E-11,162173737373.7374,93504365193.690979,93504.365193690974,93.504365193690973,111,null,null,null,null,null,null,null,null,52117]
["858-10D",0.70499999999999996,4.5793999999999997,1.577,3.4568167406467976,48800000000,1.4200819672131146E-11,162173737373.7374,87359157969.511154,87359.157969511158,87.359157969511159,661,null,null,null,null,null,null,null,null,51934]
["858-10H",0.70499999999999996,14.71,5.1909999999999998,3.6979387401271433,48800000000,1.4200819672131146E-11,162173737373.7374,92108149234.626404,92108.149234626399,92.108149234626396,121,null,null,null,null,null,null,null,null,47926]
["858-11A",0.70499999999999996,8.3125,2.8570000000000002,3.662758137906895,48800000000,1.4200819672131146E-11,162173737373.7374,91434889757.59906,91434.889757599056,91.434889757599052,641,null,null,null,null,null,null,null,null,46968]
["858-11B",0.70499999999999996,6.2560000000000002,2.1509999999999998,3.5806601580660162,48800000000,1.4200819672131146E-11,162173737373.7374,89838266926.49733,89838.266926497323,89.838266926497326,655,null,null,null,null,null,null,null,null,45663]
["858-11C",0.70499999999999996,1.6923999999999999,0.58299999999999996,2.6936535162950257,48800000000,1.4200819672131146E-11,162173737373.7374,69790126999.233841,69790.126999233835,69.790126999233834,1172,null,null,null,null,null,null,null,null,39944]
["918-12A",0.70499999999999996,30.447700000000001,9.9890000000000008,3.9775452998298126,48800000000,1.4200819672131146E-11,162173737373.7374,97241827344.363449,97241.827344363453,97.241827344363458,1259,null,null,null,null,null,null,null,null,37623]
["918-12B",0.70499999999999996,27.3842,9.0549999999999997,3.9463500828271676,48800000000,1.4200819672131146E-11,162173737373.7374,96687270136.958954,96687.270136958949,96.687270136958944,1188,null,null,null,null,null,null,null,null,16153]
["918-12C",0.70499999999999996,6.3871000000000002,2.1789999999999998,3.6076640660853605,48800000000,1.4200819672131146E-11,162173737373.7374,90367437685.547058,90367.437685547062,90.36743768554706,1467,null,null,null,null,null,null,null,null,12314]
["918-12D",0.70499999999999996,3.8845999999999998,1.3320000000000001,3.3870870870870866,48800000000,1.4200819672131146E-11,162173737373.7374,85923921471.240067,85923.921471240072,85.923921471240078,1570,null,null,null,null,null,null,null,null,10789]
["918-12E",0.70499999999999996,52.725900000000003,16.824999999999999,4.0918811292719166,48800000000,1.4200819672131146E-11,162173737373.7374,99237841322.215546,99237.84132221555,99.237841322215544,1129,null,null,null,null,null,null,null,null,7990]
["918-12F",0.70499999999999996,13.9125,4.6980000000000004,3.8113026819923368,48800000000,1.4200819672131146E-11,162173737373.7374,94234851531.281036,94234.851531281034,94.234851531281038,1216,null,null,null,null,null,null,null,null,-39207]
["918-12G",0.70499999999999996,14.622999999999999,4.93,{"$f":"1+((C223-B223)/D223)","v":3.8231237322515215},48800000000,1.4200819672131146E-11,162173737373.7374,94452961155.634811,94452.96115563481,94.45296115563481,1241,null,null,null,null,null,null,null,null,-89656]
["918-12H",0.70499999999999996,40.497199999999999,13.215999999999999,4.0109110169491533,48800000000,1.4200819672131146E-11,162173737373.7374,97830176258.900742,97830.176258900741,97.830176258900735,1048,null,null,null,null,null,null,null,null,-170232]
["918-12I",0.70499999999999996,69.676299999999998,22.710999999999999,4.0369116287261679,48800000000,1.4200819672131146E-11,162173737373.7374,98285270681.527908,98285.270681527909,98.285270681527905,624]
["918-13A",0.70499999999999996,368.29090000000002,111.423,4.2990127711513786,48800000000,1.4200819672131146E-11,162173737373.7374,102715774936.85071,102715.77493685071,102.71577493685071,278]
["918-13B",0.70499999999999996,11.8468,3.95,3.8207088607594937,48800000000,1.4200819672131146E-11,162173737373.7374,94408459342.646439,94408.459342646442,94.408459342646438,2209]
["918-13C",0.70499999999999996,0.1608,5.5E-2,-8.8945454545454545,48800000000,1.4200819672131146E-11,162173737373.7374,{"$error":"#NUM!"},null,0,23312]
["918-13D",0.70499999999999996,14.9453,5.0640000000000001,3.8120655608214848,48800000000,1.4200819672131146E-11,162173737373.7374,94248947778.182129,94248.947778182133,94.248947778182128,968]
["918-13E",0.70499999999999996,2.0291000000000001,0.69599999999999995,2.9024425287356324,48800000000,1.4200819672131146E-11,162173737373.7374,75048107240.548004,75048.107240548008,75.048107240548006,2549]
["918-13F",0.70499999999999996,6.1124999999999998,2.0880000000000001,3.5897988505747125,48800000000,1.4200819672131146E-11,162173737373.7374,90017794919.098724,90017.794919098727,90.017794919098733,1383]
["918-13G",0.70499999999999996,0.51370000000000005,0.17799999999999999,-7.4719101123595033E-2,48800000000,1.4200819672131146E-11,162173737373.7374,{"$error":"#NUM!"},null,0,79]
["918-13H",0.70499999999999996,0.27150000000000002,9.4E-2,-3.6117021276595738,48800000000,1.4200819672131146E-11,162173737373.7374,{"$error":"#NUM!"},null,0,123]
["918-13I",0.70499999999999996,16.2681,5.5149999999999997,3.8219582955575704,48800000000,1.4200819672131146E-11,162173737373.7374,94431487727.95256,94431.487727952554,94.431487727952558,873]
["918-13J",0.70499999999999996,0.27579999999999999,9.5000000000000001E-2,-3.5178947368421047,48800000000,1.4200819672131146E-11,162173737373.7374,{"$error":"#NUM!"},null,0,225]
["918-13K",0.70499999999999996,56.568600000000004,19.353999999999999,3.8864110778133725,48800000000,1.4200819672131146E-11,162173737373.7374,95609321779.624435,95609.321779624443,95.609321779624437,133]
["918-13M",0.70499999999999996,12.723800000000001,4.33,3.7757043879907624,48800000000,1.4200819672131146E-11,162173737373.7374,93573919627.610901,93573.9196276109,93.573919627610906,890]
["918-14B",0.70499999999999996,44.371000000000002,14.39,4.0344683808200141,48800000000,1.4200819672131146E-11,162173737373.7374,98242630937.786316,98242.630937786322,98.242630937786316,1063]
["918-14D",0.70499999999999996,32.610199999999999,10.679,3.9876580204138965,48800000000,1.4200819672131146E-11,162173737373.7374,97420667981.062576,97420.667981062579,97.420667981062579,1220]
["918-14K",0.70499999999999996,52.101599999999998,16.641999999999999,4.0883667828386017,48800000000,1.4200819672131146E-11,162173737373.7374,99177324939.045868,99177.324939045866,99.17732493904586,1128]
["918-14L",0.70499999999999996,32.249299999999998,10.561999999999999,3.9865839803067602,48800000000,1.4200819672131146E-11,162173737373.7374,97401695421.59465,97401.695421594646,97.401695421594653,1231]
["918-14M",0.70499999999999996,9.3180999999999994,3.1760000000000002,3.7119332493702766,48800000000,1.4200819672131146E-11,162173737373.7374,92374186403.002701,92374.186403002706,92.37418640300271,1090]
["918-14N",0.70499999999999996,7.0780000000000003,2.419,3.6345597354278629,48800000000,1.4200819672131146E-11,162173737373.7374,90890564816.434631,90890.564816434635,90.890564816434633,1163]
["918-14P",0.70499999999999996,11.875999999999999,4.0380000000000003,3.7664685487865275,48800000000,1.4200819672131146E-11,162173737373.7374,93401425256.980438,93401.425256980438,93.401425256980431,1009]
["918-14Q",0.70499999999999996,5.9048999999999996,2.0190000000000001,3.5754829123328378,48800000000,{"$f":"(0.693/F245)","v":1.4200819672131146E-11},{"$f":"(2.303/G245)","v":162173737373.7374},{"$f":"(LOG(E245))*(H245)","v":89736357426.157166},{"$f":"(I245/1000000)","v":89736.357426157163},{"$f":"(J245/1000)","v":89.73635742615717},1370]
["918-15D",0.70499999999999996,5.2729999999999997,1.73,3.6404624277456645,48800000000,1.4200819672131146E-11,162173737373.7374,91004855479.623779,91004.855479623773,91.004855479623771,6953]
["918-15J",0.70499999999999996,21.588999999999999,7.266,3.8742086429947702,48800000000,1.4200819672131146E-11,162173737373.7374,95387836287.708862,95387.836287708866,95.387836287708865,902]
["918-15L",0.70499999999999996,43.786999999999999,14.37,3.9980514961725819,48800000000,1.4200819672131146E-11,162173737373.7374,97604001711.933655,97604.001711933655,97.604001711933648,873]
["918-15M",0.70499999999999996,5.3741000000000003,1.7989999999999999,3.5953863257365204,48800000000,1.4200819672131146E-11,162173737373.7374,90127334874.604889,90127.334874604887,90.127334874604884,4291]
["918-16A",0.70499999999999996,31.395700000000001,10.494999999999999,3.924316341114817,48800000000,1.4200819672131146E-11,162173737373.7374,96292928427.65921,96292.928427659208,96.292928427659206,779]
["918-16B",0.70499999999999996,70.688699999999997,22.405999999999999,4.1234356868695885,48800000000,1.4200819672131146E-11,162173737373.7374,99778888015.876404,99778.888015876408,99.778888015876404,918]
["918-16C",0.70499999999999996,53.228700000000003,17.71,3.9657651044607567,48800000000,1.4200819672131146E-11,162173737373.7374,97032923655.072586,97032.923655072591,97.032923655072594,527]
["918-16D",0.70499999999999996,10.2719,3.4870000000000001,3.7435904789217092,48800000000,1.4200819672131146E-11,162173737373.7374,92972311727.90889,92972.311727908891,92.972311727908888,1273]
["918-16E",0.70499999999999996,9.8360000000000003,3.35,3.7256716417910449,48800000000,1.4200819672131146E-11,162173737373.7374,92634380919.67569,92634.380919675692,92.634380919675692,1088]
["918-16F",0.70499999999999996,10.707100000000001,3.6459999999999999,{"$f":"1+((C255-B255)/D255)","v":3.7433077345035657},48800000000,1.4200819672131146E-11,162173737373.7374,92966992030.32962,92966.992030329624,92.966992030329621,1024]
["918-16G",0.70499999999999996,7.5273000000000003,2.5720000000000001,3.6525272161741835,48800000000,1.4200819672131146E-11,162173737373.7374,91237884141.884171,91237.884141884177,91.23788414188418,1110]
["918-16H",0.70499999999999996,116.4794,37.902999999999999,4.0544917288868962,48800000000,1.4200819672131146E-11,162173737373.7374,98591321122.389542,98591.321122389549,98.591321122389544,385]
["918-16I",0.70499999999999996,37.414200000000001,12.628,3.9069686411149829,48800000000,1.4200819672131146E-11,162173737373.7374,95980892632.102859,95980.892632102856,95.980892632102851,466]
["918-16J",0.70499999999999996,41.678199999999997,13.929,3.9415751310216094,48800000000,1.4200819672131146E-11,162173737373.7374,96601999188.516815,96601.999188516813,96.601999188516814,593]
["918-16K",0.70499999999999996,0.61450000000000005,0.21199999999999999,0.57311320754717021,48800000000,1.4200819672131146E-11,162173737373.7374,-39207055120.121361,-39207.05512012136,-39.20705512012136,1259]
["918-16M",0.70499999999999996,6.3875999999999999,2.1720000000000002,3.6162983425414361,48800000000,1.4200819672131146E-11,162173737373.7374,90535800242.07164,90535.800242071637,90.53580024207163,1880]
["918-17A",0.70499999999999996,8.1582000000000008,2.786,3.675233309404164,48800000000,1.4200819672131146E-11,162173737373.7374,91674367179.51268,91674.367179512687,91.674367179512686,1092]
["918-17B",0.70499999999999996,20.857800000000001,7.0469999999999997,3.8597701149425294,48800000000,1.4200819672131146E-11,162173737373.7374,95124860791.692017,95124.860791692015,95.124860791692015,797]
["918-17D",0.70499999999999996,8.0396999999999998,2.7429999999999999,3.6739701057236602,48800000000,1.4200819672131146E-11,162173737373.7374,91650155330.843185,91650.15533084319,91.650155330843191,1186]
["918-17E",0.70499999999999996,11.599500000000001,3.948,3.7594984802431615,48800000000,1.4200819672131146E-11,162173737373.7374,93270967564.027328,93270.967564027334,93.27096756402733,972]
["918-17H",0.70499999999999996,11.2658,3.8180000000000001,3.7660555264536408,48800000000,1.4200819672131146E-11,162173737373.7374,93393701513.533936,93393.701513533932,93.393701513533927,1271]
["918-17I",0.70499999999999996,25.8217,8.6300000000000008,3.9103939745075316,48800000000,1.4200819672131146E-11,162173737373.7374,96042614271.218277,96042.614271218277,96.042614271218284,953]
["918-17J",0.70499999999999996,56.785600000000002,18.309999999999999,4.062839978154015,48800000000,1.4200819672131146E-11,162173737373.7374,98736190668.718857,98736.19066871886,98.736190668718862,909]
["918-17K",0.70499999999999996,37.8705,12.723000000000001,3.9211270926668238,48800000000,1.4200819672131146E-11,162173737373.7374,96235666533.006439,96235.666533006442,96.235666533006437,550]
["918-17L",0.70499999999999996,11.824199999999999,4.0510000000000002,3.7448037521599602,48800000000,1.4200819672131146E-11,162173737373.7374,92995134308.763763,92995.134308763765,92.995134308763767,546]
["918-17M",0.70499999999999996,4.9551999999999996,1.698,3.5030624263839809,48800000000,1.4200819672131146E-11,162173737373.7374,88295146975.94455,88295.146975944546,88.295146975944547,1295]
["918-17N",0.70499999999999996,6.2756999999999996,2.1480000000000001,3.5934357541899438,48800000000,1.4200819672131146E-11,162173737373.7374,90089114143.288544,90089.114143288549,90.089114143288555,1167]
["918-18A",0.70499999999999996,23.127199999999998,7.726,3.9021744757960133,48800000000,1.4200819672131146E-11,162173737373.7374,95894414856.392624,95894.414856392628,95.894414856392629,1076]
["918-18B",0.70499999999999996,13.7546,4.6840000000000002,3.7859948761742102,48800000000,1.4200819672131146E-11,162173737373.7374,93765615021.494598,93765.615021494596,93.765615021494597,791]
["918-18C",0.70499999999999996,15.2249,5.1420000000000003,3.8237845196421625,48800000000,1.4200819672131146E-11,162173737373.7374,94465133401.076797,94465.133401076804,94.465133401076798,1109]
["918-18D",0.70499999999999996,60.114100000000001,19.675999999999998,4.0193687741410855,48800000000,1.4200819672131146E-11,162173737373.7374,97978537182.668045,97978.537182668049,97.978537182668049,670]
[null,null,null,null,null,null,null,null,"Average",{"$f":"AVERAGE(J127:J276)","v":88570.863194982492}]
[null,null,null,null,null,null,null,null,"Maximum",{"$f":"MAX(J127:J277)","v":288774.80935673515}]
[null,null,null,null,null,null,null,null,"Minimum",{"$f":"MIN(J127:J278)","v":-170231.79103750459}]
[null,null,null,null,null,null,null,null,"Difference",{"$f":"(J278+ABS(J279))","v":459006.60039423977}]
[]
[]
[]
[null,null,null,null,null,null,null,null,null,"Age","Age","Age","Age","Age","Age"]
[null,null,null,null,null,null,null,null,null,"Million Years","Million Years","Million Years","Million Years","Million Years","Million Years"]
[null,null,null,null,null,null,null,null,1,288774.80935673515,97241.827344363453,94819.17613010577,93079.041922362041,90890.564816434635,85923.921471240072]
[null,null,null,null,null,null,null,null,2,102715.77493685071,97117.019719585631,94465.133401076804,92995.134308763765,90700.428222037051,85805.394511490333]
[null,null,null,null,null,null,null,null,3,101379.52001829792,97032.923655072591,94452.96115563481,92972.311727908891,90535.800242071637,85262.94066684987]
[null,null,null,null,null,null,null,null,4,100277.39813096811,96792.237099806924,94431.487727952554,92966.992030329624,90367.437685547062,84990.153989776562]
[null,null,null,null,null,null,null,null,5,99778.888015876408,96687.270136958949,94408.459342646442,92963.073613299945,90127.334874604887,83914.401235683399]
[null,null,null,null,null,null,null,null,6,99683.04818884797,96654.865471420955,94396.825228653383,92915.22251775513,90089.114143288549,83584.223538358201]
[null,null,null,null,null,null,null,null,7,99368.776784195434,96601.999188516813,94344.889284385717,92878.350501562672,90017.794919098727,82638.682052217133]
[null,null,null,null,null,null,null,null,8,99237.84132221555,96292.928427659208,94338.544319491251,92863.359979378583,89838.266926497323,80962.030278061837]
[null,null,null,null,null,null,null,null,9,99177.324939045866,96251.972484307509,94248.947778182133,92828.532105333885,89736.357426157163,80213.936367042697]
[null,null,null,null,null,null,null,null,10,98947.641451511532,96235.666533006442,94234.851531281034,92634.380919675692,89466.447459161864,79081.65514578858]
[null,null,null,null,null,null,null,null,11,98765.147473250661,96042.614271218277,94139.272648047423,92629.619928831817,89235.71765460899,78052.955496102048]
[null,null,null,null,null,null,null,null,12,98736.19066871886,95980.892632102856,94099.852388695712,92374.186403002706,89171.018616477086,76749.56318841601]
[null,null,null,null,null,null,null,null,13,98685.380733016325,95894.414856392628,93927.800476171717,92314.663985090316,88932.122793305942,76255.933784306355]
[null,null,null,null,null,null,null,null,14,98591.321122389549,95760.777808856219,93841.374302294193,92309.29141543874,88875.672068482076,76178.173386483031]
[null,null,null,null,null,null,null,null,15,98435.560404104384,95710.619889943904,93765.615021494596,92204.683572734575,88540.316689308107,75048.107240548008]
[null,null,null,null,null,null,null,null,16,98285.270681527909,95609.321779624443,93729.65499247046,92139.852999265524,88295.146975944546,72004.331860727179]
[null,null,null,null,null,null,null,null,17,98242.630937786322,95521.633664000998,93582.084734396049,92108.149234626399,87584.736600486096,70479.138906877648]
[null,null,null,null,null,null,null,null,18,97978.537182668049,95509.883380300744,93573.9196276109,91906.228264226127,87359.157969511158,69790.126999233835]
[null,null,null,null,null,null,null,null,19,97830.176258900741,95387.836287708866,93504.365193690974,91674.367179512687,87259.978285236997,55157.081942227342]
[null,null,null,null,null,null,null,null,20,97627.679621317351,95218.429638911432,93401.425256980438,91650.15533084319,86826.008009327168,53567.978702752393]
[null,null,null,null,null,null,null,null,21,97604.001711933655,95197.058198963496,93393.701513533932,91434.889757599056,86690.516771859853,51934.12140017908]
[null,null,null,null,null,null,null,null,22,97545.467953885061,95185.357793943505,93270.967564027334,91237.884141884177,86473.700714461374,-39207.05512012136]
[null,null,null,null,null,null,null,null,23,97420.667981062579,95124.860791692015,93199.300694667079,91188.760351599252,86136.076671945877,-89656.448234286872]
[null,null,null,null,null,null,null,null,24,97401.695421594646,94994.017569502263,93123.646324146088,91004.855479623773,86049.601540327683,-170231.79103750459]
[null,null,null,null,null,null,null,null,25,97241.827344363453]
[null,null,null,null,null,null,null,null,26,97117.019719585631]
[null,null,null,null,null,null,null,null,27,97032.923655072591]
[null,null,null,null,null,null,null,null,28,96792.237099806924]
[null,null,null,null,null,null,null,null,29,96687.270136958949]
[null,null,null,null,null,null,null,null,30,96654.865471420955]
[null,null,null,null,null,null,null,null,31,96601.999188516813]
[null,null,null,null,null,null,null,null,32,96292.928427659208]
[null,null,null,null,null,null,null,null,33,96251.972484307509]
[null,null,null,null,null,null,null,null,34,96235.666533006442]
[null,null,null,null,null,null,null,null,35,96042.614271218277]
[null,null,null,null,null,null,null,null,36,95980.892632102856]
[null,null,null,null,null,null,null,null,37,95894.414856392628]
[null,null,null,null,null,null,null,null,38,95760.777808856219]
[null,null,null,null,null,null,null,null,39,95710.619889943904]
[null,null,null,null,null,null,null,null,40,95609.321779624443]
[null,null,null,null,null,null,null,null,41,95521.633664000998]
[null,null,null,null,null,null,null,null,42,95509.883380300744]
[null,null,null,null,null,null,null,null,43,95387.836287708866]
[null,null,null,null,null,null,null,null,44,95218.429638911432]
[null,null,null,null,null,null,null,null,45,95197.058198963496]
[null,null,null,null,null,null,null,null,46,95185.357793943505]
[null,null,null,null,null,null,null,null,47,95124.860791692015]
[null,null,null,null,null,null,null,null,48,94994.017569502263]
[null,null,null,null,null,null,null,null,49,94819.17613010577]
[null,null,null,null,null,null,null,null,50,94465.133401076804]
[null,null,null,null,null,null,null,null,51,94452.96115563481]
[null,null,null,null,null,null,null,null,52,94431.487727952554]
[null,null,null,null,null,null,null,null,53,94408.459342646442]
[null,null,null,null,null,null,null,null,54,94396.825228653383]
[null,null,null,null,null,null,null,null,55,94344.889284385717]
[null,null,null,null,null,null,null,null,56,94338.544319491251]
[null,null,null,null,null,null,null,null,57,94248.947778182133]
[null,null,null,null,null,null,null,null,58,94234.851531281034]
[null,null,null,null,null,null,null,null,59,94139.272648047423]
[null,null,null,null,null,null,null,null,60,94099.852388695712]
[null,null,null,null,null,null,null,null,61,93927.800476171717]
[null,null,null,null,null,null,null,null,62,93841.374302294193]
[null,null,null,null,null,null,null,null,63,93765.615021494596]
[null,null,null,null,null,null,null,null,64,93729.65499247046]
[null,null,null,null,null,null,null,null,65,93582.084734396049]
[null,null,null,null,null,null,null,null,66,93573.9196276109]
[null,null,null,null,null,null,null,null,67,93504.365193690974]
[null,null,null,null,null,null,null,null,68,93401.425256980438]
[null,null,null,null,null,null,null,null,69,93393.701513533932]
[null,null,null,null,null,null,null,null,70,93270.967564027334]
[null,null,null,null,null,null,null,null,71,93199.300694667079]
[null,null,null,null,null,null,null,null,72,93123.646324146088]
[null,null,null,null,null,null,null,null,73,93079.041922362041]
[null,null,null,null,null,null,null,null,74,92995.134308763765]
[null,null,null,null,null,null,null,null,75,92972.311727908891]
[null,null,null,null,null,null,null,null,76,92966.992030329624]
[null,null,null,null,null,null,null,null,77,92963.073613299945]
[null,null,null,null,null,null,null,null,78,92915.22251775513]
[null,null,null,null,null,null,null,null,79,92878.350501562672]
[null,null,null,null,null,null,null,null,80,92863.359979378583]
[null,null,null,null,null,null,null,null,81,92828.532105333885]
[null,null,null,null,null,null,null,null,82,92634.380919675692]
[null,null,null,null,null,null,null,null,83,92629.619928831817]
[null,null,null,null,null,null,null,null,84,92374.186403002706]
[null,null,null,null,null,null,null,null,85,92314.663985090316]
[null,null,null,null,null,null,null,null,86,92309.29141543874]
[null,null,null,null,null,null,null,null,87,92204.683572734575]
[null,null,null,null,null,null,null,null,88,92139.852999265524]
[null,null,null,null,null,null,null,null,89,92108.149234626399]
[null,null,null,null,null,null,null,null,90,91906.228264226127]
[null,null,null,null,null,null,null,null,91,91674.367179512687]
[null,null,null,null,null,null,null,null,92,91650.15533084319]
[null,null,null,null,null,null,null,null,93,91434.889757599056]
[null,null,null,null,null,null,null,null,94,91237.884141884177]
[null,null,null,null,null,null,null,null,95,91188.760351599252]
[null,null,null,null,null,null,null,null,96,91004.855479623773]
[null,null,null,null,null,null,null,null,97,90890.564816434635]
[null,null,null,null,null,null,null,null,98,90700.428222037051]
[null,null,null,null,null,null,null,null,99,90535.800242071637]
[null,null,null,null,null,null,null,null,100,90367.437685547062]
[null,null,null,null,null,null,null,null,101,90127.334874604887]
[null,null,null,null,null,null,null,null,102,90089.114143288549]
[null,null,null,null,null,null,null,null,103,90017.794919098727]
[null,null,null,null,null,null,null,null,104,89838.266926497323]
[null,null,null,null,null,null,null,null,105,89736.357426157163]
[null,null,null,null,null,null,null,null,106,89466.447459161864]
[null,null,null,null,null,null,null,null,107,89235.71765460899]
[null,null,null,null,null,null,null,null,108,89171.018616477086]
[null,null,null,null,null,null,null,null,109,88932.122793305942]
[null,null,null,null,null,null,null,null,110,88875.672068482076]
[null,null,null,null,null,null,null,null,111,88540.316689308107]
[null,null,null,null,null,null,null,null,112,88295.146975944546]
[null,null,null,null,null,null,null,null,113,87584.736600486096]
[null,null,null,null,null,null,null,null,114,87359.157969511158]
[null,null,null,null,null,null,null,null,115,87259.978285236997]
[null,null,null,null,null,null,null,null,116,86826.008009327168]
[null,null,null,null,null,null,null,null,117,86690.516771859853]
[null,null,null,null,null,null,null,null,118,86473.700714461374]
[null,null,null,null,null,null,null,null,119,86136.076671945877]
[null,null,null,null,null,null,null,null,120,86049.601540327683]
[null,null,null,null,null,null,null,null,121,85923.921471240072]
[null,null,null,null,null,null,null,null,122,85805.394511490333]
[null,null,null,null,null,null,null,null,123,85262.94066684987]
[null,null,null,null,null,null,null,null,124,84990.153989776562]
[null,null,null,null,null,null,null,null,125,83914.401235683399]
[null,null,null,null,null,null,null,null,126,83584.223538358201]
[null,null,null,null,null,null,null,null,127,82638.682052217133]
[null,null,null,null,null,null,null,null,128,80962.030278061837]
[null,null,null,null,null,null,null,null,129,80213.936367042697]
[null,null,null,null,null,null,null,null,130,79081.65514578858]
[null,null,null,null,null,null,null,null,131,78052.955496102048]
[null,null,null,null,null,null,null,null,132,76749.56318841601]
[null,null,null,null,null,null,null,null,133,76255.933784306355]
[null,null,null,null,null,null,null,null,134,76178.173386483031]
[null,null,null,null,null,null,null,null,135,75048.107240548008]
[null,null,null,null,null,null,null,null,136,72004.331860727179]
[null,null,null,null,null,null,null,null,137,70479.138906877648]
[null,null,null,null,null,null,null,null,138,69790.126999233835]
[null,null,null,null,null,null,null,null,139,55157.081942227342]
[null,null,null,null,null,null,null,null,140,53567.978702752393]
[null,null,null,null,null,null,null,null,141,51934.12140017908]
[null,null,null,null,null,null,null,null,142,-39207.05512012136]
[null,null,null,null,null,null,null,null,143,-89656.448234286872]
[null,null,null,null,null,null,null,null,144,-170231.79103750459]

{"sheet":"Rb-Sr _06","index":6,"n_rows":24,"n_cols":14,"rows_kept":24,"cut":false,"hidden":false,"merged":[]}
["Rubidium","TABLE 1.",null,null,null,null,null,null,null,null,"Rubidium_006.pdf"]
["Strontium","Initial","Today","Today","The Ratio","Half","Decay","2.303/Delta","Age","Age","Age","Model Age","Model Age","Model Age"]
["Dating","87Sr/86Sr","87Sr/86Sr","87Rb/86Sr","Plus One","Life","Constant","Constant","Years","Million Years","Billion Years","Million Years","% Difference"," Difference"]
[null,0.70395200000000002,0.704619,1.6799999999999999E-2,{"$f":"1+((C4-B4)/D4)","v":1.0397023809523793},48800000000,{"$f":"(0.693/F4)","v":1.4200819672131146E-11},{"$f":"(2.303/G4)","v":162173737373.7374},{"$f":"(LOG(E4))*(H4)","v":2742201972.4685087},{"$f":"(I4/1000000)","v":2742.2019724685088},{"$f":"(J4/1000)","v":2.7422019724685089}]
[null,0.70395200000000002,0.704376,3.3799999999999997E-2,1.0125443786982242,48800000000,1.4200819672131146E-11,162173737373.7374,878019471.64033568,878.01947164033572,0.87801947164033567]
[null,0.70395200000000002,0.70605200000000001,0.11409999999999999,1.01840490797546,48800000000,1.4200819672131146E-11,162173737373.7374,1284494433.0734196,1284.4944330734195,1.2844944330734196]
[null,0.70395200000000002,0.70434099999999999,3.2000000000000001E-2,1.0121562499999992,48800000000,1.4200819672131146E-11,162173737373.7374,851016610.96852267,851.01661096852263,0.85101661096852266]
[null,0.70395200000000002,0.704461,3.0099999999999998E-2,1.0169102990033216,48800000000,1.4200819672131146E-11,162173737373.7374,1181053883.820313,1181.0538838203129,1.1810538838203128]
[null,0.70395200000000002,0.71804199999999996,1.026,1.0137329434697855,48800000000,1.4200819672131146E-11,162173737373.7374,960645875.62870669,960.64587562870668,0.96064587562870662]
[null,0.70395200000000002,0.70840999999999998,0.23319999999999999,1.0191166380789021,48800000000,1.4200819672131146E-11,162173737373.7374,1333699290.2148905,1333.6992902148904,1.3336992902148905]
[null,0.70395200000000002,0.703874,1.8599999999999998E-2,0.99580645161290204,48800000000,1.4200819672131146E-11,162173737373.7374,-295977506.94025731,-295.97750694025729,-0.29597750694025726]
[null,0.70395200000000002,0.70399199999999995,1.17E-2,1.0034188034187974,48800000000,1.4200819672131146E-11,162173737373.7374,240379616.44479451,240.37961644479449,0.2403796164447945]
[null,0.70395200000000002,0.70396199999999998,2.5200000000000001E-3,1.003968253968236,48800000000,1.4200819672131146E-11,162173737373.7374,278935648.74767768,278.9356487476777,0.27893564874767768]
[null,0.70395200000000002,0.70397200000000004,1.7000000000000001E-4,1.1176470588236471,48800000000,1.4200819672131146E-11,162173737373.7374,7833750419.2538424,7833.7504192538427,7.8337504192538425]
[null,0.70395200000000002,0.70410600000000001,3.0300000000000001E-2,1.0050825082508246,48800000000,1.4200819672131146E-11,162173737373.7374,357060333.64425498,357.06033364425497,0.35706033364425499]
[null,0.70395200000000002,0.70397799999999999,1.9E-2,1.0013684210526301,48800000000,1.4200819672131146E-11,162173737373.7374,96313597.32242626,96.313597322426261,9.6313597322426267E-2]
[null,0.70395200000000002,0.70406999999999997,1.7999999999999999E-2,{"$f":"1+((C17-B17)/D17)","v":1.0065555555555528},48800000000,{"$f":"(0.693/F17)","v":1.4200819672131146E-11},{"$f":"(2.303/G17)","v":162173737373.7374},{"$f":"(LOG(E17))*(H17)","v":460208558.67925024},{"$f":"(I17/1000000)","v":460.20855867925025},{"$f":"(J17/1000)","v":0.46020855867925026}]
[null,0.70395200000000002,0.70494500000000004,0.17760000000000001,1.0055912162162164,48800000000,1.4200819672131146E-11,162173737373.7374,392699027.33311915,392.69902733311915,0.39269902733311912]
[null,0.70395200000000002,0.70387599999999995,4.3999999999999999E-5,-0.7272727272744548,48800000000,1.4200819672131146E-11,162173737373.7374,{"$error":"#NUM!"},0,0]
[null,0.70395200000000002,0.70400700000000005,2.0199999999999999E-2,1.0027227722772292,48800000000,1.4200819672131146E-11,162173737373.7374,191507410.47849485,191.50741047849485,0.19150741047849484]
[null,null,null,null,null,null,null,null,"Average",{"$f":"AVERAGE(J4:J20)","v":1105.0593319281352}]
[null,null,null,null,null,null,null,null,"Maximum",{"$f":"MAX(J4:J21)","v":7833.7504192538427}]
[null,null,null,null,null,null,null,null,"Minimum",{"$f":"MIN(J4:J22)","v":-295.97750694025729}]
[null,null,null,null,null,null,null,null,"Difference",{"$f":"(J22+ABS(J23))","v":8129.7279261941003}]

{"sheet":"Rb-Sr _07","index":7,"n_rows":153,"n_cols":17,"rows_kept":153,"cut":false,"hidden":false,"merged":[]}
["Rubidium",null,null,null,null,null,null,null,null,null,"Rubidium_041.pdf",null,null,38746]
["Strontium","Initial","Today","Today","The Ratio","Half","Decay","2.303/Delta","Age","Age","Age",null,null,35596]
["Dating","87Sr/86Sr","87Sr/86Sr","87Rb/86Sr","Plus One","Life","Constant","Constant","Years","Million Years","Billion Years",null,null,26410]
[null,0.70296000000000003,0.71438000000000001,0.27310000000000001,{"$f":"1+((C4-B4)/D4)","v":1.0418161845477847},48800000000,{"$f":"(0.693/F4)","v":1.4200819672131146E-11},{"$f":"(2.303/G4)","v":162173737373.7374},{"$f":"(LOG(E4))*(H4)","v":2885249160.5150118},{"$f":"(I4/1000000)","v":2885.2491605150117},{"$f":"(J4/1000)","v":2.8852491605150119},null,null,26280]
[null,0.70372999999999997,0.72582000000000002,0.51639999999999997,{"$f":"1+((C5-B5)/D5)","v":1.0427769171185128},48800000000,1.4200819672131146E-11,{"$f":"(2.303/G5)","v":162173737373.7374},{"$f":"(LOG(E5))*(H5)","v":2950168797.2761002},{"$f":"(I5/1000000)","v":2950.1687972761001},{"$f":"(J5/1000)","v":2.9501687972760999},null,null,24363]
[null,0.70294999999999996,0.75831999999999999,1.2944,1.0427765760197776,48800000000,1.4200819672131146E-11,162173737373.7374,2950145758.8074899,2950.14575880749,2.9501457588074902,null,null,23152]
[null,0.70301999999999998,0.71582000000000001,0.2994,1.0427521710086842,48800000000,1.4200819672131146E-11,162173737373.7374,2948497377.5752797,2948.4973775752796,2.9484973775752796,null,null,21599]
[null,0.70082,0.72167999999999999,0.48749999999999999,1.0427897435897435,48800000000,1.4200819672131146E-11,162173737373.7374,2951035116.4927506,2951.0351164927506,2.9510351164927506,null,null,20970]
[null,0.70477000000000001,0.70550999999999997,1.7399999999999999E-2,1.0425287356321817,48800000000,1.4200819672131146E-11,162173737373.7374,2933404147.1190176,2933.4041471190176,2.9334041471190178,null,null,19442]
[null,0.70033000000000001,0.70365999999999995,7.7799999999999994E-2,1.0428020565552691,48800000000,1.4200819672131146E-11,162173737373.7374,2951866742.7349877,2951.8667427349878,2.9518667427349881,null,null,16203]
[null,0.70296999999999998,0.72585999999999995,0.53490000000000004,1.0427930454290522,48800000000,1.4200819672131146E-11,162173737373.7374,2951258125.9761357,2951.2581259761359,2.9512581259761359,null,null,16133]
[null,0.70235999999999998,0.73997000000000002,0.87919999999999998,1.042777525022748,48800000000,1.4200819672131146E-11,162173737373.7374,2950209856.2857637,2950.2098562857636,2.9502098562857637,null,null,12986]
[null,0.70415000000000005,0.71709000000000001,0.30249999999999999,1.042776859504132,48800000000,1.4200819672131146E-11,162173737373.7374,2950164905.889864,2950.1649058898638,2.950164905889864,null,null,10794]
[null,0.70389000000000002,0.71694000000000002,0.30509999999999998,1.0427728613569323,48800000000,1.4200819672131146E-11,162173737373.7374,2949894862.8030758,2949.8948628030757,2.9498948628030757,null,null,10722]
[null,0.70299999999999996,0.73099000000000003,0.6542,1.0427850810149801,48800000000,1.4200819672131146E-11,162173737373.7374,2950720200.3921089,2950.7202003921088,2.9507202003921087,null,null,10673]
[null,0.73157000000000005,0.88829000000000002,3.6633,1.0427810990090902,48800000000,1.4200819672131146E-11,162173737373.7374,2950451249.6451526,2950.4512496451525,2.9504512496451527,null,null,9809]
[null,0.71118000000000003,0.78656999999999999,1.7623,1.0427793224763093,48800000000,1.4200819672131146E-11,162173737373.7374,2950331259.5821304,2950.3312595821303,2.9503312595821303,null,null,8723]
[null,0.70189000000000001,0.70667000000000002,0.11169999999999999,1.0427931960608774,48800000000,1.4200819672131146E-11,162173737373.7374,2951268299.781333,2951.2682997813331,2.9512682997813333,null,null,7583]
[null,0.70267999999999997,0.71708000000000005,0.33660000000000001,1.0427807486631018,48800000000,1.4200819672131146E-11,162173737373.7374,2950427586.6939607,2950.4275866939606,2.9504275866939604,null,null,6685]
[null,0.71319999999999995,0.77897000000000005,1.5952,1.0412299398194584,48800000000,1.4200819672131146E-11,162173737373.7374,2845605394.178813,2845.6053941788132,2.8456053941788131,null,null,5294]
[null,0.70794999999999997,0.75155000000000005,1.0577000000000001,1.0412215183889573,48800000000,1.4200819672131146E-11,162173737373.7374,2845035747.1789608,2845.0357471789607,2.8450357471789607,null,null,5287]
[null,0.70504999999999995,0.72348000000000001,0.44700000000000001,1.0412304250559286,48800000000,1.4200819672131146E-11,162173737373.7374,2845638216.6686687,2845.638216668669,2.8456382166686689,null,null,5286]
[null,0.70687999999999995,0.75190000000000001,1.0919000000000001,1.0412308819488965,48800000000,1.4200819672131146E-11,162173737373.7374,2845669121.9260917,2845.6691219260915,2.8456691219260914,null,null,5281]
[null,0.70777000000000001,0.72372000000000003,0.38679999999999998,1.0412357807652535,48800000000,1.4200819672131146E-11,162173737373.7374,2846000487.9173565,2846.0004879173566,2.8460004879173568,null,null,5275]
[null,0.70360999999999996,0.71702999999999995,0.3256,1.0412162162162162,48800000000,1.4200819672131146E-11,162173737373.7374,2844677092.3519773,2844.6770923519775,2.8446770923519775,null,null,5250]
[null,0.70211000000000001,0.70462999999999998,6.1199999999999997E-2,1.0411764705882347,48800000000,1.4200819672131146E-11,162173737373.7374,2841988521.0061646,2841.9885210061648,2.8419885210061646,null,null,5231]
[null,0.69974999999999998,0.72092000000000001,0.51339999999999997,1.0412349045578497,48800000000,1.4200819672131146E-11,162173737373.7374,2845941219.5649858,2845.9412195649857,2.8459412195649856,null,null,5215]
[null,0.70323000000000002,0.70991000000000004,0.16209999999999999,1.041209130166564,48800000000,1.4200819672131146E-11,162173737373.7374,2844197767.9023576,2844.1977679023576,2.8441977679023576,null,null,5206]
[null,0.70628000000000002,0.75885999999999998,1.2754000000000001,1.0412262819507605,48800000000,1.4200819672131146E-11,162173737373.7374,2845357967.1932263,2845.3579671932262,2.8453579671932263,null,null,5205]
[null,0.70396999999999998,0.71687999999999996,0.31309999999999999,1.0412328329607154,48800000000,1.4200819672131146E-11,162173737373.7374,2845801092.5560145,2845.8010925560147,2.8458010925560147,null,null,5201]
[null,0.72138999999999998,0.82308999999999999,2.4668999999999999,1.0412258299890551,48800000000,1.4200819672131146E-11,162173737373.7374,2845327395.3623877,2845.3273953623875,2.8453273953623874,null,null,5190]
[null,0.70232000000000006,0.70728000000000002,0.1202,1.0412645590682192,48800000000,1.4200819672131146E-11,162173737373.7374,2847947079.9063387,2847.9470799063388,2.8479470799063389,null,null,5177]
[null,0.73202999999999996,0.93128,5.2362000000000002,1.0380524044154158,48800000000,1.4200819672131146E-11,162173737373.7374,2630341048.8582954,2630.3410488582954,2.6303410488582952,null,null,5169]
[null,0.70586000000000004,0.71555000000000002,0.2369,1.0409033347403966,48800000000,1.4200819672131146E-11,162173737373.7374,2823509618.8455744,2823.5096188455746,2.8235096188455744,null,null,5165]
[null,0.70401000000000002,0.71828000000000003,0.3493,1.0408531348411107,48800000000,1.4200819672131146E-11,162173737373.7374,2820112836.2215366,2820.1128362215368,2.8201128362215369,null,null,5154]
[null,0.70221,0.70840000000000003,0.15140000000000001,1.0408850726552181,48800000000,1.4200819672131146E-11,162173737373.7374,2822273931.4674258,2822.2739314674259,2.8222739314674259,null,null,5145]
[null,0.70042000000000004,0.74575999999999998,1.1096999999999999,1.04085788951969,48800000000,1.4200819672131146E-11,162173737373.7374,2820434569.1809034,2820.4345691809035,2.8204345691809034,null,null,5112]
[null,0.70245999999999997,0.71647000000000005,0.34279999999999999,1.0408693115519256,48800000000,1.4200819672131146E-11,162173737373.7374,2821207453.3234067,2821.2074533234068,2.8212074533234066,null,null,5106]
[null,0.70172999999999996,0.71558999999999995,0.33939999999999998,1.0408367707719504,48800000000,1.4200819672131146E-11,162173737373.7374,2819005523.9768586,2819.0055239768585,2.8190055239768586,null,null,5079]
[null,0.70272999999999997,0.70735999999999999,0.1132,1.0409010600706716,48800000000,1.4200819672131146E-11,162173737373.7374,2823355706.5701985,2823.3557065701984,2.8233557065701986,null,null,5046]
[null,0.70279999999999998,0.74487000000000003,1.0296000000000001,1.0408605283605283,48800000000,1.4200819672131146E-11,162173737373.7374,2820613129.9485106,2820.6131299485105,2.8206131299485104,null,null,5034]
[null,0.70299999999999996,0.71138000000000001,0.20499999999999999,1.0408780487804881,48800000000,1.4200819672131146E-11,162173737373.7374,2821798661.6016278,2821.7986616016278,2.821798661601628,null,null,5028]
[null,0.70321999999999996,0.71814999999999996,0.3654,1.0408593322386426,48800000000,1.4200819672131146E-11,162173737373.7374,2820532192.7843761,2820.5321927843761,2.8205321927843761,null,null,4972]
[null,0.70120000000000005,0.73114999999999997,0.73309999999999997,1.0408539080616559,48800000000,1.4200819672131146E-11,162173737373.7374,2820165157.5311437,2820.1651575311434,2.8201651575311435,null,null,4947]
[null,0.70137000000000005,0.72328999999999999,0.53639999999999999,1.0408650260999253,48800000000,1.4200819672131146E-11,162173737373.7374,2820917474.5813146,2820.9174745813148,2.8209174745813148,null,null,4882]
[null,0.70847000000000004,0.75151999999999997,1.0536000000000001,1.0408599088838268,48800000000,1.4200819672131146E-11,162173737373.7374,2820571212.2525182,2820.5712122525183,2.8205712122525184,null,null,4853]
[null,0.70150000000000001,0.71062000000000003,0.2233,1.0408419167039857,48800000000,1.4200819672131146E-11,162173737373.7374,2819353737.1385345,2819.3537371385346,2.8193537371385347,null,null," "]
[null,0.70411000000000001,0.74577000000000004,1.0197000000000001,1.0408551534765127,48800000000,1.4200819672131146E-11,162173737373.7374,2820249430.6063142,2820.249430606314,2.8202494306063142]
[null,0.70379000000000003,0.71384999999999998,0.24640000000000001,1.040827922077922,48800000000,1.4200819672131146E-11,162173737373.7374,2818406749.5628796,2818.4067495628797,2.8184067495628797]
[null,0.70450000000000002,0.70728000000000002,6.7900000000000002E-2,1.0409425625920472,48800000000,1.4200819672131146E-11,162173737373.7374,2826163862.4382863,2826.1638624382863,2.8261638624382863]
[null,0.70618999999999998,0.72082000000000002,0.35799999999999998,1.0408659217877096,48800000000,1.4200819672131146E-11,162173737373.7374,2820978082.1531482,2820.9780821531481,2.820978082153148,"Dating","Age",25630,"Age","Age","Age"]
[null,0.70082,0.75614999999999999,1.3543000000000001,1.0408550542715793,48800000000,1.4200819672131146E-11,162173737373.7374,2820242717.7425971,2820.2427177425971,2.8202427177425973,"Summary","87Rb/86Sr",7926,"207Pb/206Pb","208Pb/232Th","206Pb/238U"]
[null,0.70357999999999998,0.75178,1.1795,1.0408647732089868,48800000000,1.4200819672131146E-11,162173737373.7374,2820900362.4643025,2820.9003624643024,2.8209003624643025,"Average",2863.3082802106655,26332,5123.208843168677,17899.188723309635,11906.473896651118]
[null,null,null,null,null,null,null,null,"Average",{"$f":"AVERAGE(J2:J53)","v":2863.3082802106655},null,"Maximum",2951.8667427349878,9001,5293.6047915807949,38746.236470683572,18984.889019851358]
[null,null,null,null,null,null,null,null,"Maximum",{"$f":"MAX(J2:J54)","v":2951.8667427349878},null,"Minimum",2630.3410488582954,6650,4662.4211609460453,6650.0375002826968,7293.7126445770091]
[null,null,null,null,null,null,null,null,"Minimum",{"$f":"MIN(J2:J55)","v":2630.3410488582954},null,"Std Deviation",37.522929623603368,10724,151.71093166480006,9753.9545848268299,3297.9572806988208]
[null,null,null,null,null,null,null,null,"Std Deviation",{"$f":"STDEV(J23:J53)","v":37.522929623664126},null,null,null,12193]
[null,null,null,null,null,null,null,null,null,null,null,null,null,37951]
[null,null,null,null,null,null,null,null,null,null,null,null,null,15957]
["Neodymium",null,null,null,null,null,null,null,null,null,"Rubidium_041.pdf",null,null,10047]
["Samarium","Initial","Today","Today","The Ratio","Half","Decay","2.303/Delta","Age","Age","Age","Model Age","Model Age",9947]
["Dating","143Nd/144Nd","143Nd/144Nd","147Sm/144Nd","Plus One","Life","Constant","Constant","Years","Million Years","Billion Years","Million Years","% Difference"]
[null,0.50897000000000003,0.51073400000000002,9.2600000000000002E-2,{"$f":"1+((C63-B63)/D63)","v":1.0190496760259178},106000000000,{"$f":"(0.693/F63)","v":6.5377358490566029E-12},{"$f":"(2.303/G63)","v":352262626262.62628},{"$f":"(LOG(E63))*(H63)","v":2886917363.8279052},{"$f":"(I63/1000000)","v":2886.9173638279053},{"$f":"(J63/1000)","v":2.8869173638279055},null,null,18324]
[null,0.50888599999999995,0.51064699999999996,9.0399999999999994E-2,{"$f":"1+((C64-B64)/D64)","v":1.0194800884955753},106000000000,6.5377358490566029E-12,{"$f":"(2.303/G64)","v":352262626262.62628},{"$f":"(LOG(E64))*(H64)","v":2951519766.4412808},{"$f":"(I64/1000000)","v":2951.5197664412808},{"$f":"(J64/1000)","v":2.9515197664412809},null,null,10093]
[null,0.50899700000000003,0.51094600000000001,0.10009999999999999,1.0194705294705293,106000000000,6.5377358490566029E-12,352262626262.62628,2950085308.6704531,2950.0853086704533,2.9500853086704533,null,null,8177]
[null,0.50867799999999996,0.51076200000000005,0.107,1.0194766355140195,106000000000,6.5377358490566029E-12,352262626262.62628,2951001602.5732899,2951.0016025732898,2.9510016025732897,null,null,9106]
[null,0.50886100000000001,0.51119499999999995,0.1198,1.0194824707846406,106000000000,6.5377358490566029E-12,352262626262.62628,2951877258.2390437,2951.8772582390438,2.951877258239044,null,null,10214]
[null,0.50889899999999999,0.51097700000000001,0.1066,1.0194934333958727,106000000000,6.5377358490566029E-12,352262626262.62628,2953522322.2259521,2953.5223222259519,2.9535223222259521,null,null,12614]
[null,0.50890500000000005,0.51275099999999996,0.19739999999999999,1.0194832826747715,106000000000,6.5377358490566029E-12,352262626262.62628,2951999092.155849,2951.9990921558488,2.9519990921558485,null,null,11287]
[null,0.50887099999999996,0.51085499999999995,0.1019,1.0194700686947986,106000000000,6.5377358490566029E-12,352262626262.62628,2950016162.8556423,2950.0161628556425,2.9500161628556425,null,null,12915]
[null,0.50890500000000005,0.51058999999999999,8.6499999999999994E-2,1.0194797687861263,106000000000,6.5377358490566029E-12,352262626262.62628,2951471790.0396028,2951.4717900396026,2.9514717900396028,null,null,17028]
[null,0.50875300000000001,0.51106099999999999,0.11849999999999999,1.019476793248945,106000000000,6.5377358490566029E-12,352262626262.62628,2951025272.7464199,2951.0252727464199,2.9510252727464197,null,null,12260]
[null,0.50875599999999999,0.51114599999999999,0.1227,1.0194784026079871,106000000000,6.5377358490566029E-12,352262626262.62628,2951266777.752377,2951.266777752377,2.9512667777523771,null,null,12803]
[null,0.50892800000000005,0.51075099999999996,9.3600000000000003E-2,1.0194764957264948,106000000000,6.5377358490566029E-12,352262626262.62628,2950980625.637578,2950.9806256375782,2.9509806256375781,null,null,8379]
[null,0.508301,0.51075899999999996,0.12620000000000001,1.0194770206022183,106000000000,6.5377358490566029E-12,352262626262.62628,2951059390.0498986,2951.0593900498984,2.9510593900498985,null,null,8098]
[null,0.50862200000000002,0.51062799999999997,0.10299999999999999,1.0194757281553393,106000000000,6.5377358490566029E-12,352262626262.62628,2950865441.5538249,2950.8654415538249,2.9508654415538249,null,null,11024]
[null,0.50877399999999995,0.51088199999999995,0.1082,1.0194824399260629,106000000000,6.5377358490566029E-12,352262626262.62628,2951872627.5349636,2951.8726275349636,2.9518726275349638,null,null,7294]
[null,0.50883199999999995,0.51030399999999998,7.5600000000000001E-2,1.0194708994708999,106000000000,6.5377358490566029E-12,352262626262.62628,2950140832.3557839,2950.1408323557839,2.9501408323557841,null,null,13022]
[null,0.50888500000000003,0.51049699999999998,8.5800000000000001E-2,1.0187878787878781,106000000000,6.5377358490566029E-12,352262626262.62628,2847609777.4983211,2847.6097774983209,2.8476097774983211]
[null,0.50889200000000001,0.51038799999999995,7.9699999999999993E-2,1.018770388958594,106000000000,6.5377358490566029E-12,352262626262.62628,2844983404.4746814,2844.9834044746813,2.8449834044746813,null,null,8833]
[null,0.50892099999999996,0.51057300000000005,8.7999999999999995E-2,1.0187727272727285,106000000000,6.5377358490566029E-12,352262626262.62628,2845334541.7403154,2845.3345417403152,2.8453345417403151,null,null,12875]
[null,0.50893299999999997,0.51105199999999995,0.1128,1.0187854609929077,106000000000,6.5377358490566029E-12,352262626262.62628,2847246710.2314973,2847.2467102314972,2.8472467102314973,null,null,18985]
[null,0.50881699999999996,0.51028899999999999,7.8399999999999997E-2,1.0187755102040821,106000000000,6.5377358490566029E-12,352262626262.62628,2845752444.7223835,2845.7524447223836,2.8457524447223834,null,null,14562]
[null,0.50886699999999996,0.51041300000000001,8.2299999999999998E-2,1.018784933171325,106000000000,6.5377358490566029E-12,352262626262.62628,2847167449.9886861,2847.1674499886863,2.8471674499886861,null,null,10626]
[null,0.50895800000000002,0.51205199999999995,0.16470000000000001,1.0187856709168179,106000000000,6.5377358490566029E-12,352262626262.62628,2847278233.4102011,2847.2782334102012,2.8472782334102011,null,null,7575]
[null,0.50884499999999999,0.51023700000000005,7.4099999999999999E-2,1.0187854251012154,106000000000,6.5377358490566029E-12,352262626262.62628,2847241320.5626163,2847.2413205626162,2.8472413205626164,null,null,16581]
[null,0.50891399999999998,0.51068400000000003,9.4299999999999995E-2,1.0187698833510079,106000000000,6.5377358490566029E-12,352262626262.62628,2844907478.8706679,2844.907478870668,2.8449074788706681,null,null,12850]
[null,0.50889799999999996,0.51071999999999995,9.7100000000000006E-2,1.0187641606591142,106000000000,6.5377358490566029E-12,352262626262.62628,2844048116.4346666,2844.0481164346666,2.8440481164346667]
[null,0.50892400000000004,0.510467,8.2199999999999995E-2,1.0187712895377123,106000000000,6.5377358490566029E-12,352262626262.62628,2845118641.6986213,2845.1186416986211,2.8451186416986212]
[null,0.50885999999999998,0.51075499999999996,0.1009,1.0187809712586717,106000000000,6.5377358490566029E-12,352262626262.62628,2846572508.7033138,2846.5725087033138,2.8465725087033138]
[null,0.50891299999999995,0.51043700000000003,8.1199999999999994E-2,1.018768472906405,106000000000,6.5377358490566029E-12,352262626262.62628,2844695676.3541174,2844.6956763541175,2.8446956763541174]
[null,0.50898600000000005,0.51109499999999997,0.1216,1.0173437499999993,106000000000,6.5377358490566029E-12,352262626262.62628,2630599139.5311432,2630.599139531143,2.6305991395311432]
[null,0.508857,0.51091299999999995,0.1105,1.0186063348416285,106000000000,6.5377358490566029E-12,352262626262.62628,2820345902.6269264,2820.3459026269265,2.8203459026269266]
[null,0.50916300000000003,0.51144599999999996,0.1226,1.0186215334420874,106000000000,6.5377358490566029E-12,352262626262.62628,2822628581.7428865,2822.6285817428866,2.8226285817428867]
[null,0.50880800000000004,0.51037100000000002,8.4000000000000005E-2,1.0186071428571426,106000000000,6.5377358490566029E-12,352262626262.62628,2820467259.4040275,2820.4672594040276,2.8204672594040274]
[null,0.50887199999999999,0.51046999999999998,8.5900000000000004E-2,1.0186030267753201,106000000000,6.5377358490566029E-12,352262626262.62628,2819849059.3488355,2819.8490593488355,2.8198490593488357]
[null,0.50902499999999995,0.510571,8.3099999999999993E-2,1.0186040914560777,106000000000,6.5377358490566029E-12,352262626262.62628,2820008965.4725037,2820.0089654725039,2.8200089654725038]
[null,0.50896399999999997,0.51057300000000005,8.6400000000000005E-2,1.0186226851851861,106000000000,6.5377358490566029E-12,352262626262.62628,2822801560.750083,2822.8015607500829,2.8228015607500829]
[null,0.50903399999999999,0.51041099999999995,7.3999999999999996E-2,1.0186081081081075,106000000000,6.5377358490566029E-12,352262626262.62628,2820612231.4277048,2820.612231427705,2.8206122314277051]
[null,0.509015,0.51055600000000001,8.2799999999999999E-2,1.0186111111111114,106000000000,6.5377358490566029E-12,352262626262.62628,2821063254.6230998,2821.0632546231,2.8210632546231]
[null,0.50902899999999995,0.51054100000000002,8.0600000000000005E-2,1.018759305210919,106000000000,6.5377358490566029E-12,352262626262.62628,2843318982.0466585,2843.3189820466587,2.8433189820466587]
[null,0.50897800000000004,0.51071200000000005,9.2499999999999999E-2,1.018745945945946,106000000000,6.5377358490566029E-12,352262626262.62628,2841312826.0384636,2841.3128260384638,2.8413128260384637]
[null,0.50889600000000002,0.51090199999999997,0.107,1.0187476635514015,106000000000,6.5377358490566029E-12,352262626262.62628,2841570759.70467,2841.5707597046699,2.8415707597046698]
[null,0.508907,0.51114000000000004,0.1191,1.0187489504617973,106000000000,6.5377358490566029E-12,352262626262.62628,2841764015.3944106,2841.7640153944108,2.8417640153944106]
[null,0.508884,0.51074900000000001,9.9500000000000005E-2,1.0187437185929649,106000000000,6.5377358490566029E-12,352262626262.62628,2840978342.6849608,2840.9783426849608,2.8409783426849606]
[null,0.50895199999999996,0.51180599999999998,0.15229999999999999,1.0187393302692056,106000000000,6.5377358490566029E-12,352262626262.62628,2840319342.5059767,2840.3193425059767,2.8403193425059765]
[null,0.50877899999999998,0.51084700000000005,0.1103,1.0187488667271085,106000000000,6.5377358490566029E-12,352262626262.62628,2841751440.9404902,2841.7514409404903,2.8417514409404903]
[null,0.50897199999999998,0.51111799999999996,0.1145,1.0187423580786024,106000000000,6.5377358490566029E-12,352262626262.62628,2840774032.8105712,2840.774032810571,2.8407740328105708]
[null,0.50898500000000002,0.51042900000000002,7.6799999999999993E-2,1.0188020833333333,106000000000,6.5377358490566029E-12,352262626262.62628,2849742780.2906709,2849.7427802906709,2.8497427802906707]
[null,0.50891399999999998,0.51053599999999999,8.6499999999999994E-2,1.0187514450867055,106000000000,6.5377358490566029E-12,352262626262.62628,2842138633.210917,2842.1386332109169,2.8421386332109169]
[null,0.50900999999999996,0.51181699999999997,0.14979999999999999,1.0187383177570093,106000000000,6.5377358490566029E-12,352262626262.62628,2840167291.8543167,2840.1672918543168,2.8401672918543168]
[null,0.50892800000000005,0.51181900000000002,0.1542,1.0187483787289233,106000000000,6.5377358490566029E-12,352262626262.62628,2841678158.1408858,2841.6781581408859,2.8416781581408861]
[null,null,null,null,null,null,null,null,"Average",{"$f":"AVERAGE(J61:J112)","v":2869.1494099980027}]
[null,null,null,null,null,null,null,null,"Maximum",{"$f":"MAX(J61:J113)","v":2953.5223222259519}]
[null,null,null,null,null,null,null,null,"Minimum",{"$f":"MIN(J61:J114)","v":2630.599139531143}]
[null,null,null,null,null,null,null,null,"Std Deviation",{"$f":"STDEV(J82:J112)","v":38.641629809178852}]
[]
[]
[]
[null,null,null,null,null,null,null,"Age",null,"Age",null,"Age"]
[null,"206Pb/204Pb","207Pb/204Pb","208Pb/204Pb","238U/204Pb","232Th/204Pb","207Pb/206Pb","207Pb/206Pb","208Pb/232Th","208Pb/232Th","206Pb/238U","206Pb/238U"]
["95LH1",15.239000000000001,15.175000000000001,37.173000000000002,1.4,13.8,{"$f":"(C122/B122)","v":0.99580024936019429},{"$f":"[1]!AgePb76(G122)","v":5231.457942072062},{"$f":"(D122/F122)","v":2.693695652173913},{"$f":"[1]!AgePb8Th2(I122)","v":26409.853231097972},{"$f":"(B122/E122)","v":10.885000000000002},{"$f":"[1]!AgePb6U8(K122)","v":15956.661407330588}]
["95LH2",16.132999999999999,15.366,50.372999999999998,4.3,128.5,{"$f":"(C123/B123)","v":0.95245769540692993},{"$f":"[1]!AgePb76(G123)","v":5168.8316470837499},{"$f":"(D123/F123)","v":0.39200778210116732},{"$f":"[1]!AgePb8Th2(I123)","v":6685.1369881055016},{"$f":"(B123/E123)","v":3.751860465116279},{"$f":"[1]!AgePb6U8(K123)","v":10046.969980517482}]
["95LH3",16.184999999999999,15.377000000000001,41.289000000000001,4.4000000000000004,58.5,0.95007723200494298,{"$f":"[1]!AgePb76(G124)","v":5165.3051917475714},0.70579487179487177,{"$f":"[1]!AgePb8Th2(I124)","v":10793.960637978909},3.6784090909090903,{"$f":"[1]!AgePb6U8(K124)","v":9946.5470704119434}]
["95LH4",14.544,15.066000000000001,35.177,0.9,7.3,1.0358910891089108,{"$f":"[1]!AgePb76(G125)","v":5286.8717676338283},4.818767123287671,{"$f":"[1]!AgePb8Th2(I125)","v":35595.521067541136},16.16,{"$f":"[1]!AgePb6U8(K125)","v":18324.455078548373}]
["95PRP1",19.687000000000001,16.032,37.381,5.2,14,0.81434449128866759,{"$f":"[1]!AgePb76(G126)","v":4947.0335787139293},2.6700714285714287,{"$f":"[1]!AgePb8Th2(I126)","v":26280.164218354377},3.7859615384615384,{"$f":"[1]!AgePb6U8(K126)","v":10093.066579818131}]
["96LH1",20.956,16.302,43.527000000000001,8.1999999999999993,48.3,0.77791563275434239,{"$f":"[1]!AgePb76(G127)","v":4881.8306842672637},0.90118012422360261,{"$f":"[1]!AgePb8Th2(I127)","v":12985.847627506022},2.555609756097561,{"$f":"[1]!AgePb6U8(K127)","v":8177.4476663965143}]
["96LH3",16.463999999999999,15.414,43.176000000000002,5.3,80,0.93622448979591844,{"$f":"[1]!AgePb76(G128)","v":5144.5961175598832},0.53970000000000007,{"$f":"[1]!AgePb8Th2(I128)","v":8723.3469884534825},3.1064150943396225,{"$f":"[1]!AgePb6U8(K128)","v":9105.8849835010642}]
["96PRP1",18.22,15.775,37.173000000000002,4.7,15.9,0.86580680570801327,{"$f":"[1]!AgePb76(G129)","v":5034.0426524950553},2.3379245283018868,{"$f":"[1]!AgePb8Th2(I129)","v":24362.793635743317},3.8765957446808508,{"$f":"[1]!AgePb6U8(K129)","v":10214.004081421601}]
["9 7B-NE1",15.798999999999999,15.393000000000001,36.872999999999998,2.6,17.2,0.9743021710234826,{"$f":"[1]!AgePb76(G130)","v":5200.7634498314928},2.1437790697674419,{"$f":"[1]!AgePb8Th2(I130)","v":23151.603874030818},6.076538461538461,{"$f":"[1]!AgePb6U8(K130)","v":12614.245739142756}]
["97B39E2",18.087,15.797000000000001,40.256,3.8,24.9,0.87338972742853993,{"$f":"[1]!AgePb76(G131)","v":5046.3974381921962},1.6167068273092371,{"$f":"[1]!AgePb8Th2(I131)","v":19442.477837790735},4.759736842105263,{"$f":"[1]!AgePb6U8(K131)","v":11286.973644026482}]
["9 7B'\\E3",18.603000000000002,16.033000000000001,42.433,2.9,22.2,0.86185023920872972,{"$f":"[1]!AgePb76(G132)","v":5027.5505761071818},1.9113963963963965,{"$f":"[1]!AgePb8Th2(I132)","v":21599.45078102855},6.4148275862068971,{"$f":"[1]!AgePb6U8(K132)","v":12915.272994622554}]
["97BYE5",15.641,15.397,35.962000000000003,1.2,6.2,0.98439997442618765,{"$f":"[1]!AgePb76(G133)","v":5215.2691394342764},5.8003225806451617,{"$f":"[1]!AgePb8Th2(I133)","v":38746.236470683572},13.034166666666668,{"$f":"[1]!AgePb6U8(K133)","v":17028.169751361565}]
["97BYE6",17.663,15.781000000000001,44.585000000000001,3.1,36.5,0.89344958387589879,{"$f":"[1]!AgePb76(G134)","v":5078.5397800990131},1.2215068493150685,{"$f":"[1]!AgePb8Th2(I134)","v":16133.112209861383},5.6977419354838705,{"$f":"[1]!AgePb6U8(K134)","v":12259.599968004743}]
["97BNE7",15.718,15.374000000000001,45.762999999999998,2.5,65.400000000000006,0.97811426390125977,{"$f":"[1]!AgePb76(G135)","v":5206.2581975533421},0.69974006116207943,{"$f":"[1]!AgePb8Th2(I135)","v":10722.088613889882},6.2872000000000003,{"$f":"[1]!AgePb6U8(K135)","v":12803.34816727454}]
["96BH1",17.079999999999998,15.555999999999999,46.027000000000001,6.4,101.1,0.91077283372365347,{"$f":"[1]!AgePb76(G136)","v":5105.687302608866},0.45526211671612271,{"$f":"[1]!AgePb8Th2(I136)","v":7583.34579776396},2.6687499999999997,{"$f":"[1]!AgePb6U8(K136)","v":8379.3779506479914}]
["96BH2",26.125,17.440000000000001,61.03,10.4,97.7,0.66755980861244024,{"$f":"[1]!AgePb76(G137)","v":4662.4211609460453},0.62466734902763565,{"$f":"[1]!AgePb8Th2(I137)","v":9809.0568273959179},2.5120192307692308,{"$f":"[1]!AgePb6U8(K137)","v":8097.9284544041011}]
["96BH3",15.853,15.323,36.442999999999998,3.5,20,0.96656784204882362,{"$f":"[1]!AgePb76(G138)","v":5189.544976170323},1.8221499999999999,{"$f":"[1]!AgePb8Th2(I138)","v":20970.166868310185},4.5294285714285714,{"$f":"[1]!AgePb6U8(K138)","v":11023.912829800784}]
["96BH4",19.321000000000002,16.007999999999999,42.365000000000002,9.1999999999999993,60.9,0.82852854407121779,{"$f":"[1]!AgePb76(G139)","v":4971.5859273432643},0.69564860426929398,{"$f":"[1]!AgePb8Th2(I139)","v":10673.376958539906},2.1001086956521742,{"$f":"[1]!AgePb6U8(K139)","v":7293.7126445770091}]
["96BH5",16.346,15.406000000000001,41.915999999999997,2.5,34.1,0.94249357641013098,{"$f":"[1]!AgePb76(G140)","v":5154.0079637345552},1.2292082111436948,{"$f":"[1]!AgePb8Th2(I140)","v":16203.061347247989},6.5384000000000002,{"$f":"[1]!AgePb6U8(K140)","v":13021.820840679515}]
["96BH6",15.048999999999999,15.183999999999999,41.744999999999997,null,null,1.0089706957272908,{"$f":"[1]!AgePb76(G141)","v":5249.9182925491004},0,null,0]
["96BH7",17.03,15.577,35.497999999999998,5.8,13.9,0.91467997651203747,{"$f":"[1]!AgePb76(G142)","v":5111.7345939151464},2.5538129496402875,{"$f":"[1]!AgePb8Th2(I142)","v":25629.532034516375},2.9362068965517243,{"$f":"[1]!AgePb6U8(K142)","v":8832.989801703985}]
["96BH8",14.647,15.045999999999999,41.677999999999997,2.2999999999999998,86.8,1.0272410732573223,{"$f":"[1]!AgePb76(G143)","v":5275.1096459432083},0.48016129032258065,{"$f":"[1]!AgePb8Th2(I143)","v":7926.2468274043504},6.3682608695652183,{"$f":"[1]!AgePb6U8(K143)","v":12874.660461409385}]
["96BH9",14.409000000000001,14.997999999999999,36.173999999999999,0.8,13.5,1.0408772295093343,{"$f":"[1]!AgePb76(G144)","v":5293.6047915807949},2.6795555555555555,{"$f":"[1]!AgePb8Th2(I144)","v":26332.328892174632},18.01125,{"$f":"[1]!AgePb6U8(K144)","v":18984.889019851358}]
["9 7BH2",14.573,15.028,42.414000000000001,1.7,75.599999999999994,1.031222123104371,{"$f":"[1]!AgePb76(G145)","v":5280.5359403051007},0.5610317460317461,{"$f":"[1]!AgePb8Th2(I145)","v":9001.4548420479678},8.5723529411764705,{"$f":"[1]!AgePb6U8(K145)","v":14561.669889549117}]
[9713113,15.952999999999999,15.287000000000001,52.594999999999999,3.8,135,0.9582523663260829,{"$f":"[1]!AgePb76(G146)","v":5177.3771161778195},0.3895925925925926,{"$f":"[1]!AgePb8Th2(I146)","v":6650.0375002826968},4.1981578947368421,{"$f":"[1]!AgePb6U8(K146)","v":10625.65229210974}]
["97BH5",21.710999999999999,16.553000000000001,46.540999999999997,9.6999999999999993,66.5,0.76242457740315983,{"$f":"[1]!AgePb76(G147)","v":4853.1119704842276},0.6998646616541353,{"$f":"[1]!AgePb8Th2(I147)","v":10723.570229436644},2.2382474226804123,{"$f":"[1]!AgePb6U8(K147)","v":7574.7446544981112}]
[9713116,14.513,15.02,41.073,1.2,49.6,1.034934196926893,{"$f":"[1]!AgePb76(G148)","v":5285.5757168947393},0.82808467741935488,{"$f":"[1]!AgePb8Th2(I148)","v":12193.406657879317},12.094166666666666,{"$f":"[1]!AgePb6U8(K148)","v":16581.2527859084}]
["9-B\\E4",15.849,15.487,34.889000000000003,2.5,6.3,0.97715944223610318,{"$f":"[1]!AgePb76(G149)","v":5204.8840472789643},5.5379365079365082,{"$f":"[1]!AgePb8Th2(I149)","v":37950.916564294661},6.3395999999999999,{"$f":"[1]!AgePb6U8(K149)","v":12849.536472062282}]
[null,null,null,null,null,null,"Average",{"$f":"AVERAGE(H122:H149)","v":5123.208843168677},null,{"$f":"AVERAGE(J122:J149)","v":17899.188723309635},null,{"$f":"AVERAGE(L122:L149)","v":11906.473896651118}]
[null,null,null,null,null,null,"Maximum",{"$f":"MAX(H122:H150)","v":5293.6047915807949},null,{"$f":"MAX(J122:J150)","v":38746.236470683572},null,{"$f":"MAX(L122:L150)","v":18984.889019851358}]
[null,null,null,null,null,null,"Minimum",{"$f":"MIN(H122:H151)","v":4662.4211609460453},null,{"$f":"MIN(J122:J151)","v":6650.0375002826968},null,{"$f":"MIN(L122:L151)","v":7293.7126445770091}]
[null,null,null,null,null,null,"Std Deviation",{"$f":"STDEV(H120:H149)","v":151.71093166472397},null,{"$f":"STDEV(J120:J149)","v":9753.9545848268299},null,{"$f":"STDEV(L120:L149)","v":3297.9572806988208}]

{"sheet":"Rb-Sr _08","index":8,"n_rows":28,"n_cols":14,"rows_kept":28,"cut":false,"hidden":false,"merged":[]}
["Rubidium","TABLE 1.",null,null,null,null,null,null,null,null,"Rubidium_003.pdf"]
["Strontium","Initial","Today","Today","The Ratio","Half","Decay","2.303/Delta","Age","Age","Age","Model Age","Model Age","Model Age"]
["Dating","87Sr/86Sr","87Sr/86Sr","87Rb/86Sr","Plus One","Life","Constant","Constant","Years","Million Years","Billion Years","Million Years","% Difference"," Difference"]
[null,0.69933999999999996,0.69940000000000002,6.4000000000000005E-4,{"$f":"1+((C4-B4)/D4)","v":1.0937500000000937},48800000000,{"$f":"(0.693/F4)","v":1.4200819672131146E-11},{"$f":"(2.303/G4)","v":162173737373.7374},{"$f":"(LOG(E4))*(H4)","v":6311488219.5089741},{"$f":"(I4/1000000)","v":6311.488219508974},{"$f":"(J4/1000)","v":6.3114882195089743},27210.660484722925]
[null,0.69933999999999996,0.70348999999999995,8.8000000000000005E-3,1.4715909090909076,48800000000,1.4200819672131146E-11,162173737373.7374,27210660484.722923,27210.660484722925,27.210660484722926,6311.488219508974]
[null,0.69933999999999996,0.70792999999999995,0.18260000000000001,1.0470427163198246,48800000000,1.4200819672131146E-11,162173737373.7374,3237701362.6266537,3237.7013626266535,3.2377013626266535,3346.6656721429486]
[null,0.69933999999999996,0.69935000000000003,1.9300000000000001E-3,1.0051813471502931,48800000000,1.4200819672131146E-11,162173737373.7374,363986129.23628026,363.98612923628025,0.36398612923628026,3320.1007826999394]
[null,0.69933999999999996,0.70472999999999997,0.11349999999999999,1.047488986784141,48800000000,1.4200819672131146E-11,162173737373.7374,3267714130.2255898,3267.7141302255895,3.2677141302255897,3282.838654469474]
[null,0.69933999999999996,0.70594000000000001,0.1431,1.046121593291405,48800000000,1.4200819672131146E-11,162173737373.7374,3175713140.6850019,3175.7131406850017,3.1757131406850019,3267.7141302255895]
[null,0.69933999999999996,0.70608000000000004,0.1431,1.0470999301187986,48800000000,1.4200819672131146E-11,162173737373.7374,3241549843.7172365,3241.5498437172364,3.2415498437172365,3264.7736590880731]
[null,0.69933999999999996,0.69930999999999999,1.6000000000000001E-3,{"$f":"1+((C11-B11)/D11)","v":0.98125000000001594},48800000000,{"$f":"(0.693/F11)","v":1.4200819672131146E-11},{"$f":"(2.303/G11)","v":162173737373.7374},{"$f":"(LOG(E11))*(H11)","v":-1333121678.5511189},{"$f":"(I11/1000000)","v":-1333.1216785511187},{"$f":"(J11/1000)","v":-1.3331216785511188},3249.6499753572043]
[null,0.69933999999999996,0.70748,0.17059999999999997,1.0477139507620166,48800000000,1.4200819672131146E-11,162173737373.7374,3282838654.4694738,3282.838654469474,3.2828386544694741,3241.5498437172364]
[null,0.69933999999999996,0.69935000000000003,1.48E-3,1.006756756756801,48800000000,1.4200819672131146E-11,162173737373.7374,474285692.96897602,474.28569296897604,0.47428569296897605,3237.7013626266535]
[null,0.69933999999999996,0.70638999999999996,0.14929999999999999,1.0472203616878768,48800000000,1.4200819672131146E-11,162173737373.7374,3249649975.3572044,3249.6499753572043,3.2496499753572041,3175.7131406850017]
[null,0.69933999999999996,0.70047999999999999,2.4860000000000004E-2,1.0458567980691886,48800000000,1.4200819672131146E-11,162173737373.7374,3157883286.7616019,3157.883286761602,3.157883286761602,3157.883286761602]
[null,0.69933999999999996,0.70064000000000004,2.7400000000000001E-2,1.0474452554744553,48800000000,1.4200819672131146E-11,162173737373.7374,3264773659.0880733,3264.7736590880731,3.2647736590880729,3085.0694920671654]
[null,0.69933999999999996,0.69930999999999999,5.6999999999999998E-4,0.94736842105267638,48800000000,1.4200819672131146E-11,162173737373.7374,-3808017071.5447502,-3808.0170715447503,-3.8080170715447501,3049.9076312193006]
[null,0.69933999999999996,0.69933999999999996,7.000000000000001E-4,1,48800000000,1.4200819672131146E-11,162173737373.7374,0,0,0,474.28569296897604]
[null,0.69933999999999996,0.69932000000000005,5.0000000000000001E-4,0.96000000000018204,48800000000,1.4200819672131146E-11,162173737373.7374,-2875140396.9878693,-2875.1403969878693,-2.8751403969878693,363.98612923628025]
[null,0.69933999999999996,0.69933000000000001,6.6E-4,0.98484848484855381,48800000000,1.4200819672131146E-11,162173737373.7374,-1075305760.9994636,-1075.3057609994635,-1.0753057609994634,0]
[null,0.69933999999999996,0.69955000000000001,4.6899999999999997E-3,1.0447761194029943,48800000000,1.4200819672131146E-11,162173737373.7374,3085069492.0671654,3085.0694920671654,3.0850694920671655,-1075.3057609994635]
[null,0.69933999999999996,0.70047999999999999,2.5760000000000002E-2,1.0442546583850942,48800000000,1.4200819672131146E-11,162173737373.7374,3049907631.2193007,3049.9076312193006,3.0499076312193005,-1333.1216785511187]
[null,0.69933999999999996,0.70379999999999998,9.2399999999999996E-2,1.0482683982683985,48800000000,1.4200819672131146E-11,162173737373.7374,3320100782.6999393,3320.1007826999394,3.3201007826999396,-2875.1403969878693]
[null,0.69933999999999996,0.70972000000000002,0.21329999999999999,1.0486638537271451,48800000000,1.4200819672131146E-11,162173737373.7374,3346665672.1429486,3346.6656721429486,3.3466656721429486,-3808.0170715447503]
[null,null,null,null,null,null,null,null,"Average",{"$f":"AVERAGE(J4:J24)","v":3045.1620594959118},null,{"$f":"COUNT(L4:L24)","v":21}]
[null,null,null,null,null,null,null,null,"Maximum",{"$f":"MAX(J4:J25)","v":27210.660484722925}]
[null,null,null,null,null,null,null,null,"Minimum",{"$f":"MIN(J4:J26)","v":-3808.0170715447503}]
[null,null,null,null,null,null,null,null,"Difference",{"$f":"(J26+ABS(J27))","v":31018.677556267674}]

{"sheet":"Rb-Sr _09","index":9,"n_rows":67,"n_cols":14,"rows_kept":67,"cut":false,"hidden":false,"merged":[]}
["Rubidium","TABLE 1.",null,null,null,null,null,null,null,null,"Rubidium_004.pdf",null,25500,4874]
["Strontium","Initial","Today","Today","The Ratio","Half","Decay","2.303/Delta","Age","Age","Age",null,14800,-10700]
["Dating","87Sr/86Sr","87Sr/86Sr","87Rb/86Sr","Plus One","Life","Constant","Constant","Years","Million Years","Billion Years",null,14800,-10700]
["TABLE 1",0.69896999999999998,0.69947000000000004,7.6899999999999998E-3,{"$f":"1+((C4-B4)/D4)","v":1.0650195058517629},48800000000,{"$f":"(0.693/F4)","v":1.4200819672131146E-11},{"$f":"(2.303/G4)","v":162173737373.7374},{"$f":"(LOG(E4))*(H4)","v":4436678068.3230619},{"$f":"(I4/1000000)","v":4436.6780683230618},{"$f":"(J4/1000)","v":4.4366780683230616},null,8627,-9600]
[null,0.69896999999999998,0.69962000000000002,9.4800000000000006E-3,1.0685654008438861,48800000000,1.4200819672131146E-11,162173737373.7374,4670783328.4674797,4670.7833284674798,4.67078332846748,null,5694,103]
[null,0.69896999999999998,0.69965999999999995,8.0800000000000004E-3,1.0853960396039566,48800000000,1.4200819672131146E-11,162173737373.7374,5771476685.8817539,5771.4766858817538,5.7714766858817539,null,5694,103]
[null,0.69896999999999998,0.69996000000000003,1.35E-2,1.0733333333333368,48800000000,1.4200819672131146E-11,162173737373.7374,4984347701.7757835,4984.3477017757832,4.9843477017757829,null,5597,277]
[null,0.69896999999999998,0.69977,1.404E-2,1.0569800569800587,48800000000,1.4200819672131146E-11,162173737373.7374,3903001791.6100726,3903.0017916100728,3.9030017916100728,null,5591,295]
[null,0.69896999999999998,0.69972000000000001,1.376E-2,1.0545058139534904,48800000000,1.4200819672131146E-11,162173737373.7374,3737938992.1941261,3737.9389921941261,3.7379389921941262,null,5336,296]
[null,null,null,null,null,null,null,null,null,null,null,null,5032,376]
[null,null,null,null,null,null,null,null,null,null,null,null,5032,377]
["TABLE 2",0.69896999999999998,0.69916,4.5700000000000003E-3,{"$f":"1+((C12-B12)/D12)","v":1.0415754923413618},48800000000,{"$f":"(0.693/F12)","v":1.4200819672131146E-11},{"$f":"(2.303/G12)","v":162173737373.7374},{"$f":"(LOG(E12))*(H12)","v":2868975474.309463},{"$f":"(I12/1000000)","v":2868.9754743094632},{"$f":"(J12/1000)","v":2.8689754743094631},null,4922,570]
[null,0.69896999999999998,0.69913999999999998,4.8799999999999998E-3,1.0348360655737712,48800000000,1.4200819672131146E-11,162173737373.7374,2411775835.8870425,2411.7758358870424,2.4117758358870423,null,4907,865]
[null,0.69896999999999998,0.69977,1.404E-2,1.0569800569800587,48800000000,1.4200819672131146E-11,162173737373.7374,3903001791.6100726,3903.0017916100728,3.9030017916100728,null,4903,865]
[null,0.69896999999999998,0.69972000000000001,1.376E-2,1.0545058139534904,48800000000,1.4200819672131146E-11,162173737373.7374,3737938992.1941261,3737.9389921941261,3.7379389921941262,null,4874,1477]
[null,0.69896999999999998,0.70084000000000002,2.043E-2,1.0915320606950583,48800000000,1.4200819672131146E-11,162173737373.7374,6168520780.3390837,6168.520780339084,6.168520780339084,null,4814,1644]
[null,0.69896999999999998,0.70082,2.044E-2,1.0905088062622319,48800000000,1.4200819672131146E-11,162173737373.7374,6102464271.2361364,6102.4642712361365,6.1024642712361361,null,4806,1724]
[null,0.69896999999999998,0.71362000000000003,0.30470000000000003,1.0480800787659996,48800000000,1.4200819672131146E-11,162173737373.7374,3307446816.9642701,3307.4468169642701,3.3074468169642701,null,4784,1784]
[null,0.69896999999999998,0.71094000000000002,0.1835,1.0652316076294279,48800000000,1.4200819672131146E-11,162173737373.7374,4450703245.012311,4450.7032450123106,4.4507032450123107,null,4678,1786]
[null,0.69896999999999998,0.69977999999999996,8.1499999999999993E-3,1.0993865030674819,48800000000,1.4200819672131146E-11,162173737373.7374,6673514311.9723463,6673.5143119723461,6.6735143119723466,null,4663,1798]
[null,null,null,null,null,null,null,null,"Average",{"$f":"AVERAGE(J12:J20)","v":4402.7046132805381},{"$f":"AVERAGE(K12:K20)","v":4.4027046132805392},null,4646,1851]
[null,null,null,null,null,null,null,null,"Maximum",{"$f":"MAX(J12:J21)","v":6673.5143119723461},{"$f":"MAX(K12:K21)","v":6.6735143119723466},null,4645,2263]
[null,null,null,null,null,null,null,null,"Minimum",{"$f":"MIN(J12:J22)","v":2411.7758358870424},{"$f":"MIN(K12:K22)","v":2.4117758358870423},null,4645,2953]
[null,null,null,null,null,null,null,null,"Difference",{"$f":"(J22-ABS(J23))","v":4261.7384760853038},{"$f":"(K22+ABS(K23))","v":9.0852901478593893},null,4536,3088]
[null,null,null,null,null,null,null,null,null,null,null,null,4523,3161]
[null,null,null,null,null,null,null,null,null,null,null,null,4522,3215]
[null,null,null,null,null,null,null,null,null,null,null,null,4500,3290]
[null,null,null,null,null,null,null,null,null,null,null,null,4421,3380]
[null,null,null,null,null,null,null,null,null,null,null,null,4167,3390]
[null,null,null,null,null,null,null,null,null,null,null,null,4160,3396]
["206Pb/238U","207Pb/235U","207Pb/206Pb","208Pb/232Th",null,null,null,null,null,null,null,null,4136,3419]
[4874,4663,4573,4678,null,null,null,null,null,null,null,null,4061,3549]
[4814,4645,4572,null,null,null,null,null,null,null,null,null,4014,3597]
[5694,4806,4484,14800,null,null,null,null,null,null,null,null,3955,3666]
[5597,4784,4454,null,null,null,null,null,null,null,null,null,3666,3955]
[3380,4421,4963,-9600,null,null,null,null,null,null,null,null,3597,4014]
[5336,5032,4912,null,null,null,null,null,null,null,null,null,3549,4061]
[296,1724,4709,295,null,null,null,null,null,null,null,null,3419,4136]
[277,1644,4664,null,null,null,null,null,null,null,null,null,3396,4160]
[103,865,4515,570,null,null,null,null,null,null,null,null,3390,4167]
[377,1786,4454,4922,null,null,null,null,null,null,null,null,3380,4421]
[376,1784,4457,null,null,null,null,null,null,null,null,null,3290,4500]
[2953,3955,4510,4160,null,null,null,null,null,null,null,null,3215,4522]
[3290,4061,4468,-10700,null,null,null,null,null,null,null,null,3161,4523]
[3215,4014,4440,null,null,null,null,null,null,null,null,null,3088,4536]
[4903,4645,4535,3597,null,null,null,null,null,null,null,null,2953,4645]
[4907,4646,4534,null,null,null,null,null,null,null,null,null,2263,4645]
[4522,4536,4542,3549,null,null,null,null,null,null,null,null,1851,4646]
[4500,4523,4534,null,null,null,null,null,null,null,null,null,1798,4663]
[1851,3419,4534,8627,null,null,null,null,null,null,null,null,1786,4678]
[1477,3161,4519,null,null,null,null,null,null,null,null,null,1784,4784]
[1798,3396,4555,null,null,null,null,null,null,null,null,null,1724,4806]
[3390,4136,4520,null,null,"Summary","206Pb/238U","207Pb/235U","207Pb/206Pb","208Pb/232Th",null,null,1644,4814]
[{"$f":"AVERAGE(A32:A53)","v":3087.7272727272725},{"$f":"AVERAGE(B32:B53)","v":3665.7272727272725},{"$f":"AVERAGE(C32:C53)","v":4565.818181818182},{"$f":"AVERAGE(D32:D53)","v":2263.4545454545455},null,"Average",3087.7272727272725,3665.7272727272725,4565.818181818182,2263.4545454545455,null,null,1477,4903]
[{"$f":"MAX(A32:A54)","v":5694},{"$f":"MAX(B32:B54)","v":5032},{"$f":"MAX(C32:C54)","v":4963},{"$f":"MAX(D32:D54)","v":14800},null,"Maximum",5694,5032,4963,14800,null,null,865,4907]
[{"$f":"MIN(A32:A55)","v":103},{"$f":"MIN(B32:B55)","v":865},{"$f":"MIN(C32:C55)","v":4440},{"$f":"MIN(D32:D55)","v":-10700},null,"Minimum",103,865,4440,-10700,null,null,865,4922]
[{"$f":"(A55-A56)","v":5591},{"$f":"(B55-B56)","v":4167},{"$f":"(C55-C56)","v":523},{"$f":"(D55-D56)","v":25500},null,"Difference",5591,4167,523,25500,null,null,570,5032]
[null,null,null,null,null,null,null,null,null,null,null,null,377,5032]
[null,null,null,null,null,null,null,null,null,null,null,null,376,5336]
[null,null,null,null,null,null,null,null,null,null,null,null,296,5591]
[null,null,null,null,null,null,null,null,null,null,null,null,295,5597]
[null,null,null,null,null,null,null,null,null,null,null,null,277,5694]
[null,null,null,null,null,null,null,null,null,null,null,null,103,5694]
[null,null,null,null,null,null,null,null,null,null,null,null,103,8627]
[null,null,null,null,null,null,null,null,null,null,null,null,-9600,14800]
[null,null,null,null,null,null,null,null,null,null,null,null,-10700,14800]
[null,null,null,null,null,null,null,null,null,null,null,null,-10700,25500]

{"sheet":"Rb-Sr _10","index":10,"n_rows":51,"n_cols":14,"rows_kept":51,"cut":false,"hidden":false,"merged":[]}
["Rubidium","TABLE 1.",null,null,null,null,null,null,null,null,"Rubidium_006.pdf"]
["Strontium","Initial","Today","Today","The Ratio","Half","Decay","2.303/Delta","Age","Age","Age","Model Age","Model Age","Model Age"]
["Dating","87Sr/86Sr","87Sr/86Sr","87Rb/86Sr","Plus One","Life","Constant","Constant","Years","Million Years","Billion Years","Million Years","% Difference"," Difference"]
["TABLE 3",0.70330000000000004,0.70347999999999999,5.5199999999999997E-3,{"$f":"1+((C4-B4)/D4)","v":1.0326086956521663},48800000000,{"$f":"(0.693/F4)","v":1.4200819672131146E-11},{"$f":"(2.303/G4)","v":162173737373.7374},{"$f":"(LOG(E4))*(H4)","v":2260017192.2737193},{"$f":"(I4/1000000)","v":2260.0171922737195},{"$f":"(J4/1000)","v":2.2600171922737196},"Quaternary",null,2260.0171922737195]
[null,0.70350000000000001,0.70365,9.5000000000000001E-2,1.0015789473684209,48800000000,1.4200819672131146E-11,162173737373.7374,111119390.78697197,111.11939078697198,0.11111939078697197,"Quaternary",null,640.14911331504538]
[null,0.70350000000000001,0.70374999999999999,0.11,1.002272727272727,48800000000,1.4200819672131146E-11,162173737373.7374,159889192.95962423,159.88919295962424,0.15988919295962423,"Quaternary",null,451.32260755665897]
[null,0.70350000000000001,0.70391000000000004,0.1,1.0041000000000002,48800000000,1.4200819672131146E-11,162173737373.7374,288177392.13847864,288.17739213847864,0.28817739213847865,"Quaternary",null,414.57586255665467]
[null,0.70350000000000001,0.70354000000000005,0.23,1.0001739130434784,48800000000,1.4200819672131146E-11,162173737373.7374,12247832.263032755,12.247832263032755,1.2247832263032755E-2,"Quaternary",null,382.18952656487807]
[null,0.70350000000000001,0.70365,0.18,{"$f":"1+((C9-B9)/D9)","v":1.0008333333333332},48800000000,{"$f":"(0.693/F9)","v":1.4200819672131146E-11},{"$f":"(2.303/G9)","v":162173737373.7374},{"$f":"(LOG(E9))*(H9)","v":58668191.023337618},{"$f":"(I9/1000000)","v":58.66819102333762},{"$f":"(J9/1000)","v":5.8668191023337618E-2},"Quaternary",null,368.50919516967093]
[null,0.70350000000000001,0.7036,7.0999999999999994E-2,1.0014084507042251,48800000000,1.4200819672131146E-11,162173737373.7374,99129023.050958082,99.129023050958082,9.9129023050958082E-2,"Quaternary",null,345.92650577977219]
[null,0.70350000000000001,0.70382,6.0999999999999999E-2,{"$f":"1+((C11-B11)/D11)","v":1.005245901639344},48800000000,{"$f":"(0.693/F11)","v":1.4200819672131146E-11},{"$f":"(2.303/G11)","v":162173737373.7374},{"$f":"(LOG(E11))*(H11)","v":368509195.16967094},{"$f":"(I11/1000000)","v":368.50919516967093},{"$f":"(J11/1000)","v":0.36850919516967096},"Quaternary",null,342.73137826749695]
[null,0.70350000000000001,0.70379999999999998,9.5000000000000001E-2,1.0031578947368418,48800000000,1.4200819672131146E-11,162173737373.7374,222063744.39340815,222.06374439340814,0.22206374439340815,"Quaternary",null,288.17739213847864]
[null,0.70350000000000001,0.70370999999999995,0.26,{"$f":"1+((C13-B13)/D13)","v":1.0008076923076921},48800000000,{"$f":"(0.693/F13)","v":1.4200819672131146E-11},{"$f":"(2.303/G13)","v":162173737373.7374},{"$f":"(LOG(E13))*(H13)","v":56863744.434505165},{"$f":"(I13/1000000)","v":56.863744434505165},{"$f":"(J13/1000)","v":5.6863744434505162E-2},"Quaternary",null,274.0283694941171]
[null,0.70350000000000001,0.70367999999999997,0.14000000000000001,1.0012857142857139,48800000000,1.4200819672131146E-11,162173737373.7374,90496183.948504761,90.496183948504765,9.0496183948504769E-2,"Quaternary",null,222.06374439340814]
[null,0.70350000000000001,0.70374999999999999,0.14000000000000001,1.0017857142857141,48800000000,1.4200819672131146E-11,162173737373.7374,125657766.16133437,125.65776616133437,0.12565776616133437,"Quaternary",null,207.37602676539365]
[null,0.70350000000000001,0.70381000000000005,0.11,1.0028181818181821,48800000000,1.4200819672131146E-11,162173737373.7374,198208649.42778543,198.20864942778542,0.1982086494277854,"Quaternary",null,198.20864942778542]
[null,0.70350000000000001,0.70370999999999995,0.56999999999999995,1.0003684210526314,48800000000,1.4200819672131146E-11,162173737373.7374,25943543.048993282,25.943543048993281,2.5943543048993281E-2,"Quaternary",null,193.41985736387301]
[null,0.70350000000000001,0.70372999999999997,0.71,1.0003239436619717,48800000000,1.4200819672131146E-11,162173737373.7374,22812032.937412288,22.812032937412287,2.2812032937412286E-2,"Quaternary",null,192.69823033077819]
[null,0.70350000000000001,0.70353149999999998,0.15,1.0002099999999998,48800000000,1.4200819672131146E-11,162173737373.7374,14788990.653031368,14.788990653031368,1.4788990653031367E-2,"Quaternary",null,175.85816689746289]
[null,0.70350000000000001,0.70365999999999995,0.12,1.0013333333333327,48800000000,1.4200819672131146E-11,162173737373.7374,93845662.453511357,93.845662453511352,9.384566245351135E-2,"Quaternary",null,159.88919295962424]
[null,0.70350000000000001,0.70359000000000005,1.4E-2,1.0064285714285739,48800000000,1.4200819672131146E-11,162173737373.7374,451322607.55665898,451.32260755665897,0.45132260755665898,"Quaternary",null,125.65776616133437]
[null,0.70350000000000001,0.7036,0.09,{"$f":"1+((C22-B22)/D22)","v":1.0011111111111111},48800000000,{"$f":"(0.693/F22)","v":1.4200819672131146E-11},{"$f":"(2.303/G22)","v":162173737373.7374},{"$f":"(LOG(E22))*(H22)","v":78213399.765684858},{"$f":"(I22/1000000)","v":78.213399765684855},{"$f":"(J22/1000)","v":7.8213399765684852E-2},"Quaternary",null,111.11939078697198]
[null,0.70350000000000001,0.7035517,7.0000000000000007E-2,1.0007385714285713,48800000000,1.4200819672131146E-11,162173737373.7374,51999241.689734764,51.999241689734767,5.1999241689734764E-2,"Quaternary",5,107.63595467764266]
[null,0.70350000000000001,0.70369999999999999,7.2999999999999995E-2,1.0027397260273969,48800000000,1.4200819672131146E-11,162173737373.7374,192698230.33077818,192.69823033077819,0.19269823033077818,"Quaternary",null,100.54414163031464]
[null,0.70350000000000001,0.70372999999999997,5.8999999999999997E-2,1.003898305084745,48800000000,1.4200819672131146E-11,162173737373.7374,274028369.49411708,274.0283694941171,0.27402836949411707,"Quaternary",null,99.129023050958082]
[null,0.70350000000000001,0.70369999999999999,4.1000000000000002E-2,1.0048780487804874,48800000000,1.4200819672131146E-11,162173737373.7374,342731378.26749694,342.73137826749695,0.34273137826749694,"Quaternary",null,93.845662453511352]
[null,0.70350000000000001,0.70404160000000005,0.11,1.0049236363636367,48800000000,1.4200819672131146E-11,162173737373.7374,345926505.77977216,345.92650577977219,0.34592650577977219,"Quaternary",null,90.496183948504765]
[null,0.70350000000000001,0.70360999999999996,0.04,1.0027499999999985,48800000000,1.4200819672131146E-11,162173737373.7374,193419857.363873,193.41985736387301,0.19341985736387302,"Quaternary",null,83.256444250903201]
[null,0.70350000000000001,0.70391999999999999,4.5999999999999999E-2,1.0091304347826082,48800000000,1.4200819672131146E-11,162173737373.7374,640149113.31504536,640.14911331504538,0.64014911331504543,"Quaternary",null,78.213399765684855]
[null,0.70350000000000001,0.70348999999999995,7.5999999999999998E-2,0.99986842105263074,48800000000,1.4200819672131146E-11,162173737373.7374,-9267867.5377483089,-9.2678675377483088,-9.2678675377483085E-3,"Quaternary",null,59.570396981803121]
[null,0.70350000000000001,0.70372999999999997,7.8E-2,1.0029487179487173,48800000000,1.4200819672131146E-11,162173737373.7374,207376026.76539364,207.37602676539365,0.20737602676539366,"Quaternary",null,58.66819102333762]
[null,0.70350000000000001,0.70399,8.3000000000000004E-2,1.0059036144578313,48800000000,1.4200819672131146E-11,162173737373.7374,414575862.55665469,414.57586255665467,0.41457586255665468,"Quaternary",null,56.863744434505165]
[null,0.70350000000000001,0.70387,6.8000000000000005E-2,1.0054411764705879,48800000000,1.4200819672131146E-11,162173737373.7374,382189526.56487805,382.18952656487807,0.38218952656487809,"Quaternary",null,51.999241689734767]
[null,0.70350000000000001,0.70335000000000003,9.8000000000000004E-2,0.99846938775510219,48800000000,1.4200819672131146E-11,162173737373.7374,-107885381.19346407,-107.88538119346407,-0.10788538119346407,"Quaternary",null,50.983416654552641]
[null,0.70350000000000001,0.70335000000000003,0.64,0.99976562499999999,48800000000,1.4200819672131146E-11,162173737373.7374,-16509237.70133871,-16.509237701338709,-1.6509237701338709E-2,"Quaternary",null,32.006889553807213]
[null,0.70350000000000001,0.70328500000000005,0.15,0.99856666666666694,48800000000,1.4200819672131146E-11,162173737373.7374,-101023745.91909488,-101.02374591909488,-0.10102374591909488,"Quaternary",null,25.943543048993281]
[null,0.70350000000000001,0.70338000000000001,0.18,0.9993333333333333,48800000000,1.4200819672131146E-11,162173737373.7374,-46969764.495729797,-46.969764495729798,-4.6969764495729802E-2,"Quaternary",null,22.812032937412287]
[null,0.70350000000000001,0.70355000000000001,0.11,1.0004545454545455,48800000000,1.4200819672131146E-11,162173737373.7374,32006889.553807214,32.006889553807213,3.2006889553807212E-2,"Quaternary",null,18.329012434303316]
[null,0.70350000000000001,0.70340999999999998,0.17,0.99947058823529389,48800000000,1.4200819672131146E-11,162173737373.7374,-37296957.904895633,-37.296957904895635,-3.7296957904895636E-2,"Quaternary",null,14.788990653031368]
[null,0.70350000000000001,0.70360999999999996,0.13,1.0008461538461535,48800000000,1.4200819672131146E-11,162173737373.7374,59570396.981803119,59.570396981803121,5.9570396981803123E-2,"Quaternary",null,12.247832263032755]
[null,0.70350000000000001,0.70338000000000001,0.3,0.99959999999999993,48800000000,1.4200819672131146E-11,162173737373.7374,-28178099.696143627,-28.178099696143626,-2.8178099696143627E-2,"Quaternary",null,-9.2678675377483088]
[null,0.70350000000000001,0.70369000000000004,0.73,1.0002602739726028,48800000000,1.4200819672131146E-11,162173737373.7374,18329012.434303317,18.329012434303316,1.8329012434303314E-2,"Quaternary",null,-16.509237701338709]
[null,0.70350000000000001,0.70391999999999999,0.57999999999999996,1.0007241379310345,48800000000,1.4200819672131146E-11,162173737373.7374,50983416.654552639,50.983416654552641,5.0983416654552645E-2,"Quaternary",null,-28.178099696143626]
[null,0.70350000000000001,0.70367000000000002,6.8000000000000005E-2,1.0024999999999999,48800000000,1.4200819672131146E-11,162173737373.7374,175858166.8974629,175.85816689746289,0.17585816689746289,"Quaternary",null,-37.296957904895635]
[null,0.70350000000000001,0.70360999999999996,9.2999999999999999E-2,1.0011827956989241,48800000000,1.4200819672131146E-11,162173737373.7374,83256444.250903204,83.256444250903201,8.32564442509032E-2,"Quaternary",null,-46.969764495729798]
[null,0.70350000000000001,0.70376000000000005,0.17,1.001529411764706,48800000000,1.4200819672131146E-11,162173737373.7374,107635954.67764266,107.63595467764266,0.10763595467764266,"Quaternary",null,-101.02374591909488]
[null,0.70350000000000001,0.70369999999999999,0.14000000000000001,1.0014285714285713,48800000000,1.4200819672131146E-11,162173737373.7374,100544141.63031465,100.54414163031464,0.10054414163031464,"Quaternary",null,-107.88538119346407]
[null,null,null,null,null,null,null,null,"Average",{"$f":"AVERAGE(J4:J47)","v":183.27548216378963},{"$f":"AVERAGE(K4:K47)","v":0.18327548216378958}]
[null,null,null,null,null,null,null,null,"Maximum",{"$f":"MAX(J4:J48)","v":2260.0171922737195},{"$f":"MAX(K4:K48)","v":2.2600171922737196}]
[null,null,null,null,null,null,null,null,"Minimum",{"$f":"MIN(J4:J49)","v":-107.88538119346407},{"$f":"MIN(K4:K49)","v":-0.10788538119346407}]
[null,null,null,null,null,null,null,null,"Difference",{"$f":"(J49+ABS(J50))","v":2367.9025734671836},{"$f":"(K49+ABS(K50))","v":2.3679025734671835}]

{"sheet":"Rb-Sr _11","index":11,"n_rows":71,"n_cols":17,"rows_kept":71,"cut":false,"hidden":false,"merged":[]}
["Rubidium",null,null,null,null,null,null,null,null,null,"Rubidium_007.pdf",null,null,null,null,null,-135140]
["Strontium","Initial","Today","Today","The Ratio","Half","Decay","2.303/Delta","Age","Age","Age","Model Age","Model Age","Model Age",null,null,-127188]
["Dating","87Sr/86Sr","87Sr/86Sr","87Rb/86Sr","Plus One","Life","Constant","Constant","Years","Million Years","Billion Years","Million Years","% Difference"," Difference",null,null,-112295]
["TABLE 3",0.71013999999999999,0.70228000000000002,5.5000000000000003E-4,{"$f":"1+((C4-B4)/D4)","v":-13.29090909090905},48800000000,{"$f":"(0.693/F4)","v":1.4200819672131146E-11},{"$f":"(2.303/G4)","v":162173737373.7374},{"$f":"(LOG(E4))*(H4)","v":{"$error":"#NUM!"}},null,{"$f":"(J4/1000)","v":0},null,null,null,null,null,-102498]
[null,0.71013999999999999,0.70199,2.7E-4,-29.185185185185151,48800000000,1.4200819672131146E-11,162173737373.7374,{"$error":"#NUM!"},null,0,null,null,null,null,null,-102193]
[null,0.71013999999999999,0.70338999999999996,0.104,0.93509615384615352,48800000000,1.4200819672131146E-11,162173737373.7374,-4726347501.7573709,{"$f":"(I6/1000000)","v":-4726.347501757371},-4.7263475017573713,null,null,null,null,null,-93280]
[null,0.71013999999999999,0.70299999999999996,2.4299999999999999E-3,-1.9382716049382864,48800000000,1.4200819672131146E-11,162173737373.7374,{"$error":"#NUM!"},null,0,null,null,null,null,null,-75367]
[null,0.71013999999999999,0.70320000000000005,5.4600000000000003E-2,0.8728937728937739,48800000000,1.4200819672131146E-11,162173737373.7374,-9574511172.6052151,-9574.5111726052146,-9.5745111726052148,null,null,null,null,null,-75013]
[null,0.71013999999999999,0.70313999999999999,3.0000000000000001E-5,-232.33333333333354,48800000000,1.4200819672131146E-11,162173737373.7374,{"$error":"#NUM!"},null,0,null,null,null,null,null,-51132]
[null,0.71013999999999999,0.70311000000000001,7.7000000000000001E-5,-90.298701298701047,48800000000,1.4200819672131146E-11,162173737373.7374,{"$error":"#NUM!"},null,0,null,null,null,null,null,-50620]
[null,0.71013999999999999,0.70232000000000006,1.6000000000000001E-3,-3.8874999999999611,48800000000,1.4200819672131146E-11,162173737373.7374,{"$error":"#NUM!"},null,0,null,null,null,null,null,-47871]
[null,0.71013999999999999,0.70450000000000002,2.3400000000000001E-2,0.75897435897435994,48800000000,1.4200819672131146E-11,162173737373.7374,-19424018175.135056,-19424.018175135054,-19.424018175135053,null,null,null,null,null,-43835]
[null,0.71013999999999999,0.70309999999999995,3.82E-3,-0.84293193717278703,48800000000,1.4200819672131146E-11,162173737373.7374,{"$error":"#NUM!"},null,0,null,null,null,null,null,-31536]
[null,0.71013999999999999,0.70270999999999995,1.48E-3,{"$f":"1+((C14-B14)/D14)","v":-4.0202702702703021},48800000000,{"$f":"(0.693/F14)","v":1.4200819672131146E-11},{"$f":"(2.303/G14)","v":162173737373.7374},{"$f":"(LOG(E14))*(H14)","v":{"$error":"#NUM!"}},null,{"$f":"(J14/1000)","v":0},null,null,null,null,null,-31139]
[null,0.71013999999999999,0.70321,1.9199999999999998E-2,0.63906250000000042,48800000000,1.4200819672131146E-11,162173737373.7374,-31535764278.652798,{"$f":"(I15/1000000)","v":-31535.764278652798},-31.535764278652799,null,null,null,null,null,-30117]
[null,0.71013999999999999,0.70269999999999999,6.1999999999999998E-3,-0.2000000000000004,48800000000,1.4200819672131146E-11,162173737373.7374,{"$error":"#NUM!"},null,0,null,null,null,null,null,-27119]
[null,0.71013999999999999,0.70303000000000004,3.2899999999999999E-2,0.78389057750760027,48800000000,1.4200819672131146E-11,162173737373.7374,-17148989822.963638,-17148.989822963638,-17.148989822963639,null,null,null,null,null,-22440]
[null,0.71013999999999999,0.70304,2.1299999999999999E-3,{"$f":"1+((C18-B18)/D18)","v":-2.3333333333333313},48800000000,{"$f":"(0.693/F18)","v":1.4200819672131146E-11},{"$f":"(2.303/G18)","v":162173737373.7374},{"$f":"(LOG(E18))*(H18)","v":{"$error":"#NUM!"}},null,{"$f":"(J18/1000)","v":0},null,null,null,null,null,-22425]
[null,0.71013999999999999,0.70250999999999997,6.2E-4,-11.306451612903267,48800000000,1.4200819672131146E-11,162173737373.7374,{"$error":"#NUM!"},null,0,null,null,null,null,null,-19424]
[null,0.71013999999999999,0.70528000000000002,0.156,0.96884615384615402,48800000000,1.4200819672131146E-11,162173737373.7374,-2229107288.1350598,{"$f":"(I20/1000000)","v":-2229.1072881350597},-2.2291072881350598,null,null,null,null,null,-19296]
[null,0.71013999999999999,0.70735000000000003,3.2699999999999999E-3,0.14678899082570052,48800000000,1.4200819672131146E-11,162173737373.7374,-135140431961.59908,-135140.43196159907,-135.14043196159906,null,null,null,null,null,-19115]
[null,0.71013999999999999,0.70279000000000003,4.4299999999999999E-2,0.83408577878103907,48800000000,1.4200819672131146E-11,162173737373.7374,-12777552568.932983,-12777.552568932984,-12.777552568932984,null,null,null,null,null,-18170]
[null,0.71013999999999999,0.70204999999999995,2.5999999999999999E-3,-2.1115384615384776,48800000000,1.4200819672131146E-11,162173737373.7374,{"$error":"#NUM!"},null,0,null,null,null,null,null,-17149]
[null,0.71013999999999999,0.70296999999999998,8.5800000000000008E-3,0.16433566433566327,48800000000,1.4200819672131146E-11,162173737373.7374,-127187701074.3831,-127187.70107438311,-127.1877010743831,null,null,null,null,null,-17149]
[null,0.71013999999999999,0.70238999999999996,3.8E-3,-1.0394736842105354,48800000000,1.4200819672131146E-11,162173737373.7374,{"$error":"#NUM!"},null,0,null,null,null,null,null,-12778]
[null,0.71013999999999999,0.70243999999999995,4.4600000000000004E-3,-0.72645739910314777,48800000000,1.4200819672131146E-11,162173737373.7374,{"$error":"#NUM!"},null,0,null,null,null,null,null,-12334]
[null,0.71013999999999999,0.70255999999999996,9.9000000000000008E-3,0.2343434343434313,48800000000,1.4200819672131146E-11,162173737373.7374,-102193328093.76062,-102193.32809376062,-102.19332809376061,null,null,null,null,null,-12237]
[null,0.71013999999999999,0.70333000000000001,1.84E-4,-36.010869565217298,48800000000,1.4200819672131146E-11,162173737373.7374,{"$error":"#NUM!"},null,0,null,null,null,null,null,-11620]
[null,0.71013999999999999,0.70199999999999996,8.3699999999999996E-4,-8.7252090800478328,48800000000,1.4200819672131146E-11,162173737373.7374,{"$error":"#NUM!"},null,0,null,null,null,null,null,-9799]
[null,0.71013999999999999,0.70254000000000005,4.6000000000000001E-4,-15.521739130434653,48800000000,1.4200819672131146E-11,162173737373.7374,{"$error":"#NUM!"},null,0,null,null,null,null,null,-9575]
[null,0.71013999999999999,0.70225000000000004,9.9000000000000008E-3,0.20303030303030789,48800000000,1.4200819672131146E-11,162173737373.7374,-112295442779.84833,-112295.44277984832,-112.29544277984833,null,"Summary","Table 2","Table 3",null,-9237]
[null,null,null,null,null,null,null,null,"Average",{"$f":"AVERAGE(J4:J31)","v":-52203.017701615747},{"$f":"AVERAGE(K4:K31)","v":-20.508328382777616},null,"Average",-52203.017701615747,-29099.205506153085,null,-9176]
[null,null,null,null,null,null,null,null,"Maximum",{"$f":"MAX(J4:J32)","v":-2229.1072881350597},{"$f":"MAX(K4:K32)","v":0},null,"Maximum",-2229.1072881350597,-1257.8785606003914,null,-8807]
[null,null,null,null,null,null,null,null,"Minimum",{"$f":"MIN(J4:J33)","v":-135140.43196159907},{"$f":"MIN(K4:K33)","v":-135.14043196159906},null,"Minimum",-135140.43196159907,-102497.56683573872,null,-7359]
[null,null,null,null,null,null,null,null,"Difference",{"$f":"(J33+ABS(J34))","v":132911.324673464},{"$f":"(K33+ABS(K34))","v":135.14043196159906},null,"Difference",132911.324673464,101239.68827513832,null,-6157]
[null,null,null,null,null,null,null,null,null,null,null,null,null,null,null,null,-6117]
[null,null,null,null,null,null,null,null,null,null,null,null,null,null,null,null,-4726]
["TABLE 2",0.71013999999999999,0.70265,1.14E-2,{"$f":"1+((C38-B38)/D38)","v":0.34298245614035117},48800000000,{"$f":"(0.693/F38)","v":1.4200819672131146E-11},{"$f":"(2.303/G38)","v":162173737373.7374},{"$f":"(LOG(E38))*(H38)","v":-75366691856.92131},{"$f":"(I38/1000000)","v":-75366.691856921316},{"$f":"(J38/1000)","v":-75.366691856921321},null,null,null,null,null,-3194]
[null,0.71013999999999999,0.70325000000000004,4.53E-2,0.84790286975717544,48800000000,1.4200819672131146E-11,162173737373.7374,-11620379924.829025,-11620.379924829025,-11.620379924829026,null,null,null,null,null,-2229]
[null,0.71013999999999999,0.70343,1.2999999999999999E-2,0.48384615384615426,48800000000,1.4200819672131146E-11,162173737373.7374,-51132196638.422615,-51132.196638422618,-51.13219663842262,null,null,null,null,null,-1258]
[null,0.71013999999999999,0.70413000000000003,4.9200000000000001E-2,0.87784552845528541,48800000000,1.4200819672131146E-11,162173737373.7374,-9176097983.1022091,-9176.0979831022087,-9.176097983102208]
[null,0.71013999999999999,0.70323999999999998,9.4000000000000004E-3,0.26595744680850886,48800000000,1.4200819672131146E-11,162173737373.7374,-93280362503.86496,-93280.362503864962,-93.280362503864964]
[null,0.71013999999999999,0.70313000000000003,4.0800000000000003E-3,-0.71813725490195113,48800000000,1.4200819672131146E-11,162173737373.7374,{"$error":"#NUM!"},null,0]
[null,0.71013999999999999,0.70486000000000004,1.03E-2,0.48737864077670379,48800000000,1.4200819672131146E-11,162173737373.7374,-50619857480.60302,-50619.857480603023,-50.619857480603024]
[null,0.71013999999999999,0.70662000000000003,7.9399999999999998E-2,0.95566750629722963,48800000000,1.4200819672131146E-11,162173737373.7374,-3193716635.5066266,-3193.7166355066265,-3.1937166355066267]
[null,0.71013999999999999,0.70457999999999998,1.2E-2,0.53666666666666596,48800000000,1.4200819672131146E-11,162173737373.7374,-43834811756.652328,-43834.811756652329,-43.834811756652329]
[null,0.71013999999999999,0.70667000000000002,2.1600000000000001E-2,0.83935185185185313,48800000000,1.4200819672131146E-11,162173737373.7374,-12334277183.476816,-12334.277183476815,-12.334277183476816]
[null,0.71013999999999999,0.70592999999999995,1.21E-2,0.65206611570247541,48800000000,1.4200819672131146E-11,162173737373.7374,-30117019955.321484,-30117.019955321484,-30.117019955321485]
[null,0.71013999999999999,0.70457999999999998,4.7300000000000002E-2,0.88245243128964046,48800000000,1.4200819672131146E-11,162173737373.7374,-8807444203.5725765,-8807.444203572577,-8.8074442035725777]
[null,0.71013999999999999,0.70301000000000002,9.2999999999999992E-3,0.2333333333333365,48800000000,1.4200819672131146E-11,162173737373.7374,-102497566835.73872,-102497.56683573872,-102.49756683573872]
[null,0.71013999999999999,0.70431999999999995,1.18E-2,0.50677966101694505,48800000000,1.4200819672131146E-11,162173737373.7374,-47870577318.491188,-47870.577318491189,-47.870577318491186]
[null,0.71013999999999999,0.70377000000000001,2.6800000000000001E-2,0.76231343283582143,48800000000,1.4200819672131146E-11,162173737373.7374,-19114839041.754879,-19114.83904175488,-19.11483904175488]
[null,0.71013999999999999,0.70362000000000002,5.0200000000000002E-2,0.8701195219123512,48800000000,1.4200819672131146E-11,162173737373.7374,-9798713567.6824226,-9798.7135676824219,-9.7987135676824213]
[null,0.71013999999999999,0.70630000000000004,5.8599999999999998E-3,0.34470989761092918,48800000000,1.4200819672131146E-11,162173737373.7374,-75012853514.687485,-75012.853514687478,-75.012853514687478]
[null,0.71013999999999999,0.70465999999999995,2.41E-2,0.77261410788381579,48800000000,1.4200819672131146E-11,162173737373.7374,-18169518358.303425,-18169.518358303423,-18.169518358303424]
[null,0.71013999999999999,0.70652999999999999,4.3400000000000001E-2,0.91682027649769582,48800000000,1.4200819672131146E-11,162173737373.7374,-6116510681.6784744,-6116.5106816784746,-6.1165106816784744]
[null,0.71013999999999999,0.70552000000000004,0.26100000000000001,0.98229885057471278,48800000000,1.4200819672131146E-11,162173737373.7374,-1257878560.6003914,-1257.8785606003914,-1.2578785606003915,null,null,null,null,null,0]
[null,0.71013999999999999,0.70452999999999999,1.5699999999999999E-2,0.64267515923566854,48800000000,1.4200819672131146E-11,162173737373.7374,-31138733810.039261,-31138.733810039263,-31.138733810039263,null,null,null,null,null,0]
[null,0.71013999999999999,0.70262999999999998,2.35E-2,0.68042553191489286,48800000000,1.4200819672131146E-11,162173737373.7374,-27118594820.2691,-27118.5948202691,-27.118594820269099]
[null,0.71013999999999999,0.70350999999999997,2.4299999999999999E-2,0.72716049382715942,48800000000,1.4200819672131146E-11,162173737373.7374,-22439935295.299328,-22439.935295299329,-22.439935295299328]
[null,0.71013999999999999,0.70333000000000001,4.2700000000000002E-2,0.84051522248243604,48800000000,1.4200819672131146E-11,162173737373.7374,-12236724756.26189,-12236.72475626189,-12.236724756261891]
[null,0.71013999999999999,0.70425000000000004,2.1600000000000001E-2,0.72731481481481708,48800000000,1.4200819672131146E-11,162173737373.7374,-22424989691.157822,-22424.989691157822,-22.424989691157823]
[null,0.71013999999999999,0.70216000000000001,3.3300000000000003E-2,0.76036036036036081,48800000000,1.4200819672131146E-11,162173737373.7374,-19295517575.265877,-19295.517575265876,-19.295517575265876]
[null,0.71013999999999999,0.70279000000000003,5.9799999999999999E-2,0.87709030100334506,48800000000,1.4200819672131146E-11,162173737373.7374,-9236717348.5845451,-9236.7173485845451,-9.2367173485845449]
[null,0.71013999999999999,0.70304999999999995,8.4699999999999998E-2,0.91629279811097941,48800000000,1.4200819672131146E-11,162173737373.7374,-6157043822.5918922,-6157.0438225918924,-6.1570438225918922]
[null,0.71013999999999999,0.70369999999999999,2.98E-2,0.78389261744966432,48800000000,1.4200819672131146E-11,162173737373.7374,-17148806538.074711,-17148.80653807471,-17.148806538074709]
[null,0.71013999999999999,0.70389000000000002,6.3E-2,0.90079365079365115,48800000000,1.4200819672131146E-11,162173737373.7374,-7358582019.6850529,-7358.5820196850527,-7.3585820196850529]
[null,null,null,null,null,null,null,null,"Average",{"$f":"AVERAGE(J38:J67)","v":-29099.205506153085},{"$f":"AVERAGE(K38:K67)","v":-28.129231989281315}]
[null,null,null,null,null,null,null,null,"Maximum",{"$f":"MAX(J38:J68)","v":-1257.8785606003914},{"$f":"MAX(K38:K68)","v":0}]
[null,null,null,null,null,null,null,null,"Minimum",{"$f":"MIN(J38:J69)","v":-102497.56683573872},{"$f":"MIN(K38:K69)","v":-102.49756683573872}]
[null,null,null,null,null,null,null,null,"Difference",{"$f":"(J69+ABS(J70))","v":101239.68827513832},{"$f":"(K69+ABS(K70))","v":102.49756683573872}]

{"sheet":"Rb-Sr _12","index":12,"n_rows":59,"n_cols":16,"rows_kept":59,"cut":false,"hidden":false,"merged":[]}
["Rubidium","TABLE 1.",null,null,null,null,null,null,null,null,"Rubidium_008.pdf"]
["Strontium","Initial","Today","Today","The Ratio","Half","Decay","2.303/Delta","Age","Age","Age","Model Age","Model Age","Model Age"]
["Dating","87Sr/86Sr","87Sr/86Sr","87Rb/86Sr","Plus One","Life","Constant","Constant","Years","Million Years","Billion Years","Million Years","% Difference"," Difference"]
["TABLE 1",0.70199999999999996,0.74572000000000005,47.2,{"$f":"1+((C4-B4)/D4)","v":1.0009262711864406},48800000000,{"$f":"(0.693/F4)","v":1.4200819672131146E-11},{"$f":"(2.303/G4)","v":162173737373.7374},{"$f":"(LOG(E4))*(H4)","v":65208157.883073688},{"$f":"(I4/1000000)","v":65.208157883073682},{"$f":"(J4/1000)","v":6.5208157883073686E-2}]
[null,0.70199999999999996,0.74309999999999998,41.6,1.0009879807692308,48800000000,1.4200819672131146E-11,162173737373.7374,69550279.379976496,69.550279379976502,6.9550279379976501E-2]
[null,0.70199999999999996,0.73831000000000002,36.9,1.0009840108401085,48800000000,1.4200819672131146E-11,162173737373.7374,69270948.089226946,69.270948089226948,6.9270948089226944E-2]
[null,0.70199999999999996,0.71213000000000004,10.3,1.0009834951456311,48800000000,1.4200819672131146E-11,162173737373.7374,69234662.825105473,69.234662825105474,6.9234662825105472E-2]
[null,0.70199999999999996,0.79790000000000005,106.3,1.0009021636876765,48800000000,1.4200819672131146E-11,162173737373.7374,63511789.647810772,63.511789647810772,6.3511789647810776E-2]
[null,0.70199999999999996,0.77051000000000003,73.8,1.0009283197831977,48800000000,1.4200819672131146E-11,162173737373.7374,65352309.256597847,65.352309256597849,6.5352309256597851E-2]
[null,0.70199999999999996,0.71350000000000002,12.7,1.0009055118110237,48800000000,1.4200819672131146E-11,162173737373.7374,63747388.91296269,63.747388912962691,6.3747388912962694E-2]
[null,0.70199999999999996,0.71296999999999999,14.79,1.0007417173766058,48800000000,1.4200819672131146E-11,162173737373.7374,52220650.58219742,52.220650582197422,5.2220650582197423E-2]
[null,0.70199999999999996,0.70355000000000001,6.6000000000000003E-2,1.0234848484848493,48800000000,1.4200819672131146E-11,162173737373.7374,1634941205.276268,1634.941205276268,1.634941205276268]
[null,0.70199999999999996,0.70311999999999997,6.4899999999999999E-2,1.0172573189522343,48800000000,1.4200819672131146E-11,162173737373.7374,1205084369.1220291,1205.0843691220291,1.2050843691220292]
[null,0.70199999999999996,0.70381000000000005,0.251,1.0072111553784864,48800000000,1.4200819672131146E-11,162173737373.7374,506067552.0915556,506.06755209155557,0.50606755209155552]
[null,0.70199999999999996,0.70431999999999995,0.20499999999999999,1.0113170731707317,48800000000,1.4200819672131146E-11,162173737373.7374,792598049.56360149,792.59804956360153,0.79259804956360158]
[null,0.70199999999999996,0.70506999999999997,0.59499999999999997,1.0051596638655462,48800000000,1.4200819672131146E-11,162173737373.7374,362466806.02416778,362.46680602416779,0.36246680602416781]
[null,0.70199999999999996,0.77025999999999994,70.400000000000006,1.0009696022727272,48800000000,1.4200819672131146E-11,162173737373.7374,68257126.293180853,68.257126293180846,6.8257126293180842E-2]
[null,0.70199999999999996,0.70498000000000005,1.1000000000000001,{"$f":"1+((C18-B18)/D18)","v":1.002709090909091},48800000000,{"$f":"(0.693/F18)","v":1.4200819672131146E-11},{"$f":"(2.303/G18)","v":162173737373.7374},{"$f":"(LOG(E18))*(H18)","v":190546425.82893831},{"$f":"(I18/1000000)","v":190.54642582893831},{"$f":"(J18/1000)","v":0.1905464258289383}]
[null,0.70199999999999996,0.70633000000000001,2.8010000000000002,1.0015458764726883,48800000000,1.4200819672131146E-11,162173737373.7374,108793802.78925522,108.79380278925521,0.10879380278925521,null,"Dating","87Rb/86Sr","87Rb/86Sr","Pb207/Pb206"]
[null,0.70199999999999996,0.72653999999999996,24.8,1.0009895161290323,48800000000,1.4200819672131146E-11,162173737373.7374,69658309.735818148,69.65830973581815,6.9658309735818144E-2,null,"Summary","Age","Age","Age"]
[null,null,null,null,null,null,null,null,"Average",{"$f":"AVERAGE(J4:J20)","v":320.97116666480969},{"$f":"AVERAGE(K4:K20)","v":0.32097116666480974},null,"Average",320.97116666480969,57.112607496883577,4982.2791810403369]
[null,null,null,null,null,null,null,null,"Maximum",{"$f":"MAX(J4:J21)","v":1634.941205276268},{"$f":"MAX(K4:K21)","v":1.634941205276268},null,"Maximum",1634.941205276268,140.94455217601953,5079.7269510430287]
[null,null,null,null,null,null,null,null,"Minimum",{"$f":"MIN(J4:J22)","v":52.220650582197422},{"$f":"MIN(K4:K22)","v":5.2220650582197423E-2},null,"Minimum",52.220650582197422,0,4931.9964421595805]
[null,null,null,null,null,null,null,null,"Difference",{"$f":"(J22+ABS(J23))","v":1687.1618558584653},{"$f":"(K22+ABS(K23))","v":1.6871618558584653},null,"Difference",1687.1618558584653,140.94455217601953,10011.72339320261]
[]
[]
["TABLE 2",0.70374999999999999,0.70374999999999999,1E-4,{"$f":"1+((C27-B27)/D27)","v":1},48800000000,{"$f":"(0.693/F27)","v":1.4200819672131146E-11},{"$f":"(2.303/G27)","v":162173737373.7374},{"$f":"(LOG(E27))*(H27)","v":0},{"$f":"(I27/1000000)","v":0},{"$f":"(J27/1000)","v":0}]
[null,0.70401000000000002,0.70401999999999998,1.24E-2,1.0008064516128996,48800000000,1.4200819672131146E-11,162173737373.7374,56776431.329953969,56.776431329953965,5.6776431329953962E-2]
[null,0.70398000000000005,0.70415000000000005,0.20399999999999999,1.0008333333333332,48800000000,1.4200819672131146E-11,162173737373.7374,58668191.023337618,58.66819102333762,5.8668191023337618E-2]
[null,0.70352999999999999,0.70413999999999999,0.71399999999999997,1.0008543417366946,48800000000,1.4200819672131146E-11,162173737373.7374,60146589.697854765,60.146589697854765,6.0146589697854767E-2]
[null,0.70362000000000002,0.70387999999999995,0.30399999999999999,1.0008552631578944,48800000000,1.4200819672131146E-11,162173737373.7374,60211431.034580745,60.211431034580748,6.0211431034580751E-2]
[null,0.70533999999999997,0.70535999999999999,2.0299999999999999E-2,1.0009852216748778,48800000000,1.4200819672131146E-11,162173737373.7374,69356144.699725151,69.356144699725149,6.9356144699725147E-2]
[null,0.70516999999999996,0.70516999999999996,1E-4,1,48800000000,1.4200819672131146E-11,162173737373.7374,0,0,0]
[null,0.70504999999999995,0.70506000000000002,1.2200000000000001E-2,1.0008196721311529,48800000000,1.4200819672131146E-11,162173737373.7374,57706811.299963631,57.706811299963633,5.7706811299963634E-2]
[null,0.70540000000000003,0.70557999999999998,0.20799999999999999,1.0008653846153843,48800000000,1.4200819672131146E-11,162173737373.7374,60923684.250456281,60.923684250456283,6.0923684250456286E-2]
[null,0.70598000000000005,0.70616000000000001,0.20899999999999999,1.0008612440191385,48800000000,1.4200819672131146E-11,162173737373.7374,60632308.805461973,60.632308805461975,6.0632308805461978E-2]
[null,0.70454000000000006,0.7097,6.056,1.0008520475561427,48800000000,1.4200819672131146E-11,162173737373.7374,59985145.64524921,59.985145645249212,5.9985145645249212E-2]
[null,0.70494999999999997,0.70874000000000004,1.8919999999999999,1.0020031712473574,48800000000,1.4200819672131146E-11,162173737373.7374,140944552.17601952,140.94455217601953,0.14094455217601953]
[null,null,null,null,null,null,null,null,"Average",{"$f":"AVERAGE(J27:J38)","v":57.112607496883577},{"$f":"AVERAGE(K27:K38)","v":5.7112607496883579E-2}]
[null,null,null,null,"Pb207/Pb206",null,null,null,"Maximum",{"$f":"MAX(J27:J39)","v":140.94455217601953},{"$f":"MAX(K27:K39)","v":0.14094455217601953}]
[null,"Pb206/Pb204","Pb207/Pb204","Pb207/Pb206","Age",null,null,null,"Minimum",{"$f":"MIN(J27:J40)","v":0},{"$f":"MIN(K27:K40)","v":0}]
["TABLE 3",19.03,15.61,{"$f":"(C42/B42)","v":0.82028376248029422},{"$f":"[1]!AgePb76($D$42)","v":4957.3692632961111},null,null,null,"Difference",{"$f":"(J40+ABS(J41))","v":140.94455217601953},{"$f":"(K40+ABS(K41))","v":0.14094455217601953}]
[null,19.010000000000002,15.6,{"$f":"(C43/B43)","v":0.82062072593371904},{"$f":"[1]!AgePb76($D$43)","v":4957.9532690290507}]
[null,18.670000000000002,15.6,0.83556507766470267,{"$f":"[1]!AgePb76($D$44)","v":4983.6007542656453}]
[null,19.3,15.62,0.80932642487046624,{"$f":"[1]!AgePb76($D$45)","v":4938.2383258345517}]
[null,18.82,15.63,0.83049946865037194,{"$f":"[1]!AgePb76($D$46)","v":4974.9621674116579}]
[null,18.98,15.64,0.82402528977871448,{"$f":"[1]!AgePb76($D$47)","v":4963.8396020352538},null,"Pb207/Pb206","Pb207/Pb206"]
[null,19.36,15.6,0.80578512396694213,{"$f":"[1]!AgePb76($D$48)","v":4931.9964421595805},null,"Age","Age"]
[null,18.62,16.649999999999999,0.89419978517722865,{"$f":"[1]!AgePb76($D$49)","v":5079.7269510430287},null,5079.7269510430287,4963.8396020352538]
[null,18.84,15.7,0.83333333333333326,{"$f":"[1]!AgePb76($D$50)","v":4979.8017487854022},null,5047.9466669552339,4957.9532690290507]
[null,19.100000000000001,16.7,0.87434554973821976,{"$f":"[1]!AgePb76($D$51)","v":5047.9466669552339},null,4989.6358006282007,4957.3692632961111]
[null,18.71,15.7,0.83912346338856214,{"$f":"[1]!AgePb76($D$52)","v":4989.6358006282007},null,4983.6007542656453,4938.2383258345517]
[null,null,null,"Average",{"$f":"AVERAGE(E41:E52)","v":4982.2791810403369},null,4979.8017487854022,4931.9964421595805]
[null,null,null,"Maximum",{"$f":"MAX(E41:E53)","v":5079.7269510430287},null,4974.9621674116579," "]
[null,null,null,"Minimum",{"$f":"MIN(E41:E54)","v":4931.9964421595805},null,4963.8396020352538]
[null,null,null,"Difference",{"$f":"(E54+ABS(E55))","v":10011.72339320261},null,4957.9532690290507]
[null,null,null,null,null,null,4957.3692632961111]
[null,null,null,null,null,null,4938.2383258345517]
[null,null,null,null,null,null,4931.9964421595805]

{"sheet":"Rb-Sr _13","index":13,"n_rows":23,"n_cols":14,"rows_kept":23,"cut":false,"hidden":false,"merged":[]}
["Rubidium","TABLE 1.",null,null,null,null,null,null,null,null,"Rubidium_009.pdf"]
["Strontium","Initial","Today","Today","The Ratio","Half","Decay","2.303/Delta","Age","Age","Age","Model Age","Model Age","Model Age"]
["Dating","87Sr/86Sr","87Sr/86Sr","87Rb/86Sr","Plus One","Life","Constant","Constant","Years","Million Years","Billion Years","Million Years","% Difference"," Difference"]
["TABLE 1",0.70789999999999997,0.70880500000000002,1.42,{"$f":"1+((C4-B4)/D4)","v":1.0006373239436619},48800000000,{"$f":"(0.693/F4)","v":1.4200819672131146E-11},{"$f":"(2.303/G4)","v":162173737373.7374},{"$f":"(LOG(E4))*(H4)","v":44873166.317296393},{"$f":"(I4/1000000)","v":44.873166317296395},{"$f":"(J4/1000)","v":4.4873166317296397E-2},65,5157.1609844805535]
[null,0.70789999999999997,0.71043900000000004,3.7559999999999998,1.0006759850905218,48800000000,1.4200819672131146E-11,162173737373.7374,47594328.845287479,47.594328845287478,4.7594328845287477E-2,null,4765.2770453720505]
[null,0.70789999999999997,0.70835099999999995,0.32,1.0014093749999999,48800000000,1.4200819672131146E-11,162173737373.7374,99194030.683779195,99.194030683779189,9.9194030683779189E-2,null,584.49430263859335]
[null,0.70789999999999997,0.71012299999999995,1.7749999999999999,1.0012523943661971,48800000000,1.4200819672131146E-11,162173737373.7374,88152397.782539651,88.152397782539651,8.8152397782539652E-2,null,293.27397077773901]
[null,0.70789999999999997,0.71449799999999997,2.375,1.0027781052631579,48800000000,1.4200819672131146E-11,162173737373.7374,195393887.30671912,195.39388730671914,0.19539388730671914,null,195.39388730671914]
[null,0.70789999999999997,0.71540899999999996,2.734,1.002746525237747,48800000000,1.4200819672131146E-11,162173737373.7374,193175796.57352558,193.17579657352559,0.1931757965735256,null,193.17579657352559]
[null,0.70789999999999997,0.712202,1.76,1.0024443181818181,48800000000,1.4200819672131146E-11,162173737373.7374,171946103.13669309,171.9461031366931,0.17194610313669309,null,171.9461031366931]
[null,0.70789999999999997,0.71319399999999999,2.226,1.0023782569631627,48800000000,1.4200819672131146E-11,162173737373.7374,167304527.09819275,167.30452709819275,0.16730452709819274,null,167.30452709819275]
[null,0.70789999999999997,0.70922300000000005,1.61,1.0008217391304348,48800000000,1.4200819672131146E-11,162173737373.7374,57852273.074265808,57.85227307426581,5.7852273074265811E-2,null,136.52506627341862]
[null,0.70789999999999997,0.70891300000000002,0.66600000000000004,1.001521021021021,48800000000,1.4200819672131146E-11,162173737373.7374,107045884.85709155,107.04588485709155,0.10704588485709154,null,107.04588485709155]
[null,0.70789999999999997,0.70786499999999997,9.2999999999999992E-3,0.99623655913978415,48800000000,1.4200819672131146E-11,162173737373.7374,-265563532.91647863,-265.56353291647861,-0.26556353291647861,null,99.194030683779189]
[null,0.70789999999999997,0.70795799999999998,1.3899999999999999E-2,{"$f":"1+((C15-B15)/D15)","v":1.0041726618705038},48800000000,{"$f":"(0.693/F15)","v":1.4200819672131146E-11},{"$f":"(2.303/G15)","v":162173737373.7374},{"$f":"(LOG(E15))*(H15)","v":293273970.77773899},{"$f":"(I15/1000000)","v":293.27397077773901},{"$f":"(J15/1000)","v":0.29327397077773903},null,88.152397782539651]
[null,0.70789999999999997,0.70791300000000001,6.7000000000000002E-3,1.0019402985074688,48800000000,1.4200819672131146E-11,162173737373.7374,136525066.27341861,136.52506627341862,0.13652506627341862,null,57.85227307426581]
[null,0.70789999999999997,0.70840899999999996,6.7000000000000002E-3,1.0759701492537286,48800000000,1.4200819672131146E-11,162173737373.7374,5157160984.4805536,5157.1609844805535,5.1571609844805533,null,47.594328845287478]
[null,0.70789999999999997,0.70796300000000001,8.9999999999999998E-4,1.0700000000000391,48800000000,1.4200819672131146E-11,162173737373.7374,4765277045.3720503,4765.2770453720505,4.7652770453720503,null,44.873166317296395]
[null,0.70789999999999997,0.70790500000000001,5.9999999999999995E-4,1.0083333333333879,48800000000,{"$f":"(0.693/F19)","v":1.4200819672131146E-11},{"$f":"(2.303/G19)","v":162173737373.7374},{"$f":"(LOG(E19))*(H19)","v":584494302.63859332},{"$f":"(I19/1000000)","v":584.49430263859335},{"$f":"(J19/1000)","v":0.58449430263859337},null,-265.56353291647861]
[null,null,null,null,null,null,null,null,"Average",{"$f":"AVERAGE(J4:J19)","v":740.23126451882922},{"$f":"AVERAGE(K4:K19)","v":0.74023126451882915},null,{"$f":"COUNT(M4:M19)","v":16}]
[null,null,null,null,null,null,null,null,"Maximum",{"$f":"MAX(J4:J20)","v":5157.1609844805535},{"$f":"MAX(K4:K20)","v":5.1571609844805533}]
[null,null,null,null,null,null,null,null,"Minimum",{"$f":"MIN(J4:J21)","v":-265.56353291647861},{"$f":"MIN(K4:K21)","v":-0.26556353291647861}]
[null,null,null,null,null,null,null,null,"Difference",{"$f":"(J21+ABS(J22))","v":5422.7245173970323},{"$f":"(K21+ABS(K22))","v":5.4227245173970315}]

{"sheet":"Rb-Sr _14","index":14,"n_rows":52,"n_cols":14,"rows_kept":52,"cut":false,"hidden":false,"merged":[]}
["Rubidium","TABLE 1.",null,null,null,null,null,null,null,null,"Rubidium_010.pdf"]
["Strontium","Initial","Today","Today","The Ratio","Half","Decay","2.303/Delta","Age","Age","Age","Model Age","Model Age","Model Age"]
["Dating","87Sr/86Sr","87Sr/86Sr","87Rb/86Sr","Plus One","Life","Constant","Constant","Years","Million Years","Billion Years","Million Years","% Difference"," Difference"]
["TABLE 1",0.70496000000000003,0.70498000000000005,1.52E-2,{"$f":"1+((C4-B4)/D4)","v":1.0013157894736855},48800000000,{"$f":"(0.693/F4)","v":1.4200819672131146E-11},{"$f":"(2.303/G4)","v":162173737373.7374},{"$f":"(LOG(E4))*(H4)","v":92611662.589378268},{"$f":"(I4/1000000)","v":92.61166258937827},{"$f":"(J4/1000)","v":9.2611662589378266E-2},65]
[null,0.70486000000000004,0.70499999999999996,0.14430000000000001,1.0009702009702004,48800000000,1.4200819672131146E-11,162173737373.7374,68299252.392084062,68.299252392084057,6.8299252392084051E-2]
[null,0.70472000000000001,0.70486000000000004,0.14510000000000001,1.0009648518263268,48800000000,1.4200819672131146E-11,162173737373.7374,67922870.147820458,67.922870147820461,6.7922870147820461E-2]
[null,0.70504999999999995,0.70511999999999997,7.4200000000000002E-2,1.0009433962264154,48800000000,1.4200819672131146E-11,162173737373.7374,66413167.816842675,66.413167816842673,6.6413167816842672E-2]
[null,0.70506999999999997,0.70511000000000001,4.2200000000000001E-2,1.0009478672985792,48800000000,1.4200819672131146E-11,162173737373.7374,66727773.111677803,66.727773111677806,6.672777311167781E-2]
[null,0.70460999999999996,0.70498000000000005,0.37640000000000001,1.0009829968119024,48800000000,1.4200819672131146E-11,162173737373.7374,69199599.079184532,69.199599079184537,6.9199599079184534E-2]
[null,0.70415000000000005,0.70423000000000002,7.7899999999999997E-2,1.0010269576379971,48800000000,1.4200819672131146E-11,162173737373.7374,72292702.524648368,72.292702524648362,7.2292702524648367E-2]
[null,0.70426,0.70443999999999996,0.18579999999999999,1.0009687836383205,48800000000,1.4200819672131146E-11,162173737373.7374,68199524.749923617,68.199524749923611,6.8199524749923607E-2]
[null,0.70413999999999999,0.70416999999999996,3.4099999999999998E-2,1.0008797653958936,48800000000,1.4200819672131146E-11,162173737373.7374,61935656.271187104,61.935656271187106,6.1935656271187106E-2]
[null,0.70391000000000004,0.70391000000000004,1.1000000000000001E-3,1,48800000000,1.4200819672131146E-11,162173737373.7374,0,0,0]
[null,0.70437000000000005,0.70455000000000001,0.17760000000000001,1.0010135135135132,48800000000,1.4200819672131146E-11,162173737373.7374,71346782.313569143,71.34678231356915,7.1346782313569154E-2]
[null,null,null,null,null,null,null,null,"Average",{"$f":"AVERAGE(J4:J14)","v":64.086271908756004},{"$f":"AVERAGE(K4:K14)","v":6.4086271908756015E-2}]
[null,null,null,null,null,null,null,null,"Maximum",{"$f":"MAX(J4:J15)","v":92.61166258937827},{"$f":"MAX(K4:K15)","v":9.2611662589378266E-2}]
["TABLE 2","Pb206/Pb204","Pb207/Pb204","Pb207/Pb206","Age",null,null,null,"Minimum",{"$f":"MIN(J4:J16)","v":0},{"$f":"MIN(K4:K16)","v":0}]
[null,17.648,15.472,{"$f":"(C18/B18)","v":0.87669990933816866},{"$f":"[1]!AgePb76($D$18)","v":5051.7550394830369},null,null,null,"Difference",{"$f":"(J16+ABS(J17))","v":92.61166258937827},{"$f":"(K16+ABS(K17))","v":9.2611662589378266E-2}]
[null,17.640999999999998,15.477,{"$f":"(C19/B19)","v":0.87733121705118766},{"$f":"[1]!AgePb76($D$19)","v":5052.7743872866977}]
[null,17.649999999999999,15.483000000000001,0.87722379603399447,{"$f":"[1]!AgePb76($D$20)","v":5052.6009937416256}]
[null,17.535,15.471,0.88229255774165949,{"$f":"[1]!AgePb76($D$21)","v":5060.7582810861395}]
[null,18.029,15.491,0.85922680126462925,{"$f":"[1]!AgePb76($D$22)","v":5023.2284763848565}]
[null,18.18,15.507999999999999,0.85302530253025299,{"$f":"[1]!AgePb76($D$23)","v":5012.955581745352}]
[null,18.07,15.494,0.85744327614831206,{"$f":"[1]!AgePb76($D$24)","v":5020.2821205657428}]
[null,18.315000000000001,15.523999999999999,0.84761124761124751,{"$f":"[1]!AgePb76($D$25)","v":5003.9220483242707}]
[null,18.16,15.507,0.85390969162995589,{"$f":"[1]!AgePb76($D$26)","v":5014.425427614342},null,"Summary","Pb207/Pb206","147Sm/144Nd","87Rb/86Sr"]
[null,null,null,"Average",{"$f":"AVERAGE(E16:E26)","v":5032.5224840257843},null,"Average",5032.5224840257843,70.07868764135722,64.086271908756004]
[null,null,null,"Maximum",{"$f":"MAX(E16:E27)","v":5060.7582810861395},null,"Maximum",5060.7582810861395,70.489244986065998,92.61166258937827]
[null,null,null,"Minimum",{"$f":"MIN(E16:E28)","v":5003.9220483242707},null,"Minimum",5003.9220483242707,69.468731524803246,0]
[null,null,null,"Difference",{"$f":"(E28-ABS(E29))","v":56.836232761868814},null,"Difference",56.836232761868814,139.95797651086923,92.61166258937827]
[]
[]
[]
[]
[]
["Neodymium",null,null,null,null,null,null,null,null,null,"Rubidium_010.pdf"]
["Samarium","Initial","Today","Today","The Ratio","Half","Decay","2.303/Delta","Age","Age","Age","Model Age","Model Age","Model Age"]
["Dating","143Nd/144Nd","143Nd/144Nd","147Sm/144Nd","Plus One","Life","Constant","Constant","Years","Million Years","Billion Years","Million Years","% Difference"," Difference"]
[null,0.51239800000000002,0.51246100000000006,0.13669999999999999,{"$f":"1+((C39-B39)/D39)","v":1.0004608632040968},106000000000,{"$f":"(0.693/F39)","v":6.5377358490566029E-12},{"$f":"(2.303/G39)","v":352262626262.62628},{"$f":"(LOG(E39))*(H39)","v":70489244.986065999},{"$f":"(I39/1000000)","v":70.489244986065998},{"$f":"(J39/1000)","v":7.0489244986065999E-2}]
[null,0.51240300000000005,0.51246599999999998,0.13689999999999999,{"$f":"1+((C40-B40)/D40)","v":1.0004601899196488},106000000000,6.5377358490566029E-12,{"$f":"(2.303/G40)","v":352262626262.62628},{"$f":"(LOG(E40))*(H40)","v":70386289.497289076},{"$f":"(I40/1000000)","v":70.38628949728907},{"$f":"(J40/1000)","v":7.0386289497289076E-2}]
[null,0.51239400000000002,0.51245600000000002,0.1356,1.0004572271386432,106000000000,6.5377358490566029E-12,352262626262.62628,69933234.147796318,69.933234147796313,6.9933234147796314E-2]
[null,0.51231700000000002,0.51237600000000005,0.1283,1.0004598597038195,106000000000,6.5377358490566029E-12,352262626262.62628,70335794.421596825,70.33579442159683,7.0335794421596834E-2]
[null,0.51232100000000003,0.51237900000000003,0.12770000000000001,1.0004541895066563,106000000000,6.5377358490566029E-12,352262626262.62628,69468731.524803251,69.468731524803246,6.9468731524803248E-2]
[null,0.51249900000000004,0.51255499999999998,0.1217,1.0004601479046833,106000000000,6.5377358490566029E-12,352262626262.62628,70379864.764222562,70.37986476422256,7.0379864764222561E-2]
[null,0.51262399999999997,0.51269900000000002,0.16370000000000001,{"$f":"1+((C45-B45)/D45)","v":1.0004581551618819},106000000000,{"$f":"(0.693/F45)","v":6.5377358490566029E-12},{"$f":"(2.303/G45)","v":352262626262.62628},{"$f":"(LOG(E45))*(H45)","v":70075143.49563621},{"$f":"(I45/1000000)","v":70.075143495636212},{"$f":"(J45/1000)","v":7.0075143495636205E-2}]
[null,0.51261699999999999,0.51268199999999997,0.14199999999999999,1.0004577464788731,106000000000,6.5377358490566029E-12,352262626262.62628,70012649.452625126,70.012649452625126,7.0012649452625128E-2]
[null,0.51261199999999996,0.51269399999999998,0.18,1.0004555555555557,106000000000,6.5377358490566029E-12,352262626262.62628,69677622.473319203,69.677622473319204,6.9677622473319198E-2]
[null,0.51250300000000004,0.51256599999999997,0.1376,1.0004578488372087,106000000000,6.5377358490566029E-12,352262626262.62628,70028301.650217563,70.028301650217557,7.0028301650217561E-2]
[null,null,null,null,null,null,null,null,"Average",{"$f":"AVERAGE(J38:J48)","v":70.07868764135722}]
[null,null,null,null,null,null,null,null,"Maximum",{"$f":"MAX(J38:J49)","v":70.489244986065998}]
[null,null,null,null,null,null,null,null,"Minimum",{"$f":"MIN(J38:J50)","v":69.468731524803246}]
[null,null,null,null,null,null,null,null,"Difference",{"$f":"(J50+ABS(J51))","v":139.95797651086923}]

{"sheet":"Rb-Sr _15","index":15,"n_rows":71,"n_cols":16,"rows_kept":71,"cut":false,"hidden":false,"merged":[]}
["Rubidium","TABLE 1.",null,null,null,null,null,null,null,null,"Rubidium_011.pdf",null,null,null,null,10870]
["Strontium","Initial","Today","Today","The Ratio","Half","Decay","2.303/Delta","Age","Age","Age","Model Age","Model Age","Model Age",null,7656]
["Dating","87Sr/86Sr","87Sr/86Sr","87Rb/86Sr","Plus One","Life","Constant","Constant","Years","Million Years","Billion Years","Million Years","% Difference"," Difference",null,5433]
["TABLE 1",0.70409999999999995,0.70428999999999997,0.1152,{"$f":"1+((C4-B4)/D4)","v":1.0016493055555558},48800000000,{"$f":"(0.693/F4)","v":1.4200819672131146E-11},{"$f":"(2.303/G4)","v":162173737373.7374},{"$f":"(LOG(E4))*(H4)","v":116066813.70546779},{"$f":"(I4/1000000)","v":116.06681370546779},{"$f":"(J4/1000)","v":0.1160668137054678},71,null,null,null,5017]
[null,0.70409999999999995,0.70420000000000005,8.3000000000000004E-2,1.0012048192771097,48800000000,1.4200819672131146E-11,162173737373.7374,84805740.831573814,84.805740831573814,8.4805740831573814E-2,null,null,null,null,5011]
[null,0.70989999999999998,0.71099999999999997,1.1359999999999999,1.0009683098591549,48800000000,1.4200819672131146E-11,162173737373.7374,68166188.222041667,68.166188222041669,6.8166188222041665E-2,null,null,null,null,5005]
[null,0.70450000000000002,0.70620000000000005,1.5229999999999999,1.0011162179908077,48800000000,1.4200819672131146E-11,162173737373.7374,78572683.101763368,78.572683101763374,7.857268310176338E-2,null,null,null,null,5003]
[null,0.70450000000000002,0.70467000000000002,0.1104,1.0015398550724639,48800000000,1.4200819672131146E-11,162173737373.7374,108370361.90358195,108.37036190358195,0.10837036190358196,null,null,null,null,5001]
[null,0.70440000000000003,0.70450000000000002,8.3000000000000004E-2,1.0012048192771084,48800000000,1.4200819672131146E-11,162173737373.7374,84805740.831480101,84.805740831480094,8.4805740831480098E-2,null,null,null,null,4997]
[null,0.70440000000000003,0.70445999999999998,8.3000000000000004E-2,1.0007228915662645,48800000000,1.4200819672131146E-11,162173737373.7374,50895697.205263101,50.895697205263097,5.0895697205263095E-2,null,null,null,null,4985]
[null,0.70409999999999995,0.70416000000000001,5.4600000000000003E-2,1.0010989010989022,48800000000,1.4200819672131146E-11,162173737373.7374,77354383.669365719,77.354383669365717,7.7354383669365714E-2,null,null,null,null,4933]
[null,0.70899999999999996,0.71016999999999997,1.113,1.0010512129380054,48800000000,1.4200819672131146E-11,162173737373.7374,73999258.165436625,73.999258165436629,7.3999258165436635E-2,null,null,null,null,4913]
[null,0.70399999999999996,0.70404,2.1899999999999999E-2,1.0018264840182667,48800000000,1.4200819672131146E-11,162173737373.7374,128524048.89694886,128.52404889694887,0.12852404889694888,null,null,null,null,4909]
[null,0.70430000000000004,0.70455000000000001,0.26100000000000001,{"$f":"1+((C14-B14)/D14)","v":1.0009578544061302},48800000000,{"$f":"(0.693/F14)","v":1.4200819672131146E-11},{"$f":"(2.303/G14)","v":162173737373.7374},{"$f":"(LOG(E14))*(H14)","v":67430507.066387326},{"$f":"(I14/1000000)","v":67.430507066387321},{"$f":"(J14/1000)","v":6.7430507066387327E-2}]
[null,0.70779999999999998,0.70828000000000002,0.42849999999999999,1.001120186697783,48800000000,1.4200819672131146E-11,162173737373.7374,78851891.523248732,78.851891523248739,7.8851891523248743E-2]
[null,0.70379999999999998,0.70394999999999996,0.2097,1.0007153075822603,48800000000,1.4200819672131146E-11,162173737373.7374,50361932.250259966,50.361932250259969,5.0361932250259971E-2]
[null,0.70420000000000005,0.70435000000000003,0.14030000000000001,1.0010691375623662,48800000000,1.4200819672131146E-11,162173737373.7374,75260373.235355332,75.260373235355331,7.5260373235355338E-2]
[null,0.70399999999999996,0.70404,2.81E-2,1.0014234875444854,48800000000,1.4200819672131146E-11,162173737373.7374,100186587.66314395,100.18658766314395,0.10018658766314395]
[null,0.70440000000000003,0.70447000000000004,3.3799999999999997E-2,1.0020710059171603,48800000000,1.4200819672131146E-11,162173737373.7374,145712513.84918672,145.71251384918671,0.14571251384918671]
[null,0.7046,0.70462999999999998,2.6100000000000002E-2,1.0011494252873554,48800000000,1.4200819672131146E-11,162173737373.7374,80908865.015996963,80.908865015996966,8.0908865015996964E-2]
[null,null,null,null,null,null,null,null,"Average",{"$f":"AVERAGE(J4:J20)","v":86.486681596264816},{"$f":"AVERAGE(K4:K20)","v":8.6486681596264839E-2}]
[null,null,null,null,null,null,null,null,"Maximum",{"$f":"MAX(J4:J21)","v":145.71251384918671},{"$f":"MAX(K4:K21)","v":0.14571251384918671}]
[null,null,null,null,null,null,null,null,"Minimum",{"$f":"MIN(J4:J22)","v":50.361932250259969},{"$f":"MIN(K4:K22)","v":5.0361932250259971E-2}]
[null,null,null,null,null,null,null,null,"Difference",{"$f":"(J22+ABS(J23))","v":196.07444609944667},{"$f":"(K22+ABS(K23))","v":0.19607444609944669}]
[]
[]
[null,null,null,null,null,"207Pb/206Pb ",null,null,"206Pb/238U"]
["TABLE 2","208 pb/ 204 pb ","207 pb/ 204 pb ","206 pb/ 204 pb ","207 pb/ 206 pb ","Age","238 u/ 204 pb ","206 pb / 238 u","Age"]
[null,38.527000000000001,15.592000000000001,18.385999999999999,{"$f":"(C29/D29)","v":0.84803654954856966},{"$f":"[1]!AgePb76($E$29)","v":5004.6338939607685},4.18,{"$f":"(D29/G29)","v":4.3985645933014359},{"$f":"[1]!AgePb6U8(H29)","v":10869.512342817661}]
[null,38.790999999999997,15.558,18.597999999999999,{"$f":"(C30/D30)","v":0.83654156360899024},{"$f":"[1]!AgePb76($E$30)","v":4985.2595958918482},8.16,{"$f":"(D30/G30)","v":2.2791666666666663},{"$f":"[1]!AgePb6U8(H30)","v":7655.6926676900048}]
[null,38.619,15.584,18.425999999999998,0.84576142407467714,{"$f":"[1]!AgePb76($E$31)","v":5000.8215014348134},13.93,1.3227566403445798,{"$f":"[1]!AgePb6U8(H31)","v":5432.7457686639282}]
[null,38.667000000000002,15.589,18.475999999999999,0.84374323446633481,{"$f":"[1]!AgePb76($E$32)","v":4997.4305235148931}]
[null,38.694000000000003,15.573,18.385000000000002,0.84704922491161272,{"$f":"[1]!AgePb76($E$33)","v":5002.9807852897484}]
[null,39.082999999999998,15.507,18.128,0.85541703442188877,{"$f":"[1]!AgePb76($E$34)","v":5016.9268946210641}]
[null,38.256,15.605,18.315000000000001,0.85203385203385196,{"$f":"[1]!AgePb76($E$35)","v":5011.3058756703304},20.399999999999999,0.89779411764705896,{"$f":"[1]!AgePb6U8(H35)","v":4130.1674197486946}]
[null,39.814999999999998,15.688000000000001,19.792000000000002,0.79264349232012932,{"$f":"[1]!AgePb76($E$36)","v":4908.5751997371226},49.22,0.40211296221048359,{"$f":"[1]!AgePb6U8(H36)","v":2178.7613702285748}]
[null,39.558,15.673999999999999,19.710999999999999,0.79519050276495362,{"$f":"[1]!AgePb76($E$37)","v":4913.1466559631572},81.819999999999993,0.24090686873625031,{"$f":"[1]!AgePb6U8(H37)","v":1391.4098827977355}]
[null,39.51,15.667999999999999,19.425000000000001,0.80658944658944653,{"$f":"[1]!AgePb76($E$38)","v":4933.41669598922},52.96,0.36678625377643503,{"$f":"[1]!AgePb6U8(H38)","v":2014.2606541644102}]
[null,null,null,null,"Average",{"$f":"AVERAGE(F29:F38)","v":4977.4497622072968},null,null,{"$f":"AVERAGE(I29:I38)","v":4810.3643008730014}]
[null,null,null,null,"Maximum",{"$f":"MAX(F29:F39)","v":5016.9268946210641},null,null,{"$f":"MAX(I29:I39)","v":10869.512342817661}]
[null,null,null,null,"Minimum",{"$f":"MIN(F29:F40)","v":4908.5751997371226},null,null,{"$f":"MIN(I29:I40)","v":1391.4098827977355}]
[null,null,null,null,"Difference",{"$f":"(F40-ABS(F41))","v":108.35169488394149},null,null,{"$f":"(I40-ABS(I41))","v":9478.1024600199253}]
[]
[]
[null,null,null,null,"Summary","207Pb/206Pb ","206Pb/238U","87Rb/86Sr","147Sm/144Nd"]
[null,null,null,null,"Average",4977.4497622072968,4810.3643008730014,86.486681596264816,72.316065645580267]
[null,null,null,null,"Maximum",5016.9268946210641,10869.512342817661,145.71251384918671,80.076272315935441,null,{"$f":"(5017/146)","v":34.363013698630134},{"$f":"(10870/80)","v":135.875}]
[null,null,null,null,"Minimum",4908.5751997371226,1391.4098827977355,50.361932250259969,62.981152026819061,null,null,{"$f":"(10870/147)","v":73.945578231292515}]
[null,null,null,null,"Difference",108.35169488394149,9478.1024600199253,196.07444609944667,17.09512028911638]
[]
[]
[]
[]
[]
["Neodymium",null,null,null,null,null,null,null,null,null,"Rubidium_010.pdf"]
["Samarium","Initial","Today","Today","The Ratio","Half","Decay","2.303/Delta","Age","Age","Age","Model Age","Model Age","Model Age"]
["Dating","143Nd/144Nd","143Nd/144Nd","147Sm/144Nd","Plus One","Life","Constant","Constant","Years","Million Years","Billion Years","Million Years","% Difference"," Difference"]
[null,0.51268999999999998,0.51273199999999997,8.5199999999999998E-2,{"$f":"1+((C58-B58)/D58)","v":1.0004929577464787},106000000000,{"$f":"(0.693/F58)","v":6.5377358490566029E-12},{"$f":"(2.303/G58)","v":352262626262.62628},{"$f":"(LOG(E58))*(H58)","v":75396910.97557801},{"$f":"(I58/1000000)","v":75.39691097557801},{"$f":"(J58/1000)","v":7.5396910975578005E-2}]
[null,0.51285000000000003,0.51288800000000001,8.5699999999999998E-2,{"$f":"1+((C59-B59)/D59)","v":1.000443407234539},106000000000,6.5377358490566029E-12,{"$f":"(2.303/G59)","v":352262626262.62628},{"$f":"(LOG(E59))*(H59)","v":67819937.893998176},{"$f":"(I59/1000000)","v":67.819937893998173},{"$f":"(J59/1000)","v":6.7819937893998178E-2}]
[null,0.51263999999999998,0.51268000000000002,7.6399999999999996E-2,1.0005235602094247,106000000000,6.5377358490566029E-12,352262626262.62628,80076272.315935448,80.076272315935441,8.0076272315935434E-2]
[null,0.51271999999999995,0.51275999999999999,0.08,1.0005000000000006,106000000000,{"$f":"(0.693/F61)","v":6.5377358490566029E-12},352262626262.62628,76473740.541066006,76.473740541066007,7.647374054106601E-2]
[null,0.51263999999999998,0.51267799999999997,7.5499999999999998E-2,1.000503311258278,106000000000,6.5377358490566029E-12,352262626262.62628,76980061.756515786,76.980061756515781,7.6980061756515783E-2]
[null,0.51271999999999995,0.51276699999999997,0.11020000000000001,1.0004264972776771,106000000000,6.5377358490566029E-12,352262626262.62628,65234080.781135075,65.234080781135077,6.5234080781135073E-2]
[null,0.51287000000000005,0.51292899999999997,0.12959999999999999,1.0004552469135797,106000000000,6.5377358490566029E-12,352262626262.62628,69630426.153279826,69.630426153279828,6.9630426153279829E-2]
[null,0.51290000000000002,0.51296699999999995,0.14449999999999999,1.0004636678200687,106000000000,6.5377358490566029E-12,352262626262.62628,70918112.914321929,70.918112914321924,7.0918112914321929E-2]
[null,0.51278000000000001,0.51281299999999996,6.5000000000000002E-2,1.0005076923076914,106000000000,6.5377358490566029E-12,352262626262.62628,77649961.097153425,77.649961097153422,7.7649961097153428E-2]
[null,0.51280000000000003,0.51282799999999995,6.8000000000000005E-2,1.0004117647058812,106000000000,6.5377358490566029E-12,352262626262.62628,62981152.026819058,62.981152026819061,6.2981152026819059E-2]
[null,null,null,null,null,null,null,null,"Average",{"$f":"AVERAGE(J58:J67)","v":72.316065645580267}]
[null,null,null,null,null,null,null,null,"Maximum",{"$f":"MAX(J58:J68)","v":80.076272315935441}]
[null,null,null,null,null,null,null,null,"Minimum",{"$f":"MIN(J58:J69)","v":62.981152026819061}]
[null,null,null,null,null,null,null,null,"Difference",{"$f":"(J69-ABS(J70))","v":17.09512028911638}]

{"sheet":"Rb-Sr _16","index":16,"n_rows":23,"n_cols":14,"rows_kept":23,"cut":false,"hidden":false,"merged":[]}
["Rubidium","TABLE 1.",null,null,null,null,null,null,null,null,"Rubidium_012.pdf"]
["Strontium","Initial","Today","Today","The Ratio","Half","Decay","2.303/Delta","Age","Age","Age","Model Age","Model Age","Model Age"]
["Dating","87Sr/86Sr","87Sr/86Sr","87Rb/86Sr","Plus One","Life","Constant","Constant","Years","Million Years","Billion Years","Million Years","% Difference"," Difference"]
["TABLE 1",0.72499999999999998,0.79991000000000001,1.667,{"$f":"1+((C4-B4)/D4)","v":1.0449370125974806},48800000000,{"$f":"(0.693/F4)","v":1.4200819672131146E-11},{"$f":"(2.303/G4)","v":162173737373.7374},{"$f":"(LOG(E4))*(H4)","v":3095914898.5989389},{"$f":"(I4/1000000)","v":3095.9148985989391},{"$f":"(J4/1000)","v":3.0959148985989389},3120,{"$f":"(L4/J4) * 100","v":100.77796393602294},{"$f":"(L4-J4)","v":24.085101401060911}]
[null,0.72499999999999998,0.83516999999999997,2.4700000000000002,1.0446032388663968,48800000000,1.4200819672131146E-11,162173737373.7374,3073414187.2666287,3073.4141872666287,3.0734141872666285,3120,{"$f":"(L5/J5) * 100","v":101.51576747860342},{"$f":"(L5-J5)","v":46.585812733371313}]
[null,0.73399999999999999,0.74361999999999995,0.25900000000000001,1.0371428571428569,48800000000,1.4200819672131146E-11,162173737373.7374,2568601824.5176454,2568.6018245176456,2.5686018245176454,2460,95.771947855793499,{"$f":"(J6-L6)","v":108.60182451764558}]
[null,0.73399999999999999,0.83196000000000003,2.74,1.0357518248175182,48800000000,1.4200819672131146E-11,162173737373.7374,2474075040.5106144,2474.0750405106146,2.4740750405106144,2460,99.431098884223417,{"$f":"(J7-L7)","v":14.075040510614599}]
[null,0.70599999999999996,0.77115999999999996,1.494,1.0436144578313253,48800000000,1.4200819672131146E-11,162173737373.7374,3006715202.9027658,3006.7152029027657,3.0067152029027655,3060,101.77219302465998,{"$f":"(L8-J8)","v":53.284797097234332}]
[null,0.70599999999999996,0.73648000000000002,0.68899999999999995,1.0442380261248188,48800000000,1.4200819672131146E-11,162173737373.7374,3048785837.1322246,3048.7858371322245,3.0487858371322245,3060,100.36782389668682,{"$f":"(L9-J9)","v":11.214162867775485}]
[null,0.70599999999999996,0.76422000000000001,1.486,1.0391790040376852,48800000000,1.4200819672131146E-11,162173737373.7374,2706738627.7369633,2706.7386277369633,2.7067386277369634,3060,113.05118154531195,{"$f":"(L10-J10)","v":353.26137226303672}]
[null,0.70599999999999996,0.70884000000000003,5.6000000000000001E-2,1.0507142857142868,48800000000,1.4200819672131146E-11,162173737373.7374,3484243886.4020371,3484.2438864020373,3.4842438864020373,2300,66.011452555781545,1184.2438864020373]
[null,0.70599999999999996,0.70565,2.5000000000000001E-2,0.98600000000000154,48800000000,1.4200819672131146E-11,162173737373.7374,-993003588.24095833,-993.00358824095838,-0.99300358824095836,2300,-231.62051247713023,{"$f":"(L12-J12)","v":3293.0035882409584}]
[null,0.70599999999999996,0.70533999999999997,1.0999999999999999E-2,0.9400000000000005,48800000000,1.4200819672131146E-11,162173737373.7374,-4357956412.9910545,-4357.9564129910541,-4.3579564129910544,2300,-52.777030838209107,6657.9564129910541]
[null,0.70599999999999996,0.70601000000000003,3.1E-2,1.0003225806451634,48800000000,1.4200819672131146E-11,162173737373.7374,22716065.106292181,22.716065106292181,2.271606510629218E-2,2300,10124.992991690789,2277.2839348937077]
[null,0.70599999999999996,0.70540000000000003,2E-3,0.70000000000003304,48800000000,1.4200819672131146E-11,162173737373.7374,-25121029777.401768,-25121.029777401767,-25.121029777401766,2300,-9.1556756246872517,27421.029777401767]
[null,0.70599999999999996,0.70653999999999995,0.04,1.0134999999999996,48800000000,1.4200819672131146E-11,162173737373.7374,944459794.25898957,944.45979425898952,0.94445979425898952,2300,243.5254538076498,1355.5402057410106]
[null,0.70599999999999996,0.70655999999999997,2.9000000000000001E-2,1.0193103448275864,48800000000,1.4200819672131146E-11,162173737373.7374,1347085093.1110067,1347.0850931110067,1.3470850931110068,2300,170.73902842234691,952.9149068889933]
[null,0.70599999999999996,0.70579000000000003,1.4E-2,0.98500000000000487,48800000000,1.4200819672131146E-11,162173737373.7374,-1064471031.4617137,-1064.4710314617137,-1.0644710314617136,2300,-216.06975972297516,3364.4710314617137]
[null,0.70599999999999996,0.70577999999999996,2E-3,0.89000000000000101,48800000000,1.4200819672131146E-11,162173737373.7374,-8207611770.8544292,-8207.6117708544298,-8.2076117708544292,2300,-28.02276794045493,10507.61177085443]
[null,null," "," ",null,null,null,null,"Average",{"$f":"AVERAGE(J4:J19)","v":-873.20763271286353},{"$f":"AVERAGE(K4:K19)","v":-0.8732076327128635}]
[null,null,null,null,null,null,null,null,"Maximum",{"$f":"MAX(J4:J20)","v":3484.2438864020373},{"$f":"MAX(K4:K20)","v":3.4842438864020373}]
[null,null,null,null,null,null,null,null,"Minimum",{"$f":"MIN(J4:J21)","v":-25121.029777401767},{"$f":"MIN(K4:K21)","v":-25.121029777401766}]
[null,null,null,null,null,null,null,null,"Difference",{"$f":"(J21+ABS(J22))","v":28605.273663803804},{"$f":"(K21+ABS(K22))","v":28.605273663803803}]

{"sheet":"Rb-Sr _17","index":17,"n_rows":70,"n_cols":16,"rows_kept":70,"cut":false,"hidden":false,"merged":[]}
["Rubidium","TABLE 1.",null,null,null,null,null,null,null,null,"Rubidium_013.pdf",null,null,null,null,205093]
["Strontium","Initial","Today","Today","The Ratio","Half","Decay","2.303/Delta","Age","Age","Age","Model Age","Model Age","Model Age",null,189521]
["Dating","87Sr/86Sr","87Sr/86Sr","87Rb/86Sr","Plus One","Life","Constant","Constant","Years","Million Years","Billion Years","Million Years","% Difference"," Difference",null,188777]
["TABLE 1",0.67800000000000005,0.70579000000000003,2.5000000000000001E-2,{"$f":"1+((C4-B4)/D4)","v":2.1115999999999993},48800000000,{"$f":"(0.693/F4)","v":1.4200819672131146E-11},{"$f":"(2.303/G4)","v":162173737373.7374},{"$f":"(LOG(E4))*(H4)","v":52643485015.419067},{"$f":"(I4/1000000)","v":52643.485015419064},{"$f":"(J4/1000)","v":52.643485015419067},2500,{"$f":"(J4/L4) * 100","v":2105.7394006167629},{"$f":"(J4-L4)","v":50143.485015419064},null,95450]
[null,0.67800000000000005,0.70235000000000003,1.4E-3,18.392857142857132,48800000000,1.4200819672131146E-11,162173737373.7374,205092886857.54071,205092.8868575407,205.09288685754069,2500,{"$f":"(J5/L5) * 100","v":8203.7154743016272},202592.8868575407,null,52643]
[null,0.67800000000000005,0.70382,1.9E-3,14.589473684210502,48800000000,1.4200819672131146E-11,162173737373.7374,188776656435.25568,188776.65643525569,188.77665643525569,2500,7551.0662574102271,{"$f":"(J6-L6)","v":186276.65643525569},null,13119]
[null,0.67800000000000005,0.70245999999999997,8.5000000000000006E-3,3.8776470588235203,48800000000,1.4200819672131146E-11,162173737373.7374,95450317231.112198,95450.317231112203,95.450317231112209,2500,3818.0126892444882,92950.317231112203,null,12220]
[null,0.67800000000000005,0.71362000000000003,0.188,1.189468085106383,48800000000,1.4200819672131146E-11,162173737373.7374,12220244204.067568,12220.244204067569,12.220244204067569,2500,488.80976816270277,9720.2442040675687,null,11974]
[null,0.67800000000000005,0.70274000000000003,1.8E-3,14.744444444444436,48800000000,1.4200819672131146E-11,162173737373.7374,189520837406.29126,189520.83740629125,189.52083740629124,2500,7580.8334962516501,187020.83740629125,null,11908]
[null,0.67800000000000005,0.72550000000000003,0.23200000000000001,1.2047413793103448,48800000000,1.4200819672131146E-11,162173737373.7374,13118854308.822018,13118.854308822018,13.118854308822018,2500,524.75417235288069,10618.854308822018,null,9960]
[null,0.67800000000000005,0.73358999999999996,0.40300000000000002,1.1379404466501239,48800000000,1.4200819672131146E-11,162173737373.7374,9101114591.7103367,9101.1145917103368,9.1011145917103367,2500,364.04458366841345,6601.1145917103368,null,9101]
[null,0.67800000000000005,0.71525000000000005,0.20100000000000001,1.1853233830845771,48800000000,1.4200819672131146E-11,162173737373.7374,11974398226.892155,11974.398226892155,11.974398226892156,2500,478.97592907568622,9474.3982268921554,null,7124]
[null,0.67800000000000005,0.71794999999999998,0.26300000000000001,1.1519011406844104,48800000000,1.4200819672131146E-11,162173737373.7374,9959933868.537096,9959.9338685370967,9.9599338685370959,2500,398.39735474148387,7459.9338685370967,null,6022]
[null,0.67800000000000005,0.81728000000000001,1.99,1.0699899497487437,48800000000,1.4200819672131146E-11,162173737373.7374,4764615499.4151745,4764.6154994151748,4.764615499415175,2500,190.58461997660697,2264.6154994151748,null,5362]
[null,0.67800000000000005,0.73138000000000003,0.59799999999999998,1.0892642140468227,48800000000,1.4200819672131146E-11,162173737373.7374,6022035638.3140888,6022.0356383140888,6.0220356383140885,2500,240.88142553256353,3522.0356383140888,null,5352]
[null,0.67800000000000005,0.83011000000000001,2.0299999999999998,1.0749310344827587,48800000000,1.4200819672131146E-11,162173737373.7374,5089109449.4669056,5089.109449466906,5.089109449466906,2500,203.56437797867625,2589.109449466906,null,5314]
[null,0.67800000000000005,0.72092000000000001,0.23300000000000001,1.1842060085836907,48800000000,1.4200819672131146E-11,162173737373.7374,11907973233.368113,11907.973233368113,11.907973233368113,2500,476.31892933472449,9407.9732333681131,null,5314]
[null,0.67800000000000005,0.73877999999999999,0.57099999999999995,1.1064448336252188,48800000000,1.4200819672131146E-11,162173737373.7374,7124254213.9757843,7124.2542139757843,7.1242542139757843,2500,284.97016855903138,4624.2542139757843,null,5311]
[null,0.67800000000000005,0.80600000000000005,2.9,{"$f":"1+((C19-B19)/D19)","v":1.0441379310344827},48800000000,{"$f":"(0.693/F19)","v":1.4200819672131146E-11},{"$f":"(2.303/G19)","v":162173737373.7374},{"$f":"(LOG(E19))*(H19)","v":3042034358.0904026},{"$f":"(I19/1000000)","v":3042.0343580904027},{"$f":"(J19/1000)","v":3.0420343580904028},2500,121.68137432361613,542.03435809040275,null,5306]
[null,0.67800000000000005,0.89259999999999995,4.96,1.043266129032258,48800000000,1.4200819672131146E-11,162173737373.7374,2983203362.7897301,2983.2033627897299,2.9832033627897299,2500,119.32813451158918,483.20336278972991,null,5306]
[null,0.67800000000000005,0.83452000000000004,3.75,1.0417386666666666,48800000000,1.4200819672131146E-11,162173737373.7374,2880008430.4913521,2880.0084304913521,2.880008430491352,2500,115.20033721965407,380.0084304913521,null,5259]
[null,0.67800000000000005,0.70889999999999997,0.54200000000000004,1.0570110701107009,48800000000,1.4200819672131146E-11,162173737373.7374,3905068300.5138254,3905.0683005138253,3.9050683005138254,2500,156.20273202055301,1405.0683005138253,null,5238]
[null,0.67800000000000005,0.71111999999999997,1.6,1.0206999999999999,48800000000,1.4200819672131146E-11,162173737373.7374,1443040527.9837289,1443.0405279837289,1.4430405279837288,2500,57.721621119349152,{"$f":"(L23-J23)","v":1056.9594720162711},null,5228]
[null,0.67800000000000005,0.71387,0.60399999999999998,1.0593874172185429,48800000000,1.4200819672131146E-11,162173737373.7374,4063232231.2918496,4063.2322312918495,4.0632322312918498,2500,162.52928925167399,1563.2322312918495,null,5197]
[null,null,null,null,null,null,null,null,"Average",{"$f":"AVERAGE(J4:J24)","v":40051.585875778517},null,null,null,null,null,5179]
[null,null,null,null,null,null,null,null,"Maximum",{"$f":"MAX(J4:J25)","v":205092.8868575407},null,null,null,null,null,5161]
["TABLE 3","Pb206/Pb204","Pb207/Pb204","Pb207/Pb206","Age",null,null,null,"Minimum",{"$f":"MIN(J4:J26)","v":1443.0405279837289},null,null,null,null,null,5156]
[null,17.75,15.55,{"$f":"(C28/B28)","v":0.87605633802816907},{"$f":"[1]!AgePb76($D$28)","v":5050.7150881293583},null,null,null,"Difference",{"$f":"(J26-J27)","v":203649.84632955695},null,null,null,null,null,5125]
[null,16.73,15.45,{"$f":"(C29/B29)","v":0.92349073520621627},{"$f":"[1]!AgePb76($D$29)","v":5125.2716026908411},null,null,null,null,null,null,null,null,null,null,5089]
[null,14.18,14.98,1.0564174894217209,{"$f":"[1]!AgePb76($D$30)","v":5314.37314816447},null,null,null,null,null,null,null,null,null,null,5051]
[null,14.8,14.81,1.0006756756756756,{"$f":"[1]!AgePb76($D$31)","v":5238.3215019288627},null,null,null,null,null,null,null,null,null,null,5050]
[null,16.23,15.32,0.94393099199014174,{"$f":"[1]!AgePb76($D$32)","v":5156.1566291749195},null,null,null,null,null,null,null,null,null,null,5050]
[null,14.95,15.18,1.0153846153846153,{"$f":"[1]!AgePb76($D$33)","v":5258.8163647221372},null,null,null,null,"Age","Age",null,null,null,null,5002]
[null,17.809999999999999,15.6,0.87591240875912413,{"$f":"[1]!AgePb76($D$34)","v":5050.482400905672},null,null,null,null,"Million Years","Million Years",null,null,null,null,5002]
[null,17.809999999999999,15.6,0.87591240875912413,{"$f":"[1]!AgePb76($D$35)","v":5050.482400905672},null,null,null,null,205092.8868575407,11974.398226892155,null,null,null,null,5001]
[null,16.09,15.64,0.97203231821006841,{"$f":"[1]!AgePb76($D$36)","v":5197.4808734695498},null,null,null,null,189520.83740629125,11907.973233368113]
[null,14.11,14.82,1.0503189227498229,{"$f":"[1]!AgePb76($D$37)","v":5306.2615748459393},null,null,null,null,188776.65643525569,9959.9338685370967]
[null,13.43,14.68,1.0930752047654504,{"$f":"[1]!AgePb76($D$38)","v":5362.1128886255301},null,null,null,null,95450.317231112203,9101.1145917103368]
[null,13.56,14.72,1.0855457227138643,{"$f":"[1]!AgePb76($D$39)","v":5352.4463783746314},null,null,null,null,52643.485015419064,7124.2542139757843]
[null,19.02,15.75,0.82807570977917988,{"$f":"[1]!AgePb76($D$40)","v":4970.8090055772882},null,null,null,null,13118.854308822018,6022.0356383140888]
[null,16.36,15.5,0.94743276283618583,{"$f":"[1]!AgePb76($D$41)","v":5161.376651090517},null,null,null,null,12220.244204067569,5089.109449466906]
[null,24.65,16.87,0.6843813387423936,{"$f":"[1]!AgePb76($D$42)","v":4698.2685582330405}]
[null,18.760000000000002,15.88,0.84648187633262262,{"$f":"[1]!AgePb76($D$43)","v":5002.0299295264113}]
[null,null,null,"Average",{"$f":"AVERAGE(E28:E43)","v":5143.4628122728027},5138.1024256112878]
[null,null,null,"Maximum",{"$f":"MAX(E28:E44)","v":5362.1128886255301},5314.37314816447]
[null,null,null,"Minimum",{"$f":"MIN(E28:E45)","v":4698.2685582330405},4940.0279807606466]
[null,null,null,"Difference",{"$f":"(E45-E46)","v":663.84433039248961},374.34516740382333]
[]
[]
["TABLE 4","Pb206/Pb204","Pb207/Pb204","Pb207/Pb206","Age"]
[null,14.18,14.98,1.0564174894217209,{"$f":"[1]!AgePb76($D$51)","v":5314.37314816447}]
[null,15.9,15.25,0.95911949685534592,{"$f":"[1]!AgePb76($D$52)","v":5178.6511778743861}]
[null,14.13,14.89,1.05378627034678,{"$f":"[1]!AgePb76($D$53)","v":5310.8794978497008}]
[null,14.11,14.82,1.0503189227498229,{"$f":"[1]!AgePb76($D$54)","v":5306.2615748459393}]
[null,15.28,15.18,0.99345549738219896,{"$f":"[1]!AgePb76($D$55)","v":5228.1443707267199}]
[null,17.399999999999999,14.1,0.81034482758620696,{"$f":"[1]!AgePb76($D$56)","v":4940.0279807606466}]
[null,18.760000000000002,15.88,0.84648187633262262,{"$f":"[1]!AgePb76($D$57)","v":5002.0299295264113}]
[null,20.05,16.5,0.82294264339152112,{"$f":"[1]!AgePb76($D$58)","v":4961.9705647610353}]
[null,18.72,15.83,0.84561965811965822,{"$f":"[1]!AgePb76($D$59)","v":5000.5835859922727}]
[null,null,null,"Average",{"$f":"AVERAGE(E51:E59)","v":5138.1024256112878}]
[null,null,null,"Maximum",{"$f":"MAX(E51:E60)","v":5314.37314816447}]
[null,null,null,"Minimum",{"$f":"MIN(E51:E61)","v":4940.0279807606466}]
[null,null,null,"Difference",{"$f":"(E61-E62)","v":374.34516740382333}]
[]
[]
[null,null,null,"Summary","Pb207/Pb206","Pb207/Pb206","87Rb/86Sr"]
[null,null,null,"Average",5143.4628122728027,5138.1024256112878,40051.585875778517]
[null,null,null,"Maximum",5362.1128886255301,5314.37314816447,205092.8868575407]
[null,null,null,"Minimum",4698.2685582330405,4940.0279807606466,1443.0405279837289]
[null,null,null,"Difference",663.84433039248961,374.34516740382333,203649.84632955695]

{"sheet":"Rb-Sr _18","index":18,"n_rows":26,"n_cols":14,"rows_kept":26,"cut":false,"hidden":false,"merged":[]}
["Rubidium","TABLE 1.",null,null,null,null,null,null,null,null,"Rubidium_014.pdf"]
["Strontium","Initial","Today","Today","The Ratio","Half","Decay","2.303/Delta","Age","Age","Age","Model Age","Model Age","Model Age"]
["Dating","87Sr/86Sr","87Sr/86Sr","87Rb/86Sr","Plus One","Life","Constant","Constant","Years","Million Years","Billion Years","Million Years","% Difference"," Difference"]
["TABLE 1",0.70469999999999999,6.4000000000000005E-4,2.5000000000000001E-2,{"$f":"1+((C4-B4)/D4)","v":-27.162399999999998},48800000000,{"$f":"(0.693/F4)","v":1.4200819672131146E-11},{"$f":"(2.303/G4)","v":162173737373.7374},{"$f":"(LOG(E4))*(H4)","v":{"$error":"#NUM!"}},null,{"$f":"(J4/1000)","v":0},2500,{"$f":"(J4/L4) * 100","v":0},{"$f":"(J4-L4)","v":-2500}]
[null,0.70469999999999999,4.0000000000000002E-4,1.4E-3,-502.07142857142861,48800000000,1.4200819672131146E-11,162173737373.7374,0,null,0,2500,{"$f":"(J5/L5) * 100","v":0},-2500]
[null,0.70469999999999999,6.0000000000000002E-5,1.9E-3,-369.86315789473684,48800000000,1.4200819672131146E-11,162173737373.7374,0,null,0,2500,0,{"$f":"(J6-L6)","v":-2500}]
[null,0.70469999999999999,1.4E-3,8.5000000000000006E-3,-81.741176470588229,48800000000,1.4200819672131146E-11,162173737373.7374,0,null,0,2500,0,-2500]
[null,0.70469999999999999,2.9E-4,0.188,-2.7468617021276596,48800000000,1.4200819672131146E-11,162173737373.7374,0,null,0,2500,0,-2500]
[null,0.70469999999999999,1.9000000000000001E-4,1.8E-3,-390.39444444444445,48800000000,1.4200819672131146E-11,162173737373.7374,0,null,0,2500,0,-2500]
[null,0.70469999999999999,4.5000000000000003E-5,0.23200000000000001,-2.0373060344827585,48800000000,1.4200819672131146E-11,162173737373.7374,0,null,0,2500,0,-2500]
[null,0.70469999999999999,7.6000000000000004E-4,0.40300000000000002,-0.74674937965260546,48800000000,1.4200819672131146E-11,162173737373.7374,0,null,0,2500,0,-2500]
[null,0.70469999999999999,2.64E-2,0.20100000000000001,-2.3746268656716416,48800000000,1.4200819672131146E-11,162173737373.7374,0,null,0,2500,0,-2500]
[null,0.70469999999999999,3.61,0.26300000000000001,12.046768060836502,48800000000,1.4200819672131146E-11,162173737373.7374,{"$f":"(LOG(E13))*(H13)","v":175288816524.52222},{"$f":"(I13/1000000)","v":175288.8165245222},175.28881652452222,2500,7011.5526609808885,172788.8165245222]
[null,0.70469999999999999,1E-3,1.99,0.64638190954773878,48800000000,1.4200819672131146E-11,162173737373.7374,-30733675806.884174,-30733.675806884174,-30.733675806884175,2500,-1229.3470322753669,-33233.675806884174]
[null,0.70469999999999999,3.8699999999999998E-2,0.59799999999999998,-0.11371237458193995,48800000000,1.4200819672131146E-11,162173737373.7374,0,null,0,2500,0,-2500]
[null,0.70469999999999999,0.2064,2.0299999999999998,0.75453201970443351,48800000000,1.4200819672131146E-11,162173737373.7374,-19837468699.64344,-19837.468699643439,-19.837468699643438,2500,-793.49874798573751,-22337.468699643439]
[null,0.70469999999999999,0.16120000000000001,0.23300000000000001,-1.3326180257510729,48800000000,1.4200819672131146E-11,162173737373.7374,0,null,0,2500,0,-2500]
[null,null,null,null,null,null,null,null,"Average",{"$f":"AVERAGE(J4:J17)","v":41572.557339331521}]
[null,"TABLE 5","Sm-Nd ","Rb-Sr",null,null,null,null,"Maximum",{"$f":"MAX(J4:J18)","v":175288.8165245222}]
[null,"Sample","Age","Age",null,null,null,null,"Minimum",{"$f":"MIN(J4:J19)","v":-30733.675806884174}]
[null,"Ib/K1",2090,2210,{"$f":"(D21 * 1000)","v":2210000},null,null,null,"Difference",{"$f":"(J19+ABS(J20))","v":206022.49233140639}]
[null,"Ib/8",2900,1790,{"$f":"(D22 * 1000)","v":1790000}]
[null,"D1",1450,1660,1660000]
[null,"Ib/5 ",1100,1430,1430000]
[null,"D45",1630,530,530000]
[null,"D58",3200,1930,1930000]

{"sheet":"Rb-Sr _19","index":19,"n_rows":63,"n_cols":14,"rows_kept":63,"cut":false,"hidden":false,"merged":[]}
["Rubidium","TABLE 1.",null,null,null,null,null,null,null,null,"Rubidium_015.pdf"]
["Strontium","Initial","Today","Today","The Ratio","Half","Decay","2.303/Delta","Age","Age","Age","Model Age","Model Age","Model Age"]
["Dating","87Sr/86Sr","87Sr/86Sr","87Rb/86Sr","Plus One","Life","Constant","Constant","Years","Million Years","Billion Years","Million Years","% Difference"," Difference"]
["TABLE 2",0.70320000000000005,0.70452999999999999,3.3000000000000002E-2,{"$f":"1+((C4-B4)/D4)","v":1.0403030303030285},48800000000,{"$f":"(0.693/F4)","v":1.4200819672131146E-11},{"$f":"(2.303/G4)","v":162173737373.7374},{"$f":"(LOG(E4))*(H4)","v":2782879204.380125},{"$f":"(I4/1000000)","v":2782.879204380125},{"$f":"(J4/1000)","v":2.7828792043801251},1500,{"$f":"(J4/L4) * 100","v":185.52528029200832},{"$f":"(J4-L4)","v":1282.879204380125}]
[null,0.70320000000000005,0.70464000000000004,2.9000000000000001E-2,1.049655172413793,48800000000,1.4200819672131146E-11,162173737373.7374,3413213922.063458,3413.2139220634581,3.4132139220634583,1500,{"$f":"(J5/L5) * 100","v":227.54759480423053},1913.2139220634581]
[null,0.70320000000000005,0.70462999999999998,2.3E-2,1.0621739130434753,48800000000,1.4200819672131146E-11,162173737373.7374,4248243374.9721694,4248.2433749721695,4.2482433749721693,1500,283.21622499814464,{"$f":"(J6-L6)","v":2748.2433749721695}]
[null,0.70320000000000005,0.70482,0.03,1.0539999999999985,48800000000,1.4200819672131146E-11,162173737373.7374,3704147229.7456489,3704.1472297456489,3.704147229745649,1500,246.94314864970991,2204.1472297456489]
[null,0.70320000000000005,0.70365999999999995,4.1000000000000002E-2,1.0112195121951197,48800000000,1.4200819672131146E-11,162173737373.7374,785803282.37366652,785.80328237366655,0.78580328237366659,1500,52.386885491577772,-714.19671762633345]
[null,0.70320000000000005,0.70355999999999996,1.7999999999999999E-2,1.0199999999999954,48800000000,1.4200819672131146E-11,162173737373.7374,1394721996.6859303,1394.7219966859302,1.3947219966859301,1500,92.981466445728671,-105.27800331406979]
[null,0.70320000000000005,0.70411999999999997,5.8000000000000003E-2,1.0158620689655158,48800000000,1.4200819672131146E-11,162173737373.7374,1108416077.0184741,1108.4160770184742,1.1084160770184741,1500,73.894405134564948,-391.5839229815258]
[null,0.70320000000000005,0.70382999999999996,4.2000000000000003E-2,1.0149999999999979,48800000000,1.4200819672131146E-11,162173737373.7374,1048622237.5742502,1048.6222375742502,1.0486222375742502,1500,69.908149171616685,-451.37776242574978]
[null,0.70320000000000005,0.70521,0.1,1.0200999999999996,48800000000,1.4200819672131146E-11,162173737373.7374,1401626673.8400319,1401.6266738400318,1.4016266738400318,1500,93.441778256002124,-98.373326159968201]
[null,0.70320000000000005,0.70384000000000002,2.5999999999999999E-2,1.0246153846153836,48800000000,1.4200819672131146E-11,162173737373.7374,1712696167.7033935,1712.6961677033935,1.7126961677033934,1500,114.17974451355957,212.69616770339348]
[null,0.70320000000000005,0.70545999999999998,1.1830000000000001,1.0019103972950125,48800000000,1.4200819672131146E-11,162173737373.7374,134423136.16368061,134.42313616368062,0.13442313616368062,1500,8.9615424109120418,-1365.5768638363193]
[null,0.70320000000000005,0.70552999999999999,0.90300000000000002,1.002580287929125,48800000000,1.4200819672131146E-11,162173737373.7374,181498611.28186858,181.49861128186859,0.18149861128186859,1500,12.09990741879124,-1318.5013887181315]
[null,0.70320000000000005,0.70550999999999997,1.034,1.0022340425531915,48800000000,1.4200819672131146E-11,162173737373.7374,157170709.10759774,157.17070910759773,0.15717070910759773,1500,10.478047273839849,-1342.8292908924022]
[null,0.70320000000000005,0.70553999999999994,1.2999999999999999E-2,1.1799999999999922,48800000000,1.4200819672131146E-11,162173737373.7374,11657373774.760183,11657.373774760183,11.657373774760183,1500,777.15825165067884,10157.373774760183]
[null,0.70320000000000005,0.70504999999999995,0.70299999999999996,{"$f":"1+((C18-B18)/D18)","v":1.0026315789473683},48800000000,{"$f":"(0.693/F18)","v":1.4200819672131146E-11},{"$f":"(2.303/G18)","v":162173737373.7374},{"$f":"(LOG(E18))*(H18)","v":185101707.72719058},{"$f":"(I18/1000000)","v":185.10170772719059},{"$f":"(J18/1000)","v":0.18510170772719059},1500,{"$f":"(J18/L18) * 100","v":12.340113848479373},{"$f":"(J18-L18)","v":-1314.8982922728094}]
[null,0.70320000000000005,0.70352999999999999,2.5999999999999999E-2,1.0126923076923053,48800000000,1.4200819672131146E-11,162173737373.7374,888308452.30962336,888.30845230962336,0.88830845230962341,1500,59.220563487308219,-611.69154769037664]
[null,0.70320000000000005,0.70338000000000001,2.5000000000000001E-2,1.0071999999999983,48800000000,1.4200819672131146E-11,162173737373.7374,505287486.67471313,505.28748667471314,0.50528748667471313,1500,33.685832444980875,-994.71251332528686]
[null,0.70320000000000005,0.70833999999999997,0.33600000000000002,1.0152976190476188,48800000000,1.4200819672131146E-11,162173737373.7374,1069271086.7800229,1069.2710867800229,1.0692710867800228,1500,71.284739118668199,-430.72891321997713]
[null,0.70320000000000005,0.70830000000000004,0.33,1.0154545454545454,48800000000,1.4200819672131146E-11,162173737373.7374,1080156224.7817314,1080.1562247817315,1.0801562247817313,1500,72.010414985448762,-419.84377521826855]
[null,0.70320000000000005,0.70709,0.20699999999999999,1.0187922705314008,48800000000,1.4200819672131146E-11,162173737373.7374,1311278678.0959339,1311.2786780959339,1.3112786780959338,1500,87.418578539728912,-188.72132190406614]
[null,0.70320000000000005,0.70704,0.218,1.0176146788990823,48800000000,1.4200819672131146E-11,162173737373.7374,1229822313.9281194,1229.8223139281195,1.2298223139281195,1500,81.988154261874641,-270.17768607188054]
[null,null,null,null,null,null,null,null,"Average",{"$f":"AVERAGE(J4:J24)","v":1904.7648737127536}]
[null,null,null,null,null,null,null,null,"Maximum",{"$f":"MAX(J4:J25)","v":11657.373774760183}]
[null,null,null,null,null,null,null,null,"Minimum",{"$f":"MIN(J4:J26)","v":134.42313616368062}]
[null,null,null,null,null,null,null,null,"Difference",{"$f":"(J26-J27)","v":11522.950638596501}]
[]
[]
["TABLE 3",0.70320000000000005,0.70448,1.4E-3,{"$f":"1+((C31-B31)/D31)","v":1.9142857142856771},48800000000,{"$f":"(0.693/F31)","v":1.4200819672131146E-11},{"$f":"(2.303/G31)","v":162173737373.7374},{"$f":"(LOG(E31))*(H31)","v":45734089966.359879},{"$f":"(I31/1000000)","v":45734.089966359876},{"$f":"(J31/1000)","v":45.734089966359875},1500,{"$f":"(J31/L31) * 100","v":3048.9393310906585},{"$f":"(J31-L31)","v":44234.089966359876}]
[null,0.70320000000000005,0.70443999999999996,1.6999999999999999E-3,1.7294117647058282,48800000000,1.4200819672131146E-11,162173737373.7374,38580874108.28875,38580.87410828875,38.580874108288747,1500,2572.0582738859166,37080.87410828875]
[null,0.70320000000000005,0.70464000000000004,1.6000000000000001E-3,1.8999999999999981,48800000000,1.4200819672131146E-11,162173737373.7374,45206513272.907608,45206.513272907607,45.206513272907607,1500,3013.767551527174,43706.513272907607]
[null,0.70320000000000005,0.7046,1.1999999999999999E-3,2.1666666666666305,48800000000,1.4200819672131146E-11,162173737373.7374,54456660149.466003,54456.660149466006,54.456660149466003,1500,3630.4440099644003,52956.660149466006]
[null,0.70320000000000005,0.70501000000000003,1.1999999999999999E-3,2.5083333333333151,48800000000,1.4200819672131146E-11,162173737373.7374,64769798570.852501,64769.798570852501,64.769798570852501,1500,4317.9865713901672,63269.798570852501]
[null,0.70320000000000005,0.70706000000000002,8.6E-3,1.4488372093023227,48800000000,1.4200819672131146E-11,162173737373.7374,26113148875.766762,26113.148875766761,26.113148875766761,1500,1740.8765917177841,24613.148875766761]
[null,0.70320000000000005,0.70721000000000001,1.9000000000000001E-4,22.105263157894516,48800000000,1.4200819672131146E-11,162173737373.7374,218041890840.18634,218041.89084018633,218.04189084018634,1500,14536.126056012421,216541.89084018633]
[null,0.70320000000000005,0.70494000000000001,2.9380999999999999,1.0005922194615569,48800000000,1.4200819672131146E-11,162173737373.7374,41698357.13752754,41.698357137527537,4.1698357137527536E-2,1500,2.7798904758351695,-1458.3016428624724]
[null,0.70320000000000005,0.70530000000000004,1.15E-2,1.1826086956521731,48800000000,1.4200819672131146E-11,162173737373.7374,11812908234.547527,11812.908234547527,11.812908234547526,1500,787.52721563650186,10312.908234547527]
[null,0.70320000000000005,0.70506000000000002,1.9E-3,1.9789473684210384,48800000000,1.4200819672131146E-11,162173737373.7374,48073849230.956314,48073.849230956315,48.073849230956313,1500,3204.9232820637544,46573.849230956315]
[null,0.70320000000000005,0.70774999999999999,1.6400000000000001E-2,1.2774390243902405,48800000000,1.4200819672131146E-11,162173737373.7374,17245584302.714104,17245.584302714105,17.245584302714107,1500,1149.7056201809403,15745.584302714105]
[null,0.70320000000000005,0.70247999999999999,3.5999999999999999E-3,0.79999999999998495,48800000000,1.4200819672131146E-11,162173737373.7374,-15716258998.455341,-15716.258998455341,-15.716258998455341,1500,-1047.7505998970228,-17216.258998455341]
[null,0.70320000000000005,0.70313999999999999,7.7700000000000005E-2,0.99922779922779847,48800000000,1.4200819672131146E-11,162173737373.7374,-54408005.21716582,-54.408005217165822,-5.4408005217165822E-2,1500,-3.6272003478110548,-1554.4080052171657]
[null,null,null,null,null,null,null,null,"Average",{"$f":"AVERAGE(J31:J43)","v":42638.949915808516}]
[null,null,null,null,null,null,null,null,"Maximum",{"$f":"MAX(J31:J44)","v":218041.89084018633}]
[null,null,null,null,null,null,null,null,"Minimum",{"$f":"MIN(J31:J45)","v":-15716.258998455341}]
[null,null,null,null,null,null,null,null,"Difference",{"$f":"(J45+ABS(J46))","v":233758.14983864166}]
[null,null,null,"Average",1904.7648737127536,42638.949915808516]
[null,null,null,"Maximum",11657.373774760183,218041.89084018633]
[null,null,null,"Minimum",134.42313616368062,-15716.258998455341,null,null,null,null,"Age","Age"]
[null,null,null,"Difference",11522.950638596501,233758.14983864166,null,null,null,null,218041.89084018633,45206.513272907607]
[null,null,null,null,null,null,null,null,null,null,64769.798570852501,38580.87410828875]
[null,null,null,null,null,null,null,null,null,null,54456.660149466006,26113.148875766761]
[null,null,null,null,null,null,null,null,null,null,48073.849230956315,17245.584302714105]
[null,null,null,null,null,null,null,null,null,null,45734.089966359876,11812.908234547527]
[]
[]
[null,null,null,null,null,{"$f":"(281/4.5)","v":62.444444444444443}]
[]
[]
[null,null,null,null,null,null,null,null,null,null,41.698357137527537]
[null,null,null,null,null,null,null,null,null,null,-54.408005217165822]
[null,null,null,null,null,null,null,null,null,null,-15716.258998455341]

{"sheet":"Rb-Sr _20","index":20,"n_rows":16,"n_cols":8,"rows_kept":16,"cut":false,"hidden":false,"merged":[]}
[null,"Pb206/Pb204","Pb207/Pb204","Pb207/Pb204","Age",null,"Age","Age"]
["TABLE 2",19.327000000000002,15.586,{"$f":"(C2/B2)","v":0.80643659129714906},{"$f":"[1]!AgePb76($D$2)","v":4933.1469037263832},null,4933.1469037263832,4928.0373307784594]
[null,18.917000000000002,15.554,{"$f":"(C3/B3)","v":0.82222339694454716},{"$f":"[1]!AgePb76($D$3)","v":4960.7274407938294},null,4960.7274407938294,4955.5338385843434]
[null,19.033000000000001,15.558999999999999,0.81747491199495603,{"$f":"[1]!AgePb76($D$4)","v":4952.4911764822382},null,4952.4911764822382,4947.0589737699629]
[null,19.041,15.565,0.8174465626805314,{"$f":"[1]!AgePb76($D$5)","v":4952.4418518688199},null,4952.4418518688199,4957.2268144838235]
[null,19.225000000000001,15.596,0.81123537061118334,{"$f":"[1]!AgePb76($D$6)","v":4941.5909863043071},null,4941.5909863043071,4927.2077475907508]
[null,18.664999999999999,15.529,0.83198499866059472,{"$f":"[1]!AgePb76($D$7)","v":4977.5012917671884},null,4977.5012917671884,4951.7942513489897]
[null,19.202999999999999,15.56,0.81029005884497218,{"$f":"[1]!AgePb76($D$8)","v":4939.9317956849254},null,4939.9317956849254,4954.1097096445692]
[null,19.137,15.589,0.81459998954904111,{"$f":"[1]!AgePb76($D$9)","v":4947.4798516818173},null,4947.4798516818173]
[null,19.393999999999998,15.584,0.80354748891409722,{"$f":"[1]!AgePb76($D$10)","v":4928.0373307784594},null,4928.0373307784594]
[null,18.984999999999999,15.553000000000001,0.81922570450355547,{"$f":"[1]!AgePb76($D$11)","v":4955.5338385843434},null,4955.5338385843434]
[null,19.096,15.551,0.81435902806870553,{"$f":"[1]!AgePb76($D$12)","v":4947.0589737699629},null,4947.0589737699629]
[null,18.949000000000002,15.542,0.82020159375164914,{"$f":"[1]!AgePb76($D$13)","v":4957.2268144838235},null,4957.2268144838235]
[null,19.419,15.595000000000001,0.80307945826252636,{"$f":"[1]!AgePb76($D$14)","v":4927.2077475907508},null,4927.2077475907508]
[null,19.045999999999999,15.561999999999999,0.81707445132836287,{"$f":"[1]!AgePb76($D$15)","v":4951.7942513489897},null,4951.7942513489897]
[null,19.081,15.616,0.81840574393375609,{"$f":"[1]!AgePb76($D$16)","v":4954.1097096445692},null,4954.1097096445692]

{"sheet":"Rb-Sr _21","index":21,"n_rows":87,"n_cols":14,"rows_kept":87,"cut":false,"hidden":false,"merged":[]}
["Rubidium","TABLE 1.",null,null,null,null,null,null,null,null," Rubidium_017.pdf"]
["Strontium","Initial","Today","Today","The Ratio","Half","Decay","2.303/Delta","Age","Age","Age","Model Age","Model Age","Model Age"]
["Dating","87Sr/86Sr","87Sr/86Sr","87Rb/86Sr","Plus One","Life","Constant","Constant","Years","Million Years","Billion Years","Million Years","% Difference"," Difference"]
["TABLE 3",0.70420000000000005,0.70420000000000005,1.3999999999999999E-4,{"$f":"1+((C4-B4)/D4)","v":1},48800000000,{"$f":"(0.693/F4)","v":1.4200819672131146E-11},{"$f":"(2.303/G4)","v":162173737373.7374},{"$f":"(LOG(E4))*(H4)","v":0},{"$f":"(I4/1000000)","v":0},{"$f":"(J4/1000)","v":0},1500,{"$f":"(J4/L4) * 100","v":0},{"$f":"(J4-L4)","v":-1500}]
[null,0.70455000000000001,0.70455000000000001,3.9399999999999999E-3,1,48800000000,1.4200819672131146E-11,162173737373.7374,0,0,0,1500,{"$f":"(J5/L5) * 100","v":0},-1500]
[null,0.70935000000000004,0.70935999999999999,6.4000000000000005E-4,1.0156249999999289,48800000000,1.4200819672131146E-11,162173737373.7374,1091977830.9674919,1091.9778309674919,1.0919778309674919,1500,72.798522064499466,-408.02216903250815]
[null,0.70901000000000003,0.70923999999999998,4.0410000000000001E-2,1.0056916604800781,48800000000,1.4200819672131146E-11,162173737373.7374,399733747.34366065,399.73374734366064,0.39973374734366063,1500,26.648916489577374,-1100.2662526563395]
[null,0.71001999999999998,0.71001999999999998,2.3000000000000001E-4,1,48800000000,1.4200819672131146E-11,162173737373.7374,0,0,0,1500,0,-1500]
[null,0.70864000000000005,0.70874000000000004,5.9720000000000002E-2,1.0016744809109175,48800000000,1.4200819672131146E-11,162173737373.7374,117837001.30545063,117.83700130545063,0.11783700130545063,1500,7.8558000870300422,-1382.1629986945493]
[null,0.70831999999999995,0.70857000000000003,4.5130000000000003E-2,1.0055395524041677,48800000000,1.4200819672131146E-11,162173737373.7374,389080424.0761928,389.0804240761928,0.38908042407619281,1500,25.938694938412855,-1110.9195759238073]
[null,0.70998000000000006,0.71026999999999996,5.1110000000000003E-2,1.0056740363920935,48800000000,1.4200819672131146E-11,162173737373.7374,398499476.56987059,398.49947656987058,0.39849947656987056,1500,26.566631771324705,-1101.5005234301293]
[null,0.71006000000000002,0.71031999999999995,4.6530000000000002E-2,1.0055877928218337,48800000000,1.4200819672131146E-11,162173737373.7374,392459253.9127925,392.45925391279252,0.39245925391279252,1500,26.163950260852836,-1107.5407460872075]
[null,null,null,null,null,null,null,null,"Average",{"$f":"AVERAGE(J4:J12)","v":309.95419268616217}]
[null,null,null,null,null,null,null,null,"Maximum",{"$f":"MAX(J4:J13)","v":1091.9778309674919}]
[null,null,null,null,null,null,null,null,"Minimum",{"$f":"MIN(J4:J14)","v":0}]
[null," "," "," ",null,null,null,null,"Difference",{"$f":"(J14+ABS(J15))","v":1091.9778309674919}]
[]
[null,null,null,null,null,null,null,null,null,null," Rubidium_017.pdf"]
["TABLE 1",0.70420000000000005,0.70420000000000005,1E-4,{"$f":"1+((C19-B19)/D19)","v":1},48800000000,{"$f":"(0.693/F19)","v":1.4200819672131146E-11},{"$f":"(2.303/G19)","v":162173737373.7374},{"$f":"(LOG(E19))*(H19)","v":0},{"$f":"(I19/1000000)","v":0},{"$f":"(J19/1000)","v":0},1500,{"$f":"(J19/L19) * 100","v":0},{"$f":"(J19-L19)","v":-1500}]
[null,0.70374000000000003,0.70374999999999999,3.3999999999999998E-3,1.0029411764705749,48800000000,1.4200819672131146E-11,162173737373.7374,206846431.34790146,206.84643134790147,0.20684643134790148,1500,13.789762089860098,-1293.1535686520986]
[null,0.70935999999999999,0.70935999999999999,5.0000000000000001E-4,1,48800000000,1.4200819672131146E-11,162173737373.7374,0,0,0,1500,0,-1500]
[null,0.70906000000000002,0.70906999999999998,5.7999999999999996E-3,1.0017241379310267,48800000000,1.4200819672131146E-11,162173737373.7374,121328469.71225145,121.32846971225146,0.12132846971225146,1500,8.0885646474834303,-1378.6715302877485]
[null,0.71001999999999998,0.71001999999999998,2.0000000000000001E-4,1,48800000000,1.4200819672131146E-11,162173737373.7374,0,0,0,1500,0,-1500]
[null,0.71097999999999995,0.71106000000000003,4.3400000000000001E-2,1.001843317972352,48800000000,1.4200819672131146E-11,162173737373.7374,129707512.25988491,129.70751225988491,0.12970751225988492,1500,8.6471674839923267,-1370.2924877401151]
[null,0.70613999999999999,0.70616999999999996,1.52E-2,1.0019736842105247,48800000000,1.4200819672131146E-11,162173737373.7374,138871867.37280062,138.87186737280061,0.13887186737280061,1500,9.2581244915200411,-1361.1281326271994]
[null,0.70994999999999997,0.70998000000000006,1.78E-2,1.0016853932584318,48800000000,1.4200819672131146E-11,162173737373.7374,118604281.60840315,118.60428160840314,0.11860428160840314,1500,7.9069521072268767,-1381.3957183915968]
[null,0.71023999999999998,0.71031999999999995,4.4999999999999998E-2,1.001777777777777,48800000000,1.4200819672131146E-11,162173737373.7374,125099782.89139569,125.09978289139569,0.1250997828913957,1500,8.3399855260930469,-1374.9002171086042]
[null,0.70630999999999999,0.70711000000000002,0.46899999999999997,1.0017057569296375,48800000000,1.4200819672131146E-11,162173737373.7374,120036090.8380097,120.0360908380097,0.1200360908380097,1500,8.0024060558673131,-1379.9639091619904]
[null,0.70823999999999998,0.70935000000000004,0.64870000000000005,1.0017111145367659,48800000000,1.4200819672131146E-11,162173737373.7374,120412789.75298752,120.41278975298752,0.12041278975298753,1500,8.0275193168658348,-1379.5872102470125]
[null,0.70579999999999998,0.70757999999999999,1.0450999999999999,1.001703186297962,48800000000,1.4200819672131146E-11,162173737373.7374,119855346.34295611,119.85534634295611,0.11985534634295611,1500,7.9903564228637407,-1380.1446536570438]
[null,0.70952999999999999,0.71018000000000003,0.37530000000000002,1.0017319477751134,48800000000,1.4200819672131146E-11,162173737373.7374,121877577.2035794,121.87757720357939,0.12187757720357939,1500,8.1251718135719582,-1378.1224227964206]
[null,0.70972000000000002,0.71038999999999997,0.39550000000000002,1.0016940581542351,48800000000,1.4200819672131146E-11,162173737373.7374,119213530.80060208,119.21353080060207,0.11921353080060207,1500,7.9475687200401381,-1380.786469199398]
[null,null,null,null,null,null,null,null,"Average",{"$f":"AVERAGE(J19:J32)","v":102.98954858076944}]
[null,null,null,null,null,null,null,null,"Maximum",{"$f":"MAX(J19:J33)","v":206.84643134790147}]
[null,null,null,null,null,null,null,null,"Minimum",{"$f":"MIN(J19:J34)","v":0}]
[null,null,null,null,null,null,null,null,"Difference",{"$f":"(J34+ABS(J35))","v":206.84643134790147}]
[]
[null,null,null,null,null,null,"Summary","87Rb/86Sr","87Rb/86Sr","147Sm/144Nd","147Sm/144Nd"]
[null,null,null,null,null,null,"Average",309.95419268616217,102.98954858076944,120.43929211206321,159.11623770978946]
[null,null,null,null,null,null,"Maximum",1091.9778309674919,206.84643134790147,123.09685880440755,400.29963030007394]
[null,null,null,null,null,null,"Minimum",0,0,119.84964558078725,118.82136782030177]
[null,null,null,null,null,null,"Difference",1091.9778309674919,206.84643134790147,3.2472132236202924,281.47826247977218]
[]
[]
["Neodymium",null,null,null,null,null,null,null,null,null," Rubidium_017.pdf"]
["Samarium","Initial","Today","Today","The Ratio","Half","Decay","2.303/Delta","Age","Age","Age"]
["Dating","143Nd/144Nd","143Nd/144Nd","147Sm/144Nd","Plus One","Life","Constant","Constant","Years","Million Years","Billion Years"]
[null,0.51156199999999996,0.51159399999999999,4.02E-2,{"$f":"1+((C48-B48)/D48)","v":1.0007960199004984},106000000000,{"$f":"(0.693/F48)","v":6.5377358490566029E-12},{"$f":"(2.303/G48)","v":352262626262.62628},{"$f":"(LOG(E48))*(H48)","v":121731229.63087361},{"$f":"(I48/1000000)","v":121.7312296308736},{"$f":"(J48/1000)","v":0.1217312296308736}]
[null,0.51153899999999997,0.51156500000000005,3.2300000000000002E-2,{"$f":"1+((C49-B49)/D49)","v":1.000804953560374},106000000000,6.5377358490566029E-12,{"$f":"(2.303/G49)","v":352262626262.62628},{"$f":"(LOG(E49))*(H49)","v":123096858.80440755},{"$f":"(I49/1000000)","v":123.09685880440755},{"$f":"(J49/1000)","v":0.12309685880440754}]
[null,0.51852100000000001,0.518733,0.26960000000000001,1.0007863501483678,106000000000,6.5377358490566029E-12,352262626262.62628,120253065.19111933,120.25306519111933,0.12025306519111933]
[null,0.51571,0.51583299999999999,0.156,1.0007884615384615,106000000000,6.5377358490566029E-12,352262626262.62628,120575823.57191272,120.57582357191272,0.12057582357191272]
[null,0.52387700000000004,0.52427400000000002,0.50570000000000004,{"$f":"1+((C52-B52)/D52)","v":1.0007850504251532},106000000000,{"$f":"(0.693/F52)","v":6.5377358490566029E-12},{"$f":"(2.303/G52)","v":352262626262.62628},{"$f":"(LOG(E52))*(H52)","v":120054382.21140765},{"$f":"(I52/1000000)","v":120.05438221140764},{"$f":"(J52/1000)","v":0.12005438221140764}]
[null,0.51404399999999995,0.51412100000000005,9.7600000000000006E-2,1.0007889344262306,106000000000,6.5377358490566029E-12,352262626262.62628,120648111.63183582,120.64811163183582,0.12064811163183582]
[null,0.51644100000000004,0.51652500000000001,0.10680000000000001,1.0007865168539323,106000000000,6.5377358490566029E-12,352262626262.62628,120278548.71995361,120.2785487199536,0.12027854871995361]
[null,0.51463099999999995,0.51475599999999999,0.15920000000000001,1.0007851758793973,106000000000,6.5377358490566029E-12,352262626262.62628,120073559.86198676,120.07355986198675,0.12007355986198676]
[null,0.51549199999999995,0.51557500000000001,0.10539999999999999,1.0007874762808355,106000000000,6.5377358490566029E-12,352262626262.62628,120425211.90708993,120.42521190708993,0.12042521190708994]
[null,0.51180400000000004,0.51200800000000002,0.26029999999999998,1.0007837111025739,106000000000,6.5377358490566029E-12,352262626262.62628,119849645.58078726,119.84964558078725,0.11984964558078726]
[null,0.51186200000000004,0.51205199999999995,0.24179999999999999,1.0007857733664183,106000000000,6.5377358490566029E-12,352262626262.62628,120164895.09944244,120.16489509944243,0.12016489509944243]
[null,0.51800500000000005,0.51892300000000002,1.1697,1.000784816619646,106000000000,6.5377358490566029E-12,352262626262.62628,120018641.36296585,120.01864136296585,0.12001864136296585]
[null,0.51486399999999999,0.51533899999999999,0.60509999999999997,1.000784994215832,106000000000,6.5377358490566029E-12,352262626262.62628,120045789.73351464,120.04578973351464,0.12004578973351464]
[null,0.52360099999999998,0.52542800000000001,2.3273000000000001,1.0007850298629313,106000000000,6.5377358490566029E-12,352262626262.62628,120051238.95277345,120.05123895277345,0.12005123895277345]
[null,0.51470700000000003,0.51492800000000005,0.28100000000000003,1.0007864768683274,106000000000,6.5377358490566029E-12,352262626262.62628,120272436.30101703,120.27243630101704,0.12027243630101704]
[null,0.51927199999999996,0.51958300000000002,0.39600000000000002,1.0007853535353537,106000000000,6.5377358490566029E-12,352262626262.62628,120100717.35963324,120.10071735963324,0.12010071735963324]
[null,0.51495199999999997,0.51512899999999995,0.22509999999999999,1.0007863171923588,106000000000,6.5377358490566029E-12,352262626262.62628,120248027.35394257,120.24802735394258,0.12024802735394258]
[null,0.51731099999999997,0.517737,0.54279999999999995,1.0007848194546796,106000000000,6.5377358490566029E-12,352262626262.62628,120019074.74247448,120.01907474247449,0.12001907474247449]
[null,null,null,null,null,null,null,null,"Average",{"$f":"AVERAGE(J48:J65)","v":120.43929211206321}]
[null,null,null,null,null,null,null,null,"Maximum",{"$f":"MAX(J48:J66)","v":123.09685880440755}]
[null,null,null,null,null,null,null,null,"Minimum",{"$f":"MIN(J48:J67)","v":119.84964558078725}]
[null,null,null,null,null,null,null,null,"Difference",{"$f":"(J67-ABS(J68))","v":3.2472132236202924}]
[]
[]
["Neodymium",null,null,null,null,null,null,null,null,null," Rubidium_017.pdf"]
["Samarium","Initial","Today","Today","The Ratio","Half","Decay","2.303/Delta","Age","Age","Age"]
["Dating","143Nd/144Nd","143Nd/144Nd","147Sm/144Nd","Plus One","Life","Constant","Constant","Years","Million Years","Billion Years"]
[null,0.511764,0.51180099999999995,4.7620000000000003E-2,{"$f":"1+((C75-B75)/D75)","v":1.0007769844603098},106000000000,{"$f":"(0.693/F75)","v":6.5377358490566029E-12},{"$f":"(2.303/G75)","v":352262626262.62628},{"$f":"(LOG(E75))*(H75)","v":118821367.82030177},{"$f":"(I75/1000000)","v":118.82136782030177},{"$f":"(J75/1000)","v":0.11882136782030177}]
[null,0.51165499999999997,0.51168199999999997,3.4599999999999999E-2,{"$f":"1+((C76-B76)/D76)","v":1.0007803468208092},106000000000,6.5377358490566029E-12,{"$f":"(2.303/G76)","v":352262626262.62628},{"$f":"(LOG(E76))*(H76)","v":119335360.71599238},{"$f":"(I76/1000000)","v":119.33536071599238},{"$f":"(J76/1000)","v":0.11933536071599238}]
[null,0.518432,0.51884799999999998,0.53015999999999996,1.0007846687792363,106000000000,6.5377358490566029E-12,352262626262.62628,119996041.62719536,119.99604162719535,0.11999604162719535]
[null,0.51480999999999999,0.51553099999999996,0.27518999999999999,{"$f":"1+((C78-B78)/D78)","v":1.0026200079944765},106000000000,{"$f":"(0.693/F78)","v":6.5377358490566029E-12},{"$f":"(2.303/G78)","v":352262626262.62628},{"$f":"(LOG(E78))*(H78)","v":400299630.30007392},{"$f":"(I78/1000000)","v":400.29963030007394},{"$f":"(J78/1000)","v":0.40029963030007393}]
[null,0.52375099999999997,0.52499300000000004,0.98016999999999999,1.0012671271310081,106000000000,6.5377358490566029E-12,352262626262.62628,193729635.70348474,193.72963570348475,0.19372963570348475]
[null,0.51452500000000001,0.51465899999999998,0.17105999999999999,1.0007833508710393,106000000000,6.5377358490566029E-12,352262626262.62628,119794578.448789,119.794578448789,0.11979457844878899]
[null,0.51811600000000002,0.51836000000000004,0.31118000000000001,1.000784112089466,106000000000,6.5377358490566029E-12,352262626262.62628,119910942.79549517,119.91094279549517,0.11991094279549518]
[null,0.51484799999999997,0.51501699999999995,0.21486,1.0007865586893789,106000000000,6.5377358490566029E-12,352262626262.62628,120284943.91560091,120.28494391560091,0.12028494391560091]
[null,0.51649500000000004,0.516764,0.34316999999999998,1.0007838680537342,106000000000,6.5377358490566029E-12,352262626262.62628,119873638.06117168,119.87363806117168,0.11987363806117167]
[null,null,null,null,null,null,null,null,"Average",{"$f":"AVERAGE(J75:J83)","v":159.11623770978946}]
[null,null,null,null,null,null,null,null,"Maximum",{"$f":"MAX(J75:J84)","v":400.29963030007394}]
[null,null,null,null,null,null,null,null,"Minimum",{"$f":"MIN(J75:J85)","v":118.82136782030177}]
[null,null,null,null,null,null,null,null,"Difference",{"$f":"(J85-ABS(J86))","v":281.47826247977218}]

{"sheet":"Rb-Sr _22","index":22,"n_rows":101,"n_cols":18,"rows_kept":101,"cut":false,"hidden":false,"merged":[]}
["Rubidium","TABLE 1.",null,null,null,null,null,null,null,null,"Rubidium_018.pdf",null,null,null,null,null,17171,-1]
["Strontium","Initial","Today","Today","The Ratio","Half","Decay","2.303/Delta","Age","Age","Age","Model Age","Model Age","Model Age",null,null,15343,-4]
["Dating","87Sr/86Sr","87Sr/86Sr","87Rb/86Sr","Plus One","Life","Constant","Constant","Years","Million Years","Billion Years","Million Years","% Difference"," Difference",null,null,15299,-26]
["TABLE 2",0.70752999999999999,0.70472999999999997,6.5699999999999995E-2,{"$f":"1+((C4-B4)/D4)","v":0.95738203957382007},48800000000,{"$f":"(0.693/F4)","v":1.4200819672131146E-11},{"$f":"(2.303/G4)","v":162173737373.7374},{"$f":"(LOG(E4))*(H4)","v":-3067471501.0435667},{"$f":"(I4/1000000)","v":-3067.4715010435666},{"$f":"(J4/1000)","v":-3.0674715010435665},null,null,null,null,null,15136,-481]
[null,0.70752999999999999,0.70379999999999998,0.20039999999999999,{"$f":"1+((C5-B5)/D5)","v":0.98138722554890212},48800000000,{"$f":"(0.693/F5)","v":1.4200819672131146E-11},{"$f":"(2.303/G5)","v":162173737373.7374},{"$f":"(LOG(E5))*(H5)","v":-1323272732.065392},{"$f":"(I5/1000000)","v":-1323.2727320653921},{"$f":"(J5/1000)","v":-1.3232727320653921},null,null,null,null,null,15054,-552]
[null,0.70752999999999999,0.70513999999999999,6.5099,0.99963286686431441,48800000000,1.4200819672131146E-11,162173737373.7374,-25862360.101031512,-25.862360101031513,-2.5862360101031514E-2,null,null,null,null,null,13476,-750]
[null,0.70752999999999999,0.70540000000000003,200.745,0.99998938952402305,48800000000,1.4200819672131146E-11,162173737373.7374,-747312.08793715877,-0.74731208793715875,-7.4731208793715872E-4,null,null,null,null,null,13322,-754]
[null,0.70752999999999999,0.71038999999999997,502.00200000000001,1.0000056971884574,48800000000,1.4200819672131146E-11,162173737373.7374,401258.4445079618,0.40125844450796178,4.0125844450796178E-4,null,null,null,null,null,13202,-927]
[null,0.70752999999999999,0.70513000000000003,41.069000000000003,0.99994156176191284,48800000000,1.4200819672131146E-11,162173737373.7374,-4115993.1199310287,-4.1159931199310291,-4.1159931199310287E-3,null,null,null,null,null,13001,-1194]
[null,0.70752999999999999,0.70520000000000005,0.22,0.98940909090909113,48800000000,1.4200819672131146E-11,162173737373.7374,-749908156.32128322,-749.90815632128317,-0.74990815632128316,null,null,null,null,null,11119,-1229]
[null,0.70752999999999999,0.70513000000000003,0.30740000000000001,0.9921925829538063,48800000000,1.4200819672131146E-11,162173737373.7374,-552043264.50244093,-552.04326450244093,-0.5520432645024409,null,null,null,null,null,10873,-1245]
[null,0.70752999999999999,0.70494999999999997,9.6100000000000005E-2,0.97315296566076981,48800000000,1.4200819672131146E-11,162173737373.7374,-1916713484.2161925,-1916.7134842161925,-1.9167134842161924,null,null,null,null,null,10758,-1323]
[null,0.70752999999999999,0.70494999999999997,0.37940000000000002,0.99319978914074847,48800000000,1.4200819672131146E-11,162173737373.7374,-480582623.84131402,-480.58262384131405,-0.48058262384131406,null,null,null,null,null,9737,-1370]
[null,0.70752999999999999,0.70543999999999996,0.1208,0.98269867549668843,48800000000,1.4200819672131146E-11,162173737373.7374,-1229216811.3949087,-1229.2168113949087,-1.2292168113949087,null,null,null,null,null,9707,-1499]
[null,0.70752999999999999,0.70526999999999995,0.21210000000000001,0.98934464875058914,48800000000,1.4200819672131146E-11,162173737373.7374,-754495625.53341424,-754.49562553341423,-0.7544956255334142,null,null,null,null,null,9049,-1611]
[null,0.70752999999999999,0.70509999999999995,0.18590000000000001,0.9869284561592252,48800000000,1.4200819672131146E-11,162173737373.7374,-926714059.86900425,-926.71405986900425,-0.92671405986900424,null,null,null,null,null,8584,-1917]
[null,0.70752999999999999,0.70443,0.1769,0.98247597512719054,48800000000,1.4200819672131146E-11,162173737373.7374,-1245179815.2445016,-1245.1798152445017,-1.2451798152445017,null,null,null,null,null,8420,-1926]
[null,0.70752999999999999,0.70474000000000003,0.14480000000000001,0.98073204419889526,48800000000,1.4200819672131146E-11,162173737373.7374,-1370308796.0062239,-1370.3087960062239,-1.3703087960062239,null,null,null,null,null,8419,-2050]
[null,0.70752999999999999,0.70452999999999999,0.14249999999999999,0.97894736842105257,48800000000,1.4200819672131146E-11,162173737373.7374,-1498591838.4885864,-1498.5918384885865,-1.4985918384885866,null,null,null,null,null,8368,-2725]
[null,0.70752999999999999,0.70469999999999999,0.10489999999999999,0.97302192564347001,48800000000,1.4200819672131146E-11,162173737373.7374,-1926198038.1294985,-1926.1980381294984,-1.9261980381294983,null,null,null,null,null,7975,-2981]
[null,0.70752999999999999,0.70416999999999996,0.14860000000000001,0.97738896366083428,48800000000,1.4200819672131146E-11,162173737373.7374,-1610801866.2441425,-1610.8018662441425,-1.6108018662441426,null,null,null,null,null,7968,-3067]
[null,0.70752999999999999,0.70416999999999996,7.8299999999999995E-2,0.95708812260536358,48800000000,1.4200819672131146E-11,162173737373.7374,-3089097236.8565674,-3089.0972368565672,-3.089097236856567,null,null,null,null,null,7830,-3089]
[null,0.70752999999999999,0.70382,7.46E-2,0.95026809651474542,48800000000,1.4200819672131146E-11,162173737373.7374,-3592772833.455112,-3592.772833455112,-3.5927728334551121,null,null,null,null,null,7314,-3231]
[null,0.70752999999999999,0.70416999999999996,0.1171,0.97130657557643019,48800000000,1.4200819672131146E-11,162173737373.7374,-2050471405.5278265,-2050.4714055278264,-2.0504714055278264,null,null,null,null,null,7250,-3593]
[null,0.70752999999999999,0.70496999999999999,5.7099999999999998E-2,0.95516637478108568,48800000000,1.4200819672131146E-11,162173737373.7374,-3230658909.5346832,-3230.6589095346831,-3.2306589095346832,null,null,null,null,null,7184]
[null,0.70752999999999999,0.70494000000000001,6.25E-2,0.9585600000000003,48800000000,1.4200819672131146E-11,162173737373.7374,-2980866450.2562227,-2980.8664502562228,-2.9808664502562228,null,null,null,null,null,6972]
[null,0.70752999999999999,0.70408000000000004,9.0899999999999995E-2,0.96204620462046253,48800000000,1.4200819672131146E-11,162173737373.7374,-2725178738.8649683,-2725.1787388649682,-2.725178738864968,null,null,null,null,null,6861]
[null,0.70752999999999999,0.70357000000000003,0.23549999999999999,0.98318471337579638,48800000000,1.4200819672131146E-11,162173737373.7374,-1194390521.9448366,-1194.3905219448366,-1.1943905219448365,null,null,null,null,null,6656]
[null,null,null,null,null,null,null,null,"Average",{"$f":"AVERAGE(J4:J28)","v":-1501.8103646482032},null,null,null,null,null,null,6654]
[null,null,null,null,null,null,null,null,"Maximum",{"$f":"MAX(J4:J29)","v":0.40125844450796178},null,null,null,null,null,null,6628]
[null,null,null,null,null,null,null,null,"Minimum",{"$f":"MIN(J4:J30)","v":-3592.772833455112},null,null,null,null,null,null,6577]
[null,null,null,null,null,null,null,null,"Difference",{"$f":"(J30+ABS(J31))","v":3593.1740918996202},null,null,null,null,null,null,6518]
[null,null,null,null,null,null,null,null,null,null,null,null,null,null,null,null,6448]
[null,null,null,null,null,null,null,null,null,null,null,null,null,null,null,null,5758]
[null,"206Pb","207Pb","208Pb","238U","232Th","207Pb","207Pb/206Pb","206Pb","206Pb/238U","208Pb","208Pb","208Pb/232Th",null,null,null,5576]
[null,"204Pb","204Pb","204Pb","204Pb","238U","206Pb","Age","238U","Age","238U","232Th","Age",null,null,null,5520]
[null,17.402999999999999,15.417,37.292000000000002,13.7,4.82,{"$f":"(C37/B37)","v":0.88588174452680579},{"$f":"[1]!AgePb76(G37)","v":5066.504441628409},{"$f":"(B37/E37)","v":1.2702919708029197},{"$f":"[1]!AgePb6U8(I37)","v":5285.4694260845063},{"$f":"+(D37/E37)","v":2.7220437956204382},{"$f":"+(K37/F37)","v":0.56473937668473817},{"$f":"[1]!AgePb8Th2(L37)","v":9049.4042982158517},null,null,null,5285]
[null,17.948,15.41,37.938000000000002,23.9,4.09,{"$f":"(C38/B38)","v":0.85859148651660355},{"$f":"[1]!AgePb76(G38)","v":5022.1796914541428},{"$f":"(B38/E38)","v":0.75096234309623433},{"$f":"[1]!AgePb6U8(I38)","v":3611.0591273543596},{"$f":"+(D38/E38)","v":1.5873640167364018},{"$f":"+(K38/F38)","v":0.3881085615492425},{"$f":"[1]!AgePb8Th2(L38)","v":6628.4400889071512},null,null,null,5159]
[null,17.472999999999999,15.471,37.682000000000002,12.9,4.72,0.88542322440336529,{"$f":"[1]!AgePb76(G39)","v":5065.771744482915},1.3544961240310076,{"$f":"[1]!AgePb6U8(I39)","v":5520.2368702910599},2.9210852713178297,0.61887399816055721,{"$f":"[1]!AgePb8Th2(L39)","v":9736.8538597727566},null,null,null,5120]
[null,17.297999999999998,15.324999999999999,37.564999999999998,15.7,4.63,0.88594057116429648,{"$f":"[1]!AgePb76(G40)","v":5066.5984151680241},1.1017834394904458,{"$f":"[1]!AgePb6U8(I40)","v":4788.3077596453859},2.3926751592356688,0.51677649227552247,{"$f":"[1]!AgePb8Th2(L40)","v":8420.1587501252561},null,null,null,5109]
[null,17.46,15.446999999999999,37.606000000000002,0,0,0.88470790378006858,{"$f":"[1]!AgePb76(G41)","v":5064.6278861247456},0,null,0,null,null,null,null,null,5099]
[null,17.710999999999999,15.51,37.938000000000002,9.8000000000000007,3.5,0.87572694935350914,{"$f":"[1]!AgePb76(G42)","v":5050.1825130145007},1.8072448979591833,{"$f":"[1]!AgePb6U8(I42)","v":6654.0115327466638},3.8712244897959183,1.1060641399416908,{"$f":"[1]!AgePb8Th2(L42)","v":15054.489521188149},null,null,null,5097]
[null,17.463999999999999,15.465,37.738999999999997,12.7,4.82,0.88553595968850207,{"$f":"[1]!AgePb76(G43)","v":5065.9519283464833},1.3751181102362204,{"$f":"[1]!AgePb6U8(I43)","v":5576.4523247436264},2.9715748031496063,0.61650929525925435,{"$f":"[1]!AgePb8Th2(L43)","v":9707.3081031738402},null,null,null,5077]
[null,17.510999999999999,15.521000000000001,37.759,8.3000000000000007,5.04,0.88635714693621159,{"$f":"[1]!AgePb76(G44)","v":5067.2636913748092},2.1097590361445779,{"$f":"[1]!AgePb6U8(I44)","v":7313.7485437551804},4.5492771084337349,0.90263434691145528,{"$f":"[1]!AgePb8Th2(L44)","v":13001.302157564602},null,null,null,5067]
[null,17.486000000000001,15.303000000000001,37.573999999999998,10,3.32,0.87515726867208055,{"$f":"[1]!AgePb76(G45)","v":5049.2609176488058},1.7486000000000002,{"$f":"[1]!AgePb6U8(I45)","v":6517.9158171707631},3.7573999999999996,1.1317469879518072,{"$f":"[1]!AgePb8Th2(L45)","v":15299.481065038144},null,null,null,5067]
[null,17.533999999999999,15.46,37.704000000000001,10.199999999999999,5.04,0.88171552412455811,{"$f":"[1]!AgePb76(G46)","v":5059.8321574116599},1.7190196078431372,{"$f":"[1]!AgePb6U8(I46)","v":6448.1635909198849},3.6964705882352944,0.73342670401493937,{"$f":"[1]!AgePb8Th2(L46)","v":11118.750948345345},null,null,null,5067]
[null,18.082000000000001,15.438000000000001,37.954000000000001,10,3.34,0.85377723703130182,{"$f":"[1]!AgePb76(G47)","v":5014.2053923457706},1.8082,{"$f":"[1]!AgePb6U8(I47)","v":6656.2044074030937},3.7953999999999999,1.1363473053892215,{"$f":"[1]!AgePb8Th2(L47)","v":15343.052128077383},null,null,null,5066]
[null,16.722999999999999,15.382,36.542000000000002,6,4.55,0.91981103868923042,{"$f":"[1]!AgePb76(G48)","v":5119.6347626473471},2.7871666666666663,{"$f":"[1]!AgePb6U8(I48)","v":8584.16217992977},6.0903333333333336,1.3385347985347986,{"$f":"[1]!AgePb8Th2(L48)","v":17170.784816184329},null,null,null,5066]
[null,16.873999999999999,15.407,36.761000000000003,6.9,4.78,0.91306151475643005,{"$f":"[1]!AgePb76(G49)","v":5109.2329426917895},2.4455072463768115,{"$f":"[1]!AgePb6U8(I49)","v":7974.6729086557225},5.3276811594202904,1.1145776484142866,{"$f":"[1]!AgePb8Th2(L49)","v":15136.03030087345},null,null,null,5065]
[null,16.995999999999999,15.382,36.948,8.3000000000000007,4.83,0.90503647917156982,{"$f":"[1]!AgePb76(G50)","v":5096.7588430969272},2.0477108433734936,{"$f":"[1]!AgePb6U8(I50)","v":7183.8244361938041},4.451566265060241,0.92164933024021556,{"$f":"[1]!AgePb8Th2(L50)","v":13202.301029907119},null,null,null,5062]
[null,17.626000000000001,15.432,37.691000000000003,19.5,4,0.87552479291955065,{"$f":"[1]!AgePb76(G51)","v":5049.855549252622},0.90389743589743599,{"$f":"[1]!AgePb6U8(I51)","v":4150.8658644147008},1.9328717948717951,0.48321794871794876,{"$f":"[1]!AgePb8Th2(L51)","v":7967.943751456005},null,null,null,5060]
[null,17.667999999999999,15.411,37.645000000000003,20.399999999999999,3.9,0.87225492415666739,{"$f":"[1]!AgePb76(G52)","v":5044.5557733390115},0.86607843137254903,{"$f":"[1]!AgePb6U8(I52)","v":4021.5254366473901},1.8453431372549023,0.4731649069884365,{"$f":"[1]!AgePb8Th2(L52)","v":7830.4817455923112},null,null,null,5060]
[null,17.628,15.433,37.710999999999999,19.399999999999999,3.79,0.87548218742909012,{"$f":"[1]!AgePb76(G53)","v":5049.786629766214},0.90865979381443307,{"$f":"[1]!AgePb6U8(I53)","v":4166.970618118823},1.9438659793814435,0.51289339825367897,{"$f":"[1]!AgePb8Th2(L53)","v":8368.3471474925755},null,null,null,5059]
[null,17.599,15.420999999999999,37.716000000000001,14.6,5,0.87624296835047444,{"$f":"[1]!AgePb76(G54)","v":5051.016748795535},1.2054109589041095,{"$f":"[1]!AgePb6U8(I54)","v":5098.5583719787674},2.5832876712328767,0.51665753424657535,{"$f":"[1]!AgePb8Th2(L54)","v":8418.573479550003},null,null,null,5051]
[null,17.670999999999999,15.404,37.621000000000002,21.8,4,0.87171071246675347,{"$f":"[1]!AgePb76(G55)","v":5043.6716734485863},0.81059633027522926,{"$f":"[1]!AgePb6U8(I55)","v":3826.9541031862532},1.7257339449541285,0.43143348623853212,{"$f":"[1]!AgePb8Th2(L55)","v":7249.6489155226573},null,null,null,5050]
[null,17.471,15.407,37.512,9.1999999999999993,4.37,0.8818613702707343,{"$f":"[1]!AgePb76(G56)","v":5060.0662973207009},1.8990217391304349,{"$f":"[1]!AgePb6U8(I56)","v":6861.3914504372769},4.0773913043478265,0.93304148840911361,{"$f":"[1]!AgePb8Th2(L56)","v":13321.771868991875},null,null,null,5050]
[null,17.399999999999999,15.365,37.442,90.3,0.59,0.88304597701149434,{"$f":"[1]!AgePb76(G57)","v":5061.9665323315721},0.19269102990033221,{"$f":"[1]!AgePb6U8(I57)","v":1135.936333533622},0.41464008859357698,0.70277981117555421,{"$f":"[1]!AgePb8Th2(L57)","v":10758.203105617618},null,null,null,5050]
[null,17.655000000000001,15.391,37.51,19.5,4.67,0.87176437269895213,{"$f":"[1]!AgePb76(G58)","v":5043.7588732833165},0.90538461538461545,{"$f":"[1]!AgePb6U8(I58)","v":4155.8993459450867},1.9235897435897436,0.41190358535112281,{"$f":"[1]!AgePb8Th2(L58)","v":6971.9829087513453},null,null,null,5049]
[null,17.172999999999998,15.321999999999999,37.110999999999997,11.9,3.29,0.89221452279741453,{"$f":"[1]!AgePb76(G59)","v":5076.5830286010323},1.4431092436974788,{"$f":"[1]!AgePb6U8(I59)","v":5758.3981196005734},3.1185714285714283,0.94789405123751624,{"$f":"[1]!AgePb8Th2(L59)","v":13476.479338240897},null,null,null,5045]
[null,17.414000000000001,15.340999999999999,37.332999999999998,14.2,3.69,0.88095785000574234,{"$f":"[1]!AgePb76(G60)","v":5058.6151336056146},1.2263380281690142,{"$f":"[1]!AgePb6U8(I60)","v":5159.4397798419905},2.6290845070422537,0.7124890262987138,{"$f":"[1]!AgePb8Th2(L60)","v":10873.125480201332},null,null,null,5044]
[null,17.849,15.439,37.768999999999998,26.4,3.72,0.86497843016415488,{"$f":"[1]!AgePb76(G61)","v":5032.686034274021},0.67609848484848489,{"$f":"[1]!AgePb6U8(I61)","v":3329.3715531104167},1.4306439393939394,0.38458170413815573,{"$f":"[1]!AgePb8Th2(L61)","v":6577.0202192959196},null,null,null,5044]
[null,18.242999999999999,15.436999999999999,38.091999999999999,36.299999999999997,4.74,0.84618757879734696,{"$f":"[1]!AgePb76(G62)","v":5001.5364307847458},0.50256198347107439,{"$f":"[1]!AgePb6U8(I62)","v":2624.7970355161347},1.049366391184573,0.22138531459590147,{"$f":"[1]!AgePb8Th2(L62)","v":4042.1570149673057},null,null,null,5033]
[null,null,null,null,null,null,"Average",{"$f":"AVERAGE(H37:H62)","v":5057.3886166245884},null,{"$f":"AVERAGE(J37:J62)","v":5296.1734774889937},null,null,{"$f":"AVERAGE(M37:M62)","v":10588.963681722129},null,null,null,5022]
[null,null,null,null,null,null,"Maximum",{"$f":"MAX(H37:H63)","v":5119.6347626473471},null,{"$f":"MAX(J37:J63)","v":8584.16217992977},null,null,{"$f":"MAX(M37:M63)","v":17170.784816184329},null,null,null,5014]
[null,null,null,null,null,null,"Minimum",{"$f":"MIN(H37:H64)","v":5001.5364307847458},null,{"$f":"MIN(J37:J64)","v":1135.936333533622},null,null,{"$f":"MIN(M37:M64)","v":4042.1570149673057},null,null,null,5002]
[null,null,null,null,null,null,"Difference",{"$f":"(H64-H65)","v":118.0983318626013},null,{"$f":"(J64-J65)","v":7448.225846396148},null,null,{"$f":"(M64-M65)","v":13128.627801217022}]
[]
[null,null,null,null,null,null,null,null,null,null,null,null,"208Pb/232Th"]
[null,null,null,null,null,null,null,null,null,null,null,null,"Age","Age","Age","Age"]
[null,null,null,null,null,null,null,null,null,null,null,null,17170.784816184329,13321.771868991875,9736.8538597727566,7967.943751456005]
[null,null,null,null,null,null,null,null,null,null,null,null,15343.052128077383,13202.301029907119,9707.3081031738402,7830.4817455923112]
[null,null,null,null,null,"Table","207Pb/206Pb","206Pb/238U","208Pb/232Th","87Rb/86Sr",null,null,15299.481065038144,13001.302157564602,9049.4042982158517,7249.6489155226573]
[null,null,null,null,null,"Summaries","Age","Age","Age","Age",null,null,15136.03030087345,11118.750948345345,8420.1587501252561,6971.9829087513453]
[null,null,null,null,null,"Average",5057.3886166245884,5296,10589,-1501.8103646482032,null,null,15054.489521188149,10873.125480201332,8418.573479550003,6628.4400889071512]
[null,null,null,null,null,"Maximum",5119.6347626473471,8584.16217992977,17170.784816184329,0.40125844450796178,null,null,13476.479338240897,10758.203105617618,8368.3471474925755,6577.0202192959196]
[null,null,null,null,null,"Minimum",5001.5364307847458,1136,4042,-3592.772833455112]
[null,null,null,null,null,"Difference",118.0983318626013,7448,13129,3593.1740918996202]
[null,null,null,null,null,null,null,null,null,null,null,null,"206Pb/238U"]
[null,null,null,null,null,null,null,null,null,null,null,null,"Age","Age","Age"]
[null,null,null,null,null,null,null,null,null,null,null,null,8584.16217992977,6656.2044074030937,5576.4523247436264]
[null,null,null,null,null,null,null,null,null,null,null,null,7974.6729086557225,6654.0115327466638,5520.2368702910599]
[null,null,null,null,null,null,null,null,null,null,null,null,7313.7485437551804,6517.9158171707631,5285.4694260845063]
[null,null,null,null,null,null,null,null,null,null,null,null,7183.8244361938041,6448.1635909198849,5159.4397798419905]
[null,null,null,null,null,null,null,null,null,null,null,null,6861.3914504372769,5758.3981196005734,5098.5583719787674]
[]
[]
[null,null,null,null,null,null,null,null,null,null,null,null,"207Pb/206Pb"]
[null,null,null,null,null,null,null,null,null,null,null,null,"Age","Age","Age","Age"]
[null,null,null,null,null,null,null,null,null,null,null,null,5119.6347626473471,5066.504441628409,5059.8321574116599,5049.2609176488058]
[null,null,null,null,null,null,null,null,null,null,null,null,5109.2329426917895,5065.9519283464833,5058.6151336056146,5044.5557733390115]
[null,null,null,null,null,null,null,null,null,null,null,null,5096.7588430969272,5065.771744482915,5051.016748795535,5043.7588732833165]
[null,null,null,null,null,null,null,null,null,null,null,null,5076.5830286010323,5064.6278861247456,5050.1825130145007,5043.6716734485863]
[null,null,null,null,null,null,null,null,null,null,null,null,5067.2636913748092,5061.9665323315721,5049.855549252622,5032.686034274021]
[null,null,null,null,null,null,null,null,null,null,null,null,5066.5984151680241,5060.0662973207009,5049.786629766214,5022.1796914541428]
[]
[null,null,null,null,null,null,null,null,null,null,null,null,"87Rb/86Sr"]
[null,null,null,null,null,null,null,null,null,null,null,null,"Age","Age","Age","Age"]
[null,null,null,null,null,null,null,null,null,null,null,null,-3592.772833455112,-2980.8664502562228,-1916.7134842161925,-1323.2727320653921]
[null,null,null,null,null,null,null,null,null,null,null,null,-3230.6589095346831,-2725.1787388649682,-1610.8018662441425,-1245.1798152445017]
[null,null,null,null,null,null,null,null,null,null,null,null,-3089.0972368565672,-2050.4714055278264,-1498.5918384885865,-1229.2168113949087]
[null,null,null,null,null,null,null,null,null,null,null,null,-3067.4715010435666,-1926.1980381294984,-1370.3087960062239,-1194.3905219448366]

{"sheet":"Rb-Sr _23","index":23,"n_rows":105,"n_cols":17,"rows_kept":105,"cut":false,"hidden":false,"merged":[]}
["Rubidium","TABLE 1.",null,null,null,null,null,null,null,null," Rubidium_019.pdf",null,null,null,null,null,94396]
["Strontium","Initial","Today","Today","The Ratio","Half","Decay","2.303/Delta","Age","Age","Age","Model Age","Model Age","Model Age",null,null,90683]
["Dating","87Sr/86Sr","87Sr/86Sr","87Rb/86Sr","Plus One","Life","Constant","Constant","Years","Million Years","Billion Years","Million Years","% Difference"," Difference",null,null,74639]
[" ",0.70752999999999999,0.70472999999999997,6.5699999999999995E-2,{"$f":"1+((C4-B4)/D4)","v":0.95738203957382007},48800000000,{"$f":"(0.693/F4)","v":1.4200819672131146E-11},{"$f":"(2.303/G4)","v":162173737373.7374},{"$f":"(LOG(E4))*(H4)","v":-3067471501.0435667},{"$f":"(I4/1000000)","v":-3067.4715010435666},{"$f":"(J4/1000)","v":-3.0674715010435665},null,null,null,null,null,58153]
[null,0.70752999999999999,0.70379999999999998,0.20039999999999999,0.98138722554890212,48800000000,1.4200819672131146E-11,162173737373.7374,-1323272732.065392,-1323.2727320653921,-1.3232727320653921,null,null,null,null,null,55324]
[null,null,null,null,null,null,null,null,null,null,null,null,null,null,null,null,45242]
[null,null,null,null,null,null,null,null,null,null,null,null,null,null,null,null,39267]
[null,null,null,null,null,null,null,null,null,null,null,null,null,null,null,null,26266]
[null,null,null,null,null,null,null,null,null,null,null,null,null,null,null,null,22201]
[null,null,null,null,null,null,null,null,"232Th/208Pb",null,"206Pb/238U",null,"207Pb/206Pb",null,null,null,21813]
[null,"206Pb/204Pb","207Pb/204Pb","208Pb/204Pb","238U/204Pb","232Th/238U","208Pb/238U","232Th/208Pb","Age","206Pb/238U","Age","207Pb/206Pb","Age",null,null,null,19320]
["TABLE 1",18.835999999999999,15.602,38.377000000000002,0.99,4.18,{"$f":"(D12/E12)","v":38.764646464646468},{"$f":"(G12/E12)","v":39.156208550147944},{"$f":"[1]!AgePb8Th2(H12)","v":74639.25340707117},{"$f":"(B12/E12)","v":19.026262626262625},{"$f":"[1]!AgePb6U8(J12)","v":19320.190449406655},{"$f":"(C12/B12)","v":0.82830749628371214},{"$f":"[1]!AgePb76(L12)","v":4971.2067349988974},null,null,null,18334]
[null,18.184999999999999,15.605,38.061,0.6,0.94099999999999995,{"$f":"(D13/E13)","v":63.435000000000002},{"$f":"(G13/E13)","v":105.72500000000001},{"$f":"[1]!AgePb8Th2(H13)","v":94396.269482446194},{"$f":"(B13/E13)","v":30.308333333333334},{"$f":"[1]!AgePb6U8(J13)","v":22200.704611067998},0.85812482815507296,{"$f":"[1]!AgePb76(L13)","v":5021.4088014139261},null,null,null,16656]
[null,18.841000000000001,15.682,38.473999999999997,6.13,0.501,6.2763458401305057,1.0238737096460857,{"$f":"[1]!AgePb8Th2(H14)","v":14249.890915787033},3.073572593800979,{"$f":"[1]!AgePb6U8(J14)","v":9054.1202359344334},0.83233374024733287,{"$f":"[1]!AgePb76(L14)","v":4978.0966758023769},null,null,null,16357]
[null,18.494,15.612,38.220999999999997,1.51,0.77400000000000002,25.311920529801323,16.762861278014121,{"$f":"[1]!AgePb8Th2(H15)","v":58152.801062836079},12.247682119205297,{"$f":"[1]!AgePb6U8(J15)","v":16656.390670297016},0.84416567535416898,{"$f":"[1]!AgePb76(L15)","v":4998.1410244784583},null,null,null,16200]
[null,19.035,15.773,38.726999999999997,2.15,0.86499999999999999,18.012558139534882,8.3779340183883182,{"$f":"[1]!AgePb8Th2(H16)","v":45242.233145134218},8.8534883720930235,{"$f":"[1]!AgePb6U8(J16)","v":14748.271019751501},0.82863146834778034,{"$f":"[1]!AgePb76(L16)","v":4971.7624502031613},null,null,null,14748]
[null,18.626999999999999,15.664,38.441000000000003,"-",4.6100000000000003,0,0,null,0,null,0.84092983303806301,{"$f":"[1]!AgePb76(L17)","v":4992.6890188345496},null,null,null,14250]
[null,17.698,15.327,37.744999999999997,10.7,3.34,{"$f":"(D18/E18)","v":3.5275700934579439},{"$f":"(G18/E18)","v":0.32967944798672377},{"$f":"[1]!AgePb8Th2(H18)","v":5759.2298460468965},1.6540186915887851,{"$f":"[1]!AgePb6U8(J18)","v":6292.1835853943949},0.86603005989377324,{"$f":"[1]!AgePb76(L18)","v":5034.4080368434643},null,null,null,13607]
[null,18.257999999999999,15.488,37.972999999999999,26.3,4.05,1.4438403041825094,5.4898870881464237E-2,{"$f":"[1]!AgePb8Th2(H19)","v":1080.2406336343875},0.69422053231939163,{"$f":"[1]!AgePb6U8(J19)","v":3398.6963553560872},0.84828568298827911,{"$f":"[1]!AgePb76(L19)","v":5005.0507029222017},null,null,null,11256]
[null,18.373999999999999,15.484,37.904000000000003,1.62,0.51300000000000001,23.397530864197531,14.442920286541685,{"$f":"[1]!AgePb8Th2(H20)","v":55323.914389928817},11.341975308641974,{"$f":"[1]!AgePb6U8(J20)","v":16199.878029335672},0.84271252857298362,{"$f":"[1]!AgePb76(L20)","v":4995.6953980096623},null,null,null,11215]
[null,18.079999999999998,15.48,38.005000000000003,8.0500000000000007,2.84,4.7211180124223597,0.58647428725743589,{"$f":"[1]!AgePb8Th2(H21)","v":9328.2288973687173},2.2459627329192542,{"$f":"[1]!AgePb6U8(J21)","v":7590.0853382887935},0.85619469026548678,{"$f":"[1]!AgePb76(L21)","v":5018.2156011793159},null,null,null,10595]
[null,18.814,15.589,38.619999999999997,99.4,4.46,0.38853118712273638,3.9087644579752145E-3,{"$f":"[1]!AgePb8Th2(H22)","v":78.850835505055628},0.18927565392354123,{"$f":"[1]!AgePb6U8(J22)","v":1117.449976548116},0.8285850962049538,{"$f":"[1]!AgePb76(L22)","v":4971.6829213822994},null,null,null,10284]
[null,18.815999999999999,15.581,38.218000000000004,45.2,4.07,0.84553097345132744,1.870643746573733E-2,{"$f":"[1]!AgePb8Th2(H23)","v":374.60583908719991},0.41628318584070789,{"$f":"[1]!AgePb6U8(J23)","v":2243.5839824444397},0.82807185374149661,{"$f":"[1]!AgePb76(L23)","v":4970.8023878858194},null,null,null,9878]
[null,17.626000000000001,15.432,37.691000000000003,19.52,4.0049999999999999,1.9308913934426231,9.8918616467347495E-2,{"$f":"[1]!AgePb8Th2(H24)","v":1906.5511941277684},0.90297131147540988,{"$f":"[1]!AgePb6U8(J24)","v":4147.7293329908371},0.87552479291955065,{"$f":"[1]!AgePb76(L24)","v":5049.855549252622},null,null,null,9656]
[null,17.667999999999999,15.411,37.645000000000003,20.37,3.9020000000000001,1.8480608738340698,9.0724637890725074E-2,{"$f":"[1]!AgePb8Th2(H25)","v":1755.2760133434306},0.86735395189003428,{"$f":"[1]!AgePb6U8(J25)","v":4025.9302486430615},0.87225492415666739,{"$f":"[1]!AgePb76(L25)","v":5044.5557733390115},null,null,null,9328]
[null,17.628,15.433,37.710999999999999,19.364999999999998,3.7879999999999998,1.9473792925380842,0.1005618018351709,{"$f":"[1]!AgePb8Th2(H26)","v":1936.7514576605049},0.91030209140201401,{"$f":"[1]!AgePb6U8(J26)","v":4172.515020723853},0.87548218742909012,{"$f":"[1]!AgePb76(L26)","v":5049.786629766214},null,null,null,9054]
[null,17.599,15.420999999999999,37.716000000000001,14.6,5.01,2.5832876712328767,0.17693751172827923,{"$f":"[1]!AgePb8Th2(H27)","v":3292.8900602082972},1.2054109589041095,{"$f":"[1]!AgePb6U8(J27)","v":5098.5583719787674},0.87624296835047444,{"$f":"[1]!AgePb76(L27)","v":5051.016748795535},null,null,null,8821]
[null,17.670999999999999,15.404,37.621000000000002,21.8,4,1.7257339449541285,7.9162107566703138E-2,{"$f":"[1]!AgePb8Th2(H28)","v":1539.866876200256},0.81059633027522926,{"$f":"[1]!AgePb6U8(J28)","v":3826.9541031862532},0.87171071246675347,{"$f":"[1]!AgePb76(L28)","v":5043.6716734485863},null,null,null,8771]
[null,17.773,15.494,37.683,8.5500000000000007,1.17,4.4073684210526309,0.51548168667282224,{"$f":"[1]!AgePb8Th2(H29)","v":8402.8970879453245},2.0787134502923976,{"$f":"[1]!AgePb6U8(J29)","v":7249.0688075805829},0.87177178866820459,{"$f":"[1]!AgePb76(L29)","v":5043.7709240558579},null,null,null,8403]
[null,18.428000000000001,15.553000000000001,38.136000000000003,9.35,3.11,4.0787165775401073,0.43622637192942326,{"$f":"[1]!AgePb8Th2(H30)","v":7317.2127098823885},1.9709090909090912,{"$f":"[1]!AgePb6U8(J30)","v":7019.2940995547569},0.84398741046233994,{"$f":"[1]!AgePb76(L30)","v":4997.8412478288737},null,null,null,8242]
[null,18.292999999999999,15.523999999999999,37.408999999999999,14.9,1.28,2.5106711409395972,0.16850141885500652,{"$f":"[1]!AgePb8Th2(H31)","v":3147.4904345499776},1.2277181208053691,{"$f":"[1]!AgePb6U8(J31)","v":5163.4346325024762},0.84863062373585518,{"$f":"[1]!AgePb76(L31)","v":5005.6275862797484},null,null,null,8171]
[null,18.626999999999999,15.563000000000001,38.229999999999997,8.76,4.71,4.3641552511415522,0.4981912387147891,{"$f":"[1]!AgePb8Th2(H32)","v":8170.9659351246128},2.1263698630136987,{"$f":"[1]!AgePb6U8(J32)","v":7348.0905289460343},0.83550759649970485,{"$f":"[1]!AgePb76(L32)","v":4983.5030418181905},null,null,null,8044]
[null,18.161999999999999,15.367000000000001,37.628,19.3,2.0299999999999998,1.9496373056994818,0.10101747697924776,{"$f":"[1]!AgePb8Th2(H33)","v":1945.1183698199773},0.9410362694300517,{"$f":"[1]!AgePb6U8(J33)","v":4275.403641984597},0.84610725691003208,{"$f":"[1]!AgePb76(L33)","v":5001.4017097428641},null,null,null,7996]
[null,18.981000000000002,15.666,38.554000000000002,17.8,3.26,2.1659550561797754,0.12168286832470647,{"$f":"[1]!AgePb8Th2(H34)","v":2320.972584050915},1.0663483146067416,{"$f":"[1]!AgePb6U8(J34)","v":4678.6975032911205},0.82535166745693056,{"$f":"[1]!AgePb76(L34)","v":4966.1258521598947},null,null,null,7789]
[null,18.613,15.41,38.298999999999999,15,1.49,2.5532666666666666,0.17021777777777777,{"$f":"[1]!AgePb8Th2(H35)","v":3177.1574803744093},1.2408666666666666,{"$f":"[1]!AgePb6U8(J35)","v":5201.3711252248586},0.8279159727072477,{"$f":"[1]!AgePb76(L35)","v":4970.5348390580702},null,null,null,7638]
[null,18.529,15.557,38.168999999999997,9.01,4.59,4.2362930077691452,0.47017680441388959,{"$f":"[1]!AgePb8Th2(H36)","v":7789.4425198517065},2.0564927857935626,{"$f":"[1]!AgePb6U8(J36)","v":7202.372990816335},0.83960278482378981,{"$f":"[1]!AgePb76(L36)","v":4990.4466543391372},null,null,null,7590]
[null,18.18,15.608000000000001,38.356000000000002,21.6,4.9400000000000004,1.7757407407407406,8.2210219478737981E-2,{"$f":"[1]!AgePb8Th2(H37)","v":1596.8761884989528},0.84166666666666656,{"$f":"[1]!AgePb6U8(J37)","v":3936.6379289973042},0.8585258525852586,{"$f":"[1]!AgePb76(L37)","v":5022.071295246632},null,null,null,7422]
[null,18.309000000000001,15.566000000000001,38.241999999999997,16.5,4.67,2.3176969696969696,0.14046648301193754,{"$f":"[1]!AgePb8Th2(H38)","v":2656.6422300800982},1.1096363636363638,{"$f":"[1]!AgePb6U8(J38)","v":4812.3487067009401},0.8501829701239827,{"$f":"[1]!AgePb76(L38)","v":5008.2206717357458},null,null,null,7375]
[null,17.826000000000001,15.414999999999999,37.646000000000001,14.3,5.91,2.6325874125874127,0.18409702185925961,{"$f":"[1]!AgePb8Th2(H39)","v":3415.4720008583067},1.2465734265734265,{"$f":"[1]!AgePb6U8(J39)","v":5217.7671804655138},0.86474812072254004,{"$f":"[1]!AgePb76(L39)","v":5032.3086149308783},null,null,null,7348]
[null,18.423999999999999,15.577,37.94,7.42,4.04,5.1132075471698109,0.68911152926816854,{"$f":"[1]!AgePb8Th2(H40)","v":10595.304059990285},2.4830188679245282,{"$f":"[1]!AgePb6U8(J40)","v":8044.4764449097829},0.84547329570125929,{"$f":"[1]!AgePb76(L40)","v":5000.3379121860635},null,null,null,7335]
[null,19.306000000000001,15.701000000000001,38.527000000000001,5.56,0.59499999999999997,6.9293165467625908,1.2462799544537035,{"$f":"[1]!AgePb8Th2(H41)","v":16357.261128707001},3.4723021582733815,{"$f":"[1]!AgePb6U8(J41)","v":9656.1050782804505},0.81327048585931838,{"$f":"[1]!AgePb76(L41)","v":4945.1560080139889},null,null,null,7317]
[null,17.978000000000002,15.555999999999999,37.526000000000003,74.8,8,0.50168449197860965,6.7070119248477224E-3,{"$f":"[1]!AgePb8Th2(H42)","v":135.11106592430525},0.24034759358288774,{"$f":"[1]!AgePb6U8(J42)","v":1388.5038371694889},0.86527978640560677,{"$f":"[1]!AgePb76(L42)","v":5033.1797204075619},null,null,null,7249]
[null,17.925999999999998,15.472,37.338999999999999,8.2899999999999991,8.43,4.50410132689988,0.54331740975873111,{"$f":"[1]!AgePb8Th2(H43)","v":8770.778407799402},2.1623642943305188,{"$f":"[1]!AgePb6U8(J43)","v":7421.8852038634004},0.8631038714716055,{"$f":"[1]!AgePb76(L43)","v":5029.6109991783296},null,null,null,7202]
[null,18.797999999999998,15.61,38.250999999999998,0.66,3.85,57.956060606060596,87.812213039485741,{"$f":"[1]!AgePb8Th2(H44)","v":90682.651334403272},28.481818181818177,{"$f":"[1]!AgePb6U8(J44)","v":21813.207029910729},0.83040749015852755,{"$f":"[1]!AgePb76(L44)","v":4974.8047956202445},null,null,null,7019]
[null,17.471,15.407,37.512,9.23,4.3710000000000004,4.064138678223185,0.44031838333945666,{"$f":"[1]!AgePb8Th2(H45)","v":7374.7183161252588},1.8928494041170096,{"$f":"[1]!AgePb6U8(J45)","v":6847.6516962037758},0.8818613702707343,{"$f":"[1]!AgePb76(L45)","v":5060.0662973207009},null,null,null,6923]
[null,17.399999999999999,15.365,37.442,9.0299999999999994,5.86,4.1464008859357699,0.45918060752334111,{"$f":"[1]!AgePb8Th2(H46)","v":7637.6968256549326},1.9269102990033222,{"$f":"[1]!AgePb6U8(J46)","v":6923.1094999987345},0.88304597701149434,{"$f":"[1]!AgePb76(L46)","v":5061.9665323315721},null,null,null,6848]
[null,17.655000000000001,15.391,37.51,19.489999999999998,4.6740000000000004,1.9245767060030785,9.8746880759521732E-2,{"$f":"[1]!AgePb8Th2(H47)","v":1903.3922408092203},0.90584915341200634,{"$f":"[1]!AgePb6U8(J47)","v":4157.4708079568099},0.87176437269895213,{"$f":"[1]!AgePb76(L47)","v":5043.7588732833165},null,null,null,6292]
[null,17.172999999999998,15.321999999999999,37.110999999999997,11.94,3.294,3.1081239530988274,0.26031188886924855,{"$f":"[1]!AgePb8Th2(H48)","v":4676.2854205414997},1.4382747068676716,{"$f":"[1]!AgePb6U8(J48)","v":5745.6290208002065},0.89221452279741453,{"$f":"[1]!AgePb76(L48)","v":5076.5830286010323},null,null,null,5759]
[null,17.414000000000001,15.340999999999999,37.332999999999998,14.2,3.605,2.6290845070422537,0.18514679627058125,{"$f":"[1]!AgePb8Th2(H49)","v":3433.3834385874097},1.2263380281690142,{"$f":"[1]!AgePb6U8(J49)","v":5159.4397798419905},0.88095785000574234,{"$f":"[1]!AgePb76(L49)","v":5058.6151336056146},null,null,null,5746]
[null,17.849,15.439,37.768999999999998,26.38,3.7250000000000001,1.4317285822592873,5.4273259372982843E-2,{"$f":"[1]!AgePb8Th2(H50)","v":1068.2501442026255},0.67661106899166035,{"$f":"[1]!AgePb6U8(J50)","v":3331.3426929677603},0.86497843016415488,{"$f":"[1]!AgePb76(L50)","v":5032.686034274021},null,null,null,5700]
[null,17.696999999999999,15.554,37.311999999999998,3.74,0.73699999999999999,9.9764705882352924,2.6675055048757463,{"$f":"[1]!AgePb8Th2(H51)","v":26266.027933754187},4.7318181818181815,{"$f":"[1]!AgePb6U8(J51)","v":11255.650537389578},0.87890602927049788,{"$f":"[1]!AgePb76(L51)","v":5055.3137864959954},null,null,null,5218]
[null,17.489000000000001,15.536,37.238999999999997,8.25,3.64,4.5138181818181815,0.547129476584022,{"$f":"[1]!AgePb8Th2(H52)","v":8820.6420082776403},2.1198787878787879,{"$f":"[1]!AgePb6U8(J52)","v":7334.6923515091621},0.88832980730745037,{"$f":"[1]!AgePb76(L52)","v":5070.4095550985248},null,null,null,5201]
[null,18.672999999999998,15.574,38.311999999999998,7.6,0.54400000000000004,5.041052631578947,0.66329639889196679,{"$f":"[1]!AgePb8Th2(H53)","v":10284.010424938078},2.4569736842105261,{"$f":"[1]!AgePb6U8(J53)","v":7996.0905630345542},0.83403845123975806,{"$f":"[1]!AgePb76(L53)","v":4981.0032088314219},null,null,null,5163]
[null,18.117999999999999,15.42,37.704999999999998,34.299999999999997,0.89400000000000002,1.0992711370262391,3.204872119610027E-2,{"$f":"[1]!AgePb8Th2(H54)","v":637.61245894552167},0.52822157434402328,{"$f":"[1]!AgePb6U8(J54)","v":2733.9544858593626},0.85108731648084779,{"$f":"[1]!AgePb76(L54)","v":5009.7290017023633},null,null,null,5159]
[null,18.298999999999999,15.518000000000001,37.817,19,2.1800000000000002,1.9903684210526316,0.1047562326869806,{"$f":"[1]!AgePb8Th2(H55)","v":2013.6373265267491},0.96310526315789469,{"$f":"[1]!AgePb6U8(J55)","v":4348.2838837870731},0.84802448221214277,{"$f":"[1]!AgePb76(L55)","v":5004.6137015824524},null,null,null,5099]
[null,18.207999999999998,15.48,37.661000000000001,2.5099999999999998,0.54200000000000004,15.004382470119523,5.9778416215615637,{"$f":"[1]!AgePb8Th2(H56)","v":39267.097436744305},7.2541832669322712,{"$f":"[1]!AgePb6U8(J56)","v":13606.576209458295},0.85017574692442888,{"$f":"[1]!AgePb76(L56)","v":5008.2086175371887},null,null,null,5077]
[null,18.506,15.614000000000001,38.417999999999999,5.0999999999999996,4.3899999999999997,7.5329411764705885,1.477047289504037,{"$f":"[1]!AgePb8Th2(H57)","v":18333.850263120214},3.6286274509803924,{"$f":"[1]!AgePb6U8(J57)","v":9877.5850267629157},0.84372635901869664,{"$f":"[1]!AgePb76(L57)","v":4997.4021329450807},null,null,null,5070]
[null,18.683,15.656000000000001,38.558,7.21,4.3,5.3478502080443828,0.74172679723223067,{"$f":"[1]!AgePb8Th2(H58)","v":11215.301330236282},2.5912621359223302,{"$f":"[1]!AgePb6U8(J58)","v":8241.7644519501864},0.83798105229352893,{"$f":"[1]!AgePb76(L58)","v":4987.701232108534},null,null,null,5062]
[null,17.905000000000001,15.429,37.74,12.6,3.72,2.9952380952380957,0.23771730914588063,{"$f":"[1]!AgePb8Th2(H59)","v":4310.6377644153881},1.4210317460317461,{"$f":"[1]!AgePb6U8(J59)","v":5699.8793917575076},0.86171460485897788,{"$f":"[1]!AgePb76(L59)","v":5027.3274618499154},null,null,null,5060]
[null,17.89,15.477,37.722000000000001,17.600000000000001,3.72,2.1432954545454543,0.12177815082644626,{"$f":"[1]!AgePb8Th2(H60)","v":2322.6894596036714},1.0164772727272726,{"$f":"[1]!AgePb6U8(J60)","v":4521.205895982589},0.86512017887087755,{"$f":"[1]!AgePb76(L60)","v":5032.918271784084},null,null,null,5059]
[null,18.242999999999999,15.436999999999999,38.091999999999999,36.299999999999997,4.74,1.049366391184573,2.8908165046406972E-2,{"$f":"[1]!AgePb8Th2(H61)","v":576.01225007954542},0.50256198347107439,{"$f":"[1]!AgePb6U8(J61)","v":2624.7970355161347},0.84618757879734696,{"$f":"[1]!AgePb76(L61)","v":5001.5364307847458},null,null,null,5055]
[null,null,null,null,null,null,null,"Average",{"$f":"AVERAGE(I12:I61)","v":14197.539849730803},null,{"$f":"AVERAGE(K12:K61)","v":7365.8577429045472},null,{"$f":"AVERAGE(M12:M61)","v":5013.6565460258935},null,null,null,5051]
[null,null,null,null,null,null,null,"Maximum",{"$f":"MAX(I12:I62)","v":94396.269482446194},null,{"$f":"MAX(K12:K62)","v":22200.704611067998},null,{"$f":"MAX(M12:M62)","v":5076.5830286010323},null,null,null,5050]
[null,null,null,null,null,null,null,"Minimum",{"$f":"MIN(I12:I63)","v":78.850835505055628},null,{"$f":"MIN(K12:K63)","v":1117.449976548116},null,{"$f":"MIN(M12:M63)","v":4945.1560080139889},null,null,null,5050]
[null,null,null,null,null,null,null,"Difference",{"$f":"(I63-I64)","v":94317.418646941136},null,{"$f":"(K63-K64)","v":21083.254634519883},null,{"$f":"(M63-M64)","v":131.42702058704344},null,null,null,5045]
[null,null,null,null,null,null,null,null,null,null,null,null,null,null,null,null,5044]
[null,null,null,null,null,null,null,null,"232Th/208Pb",null,null,null,null,null,null,null,5044]
[null,"Dating","232Th/208Pb","206Pb/238U","207Pb/206Pb",null,null,null,"Age","Age","Age","Age",null,null,null,null,5044]
[null,"Summaries","Age","Age","Age",null,null,null,94396.269482446194,39267.097436744305,10595.304059990285,8170.9659351246128,null,null,null,null,5034]
[null,"Average",14198,7366,5013.6565460258935,null,null,null,90682.651334403272,26266.027933754187,10284.010424938078,7789.4425198517065,null,null,null,null,5033]
[null,"Maximum",94396.269482446194,22200.704611067998,5076.5830286010323,null,null,null,74639.25340707117,18333.850263120214,9328.2288973687173,7637.6968256549326,null,null,null,null,5033]
[null,"Minimum",79,1117,4945.1560080139889,null,null,null,58152.801062836079,16357.261128707001,8820.6420082776403,7374.7183161252588,null,null,null,null,5033]
[null,"Difference",94317,21083,131.42702058704344,null,null,null,55323.914389928817,14249.890915787033,8770.778407799402,7317.2127098823885,null,null,null,null,5032]
[null,null,null,null,null,null,null,null,45242.233145134218,11215.301330236282,8402.8970879453245,5759.2298460468965,null,null,null,null,5030]
[null,null,null,null,null,null,null,null,null,null,null,null,null,null,null,null,5027]
[null,null,null,null,null,null,null,null,null,null,null,null,null,null,null,null,5022]
[null,null,null,null,null,null,null,null,"206Pb/238U",null,null,null,null,null,null,null,5021]
[null,null,null,null,null,null,null,null,"Age","Age","Age","Age",null,null,null,null,5018]
[null,null,null,null,null,null,null,null,22200.704611067998,9877.5850267629157,7348.0905289460343,5745.6290208002065,null,null,null,null,5010]
[null,null,null,null,null,null,null,null,21813.207029910729,9656.1050782804505,7334.6923515091621,5699.8793917575076,null,null,null,null,5008]
[null,null,null,null,null,null,null,null,19320.190449406655,9054.1202359344334,7249.0688075805829,5217.7671804655138,null,null,null,null,5008]
[null,null,null,null,null,null,null,null,16656.390670297016,8241.7644519501864,7202.372990816335,5201.3711252248586,null,null,null,null,5006]
[null,null,null,null,null,null,null,null,16199.878029335672,8044.4764449097829,7019.2940995547569,5163.4346325024762,null,null,null,null,5005]
[null,null,null,null,null,null,null,null,14748.271019751501,7996.0905630345542,6923.1094999987345,5159.4397798419905,null,null,null,null,5005]
[null,null,null,null,null,null,null,null,13606.576209458295,7590.0853382887935,6847.6516962037758,5098.5583719787674,null,null,null,null,5002]
[null,null,null,null,null,null,null,null,11255.650537389578,7421.8852038634004,6292.1835853943949,4812.3487067009401,null,null,null,null,5001]
[null,null,null,null,null,null,null,null,null,null,null,null,null,null,null,null,5000]
[null,null,null,null,null,null,null,null,null,null,null,null,null,null,null,null,4998]
[null,null,null,null,null,null,null,null,null,null,null,null,null,null,null,null,4998]
[null,null,null,null,null,null,null,null,null,null,null,null,null,null,null,null,4997]
[null,null,null,null,null,null,null,null,null,null,null,null,null,null,null,null,4996]
[null,null,null,null,null,null,null,null,null,null,null,null,null,null,null,null,4993]
[null,null,null,null,null,null,null,null,null,null,null,null,null,null,null,null,4990]
[null,null,null,null,null,null,null,null,null,null,null,null,null,null,null,null,4988]
[null,null,null,null,null,null,null,null,null,null,null,null,null,null,null,null,4984]
[null,null,null,null,null,null,null,null,null,null,null,null,null,null,null,null,4981]
[null,null,null,null,null,null,null,null,null,null,null,null,null,null,null,null,4978]
[null,null,null,null,null,null,null,null,null,null,null,null,null,null,null,null,4975]
[null,null,null,null,null,null,null,null,null,null,null,null,null,null,null,null,4972]
[null,null,null,null,null,null,null,null,null,null,null,null,null,null,null,null,4972]
[null,null,null,null,null,null,null,null,null,null,null,null,null,null,null,null,4971]
[null,null,null,null,null,null,null,null,null,null,null,null,null,null,null,null,4971]
[null,null,null,null,null,null,null,null,null,null,null,null,null,null,null,null,4971]
[null,null,null,null,null,null,null,null,null,null,null,null,null,null,null,null,4966]
[null,null,null,null,null,null,null,null,null,null,null,null,null,null,null,null,4945]

{"sheet":"Rb-Sr _24","index":24,"n_rows":54,"n_cols":14,"rows_kept":54,"cut":false,"hidden":false,"merged":[]}
["Rubidium","TABLE 1.",null,null,null,null,null,null,null,null,"Rubidium_020.pdf"]
["Strontium","Initial","Today","Today","The Ratio","Half","Decay","2.303/Delta","Age","Age","Age","Model Age","Model Age","Model Age"]
["Dating","87Sr/86Sr","87Sr/86Sr","87Rb/86Sr","Plus One","Life","Constant","Constant","Years","Million Years","Billion Years","Million Years","% Difference"," Difference"]
[" ",0.70669999999999999,0.83028500000000005,46.183,{"$f":"1+((C4-B4)/D4)","v":1.0026759846696836},48800000000,{"$f":"(0.693/F4)","v":1.4200819672131146E-11},{"$f":"(2.303/G4)","v":162173737373.7374},{"$f":"(LOG(E4))*(H4)","v":188220976.36936498},{"$f":"(I4/1000000)","v":188.22097636936499},{"$f":"(J4/1000)","v":0.188220976369365},1600]
[null,0.70669999999999999,0.79749199999999998,33.572000000000003,{"$f":"1+((C5-B5)/D5)","v":1.0027043965209104},48800000000,{"$f":"(0.693/F5)","v":1.4200819672131146E-11},{"$f":"(2.303/G5)","v":162173737373.7374},{"$f":"(LOG(E5))*(H5)","v":190216687.14551079},{"$f":"(I5/1000000)","v":190.2166871455108},{"$f":"(J5/1000)","v":0.19021668714551079},1600]
[null,0.70669999999999999,0.81954400000000005,42.957000000000001,1.0026269059757431,48800000000,1.4200819672131146E-11,162173737373.7374,184773447.99291116,184.77344799291117,0.18477344799291118,1600]
[null,0.70669999999999999,0.81527400000000005,41.698,1.0026038179289174,48800000000,1.4200819672131146E-11,162173737373.7374,183151571.88313085,183.15157188313086,0.18315157188313086,1600]
[null,0.70669999999999999,0.70776499999999998,0.23300000000000001,1.0045708154506436,48800000000,1.4200819672131146E-11,162173737373.7374,321194328.84539568,321.19432884539566,0.32119432884539567,1600]
[null,0.70669999999999999,0.70797500000000002,0.318,1.0040094339622643,48800000000,1.4200819672131146E-11,162173737373.7374,281824480.36687803,281.82448036687805,0.28182448036687807,1600]
[null,0.70669999999999999,0.80381899999999995,36.526000000000003,1.0026589005092263,48800000000,1.4200819672131146E-11,162173737373.7374,187020920.2243751,187.02092022437509,0.18702092022437508,1600]
[null,0.70669999999999999,0.81291999999999998,39.225000000000001,1.0027079668578713,48800000000,1.4200819672131146E-11,162173737373.7374,190467471.44869956,190.46747144869957,0.19046747144869958,1600]
[null,0.70669999999999999,0.72095600000000004,5.085,1.0028035398230088,48800000000,1.4200819672131146E-11,162173737373.7374,197180287.31673753,197.18028731673752,0.19718028731673751,1600]
[null,0.70669999999999999,0.762517,18.661000000000001,1.00299110444242,48800000000,1.4200819672131146E-11,162173737373.7374,210352516.74299774,210.35251674299772,0.21035251674299771,1600]
[null,0.70669999999999999,0.77339000000000002,22.552,1.0029571656615821,48800000000,1.4200819672131146E-11,162173737373.7374,207969257.20053223,207.96925720053224,0.20796925720053225,1600]
[null,0.70669999999999999,0.74757099999999999,14.17,1.0028843330980945,48800000000,1.4200819672131146E-11,162173737373.7374,202854514.203062,202.854514203062,0.202854514203062,1600]
[null,0.70669999999999999,0.75079700000000005,15.401999999999999,1.0028630697312038,48800000000,1.4200819672131146E-11,162173737373.7374,201361201.95682198,201.36120195682199,0.201361201956822,1600]
[null,0.70669999999999999,1.03894,130.327,1.0025492798882809,48800000000,1.4200819672131146E-11,162173737373.7374,179320266.00385717,179.32026600385717,0.17932026600385717,1600]
[null,0.70669999999999999,0.81128500000000003,40.036000000000001,1.002612273953442,48800000000,1.4200819672131146E-11,162173737373.7374,183745590.26582479,183.7455902658248,0.18374559026582479,1600]
[null,0.70669999999999999,0.77393900000000004,24.81,1.0027101571946795,48800000000,1.4200819672131146E-11,162173737373.7374,190621322.61689043,190.62132261689044,0.19062132261689044,1600]
[null,0.70669999999999999,0.75020500000000001,15.06,1.0028887782204516,48800000000,1.4200819672131146E-11,162173737373.7374,203166688.21602121,203.16668821602121,0.20316668821602121,1600]
[null,0.70669999999999999,0.88648700000000002,70.090999999999994,1.0025650511477935,48800000000,1.4200819672131146E-11,162173737373.7374,180428220.87022004,180.42822087022003,0.18042822087022004,1600]
[null,0.70669999999999999,0.75264900000000001,16.216000000000001,1.0028335594474593,48800000000,1.4200819672131146E-11,162173737373.7374,199288661.70934865,199.28866170934864,0.19928866170934864,1600]
[null,0.70669999999999999,0.75827199999999995,18.463999999999999,1.0027931109185442,48800000000,1.4200819672131146E-11,162173737373.7374,196447817.17534539,196.44781717534539,0.1964478171753454,1600]
[null,0.70669999999999999,0.75270099999999995,16.16,1.0028465965346534,48800000000,1.4200819672131146E-11,162173737373.7374,200204278.4507381,200.20427845073812,0.20020427845073813,1600]
[null,0.70669999999999999,0.71546600000000005,3.1560000000000001,1.0027775665399239,48800000000,1.4200819672131146E-11,162173737373.7374,195356049.51201603,195.35604951201603,0.19535604951201602,1600]
[null,0.70669999999999999,0.74849200000000005,15.923,1.0026246310368649,48800000000,1.4200819672131146E-11,162173737373.7374,184613641.0265958,184.61364102659581,0.1846136410265958,1600]
[null,0.70669999999999999,0.94333299999999998,92.652000000000001,1.0025539977550404,48800000000,1.4200819672131146E-11,162173737373.7374,179651705.11601469,179.65170511601468,0.17965170511601469,1600]
[null,0.70669999999999999,0.70855000000000001,0.83099999999999996,1.0022262334536702,48800000000,1.4200819672131146E-11,162173737373.7374,156621929.03091112,156.6219290309111,0.1566219290309111,1600]
[null,0.70669999999999999,0.70725700000000002,0.30299999999999999,1.001838283828383,48800000000,1.4200819672131146E-11,162173737373.7374,129353603.14053513,129.35360314053514,0.12935360314053515,1600]
[null,0.70669999999999999,0.70810200000000001,0.56799999999999995,1.0024683098591549,48800000000,1.4200819672131146E-11,162173737373.7374,173631724.36891547,173.63172436891546,0.17363172436891547,1600]
[null,0.70669999999999999,0.70959099999999997,1.1930000000000001,1.0024233025984912,48800000000,1.4200819672131146E-11,162173737373.7374,170469544.90335843,170.46954490335844,0.17046954490335844,1600]
[null,0.70669999999999999,0.70862000000000003,0.79700000000000004,1.0024090338770388,48800000000,1.4200819672131146E-11,162173737373.7374,169467004.61641836,169.46700461641836,0.16946700461641837,1600]
[null,0.70669999999999999,0.70952099999999996,1.2430000000000001,1.0022695092518101,48800000000,1.4200819672131146E-11,162173737373.7374,159663057.59610996,159.66305759610995,0.15966305759610996,1600]
[null,0.70669999999999999,0.70837000000000006,0.93300000000000005,1.0017899249732047,48800000000,1.4200819672131146E-11,162173737373.7374,125953800.50653392,125.95380050653392,0.12595380050653393,1600]
[null,0.70669999999999999,0.75764299999999996,21.603999999999999,1.0023580355489725,48800000000,1.4200819672131146E-11,162173737373.7374,165883674.24240232,165.88367424240232,0.16588367424240233,1600]
[null,0.70669999999999999,0.75147200000000003,18.306000000000001,1.0024457554900033,48800000000,1.4200819672131146E-11,162173737373.7374,172047087.50786594,172.04708750786594,0.17204708750786593,1600]
[null,0.70669999999999999,0.76732599999999995,25.858000000000001,1.0023445742130095,48800000000,1.4200819672131146E-11,162173737373.7374,164937800.7823278,164.9378007823278,0.16493780078232781,1600]
[null,0.70669999999999999,0.70770699999999997,0.28999999999999998,1.0034724137931035,48800000000,1.4200819672131146E-11,162173737373.7374,244142491.86003736,244.14249186003735,0.24414249186003736,1600]
[null,0.70669999999999999,0.70772199999999996,0.42099999999999999,1.0024275534441804,48800000000,1.4200819672131146E-11,162173737373.7374,170768212.49629921,170.76821249629921,0.17076821249629923,1600]
[null,0.70669999999999999,0.70735000000000003,0.432,1.0015046296296297,48800000000,1.4200819672131146E-11,162173737373.7374,105893164.02490602,105.89316402490603,0.10589316402490603,1600]
[null,0.70669999999999999,0.70789100000000005,0.47399999999999998,1.0025126582278483,48800000000,1.4200819672131146E-11,162173737373.7374,176747471.66845918,176.74747166845918,0.17674747166845919,1600]
[null,0.70669999999999999,0.70661799999999997,0.46899999999999997,0.9998251599147121,48800000000,1.4200819672131146E-11,162173737373.7374,-12315266.522877056,-12.315266522877057,-1.2315266522877056E-2,1600]
[null,0.70669999999999999,0.70635400000000004,0.31900000000000001,0.99891536050156748,48800000000,1.4200819672131146E-11,162173737373.7374,-76433876.342126712,-76.433876342126709,-7.6433876342126714E-2,1600]
[null,0.70669999999999999,0.70678399999999997,6.0000000000000001E-3,1.0139999999999956,48800000000,1.4200819672131146E-11,162173737373.7374,979197728.00905263,979.19772800905264,0.97919772800905269,1600]
[null,0.70669999999999999,0.70669199999999999,8.0000000000000002E-3,0.998999999999999,48800000000,1.4200819672131146E-11,162173737373.7374,-70466398.325412303,-70.4663983254123,-7.0466398325412294E-2,1600]
[null,0.70669999999999999,0.70782,4.0000000000000001E-3,1.2800000000000025,48800000000,1.4200819672131146E-11,162173737373.7374,17386641461.519897,17386.641461519899,17.386641461519901,1600]
[null,0.70669999999999999,0.70663900000000002,3.6999999999999998E-2,0.998351351351352,48800000000,1.4200819672131146E-11,162173737373.7374,-116212058.29253396,-116.21205829253397,-0.11621205829253396,1600]
[null,0.70669999999999999,0.70622499999999999,0.155,0.99693548387096775,48800000000,1.4200819672131146E-11,162173737373.7374,-216168819.36252636,-216.16881936252636,-0.21616881936252635,1600]
[null,0.70669999999999999,0.70650900000000005,3.0000000000000001E-3,0.93633333333335289,48800000000,1.4200819672131146E-11,162173737373.7374,-4633225106.5232544,-4633.225106523254,-4.6332251065232537,1600]
[null,0.70669999999999999,0.70639700000000005,0.39600000000000002,0.99923484848484867,48800000000,1.4200819672131146E-11,162173737373.7374,-53911135.939699791,-53.91113593969979,-5.3911135939699789E-2,1600]
[null,null,null,null,null,null,null,null,"Average",{"$f":"AVERAGE(J1:J50)","v":432.17274463031686}]
[null,null,null,null,null,null,null,null,"Maximum",{"$f":"MAX(J1:J51)","v":17386.641461519899}]
[null,null,null,null,null,null,null,null,"Minimum",{"$f":"MIN(J1:J52)","v":-4633.225106523254}]
[null,null,null,null,null,null,null,null,"Difference",{"$f":"(J52+ABS(J53))","v":22019.866568043151}]

{"sheet":"Rb-Sr _25","index":25,"n_rows":52,"n_cols":20,"rows_kept":52,"cut":false,"hidden":false,"merged":[]}
["Rubidium","TABLE 1.",null,null,null,null,null,null,null,null,"Rubidium_021.pdf",null,null,null,null,"232Th/208Pb",null,"206Pb/238U",null,"207Pb/206Pb"]
["Strontium","Initial","Today","Today","The Ratio","Half","Decay","2.303/Delta","Age","Age","Age","Model Age","Model Age","Model Age",null,13286.710379461309,null,6285.4825103415596,null,5015.8465195765784]
["Dating","87Sr/86Sr","87Sr/86Sr","87Rb/86Sr","Plus One","Life","Constant","Constant","Years","Million Years","Billion Years","Million Years","% Difference"," Difference",null,11832.492678472823,null,6164.8292297988119,null,4999.5082676877455]
[" ",0.70752999999999999,0.70472999999999997,6.5699999999999995E-2,{"$f":"1+((C4-B4)/D4)","v":0.95738203957382007},48800000000,{"$f":"(0.693/F4)","v":1.4200819672131146E-11},{"$f":"(2.303/G4)","v":162173737373.7374},{"$f":"(LOG(E4))*(H4)","v":-3067471501.0435667},{"$f":"(I4/1000000)","v":-3067.4715010435666},{"$f":"(J4/1000)","v":-3.0674715010435665},null,null,null,null,11017.080887984719,null,5766.756635343243,null,4999.3884687562731]
[null,0.70752999999999999,0.70379999999999998,0.20039999999999999,0.98138722554890212,48800000000,1.4200819672131146E-11,162173737373.7374,-1323272732.065392,-1323.2727320653921,-1.3232727320653921,null,null,null,null,10357.265403005078,null,5552.6113639994774,null,4998.7349138715736]
[null,null,null,null,null,null,null,null,null,null,null,null,null,null,null,9101.2620521979952,null,5152.3231464592272,null,4994.5194177343756]
[null,null,null,null,null,null,null,null,null,null,null,null,null,null,null,8725.1212708534385,null,4903.3871163054519,null,4991.310295048369]
[null,null,null,null,null,null,null,null,null,null,null,null,null,null,null,8608.6773687818568,null,4633.3968872986497,null,4989.0433634786614]
[null,null,null,null,null,null,null,null,null,null,null,null,null,null,null,7541.3111632338196,null,null,null,4973.0131468251384]
[null,null,null,null,null,null,null,"232Th/208Pb",null,"206Pb/238U",null,"207Pb/206Pb",null,null,null,7517.3779127594671,null,null,null,4970.5623799364876]
[null,"206Pb/204Pb","207Pb/204Pb","208Pb/204Pb","238U/204Pb","232Th/204Pb","208Pb/232Th","Age","206Pb/238U","Age","207Pb/206Pb","Age",null,null,null,7446.1116083440766,null,null,null,4970.3302394954389]
["TABLE 1",18.603000000000002,15.664,39.14,15.2,42.1,{"$f":"(D12/F12)","v":0.92969121140142519},{"$f":"[1]!AgePb8Th2(G12)","v":13286.710379461309},{"$f":"(B12/E12)","v":1.2238815789473685},{"$f":"[1]!AgePb6U8(I12)","v":5152.3231464592272},{"$f":"(C12/B12)","v":0.84201472880718153},{"$f":"[1]!AgePb76(K12)","v":4994.5194177343756},null,null,null,7362.9446344019061,null,null,null,4969.3971041234299]
[null,18.657,15.673999999999999,39.29,12.9,58.7,{"$f":"(D13/F13)","v":0.66933560477001697},{"$f":"[1]!AgePb8Th2(G13)","v":10357.265403005078},{"$f":"(B13/E13)","v":1.4462790697674419},{"$f":"[1]!AgePb6U8(I13)","v":5766.756635343243},{"$f":"(C13/B13)","v":0.84011363027281982},{"$f":"[1]!AgePb76(K13)","v":4991.310295048369},null,null,null,7361.5529905410785,null,null,null,4969.3270684060535]
[null,19.039000000000001,15.724,40.799999999999997,18.100000000000001,91.6,0.44541484716157204,{"$f":"[1]!AgePb8Th2(G14)","v":7446.1116083440766},1.051878453038674,{"$f":"[1]!AgePb6U8(I14)","v":4633.3968872986497},0.82588371237985181,{"$f":"[1]!AgePb76(K14)","v":4967.0418297671768},null,null,null,7079.7310976048821,null,null,null,4967.0418297671768]
[null,18.995000000000001,15.724,40.78,20.3,76.8,0.53098958333333335,{"$f":"[1]!AgePb8Th2(G15)","v":8608.6773687818568},0.93571428571428572,{"$f":"[1]!AgePb6U8(I15)","v":4257.7044207600111},0.82779678862858641,{"$f":"[1]!AgePb76(K15)","v":4970.3302394954389},null,null,null,7017.383135671429,null,null,null,4964.8997387989239]
[null,18.533000000000001,15.66,39.1,27,121,0.32314049586776861,{"$f":"[1]!AgePb8Th2(G16)","v":5659.5871532274459},0.68640740740740747,{"$f":"[1]!AgePb6U8(I16)","v":3368.8990929459355},0.84497922624507626,{"$f":"[1]!AgePb76(K16)","v":4999.5082676877455},null,null,null,6678.7593696324566,null,null,null,4963.9820251163601]
[null,18.914999999999999,15.587999999999999,39.299999999999997,22.2,72.8,0.5398351648351648,{"$f":"[1]!AgePb8Th2(G17)","v":8725.1212708534385},0.85202702702702704,{"$f":"[1]!AgePb6U8(I17)","v":3972.8008350983082},0.82410785091197458,{"$f":"[1]!AgePb76(K17)","v":4963.9820251163601},null,null,null,6539.8650933685849,null,null,null,4963.4825097213607]
[null,19.074999999999999,15.595000000000001,39.39,22.1,87.1,0.45223880597014932,{"$f":"[1]!AgePb8Th2(G18)","v":7541.3111632338196},0.86312217194570129,{"$f":"[1]!AgePb6U8(I18)","v":4011.3048673005442},0.81756225425950202,{"$f":"[1]!AgePb76(K18)","v":4952.6431307491439},null,null,null,6478.7171365666209,null,null,null,4962.3213347077717]
[null,19.032,15.603,39.299999999999997,16.7,107,0.36728971962616819,{"$f":"[1]!AgePb8Th2(G19)","v":6323.0009815901449},1.1396407185628743,{"$f":"[1]!AgePb6U8(I19)","v":4903.3871163054519},0.81982976040353084,{"$f":"[1]!AgePb76(K19)","v":4956.5820094478722},null,null,null,6323.0009815901449,null,null,null,4956.5820094478722]
[null,19.065000000000001,15.602,39.35,11.9,103,0.38203883495145635,{"$f":"[1]!AgePb8Th2(G20)","v":6539.8650933685849},1.6021008403361345,{"$f":"[1]!AgePb6U8(I20)","v":6164.8292297988119},0.81835824809861002,{"$f":"[1]!AgePb76(K20)","v":4954.0271711566356},null,null,null,5659.5871532274459,null,null,null,4954.0271711566356]
[null,18.960999999999999,15.635999999999999,39.64,21.1,95.5,0.41507853403141359,{"$f":"[1]!AgePb8Th2(G21)","v":7017.383135671429},0.89862559241706153,{"$f":"[1]!AgePb6U8(I21)","v":4132.9911490749901},0.82464005063024104,{"$f":"[1]!AgePb76(K21)","v":4964.8997387989239},null,null,null,5641.171062670187,null,null,null,4952.6431307491439]
[null,19.010000000000002,15.648,39.72,21.1,90.4,0.43938053097345131,{"$f":"[1]!AgePb8Th2(G22)","v":7361.5529905410785},0.90094786729857823,{"$f":"[1]!AgePb6U8(I22)","v":4140.8711638996983},0.82314571278274584,{"$f":"[1]!AgePb76(K22)","v":4962.3213347077717}]
[null,18.925000000000001,15.654999999999999,39.68,22,94.6,0.41945031712473574,{"$f":"[1]!AgePb8Th2(G23)","v":7079.7310976048821},0.86022727272727273,{"$f":"[1]!AgePb6U8(I23)","v":4001.2807084537167},0.82721268163804484,{"$f":"[1]!AgePb76(K23)","v":4969.3270684060535}]
[null,18.719000000000001,15.701000000000001,40.15,13.7,55.4,0.72472924187725629,{"$f":"[1]!AgePb8Th2(G24)","v":11017.080887984719},1.3663503649635038,{"$f":"[1]!AgePb6U8(I24)","v":5552.6113639994774},0.83877343875207011,{"$f":"[1]!AgePb76(K24)","v":4989.0433634786614}]
[null,18.329000000000001,15.667,39.15,11.1,49.2,0.7957317073170731,{"$f":"[1]!AgePb8Th2(G25)","v":11832.492678472823},1.6512612612612614,{"$f":"[1]!AgePb6U8(I25)","v":6285.4825103415596},0.8547656718860821,{"$f":"[1]!AgePb76(K25)","v":5015.8465195765784}]
[null,18.922999999999998,15.694000000000001,39.92,31.8,124,0.32193548387096776,{"$f":"[1]!AgePb8Th2(G26)","v":5641.171062670187},0.59506289308176097,{"$f":"[1]!AgePb6U8(I26)","v":3009.9156606519509},0.82936109496380084,{"$f":"[1]!AgePb76(K26)","v":4973.0131468251384}]
[null,18.946000000000002,15.686,39.94,24.9,102,0.39156862745098037,{"$f":"[1]!AgePb8Th2(G27)","v":6678.7593696324566},0.7608835341365463,{"$f":"[1]!AgePb6U8(I27)","v":3647.4822956861349},0.82793201731236143,{"$f":"[1]!AgePb76(K27)","v":4970.5623799364876}]
[null,18.491,15.616,38.96,20,68.5,0.56875912408759122,{"$f":"[1]!AgePb8Th2(G28)","v":9101.2620521979952},0.92454999999999998,{"$f":"[1]!AgePb6U8(I28)","v":4220.4169165408302},0.84451895516737874,{"$f":"[1]!AgePb76(K28)","v":4998.7349138715736}]
[null,18.46,15.597,38.85,22.4,88.4,0.43947963800904977,{"$f":"[1]!AgePb8Th2(G29)","v":7362.9446344019061},0.82410714285714293,{"$f":"[1]!AgePb6U8(I29)","v":3874.8791653729695},0.84490790899241597,{"$f":"[1]!AgePb76(K29)","v":4999.3884687562731}]
[null,18.86,15.602,38.92,25.7,103,0.37786407766990293,{"$f":"[1]!AgePb8Th2(G30)","v":6478.7171365666209},0.73385214007782096,{"$f":"[1]!AgePb6U8(I30)","v":3547.7557048693279},0.82725344644750798,{"$f":"[1]!AgePb76(K30)","v":4969.3971041234299}]
[null,18.934999999999999,15.599,38.97,19.7,86.5,0.4505202312138728,{"$f":"[1]!AgePb8Th2(G31)","v":7517.3779127594671},0.96116751269035527,{"$f":"[1]!AgePb6U8(I31)","v":4341.9175867307295},0.82381832585159764,{"$f":"[1]!AgePb76(K31)","v":4963.4825097213607}]
[null,null,null,null,null,null,"Average",{"$f":"AVERAGE(H12:H31)","v":8078.806169018465},null,{"$f":"AVERAGE(J12:J31)","v":4449.3503228465779},null,{"$f":"AVERAGE(L12:L31)","v":4976.2980467202678}]
[null,null,null,null,null,null,"Maximum",{"$f":"MAX(H12:H32)","v":13286.710379461309},null,{"$f":"MAX(J12:J32)","v":6285.4825103415596},null,{"$f":"MAX(L12:L32)","v":5015.8465195765784}]
[null,null,null,null,null,null,"Minimum",{"$f":"MIN(H12:H33)","v":5641.171062670187},null,{"$f":"MIN(J12:J33)","v":3009.9156606519509},null,{"$f":"MIN(L12:L33)","v":4952.6431307491439}]
[null,null,null,null,null,null,"Difference",{"$f":"(H33-H34)","v":7645.5393167911216},null,{"$f":"(J33-J34)","v":3275.5668496896087},null,{"$f":"(L33-L34)","v":63.203388827434537}]
[]
[null,"Table","232Th/208Pb","206Pb/238U","207Pb/206Pb",null,null,"232Th/208Pb"]
[null,"Summaries","Age","Age","Age",null,null,"Age","Age","Age","Age"]
[null,"Average",8078.806169018465,4449.3503228465779,4976.2980467202678,null,null,13286.710379461309,8725.1212708534385,7362.9446344019061,6539.8650933685849]
[null,"Maximum",13286.710379461309,6285.4825103415596,5015.8465195765784,null,null,11832.492678472823,8608.6773687818568,7361.5529905410785,6478.7171365666209]
[null,"Minimum",5641.171062670187,3009.9156606519509,4952.6431307491439,null,null,11017.080887984719,7541.3111632338196,7079.7310976048821,6323.0009815901449]
[null,"Difference",7645.5393167911216,3275.5668496896087,63.203388827434537,null,null,10357.265403005078,7517.3779127594671,7017.383135671429,5659.5871532274459]
[null,null,null,null,null,null,null,9101.2620521979952,7446.1116083440766,6678.7593696324566,5641.171062670187]
[]
[]
[null,null,null,null,null,null,null,"206Pb/238U"]
[null,null,null,null,null,null,null,"Age","Age","Age","Age"]
[null,null,null,null,null,null,null,6285.4825103415596,4903.3871163054519,4140.8711638996983,3874.8791653729695]
[null,null,null,null,null,null,null,6164.8292297988119,4633.3968872986497,4132.9911490749901,3647.4822956861349]
[null,null,null,null,null,null,null,5766.756635343243,4341.9175867307295,4011.3048673005442,3547.7557048693279]
[null,null,null,null,null,null,null,5552.6113639994774,4257.7044207600111,4001.2807084537167,3368.8990929459355]
[null,null,null,null,null,null,null,5152.3231464592272,4220.4169165408302,3972.8008350983082,3009.9156606519509]

{"sheet":"Rb-Sr _26","index":26,"n_rows":95,"n_cols":21,"rows_kept":95,"cut":false,"hidden":false,"merged":[]}
["Rubidium","TABLE 1.",null,null,null,null,null,null,null,null,"Rubidium_022.pdf",null,null,null,null,null,null,"207Pb/206Pb","206Pb/238U","208Pb/232Th","207Pb/235U"]
["Strontium","Initial","Today","Today","The Ratio","Half","Decay","2.303/Delta","Age","Age","Age","Model Age","Model Age","Model Age",null,null,null,5017.9577985987862,56922.509704520831,65285.771991483707,8128.1751989004524]
["Dating","87Sr/86Sr","87Sr/86Sr","87Rb/86Sr","Plus One","Life","Constant","Constant","Years","Million Years","Billion Years","Million Years","% Difference"," Difference",null,null,null,4988.596147675019,27312.530820375312,33897.858734874484,6654.7529106217298]
["Table 3.",0.69910000000000005,0.69914799999999999,1.2960000000000001E-3,{"$f":"1+((C4-B4)/D4)","v":1.0370370370369884},48800000000,{"$f":"(0.693/F4)","v":1.4200819672131146E-11},{"$f":"(2.303/G4)","v":162173737373.7374},{"$f":"(LOG(E4))*(H4)","v":2561415338.1807842},{"$f":"(I4/1000000)","v":2561.4153381807841},{"$f":"(J4/1000)","v":2.561415338180784},null,null,null,null,null,null,4977.9646325542271,17873.255260208098,25012.719303380058,5988.1490127241586]
[null,0.69910000000000005,0.69930400000000004,2.6589999999999999E-3,1.0767205716434682,48800000000,1.4200819672131146E-11,162173737373.7374,5206265224.5510263,5206.2652245510262,5.2062652245510259,null,null,null,null,null,null,4977.4067866302048,13680.20481039074,22178.43487933245,5891.6793872703465]
[null,0.69910000000000005,0.69913999999999998,2.2000000000000001E-3,{"$f":"1+((C6-B6)/D6)","v":1.0181818181817859},48800000000,{"$f":"(0.693/F6)","v":1.4200819672131146E-11},{"$f":"(2.303/G6)","v":162173737373.7374},{"$f":"(LOG(E6))*(H6)","v":1269064230.5226662},{"$f":"(I6/1000000)","v":1269.0642305226663},{"$f":"(J6/1000)","v":1.2690642305226663},null,null,null,null,null,null,4950.8692763710415,13622.813352219995,21204.079698998958,5427.4264633668954]
[null,0.69910000000000005,0.70047599999999999,2.4500000000000001E-2,1.0561632653061197,48800000000,1.4200819672131146E-11,162173737373.7374,3848554384.545557,3848.5543845455572,3.8485543845455572,null,null,null,null,null,null,4923.1768345581622,10895.057633853698,17610.780514268201,5300.1118326578453]
[null,0.69910000000000005,0.69994299999999998,2.1520000000000001E-2,1.0391728624535281,48800000000,1.4200819672131146E-11,162173737373.7374,2706322375.8993492,2706.322375899349,2.7063223758993491,null,null,null,null,null,null,4909.1224707814172,10277.674614820644,14430.110555684158,5172.7303748052673]
[null,0.69910000000000005,0.69983600000000001,9.2630000000000004E-3,1.0794558998164696,48800000000,1.4200819672131146E-11,162173737373.7374,5384963434.1409531,5384.9634341409528,5.3849634341409525,null,null,null,null,null,null,4907.9131975863984,9652.7858734922011,14410.304352827186,4848.3657009444951]
[null,0.69910000000000005,0.70116599999999996,4.7399999999999998E-2,1.0435864978902933,48800000000,1.4200819672131146E-11,162173737373.7374,3004828224.9822226,3004.8282249822228,3.0048282249822229,null,null,null,null,null,null,4907.5058086118661,8009.1796338448912,13106.8938440284,4844.0723201154133]
[null,0.69910000000000005,0.70068699999999995,2.0799999999999999E-2,1.0762980769230719,48800000000,1.4200819672131146E-11,162173737373.7374,5178623296.4732304,5178.6232964732308,5.1786232964732308,null,null,null,null,null,null,4907.5058086118661,7394.5846389614026,12737.89551866743]
[null,0.69910000000000005,0.69914600000000005,9.6599999999999995E-4,1.0476190476190377,48800000000,1.4200819672131146E-11,162173737373.7374,3276458629.5414019,3276.4586295414019,3.276458629541402,null,null,null,null,null,null,4885.1180776195288,6764.3319706251868,11641.010200190081]
[null,0.69910000000000005,0.69913499999999995,7.27E-4,1.0481430536449743,48800000000,1.4200819672131146E-11,162173737373.7374,3311678612.3897052,3311.678612389705,3.3116786123897048,null,null,null,null,null,null,4877.6472701100356,6669.5049714243187,11174.332390524964]
[null,0.69910000000000005,0.69986000000000004,1.545E-2,1.0491909385113258,48800000000,1.4200819672131146E-11,162173737373.7374,3382057247.6627889,3382.057247662789,3.382057247662789,null,null,null,null,null,null,4870.0528895806956,6448.5912612394468,9094.0568936773034]
[null,0.69910000000000005,0.69941500000000001,6.6909999999999999E-3,1.0470781646988423,48800000000,1.4200819672131146E-11,162173737373.7374,3240085819.4654689,3240.0858194654688,3.2400858194654689,null,null,null,null,null,null,4869.9536331520867,6436.2518060446573,6520.2752287007506]
[null,0.69910000000000005,0.69932799999999995,3.9220000000000001E-3,1.0581336053033898,48800000000,1.4200819672131146E-11,162173737373.7374,3979825798.9137092,3979.8257989137091,3.9798257989137094,null,null,null,null,null,null,4869.9536331520867,6069.7407836159464,6165.847003721593]
[null,0.69910000000000005,0.70028199999999996,1.9E-2,1.0622105263157844,48800000000,1.4200819672131146E-11,162173737373.7374,4250671104.3088951,4250.6711043088953,4.2506711043088954,null,null,null,null,null,null,4843.0680041163259,5776.554549921907,6121.1032685114378]
[null,0.69910000000000005,0.69912600000000003,4.0400000000000001E-4,1.0643564356434914,48800000000,1.4200819672131146E-11,162173737373.7374,4392814695.9304514,4392.8146959304513,4.3928146959304515,null,null,null,null,null,null,4829.625094267948,5624.8045700321436,5671.1859719347995]
[null,0.69910000000000005,0.69919299999999995,1.33E-3,1.0699248120299991,48800000000,1.4200819672131146E-11,162173737373.7374,4760327735.1308107,4760.3277351308107,4.7603277351308106,null,null,null,null,null,null,4781.1582262138563,5601.595618782495,5408.4163869586264]
[null,0.69910000000000005,0.69914799999999999,1.0679999999999999E-3,1.0449438202246601,48800000000,1.4200819672131146E-11,162173737373.7374,3096373746.8418384,3096.3737468418385,3.0963737468418384,null,null,null,null,null,null,4744.1198240798976,5277.5368445263794,5400.6814251719161]
[null,0.69910000000000005,0.70341500000000001,7.7789999999999998E-2,1.0554698547371122,48800000000,1.4200819672131146E-11,162173737373.7374,3802298516.0388803,3802.2985160388803,3.8022985160388805,null,null,null,null,null,null,4735.3126835076664,5146.8666637707547,5396.0390268668889]
[null,0.69910000000000005,0.70240400000000003,5.8659999999999997E-2,1.0563245823389018,48800000000,1.4200819672131146E-11,162173737373.7374,3859311128.6949091,3859.3111286949093,3.8593111286949093,null,null,null,null,null,null,4700.1994691866548,4952.4876908734932,5365.0624255575794]
[null,0.69910000000000005,0.70016199999999995,1.8960000000000001E-2,1.0560126582278426,48800000000,1.4200819672131146E-11,162173737373.7374,3838510305.343389,3838.5103053433891,3.8385103053433891,null,null,null,null,null,null,4700.1602668471423,4922.5182543658775,5098.2562004544125]
[null,0.69910000000000005,0.70407600000000004,8.2519999999999996E-2,1.0603005332040716,48800000000,1.4200819672131146E-11,162173737373.7374,4123912692.6368675,4123.9126926368672,4.1239126926368668,null,null,null,null,null,null,null,4828.7175664673096,5035.3338104731165]
[null,0.69910000000000005,0.70018599999999998,0.1055,1.0102938388625584,48800000000,1.4200819672131146E-11,162173737373.7374,721300863.50732923,721.30086350732927,0.72130086350732925]
[null,0.69910000000000005,0.70303400000000005,7.0730000000000001E-2,1.0556199632404919,48800000000,1.4200819672131146E-11,162173737373.7374,3812314495.3063259,3812.3144953063261,3.8123144953063259]
[null,0.69910000000000005,0.70018599999999998,1.9400000000000001E-2,1.055979381443295,48800000000,1.4200819672131146E-11,162173737373.7374,3836290862.7810969,3836.2908627810971,3.8362908627810972]
[null,null,null,null,null,null,null,null,"Average",{"$f":"AVERAGE(J4:J27)","v":3618.5111984912364}]
[null,null,null,null,null,null,null,null,"Maximum",{"$f":"MAX(J4:J28)","v":5384.9634341409528}]
[null,null,null,null,null,null,null,null,"Minimum",{"$f":"MIN(J4:J29)","v":721.30086350732927}]
[null,null,null,null,null,null,null,null,"Difference",{"$f":"(J29-J30)","v":4663.6625706336235}]
[]
[]
["Table 1. ",null,null,null,null,null,null,null,null,null,"207Pb/206Pb","206Pb/238U","208Pb/232Th","207Pb/235U"]
[" Sample","206Pb/204Pb","207Pb/204Pb","208Pb/204Pb","238U/ 204Pb","232Th/204Pb","206Pb/238U","207Pb/235U","208Pb/232Th","207Pb/206Pb","Age","Age","Age","Age"]
["PL1,W",18.637,15.954000000000001,38.414000000000001,1.0269999999999999,3.7490000000000001,7.2750000000000004,363.1,1.996,{"$f":"(C36/B36)","v":0.85603906208080704},{"$f":"[1]!AgePb76($J$36)","v":5017.9577985987862},{"$f":"[1]!AgePb6U8(G36)","v":13622.813352219995},{"$f":"[1]!AgePb8Th2(I36)","v":22178.43487933245},{"$f":"[1]!AgePb7U5(H36)","v":5988.1490127241586}]
["PL2.W",18.879000000000001,15.706,38.874000000000002,0.11310000000000001,0.32700000000000001,68.19,2995,24.28,{"$f":"(C37/B37)","v":0.83192965729116997},{"$f":"[1]!AgePb76($J$37)","v":4977.4067866302048},{"$f":"[1]!AgePb6U8(G37)","v":27312.530820375312},{"$f":"[1]!AgePb8Th2(I37)","v":65285.771991483707},{"$f":"[1]!AgePb7U5(H37)","v":8128.1751989004524}]
["PL3,W",19.190000000000001,15.971,39.003,0.53500000000000003,1.86,15,701,4.3499999999999996,0.83225638353309006,{"$f":"[1]!AgePb76($J$38)","v":4977.9646325542271},{"$f":"[1]!AgePb6U8(G38)","v":17873.255260208098},{"$f":"[1]!AgePb8Th2(I38)","v":33897.858734874484},{"$f":"[1]!AgePb7U5(H38)","v":6654.7529106217298}]
["PX 1 ,W",20.844999999999999,16.529,41.506999999999998,2.7890000000000001,13.58,3.47,162.1,0.77880000000000005,0.79294794914847688,{"$f":"[1]!AgePb76($J$39)","v":4909.1224707814172},{"$f":"[1]!AgePb6U8(G39)","v":9652.7858734922011},{"$f":"[1]!AgePb8Th2(I39)","v":11641.010200190081},{"$f":"[1]!AgePb7U5(H39)","v":5172.7303748052673}]
["PX2,W",20.507999999999999,16.422999999999998,40.689,2.38,10.69,3.9249999999999998,183.9,0.91259999999999997,0.80080944021845124,{"$f":"[1]!AgePb76($J$40)","v":4923.1768345581622},{"$f":"[1]!AgePb6U8(G40)","v":10277.674614820644},{"$f":"[1]!AgePb8Th2(I40)","v":13106.8938440284},{"$f":"[1]!AgePb7U5(H40)","v":5300.1118326578453}]
["WR,W",26.04,18.88,47.01,9.51,45.07,1.5640000000000001,81.64,0.35670000000000002,0.7250384024577573,{"$f":"[1]!AgePb76($J$41)","v":4781.1582262138563},{"$f":"[1]!AgePb6U8(G41)","v":6069.7407836159464},{"$f":"[1]!AgePb8Th2(I41)","v":6165.847003721593},{"$f":"[1]!AgePb7U5(H41)","v":4482.4022184204532}]
["1L,W",59,31,67,60,200,0.74199999999999999,39.200000000000003,0.23599999999999999,0.52542372881355937,{"$f":"[1]!AgePb76($J$42)","v":4314.1676984693077},{"$f":"[1]!AgePb6U8(G42)","v":3577.9782654653413},{"$f":"[1]!AgePb8Th2(I42)","v":4282.574209914078},{"$f":"[1]!AgePb7U5(H42)","v":3750.6899483423626}]
["MAG,W",18.998000000000001,15.93,38.908000000000001,1.772,4.3,4.42,208.6,1.855,0.83850931677018625,{"$f":"[1]!AgePb76($J$43)","v":4988.596147675019},{"$f":"[1]!AgePb6U8(G43)","v":10895.057633853698},{"$f":"[1]!AgePb8Th2(I43)","v":21204.079698998958},{"$f":"[1]!AgePb7U5(H43)","v":5427.4264633668954}]
["PL 1 ,L1",24.15,18.829999999999998,45.06,13.2,13.6,0.98299999999999998,58.3,1.04,0.77971014492753621,{"$f":"[1]!AgePb76($J$44)","v":4885.1180776195288},{"$f":"[1]!AgePb6U8(G44)","v":4413.2850896867621},{"$f":"[1]!AgePb8Th2(I44)","v":14410.304352827186},{"$f":"[1]!AgePb7U5(H44)","v":4145.4123023848097}]
["PL2,L 1",19.585000000000001,15.992000000000001,39.679000000000002,1.145,3.573,7.3490000000000002,330.1,2.4470000000000001,0.8165432729129436,{"$f":"[1]!AgePb76($J$45)","v":4950.8692763710415},{"$f":"[1]!AgePb6U8(G45)","v":13680.20481039074},{"$f":"[1]!AgePb8Th2(I45)","v":25012.719303380058},{"$f":"[1]!AgePb7U5(H45)","v":5891.6793872703465}]
["PL3,L1",37.93,23.42,57.05,24,85.3,1.115,58.39,0.30630000000000002,0.61745320326918007,{"$f":"[1]!AgePb76($J$46)","v":4549.6153801337878},{"$f":"[1]!AgePb6U8(G46)","v":4828.7175664673096},{"$f":"[1]!AgePb8Th2(I46)","v":5400.6814251719161},{"$f":"[1]!AgePb7U5(H46)","v":4146.9521876709841}]
["PX1.,L1",20.946000000000002,16.594999999999999,41.26,5.6882999999999999,9.907,1.7192000000000001,81.072999999999993,1.042,0.79227537477322629,{"$f":"[1]!AgePb76($J$47)","v":4907.9131975863984},{"$f":"[1]!AgePb6U8(G47)","v":6448.5912612394468},{"$f":"[1]!AgePb8Th2(I47)","v":14430.110555684158},{"$f":"[1]!AgePb7U5(H47)","v":4475.4115805804076}]
["PX2,L1",21.657,16.797999999999998,42.082000000000001,4.8810000000000002,8.0020000000000007,2.149,100.2,1.39,0.77563836173061818,{"$f":"[1]!AgePb76($J$48)","v":4877.6472701100356},{"$f":"[1]!AgePb6U8(G48)","v":7394.5846389614026},{"$f":"[1]!AgePb8Th2(I48)","v":17610.780514268201},{"$f":"[1]!AgePb7U5(H48)","v":4688.123832922136}]
["WR,L1",32.057000000000002,21.271999999999998,53.639000000000003,30.56,59.64,"0,6836",36.200000000000003,0.38069999999999998,0.66356801946532729,{"$f":"[1]!AgePb76($J$49)","v":4653.7724952730441},{"$f":"[1]!AgePb6U8(G49)","v":56922.509704520831},{"$f":"[1]!AgePb8Th2(I49)","v":6520.2752287007506},{"$f":"[1]!AgePb7U5(H49)","v":3671.9386315470388}]
["1L,L1",138,64.900000000000006,139,491,123,0.25750000000000001,14.52,0.878,0.47028985507246379,{"$f":"[1]!AgePb76($J$50)","v":4150.6782683824704},{"$f":"[1]!AgePb6U8(G50)","v":1477.0386655391283},{"$f":"[1]!AgePb8Th2(I50)","v":12737.89551866743},{"$f":"[1]!AgePb7U5(H50)","v":2784.3118391177059}]
["MAGL 1",22.221,17.143999999999998,42.356999999999999,5.9569000000000001,15.47,1.8556999999999999,90.13,0.73819999999999997,0.77152243373385532,{"$f":"[1]!AgePb76($J$51)","v":4870.0528895806956},{"$f":"[1]!AgePb6U8(G51)","v":6764.3319706251868},{"$f":"[1]!AgePb8Th2(I51)","v":11174.332390524964},{"$f":"[1]!AgePb7U5(H51)","v":4581.6998106392193}]
["PL2,L2",22.831,17.285,43.962000000000003,4.7329999999999997,22.93,2.464,117.5,0.56820000000000004,0.7570846655862643,{"$f":"[1]!AgePb76($J$52)","v":4843.0680041163259},{"$f":"[1]!AgePb6U8(G52)","v":8009.1796338448912},{"$f":"[1]!AgePb8Th2(I52)","v":9094.0568936773034},{"$f":"[1]!AgePb7U5(H52)","v":4848.3657009444951}]
["PL3,L2",40,30,70,20,200,1,90,0.2,0.75,{"$f":"[1]!AgePb76($J$53)","v":4829.625094267948},{"$f":"[1]!AgePb6U8(G53)","v":4468.3138150520244},{"$f":"[1]!AgePb8Th2(I53)","v":3685.1249478313207},{"$f":"[1]!AgePb7U5(H53)","v":4580.2502985397268}]
["PX1,L2",27.13,19.169,49.33,8.7989999999999995,56.79,1.8140000000000001,92.75,0.32390000000000002,0.70656100258016963,{"$f":"[1]!AgePb76($J$54)","v":4744.1198240798976},{"$f":"[1]!AgePb6U8(G54)","v":6669.5049714243187},{"$f":"[1]!AgePb8Th2(I54)","v":5671.1859719347995},{"$f":"[1]!AgePb7U5(H54)","v":4610.4804435706146}]
["PX2,L2",27.21,19.108000000000001,48.405000000000001,9.36,49.4,1.714,86.29,0.35370000000000001,0.70224182285924297,{"$f":"[1]!AgePb76($J$55)","v":4735.3126835076664},{"$f":"[1]!AgePb6U8(G55)","v":6436.2518060446573},{"$f":"[1]!AgePb8Th2(I55)","v":6121.1032685114378},{"$f":"[1]!AgePb7U5(H55)","v":4537.9864027489039}]
["WR,L2",85.73,42.67,110.9,92.75,261.3,0.80379999999999996,43.73,0.30599999999999999,0.49772541700688205,{"$f":"[1]!AgePb76($J$56)","v":4234.4869996452053},{"$f":"[1]!AgePb6U8(G56)","v":3802.7110443156853},{"$f":"[1]!AgePb8Th2(I56)","v":5396.0390268668889},{"$f":"[1]!AgePb7U5(H56)","v":3859.1099329286253}]
["MAG,L2 29",31.66,21.111000000000001,52.872,16.78,76.459999999999994,1.222,64.61,0.28689999999999999,0.6668035375868604,{"$f":"[1]!AgePb76($J$57)","v":4660.7868729044321},{"$f":"[1]!AgePb6U8(G57)","v":5146.8666637707547},{"$f":"[1]!AgePb8Th2(I57)","v":5098.2562004544125},{"$f":"[1]!AgePb7U5(H57)","v":4248.0866358905278}]
["PL1,R",42.62,32.880000000000003,66.73,27.44,138.9,1.1459999999999999,98.62,0.25779999999999997,0.77146879399343038,{"$f":"[1]!AgePb76($J$58)","v":4869.9536331520867},{"$f":"[1]!AgePb6U8(G58)","v":4922.5182543658775},{"$f":"[1]!AgePb8Th2(I58)","v":4635.960851485921},{"$f":"[1]!AgePb7U5(H58)","v":4672.145958922818}]
["PL2,R",36.707999999999998,25.155999999999999,60.942,20.149999999999999,106.1,1.2675000000000001,81.465000000000003,0.28289999999999998,0.68530020703933747,{"$f":"[1]!AgePb76($J$59)","v":4700.1994691866548},{"$f":"[1]!AgePb6U8(G59)","v":5277.5368445263794},{"$f":"[1]!AgePb8Th2(I59)","v":5035.3338104731165},{"$f":"[1]!AgePb7U5(H59)","v":4480.2497445297413}]
["PL3,R",32.700000000000003,25.9,56.86,14.9,85.2,1.45,117,0.30399999999999999,0.7920489296636084,{"$f":"[1]!AgePb76($J$60)","v":4907.5058086118661},{"$f":"[1]!AgePb6U8(G60)","v":5776.554549921907},{"$f":"[1]!AgePb8Th2(I60)","v":5365.0624255575794},{"$f":"[1]!AgePb7U5(H60)","v":4844.0723201154133}]
["PX1,R",61.13,34.01,86.11,43.23,221.4,1.1559999999999999,66.23,0.2492,0.55635530835923441,{"$f":"[1]!AgePb76($J$61)","v":4397.9516090387251},{"$f":"[1]!AgePb6U8(G61)","v":4952.4876908734932},{"$f":"[1]!AgePb8Th2(I61)","v":4497.2884573377769},{"$f":"[1]!AgePb7U5(H61)","v":4272.8533040371076}]
["PX2,R",37.206000000000003,23.92,59.692,18.693000000000001,110.4,1.393,78.7,0.26040000000000002,0.64290705800139758,{"$f":"[1]!AgePb76($J$62)","v":4608.0986020343316},{"$f":"[1]!AgePb6U8(G62)","v":5624.8045700321436},{"$f":"[1]!AgePb8Th2(I62)","v":4677.6984517631627},{"$f":"[1]!AgePb7U5(H62)","v":4445.6207400072799}]
["WR,R",105.2,53.018999999999998,130.59,95.57,452.9,0.98438000000000003,57.375999999999998,0.22,0.50398288973384031,{"$f":"[1]!AgePb76($J$63)","v":4252.9006775411017},{"$f":"[1]!AgePb6U8(G63)","v":4417.7696875473612},{"$f":"[1]!AgePb8Th2(I63)","v":4019.2189741316861},{"$f":"[1]!AgePb7U5(H63)","v":4129.4662603069701}]
["1L,R",507,216,507,508,2250,0.97667000000000004,55.021999999999998,0.21149999999999999,0.42603550295857989,{"$f":"[1]!AgePb76($J$64)","v":4003.609528616144},{"$f":"[1]!AgePb6U8(G64)","v":4392.6743637759437},{"$f":"[1]!AgePb8Th2(I64)","v":3877.9032091853132},{"$f":"[1]!AgePb7U5(H64)","v":4087.6727123215151}]
["MAG,R",33.08,22.207000000000001,53.567999999999998,15.829000000000001,73.790000000000006,1.3844000000000001,78.025999999999996,0.30680000000000002,0.67131197097944384,{"$f":"[1]!AgePb76($J$65)","v":4670.5003096641467},{"$f":"[1]!AgePb6U8(G65)","v":5601.595618782495},{"$f":"[1]!AgePb8Th2(I65)","v":5408.4163869586264},{"$f":"[1]!AgePb7U5(H65)","v":4436.9974232065442}]
["PL 1",42.62,32.880000000000003,66.73,29.94,141.5,1.05,90.37,0.25309999999999999,0.77146879399343038,{"$f":"[1]!AgePb76($J$66)","v":4869.9536331520867},{"$f":"[1]!AgePb6U8(G66)","v":4627.4926230479732},{"$f":"[1]!AgePb8Th2(I66)","v":4560.2926971016104},{"$f":"[1]!AgePb7U5(H66)","v":4584.3704087023698}]
["PL2,T",36.709000000000003,25.155999999999999,60.942,29.146000000000001,141.87,0.87634000000000001,56.32,0.21149999999999999,0.68528153858726737,{"$f":"[1]!AgePb76($J$67)","v":4700.1602668471423},{"$f":"[1]!AgePb6U8(G67)","v":4056.8771689697023},{"$f":"[1]!AgePb8Th2(I67)","v":3877.9032091853132},{"$f":"[1]!AgePb7U5(H67)","v":4110.930195420593}]
["PL3,T",32.700000000000003,25.9,56.86,42.1,194,0.51100000000000001,41.4,0.13400000000000001,0.7920489296636084,{"$f":"[1]!AgePb76($J$68)","v":4907.5058086118661},{"$f":"[1]!AgePb6U8(G68)","v":2660.8972331384539},{"$f":"[1]!AgePb8Th2(I68)","v":2541.7120829825212},{"$f":"[1]!AgePb7U5(H68)","v":3804.790945055503}]
["PX LT",61.13,34.01,86.11,76.680000000000007,322.3,0.65159999999999996,37.340000000000003,0.17119999999999999,0.55635530835923441,{"$f":"[1]!AgePb76($J$69)","v":4397.9516090387251},{"$f":"[1]!AgePb6U8(G69)","v":3234.4529574845974},{"$f":"[1]!AgePb8Th2(I69)","v":3194.1154972190011},{"$f":"[1]!AgePb7U5(H69)","v":3702.5879449840063}]
["PX2,T",37.204999999999998,23.92,59.692999999999998,32.341999999999999,139.72999999999999,0.80508000000000002,45.49,0.20580000000000001,0.642924338126596,{"$f":"[1]!AgePb76($J$70)","v":4608.1374562104183},{"$f":"[1]!AgePb6U8(G70)","v":3807.2838815943469},{"$f":"[1]!AgePb8Th2(I70)","v":3782.5820530200731},{"$f":"[1]!AgePb7U5(H70)","v":3898.2964265649525}]
["WR,T",105.24,53.018999999999998,130.59,136.83000000000001,557.54999999999995,0.68754000000000004,40.076000000000001,0.17874000000000001,0.50379133409350063,{"$f":"[1]!AgePb76($J$71)","v":4252.3406742695051},{"$f":"[1]!AgePb6U8(G71)","v":3373.2270568078857},{"$f":"[1]!AgePb8Th2(I71)","v":3323.8215536422026},{"$f":"[1]!AgePb7U5(H71)","v":3772.5785747434111}]
["1L,T",507,210,507,611.26,2275.8000000000002,0.81179999999999997,45.734999999999999,0.20913000000000001,0.41420118343195267,{"$f":"[1]!AgePb76($J$72)","v":3961.4467420563064},{"$f":"[1]!AgePb6U8(G72)","v":3831.2382030817103},{"$f":"[1]!AgePb8Th2(I72)","v":3838.3242593991977},{"$f":"[1]!AgePb7U5(H72)","v":3903.6333945621636}]
["MAG,T",33.08,22.207000000000001,53.569000000000003,36.36,147.91,0.60267000000000004,33.97,0.153,0.67131197097944384,{"$f":"[1]!AgePb76($J$73)","v":4670.5003096641467},{"$f":"[1]!AgePb6U8(G73)","v":3040.5865491024811},{"$f":"[1]!AgePb8Th2(I73)","v":2877.5591973101969},{"$f":"[1]!AgePb7U5(H73)","v":3609.1694685234143}]
[null,null,null,null,null,null,null,null,null,"Average",{"$f":"AVERAGE(K36:K73)","v":4672.6666596514406},{"$f":"AVERAGE(L36:L73)","v":8035.3138289207154},{"$f":"AVERAGE(M36:M73)","v":10148.382349415731},{"$f":"AVERAGE(N36:N73)","v":4545.5179675946983}]
[null,null,null,null,null,null,null,null,null,"Maximum",{"$f":"MAX(K36:K74)","v":5017.9577985987862},{"$f":"MAX(L36:L74)","v":56922.509704520831},{"$f":"MAX(M36:M74)","v":65285.771991483707},{"$f":"MAX(N36:N74)","v":8128.1751989004524}]
[null,null,null,null,null,null,null,null,null,"Minimum",{"$f":"MIN(K36:K75)","v":3961.4467420563064},{"$f":"MIN(L36:L75)","v":1477.0386655391283},{"$f":"MIN(M36:M75)","v":2541.7120829825212},{"$f":"MIN(N36:N75)","v":2784.3118391177059}]
[null,null,null,null,null,null,null,null,null,"Difference",{"$f":"(K75-K76)","v":1056.5110565424798},{"$f":"(L75-L76)","v":55445.471038981705},{"$f":"(M75-M76)","v":62744.059908501185},{"$f":"(N75-N76)","v":5343.8633597827466}]
[null,null,null,"Table","207Pb/206Pb","206Pb/238U","208Pb/232Th","207Pb/235U","87Rb/86Sr"]
[null,null,null,"Summaries","Age","Age","Age","Age","Age",null,null,null,"208Pb/232Th"]
[null,null,null,"Average",4672.6666596514406,8035.3138289207154,10148.382349415731,4545.5179675946983,3618.5111984912364,null,null,null,"Age","Age","Age","Age"]
[null,null,null,"Maximum",5017.9577985987862,56922.509704520831,65285.771991483707,8128.1751989004524,5384.9634341409528,null,null,null,65285.771991483707,14430.110555684158,9094.0568936773034,5400.6814251719161]
[null,null,null,"Minimum",3961.4467420563064,1477.0386655391283,2541.7120829825212,2784.3118391177059,721.30086350732927,null,null,null,33897.858734874484,14410.304352827186,6520.2752287007506,5396.0390268668889]
[null,null,null,"Difference",1056.5110565424798,55445.471038981705,62744.059908501185,5343.8633597827466,4663.6625706336235,null,null,null,25012.719303380058,13106.8938440284,6165.847003721593,5365.0624255575794]
[null,null,null,null,null,null,null,null,null,null,null,null,22178.43487933245,12737.89551866743,6121.1032685114378,5098.2562004544125]
[null,null,null,null,null,null,null,null,null,null,null,null,21204.079698998958,11641.010200190081,5671.1859719347995,5035.3338104731165]
[null,null,null,null,null,null,null,null,null,null,null,null,17610.780514268201,11174.332390524964,5408.4163869586264,4677.6984517631627]
[]
[]
[null,null,null,null,null,null,null,null,null,null,null,null,"206Pb/238U"]
[null,null,null,null,null,null,null,null,null,null,null,null,"Age","Age","Age","Age"]
[null,null,null,null,null,null,null,null,null,null,null,null,56922.509704520831,10895.057633853698,6764.3319706251868,5776.554549921907]
[null,null,null,null,null,null,null,null,null,null,null,null,27312.530820375312,10277.674614820644,6669.5049714243187,5624.8045700321436]
[null,null,null,null,null,null,null,null,null,null,null,null,17873.255260208098,9652.7858734922011,6448.5912612394468,5601.595618782495]
[null,null,null,null,null,null,null,null,null,null,null,null,13680.20481039074,8009.1796338448912,6436.2518060446573,5277.5368445263794]
[null,null,null,null,null,null,null,null,null,null,null,null,13622.813352219995,7394.5846389614026,6069.7407836159464,5146.8666637707547]

{"sheet":"Rb-Sr _27","index":27,"n_rows":202,"n_cols":14,"rows_kept":202,"cut":false,"hidden":false,"merged":[]}
["Rubidium","TABLE 1.",null,null,null,null,null,null,null,null,"Rubidium_023.pdf"]
["Strontium","Initial","Today","Today","The Ratio","Half","Decay","2.303/Delta","Age","Age","Age","Model Age","Model Age","Model Age"]
["Dating","87Sr/86Sr","87Sr/86Sr","87Rb/86Sr","Plus One","Life","Constant","Constant","Years","Million Years","Billion Years","Million Years","% Difference"," Difference"]
["Table 1.",0.70275699999999997,0.70275699999999997,0.1,{"$f":"1+((C4-B4)/D4)","v":1},48800000000,{"$f":"(0.693/F4)","v":1.4200819672131146E-11},{"$f":"(2.303/G4)","v":162173737373.7374},{"$f":"(LOG(E4))*(H4)","v":0},{"$f":"(I4/1000000)","v":0},{"$f":"(J4/1000)","v":0}]
[null,0.70272299999999999,0.70272299999999999,0.1,1,48800000000,1.4200819672131146E-11,162173737373.7374,0,0,0]
[null,0.70266600000000001,0.70266600000000001,0.11,1,48800000000,1.4200819672131146E-11,162173737373.7374,0,0,0]
[null,0.702654,0.702654,0.08,1,48800000000,1.4200819672131146E-11,162173737373.7374,0,0,0]
[null,0.70264800000000005,0.70264800000000005,0.08,1,48800000000,1.4200819672131146E-11,162173737373.7374,0,0,0]
[null,0.702658,0.702658,0.09,1,48800000000,1.4200819672131146E-11,162173737373.7374,0,0,0]
[null,0.70270600000000005,0.70270600000000005,0.11,1,48800000000,1.4200819672131146E-11,162173737373.7374,0,0,0]
[null,0.70269499999999996,0.70269599999999999,0.1,1.0000100000000003,48800000000,1.4200819672131146E-11,162173737373.7374,704308.07099618018,0.7043080709961802,7.0430807099618024E-4]
[null,0.70288600000000001,0.70288700000000004,0.08,1.0000125000000004,48800000000,1.4200819672131146E-11,162173737373.7374,880383.98827877862,0.88038398827877862,8.8038398827877857E-4]
[null,0.70294800000000002,0.70294999999999996,0.15,1.000013333333333,48800000000,1.4200819672131146E-11,162173737373.7374,939075.86283025192,0.93907586283025191,9.3907586283025195E-4]
[null,0.70284000000000002,0.70284100000000005,0.12,1.0000083333333336,48800000000,1.4200819672131146E-11,162173737373.7374,586923.881598718,0.586923881598718,5.8692388159871801E-4]
[null,0.70291199999999998,0.70291400000000004,0.1,1.0000200000000006,48800000000,1.4200819672131146E-11,162173737373.7374,1408609.0990172946,1.4086090990172946,1.4086090990172945E-3]
[null,0.70294400000000001,0.70294500000000004,7.0000000000000007E-2,1.0000142857142862,48800000000,1.4200819672131146E-11,162173737373.7374,1006152.2311208799,1.0061522311208799,1.00615223112088E-3]
[null,0.70285299999999995,0.70285399999999998,0.08,1.0000125000000004,48800000000,1.4200819672131146E-11,162173737373.7374,880383.98827877862,0.88038398827877862,8.8038398827877857E-4]
[null,0.70274499999999995,0.70274700000000001,0.08,1.0000250000000008,48800000000,1.4200819672131146E-11,162173737373.7374,1760756.9719640394,1.7607569719640395,1.7607569719640395E-3]
[null,0.70276899999999998,0.70277100000000003,0.11,1.0000181818181824,48800000000,1.4200819672131146E-11,162173737373.7374,1280554.8905025406,1.2805548905025406,1.2805548905025406E-3]
[null,0.70278200000000002,0.70278300000000005,7.0000000000000007E-2,1.0000142857142862,48800000000,1.4200819672131146E-11,162173737373.7374,1006152.2311208799,1.0061522311208799,1.00615223112088E-3]
[null,0.70281800000000005,0.70281899999999997,0.08,1.0000124999999991,48800000000,1.4200819672131146E-11,162173737373.7374,880383.98818494659,0.88038398818494656,8.8038398818494651E-4]
[null,0.70288700000000004,0.70289000000000001,0.1,1.0000299999999998,48800000000,1.4200819672131146E-11,162173737373.7374,2112903.0841260073,2.1129030841260072,2.1129030841260071E-3]
[null,0.70290300000000006,0.70290399999999997,0.06,1.0000166666666652,48800000000,1.4200819672131146E-11,162173737373.7374,1173842.8720854789,1.1738428720854788,1.1738428720854787E-3]
[null,0.70289400000000002,0.70289599999999997,0.1,1.0000199999999995,48800000000,1.4200819672131146E-11,162173737373.7374,1408609.0989391021,1.4086090989391022,1.4086090989391023E-3]
[" ",0.70287699999999997,0.70287900000000003,0.08,1.0000250000000008,48800000000,1.4200819672131146E-11,162173737373.7374,1760756.9719640394,1.7607569719640395,1.7607569719640395E-3]
[null,0.70282100000000003,0.702824,0.09,1.0000333333333331,48800000000,1.4200819672131146E-11,162173737373.7374,2347666.1807998396,2.3476661807998394,2.3476661807998395E-3]
[null,0.70286000000000004,0.70286300000000002,0.09,1.0000333333333331,48800000000,1.4200819672131146E-11,162173737373.7374,2347666.1807998396,2.3476661807998394,2.3476661807998395E-3]
[null,0.702874,0.70287599999999995,0.06,1.0000333333333324,48800000000,1.4200819672131146E-11,162173737373.7374,2347666.1807529242,2.347666180752924,2.3476661807529239E-3]
[null,0.70281800000000005,0.70282199999999995,0.08,1.0000499999999986,48800000000,1.4200819672131146E-11,162173737373.7374,3521469.9264354883,3.5214699264354881,3.5214699264354879E-3]
[null,0.70285699999999995,0.70286000000000004,7.0000000000000007E-2,1.0000428571428583,48800000000,1.4200819672131146E-11,162173737373.7374,3018413.573871742,3.0184135738717419,3.018413573871742E-3]
[null,0.70286700000000002,0.70287200000000005,0.08,1.0000625000000003,48800000000,1.4200819672131146E-11,162173737373.7374,4401809.8980846209,4.401809898084621,4.401809898084621E-3]
[null,0.70294599999999996,0.70294599999999996,0.01,1,48800000000,1.4200819672131146E-11,162173737373.7374,0,0,0]
[null,0.70287500000000003,0.70287599999999995,0.01,1.0000999999999918,48800000000,1.4200819672131146E-11,162173737373.7374,7042763.7922038129,7.0427637922038127,7.0427637922038126E-3]
[null,0.70284000000000002,0.702843,0.05,1.0000599999999995,48800000000,1.4200819672131146E-11,162173737373.7374,4225742.7840117728,4.2257427840117732,4.2257427840117733E-3]
[null,0.70283499999999999,0.70284100000000005,0.09,1.0000666666666673,48800000000,1.4200819672131146E-11,162173737373.7374,4695254.110051075,4.6952541100510752,4.6952541100510753E-3]
[null,0.70291499999999996,0.70291999999999999,0.09,1.0000555555555559,48800000000,1.4200819672131146E-11,162173737373.7374,3912733.494603856,3.9127334946038559,3.912733494603856E-3]
[null,0.70291400000000004,0.70291800000000004,0.09,1.0000444444444445,48800000000,1.4200819672131146E-11,162173737373.7374,3130204.1849178434,3.1302041849178432,3.1302041849178433E-3]
[null,0.70297500000000002,0.70297900000000002,0.09,1.0000444444444445,48800000000,1.4200819672131146E-11,162173737373.7374,3130204.1849178434,3.1302041849178432,3.1302041849178433E-3]
[" ",0.70288499999999998,0.70289000000000001,0.06,{"$f":"1+((C39-B39)/D39)","v":1.0000833333333339},48800000000,{"$f":"(0.693/F39)","v":1.4200819672131146E-11},{"$f":"(2.303/G39)","v":162173737373.7374},{"$f":"(LOG(E39))*(H39)","v":5869018.7319076769},{"$f":"(I39/1000000)","v":5.8690187319076772},{"$f":"(J39/1000)","v":5.869018731907677E-3}]
[null,0.70296400000000003,0.70296700000000001,0.04,1.0000749999999994,48800000000,1.4200819672131146E-11,162173737373.7374,5282138.8660529433,5.2821388660529429,5.2821388660529425E-3]
[null,0.702982,0.70298400000000005,0.1,1.0000200000000006,48800000000,1.4200819672131146E-11,162173737373.7374,1408609.0990172946,1.4086090990172946,1.4086090990172945E-3]
[null,0.70299400000000001,0.70299,0.08,0.99994999999999989,48800000000,1.4200819672131146E-11,162173737373.7374,-3521646.0044433028,-3.5216460044433027,-3.5216460044433027E-3]
[null,0.70283099999999998,0.70284000000000002,7.0000000000000007E-2,1.0001285714285719,48800000000,1.4200819672131146E-11,162173737373.7374,9054852.6756836269,9.0548526756836267,9.0548526756836275E-3]
[null,0.70291199999999998,0.70291999999999999,0.05,1.0001600000000002,48800000000,1.4200819672131146E-11,162173737373.7374,11268084.057489935,11.268084057489935,1.1268084057489934E-2]
[null,0.70281800000000005,0.70282999999999995,0.70281800000000005,1.0000170741216075,48800000000,1.4200819672131146E-11,162173737373.7374,1202539.9118789746,1.2025399118789746,1.2025399118789745E-3]
[null,0.70294199999999996,0.70296000000000003,0.1,1.0001800000000007,48800000000,1.4200819672131146E-11,162173737373.7374,12676467.817359028,12.676467817359029,1.267646781735903E-2]
[null,0.70303199999999999,0.70303899999999997,0.04,1.0001749999999996,48800000000,1.4200819672131146E-11,162173737373.7374,12324374.517583298,12.324374517583298,1.2324374517583298E-2]
[null,0.702932,0.70293799999999995,0.03,1.0001999999999984,48800000000,1.4200819672131146E-11,162173737373.7374,14084823.414700497,14.084823414700496,1.4084823414700496E-2]
[null,0.70285600000000004,0.70286899999999997,0.08,1.0001624999999992,48800000000,1.4200819672131146E-11,162173737373.7374,11444133.56756491,11.44413356756491,1.144413356756491E-2]
[null,0.70292100000000002,0.70295099999999999,0.17,1.0001764705882352,48800000000,1.4200819672131146E-11,162173737373.7374,12427931.553173592,12.427931553173591,1.2427931553173592E-2]
[null,0.70282299999999998,0.70284000000000002,0.09,1.0001888888888895,48800000000,1.4200819672131146E-11,162173737373.7374,13302407.115223704,13.302407115223703,1.3302407115223703E-2]
[null,0.70282999999999995,0.70284100000000005,0.06,1.000183333333335,48800000000,1.4200819672131146E-11,162173737373.7374,12911195.706027035,12.911195706027035,1.2911195706027036E-2]
[null,0.70286599999999999,0.70288200000000001,0.08,1.0002000000000002,48800000000,1.4200819672131146E-11,162173737373.7374,14084823.414825581,14.08482341482558,1.408482341482558E-2]
[null,0.70292699999999997,0.70294800000000002,4.8000000000000001E-2,1.000437500000001,48800000000,1.4200819672131146E-11,162173737373.7374,30806893.655690853,30.806893655690853,3.0806893655690854E-2]
[null,0.70296099999999995,0.70300499999999999,0.1,1.0004400000000004,48800000000,1.4200819672131146E-11,162173737373.7374,30982894.333483219,30.98289433348322,3.0982894333483221E-2]
[null,0.70295300000000005,0.70299,0.08,1.0004624999999994,48800000000,1.4200819672131146E-11,162173737373.7374,32566880.642800733,32.566880642800733,3.2566880642800736E-2]
[null,0.70293399999999995,0.70298400000000005,0.11,1.0004545454545464,48800000000,1.4200819672131146E-11,162173737373.7374,32006889.553869747,32.006889553869748,3.2006889553869745E-2]
[null,0.70289900000000005,0.70297200000000004,0.16,1.00045625,48800000000,1.4200819672131146E-11,162173737373.7374,32126888.019139729,32.126888019139727,3.2126888019139724E-2]
[null,0.70780799999999999,0.70849799999999996,0.88,{"$f":"1+((C59-B59)/D59)","v":1.0007840909090908},48800000000,{"$f":"(0.693/F59)","v":1.4200819672131146E-11},{"$f":"(2.303/G59)","v":162173737373.7374},{"$f":"(LOG(E59))*(H59)","v":55202792.508696064},{"$f":"(I59/1000000)","v":55.202792508696064},{"$f":"(J59/1000)","v":5.5202792508696065E-2}]
[null,null,null,null,null,null,null,null,"Average",{"$f":"AVERAGE(J4:J59)","v":7.3111497300032804}]
[null,null,null,null,null,null,null,null,"Maximum",{"$f":"MAX(J4:J60)","v":55.202792508696064}]
[null,null,null,null,null,null,null,null,"Minimum",{"$f":"MIN(J4:J61)","v":-3.5216460044433027}]
[null,null,null,null,null,null,null,null,"Difference",{"$f":"(J61-J62)","v":58.724438513139368}]
[]
[]
[null,null,null,null,"207Pb/206Pb"]
["Sample","207Pb/204Pb","206Pb/204Pb","207Pb/206Pb","Age"]
["MA",15.515000000000001,18.966999999999999,{"$f":"(B68/C68)","v":0.81799968366109566},{"$f":"[1]!AgePb76(D68)","v":4953.403891744123}]
["Md19-5a",15.516999999999999,18.885000000000002,{"$f":"(B69/C69)","v":0.82165740005295196},{"$f":"[1]!AgePb76($D$69)","v":4959.7483756212232}]
["Md19-6a",15.523,18.84,0.82393842887473456,{"$f":"[1]!AgePb76($D$70)","v":4963.6897452060448}]
["Md19-8a",15.513999999999999,18.795999999999999,0.82538838050649077,{"$f":"[1]!AgePb76($D$71)","v":4966.1890781309576}]
["Md33a",15.505000000000001,18.779,0.82565631822780772,{"$f":"[1]!AgePb76($D$72)","v":4966.6504208979695}]
["MA85",15.502000000000001,18.731000000000002,0.82761198013987503,{"$f":"[1]!AgePb76($D$73)","v":4970.012922642688}]
["MA87",15.505000000000001,18.881,0.82119591123351521,{"$f":"[1]!AgePb76($D$74)","v":4958.9495583865564}]
["MA88",15.505000000000001,18.876000000000001,0.82141343504979869,{"$f":"[1]!AgePb76($D$75)","v":4959.3261421756752}]
["MA115",15.564,19.786999999999999,0.78657704553494723,{"$f":"[1]!AgePb76($D$76)","v":4897.6236703806362}]
["MA16",15.558,19.440999999999999,0.80026747595288317,{"$f":"[1]!AgePb76($D$77)","v":4922.2126606854845}]
["MA17",15.542999999999999,19.303999999999998,0.80516991297140494,{"$f":"[1]!AgePb76($D$78)","v":4930.9090988115222}]
["MA23",15.548,19.407,0.8011542227031484,{"$f":"[1]!AgePb76($D$79)","v":4923.789853678375}]
["MA53",15.544,19.303999999999998,0.8052217157065894,{"$f":"[1]!AgePb76($D$80)","v":4931.0006906757035}]
["MA66",15.536,19.091999999999999,0.81374397653467423,{"$f":"[1]!AgePb76($D$81)","v":4945.9840867656694}]
["MA142",15.512,18.934999999999999,0.8192236598890944,{"$f":"[1]!AgePb76($D$82)","v":4955.5302893297767}]
["MA137",15.513,18.920000000000002,0.81992600422832973,{"$f":"[1]!AgePb76($D$83)","v":4956.7489379710905}]
["MA160",15.523999999999999,18.995999999999999,0.81722467887976413,{"$f":"[1]!AgePb76($D$84)","v":4952.0557362077261}]
["MA162",15.52,19.132999999999999,0.81116395756023629,{"$f":"[1]!AgePb76($D$85)","v":4941.465715498889}]
["MA75b",15.56,19.600000000000001,0.79387755102040813,{"$f":"[1]!AgePb76($D$86)","v":4910.7920773907217}]
["Md1a",15.535,19.263000000000002,0.80646835903026526,{"$f":"[1]!AgePb76($D$87)","v":4933.2029788085792}]
["Md3a",15.542,19.420000000000002,0.80030895983522132,{"$f":"[1]!AgePb76($D$88)","v":4922.2864865531155}]
["Md5a",15.532999999999999,19.032,0.81615174443043292,{"$f":"[1]!AgePb76($D$89)","v":4950.1870730260707}]
["Md9a",15.542999999999999,19.399999999999999,0.8011855670103093,{"$f":"[1]!AgePb76($D$90)","v":4923.8455695598177}]
["Md12a",15.541,19.347000000000001,0.8032769938491755,{"$f":"[1]!AgePb76($D$91)","v":4927.5579416569681}]
["Md21a",15.545999999999999,19.334,0.80407572152684392,{"$f":"[1]!AgePb76($D$92)","v":4928.9730044820253}]
["MA227",15.528,19.059000000000001,0.81473319691484336,{"$f":"[1]!AgePb76($D$93)","v":4947.712462908692}]
["MA208",15.523999999999999,19.170000000000002,0.80980699008868007,{"$f":"[1]!AgePb76($D$94)","v":4939.0831288606651}]
["MA215",15.576000000000001,19.789000000000001,0.78710394663702055,{"$f":"[1]!AgePb76($D$95)","v":4898.5784250722518}]
["MA120",15.555999999999999,19.468,0.79905485925621533,{"$f":"[1]!AgePb76($D$96)","v":4920.052853215605}]
["MA123",15.563000000000001,19.515000000000001,0.79748911094030239,{"$f":"[1]!AgePb76($D$97)","v":4917.2589132902249}]
["MA127",15.567,19.524000000000001,0.79732636754763364,{"$f":"[1]!AgePb76($D$98)","v":4916.9681771893502}]
["Md137-1",15.567,19.57,0.79545222278998462,{"$f":"[1]!AgePb76($D$99)","v":4913.6155162599489}]
["DGR14",15.555999999999999,19.62,0.79286442405708457,{"$f":"[1]!AgePb76($D$100)","v":4908.9723539809474}]
["K11",15.548999999999999,19.533000000000001,0.7960374750422361,{"$f":"[1]!AgePb76($D$101)","v":4914.6633769907012}]
["DGR47",15.566000000000001,19.68,0.79095528455284558,{"$f":"[1]!AgePb76($D$102)","v":4905.536525483577}]
["DGR2",15.561,19.521000000000001,0.79714153988012904,{"$f":"[1]!AgePb76($D$103)","v":4916.6379116068056}]
["K18",15.551,19.347999999999999,0.80375232582179046,{"$f":"[1]!AgePb76($D$104)","v":4928.4002419765111}]
["K22",15.56,19.353000000000002,0.80400971425618761,{"$f":"[1]!AgePb76($D$105)","v":4928.8561196548253}]
["K26",15.57,19.651,0.7923260902753041,{"$f":"[1]!AgePb76($D$106)","v":4908.0044209723601}]
["K43",15.528,19.099,0.81302686004502855,{"$f":"[1]!AgePb76($D$107)","v":4944.7297356982735}]
["K45",15.538,19.065000000000001,0.81500131130343556,{"$f":"[1]!AgePb76($D$108)","v":4948.1805307558243}]
["K67",15.523,18.957000000000001,0.81885319407079171,{"$f":"[1]!AgePb76($D$109)","v":4954.8870406937322}]
["PS162-2a",15.552,19.260999999999999,0.80743471263174293,{"$f":"[1]!AgePb76($D$110)","v":4934.9076240196282}]
["PS2a",15.512,18.939,0.81905063625323404,{"$f":"[1]!AgePb76($D$111)","v":4955.2299027669615}]
["PS3a",15.538,19.241,0.80754638532300815,{"$f":"[1]!AgePb76($D$112)","v":4935.1044744480441}]
["PS4a",15.547000000000001,19.315999999999999,0.80487678608407542,{"$f":"[1]!AgePb76($D$113)","v":4930.3907061522832}]
["PS36a",15.542,19.295999999999999,0.80545190713101167,{"$f":"[1]!AgePb76($D$114)","v":4931.4076138760474}]
["PS37.1a",15.545999999999999,19.329999999999998,0.80424211070874296,{"$f":"[1]!AgePb76($D$115)","v":4929.2675990138187}]
["PS41a",15.507999999999999,18.878,0.82148532683546982,{"$f":"[1]!AgePb76($D$116)","v":4959.4505800909819}]
["PS53a",15.507999999999999,18.850999999999999,0.822661927749191,{"$f":"[1]!AgePb76($D$117)","v":4961.4855217584509}]
["K55",15.541,19.282,0.805984856342703,{"$f":"[1]!AgePb76($D$118)","v":4932.3492655677892}]
["DS790-1",15.577,19.478000000000002,0.79972276414416255,{"$f":"[1]!AgePb76($D$119)","v":4921.2428984760645}]
["DS797-1b",15.59,19.655000000000001,0.79318239633680987,{"$f":"[1]!AgePb76($D$120)","v":4909.5437448163639}]
["DS-797-2",15.593,19.763000000000002,0.78899964580276272,{"$f":"[1]!AgePb76($D$121)","v":4902.0078482946319}]
["DS-797-7",15.599,19.637,0.79436777511839896,{"$f":"[1]!AgePb76($D$122)","v":4911.6717040150734}]
["VH-97-103",15.601000000000001,19.614000000000001,0.79540124400938106,{"$f":"[1]!AgePb76($D$123)","v":4913.5242028187968}]
["VH-97-77",15.619,19.414999999999999,0.80448107133659541,{"$f":"[1]!AgePb76($D$124)","v":4929.6905689593777}]
["VH-97-76",15.327,15.749000000000001,0.97320464791415329,{"$f":"[1]!AgePb76($D$125)","v":5199.1772641568714}]
[null,null,null,"Average",{"$f":"AVERAGE(E68:E125)","v":4938.2883665539466}]
[null,null,null,"Maximum",{"$f":"MAX(E68:E126)","v":5199.1772641568714}]
[null,null,null,"Minimum",{"$f":"MIN(E70:E127)","v":4897.6236703806362}]
[null,null,null,"Difference",{"$f":"(E127-E128)","v":301.55359377623518}]
[]
[]
[null,null,null,"Table","207Pb/206Pb","87Rb/86Sr","147Sm/144Nd"]
[null,null,null,"Summaries","Age","Age","Age"]
[null,null,null,"Average",4938.2883665539466,7.3111497300032804,9.6745596043205264]
[null,null,null,"Maximum",5199.1772641568714,55.202792508696064,163.82551781467015]
[null,null,null,"Minimum",4897.6236703806362,-3.5216460044433027,0]
[null,null,null,"Difference",301.55359377623518,58.724438513139368,164]
[]
[]
["Neodymium",null,null,null,null,null,null,null,null,null,"Rubidium_040.PDF"]
["Samarium","Initial","Today","Today","The Ratio","Half","Decay","2.303/Delta","Age","Age","Age"]
["Dating","143Nd/144Nd","143Nd/144Nd","147Sm/144Nd","Plus One","Life","Constant","Constant","Years","Million Years","Billion Years"]
[null,0.51312000000000002,0.51312000000000002,0.12,{"$f":"1+((C143-B143)/D143)","v":1},106000000000,{"$f":"(0.693/F143)","v":6.5377358490566029E-12},{"$f":"(2.303/G143)","v":352262626262.62628},{"$f":"(LOG(E143))*(H143)","v":0},{"$f":"(I143/1000000)","v":0},{"$f":"(J143/1000)","v":0}]
[null,0.51313799999999998,0.51313799999999998,0.12,{"$f":"1+((C144-B144)/D144)","v":1},106000000000,{"$f":"(0.693/F144)","v":6.5377358490566029E-12},{"$f":"(2.303/G144)","v":352262626262.62628},{"$f":"(LOG(E144))*(H144)","v":0},{"$f":"(I144/1000000)","v":0},{"$f":"(J144/1000)","v":0}]
[null,0.51315100000000002,0.51315100000000002,0.12,1,106000000000,6.5377358490566029E-12,352262626262.62628,0,0,0]
[null,0.51318900000000001,0.51318900000000001,0.12,1,106000000000,6.5377358490566029E-12,352262626262.62628,0,0,0]
[null,0.51315900000000003,0.51315900000000003,0.12,1,106000000000,6.5377358490566029E-12,352262626262.62628,0,0,0]
[null,0.51317800000000002,0.51317800000000002,0.13,1,106000000000,6.5377358490566029E-12,352262626262.62628,0,0,0]
[null,0.51314599999999999,0.51314599999999999,0.12,1,106000000000,6.5377358490566029E-12,352262626262.62628,0,0,0]
[null,0.513123,0.513123,0.13,1,106000000000,6.5377358490566029E-12,352262626262.62628,0,0,0]
[null,0.51300299999999999,0.51300400000000002,0.11,1.0000090909090911,106000000000,6.5377358490566029E-12,352262626262.62628,1390772.9034900791,1.3907729034900791,1.3907729034900792E-3]
[null,0.513042,0.513042,0.11,1,106000000000,6.5377358490566029E-12,352262626262.62628,0,0,0]
[null,0.51305400000000001,0.51305500000000004,0.13,1.0000076923076926,106000000000,6.5377358490566029E-12,352262626262.62628,1176808.6643752789,1.1768086643752789,1.1768086643752789E-3]
[null,0.51302400000000004,0.51302499999999995,0.12,1.0000083333333327,106000000000,6.5377358490566029E-12,352262626262.62628,1274875.6443203541,1.2748756443203542,1.2748756443203542E-3]
[null,0.51304000000000005,0.51304000000000005,0.12,1,106000000000,6.5377358490566029E-12,352262626262.62628,0,0,0]
[null,0.51307100000000005,0.51307199999999997,0.12,1.0000083333333327,106000000000,6.5377358490566029E-12,352262626262.62628,1274875.6443203541,1.2748756443203542,1.2748756443203542E-3]
[null,0.51311399999999996,0.51311499999999999,0.13,1.0000076923076926,106000000000,6.5377358490566029E-12,352262626262.62628,1176808.6643752789,1.1768086643752789,1.1768086643752789E-3]
[null,0.51309899999999997,0.51310100000000003,0.13,1.000015384615385,106000000000,6.5377358490566029E-12,352262626262.62628,2353608.2764466964,2.3536082764466966,2.3536082764466964E-3]
[null,0.51310999999999996,0.51311200000000001,0.13,1.000015384615385,106000000000,6.5377358490566029E-12,352262626262.62628,2353608.2764466964,2.3536082764466966,2.3536082764466964E-3]
[null,0.51306700000000005,0.51306799999999997,0.13,1.0000076923076917,106000000000,6.5377358490566029E-12,352262626262.62628,1176808.6642394012,1.1768086642394013,1.1768086642394014E-3]
[null,0.51302599999999998,0.51302800000000004,0.13,1.000015384615385,106000000000,6.5377358490566029E-12,352262626262.62628,2353608.2764466964,2.3536082764466966,2.3536082764466964E-3]
[null,0.51306399999999996,0.51306499999999999,0.11,1.0000090909090911,106000000000,6.5377358490566029E-12,352262626262.62628,1390772.9034900791,1.3907729034900791,1.3907729034900792E-3]
[null,0.51306300000000005,0.51306499999999999,0.12,1.0000166666666663,106000000000,6.5377358490566029E-12,352262626262.62628,2549740.6649456806,2.5497406649456806,2.5497406649456805E-3]
[null,0.513046,0.51304799999999995,0.12,1.0000166666666663,106000000000,6.5377358490566029E-12,352262626262.62628,2549740.6649456806,2.5497406649456806,2.5497406649456805E-3]
[null,0.513046,0.51304700000000003,0.11,1.0000090909090911,106000000000,6.5377358490566029E-12,352262626262.62628,1390772.9034900791,1.3907729034900791,1.3907729034900792E-3]
[null,0.51304700000000003,0.51304899999999998,0.12,1.0000166666666663,106000000000,6.5377358490566029E-12,352262626262.62628,2549740.6649456806,2.5497406649456806,2.5497406649456805E-3]
[null,0.51305299999999998,0.51305500000000004,0.12,1.0000166666666672,106000000000,6.5377358490566029E-12,352262626262.62628,2549740.6650815569,2.5497406650815568,2.5497406650815567E-3]
[null,0.51305999999999996,0.51306300000000005,0.12,1.0000250000000008,106000000000,6.5377358490566029E-12,352262626262.62628,3824595.0620530359,3.824595062053036,3.824595062053036E-3]
[null,0.51304300000000003,0.51304700000000003,0.12,1.0000333333333333,106000000000,6.5377358490566029E-12,352262626262.62628,5099438.8353778813,5.0994388353778817,5.0994388353778819E-3]
[null,0.51301200000000002,0.51301600000000003,0.14000000000000001,1.0000285714285715,106000000000,6.5377358490566029E-12,352262626262.62628,4370957.9799527396,4.3709579799527392,4.3709579799527396E-3]
[null,0.51301300000000005,0.51301799999999997,0.14000000000000001,1.0000357142857137,106000000000,6.5377358490566029E-12,352262626262.62628,5463677.9621912539,5.4636779621912535,5.4636779621912539E-3]
[null,0.51303100000000001,0.51303500000000002,0.12,1.0000333333333333,106000000000,6.5377358490566029E-12,352262626262.62628,5099438.8353778813,5.0994388353778817,5.0994388353778819E-3]
[null,0.51302499999999995,0.51302899999999996,0.13,1.0000307692307693,106000000000,6.5377358490566029E-12,352262626262.62628,4707180.3442689665,4.7071803442689664,4.7071803442689667E-3]
[null,0.51302199999999998,0.51302599999999998,0.14000000000000001,1.0000285714285715,106000000000,6.5377358490566029E-12,352262626262.62628,4370957.9799527396,4.3709579799527392,4.3709579799527396E-3]
[null,0.51302099999999995,0.51302400000000004,0.14000000000000001,1.0000214285714293,106000000000,6.5377358490566029E-12,352262626262.62628,3278230.1927666184,3.2782301927666184,3.2782301927666182E-3]
[null,0.51302999999999999,0.51303299999999996,0.14000000000000001,1.0000214285714284,106000000000,6.5377358490566029E-12,352262626262.62628,3278230.1926307427,3.2782301926307427,3.2782301926307426E-3]
[null,0.51300400000000002,0.51300699999999999,0.13,1.0000230769230767,106000000000,6.5377358490566029E-12,352262626262.62628,3530398.8362855776,3.5303988362855776,3.5303988362855778E-3]
[null,0.51304300000000003,0.513046,0.12,1.0000249999999997,106000000000,6.5377358490566029E-12,352262626262.62628,3824595.061883192,3.8245950618831919,3.8245950618831918E-3]
[null,0.51300699999999999,0.51300999999999997,0.12,1.0000249999999997,106000000000,6.5377358490566029E-12,352262626262.62628,3824595.061883192,3.8245950618831919,3.8245950618831918E-3]
[null,0.51299799999999995,0.51300100000000004,0.14000000000000001,1.0000214285714293,106000000000,6.5377358490566029E-12,352262626262.62628,3278230.1927666184,3.2782301927666184,3.2782301927666182E-3]
[null,0.51300500000000004,0.51300900000000005,0.13,1.0000307692307693,106000000000,6.5377358490566029E-12,352262626262.62628,4707180.3442689665,4.7071803442689664,4.7071803442689667E-3]
[null,0.51305000000000001,0.51305900000000004,0.12,1.0000750000000003,106000000000,6.5377358490566029E-12,352262626262.62628,11473498.356726279,11.47349835672628,1.1473498356726279E-2]
[null,0.51302199999999998,0.51303100000000001,0.12,1.0000750000000003,106000000000,6.5377358490566029E-12,352262626262.62628,11473498.356726279,11.47349835672628,1.1473498356726279E-2]
[null,0.51307499999999995,0.51308500000000001,0.13,1.0000769230769235,106000000000,6.5377358490566029E-12,352262626262.62628,11767679.307944875,11.767679307944876,1.1767679307944876E-2]
[null,0.51303600000000005,0.51304400000000006,0.1,1.0000800000000001,106000000000,6.5377358490566029E-12,352262626262.62628,12238367.65316147,12.23836765316147,1.2238367653161469E-2]
[null,0.51297000000000004,0.51297899999999996,0.11,1.0000818181818174,106000000000,6.5377358490566029E-12,352262626262.62628,12516500.99454497,12.51650099454497,1.2516500994544971E-2]
[null,0.51300999999999997,0.513019,0.12,1.0000750000000003,106000000000,6.5377358490566029E-12,352262626262.62628,11473498.356726279,11.47349835672628,1.1473498356726279E-2]
[null,0.51307700000000001,0.51308600000000004,0.12,1.0000750000000003,106000000000,6.5377358490566029E-12,352262626262.62628,11473498.356726279,11.47349835672628,1.1473498356726279E-2]
[null,0.51299899999999998,0.51300699999999999,0.1,1.0000800000000001,106000000000,6.5377358490566029E-12,352262626262.62628,12238367.65316147,12.23836765316147,1.2238367653161469E-2]
[null,0.51306499999999999,0.51307400000000003,0.11,1.0000818181818185,106000000000,6.5377358490566029E-12,352262626262.62628,12516500.994714804,12.516500994714804,1.2516500994714803E-2]
[null,0.51307499999999995,0.51308399999999998,0.11,1.0000818181818185,106000000000,6.5377358490566029E-12,352262626262.62628,12516500.994714804,12.516500994714804,1.2516500994714803E-2]
[null,0.51302499999999995,0.51303600000000005,0.12,1.0000916666666675,106000000000,6.5377358490566029E-12,352262626262.62628,14023047.807192497,14.023047807192498,1.4023047807192497E-2]
[null,0.51295400000000002,0.51297999999999999,0.13,{"$f":"1+((C193-B193)/D193)","v":1.0001999999999998},106000000000,{"$f":"(0.693/F193)","v":6.5377358490566029E-12},352262626262.62628,{"$f":"(LOG(E193))*(H193)","v":30594083.646889277},30.594083646889278,3.0594083646889279E-2]
[null,0.51294399999999996,0.51296900000000001,0.13,1.000192307692308,106000000000,6.5377358490566029E-12,352262626262.62628,29417501.247625645,29.417501247625644,2.9417501247625644E-2]
[null,0.51293,0.512957,0.13,1.0002076923076924,106000000000,6.5377358490566029E-12,352262626262.62628,31770656.997499485,31.770656997499483,3.177065699749948E-2]
[null,0.51294600000000001,0.51297199999999998,0.12,1.0002166666666663,106000000000,6.5377358490566029E-12,352262626262.62628,33143314.469952978,33.143314469952976,3.3143314469952979E-2]
[null,0.512965,0.51299099999999997,0.12,1.0002166666666663,106000000000,6.5377358490566029E-12,352262626262.62628,33143314.469952978,33.143314469952976,3.3143314469952979E-2]
[null,0.51286100000000001,0.51293599999999995,7.0000000000000007E-2,1.0010714285714277,106000000000,6.5377358490566029E-12,352262626262.62628,163825517.81467015,163.82551781467015,0.16382551781467014]
[null,null,null,null,null,null,null,null,"Average",{"$f":"AVERAGE(J143:J198)","v":9.6745596043205264},9.6745596043205269E-3]
[null,null,null,null,null,null,null,null,"Maximum",{"$f":"MAX(J143:J199)","v":163.82551781467015},0.16382551781467014]
[null,null,null,null,null,null,null,null,"Minimum",{"$f":"MIN(J143:J200)","v":0}]
[null,null,null,null,null,null,null,null,"Difference",164]

{"sheet":"Rb-Sr _28","index":28,"n_rows":69,"n_cols":14,"rows_kept":69,"cut":false,"hidden":false,"merged":[]}
["Rubidium","Table 2",null,null,null,null,null,null,null,null,"Rubidium_024.pdf"]
["Strontium","Initial","Today","Today","The Ratio","Half","Decay","2.303/Delta","Age","Age","Age","Model Age","Model Age","Model Age"]
["Dating","87Sr/86Sr","87Sr/86Sr","87Rb/86Sr","Plus One","Life","Constant","Constant","Years","Million Years","Billion Years","Million Years","% Difference"," Difference"]
["MNP-10",0.70607500000000001,0.70607500000000001,2.0999999999999999E-5,{"$f":"1+((C4-B4)/D4)","v":1},48800000000,{"$f":"(0.693/F4)","v":1.4200819672131146E-11},{"$f":"(2.303/G4)","v":162173737373.7374},{"$f":"(LOG(E4))*(H4)","v":0},{"$f":"(I4/1000000)","v":0},{"$f":"(J4/1000)","v":0},{"$f":"LOG(E4)","v":0}]
["MNP-13",0.70601999999999998,0.70601999999999998,8.5499999999999997E-4,{"$f":"1+((C5-B5)/D5)","v":1},48800000000,{"$f":"(0.693/F5)","v":1.4200819672131146E-11},{"$f":"(2.303/G5)","v":162173737373.7374},0,{"$f":"(I5/1000000)","v":0},{"$f":"(J5/1000)","v":0}]
["MNP-15",0.70607900000000001,0.70607900000000001,1.21E-4,1,48800000000,1.4200819672131146E-11,162173737373.7374,0,0,0]
["MNP-16",0.70607500000000001,0.70607500000000001,5.3999999999999998E-5,1,48800000000,1.4200819672131146E-11,162173737373.7374,0,0,0]
["MNP-125",0.70614900000000003,0.70614900000000003,5.1999999999999997E-5,1,48800000000,1.4200819672131146E-11,162173737373.7374,0,0,0]
["MNP-135",0.70607399999999998,0.70607399999999998,7.2999999999999999E-5,1,48800000000,1.4200819672131146E-11,162173737373.7374,0,0,0]
["MNP-142",0.70611299999999999,0.70611299999999999,9.5000000000000005E-5,1,48800000000,1.4200819672131146E-11,162173737373.7374,0,0,0]
["MN-1-2",0.70631999999999995,0.70631999999999995,1.63E-4,1,48800000000,1.4200819672131146E-11,162173737373.7374,0,0,0]
["MN-1-4",0.70604999999999996,0.70604999999999996,1.5100000000000001E-3,1,48800000000,1.4200819672131146E-11,162173737373.7374,0,0,0]
["MN-2-7",0.70616000000000001,0.70616000000000001,1.3899999999999999E-4,1,48800000000,1.4200819672131146E-11,162173737373.7374,0,0,0]
["MN-2-10",0.70616999999999996,0.70616999999999996,1.06E-4,1,48800000000,1.4200819672131146E-11,162173737373.7374,0,0,0]
["MN-2-6",0.70691099999999996,0.70691099999999996,4.6799999999999999E-4,1,48800000000,1.4200819672131146E-11,162173737373.7374,0,0,0]
["MN-40",0.70628000000000002,0.70628000000000002,3.0899999999999998E-4,1,48800000000,1.4200819672131146E-11,162173737373.7374,0,0,0]
["MN-24",0.70703800000000006,0.70703800000000006,1.9910950000000001,1,48800000000,1.4200819672131146E-11,162173737373.7374,0,0,0]
["MNP-15-1",0.70679599999999998,0.70679599999999998,1.77,1,48800000000,1.4200819672131146E-11,162173737373.7374,0,0,0]
["MN-24",0.70671899999999999,0.70671899999999999,0.89700000000000002,1,48800000000,1.4200819672131146E-11,162173737373.7374,0,0,0]
["MNP-70",0.70638299999999998,0.70638299999999998,1.17,1,48800000000,1.4200819672131146E-11,162173737373.7374,0,0,0]
["MNP-88",0.70686300000000002,0.70686300000000002,1.54,1,48800000000,1.4200819672131146E-11,162173737373.7374,0,0,0]
["LZ-01",0.70630499999999996,0.70630499999999996,4.4013000000000004E-3,1,48800000000,1.4200819672131146E-11,162173737373.7374,0,0,0]
["LZ-03",0.70671300000000004,0.70671300000000004,3.0496999999999998E-3,1,48800000000,1.4200819672131146E-11,162173737373.7374,0,0,0]
["LZ-09",0.70699699999999999,0.70699699999999999,2.0512999999999998E-3,1,48800000000,1.4200819672131146E-11,162173737373.7374,0,0,0]
["LZ-17",0.706314,0.706314,1.2489000000000001E-3,1,48800000000,1.4200819672131146E-11,162173737373.7374,0,0,0]
["LZ-08",0.70657800000000004,0.70657800000000004,3.3804500000000001E-2,1,48800000000,1.4200819672131146E-11,162173737373.7374,0,0,0]
["DL-17",0.70790500000000001,0.70790500000000001,4.5300000000000001E-4,1,48800000000,1.4200819672131146E-11,162173737373.7374,0,0,0]
["DL-20",0.70792299999999997,0.70792299999999997,2.3450000000000001E-4,1,48800000000,1.4200819672131146E-11,162173737373.7374,0,0,0]
["DL-22",0.70792200000000005,0.70792200000000005,1.8039999999999999E-4,1,48800000000,1.4200819672131146E-11,162173737373.7374,0,0,0]
["DL-14",0.70836399999999999,0.70836399999999999,0.1111082,1,48800000000,1.4200819672131146E-11,162173737373.7374,0,0,0]
["DL-11",0.708283,0.708283,0.35514129999999999,1,48800000000,1.4200819672131146E-11,162173737373.7374,0,0,0]
["DL-23",0.70981499999999997,0.70981499999999997,5.4181825999999997,1,48800000000,1.4200819672131146E-11,162173737373.7374,0,0,0]
[null,null,null,null,null,null,null,"Average",{"$f":"AVERAGE(I4:I32)","v":0}]
[null,null,null,null,null,null,null,"Maximum",{"$f":"MAX(I4:I33)","v":0}]
[null,null,null,null,"207Pb/206Pb",null,null,"Minimum",{"$f":"MIN(I4:I34)","v":0}]
[null,"206Pb/204Pb","207Pb/204Pb","207Pb/206Pb","Age",null,null,"Difference",{"$f":"(I34-I35)","v":0}]
["MNP-10",17.887,15.362,{"$f":"(C37/B37)","v":0.85883602616425336},{"$f":"[1]!AgePb76($D$37)","v":5022.583477837853}]
["MNP-13",18.222999999999999,15.538,{"$f":"(C38/B38)","v":0.85265872798112285},{"$f":"[1]!AgePb76($D$38)","v":5012.3458640365807}]
["MNP-15",18.417000000000002,15.429,0.83775859260465868,{"$f":"[1]!AgePb76($D$39)","v":4987.3241910472925}]
["MNP-16",18.263999999999999,15.555999999999999,0.85173017958826103,{"$f":"[1]!AgePb76($D$40)","v":5010.8001775549965},null,null,"Dating","207Pb/206Pb","87Rb/86Sr"]
["MNP-125",18.22,15.587,0.85548847420417129,{"$f":"[1]!AgePb76($D$41)","v":5017.045334239896},null,null,"Summary","Age","Age"]
["MNP-142",18.001000000000001,15.435,0.85745236375756895,{"$f":"[1]!AgePb76($D$42)","v":5020.2971496429564},null,null,"Average",5015.2429469304807,0]
["MN-1-2",18.173999999999999,15.545,0.85534279740288321,{"$f":"[1]!AgePb76($D$43)","v":5016.8038063502663},null,null,"Maximum",5023.4038385440545,0]
["MN-1-4",18.172000000000001,15.536,0.85494166850099051,{"$f":"[1]!AgePb76($D$44)","v":5016.1385205272554},null,null,"Minimum",4975.9409366366426,0]
["MN-2-7",18.161999999999999,15.541,0.85568769959255597,{"$f":"[1]!AgePb76($D$45)","v":5017.3755734324104},null,null,"Difference",47.462901907411833,0]
["MN-2-10",18.177,15.547000000000001,0.8553116575892612,{"$f":"[1]!AgePb76($D$46)","v":5016.752171780653}]
["MN-2-6",18.187000000000001,15.567,0.85594105679881227,{"$f":"[1]!AgePb76($D$47)","v":5017.7954244807306}]
["MN-40",18.193999999999999,15.551,0.85473232933934273,{"$f":"[1]!AgePb76($D$48)","v":5015.7911928230733}]
["MN-24",18.233000000000001,15.587,0.85487851697471617,{"$f":"[1]!AgePb76($D$49)","v":5016.033751391059}]
["MO-48",18.295000000000002,15.702,0.85826728614375503,{"$f":"[1]!AgePb76($D$50)","v":5021.6441801729989}]
["MO-52",18.594999999999999,15.912000000000001,0.85571390158644811,{"$f":"[1]!AgePb76($D$51)","v":5017.4190002018422}]
["MNP-15-1",18.27,15.648,0.85648604269293926,{"$f":"[1]!AgePb76($D$52)","v":5018.6981011443622}]
["MN-24",18.263000000000002,15.694000000000001,0.85933307780758905,{"$f":"[1]!AgePb76($D$53)","v":5023.4038385440545}]
["MNP-88",18.465,15.657,0.84792851340373676,{"$f":"[1]!AgePb76($D$54)","v":5004.4531052805442}]
["LZ-01",18.22,15.602,0.85631174533479704,{"$f":"[1]!AgePb76($D$55)","v":5018.4094734961345}]
["LZ-03",18.196999999999999,15.601000000000001,0.85733912183326932,{"$f":"[1]!AgePb76($D$56)","v":5020.1098582071581}]
["LZ-09",18.201000000000001,15.603,0.85726059007746824,{"$f":"[1]!AgePb76($D$57)","v":5019.9799586835625}]
["LZ-17",18.207000000000001,15.603999999999999,0.8570330092821441,{"$f":"[1]!AgePb76($D$58)","v":5019.6034454909723}]
["LZ-08",18.295000000000002,15.618,0.85367586772342163,{"$f":"[1]!AgePb76($D$59)","v":5014.0369718702223}]
["DL-17",18.231999999999999,15.653,0.85854541465555079,{"$f":"[1]!AgePb76($D$60)","v":5022.1036034535919}]
["DL-20",18.866,15.679,0.83107176932047067,{"$f":"[1]!AgePb76($D$61)","v":4975.9409366366426}]
["DL-22",18.198,15.635,0.85916034729091106,{"$f":"[1]!AgePb76($D$62)","v":5023.1188119596463}]
["DL-14",18.251999999999999,15.618,0.85568704799474038,{"$f":"[1]!AgePb76($D$63)","v":5017.3744934665237}]
["DL-11",18.219000000000001,15.629,0.85784071573631915,{"$f":"[1]!AgePb76($D$64)","v":5020.9392476839648}]
["DL-23",18.244,15.615,0.85589782942337211,{"$f":"[1]!AgePb76($D$65)","v":5017.7237995466976}]
[null,null,null,"Average",{"$f":"AVERAGE(E37:E65)","v":5015.2429469304807}]
[null,null,null,"Maximum",{"$f":"MAX(E37:E66)","v":5023.4038385440545}]
[null,null,null,"Minimum",{"$f":"MIN(E37:E67)","v":4975.9409366366426}]
[null,null,null,"Difference",{"$f":"(E67-E68)","v":47.462901907411833}]

{"sheet":"Rb-Sr _29","index":29,"n_rows":70,"n_cols":14,"rows_kept":70,"cut":false,"hidden":false,"merged":[]}
["Rubidium","Table 2",null,null,null,null,null,null,null,null,"Rubidium_025.pdf"]
["Strontium","Initial","Today","Today","The Ratio","Half","Decay","2.303/Delta","Age","Age","Age","Model Age","Model Age","Model Age"]
["Dating","87Sr/86Sr","87Sr/86Sr","87Rb/86Sr","Plus One","Life","Constant","Constant","Years","Million Years","Billion Years","Million Years","% Difference"," Difference"]
[null,0.70550999999999997,0.70587999999999995,0.378,{"$f":"1+((C4-B4)/D4)","v":1.0009788359788359},48800000000,{"$f":"(0.693/F4)","v":1.4200819672131146E-11},{"$f":"(2.303/G4)","v":162173737373.7374},{"$f":"(LOG(E4))*(H4)","v":68906833.960962415},{"$f":"(I4/1000000)","v":68.906833960962416},{"$f":"(J4/1000)","v":6.8906833960962421E-2}]
[null,0.70547000000000004,0.70550000000000002,3.1E-2,1.000967741935483,48800000000,1.4200819672131146E-11,162173737373.7374,68126227.382593349,68.126227382593342,6.8126227382593343E-2]
[null,0.70540999999999998,0.70560999999999996,0.19700000000000001,1.0010152284263958,48800000000,1.4200819672131146E-11,162173737373.7374,71467443.22098276,71.467443220982759,7.1467443220982765E-2]
[null,0.70565999999999995,0.70699000000000001,1.337,1.0009947643979058,48800000000,1.4200819672131146E-11,162173737373.7374,70027585.023758739,70.027585023758746,7.0027585023758748E-2]
[null,0.70560999999999996,0.70687999999999995,1.276,1.0009952978056427,48800000000,1.4200819672131146E-11,162173737373.7374,70065116.204327941,70.065116204327936,7.006511620432794E-2]
[null,0.70550999999999997,0.70711000000000002,1.6060000000000001,1.0009962640099628,48800000000,1.4200819672131146E-11,162173737373.7374,70133099.398299873,70.133099398299876,7.013309939829987E-2]
[null,0.70613000000000004,0.70940999999999999,3.3010000000000002,1.0009936382914268,48800000000,1.4200819672131146E-11,162173737373.7374,69948350.813763961,69.948350813763966,6.9948350813763965E-2]
[null,0.70572000000000001,0.70696000000000003,1.2529999999999999,1.0009896249002395,48800000000,1.4200819672131146E-11,162173737373.7374,69665963.044542357,69.665963044542352,6.9665963044542353E-2]
[null,0.70699999999999996,0.70882999999999996,1.84,1.0009945652173913,48800000000,1.4200819672131146E-11,162173737373.7374,70013570.449024722,70.013570449024726,7.0013570449024731E-2]
[null,0.70652999999999999,0.70904999999999996,2.5339999999999998,1.0009944751381215,48800000000,1.4200819672131146E-11,162173737373.7374,70007232.364979193,70.007232364979188,7.0007232364979188E-2]
[null,0.70659000000000005,0.70904999999999996,2.4700000000000002,1.0009959514170039,48800000000,1.4200819672131146E-11,162173737373.7374,70111105.022601575,70.111105022601578,7.011110502260158E-2]
[null,0.70718999999999999,0.70755000000000001,0.36299999999999999,1.0009917355371902,48800000000,1.4200819672131146E-11,162173737373.7374,69814470.528316692,69.81447052831669,6.9814470528316686E-2]
[null,0.70686000000000004,0.70877000000000001,1.9259999999999999,1.0009916926272067,48800000000,1.4200819672131146E-11,162173737373.7374,69811451.322619468,69.811451322619462,6.9811451322619456E-2]
[null,0.70684000000000002,0.70723000000000003,0.38900000000000001,1.0010025706940875,48800000000,1.4200819672131146E-11,162173737373.7374,70576842.987192422,70.576842987192421,7.0576842987192426E-2]
[null,0.70764000000000005,0.70899000000000001,1.3540000000000001,1.0009970457902511,48800000000,1.4200819672131146E-11,162173737373.7374,70188106.267417669,70.188106267417666,7.0188106267417671E-2]
[null,0.70789000000000002,0.70906000000000002,1.1779999999999999,1.0009932088285229,48800000000,1.4200819672131146E-11,162173737373.7374,69918133.262413979,69.918133262413974,6.9918133262413973E-2]
[null,0.70774999999999999,0.70891999999999999,1.375,1.000850909090909,48800000000,1.4200819672131146E-11,162173737373.7374,59905030.435441382,59.905030435441383,5.9905030435441382E-2]
[null,0.70745999999999998,0.70877999999999997,1.325,1.0009962264150942,48800000000,1.4200819672131146E-11,162173737373.7374,70130454.183408573,70.130454183408574,7.0130454183408575E-2]
[null,0.70738999999999996,0.70779999999999998,0.41199999999999998,1.000995145631068,48800000000,1.4200819672131146E-11,162173737373.7374,70054409.02863574,70.054409028635746,7.0054409028635745E-2]
[null,0.70582,0.70896999999999999,3.1709999999999998,1.0009933774834436,48800000000,1.4200819672131146E-11,162173737373.7374,69930000.036806196,69.930000036806192,6.9930000036806189E-2]
[null,0.70752000000000004,0.70850000000000002,0.97899999999999998,1.0010010214504597,48800000000,1.4200819672131146E-11,162173737373.7374,70467837.164127469,70.467837164127474,7.0467837164127467E-2]
[null,0.70679000000000003,0.70694999999999997,0.154,1.0010389610389607,48800000000,1.4200819672131146E-11,162173737373.7374,73137243.592899114,73.137243592899111,7.3137243592899109E-2]
[null,0.70696000000000003,0.70750000000000002,0.54400000000000004,1.0009926470588235,48800000000,1.4200819672131146E-11,162173737373.7374,69878606.418559134,69.87860641855913,6.9878606418559128E-2]
[null,0.70684000000000002,0.70738999999999996,0.55400000000000005,1.0009927797833933,48800000000,1.4200819672131146E-11,162173737373.7374,69887945.093242079,69.887945093242081,6.9887945093242088E-2]
[null,0.70852000000000004,0.71196999999999999,3.468,1.0009948096885812,48800000000,1.4200819672131146E-11,162173737373.7374,70030771.728440166,70.030771728440172,7.0030771728440175E-2]
[null,0.70833999999999997,0.71197999999999995,3.661,1.0009942638623326,48800000000,1.4200819672131146E-11,162173737373.7374,69992366.74816379,69.992366748163789,6.9992366748163795E-2]
[null,0.70843,0.71206000000000003,3.6459999999999999,1.0009956116291827,48800000000,1.4200819672131146E-11,162173737373.7374,70087197.179442629,70.087197179442626,7.0087197179442631E-2]
[null,0.70840999999999998,0.71052999999999999,2.1379999999999999,1.0009915809167447,48800000000,1.4200819672131146E-11,162173737373.7374,69803591.219648063,69.803591219648069,6.9803591219648076E-2]
[null,0.70657999999999999,0.70821000000000001,1.6439999999999999,1.0009914841849148,48800000000,1.4200819672131146E-11,162173737373.7374,69796785.033288494,69.796785033288501,6.9796785033288497E-2]
[null,0.70723999999999998,0.71204999999999996,4.8339999999999996,1.0009950351675632,48800000000,1.4200819672131146E-11,162173737373.7374,70046636.690118045,70.046636690118049,7.0046636690118055E-2]
[null,0.70721999999999996,0.7087,1.4870000000000001,1.0009952925353061,48800000000,1.4200819672131146E-11,162173737373.7374,70064745.377492905,70.064745377492898,7.0064745377492896E-2]
[null,0.70552999999999999,0.70604,0.51100000000000001,{"$f":"1+((C35-B35)/D35)","v":1.0009980430528376},48800000000,{"$f":"(0.693/F35)","v":1.4200819672131146E-11},{"$f":"(2.303/G35)","v":162173737373.7374},{"$f":"(LOG(E35))*(H35)","v":70258274.631403252},{"$f":"(I35/1000000)","v":70.258274631403253},{"$f":"(J35/1000)","v":7.0258274631403259E-2}]
[null,0.70552000000000004,0.70613000000000004,0.60499999999999998,1.00100826446281,48800000000,1.4200819672131146E-11,162173737373.7374,70977458.932513103,70.977458932513102,7.0977458932513102E-2]
[null,0.70609999999999995,0.70613000000000004,2.1000000000000001E-2,1.0014285714285756,48800000000,1.4200819672131146E-11,162173737373.7374,100544141.63061136,100.54414163061136,0.10054414163061136]
[null,0.70581000000000005,0.70728999999999997,1.49,1.0009932885906039,48800000000,1.4200819672131146E-11,162173737373.7374,69923745.423966646,69.92374542396665,6.9923745423966649E-2]
[null,0.70487,0.70533999999999997,0.47499999999999998,1.0009894736842104,48800000000,1.4200819672131146E-11,162173737373.7374,69655323.252918586,69.655323252918592,6.9655323252918594E-2]
[null,0.70533000000000001,0.70533999999999997,0.01,1.0009999999999954,48800000000,1.4200819672131146E-11,162173737373.7374,70395967.130554944,70.395967130554951,7.0395967130554946E-2]
[null,0.70701999999999998,0.70952000000000004,2.5150000000000001,1.0009940357852882,48800000000,1.4200819672131146E-11,162173737373.7374,69976318.97142525,69.976318971425243,6.9976318971425241E-2]
[null,0.70630999999999999,0.71065,4.3570000000000002,1.0009960982327288,48800000000,1.4200819672131146E-11,162173737373.7374,70121435.135254681,70.121435135254686,7.0121435135254692E-2]
[null,0.70665999999999995,0.70913999999999999,2.4950000000000001,1.000993987975952,48800000000,1.4200819672131146E-11,162173737373.7374,69972955.048228517,69.972955048228513,6.9972955048228508E-2]
[null,0.70648,0.70882000000000001,2.35,1.0009957446808511,48800000000,1.4200819672131146E-11,162173737373.7374,70096558.841482386,70.096558841482391,7.0096558841482387E-2]
[null,null,null,null,null,null,null,null,"Average",{"$f":"AVERAGE(J4:J44)","v":70.58334951663096}]
[null,null,null,null,null,null,null,null,"Maximum",{"$f":"MAX(J4:J45)","v":100.54414163061136}]
[null,null,null,null,null,null,null,null,"Minimum",{"$f":"MIN(J4:J46)","v":59.905030435441383}]
[null,null,null,null,null,null,null,null,"Difference",{"$f":"(J46-J47)","v":40.639111195169981}]
[]
[]
[null,"Table 3.",null,null,"207Pb/206Pb"]
[null,"206Pb/204Pb","207Pb/204Pb","207Pb/206Pb","Age"]
[null,19.55,15.638999999999999,{"$f":"(C53/B53)","v":0.79994884910485931},{"$f":"[1]!AgePb76($D$53)","v":4921.6454877164897}]
[null,19.594999999999999,15.638999999999999,{"$f":"(C54/B54)","v":0.79811176320489918},{"$f":"[1]!AgePb76($D$54)","v":4918.3706799351185}]
[null,19.273,15.614000000000001,0.81014891298708047,{"$f":"[1]!AgePb76($D$55)","v":4939.6838829040371}]
[null,19.254000000000001,15.605,0.81048093902565699,{"$f":"[1]!AgePb76($D$56)","v":4940.2669902559574}]
[null,19.216999999999999,15.615,{"$f":"(C57/B57)","v":0.81256179424467923},{"$f":"[1]!AgePb76($D$57)","v":4943.9156323119014}]
[null,19.239000000000001,15.617000000000001,0.81173657674515309,{"$f":"[1]!AgePb76($D$58)","v":4942.469858387235}]
[null,19.268999999999998,15.647,0.81202968498624739,{"$f":"[1]!AgePb76($D$59)","v":4942.9835604331029}]
[null,19.276,15.641,0.81142353185308158,{"$f":"[1]!AgePb76($D$60)","v":4941.920997410195}]
[null,19.228000000000002,15.61,0.81183690451424995,{"$f":"[1]!AgePb76($D$61)","v":4942.6457152253679}]
[null,19.384,15.625,0.80607717705323978,{"$f":"[1]!AgePb76($D$62)","v":4932.5123168988821}]
[null,19.510000000000002,19.187999999999999,0.9834956432598666,{"$f":"[1]!AgePb76($D$63)","v":5213.976480199708}]
[null,19.466999999999999,15.648999999999999,0.80387322134894956,{"$f":"[1]!AgePb76($D$64)","v":4928.6143873807832}]
[null,19.241,15.641,0.81289953744607868,{"$f":"[1]!AgePb76($D$65)","v":4944.5069051731789},null,"Table","207Pb/206Pb","87Rb/86Sr"]
[null,19.538,15.637,0.80033780325519499,{"$f":"[1]!AgePb76($D$66)","v":4922.3378147034882},null,"Summaries","Age","Age"]
[null,null,null,"Average",{"$f":"AVERAGE(E53:E66)","v":4955.4179077811032},null,"Average",4955.4179077811032,70.58334951663096]
[null,null,null,"Maximum",{"$f":"MAX(E53:E67)","v":5213.976480199708},null,"Maximum",5213.976480199708,100.54414163061136]
[null,null,null,"Minimum",{"$f":"MIN(E53:E68)","v":4918.3706799351185},null,"Minimum",4918.3706799351185,59.905030435441383]
[null,null,null,"Difference",{"$f":"(E68-E69)","v":295.60580026458956},null,"Difference",295.60580026458956,40.639111195169981]

{"sheet":"Rb-Sr _30","index":30,"n_rows":53,"n_cols":25,"rows_kept":53,"cut":false,"hidden":false,"merged":[]}
["Rubidium","Table 2",null,null,null,null,null,null,null,null,"Rubidium_026.pdf",null,null,null,null,18213]
["Strontium","Initial","Today","Today","The Ratio","Half","Decay","2.303/Delta","Age","Age","Age","Model Age","Model Age","Model Age",null,8087]
["Dating","87Sr/86Sr","87Sr/86Sr","87Rb/86Sr","Plus One","Life","Constant","Constant","Years","Million Years","Billion Years","Million Years","% Difference"," Difference",null,7094]
[null,0.69940999999999998,0.69959099999999996,2.7299999999999998E-3,{"$f":"1+((C4-B4)/D4)","v":1.0663003663003614},48800000000,{"$f":"(0.693/F4)","v":1.4200819672131146E-11},{"$f":"(2.303/G4)","v":162173737373.7374},{"$f":"(LOG(E4))*(H4)","v":4521332181.741581},{"$f":"(I4/1000000)","v":4521.3321817415808},{"$f":"(J4/1000)","v":4.521332181741581},null,null,null,null,6586]
[null,0.69940999999999998,0.70026500000000003,1.2E-2,1.0712500000000043,48800000000,1.4200819672131146E-11,162173737373.7374,4847508414.0232954,4847.5084140232957,4.847508414023296,null,null,null,null,6414]
[null,0.69940999999999998,0.699658,4.3899999999999998E-3,1.0564920273348579,48800000000,1.4200819672131146E-11,162173737373.7374,3870474752.7848268,3870.4747527848267,3.8704747527848267,null,null,null,null,6284]
[null,0.69940999999999998,0.70102900000000001,3.1550000000000002E-2,1.0513153724247237,48800000000,1.4200819672131146E-11,162173737373.7374,3524524226.706913,3524.5242267069129,3.5245242267069128,null,null,null,null,5111]
[null,0.69940999999999998,0.70067800000000002,1.3299999999999999E-2,1.0953383458646653,48800000000,1.4200819672131146E-11,162173737373.7374,6413694291.1608057,6413.6942911608057,6.4136942911608061,null,null,null,null,5110]
[null,0.69940999999999998,0.70064499999999996,2.3369999999999998E-2,{"$f":"1+((C9-B9)/D9)","v":1.052845528455284},48800000000,{"$f":"(0.693/F9)","v":1.4200819672131146E-11},{"$f":"(2.303/G9)","v":162173737373.7374},{"$f":"(LOG(E9))*(H9)","v":3626960007.1832142},{"$f":"(I9/1000000)","v":3626.9600071832142},{"$f":"(J9/1000)","v":3.626960007183214},null,null,null,null,5009]
[null,0.69940999999999998,0.70476799999999995,0.10589999999999999,1.0505949008498581,48800000000,1.4200819672131146E-11,162173737373.7374,3476240861.9432321,3476.2408619432322,3.4762408619432321,null,null,null,null,4989]
[null,0.69940999999999998,0.69987100000000002,4.3499999999999997E-3,1.1059770114942631,48800000000,1.4200819672131146E-11,162173737373.7374,7094468524.0810032,7094.4685240810031,7.0944685240810035,null,null,null,null,4855]
[null,null,null,null," "," "," "," ","Average",{"$f":"AVERAGE(J1:J11)","v":4671.9004074531085}," "," "," "," "," ",4848," "," "," "," "," "," "," "," "," "]
[null,null," "," "," "," "," "," ","Maximum",{"$f":"MAX(J1:J12)","v":7094.4685240810031}," "," "," "," "," ",4812," "," "," "," "," "," "," "," "," "]
[null,null," "," "," "," "," "," ","Minimum",{"$f":"MIN(J1:J13)","v":3476.2408619432322}," "," "," "," "," ",null," "," "," "," "," "," "," "," "," "]
[null,null," "," "," "," "," "," ","Difference",{"$f":"(J13-J14)","v":3618.2276621377709}," "," "," "," "," ",null," "," "," "," "," "," "," "," "," "]
[null,null," "," "," "," "," "," "," "," "," "," "," "," "," ",null," "," "," "," "," "," "," "," "," "]
[null,null," "," "," "," "," "," "," "," "," "," "," "," "," ",null," "," "," "," "," "," "," "," "," "]
[null,null," "," "," "," ","207Pb/206Pb",null,"206Pb/238U",null,null,null,null,null,null,null,null,null,null,null," "," "," "," "," "]
[null,"238U/204Pb","206Pb/204Pb","207Pb/204Pb","208Pb/204Pb","207Pb/206Pb","Age","206Pb/238U","Age",null,null,null,null,null,null,null,null,null,null,null," "," "," "," "," "]
["PPlag",42.1,69.5,58.3,79.5,{"$f":"(D20/C20)","v":0.83884892086330931},{"$f":"[1]!AgePb76($F$20)","v":4989.1711435747939},{"$f":"(C20/B20)","v":1.6508313539192399},{"$f":"[1]!AgePb6U8(H20)","v":6284.4371265680893},null,null,null,null,null,null,null,null,null,1.7,null," "," "," "," "," "]
["Plag",1.3,20.623999999999999,17.548999999999999,40.973999999999997,{"$f":"(D21/C21)","v":0.85090186190845618},{"$f":"[1]!AgePb76($F$21)","v":5009.4198268165792},{"$f":"(C21/B21)","v":15.864615384615384},{"$f":"[1]!AgePb6U8(H21)","v":18212.523208485924},null,null,null,null,null,null,null,null,null,7.2999999999999995E-2,null," "," "," "," "," "]
["Plag",26.7,47.47,35.17,64.78,0.74088898251527291,{"$f":"[1]!AgePb76($F$22)","v":4812.1368132632706},1.7779026217228464,{"$f":"[1]!AgePb6U8(H22)","v":6586.2768112313497},null,null,null,null,null,null,null,null,null,0.37,null," "," "," "," "," "]
["Px",205.1,175.11,82.58,159.91999999999999,0.47158928673405281,{"$f":"[1]!AgePb76($F$23)","v":4154.7661395437799},0.85377864456362762,{"$f":"[1]!AgePb6U8(H23)","v":3978.8948691471251},null,null,null,null,null,null,null,null,null,0.83,null," "," "," "," "," "]
["Px",17.16,43,32.83,80.52,0.76348837209302323,{"$f":"[1]!AgePb76($F$24)","v":4855.1039296411327},2.5058275058275057,{"$f":"[1]!AgePb6U8(H24)","v":8086.5533317116406},null,null,null,null,null,null,null,null,null,0.42,null," "," "," "," "," "]
["Px",115.2,123.05,72.48,138.6,0.58902885006095085,{"$f":"[1]!AgePb76($F$25)","v":4481.1661802474337},1.0681423611111112,{"$f":"[1]!AgePb6U8(H25)","v":4684.2919856407461},null,null,null,null,null,null,null,null,null,0.3,null," "," "," "," "," "]
["Wr",741.3,590.29999999999995,257.39,459.4,0.43603252583432156,{"$f":"[1]!AgePb76($F$26)","v":4038.2423766240281},0.79630379063806822,{"$f":"[1]!AgePb6U8(H26)","v":3775.8652959754772},null,null,null,null,null,null,null,null,null,1.8,null," "," "," "," "," "]
["Wr",115.8,89.98,49.85,164.7,0.55401200266725936,{"$f":"[1]!AgePb76($F$27)","v":4391.7823877271776},0.77702936096718489,{"$f":"[1]!AgePb6U8(H27)","v":3706.3211720146287},null,null,null,null,null,null,null,null,null,1.8," "," "," "," "," "," "]
["Ilm",721.3,573.79,248.52,588.6,0.43312013105840119,{"$f":"[1]!AgePb76($F$28)","v":4028.2430465044331},0.79549424649937617,{"$f":"[1]!AgePb6U8(H28)","v":3772.9594216188907},null,null,null,null,null,null,null,null,null,1.2," "," "," "," "," "," "]
[null,null,16.902000000000001,15.44,36.54,0.91350136078570576,{"$f":"[1]!AgePb76($F$29)","v":5109.9132760431658},"Average",{"$f":"AVERAGE(I18:I28)","v":6565.3470247104306},null,null,null,null,null,null,null,null,null,0.11," "," "," "," "," "," "]
[null,null,16.888999999999999,15.436,36.53,0.91396767126532064,{"$f":"[1]!AgePb76($F$30)","v":5110.6341643687056},"Maximum",{"$f":"MAX(I18:I29)","v":18212.523208485924},null,null,null,null,null,null,null,null,null,null," "," "," "," "," "," "]
[null,null,null,null,null,"Average",{"$f":"AVERAGE(G20:G30)","v":4634.5981167595},"Minimum",{"$f":"MIN(I18:I30)","v":3706.3211720146287},null," "," "," "," "," ",null," "," "," "," "," "," "," "," "," "]
[null,null,null,null,null,"Maximum",{"$f":"MAX(G20:G31)","v":5110.6341643687056},"Difference",{"$f":"(I30-I31)","v":14506.202036471295},null," "," "," "," "," ",null," "," "," "," "," "," "," "," "," "]
[null,null," "," "," ","Minimum",{"$f":"MIN(G20:G32)","v":4028.2430465044331}," "," "," "," "," "," "," "," ",null," "," "," "," "," "," "," "," "," "]
[null,null," "," "," ","Difference",{"$f":"(G32-G33)","v":1082.3911178642725}," "," "," "," "," "," "," "," ",null," "," "," "," "," "," "," "," "," "]
[null,null," "," "," "," "," "," "," "," "," "," "," "," "," ",null," "," "," "," "," "," "," "," "," "]
[null,null," "," "," "," "," "," "," "," "," "," "," "," "," ",null," "," "," "," "," "," "," "," "," "]
[null,null," "," "," "," "," "," "," "," "," "," "," "," "," ",null," "," "," "," "," "," "," "," "," "]
[null,null," "," "," "," "," "," "," "," "," "," "," "," "," ",null," "," "," "," "," "," "," "," "," "]
[null,null," "," "," ","Table","207Pb/206Pb","206Pb/238U","87Rb/86Sr"," "," "," "," "," "," ",null," "," "," "," "," "," "," "," "," "]
[null,null," "," "," ","Summaries","Age","Age","Age"," "," "," "," "," "," ",null," "," "," "," "," "," "," "," "," "]
[null,null," "," "," ","Average",4634.5981167595,6565.3470247104306,4671.9004074531085," "," "," "," "," "," ",null," "," "," "," "," "," "," "," "," "]
[null,null," "," "," ","Maximum",5110.6341643687056,18212.523208485924,7094.4685240810031," "," "," "," "," "," ",null," "," "," "," "," "," "," "," "," "]
[null,null," "," "," ","Minimum",4028.2430465044331,3706.3211720146287,3476.2408619432322," "," "," "," "," "," ",null," "," "," "," "," "," "," "," "," "]
[null,null," "," "," ","Difference",1082.3911178642725,14506.202036471295,3618.2276621377709," "," "," "," "," "," ",null," "," "," "," "," "," "," "," "," "]
[null,null," "," "," "," "," "," "," "," "," "," "," "," "," ",null," "," "," "," "," "," "," "," "," "]
[null,null," "," "," "," "," "," "," "," "," "," "," "," "," ",null," "," "," "," "," "," "," "," "," "]
[null,null," "," "," "," "," "," "," "," "," "," "," "," "," ",null," "," "," "," "," "," "," "," "," "]
[null,null," "," "," "," "," "," "," "," "," "," "," "," "," ",null," "," "," "," "," "," "," "," "," "]
[null,null," "," "," "," "," "," "," "," "," "," "," "," "," ",null," "," "," "," "," "," "," "," "," "]
[null,null," "," "," "," "," "," "," "," "," "," "," "," "," ",null," "," "," "," "," "," "," "," "," "]
[null,null," "," "," "," "," "," "," "," "," "," "," "," "," ",null," "," "," "," "," "," "," "," "," "]
[null,null," "," "," "," "," "," "," "," "," "," "," "," "," "," "," "," "," "," "," "," "," "," "," "]
[null,null," "," "," "," "," "," "," "," "," "," "," "," "," "," "," "," "," "," "," "," "," "," "," "]

{"sheet":"Rb-Sr _31","index":31,"n_rows":48,"n_cols":25,"rows_kept":48,"cut":false,"hidden":false,"merged":[]}
["Rubidium","Table 2",null,null,null,null,null,null,null,null,"Rubidium_027.pdf"]
["Strontium","Initial","Today","Today","The Ratio","Half","Decay","2.303/Delta","Age","Age","Age","Model Age","Model Age","Model Age"]
["Dating","87Sr/86Sr","87Sr/86Sr","87Rb/86Sr","Plus One","Life","Constant","Constant","Years","Million Years","Billion Years","Million Years","% Difference"," Difference"]
[null,0.70011000000000001,0.71101800000000004,0.26179999999999998,{"$f":"1+((C4-B4)/D4)","v":1.0416653934300995},48800000000,{"$f":"(0.693/F4)","v":1.4200819672131146E-11},{"$f":"(2.303/G4)","v":162173737373.7374},{"$f":"(LOG(E4))*(H4)","v":2875054308.4422784},{"$f":"(I4/1000000)","v":2875.0543084422784},{"$f":"(J4/1000)","v":2.8750543084422784}]
[null,0.70011000000000001,0.70582,0.13619999999999999,1.0419236417033773,48800000000,1.4200819672131146E-11,162173737373.7374,2892513341.9157481,2892.5133419157482,2.8925133419157483]
[null,0.70011000000000001,0.70794800000000002,0.18709999999999999,1.041892036344201,48800000000,1.4200819672131146E-11,162173737373.7374,2890376874.5602632,2890.3768745602633,2.8903768745602632]
[null,0.70011000000000001,0.71064099999999997,0.24959999999999999,1.0421915064102563,48800000000,1.4200819672131146E-11,162173737373.7374,2910617928.8421364,2910.6179288421363,2.9106179288421363]
[null,0.70011000000000001,0.70271099999999997,4.9189999999999998E-2,1.0528766009351487,48800000000,1.4200819672131146E-11,162173737373.7374,3629038601.2648234,3629.0386012648232,3.6290386012648232]
[null,0.70011000000000001,0.70271099999999997,4.3900000000000002E-2,1.0592482915717532,48800000000,1.4200819672131146E-11,162173737373.7374,4053982145.9105997,4053.9821459105997,4.0539821459105996]
[null,0.70011000000000001,0.70025999999999999,3.2100000000000002E-3,{"$f":"1+((C10-B10)/D10)","v":1.0467289719626116},48800000000,{"$f":"(0.693/F10)","v":1.4200819672131146E-11},{"$f":"(2.303/G10)","v":162173737373.7374},{"$f":"(LOG(E10))*(H10)","v":3216593637.1988616},{"$f":"(I10/1000000)","v":3216.5936371988614},{"$f":"(J10/1000)","v":3.2165936371988613}," "," "," "," "," "," "," "," "," "," "," "," "," "," "]
[null,0.70011000000000001,0.70021100000000003,3.6600000000000001E-3,1.0275956284153054,48800000000,1.4200819672131146E-11,162173737373.7374,1917258146.8585153,1917.2581468585154,1.9172581468585155," "," "," "," "," "," "," "," "," "," "," "," "," "," "]
[null,0.70011000000000001,0.70248999999999995,1.1939999999999999E-2,1.1993299832495761,48800000000,1.4200819672131146E-11,162173737373.7374,12801782571.806124,12801.782571806123,12.801782571806124," "," "," "," "," "," "," "," "," "," "," "," "," "," "]
[null,0.70011000000000001,0.70159700000000003,7.0400000000000003E-3,1.2112215909090931,48800000000,1.4200819672131146E-11,162173737373.7374,13496682872.636913,13496.682872636913,13.496682872636914,null,null,null,null,null,null,null,null,null," "," "," "," "," "]
[null,0.70011000000000001,0.70124900000000001,7.77E-3,1.1465894465894468,48800000000,1.4200819672131146E-11,162173737373.7374,9634407681.2708111,9634.4076812708117,9.6344076812708117]
[null,null,null,null,null,null,null,null,"Average",{"$f":"AVERAGE(J4:J14)","v":5483.4825555188254},null,13496.682872636913]
[null,null,null,null,null,null,null,null,"Maximum",{"$f":"MAX(J4:J15)","v":13496.682872636913},null,12801.782571806123]
[null,null,null,null,null,null,null,null,"Minimum",{"$f":"MIN(J4:J16)","v":1917.2581468585154},null,9634.4076812708117]
[null,null,null,null,null,null,null,null,"Difference",{"$f":"(J16-J17)","v":11579.424725778397},null,4053.9821459105997]
[null,null,null,null,null,null,null,null,null,null,null,3629.0386012648232]
[null,null,null,null,null,null,null,null,null,null,null,3216.5936371988614]
[null,null,null,null,null,null,null,null,null,null,null,2910.6179288421363]
[null,null,null,null,null,null,null,null,null,null,null,2892.5133419157482]
[null,null,null,null,null,null,null,null,null,null,null,2890.3768745602633]
[null,null,null,null,null,null,null,null,null,null,null,2875.0543084422784]
[null,null,null,null,null,null,null,null,null,null,null,1917.2581468585154]
[]
[]
[null,null," "," ",null,null,null,null,null," "]
[null,null," "," ",null,null,null,null,null," "]
[null,null," "," "," "," "," "," "," "," "," "," "," "," "," "," "," "," "," "," "," "," "," "," "," "]
[null,null," "," "," "," "," "," "," "," "," "," "," "," "," "," "," "," "," "," "," "," "," "," "," "]
[null,null," "," "," "," "," "," "," "," "," "," "," "," "," "," "," "," "," "," "," "," "," "," "," "]
[null,null," "," "," "," "," "," "," "," "," "," "," "," "," "," "," "," "," "," "," "," "," "," "," "]
[null,null," "," "," "," "," "," "," "," "," "," "," "," "," "," "," "," "," "," "," "," "," "," "," "]
[null,null," "," "," "," "," "," "," "," "," "," "," "," "," "," "," "," "," "," "," "," "," "," "," "]
[null,null," "," "," "," "," "," "," "," "," "," "," "," "," "," "," "," "," "," "," "," "," "," "," "]
[null,null," "," "," "," "," "," "," "," "," "," "," "," "," "," "," "," "," "," "," "," "," "," "," "]
[null,null," "," "," "," "," "," "," "," "," "," "," "," "," "," "," "," "," "," "," "," "," "," "," "]
[null,null," "," "," "," "," "," "," "," "," "," "," "," "," "," "," "," "," "," "," "," "," "," "," "]
[null,null," "," "," "," "," "," "," "," "," "," "," "," "," "," "," "," "," "," "," "," "," "," "," "]
[null,null," "," "," "," "," "," "," "," "," "," "," "," "," "," "," "," "," "," "," "," "," "," "," "]
[null,null," "," "," "," "," "," "," "," "," "," "," "," "," "," "," "," "," "," "," "," "," "," "," "]
[null,null," "," "," "," "," "," "," "," "," "," "," "," "," "," "," "," "," "," "," "," "," "," "," "]
[null,null," "," "," "," "," "," "," "," "," "," "," "," "," "," "," "," "," "," "," "," "," "," "," "]
[null,null," "," "," "," "," "," "," "," "," "," "," "," "," "," "," "," "," "," "," "," "," "," "," "]
[null,null," "," "," "," "," "," "," "," "," "," "," "," "," "," "," "," "," "," "," "," "," "," "," "]
[null,null," "," "," "," "," "," "," "," "," "," "," "," "," "," "," "," "," "," "," "," "," "," "," "]
[null,null," "," "," "," "," "," "," "," "," "," "," "," "," "," "," "," "," "," "," "," "," "," "," "]

{"sheet":"Rb-Sr _32","index":32,"n_rows":48,"n_cols":25,"rows_kept":48,"cut":false,"hidden":false,"merged":[]}
["Rubidium","Table 2",null,null,null,null,null,null,null,null,"Rubidium_028.pdf"]
["Strontium","Initial","Today","Today","The Ratio","Half","Decay","2.303/Delta","Age","Age","Age","Model Age","Model Age","Model Age"]
["Dating","87Sr/86Sr","87Sr/86Sr","87Rb/86Sr","Plus One","Life","Constant","Constant","Years","Million Years","Billion Years","Million Years","% Difference"," Difference"]
[null,0.70129799999999998,0.70153200000000004,3.6299999999999999E-2,{"$f":"1+((C4-B4)/D4)","v":1.0064462809917374},48800000000,{"$f":"(0.693/F4)","v":1.4200819672131146E-11},{"$f":"(2.303/G4)","v":162173737373.7374},{"$f":"(LOG(E4))*(H4)","v":452561934.54409361},{"$f":"(I4/1000000)","v":452.56193454409362},{"$f":"(J4/1000)","v":0.4525619345440936}]
[null,0.70129799999999998,0.70148100000000002,4.02E-2,1.0045522388059713,48800000000,1.4200819672131146E-11,162173737373.7374,319891895.31198859,319.89189531198861,0.31989189531198858]
[null,0.70129799999999998,0.70162599999999997,1.35E-2,{"$f":"1+((C6-B6)/D6)","v":1.0242962962962958},48800000000,{"$f":"(0.693/F6)","v":1.4200819672131146E-11},{"$f":"(2.303/G6)","v":162173737373.7374},{"$f":"(LOG(E6))*(H6)","v":1690758901.5851114},{"$f":"(I6/1000000)","v":1690.7589015851113},{"$f":"(J6/1000)","v":1.6907589015851112}]
[null,0.70129799999999998,0.70133500000000004,7.1900000000000002E-3,1.0051460361613442,48800000000,1.4200819672131146E-11,162173737373.7374,361511911.44780725,361.51191144780728,0.36151191144780725]
[null,0.70129799999999998,0.70132700000000003,8.2900000000000005E-3,1.0034981905910805,48800000000,1.4200819672131146E-11,162173737373.7374,245951676.06974488,245.95167606974488,0.24595167606974488]
[null,0.70129799999999998,0.70128500000000005,9.3900000000000008E-3,0.99861554845581157,48800000000,1.4200819672131146E-11,162173737373.7374,-97576087.46275495,-97.576087462754955,-9.7576087462754951E-2]
[null,0.70129799999999998,0.70194199999999995,0.14299999999999999,1.0045034965034962,48800000000,1.4200819672131146E-11,162173737373.7374,316474392.44412482,316.47439244412482,0.31647439244412484]
[null,0.70129799999999998,0.70236399999999999,4.2000000000000003E-2,1.0253809523809527,48800000000,1.4200819672131146E-11,162173737373.7374,1765300971.6708837,1765.3009716708837,1.7653009716708836]
[null,0.70129799999999998,0.70158100000000001,5.91E-2,1.0047884940778347,48800000000,1.4200819672131146E-11,162173737373.7374,336454275.67970508,336.45427567970506,0.33645427567970504]
[null,0.70129799999999998,0.70171899999999998,1.77E-2,1.0237853107344634,48800000000,1.4200819672131146E-11,162173737373.7374,1655614495.1282568,1655.6144951282567,1.6556144951282568]
[null,0.70129799999999998,0.70196999999999998,0.14399999999999999,1.0046666666666666,48800000000,1.4200819672131146E-11,162173737373.7374,327914203.74851179,327.9142037485118,0.32791420374851177]
[null,0.70129799999999998,0.70301899999999995,0.39900000000000002,1.0043132832080199,48800000000,1.4200819672131146E-11,162173737373.7374,303136249.23395097,303.13624923395099,0.30313624923395099]
[null,0.70129799999999998,0.70227200000000001,0.19500000000000001,1.004994871794872,48800000000,1.4200819672131146E-11,162173737373.7374,350918941.02865154,350.91894102865155,0.35091894102865157]
[null,null,null,null,null,null,null,null,"Average",{"$f":"AVERAGE(J4:J16)","v":617.60875080231358}]
[null,null,null,null,null,null,null,null,"Maximum",{"$f":"MAX(J4:J17)","v":1765.3009716708837}]
[null,null," "," ",null,null,null,null,"Minimum",{"$f":"MIN(J4:J18)","v":-97.576087462754955}]
[null,null," ",null,null,null,null,null,"Difference",{"$f":"(J18-ABS(J19))","v":1667.7248842081287}]
[null,null," "]
[null,null," "]
["Rubidium","Table 4",null,null,null,null,null,null,null,null,"Rubidium_028.pdf"]
["Strontium","Initial","Today","Today","The Ratio","Half","Decay","2.303/Delta","Age","Age","Age"]
["Dating","87Sr/86Sr","87Sr/86Sr","87Rb/86Sr","Plus One","Life","Constant","Constant","Years","Million Years","Billion Years"]
[null,0.70129799999999998,0.71580999999999995,0.21299999999999999,{"$f":"1+((C26-B26)/D26)","v":1.0681314553990608},48800000000,{"$f":"(0.693/F26)","v":1.4200819672131146E-11},{"$f":"(2.303/G26)","v":162173737373.7374},{"$f":"(LOG(E26))*(H26)","v":4642175357.1853991},{"$f":"(I26/1000000)","v":4642.1753571853988},{"$f":"(J26/1000)","v":4.6421753571853985}]
[null,0.70129799999999998,0.69903999999999999,3.0000000000000001E-3,0.24733333333333929,48800000000,1.4200819672131146E-11,162173737373.7374,-98393620088.273972,-98393.620088273965,-98.393620088273963]
[null,0.70129799999999998,0.69926999999999995,0.17699999999999999,0.98854237288135571,48800000000,1.4200819672131146E-11,162173737373.7374,-811632582.28593433,-811.63258228593429,-0.81163258228593427]
[null,0.70129799999999998,0.69925000000000004,1.4E-3,-0.46285714285709911,48800000000,1.4200819672131146E-11,162173737373.7374,0,null,0]
[null,0.70129799999999998,0.69925999999999999,2.5000000000000001E-3,0.18480000000000629,48800000000,1.4200819672131146E-11,162173737373.7374,-118921682639.21573,-118921.68263921572,-118.92168263921572]
[null,0.70129799999999998,0.69925999999999999,5.1999999999999997E-5,{"$f":"1+((C31-B31)/D31)","v":-38.192307692307395},48800000000,{"$f":"(0.693/F31)","v":1.4200819672131146E-11},{"$f":"(2.303/G31)","v":162173737373.7374},0,null,{"$f":"(J31/1000)","v":0}]
[null,0.70129799999999998,0.69925000000000004,9.2E-5,-21.260869565216726,48800000000,1.4200819672131146E-11,162173737373.7374,0,null,0]
[null,0.70129799999999998,0.69925000000000004,1.9999999999999999E-6,-1022.9999999999694,48800000000,1.4200819672131146E-11,162173737373.7374,0,null,0,null,null,null," "," "," "," "," "," "," "," "," "," "," "]
[null,0.70129799999999998,0.69925000000000004,3.4000000000000001E-6,-601.35294117645253,48800000000,1.4200819672131146E-11,162173737373.7374,0,null,0,null,null,null," "," "," "," "," "," "," "," "," "," "," "]
[null,0.70129799999999998,0.69925000000000004,7.6000000000000006E-8,-26946.368421051822,48800000000,1.4200819672131146E-11,162173737373.7374,0,null,0]
[null,0.70129799999999998,0.70150999999999997,3.8300000000000001E-2,1.0055352480417752,48800000000,1.4200819672131146E-11,162173737373.7374,{"$f":"(LOG(E36))*(H36)","v":388778932.32354915},{"$f":"(I36/1000000)","v":388.77893232354916},0.38877893232354915]
[null,0.70129799999999998,0.72506000000000004,0.39700000000000002,1.059853904282116,48800000000,1.4200819672131146E-11,162173737373.7374,4094238823.0002871,4094.2388230002871,4.0942388230002873]
[null,null,null,null,null,null,null,null,"Average",{"$f":"AVERAGE(J26:J37)","v":-34833.623699544398}]
[null,null,null,null,null,null,null,null,"Maximum",{"$f":"MAX(J26:J38)","v":4642.1753571853988}]
[null,null,null,null,null,null,null,null,"Minimum",{"$f":"MIN(J26:J39)","v":-118921.68263921572}]
[null,null,null,null,null,null,null,null,"Difference",{"$f":"(J39+ABS(J40))","v":123563.85799640112}]
[]
[]
[null,null,null,null,"Summary","Table 1","Table 4"]
[null,null,null,null,"Average",617.60875080231358,-34833.623699544398]
[null,null,null,null,"Maximum",1765.3009716708837,4642.1753571853988]
[null,null,null,null,"Minimum",-97.576087462754955,-118921.68263921572]
[null,null,null,null,"Difference",1667.7248842081287,123563.85799640112]

{"sheet":"Rb-Sr _33","index":33,"n_rows":39,"n_cols":25,"rows_kept":39,"cut":false,"hidden":false,"merged":[]}
["Rubidium","Table 2",null,null,null,null,null,null,null,null,"Rubidium_029.pdf"]
["Strontium","Initial","Today","Today","The Ratio","Half","Decay","2.303/Delta","Age","Age","Age","Model Age","Model Age","Model Age"]
["Dating","87Sr/86Sr","87Sr/86Sr","87Rb/86Sr","Plus One","Life","Constant","Constant","Years","Million Years","Billion Years","Million Years","% Difference"," Difference"]
[null,0,0,3.6299999999999999E-2,{"$f":"1+((C4-B4)/D4)","v":1},48800000000,{"$f":"(0.693/F4)","v":1.4200819672131146E-11},{"$f":"(2.303/G4)","v":162173737373.7374},{"$f":"(LOG(E4))*(H4)","v":0},{"$f":"(I4/1000000)","v":0},{"$f":"(J4/1000)","v":0}]
[null,0,0,4.02E-2,1,48800000000,1.4200819672131146E-11,162173737373.7374,0,0,0]
[]
[]
[null,"(206Pb/204Pb)",19.013999999999999,18.157,18.93,18.651,18.741,18.706,18.898,18.695,18.562000000000001,18.725999999999999,18.292999999999999,18.835999999999999]
[null,"(207Pb/204Pb)",15.85,15.872,15.85,15.919,15.962,15.946,15.85,15.925000000000001,15.823,15.672000000000001,15.691000000000001,15.712999999999999]
[null,"(207Pb/206Pb)",{"$f":"(C9/C8)","v":0.83359629746502573},{"$f":"(D9/D8)","v":0.87415321914413169},0.83729529846804018,0.85351991850302933,0.85171549010191561,0.85245375815246449,0.83871309133241612,0.85183204065258089,0.85244046977696364,0.83691124639538617,0.85775979883015363,0.83420046719048635]
[null,"Age",{"$f":"[1]!AgePb76(C10)","v":4980.2499432451023},{"$f":"[1]!AgePb76(D10)","v":5047.6350755733574},{"$f":"[1]!AgePb76(E10)","v":4986.5386244382134},{"$f":"[1]!AgePb76(F10)","v":5013.7778278903197},{"$f":"[1]!AgePb76(G10)","v":5010.7757106664785},{"$f":"[1]!AgePb76(H10)","v":5012.0048195762392},{"$f":"[1]!AgePb76(I10)","v":4988.9411953970475},{"$f":"[1]!AgePb76(J10)","v":5010.9698255720814},{"$f":"[1]!AgePb76(K10)","v":5011.982706356056},{"$f":"[1]!AgePb76(L10)","v":4985.8870713360866},{"$f":"[1]!AgePb76(M10)","v":5020.8054857793004},{"$f":"[1]!AgePb76(N10)","v":4981.2791175209904}]
[]
[]
[null,"(206Pb/204Pb)",18.562000000000001,18.652999999999999,18.283999999999999,18.885999999999999,18.870999999999999,18.861000000000001,18.91,18.899999999999999,18.872,18.949000000000002,18.588000000000001]
[null,"(207Pb/204Pb)",15.868,15.865,15.773999999999999,15.895,15.875,15.824,15.817,15.815,15.882999999999999,15.836,15.833]
[null,"(207Pb/206Pb)",{"$f":"(C15/C14)","v":0.85486477750242429},{"$f":"(D15/D14)","v":0.85053342625851081},0.86272150514110701,0.84162871968654029,0.84123787822584928,0.83897990562536451,0.8364357482813326,0.83677248677248683,0.84161721068249251,0.83571692437595646,0.85178609855820953," "]
[null,"Age",{"$f":"[1]!AgePb76(C16)","v":5016.0109563539472},{"$f":"[1]!AgePb76(D16)","v":5008.8053882854701},{"$f":"[1]!AgePb76(E16)","v":5028.9828930931089},{"$f":"[1]!AgePb76(F16)","v":4993.8684436878257},{"$f":"[1]!AgePb76(G16)","v":4993.2089970247926},{"$f":"[1]!AgePb76(H16)","v":4989.3928524923858},{"$f":"[1]!AgePb76(I16)","v":4985.0799376178848},{"$f":"[1]!AgePb76(J16)","v":4985.6515843373054},{"$f":"[1]!AgePb76(K16)","v":4993.8490297876788},{"$f":"[1]!AgePb76(L16)","v":4983.858844704203},{"$f":"[1]!AgePb76(M16)","v":5010.8933123963325}]
[]
[null,null," "," "]
[null,null," "," "]
[null,null,4980,null," "," "," ",null,null,null,null,null,null,null,null,null,null," "," "," "," "," "," "," "," "]
[null,null,5048,5016," "," "," ",null,null,null,null,null,null,null,null,null,null," "," "," "," "," "," "," "," "]
[null,null,4987,5009," "," "," ",null,null,null,null,null,null,null,null,null,null," "," "," "," "," "," "," "," "]
[null,null,5014,5029," "," "," ",null,null,null,null,null,null,null,null,null,null," "," "," "," "," "," "," "," "]
[null,null,5011,4994," "," "," ",null,null,null,null,null,null,null,null,null,null," "," "," "," "," "," "," "," "]
[null,null,5012,4993," "," "," ",null,null,null,null,null,null,null,null,null,null," "," "," "," "," "," "," "," "]
[null,null,4989,4989," "," "," ",null,null,null,null,null,null,null,null,null,null," "," "," "," "," "," "," "," "]
[null,null,5011,4985," "," "," ",null,null,null,null,null,null,null,null,null,null," "," "," "," "," "," "," "," "]
[null,null,5012,4986," "," "," "," ",null,null,null,null,null,null,null,null,null," "," "," "," "," "," "," "," "]
[null,null,4986,4994," "," "," "," "," "," "," "," "," "," "," "," "," "," "," "," "," "," "," "," "," "]
[null,null,5021,4984," "," "," "," "," "," "," "," "," "," "," "," "," "," "," "," "," "," "," "," "," "]
[null,null,4981,5011," "," "," "," "," "," "," "," "," "," "," "," "," "," "," "," "," "," "," "," "," "]
[null,"Average",{"$f":"AVERAGE(C20:C32)","v":5004.333333333333},{"$f":"AVERAGE(D20:D32)","v":4999.090909090909}," "," "," "," "," "," "," "," "," "," "," "," "," "," "," "," "," "," "," "," "," "]
[null,"Maximum",{"$f":"MAX(C20:C32)","v":5048},{"$f":"MAX(D20:D32)","v":5029}," "," "," "," "," "," "," "," "," "," "," "," "," "," "," "," "," "," "," "," "," "]
[null,"Minimum",{"$f":"MIN(C20:C32)","v":4980},{"$f":"MIN(D20:D32)","v":4984}," "," "," "," "," "," "," "," "," "," "," "," "," "," "," "," "," "," "," "," "," "]
[null,"Difference",{"$f":"(C34-ABS(C32))","v":67},{"$f":"(D34-ABS(D32))","v":18}," "," "," "," "," "," "," "," "," "," "," "," "," "," "," "," "," "," "," "," "," "]
[null,null," "," "," "," "," "," "," "," "," "," "," "," "," "," "," "," "," "," "," "," "," "," "," "]
[null,null," "," "," "," "," "," "," "," "," "," "," "," "," "," "," "," "," "," "," "," "," "," "," "]
[null,null," "," "," "," "," "," "," "," "," "," "," "," "," "," "," "," "," "," "," "," "," "," "," "]

{"sheet":"Rb-Sr _34","index":34,"n_rows":57,"n_cols":25,"rows_kept":57,"cut":false,"hidden":false,"merged":[]}
["Rubidium","Table 2",null,null,null,null,null,null,null,null,"Rubidium_030.pdf",null,null,null,null,10084]
["Strontium","Initial","Today","Today","The Ratio","Half","Decay","2.303/Delta","Age","Age","Age","Model Age","Model Age","Model Age",null,9320]
["Dating","87Sr/86Sr","87Sr/86Sr","87Rb/86Sr","Plus One","Life","Constant","Constant","Years","Million Years","Billion Years","Million Years","% Difference"," Difference",null,8101]
[null,0.70304,0.70303000000000004,1.4E-2,{"$f":"1+((C4-B4)/D4)","v":0.99928571428571755},48800000000,{"$f":"(0.693/F4)","v":1.4200819672131146E-11},{"$f":"(2.303/G4)","v":162173737373.7374},{"$f":"(LOG(E4))*(H4)","v":-50325946.586196132},{"$f":"(I4/1000000)","v":-50.325946586196132},{"$f":"(J4/1000)","v":-5.032594658619613E-2},null,null,null,null,7723]
[null,0.70307600000000003,0.70306000000000002,1.9E-2,{"$f":"1+((C5-B5)/D5)","v":0.99915789473684125},48800000000,{"$f":"(0.693/F5)","v":1.4200819672131146E-11},{"$f":"(2.303/G5)","v":162173737373.7374},{"$f":"(LOG(E5))*(H5)","v":-59335436.745372951},{"$f":"(I5/1000000)","v":-59.335436745372952},{"$f":"(J5/1000)","v":-5.9335436745372949E-2},null,null,null,null,7502]
[null,0.70320300000000002,0.70316000000000001,4.8000000000000001E-2,0.99910416666666635,48800000000,1.4200819672131146E-11,162173737373.7374,-63122858.165958114,-63.122858165958114,-6.3122858165958112E-2,null,null,null,null,7080]
[null,0.70426500000000003,0.70406000000000002,0.222,0.99907657657657656,48800000000,1.4200819672131146E-11,162173737373.7374,-65067829.395972177,-65.067829395972183,-6.5067829395972179E-2,null,null,null,null,7060]
[null,0.71307600000000004,0.70399999999999996,10.6,0.99914377358490569,48800000000,1.4200819672131146E-11,162173737373.7374,-60330851.11805167,-60.330851118051669,-6.033085111805167E-2,null,null,null,null,6891]
[null,0.70326299999999997,0.70320000000000005,5.8999999999999997E-2,0.9989322033898318,48800000000,1.4200819672131146E-11,162173737373.7374,-75246334.142151475,-75.246334142151468,-7.5246334142151469E-2,null,null,null,null,6655]
[null,null,null,null,null,null,null,null,"Average",{"$f":"AVERAGE(J4:J9)","v":-62.238209358950421},null,null,null,null,null,6507]
[null,null,null,null,null,null,null,null,"Maximum",{"$f":"MAX(J4:J10)","v":-50.325946586196132},null,null,null,null,null,6387]
[null,null,null,null,null,null,null,null,"Minimum",{"$f":"MIN(J4:J11)","v":-75.246334142151468},null,null,null,null,null,6313]
[null,null," "," "," "," "," ",null,"Difference",{"$f":"(J11-J12)","v":24.920387555955337},null,null,null,null,null,6206,null," "," "," "," "," "," "," "," "]
[null,null,null,null,null,null,null,null,null,null,null,null,null,null,null,5830]
[null,null," "," "," "," "," ",null,null,null,null,null,null,null,null,5755,null," "," "," "," "," "," "," "," "]
[null,null," "," "," "," "," ",null,null,"207Pb/206Pb","208Pb/232Th","206Pb/238U",null,null,null,5143,null," "," "," "," "," "," "," "," "]
[null,"238U/204Pb","232Th/204Pb","206Pb/204Pb","207Pb/204Pb","208Pb/204Pb","207Pb/206Pb","208Pb/232Th","206Pb/238U","Age","Age","Age",null,null,null,5029,null," "," "," "," "," "," "," "," "]
[null,15.9,80,19.408999999999999,15.645,39.44,{"$f":"(E18/D18)","v":0.80606934927095675},{"$f":"(F18/C18)","v":0.49299999999999999},{"$f":"(D18/B18)","v":1.2206918238993709},{"$f":"[1]!AgePb76(G18)","v":4932.4984927076603},{"$f":"[1]!AgePb8Th2(H18)","v":8100.8088642153252},{"$f":"[1]!AgePb6U8(I18)","v":5143.0702963674803},null,null,null,4949,null," "," "," "," "," "," "," "," "]
[null,12,101,19.422999999999998,15.627000000000001,39.380000000000003,{"$f":"(E19/D19)","v":0.80456160222416728},{"$f":"(F19/C19)","v":0.38990099009900991},{"$f":"(D19/B19)","v":1.6185833333333333},{"$f":"[1]!AgePb76(G19)","v":4929.8330817642009},{"$f":"[1]!AgePb8Th2(H19)","v":6654.5227783934497},{"$f":"[1]!AgePb6U8(I19)","v":6205.5339827049675},null,null,null,4932,null," "," "," "," "," "," "," "," "]
[null,21.3,288,19.475000000000001,15.632,39.799999999999997,0.80267008985879329,0.13819444444444443,0.91431924882629112,{"$f":"[1]!AgePb76(G20)","v":4926.4817212531834},{"$f":"[1]!AgePb8Th2(H20)","v":2616.3352435327629},{"$f":"[1]!AgePb6U8(I20)","v":4186.0568947087713},null,null,null,4930,null," "," "," "," "," "," "," "," "]
[null,27.5,88,19.731999999999999,15.622999999999999,39.549999999999997,0.79175957834988853,0.44943181818181815,0.71752727272727268,{"$f":"[1]!AgePb76(G21)","v":4906.9850669657171},{"$f":"[1]!AgePb8Th2(H21)","v":7502.2057627006352},{"$f":"[1]!AgePb6U8(I21)","v":3486.7727594229282},null,null,null,4926,null," "," "," "," "," "," "," "," "]
[null,18,118,19.513999999999999,15.643000000000001,39.450000000000003,0.80162959926206834,0.33432203389830512,1.084111111111111,{"$f":"[1]!AgePb76(G22)","v":4924.6346073120767},{"$f":"[1]!AgePb8Th2(H22)","v":5829.6780814829481},{"$f":"[1]!AgePb6U8(I22)","v":4733.8755116324564}," "," "," ",4926," "," "," "," "," "," "," "," "," "]
[null,24.7,120,19.613,15.638999999999999,39.53,0.79737928924692802,0.32941666666666669,0.79404858299595138,{"$f":"[1]!AgePb76(G23)","v":4917.0627271175154},{"$f":"[1]!AgePb8Th2(H23)","v":5755.2349576727684},{"$f":"[1]!AgePb6U8(I23)","v":3767.7669240460336}," "," "," ",4925," "," "," "," "," "," "," "," "," "]
[null,33.4,97,19.504999999999999,15.651,39.409999999999997,0.80240963855421688,0.4062886597938144,0.58398203592814368,{"$f":"[1]!AgePb76(G24)","v":4926.0195984713027},{"$f":"[1]!AgePb8Th2(H24)","v":6891.4416978604559},{"$f":"[1]!AgePb6U8(I24)","v":2964.976324728254}," "," "," ",4925," "," "," "," "," "," "," "," "," "]
[null,8.6,61,19.895,15.613,39.46,0.78477004272430262,0.64688524590163932,2.313372093023256,{"$f":"[1]!AgePb76(G25)","v":4894.3441676843468},{"$f":"[1]!AgePb8Th2(H25)","v":10083.593211694539},{"$f":"[1]!AgePb6U8(I25)","v":7722.5877842224072}," "," "," ",4924," "," "," "," "," "," "," "," "," "]
[null,35.4,174,19.702000000000002,15.782,40.06,0.80103542787534254,0.23022988505747127,0.55655367231638431,{"$f":"[1]!AgePb76(G26)","v":4923.5786696032783},{"$f":"[1]!AgePb8Th2(H26)","v":4187.9949538494302},{"$f":"[1]!AgePb6U8(I26)","v":2852.3719129801784}," "," "," ",4918," "," "," "," "," "," "," "," "," "]
[null,31,139,19.533999999999999,15.581,39.270000000000003,0.79763489300706458,0.28251798561151081,0.63012903225806449,{"$f":"[1]!AgePb76(G27)","v":4917.5192948934782},{"$f":"[1]!AgePb8Th2(H27)","v":5029.3142361410482},{"$f":"[1]!AgePb6U8(I27)","v":3150.0994203392793}," "," "," ",4917," "," "," "," "," "," "," "," "," "]
[null,43.7,107,19.678000000000001,15.592000000000001,39.229999999999997,0.79235694684419145,0.36663551401869154,0.45029748283752857,{"$f":"[1]!AgePb76(G28)","v":4908.0599205010458},{"$f":"[1]!AgePb8Th2(H28)","v":6313.3277445554641},{"$f":"[1]!AgePb6U8(I28)","v":2396.574994150109}," "," "," ",4914," "," "," "," "," "," "," "," "," "]
[null,45.7,67,19.652999999999999,15.629,39.25,0.79524754490408589,0.58582089552238803,0.43004376367614872,{"$f":"[1]!AgePb76(G29)","v":4913.2488585256651},{"$f":"[1]!AgePb8Th2(H29)","v":9319.9027471159188},{"$f":"[1]!AgePb6U8(I29)","v":2305.9148929757216}," "," "," ",4913," "," "," "," "," "," "," "," "," "]
[null,24.9,169,19.725999999999999,15.606,39.409999999999997,0.79113859880360948,0.23319526627218934,0.79220883534136544,{"$f":"[1]!AgePb76(G30)","v":4905.866814266019},{"$f":"[1]!AgePb8Th2(H30)","v":4236.6564618458988},{"$f":"[1]!AgePb6U8(I30)","v":3761.1529111468144}," "," "," ",4908," "," "," "," "," "," "," "," "," "]
[null,11.6,180,19.643000000000001,15.624000000000001,39.450000000000003,0.79539785165198795,0.21916666666666668,1.6933620689655173,{"$f":"[1]!AgePb76(G31)","v":4913.5181261906091},{"$f":"[1]!AgePb8Th2(H31)","v":4005.408089823803},{"$f":"[1]!AgePb6U8(I31)","v":6387.0443382971443},null,null,null,4907]
[null,9.8000000000000007,94,19.501000000000001,15.638,39.43,0.80190759448233417,0.41946808510638295,1.9898979591836734,{"$f":"[1]!AgePb76(G32)","v":4925.1283634077126},{"$f":"[1]!AgePb8Th2(H32)","v":7079.9841027655466},{"$f":"[1]!AgePb6U8(I32)","v":7060.3658949680803},null,null,null,4906]
[null,11,161,19.184999999999999,15.647,39.31,0.81558509252019817,0.24416149068322981,1.7440909090909089,{"$f":"[1]!AgePb76(G33)","v":4949.1991161944288},{"$f":"[1]!AgePb8Th2(H33)","v":4415.5998292758804},{"$f":"[1]!AgePb6U8(I33)","v":6507.3317611604771}]
[null,null,null,null,null,null,null,null,"Average",{"$f":"AVERAGE(J18:J33)","v":4919.62366417864},{"$f":"AVERAGE(K18:K33)","v":6126.3755476828674},{"$f":"AVERAGE(L18:L33)","v":4539.4685377406931}]
[null,null,null,null,null,null,null,null,"Maximum",{"$f":"MAX(J18:J34)","v":4949.1991161944288},{"$f":"MAX(K18:K34)","v":10083.593211694539},{"$f":"MAX(L18:L34)","v":7722.5877842224072}]
[null,null,null,null,null,null,null,null,"Minimum",{"$f":"MIN(J18:J35)","v":4894.3441676843468},{"$f":"MIN(K18:K35)","v":2616.3352435327629},{"$f":"MIN(L18:L35)","v":2305.9148929757216}]
[null,null,null,null,null,null,null,null,"Difference",{"$f":"(J35-J36)","v":54.854948510082068},{"$f":"(K35-K36)","v":7467.2579681617754},{"$f":"(L35-L36)","v":5416.672891246686}]
[]
[]
[]
[null,null,null,null,null,null,null,null,null,null,"208Pb/232Th","206Pb/238U"]
[null,null,null,null,null,null,null,null,null,null,10083.593211694539,7722.5877842224072]
[null,null,null,null,null,null,null,null,null,null,9319.9027471159188,7060.3658949680803]
[null,null,null,null,null,null,null,null,null,null,8100.8088642153252,6507.3317611604771]
[null,null,null,null,"Table","207Pb/206Pb","208Pb/232Th","206Pb/238U","87Rb/86Sr",null,7502.2057627006352,6387.0443382971443]
[null,null,null,null,"Summaries","Age","Age","Age","Age",null,7079.9841027655466,6205.5339827049675]
[null,null,null,null,"Average",4919.62366417864,6126.3755476828674,4539.4685377406931,-46.678657019212814,null,6891.4416978604559,5143.0702963674803]
[null,null,null,null,"Maximum",4949.1991161944288,10083.593211694539,7722.5877842224072,0,null,6654.5227783934497,4733.8755116324564]
[null,null,null,null,"Minimum",4894.3441676843468,2616.3352435327629,2305.9148929757216,-75.246334142151468,null,6313.3277445554641,4186.0568947087713]
[null,null,null,null,"Difference",54.854948510082068,7467.2579681617754,5416.672891246686,75.246334142151468,null,5829.6780814829481,3767.7669240460336]
[null,null,null,null,null,null,null,null,null,null,5755.2349576727684,3761.1529111468144]
[null,null,null,null,null,null,null,null,null,null,5029.3142361410482,3486.7727594229282]
[null,null,null,null,null,null,null,null,null,null,4415.5998292758804,3150.0994203392793]
[null,null,null,null,null,null,null,null,null,null,4236.6564618458988,2964.976324728254]
[null,null,null,null,null,null,null,null,null,null,4187.9949538494302,2852.3719129801784]
[null,null,null,null,null,null,null,null,null,null,4005.408089823803,2396.574994150109]
[null,null,null,null,null,null,null,null,null,null,2616.3352435327629,2305.9148929757216]

{"sheet":"Rb-Sr _35","index":35,"n_rows":106,"n_cols":25,"rows_kept":106,"cut":false,"hidden":false,"merged":[]}
["Rubidium","Table 2",null,null,null,null,null,null,null,null,"Rubidium_031.pdf",null,null,null,null,null,"206Pb/238U","207Pb/206Pb"]
["Strontium","Initial","Today","Today","The Ratio","Half","Decay","2.303/Delta","Age","Age","Age","Model Age","Model Age","Model Age",null,null,40059.358700408397,5294.8336514290759]
["Dating","87Sr/86Sr","87Sr/86Sr","87Rb/86Sr","Plus One","Life","Constant","Constant","Years","Million Years","Billion Years","Million Years","% Difference"," Difference",null,null,35741.892293900455,5283.1394508612611]
[null,null,null,null,null,null,null,null,null,null,null,null,null,null,null,null,34459.136460440379,5271.4686690134467]
[null,null," "," "," "," "," ",null,null,null,null,null,null,null,null,null,33978.288047458293,5228.5421735544724," "," "," "," "," "," "," "]
[null,null," "," "," "," "," ",null,null,null,null,null,null,null,null,null,28118.452515474801,5227.3166426101971," "," "," "," "," "," "," "]
[null,"Table 4"," "," "," "," ",null,"206Pb/238U","207Pb/206Pb",null,"206Pb/238U","206Pb/238U","206Pb/238U","206Pb/238U",null,null,27127.246204424191,5220.1170556608795," "," "," "," "," "," "," "]
[null,"238U/204Pb","206Pb/204Pb","207Pb/204Pb","208Pb/204Pb","207Pb/206Pb","206Pb/238U","Age","Age",null,"Age","Age","Age","Age",null,null,25883.872759102553,5218.6478679612928," "," "," "," "," "," "," "]
[null,3.47,15.515000000000001,14.993,36.478999999999999,{"$f":"(D9/C9)","v":0.96635514018691593},{"$f":"(C9/B9)","v":4.4711815561959654},{"$f":"[1]!AgePb6U8(G9)","v":10955.646090088625},{"$f":"[1]!AgePb76(F9)","v":5189.2351164914317},null,40059.358700408397,28118.452515474801,21092.296830329691,13724.173620984504,null,null,21208.701095014385,5209.5397030823506," "," "," "," "," "," "," "]
[null,0,14.334,14.808999999999999,34.424999999999997,{"$f":"(D10/C10)","v":1.0331379935816938},{"$f":"(C10/B10)","v":{"$error":"#DIV/0!"}},null,{"$f":"[1]!AgePb76(F10)","v":5283.1394508612611},null,35741.892293900455,27127.246204424191,16025.740634973225,13404.255619932585,null,null,21092.296830329691,5189.2351164914317," "," "," "," "," "," "," "]
[null,0,17.126000000000001,15.239000000000001,40.158000000000001,0.88981665304215807,{"$error":"#DIV/0!"},null,{"$f":"[1]!AgePb76(F11)","v":5072.7757818002783},null,34459.136460440379,25883.872759102553,14370.906692324043,12746.914431736985,null,null,20648.466710121422,5189.2351164914317," "," "," "," "," "," "," "]
[null,7.0000000000000007E-2,14.606,14.965,34.759,1.0245789401615775,208.65714285714284,{"$f":"[1]!AgePb6U8(G12)","v":34459.136460440379},{"$f":"[1]!AgePb76(F12)","v":5271.4686690134467},null,33978.288047458293,21208.701095014385,14272.103560710208,10955.646090088625," "," ",17526.521963842672,5148.3445459499508," "," "," "," "," "," "," "]
[null,2.12,17.282,15.3,38.325000000000003,0.88531419974539993,8.1518867924528298,{"$f":"[1]!AgePb6U8(G13)","v":14272.103560710208},{"$f":"[1]!AgePb76(F13)","v":5065.5974681353973},null,null,null,null," "," "," ",16335.865529439212,5148.3445459499508," "," "," "," "," "," "," "]
[null,10.55,19.550999999999998,15.715999999999999,42.295999999999999,0.80384635057030329,1.8531753554502366,{"$f":"[1]!AgePb6U8(G14)","v":6758.6303553409089},{"$f":"[1]!AgePb76(F14)","v":4928.5667934305566},null,null,null,null," "," "," ",16025.740634973225,5132.0719966890065," "," "," "," "," "," "," "]
[null,0.27,17.882000000000001,15.545999999999999,38.134999999999998,0.86936584274689621,66.229629629629628,{"$f":"[1]!AgePb6U8(G15)","v":27127.246204424191},{"$f":"[1]!AgePb76(F15)","v":5039.8556008408832},null,null,null,null," "," "," ",15626.149342801331,5105.1074882982939," "," "," "," "," "," "," "]
[null,2.2799999999999998,14.19,14.782999999999999,34.204000000000001,1.0417899929527836,6.2236842105263159,{"$f":"[1]!AgePb6U8(G16)","v":12746.914431736985},{"$f":"[1]!AgePb76(F16)","v":5294.8336514290759},null,null,null,null," "," "," ",15017.897640692685,5105.1074882982939," "," "," "," "," "," "," "]
[null,2.2799999999999998,16.885999999999999,15.372999999999999,38.22,0.91039914722255122,7.4061403508771937,{"$f":"[1]!AgePb6U8(G17)","v":13724.173620984504},{"$f":"[1]!AgePb76(F17)","v":5105.1074882982939},null,null,null,null," "," "," ",14370.906692324043,5091.6198464812041," "," "," "," "," "," "," "]
[null,0,15.417,15.212999999999999,35.398000000000003,0.98676785366802877,{"$error":"#DIV/0!"},null,{"$f":"[1]!AgePb76(F18)","v":5218.6478679612928},null,null,null,null," "," "," ",14272.103560710208,5090.3060610557141," "," "," "," "," "," "," "]
[null,0,17.898,15.48,40.496000000000002,0.86490110626885686,{"$error":"#DIV/0!"},null,{"$f":"[1]!AgePb76(F19)","v":5032.5593317220746},null,null,null,null," "," "," ",13724.173620984504,5079.2788958724313," "," "," "," "," "," "," "]
[null,0,15.491,15.302,35.206000000000003,0.98779936737460461,{"$error":"#DIV/0!"},null,{"$f":"[1]!AgePb76(F20)","v":5220.1170556608795},null,null,null,null," "," "," ",13724.173620984504,5074.0951076320353," "," "," "," "," "," "," "]
[null,0,16.571999999999999,15.378,37.488,0.92795076031860979,{"$error":"#DIV/0!"},null,{"$f":"[1]!AgePb76(F21)","v":5132.0719966890065},null,null,null,null,null,null,null,13404.255619932585,5072.7757818002783]
[null,0.06,15.289,15.18,35.29,0.9928706913467199,254.81666666666666,{"$f":"[1]!AgePb6U8(G22)","v":35741.892293900455},{"$f":"[1]!AgePb76(F22)","v":5227.3166426101971},null,null,null,null,null,null,null,13404.255619932585,5069.5558871662988]
[null,0.04,19.952000000000002,15.823,39.19,0.79305332798716921,498.8,{"$f":"[1]!AgePb6U8(G23)","v":40059.358700408397},{"$f":"[1]!AgePb76(F23)","v":4909.3118405664982},null,null,null,null,null,null,null,12746.914431736985,5068.3043644323416]
[null,8.42,17.260000000000002,15.429,39.078000000000003,0.89391657010428727,2.0498812351543947,{"$f":"[1]!AgePb6U8(G24)","v":7188.4135411282859},{"$f":"[1]!AgePb76(F24)","v":5079.2788958724313},null,null,null,null,null,null,null,12621.527105022808,5068.1229891933854]
[null,138,39.091000000000001,15.624000000000001,49.326999999999998,0.39968279143536878,0.283268115942029,{"$f":"[1]!AgePb6U8(G25)","v":1607.8004163983624},{"$f":"[1]!AgePb76(F25)","v":3907.8855632202108},null,null,null,null,null,null,null,12164.832548153941,5065.5974681353973]
[null,16,19.716000000000001,15.679,41.948,0.79524244268614319,1.2322500000000001,{"$f":"[1]!AgePb6U8(G26)","v":5176.5353451422334},{"$f":"[1]!AgePb76(F26)","v":4913.239717185038},null,null,null,null,null,null,null,11432.272669560287,5055.4152870277994]
[null,0.25,19.350999999999999,15.798999999999999,38.756999999999998,0.81644359464627148,77.403999999999996,{"$f":"[1]!AgePb6U8(G27)","v":28118.452515474801},{"$f":"[1]!AgePb76(F27)","v":4950.6956289229456},null,null,null,null,null,null,null,10955.646090088625,5052.1337088883665]
[null,2.0699999999999998,17.167000000000002,15.465999999999999,39.731000000000002,0.90091454534863391,8.2932367149758477,{"$f":"[1]!AgePb6U8(G28)","v":14370.906692324043},{"$f":"[1]!AgePb76(F28)","v":5090.3060610557141},null,null,null,null,null,null,null,10955.646090088625,5039.8556008408832]
[null,0.72,18.260999999999999,15.601000000000001,38.594000000000001,0.85433437380209198,25.362500000000001,{"$f":"[1]!AgePb6U8(G29)","v":21092.296830329691},{"$f":"[1]!AgePb76(F29)","v":5015.130670735336},null,null,null,null,null,null,null,10048.718603189718,5035.1944898549482]
[null,2.35,16.448,15.44,37.107999999999997,0.93871595330739299,6.9991489361702124,{"$f":"[1]!AgePb6U8(G30)","v":13404.255619932585},{"$f":"[1]!AgePb76(F30)","v":5148.3445459499508},null,null,null,null,null,null,null,9249.6491981425424,5032.5593317220746]
[null,0,15.712999999999999,15.404999999999999,35.694000000000003,0.98039839623241898,{"$error":"#DIV/0!"},null,{"$f":"[1]!AgePb76(F31)","v":5209.5397030823506},null,null,null,null,null,null,null,7381.9319387973801,5031.4047841821075]
[null,0,18.001999999999999,15.539,40.588000000000001,0.86318186868125768,{"$error":"#DIV/0!"},null,{"$f":"[1]!AgePb76(F32)","v":5029.7390874756138},null,null,null,null,null,null,null,7188.4135411282859,5029.7390874756138]
[null,0.08,15.487,15.39,35.276000000000003,0.99373668237876933,193.58750000000001,{"$f":"[1]!AgePb6U8(G33)","v":33978.288047458293},{"$f":"[1]!AgePb76(F33)","v":5228.5421735544724},null,null,null,null,null,null,null,6791.8352442117512,5027.8350654852275]
[null,37.74,18.303000000000001,15.597,37.728999999999999,0.85215538436321903,0.48497615262321142,{"$f":"[1]!AgePb6U8(G34)","v":2548.9038729162303},{"$f":"[1]!AgePb76(F34)","v":5011.5082067857447},null,null,null,null,null,null,null,6758.6303553409089,5026.5045023557877]
[null,6.14,19.641999999999999,15.714,40.591000000000001,0.80002036452499747,3.1990228013029318,{"$f":"[1]!AgePb6U8(G35)","v":9249.6491981425424},{"$f":"[1]!AgePb76(F35)","v":4921.772809940162},null,null,null,null,null,null,null,6264.9649015842588,5022.7175402847733]
[null,8.99,19.263999999999999,15.624000000000001,41.595999999999997,0.81104651162790709,2.1428253615127919,{"$f":"[1]!AgePb6U8(G36)","v":7381.9319387973801},{"$f":"[1]!AgePb76(F36)","v":4941.2596695704242},null,null,null,null,null,null,null,5864.8851635831707,5021.5220934262861]
[null,0.33,17.963999999999999,15.566000000000001,38.232999999999997,0.86651079937653097,54.43636363636363,{"$f":"[1]!AgePb6U8(G37)","v":25883.872759102553},{"$f":"[1]!AgePb76(F37)","v":5035.1944898549482},null,null,null,null,null,null,null,5176.5353451422334,5015.130670735336]
[null,1.61,17.731000000000002,15.585000000000001,39.505000000000003,0.87896903727934128,11.013043478260871,{"$f":"[1]!AgePb6U8(G38)","v":16025.740634973225},{"$f":"[1]!AgePb76(F38)","v":5055.4152870277994},null,null,null,null,null,null,null,4977.1887612629489,5011.5082067857447]
[null,0.7,18.09,15.593999999999999,38.555,0.86202321724709785,25.842857142857145,{"$f":"[1]!AgePb6U8(G39)","v":21208.701095014385},{"$f":"[1]!AgePb76(F39)","v":5027.8350654852275},null,null,null,null,null,null,null,null,4993.4000211144421]
[null,16.600000000000001,19.327000000000002,15.561,41.984000000000002,0.80514306410720748,1.1642771084337349,{"$f":"[1]!AgePb6U8(G40)","v":4977.1887612629489},{"$f":"[1]!AgePb76(F40)","v":4930.8616251540752},null,null,null,null,null,null,null,null,4983.2340687365795]
[null,null,null,null,null,0,"Average",{"$f":"AVERAGE(H9:H40)","v":17002.418291101338},{"$f":"AVERAGE(I9:I40)","v":5046.4735611369688},null,null,null,null,null,null,null,null,4971.9019555076757]
[null,null,null,null,null,null,"Maximum",{"$f":"MAX(H9:H41)","v":40059.358700408397},{"$f":"MAX(I9:I41)","v":5294.8336514290759},null,null,null,null,null,null,null,null,4962.8878305995768]
[null,null,null,null,null,null,"Minimum",{"$f":"MIN(H9:H42)","v":1607.8004163983624},{"$f":"MIN(I9:I42)","v":3907.8855632202108},null,null,null,null,null,null,null,null,4956.0474923766933]
[null,null,null,null,null,null,"Difference",{"$f":"(H42-H43)","v":38451.558284010032},{"$f":"(I42-I43)","v":1386.9480882088651},null,null,null,null,null,null,null,null,4953.0433622164064]
[null,null,null,null,null,null,null,null,null,null,null,null,null,null,null,null,null,4952.036061007193]
[null,null,null,null,null,null,"Table","206Pb/238U","207Pb/206Pb",null,null,null,null,null,null,null,null,4950.6956289229456]
[null,null,null,null,null,null,"Summaries","Age","Age",null,"Table 5",null,null,null,null,null,null,4948.7068073402443]
[null,"Table 5",null,null,"206Pb/238U",null,"Average",17002.418291101338,5046.4735611369688,null,"206Pb/238U","206Pb/238U","206Pb/238U",null,null,null,null,4941.2596695704242]
[null,"238U/204Pb","206Pb/204Pb","206Pb/238U","Age",null,"Maximum",40059.358700408397,5294.8336514290759,null,"Age","Age","Age",null,null,null,null,4937.1705550148281]
[null,3.07,17.192,{"$f":"(C50/B50)","v":5.6000000000000005},{"$f":"[1]!AgePb6U8(D50)","v":12164.832548153941},null,"Minimum",1607.8004163983624,3907.8855632202108,null,20648.466710121422,13724.173620984504,10955.646090088625,null,null,null,null,4930.8616251540752]
[null,1.57,18.22,{"$f":"(C51/B51)","v":11.605095541401273},{"$f":"[1]!AgePb6U8(D51)","v":16335.865529439212},null,"Difference",38451.558284010032,1386.9480882088651,null,17526.521963842672,13404.255619932585,10048.718603189718,null,null,null,null,4928.5667934305566]
[null,1.4,19.827000000000002,14.162142857142859,{"$f":"[1]!AgePb6U8(D52)","v":17526.521963842672},null,null,null,null,null,16335.865529439212,12621.527105022808,6791.8352442117512,null,null,null,null,4923.7487601686717]
[null,1.89,19.45,10.291005291005291,{"$f":"[1]!AgePb6U8(D53)","v":15626.149342801331},null,null,null,null,null,15626.149342801331,12164.832548153941,6264.9649015842588,null,null,null,null,4921.772809940162]
[null,0.82,19.359000000000002,23.608536585365858,{"$f":"[1]!AgePb6U8(D54)","v":20648.466710121422},null,null,null,null,null,15017.897640692685,11432.272669560287,5864.8851635831707,null,null,null,null,4913.5765597602031]
[null,1.95,18.085000000000001,9.2743589743589752,{"$f":"[1]!AgePb6U8(D55)","v":15017.897640692685},null,null,null,null,null,null,null,null,null,null,null,null,4913.2991051300778]
[null,10.19,19.033999999999999,1.8679097154072619,{"$f":"[1]!AgePb6U8(D56)","v":6791.8352442117512},null,null,null,null,null,null,null,null,null,null,null,null,4913.239717185038]
[null,2.2799999999999998,16.885999999999999,7.4061403508771937,{"$f":"[1]!AgePb6U8(D57)","v":13724.173620984504},null,null,null,null,null,null,null,null,null,null,null,null,4909.3118405664982]
[null,3.47,15.515000000000001,4.4711815561959654,{"$f":"[1]!AgePb6U8(D58)","v":10955.646090088625}]
[null,2.35,16.448,6.9991489361702124,{"$f":"[1]!AgePb6U8(D59)","v":13404.255619932585}]
[null,3.68,17.998999999999999,4.8910326086956513,{"$f":"[1]!AgePb6U8(D60)","v":11432.272669560287}]
[null,2.91,17.706,6.0845360824742265,{"$f":"[1]!AgePb6U8(D61)","v":12621.527105022808}]
[null,13.68,22.474,1.6428362573099415,{"$f":"[1]!AgePb6U8(D62)","v":6264.9649015842588}]
[null,5.08,19.065999999999999,3.7531496062992122,{"$f":"[1]!AgePb6U8(D63)","v":10048.718603189718}]
[null,12.1,17.954000000000001,1.4838016528925622,{"$f":"[1]!AgePb6U8(D64)","v":5864.8851635831707}]
[null,null,null,"Average",{"$f":"AVERAGE(E50:E64)","v":12561.867516880598}]
[null,null,null,"Maximum",{"$f":"MAX(E50:E65)","v":20648.466710121422}]
[null,null,null,"Minimum",{"$f":"MIN(E50:E66)","v":5864.8851635831707}]
[null,null,null,"Difference",{"$f":"(E66-E67)","v":14783.581546538251}]
[]
[]
[null,null,null,null,"207Pb/206Pb"]
[null,"206Pb/204Pb","207Pb/204Pb","207Pb/206Pb","Age"]
[null,17.497,15.52,{"$f":"(C73/B73)","v":0.88700920157741325},{"$f":"[1]!AgePb76($D$73)","v":5068.3043644323416}]
[null,17.192,15.311999999999999,{"$f":"(C74/B74)","v":0.8906468124709167},{"$f":"[1]!AgePb76($D$74)","v":5074.0951076320353}]
[null,18.222000000000001,15.638,0.85819339260234873,{"$f":"[1]!AgePb76($D$75)","v":5021.5220934262861}]
[null,19.827000000000002,15.771000000000001,0.79543047359661068,{"$f":"[1]!AgePb76($D$76)","v":4913.5765597602031}]
[null,19.45,15.582000000000001,0.80113110539845767,{"$f":"[1]!AgePb76($D$77)","v":4923.7487601686717}]
[null,19.359000000000002,15.656000000000001,0.80871945864972361,{"$f":"[1]!AgePb76($D$78)","v":4937.1705550148281}]
[null,18.085000000000001,15.629,0.86419684821675413,{"$f":"[1]!AgePb76($D$79)","v":5031.4047841821075}]
[null,19.033999999999999,15.673999999999999,0.82347378375538516,{"$f":"[1]!AgePb76($D$80)","v":4962.8878305995768}]
[null,17.292999999999999,15.593999999999999,0.90175215405077203,{"$f":"[1]!AgePb76($D$81)","v":5091.6198464812041}]
[null,18.792999999999999,15.574,0.82871281860267121,{"$f":"[1]!AgePb76($D$82)","v":4971.9019555076757}]
[null,16.885999999999999,15.372999999999999,0.91039914722255122,{"$f":"[1]!AgePb76($D$83)","v":5105.1074882982939}]
[null,15.515000000000001,14.993,0.96635514018691593,{"$f":"[1]!AgePb76($D$84)","v":5189.2351164914317}]
[null,16.448,15.44,0.93871595330739299,{"$f":"[1]!AgePb76($D$85)","v":5148.3445459499508}]
[null,18.562999999999999,15.618,0.84135107471852622,{"$f":"[1]!AgePb76($D$86)","v":4993.4000211144421}]
[null,17.998999999999999,15.500999999999999,0.86121451191732878,{"$f":"[1]!AgePb76($D$87)","v":5026.5045023557877}]
[null,17.706,15.526999999999999,0.87693437252908613,{"$f":"[1]!AgePb76($D$88)","v":5052.1337088883665}]
[null,19.065999999999999,15.625,0.81952166159655937,{"$f":"[1]!AgePb76($D$89)","v":4956.0474923766933}]
[null,19.199000000000002,15.653,0.81530288035835197,{"$f":"[1]!AgePb76($D$90)","v":4948.7068073402443}]
[null,22.474,16.027000000000001,0.71313517842840624,{"$f":"[1]!AgePb76($D$91)","v":4757.4152589113774}]
[null,17.556999999999999,15.587,0.8877940422623456,{"$f":"[1]!AgePb76($D$92)","v":5069.5558871662988}]
[null,18.518000000000001,15.468999999999999,0.83534938978291384,{"$f":"[1]!AgePb76($D$93)","v":4983.2340687365795}]
[null,17.954000000000001,15.420999999999999,0.85891723292859523,{"$f":"[1]!AgePb76($D$94)","v":5022.7175402847733}]
[null,17.390999999999998,15.423999999999999,0.88689552067161181,{"$f":"[1]!AgePb76($D$95)","v":5068.1229891933854}]
[null,18.962,15.496,0.8172133741166544,{"$f":"[1]!AgePb76($D$96)","v":4952.036061007193}]
[null,19.558,15.554,0.79527559055118113,{"$f":"[1]!AgePb76($D$97)","v":4913.2991051300778}]
[null,18.907,15.462,0.81779235203892742,{"$f":"[1]!AgePb76($D$98)","v":4953.0433622164064}]
[null,null,null,"Average",{"$f":"AVERAGE(E73:E98)","v":5005.1975312563936}]
[null,null,null,"Maximum",{"$f":"MAX(E73:E99)","v":5189.2351164914317}]
[null,null,null,"Minimum",{"$f":"MIN(E73:E100)","v":4757.4152589113774}]
[null,null,null,"Difference",{"$f":"(E100-E101)","v":431.8198575800543}]
[]
[]
[]
[null,"http://petrology.oxfordjournals.org/content/suppl/2001/04/27/42.4.731.DC1/ege033SUPPLEM.csv"]

{"sheet":"Rb-Sr _36","index":36,"n_rows":37,"n_cols":25,"rows_kept":37,"cut":false,"hidden":false,"merged":[]}
["Rubidium","Table 2","Page 772",null,null,null,null,null,null,null,"Rubidium_032.pdf"]
["Strontium","Initial","Today","Today","The Ratio","Half","Decay","2.303/Delta","Age","Age","Age","Model Age","Model Age","Model Age"]
["Dating","87Sr/86Sr","87Sr/86Sr","87Rb/86Sr","Plus One","Life","Constant","Constant","Years","Million Years","Billion Years","Million Years","% Difference"," Difference"]
[null,0.70508300000000002,0.70518700000000001,1.46E-2,{"$f":"1+((C4-B4)/D4)","v":1.0071232876712324},48800000000,{"$f":"(0.693/F4)","v":1.4200819672131146E-11},{"$f":"(2.303/G4)","v":162173737373.7374},{"$f":"(LOG(E4))*(H4)","v":499922967.2060529},{"$f":"(I4/1000000)","v":499.92296720605287},{"$f":"(J4/1000)","v":0.49992296720605289},2000]
[null,0.70559799999999995,0.70567999999999997,1.15E-2,1.0071304347826111,48800000000,1.4200819672131146E-11,162173737373.7374,500422784.41784757,500.42278441784759,0.5004227844178476]
[null,0.70552899999999996,0.70561700000000005,1.24E-2,1.0070967741935555,48800000000,1.4200819672131146E-11,162173737373.7374,498068775.5970785,498.06877559707851,0.49806877559707852]
[null,0.707345,0.70816599999999996,0.115,1.0071391304347823,48800000000,1.4200819672131146E-11,162173737373.7374,501030890.57547575,501.03089057547578,0.50103089057547578]
[null,0.71158100000000002,0.71220899999999998,8.8099999999999998E-2,1.0071282633371166,48800000000,1.4200819672131146E-11,162173737373.7374,500270929.62027597,500.27092962027598,0.50027092962027597]
[null,0.71222600000000003,0.71289599999999997,9.4E-2,1.0071276595744676,48800000000,1.4200819672131146E-11,162173737373.7374,500228706.87906718,500.2287068790672,0.50022870687906718]
[null,0.703851,0.70403300000000002,2.5499999999999998E-2,1.0071372549019615,48800000000,1.4200819672131146E-11,162173737373.7374,500899730.86795408,500.89973086795408,0.50089973086795403]
[null,0.70416999999999996,0.70433699999999999,2.35E-2,1.0071063829787246,48800000000,1.4200819672131146E-11,162173737373.7374,498740761.31614417,498.74076131614419,0.4987407613161442]
[null,0.70411599999999996,0.70506500000000005,0.13300000000000001,{"$f":"1+((C12-B12)/D12)","v":1.0071353383458654},48800000000,{"$f":"(0.693/F12)","v":1.4200819672131146E-11},{"$f":"(2.303/G12)","v":162173737373.7374},{"$f":"(LOG(E12))*(H12)","v":500765702.06960088},{"$f":"(I12/1000000)","v":500.76570206960088},{"$f":"(J12/1000)","v":0.50076570206960092}]
[null,0.70435199999999998,0.70437000000000005,2.5500000000000002E-3,1.0070588235294406,48800000000,1.4200819672131146E-11,162173737373.7374,495414651.68401814,495.41465168401811,0.4954146516840181,null,null,null,null,null,null," "," "," "," "," "," "," "," "]
[null,null,null,null,null,null,null,null,"Average",{"$f":"AVERAGE(J4:J13)","v":499.57659002335151}]
[null,null,null,null,null,null,null,null,"Maximum",{"$f":"MAX(J4:J14)","v":501.03089057547578}]
[null,null,null,null,null,null,null,null,"Minimum",{"$f":"MIN(J4:J15)","v":495.41465168401811}]
[null,null," "," "," "," "," ",null,"Difference",{"$f":"(J15-J16)","v":5.6162388914576695},null,null,null,null,null,null,null," "," "," "," "," "," "," "," "]
[]
[]
[null,"Table 2","Page 772",null,"207Pb/206Pb",null,null,"206Pb/238U"]
[null,"206Pb/204Pb","207Pb/204Pb","207Pb/206Pb","Age","238U/204Pb","206Pb/238U","Age"]
[null,18.88,15.66,{"$f":"(C22/B22)","v":0.82944915254237295},{"$f":"[1]!AgePb76($D$22)","v":4973.1640124931364},0.93600000000000005,{"$f":"(B22/F22)","v":20.17094017094017},{"$f":"[1]!AgePb6U8(G22)","v":19678.514067310902}]
[null,19.45,15.67,{"$f":"(C23/B23)","v":0.80565552699228793},{"$f":"[1]!AgePb76($D$23)","v":4931.7674618179572},2.0499999999999998,{"$f":"(B23/F23)","v":9.4878048780487809},{"$f":"[1]!AgePb6U8(G23)","v":15150.447329465273}]
[null,18.68,15.63,0.8367237687366168,{"$f":"[1]!AgePb76($D$24)","v":4985.5688958040364},0.75700000000000001,24.676354029062086,{"$f":"[1]!AgePb6U8(G24)","v":20922.29164661156}]
[null,18.670000000000002,15.62,0.8366363149437599,{"$f":"[1]!AgePb76($D$25)","v":4985.420448703645},0.66100000000000003,28.245083207261725,{"$f":"[1]!AgePb6U8(G25)","v":21761.234256696251}]
[null,18.850000000000001,15.64,0.829708222811671,{"$f":"[1]!AgePb76($D$26)","v":4973.6077689399444},1.19,15.840336134453784,{"$f":"[1]!AgePb6U8(G26)","v":18203.235900681557}]
[null,null,null,"Average",{"$f":"AVERAGE(E22:E26)","v":4969.9057175517428},null,null,{"$f":"AVERAGE(H22:H26)","v":19143.144640153107}]
[null,null,null,"Maximum",{"$f":"MAX(E22:E27)","v":4985.5688958040364},null,null,{"$f":"MAX(H22:H27)","v":21761.234256696251}]
[null,null,null,"Minimum",{"$f":"MIN(E22:E28)","v":4931.7674618179572},null,null,{"$f":"MIN(H22:H28)","v":15150.447329465273}]
[null,null,null,"Difference",{"$f":"(E28-E29)","v":53.801433986079246},null,null,{"$f":"(H28-H29)","v":6610.7869272309781}]
[]
[null,null,null,null,null,null,null,null,null,"Table","207Pb/206Pb","206Pb/238U","87Rb/86Sr"]
[null,null,null,null,null,null,null,null,null,"Summaries","Age","Age","Age"]
[null,null,null,null,null,null,null,null,null,"Average",4969.9057175517428,19143.144640153107,499.57659002335151]
[null,null,null,null,null,null,null,null,null,"Maximum",4985.5688958040364,21761.234256696251,501.03089057547578]
[null,null,null,null,null,null,null,null,null,"Minimum",4931.7674618179572,15150.447329465273,495.41465168401811]
[null,null,null,null,null,null,null,null,null,"Difference",53.801433986079246,6610.7869272309781,5.6162388914576695]

{"sheet":"Rb-Sr _37","index":37,"n_rows":157,"n_cols":25,"rows_kept":157,"cut":false,"hidden":false,"merged":[]}
["Rubidium",null,null,null,null,null,null,null,null,null,"Rubidium_033.pdf"]
["Strontium","Initial","Today","Today","The Ratio","Half","Decay","2.303/Delta","Age","Age","Age","Model Age","Model Age","Model Age"]
["Dating","87Sr/86Sr","87Sr/86Sr","87Rb/86Sr","Plus One","Life","Constant","Constant","Years","Million Years","Billion Years","Million Years","% Difference"," Difference"]
[null,0.70850000000000002,0.71021800000000002,7.0499999999999993E-2,{"$f":"1+((C4-B4)/D4)","v":1.0243687943262412},48800000000,{"$f":"(0.693/F4)","v":1.4200819672131146E-11},{"$f":"(2.303/G4)","v":162173737373.7374},{"$f":"(LOG(E4))*(H4)","v":1695743728.3564291},{"$f":"(I4/1000000)","v":1695.7437283564291},{"$f":"(J4/1000)","v":1.6957437283564292},376,{"$f":"(J4/L4) *100","v":450.99567243522046},{"$f":"(J4-L4)","v":1319.7437283564291}]
[null,0.70850000000000002,0.71018999999999999,7.4200000000000002E-2,{"$f":"1+((C5-B5)/D5)","v":1.0227762803234497},48800000000,{"$f":"(0.693/F5)","v":1.4200819672131146E-11},{"$f":"(2.303/G5)","v":162173737373.7374},{"$f":"(LOG(E5))*(H5)","v":1586164166.6981392},{"$f":"(I5/1000000)","v":1586.1641666981393},{"$f":"(J5/1000)","v":1.5861641666981392},376,{"$f":"(J5/L5) *100","v":421.85217199418599},{"$f":"(J5-L5)","v":1210.1641666981393}]
[null,0.70850000000000002,0.70999199999999996,5.0200000000000002E-2,1.0297211155378474,48800000000,1.4200819672131146E-11,162173737373.7374,2062788071.422374,2062.7880714223738,2.0627880714223736,376,548.61384878254626,1686.7880714223738]
[null,0.70850000000000002,0.71040400000000004,0.13600000000000001,1.014,48800000000,1.4200819672131146E-11,162173737373.7374,979197728.00936115,979.19772800936119,0.97919772800936122,376,260.42492766206414,603.19772800936119]
[null,0.70850000000000002,0.71037600000000001,0.193,1.009720207253886,48800000000,1.4200819672131146E-11,162173737373.7374,681299616.63924766,681.29961663924769,0.68129961663924765,376,181.1967065529914,305.29961663924769]
[null,0.70850000000000002,0.71015200000000001,0.1244,1.0132797427652731,48800000000,1.4200819672131146E-11,162173737373.7374,929151793.9775964,929.15179397759641,0.9291517939775964,376,247.11483882382885,553.15179397759641]
[null,0.70850000000000002,0.711287,0.35780000000000001,1.0077892677473448,48800000000,1.4200819672131146E-11,162173737373.7374,546481563.88625026,546.48156388625023,0.54648156388625024,376,145.3408414591091,170.48156388625023]
[null,0.70850000000000002,0.71146399999999999,0.39069999999999999,1.0075863834143843,48800000000,1.4200819672131146E-11,162173737373.7374,532301201.22848779,532.3012012284878,0.53230120122848779,376,141.56946841183188,156.3012012284878]
[null,0.70850000000000002,0.71078600000000003,0.26429999999999998,1.0086492622020431,48800000000,1.4200819672131146E-11,162173737373.7374,606558188.25811183,606.55818825811184,0.60655818825811181,376,161.31866708992334,230.55818825811184]
[null,0.70850000000000002,0.71006599999999997,0.1076,1.0145539033457245,48800000000,1.4200819672131146E-11,162173737373.7374,1017660650.4464889,1017.6606504464888,1.0176606504464889,376,270.65442831023637,641.66065044648883,null,null,null,null,null,null,null," "," "," "," "]
[null,0.70850000000000002,0.71047400000000005,0.19750000000000001,1.009994936708861,48800000000,1.4200819672131146E-11,162173737373.7374,700460253.39683318,700.4602533968332,0.70046025339683315,376,186.29262058426414,324.4602533968332]
[null,0.70850000000000002,0.70973200000000003,4.36E-2,1.0282568807339452,48800000000,1.4200819672131146E-11,162173737373.7374,1962565647.0396152,1962.5656470396152,1.9625656470396151,376,521.95894868074879,1586.5656470396152,null,null,null,null,null,null,null," "," "," "," "]
[null,0.70850000000000002,0.71142300000000003,0.38,1.007692105263158,48800000000,1.4200819672131146E-11,162173737373.7374,539690862.17704439,539.69086217704444,0.53969086217704443,376,143.53480377049056,163.69086217704444]
[null,0.70850000000000002,0.71132799999999996,0.3584,1.0078906249999999,48800000000,1.4200819672131146E-11,162173737373.7374,553564740.96680272,553.56474096680267,0.55356474096680264,376,147.22466515074538,177.56474096680267]
[null,0.70850000000000002,0.71001700000000001,0.13070000000000001,1.0116067329762815,48800000000,1.4200819672131146E-11,162173737373.7374,812767940.26411569,812.76794026411574,0.8127679402641157,376,216.16168624045633,436.76794026411574]
[null,0.70850000000000002,0.70950800000000003,9.3100000000000002E-2,1.0108270676691731,48800000000,1.4200819672131146E-11,162173737373.7374,758464324.38283968,758.46432438283966,0.75846432438283962,376,201.71923520820206,382.46432438283966]
[null,0.70850000000000002,0.70926800000000001,5.6500000000000002E-2,1.0135929203539822,48800000000,1.4200819672131146E-11,162173737373.7374,950916812.76848149,950.91681276848146,0.9509168127684815,376,252.90340765119188,574.91681276848146]
[null,0.70850000000000002,0.70920499999999997,5.2499999999999998E-2,1.0134285714285707,48800000000,1.4200819672131146E-11,162173737373.7374,939495833.35540128,939.49583335540126,0.93949583335540121,376,249.86591312643651,563.49583335540126]
[null,0.70850000000000002,0.71044600000000002,0.26390000000000002,1.0073740053050397,48800000000,1.4200819672131146E-11,162173737373.7374,517454223.01510251,517.45422301510246,0.51745422301510247,376,137.6208039933783,141.45422301510246]
[null,0.70850000000000002,0.709032,4.6199999999999998E-2,1.011515151515151,48800000000,1.4200819672131146E-11,162173737373.7374,806391469.79323578,806.39146979323573,0.80639146979323573,376,214.46581643437122,430.39146979323573]
[null,0.70850000000000002,0.70913499999999996,4.0099999999999997E-2,1.0158354114713202,48800000000,1.4200819672131146E-11,162173737373.7374,1106567850.8557589,1106.5678508557589,1.106567850855759,376,294.29996033397845,730.56785085575893]
[null,0.70850000000000002,0.70913199999999998,3.56E-2,1.0177528089887631,48800000000,1.4200819672131146E-11,162173737373.7374,1239381926.5450022,1239.3819265450022,1.2393819265450021,376,329.62285280452187,863.38192654500222]
[null,0.70850000000000002,0.70885200000000004,1.3299999999999999E-2,1.0264661654135352,48800000000,1.4200819672131146E-11,162173737373.7374,1839802447.3248253,1839.8024473248254,1.8398024473248253,376,489.30916152255992,1463.8024473248254]
[null,0.70850000000000002,0.70889100000000005,1.5599999999999999E-2,1.0250641025641045,48800000000,1.4200819672131146E-11,162173737373.7374,1743533892.3405633,1743.5338923405634,1.7435338923405634,376,463.70582243100091,1367.5338923405634]
[null,0.70850000000000002,0.70898399999999995,2.8899999999999999E-2,1.0167474048442882,48800000000,1.4200819672131146E-11,162173737373.7374,1169770938.3582706,1169.7709383582705,1.1697709383582706,376,311.10929211656133,793.77093835827054]
[null,0.70850000000000002,0.70895300000000006,2.23E-2,1.0203139013452931,48800000000,1.4200819672131146E-11,162173737373.7374,1416393599.0796964,1416.3935990796965,1.4163935990796965,376,376.70042528715328,1040.3935990796965]
[null,0.70850000000000002,0.70894000000000001,2.0500000000000001E-2,1.0214634146341461,48800000000,1.4200819672131146E-11,162173737373.7374,1495698586.3853791,1495.698586385379,1.4956985863853791,376,397.79217723015398,1119.698586385379]
[null,0.70850000000000002,0.70986300000000002,0.18410000000000001,1.0074035850081478,48800000000,1.4200819672131146E-11,162173737373.7374,519522275.38015306,519.52227538015302,0.51952227538015305,376,138.17081792025346,143.52227538015302]
[null,0.70850000000000002,0.708982,4.7800000000000002E-2,1.0100836820083678,48800000000,1.4200819672131146E-11,162173737373.7374,706648561.3849051,706.64856138490507,0.70664856138490506,376,187.93844717683646,330.64856138490507]
[null,0.70850000000000002,0.70910799999999996,6.4799999999999996E-2,1.0093827160493818,48800000000,1.4200819672131146E-11,162173737373.7374,657754608.88625801,657.75460888625798,0.65775460888625803,376,174.93473640591967,281.75460888625798]
[null,0.70850000000000002,0.70913899999999996,5.21E-2,1.0122648752399221,48800000000,1.4200819672131146E-11,162173737373.7374,858574921.3256439,858.57492132564391,0.85857492132564395,376,228.34439396958618,482.57492132564391]
[null,0.70850000000000002,0.70904500000000004,5.0599999999999999E-2,1.0107707509881427,48800000000,1.4200819672131146E-11,162173737373.7374,754540250.96471679,754.54025096471685,0.75454025096471689,376,200.67559866082894,378.54025096471685]
[null,0.70850000000000002,0.70930000000000004,5.79E-2,1.0138169257340246,48800000000,1.4200819672131146E-11,162173737373.7374,966480472.66635537,966.48047266635535,0.96648047266635539,376,257.04267890062641,590.48047266635535]
[null,0.70850000000000002,0.70888899999999999,8.1299999999999997E-2,1.0047847478474781,48800000000,1.4200819672131146E-11,162173737373.7374,336191681.27276134,336.19168127276134,0.33619168127276133,376,89.412681189564196,-39.808318727238657]
[null,0.70850000000000002,0.71143000000000001,0.63360000000000005,1.0046243686868688,48800000000,1.4200819672131146E-11,162173737373.7374,324948883.44482201,324.948883444822,0.32494888344482198,376,86.422575384261165,-51.051116555177998]
[null,0.70850000000000002,0.70883700000000005,1.7100000000000001E-2,1.0197076023391831,48800000000,1.4200819672131146E-11,162173737373.7374,1374528998.1103015,1374.5289981103015,1.3745289981103015,376,365.56622290167593,998.52899811030147]
[null,0.70850000000000002,0.72677499999999995,2.9878,1.0061165405984336,48800000000,1.4200819672131146E-11,162173737373.7374,429482905.04901558,429.48290504901559,0.4294829050490156,376,114.22417687473818,53.482905049015585]
[null,0.70850000000000002,0.716256,0.92579999999999996,1.0083776193562324,48800000000,1.4200819672131146E-11,162173737373.7374,587587572.82081199,587.58757282081194,0.58758757282081198,376,156.27329064383298,211.58757282081194]
[null,0.70850000000000002,0.70873299999999995,5.1799999999999999E-2,1.0044980694980681,48800000000,1.4200819672131146E-11,162173737373.7374,316093874.78795522,316.0938747879552,0.3160938747879552,376,84.067519890413621,-59.906125212044799]
[null,0.70850000000000002,0.70882400000000001,5.7599999999999998E-2,1.0056249999999998,48800000000,1.4200819672131146E-11,162173737373.7374,395065188.70034432,395.06518870034432,0.39506518870034435,376,105.07052890966604,19.065188700344322]
[null,0.70850000000000002,0.70882999999999996,4.9799999999999997E-2,1.0066265060240953,48800000000,1.4200819672131146E-11,162173737373.7374,465172961.89572281,465.17296189572278,0.46517296189572277,376,123.71621327013904,89.172961895722779]
[null,0.70850000000000002,0.70871200000000001,3.44E-2,1.0061627906976742,48800000000,1.4200819672131146E-11,162173737373.7374,432720475.5541696,432.72047555416958,0.43272047555416959,376,115.08523286015149,56.720475554169582]
[null,0.70850000000000002,0.70874099999999995,3.3300000000000003E-2,1.0072372372372353,48800000000,1.4200819672131146E-11,162173737373.7374,507891352.14912802,507.89135214912801,0.50789135214912806,376,135.07748727370426,131.89135214912801]
[null,0.70850000000000002,0.708812,4.36E-2,1.0071559633027518,48800000000,1.4200819672131146E-11,162173737373.7374,502208035.28314537,502.20803528314536,0.50220803528314539,376,133.56596683062375,126.20803528314536]
[null,0.70850000000000002,0.70878300000000005,4.4299999999999999E-2,1.0063882618510165,48800000000,1.4200819672131146E-11,162173737373.7374,448501635.24588817,448.50163524588817,0.44850163524588815,376,119.28234979943835,72.501635245888167]
[null,0.70850000000000002,0.70866099999999999,3.15E-2,1.00511111111111,48800000000,1.4200819672131146E-11,162173737373.7374,359064650.62996984,359.06465062996983,0.35906465062996984,376,95.495917720736657,-16.935349370030167]
[null,0.70850000000000002,0.70868699999999996,2.8400000000000002E-2,1.0065845070422512,48800000000,1.4200819672131146E-11,162173737373.7374,462234336.02901185,462.23433602901184,0.46223433602901182,376,122.93466383750315,86.234336029011843]
[null,0.70850000000000002,0.71298600000000001,0.57899999999999996,1.007747841105354,48800000000,1.4200819672131146E-11,162173737373.7374,543586329.25436401,543.58632925436405,0.54358632925436401,376,144.57083224850106,167.58632925436405]
[null,0.70850000000000002,0.71242099999999997,0.4516,1.0086824623560673,48800000000,1.4200819672131146E-11,162173737373.7374,608876424.08118677,608.87642408118677,0.60887642408118681,376,161.9352191705284,232.87642408118677]
[null,0.70850000000000002,0.71478900000000001,0.88049999999999995,1.0071425326519023,48800000000,1.4200819672131146E-11,162173737373.7374,501268813.70229459,501.26881370229461,0.50126881370229459,376,133.31617385699323,125.26881370229461]
[null,0.70850000000000002,0.716279,1.1237999999999999,1.0069220501868659,48800000000,1.4200819672131146E-11,162173737373.7374,485848418.74436218,485.84841874436216,0.48584841874436219,376,129.21500498520271,109.84841874436216]
[null,0.70850000000000002,0.71757300000000002,1.3096000000000001,1.0069280696395846,48800000000,1.4200819672131146E-11,162173737373.7374,486269460.04119313,486.26946004119316,0.48626946004119315,376,129.32698405350882,110.26946004119316]
[null,0.70850000000000002,0.72231900000000004,2.1473,1.0064355236809015,48800000000,1.4200819672131146E-11,162173737373.7374,451809133.39020211,451.80913339020208,0.45180913339020207,376,120.16200356122395,75.809133390202078]
[null,0.70850000000000002,0.71878299999999995,1.4911000000000001,1.0068962510897994,48800000000,1.4200819672131146E-11,162173737373.7374,484043826.62900758,484.04382662900758,0.48404382662900758,376,128.73506027367222,108.04382662900758]
[null,0.70850000000000002,0.72369300000000003,2.3220999999999998,1.0065427845484691,48800000000,1.4200819672131146E-11,162173737373.7374,459314934.34327358,459.31493434327359,0.45931493434327358,376,122.15822721895574,83.314934343273592]
[null,0.70850000000000002,0.72023000000000004,1.7694000000000001,1.0066293658867413,48800000000,1.4200819672131146E-11,162173737373.7374,465373059.10568923,465.37305910568921,0.46537305910568921,376,123.76943061321522,89.373059105689208]
[null,0.70850000000000002,0.724657,2.5512000000000001,1.0063330981498901,48800000000,1.4200819672131146E-11,162173737373.7374,444640948.41949332,444.64094841949333,0.44464094841949331,376,118.25557138816312,68.640948419493327]
[null,0.70850000000000002,0.72351399999999999,2.42,1.006204132231405,48800000000,1.4200819672131146E-11,162173737373.7374,435614313.76340473,435.61431376340471,0.4356143137634047,376,115.85487068175657,59.614313763404709]
[null,0.70850000000000002,0.728796,3.2515999999999998,1.0062418501660721,48800000000,1.4200819672131146E-11,162173737373.7374,438254402.37865907,438.25440237865905,0.43825440237865904,376,116.55702190921784,62.254402378659051]
[null,0.70850000000000002,0.71449499999999999,0.77129999999999999,1.007772591728251,48800000000,1.4200819672131146E-11,162173737373.7374,545316120.76082492,545.3161207608249,0.54531612076082492,376,145.03088318107044,169.3161207608249]
[null,0.70850000000000002,0.71418499999999996,0.72640000000000005,1.0078262665198237,48800000000,1.4200819672131146E-11,162173737373.7374,549067241.9508841,549.06724195088407,0.54906724195088408,376,146.02852179544789,173.06724195088407]
[null,0.70850000000000002,0.71824699999999997,1.4866999999999999,1.0065561310284523,48800000000,1.4200819672131146E-11,162173737373.7374,460248825.91698313,460.24882591698315,0.46024882591698313,376,122.40660263749552,84.248825916983151]
[null,0.70850000000000002,0.71738299999999999,1.3272999999999999,1.0066925337150607,48800000000,1.4200819672131146E-11,162173737373.7374,469792604.11560047,469.79260411560045,0.46979260411560048,376,124.94484152010649,93.792604115600454]
[null,0.70850000000000002,0.71794800000000003,1.4108000000000001,1.0066969095548626,48800000000,1.4200819672131146E-11,162173737373.7374,470098750.02390563,470.09875002390561,0.47009875002390561,376,125.02626330423021,94.098750023905609]
[null,0.70850000000000002,0.71538500000000005,0.94599999999999995,{"$f":"1+((C68-B68)/D68)","v":1.0072780126849894},48800000000,{"$f":"(0.693/F68)","v":1.4200819672131146E-11},{"$f":"(2.303/G68)","v":162173737373.7374},{"$f":"(LOG(E68))*(H68)","v":510742521.48606998},{"$f":"(I68/1000000)","v":510.74252148606996},{"$f":"(J68/1000)","v":0.51074252148606991},376,135.83577699097603,134.74252148606996]
[null,0.70850000000000002,0.71467999999999998,0.72040000000000004,1.0085785674625207,48800000000,1.4200819672131146E-11,162173737373.7374,601621599.15664446,601.62159915664449,0.60162159915664448,376,{"$f":"(J69/L69) *100","v":160.00574445655437},{"$f":"(J69-L69)","v":225.62159915664449}]
[null,0.70850000000000002,0.72412399999999999,2.4586000000000001,1.0063548360855772,48800000000,1.4200819672131146E-11,162173737373.7374,446162324.86755615,446.16232486755615,0.44616232486755614,376,118.6601927839245,70.162324867556151]
[null,0.70850000000000002,0.71532399999999996,0.82350000000000001,1.0082865816636308,48800000000,1.4200819672131146E-11,162173737373.7374,581228665.64471412,581.22866564471417,0.5812286656447142,376,154.58209192678569,205.22866564471417]
[null,0.70850000000000002,0.72225099999999998,2.1347999999999998,1.0064413528199363,48800000000,1.4200819672131146E-11,162173737373.7374,452217059.9995743,452.2170599995743,0.45221705999957429,376,120.27049468073785,76.217059999574303]
[null,0.70850000000000002,0.71636299999999997,0.92769999999999997,{"$f":"1+((C73-B73)/D73)","v":1.0084758003664978},48800000000,{"$f":"(0.693/F73)","v":1.4200819672131146E-11},{"$f":"(2.303/G73)","v":162173737373.7374},{"$f":"(LOG(E73))*(H73)","v":594444791.40424454},{"$f":"(I73/1000000)","v":594.4447914042446},{"$f":"(J73/1000)","v":0.59444479140424455},376,{"$f":"(J73/L73) *100","v":158.09701899049057},{"$f":"(J73-L73)","v":218.4447914042446}]
[null,0.70850000000000002,0.71682699999999999,1.0114000000000001,1.0082331421791575,48800000000,1.4200819672131146E-11,162173737373.7374,577495694.62775433,577.49569462775435,0.5774956946277543,376,153.58928048610488,201.49569462775435]
[null,0.70850000000000002,0.71676099999999998,0.97370000000000001,1.00848413268974,48800000000,1.4200819672131146E-11,162173737373.7374,595026711.92293441,595.0267119229344,0.59502671192293444,376,158.25178508588681,219.0267119229344]
[null,0.70850000000000002,0.71762599999999999,1.1013999999999999,1.0082858180497549,48800000000,1.4200819672131146E-11,162173737373.7374,581175325.42195976,581.17532542195977,0.58117532542195982,376,154.56790569732973,205.17532542195977]
[null,0.70850000000000002,0.71706400000000003,1.0204,1.0083927871422971,48800000000,1.4200819672131146E-11,162173737373.7374,588646974.28008187,588.64697428008185,0.58864697428008184,376,156.55504635108559,212.64697428008185]
[null,0.70850000000000002,0.71724699999999997,1.0331999999999999,1.0084659310878823,48800000000,1.4200819672131146E-11,162173737373.7374,593755525.35057151,593.75552535057147,0.59375552535057152,376,157.91370355068389,217.75552535057147]
[null,0.70850000000000002,0.719804,1.4116,1.0080079342589969,48800000000,1.4200819672131146E-11,162173737373.7374,561761807.30569887,561.76180730569888,0.56176180730569891,376,149.4047359855582,185.76180730569888]
[null,0.70850000000000002,0.72091099999999997,1.6234999999999999,1.0076445950107791,48800000000,1.4200819672131146E-11,162173737373.7374,536370124.60349429,536.37012460349433,0.53637012460349431,376,142.65162888390807,160.37012460349433]
[null,0.70850000000000002,0.71833000000000002,1.1984999999999999,1.0082019190654985,48800000000,1.4200819672131146E-11,162173737373.7374,575314538.25642204,575.314538256422,0.57531453825642198,376,153.00918570649523,199.314538256422]
[null,0.70850000000000002,0.71663500000000002,0.88439999999999996,1.0091983265490727,48800000000,1.4200819672131146E-11,162173737373.7374,644887385.79979515,644.8873857997952,0.64488738579979521,376,171.5126026063285,268.8873857997952]
[null,0.70850000000000002,0.71462300000000001,0.62370000000000003,1.0098172198172197,48800000000,1.4200819672131146E-11,162173737373.7374,688066222.90380597,688.06622290380596,0.68806622290380592,376,182.9963358786718,312.06622290380596]
[null,0.70850000000000002,0.71210200000000001,0.27200000000000002,1.0132426470588236,48800000000,1.4200819672131146E-11,162173737373.7374,926573294.35490727,926.57329435490726,0.92657329435490721,376,246.42906764758172,550.57329435490726]
[null,0.70850000000000002,0.71177900000000005,0.20749999999999999,1.0158024096385543,48800000000,1.4200819672131146E-11,162173737373.7374,1104279689.7325866,1104.2796897325866,1.1042796897325866,376,293.69140684377305,728.27968973258658]
[null,0.70850000000000002,0.71103899999999998,0.23080000000000001,1.0110008665511263,48800000000,1.4200819672131146E-11,162173737373.7374,770573027.1616174,770.57302716161735,0.77057302716161735,376,204.93963488340884,394.57302716161735]
[null,0.70850000000000002,0.71276799999999996,0.52310000000000001,1.0081590518065378,48800000000,1.4200819672131146E-11,162173737373.7374,572319845.55348909,572.31984555348913,0.57231984555348914,376,152.21272488124711,196.31984555348913]
[null,0.70850000000000002,0.70998700000000003,0.14879999999999999,1.0099932795698925,48800000000,1.4200819672131146E-11,162173737373.7374,700344694.09044683,700.34469409044686,0.70034469409044686,376,186.26188672618267,324.34469409044686]
[null,0.70850000000000002,0.70964799999999995,0.1111,1.0103330333033296,48800000000,1.4200819672131146E-11,162173737373.7374,724033193.69464016,724.0331936946402,0.72403319369464025,376,192.56201959963835,348.0331936946402]
[null,0.70850000000000002,0.70933100000000004,9.1200000000000003E-2,1.0091118421052634,48800000000,1.4200819672131146E-11,162173737373.7374,638851445.70198429,638.85144570198429,0.63885144570198427,376,169.90729938882561,262.85144570198429]
[null,0.70850000000000002,0.709256,8.4500000000000006E-2,1.0089467455621299,48800000000,1.4200819672131146E-11,162173737373.7374,627327557.32904005,627.32755732904002,0.62732755732904,376,166.84243545985106,251.32755732904002]
[null,0.70850000000000002,0.70904599999999995,6.1100000000000002E-2,1.0089361702127648,48800000000,1.4200819672131146E-11,162173737373.7374,626589324.09513628,626.58932409513625,0.62658932409513624,376,166.64609683381283,250.58932409513625]
[null,0.70850000000000002,0.71177100000000004,0.56930000000000003,1.0057456525557702,48800000000,1.4200819672131146E-11,162173737373.7374,403514849.00428361,403.51484900428363,0.40351484900428364,376,107.31777899050097,27.514849004283633]
[null,0.70850000000000002,0.70911999999999997,6.6299999999999998E-2,1.0093514328808439,48800000000,1.4200819672131146E-11,162173737373.7374,655571746.09918928,655.57174609918923,0.65557174609918922,376,174.35418779233757,279.57174609918923]
[null,0.70850000000000002,0.71010200000000001,0.2414,1.0066362883181441,48800000000,1.4200819672131146E-11,162173737373.7374,465857401.415425,465.85740141542499,0.46585740141542498,376,123.89824505729388,89.857401415424988]
[null,0.70850000000000002,0.70989400000000002,0.2142,1.0065079365079366,48800000000,1.4200819672131146E-11,162173737373.7374,456876458.38545746,456.87645838545745,0.45687645838545743,376,121.50969637911102,80.876458385457454]
[null,0.70850000000000002,0.70914200000000005,5.74E-2,1.0111846689895476,48800000000,1.4200819672131146E-11,162173737373.7374,783376420.93465161,783.37642093465161,0.78337642093465165,376,208.34479280176902,407.37642093465161]
[null,0.70850000000000002,0.70939099999999999,0.1009,1.0088305252725469,48800000000,1.4200819672131146E-11,162173737373.7374,619214144.7624588,619.21414476245877,0.61921414476245873,376,164.68461296873903,243.21414476245877]
[null,0.70850000000000002,0.71087999999999996,0.37019999999999997,1.0064289573203673,48800000000,1.4200819672131146E-11,162173737373.7374,451349612.75297022,451.34961275297024,0.45134961275297025,376,120.03979062578995,75.349612752970245]
[null,0.70850000000000002,0.71002399999999999,0.2135,1.0071381733021076,48800000000,1.4200819672131146E-11,162173737373.7374,500963956.43119568,500.9639564311957,0.50096395643119573,376,133.23509479553078,124.9639564311957]
[null,0.70850000000000002,0.70883399999999996,6.0499999999999998E-2,1.005520661157024,48800000000,1.4200819672131146E-11,162173737373.7374,387757209.1599046,387.75720915990462,0.38775720915990464,376,103.12691732976187,11.757209159904619]
[null,0.70850000000000002,0.70991300000000002,0.21149999999999999,1.0066808510638299,48800000000,1.4200819672131146E-11,162173737373.7374,468975246.86279798,468.97524686279797,0.46897524686279796,376,124.72745927202074,92.975246862797974]
[null,0.70850000000000002,0.71033199999999996,0.29170000000000001,1.0062804250942747,48800000000,1.4200819672131146E-11,162173737373.7374,440954374.39394015,440.95437439394016,0.44095437439394014,376,117.27509957285642,64.954374393940157]
[null,0.70850000000000002,0.70947000000000005,0.1545,1.0062783171521037,48800000000,1.4200819672131146E-11,162173737373.7374,440806836.03133357,440.80683603133355,0.44080683603133353,376,117.23586064663125,64.806836031333546]
[null,0.70850000000000002,0.72101099999999996,1.6082000000000001,1.0077795050366869,48800000000,1.4200819672131146E-11,162173737373.7374,545799276.04933047,545.7992760493305,0.54579927604933054,376,145.15938192801343,169.7992760493305]
[null,0.70850000000000002,0.72113000000000005,1.5412999999999999,1.008194381366379,48800000000,1.4200819672131146E-11,162173737373.7374,574787966.28546214,574.78796628546218,0.57478796628546214,376,152.86913996953783,198.78796628546218]
[null,0.70850000000000002,0.72664499999999999,2.6943000000000001,1.0067345878335745,48800000000,1.4200819672131146E-11,162173737373.7374,472734772.01126081,472.73477201126082,0.4727347720112608,376,125.72733298171829,96.734772011260816]
[null,0.70850000000000002,0.72534600000000005,2.4180999999999999,1.0069666266903767,48800000000,1.4200819672131146E-11,162173737373.7374,488966341.65061647,488.96634165061647,0.48896634165061648,376,130.04423980069586,112.96634165061647]
[null,0.70850000000000002,0.72021299999999999,1.3705000000000001,1.0085465158701203,48800000000,1.4200819672131146E-11,162173737373.7374,599383333.59002793,599.38333359002797,0.59938333359002793,376,159.41046106117764,223.38333359002797]
[null,0.70850000000000002,0.72502800000000001,2.3260999999999998,1.0071054554834271,48800000000,1.4200819672131146E-11,162173737373.7374,498675897.66302466,498.67589766302467,0.49867589766302467,376,132.62656852740017,122.67589766302467]
[null,0.70850000000000002,0.73626499999999995,4.6101000000000001,1.0060226459295893,48800000000,1.4200819672131146E-11,162173737373.7374,422909691.40328997,422.90969140328997,0.42290969140328999,376,112.47598175619413,46.909691403289969]
[null,0.70850000000000002,0.71868600000000005,1.2878000000000001,1.0079096132939898,48800000000,1.4200819672131146E-11,162173737373.7374,554891625.97508585,554.89162597508584,0.55489162597508579,376,147.57756009975685,178.89162597508584]
[null,0.70850000000000002,0.71845899999999996,1.2318,1.0080849163825296,48800000000,1.4200819672131146E-11,162173737373.7374,567140468.51460481,567.14046851460478,0.56714046851460476,376,150.83523098792679,191.14046851460478]
[null,0.70850000000000002,0.71834799999999999,1.226,1.0080326264274062,48800000000,1.4200819672131146E-11,162173737373.7374,563487068.27463722,563.48706827463718,0.56348706827463713,376,149.86358198793542,187.48706827463718]
[null,0.70850000000000002,0.71842899999999998,1.2143999999999999,1.0081760540184452,48800000000,1.4200819672131146E-11,162173737373.7374,573507629.75765693,573.5076297576569,0.5735076297576569,376,152.52862493554704,197.5076297576569]
[null,0.70850000000000002,0.71849799999999997,1.2427999999999999,1.0080447376890891,48800000000,1.4200819672131146E-11,162173737373.7374,564333276.07946718,564.33327607946717,0.56433327607946715,376,150.08863725517745,188.33327607946717]
[null,0.70850000000000002,0.73192699999999999,3.2711000000000001,1.0071618110115863,48800000000,1.4200819672131146E-11,162173737373.7374,502616968.68722785,502.61696868722782,0.50261696868722783,376,133.67472571468826,126.61696868722782]
[null,0.70850000000000002,0.71999599999999997,1.4556,1.0078977741137676,48800000000,1.4200819672131146E-11,162173737373.7374,554064317.57960236,554.0643175796024,0.55406431757960239,376,147.35753127117087,178.0643175796024]
[null,0.70850000000000002,0.72053199999999995,1.5481,1.0077721077449777,48800000000,1.4200819672131146E-11,162173737373.7374,545282296.15450275,545.28229615450277,0.54528229615450274,376,145.02188727513371,169.28229615450277]
[null,0.70850000000000002,0.71967899999999996,1.3796999999999999,1.0081024860476915,48800000000,1.4200819672131146E-11,162173737373.7374,568367985.24597871,568.36798524597873,0.56836798524597876,376,151.16169820371775,192.36798524597873]
[null,0.70850000000000002,0.72033499999999995,1.5145,1.0078144602178936,48800000000,1.4200819672131146E-11,162173737373.7374,548242162.83794153,548.24216283794158,0.54824216283794158,376,145.8090858611547,172.24216283794158]
[null,0.70850000000000002,0.72138500000000005,1.7256,1.0074669680111266,48800000000,1.4200819672131146E-11,162173737373.7374,523953466.62605518,523.95346662605516,0.52395346662605513,376,139.34932623033382,147.95346662605516]
[null,0.70850000000000002,0.71938800000000003,1.3339000000000001,1.0081625309243571,48800000000,1.4200819672131146E-11,162173737373.7374,572562900.33531535,572.56290033531536,0.57256290033531532,376,152.2773671104562,196.56290033531536]
[null,0.70850000000000002,0.71904800000000002,1.2559,1.0083987578628872,48800000000,1.4200819672131146E-11,162173737373.7374,589063997.81805933,589.06399781805931,0.58906399781805929,376,156.66595686650513,213.06399781805931]
[null,0.70850000000000002,0.75077000000000005,6.8639999999999999,1.0061582167832168,48800000000,1.4200819672131146E-11,162173737373.7374,432400301.8876887,432.40030188768867,0.43240030188768869,376,115.00008028927891,56.40030188768867]
[null,0.70850000000000002,0.74758800000000003,6.1853999999999996,1.0063193972903934,48800000000,1.4200819672131146E-11,162173737373.7374,443682047.24873543,443.68204724873544,0.44368204724873544,376,118.00054448104666,67.682047248735444]
[null,0.70850000000000002,0.74887099999999995,6.4260999999999999,1.0062823485473305,48800000000,1.4200819672131146E-11,162173737373.7374,441088999.78824192,441.08899978824195,0.44108899978824195,376,117.31090419900052,65.088999788241949]
[null,0.70850000000000002,0.74718899999999999,6.0366999999999997,1.0064089651630859,48800000000,1.4200819672131146E-11,162173737373.7374,449950522.64484107,449.9505226448411,0.44995052264484109,376,119.66769219277688,73.950522644841101]
[null,0.70850000000000002,0.76204300000000003,9.1021999999999998,1.0058824240293556,48800000000,1.4200819672131146E-11,162173737373.7374,413092139.72125059,413.09213972125059,0.41309213972125058,376,109.86493077692833,37.092139721250589]
[null,0.70850000000000002,0.75680599999999998,8.0492000000000008,1.0060013417482483,48800000000,1.4200819672131146E-11,162173737373.7374,421418180.1708293,421.41818017082932,0.42141818017082933,376,112.0793032369227,45.418180170829316]
[null,0.70850000000000002,0.74717,6.0564999999999998,1.0063848757533229,48800000000,1.4200819672131146E-11,162173737373.7374,448264661.90652871,448.26466190652872,0.44826466190652869,376,119.21932497514061,72.264661906528715]
[null,0.70850000000000002,0.74905699999999997,6.3623000000000003,1.006374581519262,48800000000,1.4200819672131146E-11,162173737373.7374,447544223.27100122,447.54422327100121,0.44754422327100124,376,119.0277189550535,71.544223271001215]
[null,0.70850000000000002,0.72457700000000003,1.8892,{"$f":"1+((C133-B133)/D133)","v":1.0085099513021385},48800000000,{"$f":"(0.693/F133)","v":1.4200819672131146E-11},{"$f":"(2.303/G133)","v":162173737373.7374},{"$f":"(LOG(E133))*(H133)","v":596829825.59194279},{"$f":"(I133/1000000)","v":596.82982559194284},{"$f":"(J133/1000)","v":0.59682982559194286},376,{"$f":"(J133/L133) *100","v":158.73133659360181},{"$f":"(J133-L133)","v":220.82982559194284}]
[null,0.70850000000000002,0.71650000000000003,0.1857,1.0430802369413033,48800000000,1.4200819672131146E-11,162173737373.7374,2970652622.6923823,2970.6526226923825,2.9706526226923824,376,790.067186886272,2594.6526226923825]
[null,0.70850000000000002,0.71581899999999998,5.7500000000000002E-2,1.1272869565217385,48800000000,1.4200819672131146E-11,162173737373.7374,8438626409.7232265,8438.626409723227,8.4386264097232271,376,2244.3155345008581,8062.626409723227]
[null,0.70850000000000002,0.71588200000000002,4.3700000000000003E-2,1.1689244851258582,48800000000,1.4200819672131146E-11,162173737373.7374,10993182875.624878,10993.182875624878,10.993182875624878,376,2923.7188499002336,10617.182875624878]
[null,0.70850000000000002,0.71593200000000001,4.5100000000000001E-2,1.1647893569844787,48800000000,1.4200819672131146E-11,162173737373.7374,10743587429.77844,10743.587429778441,10.743587429778442,376,2857.3370823878831,10367.587429778441]
[null,0.70850000000000002,0.72028999999999999,1.0184,1.0115769835035349,48800000000,1.4200819672131146E-11,162173737373.7374,810696660.39394546,810.69666039394542,0.81069666039394539,376,215.61081393455996,434.69666039394542]
[null,0.70850000000000002,0.72468900000000003,1.7517,1.0092418793172346,48800000000,1.4200819672131146E-11,162173737373.7374,647926833.72775173,647.92683372775173,0.64792683372775173,376,172.32096641695526,271.92683372775173]
[null,0.70850000000000002,0.72402599999999995,1.4634,1.0106095394287276,48800000000,1.4200819672131146E-11,162173737373.7374,743306029.38634109,743.30602938634115,0.74330602938634116,376,197.68777377296308,367.30602938634115]
[null,0.70850000000000002,0.72392299999999998,1.3689,1.0112667104974797,48800000000,1.4200819672131146E-11,162173737373.7374,789090554.35920656,789.09055435920652,0.7890905543592065,376,209.86450913808685,413.09055435920652]
[null,0.70850000000000002,0.72032499999999999,1.6854,1.0070161386021121,48800000000,1.4200819672131146E-11,162173737373.7374,492429312.04049104,492.42931204049103,0.49242931204049101,376,130.96524256396037,116.42931204049103]
[null,0.70850000000000002,0.71905399999999997,1.3066,1.0080774529312719,48800000000,1.4200819672131146E-11,162173737373.7374,566619022.88890004,566.61902288890008,0.56661902288890009,376,150.6965486406649,190.61902288890008]
[null,0.70850000000000002,0.71742899999999998,0.97330000000000005,1.0091739443131613,48800000000,1.4200819672131146E-11,162173737373.7374,643185748.13339818,643.18574813339819,0.64318574813339824,376,171.06003939718036,267.18574813339819]
[null,0.70850000000000002,0.73436400000000002,4.0867000000000004,1.0063288227665352,48800000000,1.4200819672131146E-11,162173737373.7374,444341722.60039335,444.34172260039338,0.4443417226003934,376,118.1759900532961,68.341722600393382]
[null,0.70850000000000002,0.70947199999999999,0.1366,1.0071156661786236,48800000000,1.4200819672131146E-11,162173737373.7374,499389971.29845446,499.38997129845444,0.49938997129845442,376,132.81648172831234,123.38997129845444]
[null,0.70850000000000002,0.71217200000000003,0.1268,1.0289589905362777,48800000000,1.4200819672131146E-11,162173737373.7374,2010640727.4532785,2010.6407274532785,2.0106407274532785,376,534.7448743226804,1634.6407274532785]
[null,0.70850000000000002,0.71384800000000004,1.2559,1.0042583008201289,48800000000,1.4200819672131146E-11,162173737373.7374,299280301.70455599,299.280301704556,0.299280301704556,376,79.595824921424466,-76.719698295444005]
[null,0.70850000000000002,0.73334100000000002,4.8842999999999996,1.0050858874352517,48800000000,1.4200819672131146E-11,162173737373.7374,357297129.60327947,357.29712960327947,0.35729712960327947,376,95.025832341297729,-18.702870396720527]
[null,0.70850000000000002,0.73419599999999996,5.0792000000000002,1.0050590644195936,48800000000,1.4200819672131146E-11,162173737373.7374,355417487.95277929,355.41748795277931,0.35541748795277933,376,94.525927647015777,-20.582512047220689]
[null,0.70850000000000002,0.73142300000000005,4.6345999999999998,1.0049460579122254,48800000000,1.4200819672131146E-11,162173737373.7374,347497926.71702647,347.49792671702647,0.34749792671702645,376,92.419661360911292,-28.502073282973527]
[null,0.70850000000000002,0.73244900000000002,4.7752999999999997,1.005015182292212,48800000000,1.4200819672131146E-11,162173737373.7374,352342308.90659744,352.34230890659745,0.35234230890659746,376,93.708060879414205,-23.657691093402548]
[null,0.70850000000000002,0.73289499999999996,4.7813999999999997,1.0051020621575271,48800000000,1.4200819672131146E-11,162173737373.7374,358430560.37592989,358.43056037592987,0.35843056037592985,376,95.327276695726027,-17.569439624070128]
[null,null,null,null,null,null,null,null,"Average",{"$f":"AVERAGE(J4:J153)","v":857.19277924189453},0.85719277924189452]
[null,null,null,null,null,null,null,null,"Maximum",{"$f":"MAX(J4:J154)","v":10993.182875624878},10.993182875624878]
[null,null,null,null,null,null,null,null,"Minimum",{"$f":"MIN(J4:J155)","v":299.280301704556}]
[null,null,null,null,null,null,null,null,"Difference",{"$f":"(J155-J156)","v":10693.902573920323}]

{"sheet":"Rb-Sr _38","index":38,"n_rows":124,"n_cols":25,"rows_kept":124,"cut":false,"hidden":false,"merged":[]}
["Rubidium","Table 4","Page 1873",null,null,null,null,null,null,null,"Rubidium_034.pdf",null,null,null,null,null,null,20.71]
["Strontium","Initial","Today","Today","The Ratio","Half","Decay","2.303/Delta","Age","Age","Age","Model Age","Model Age","Model Age",null,null,null,6.44]
["Dating","87Sr/86Sr","87Sr/86Sr","87Rb/86Sr","Plus One","Life","Constant","Constant","Years","Million Years","Billion Years","Million Years","% Difference"," Difference",null,null,null,4.05]
["PL01",0.702318,0.70231900000000003,7.6699999999999997E-3,{"$f":"1+((C4-B4)/D4)","v":1.0001303780964836},48800000000,{"$f":"(0.693/F4)","v":1.4200819672131146E-11},{"$f":"(2.303/G4)","v":162173737373.7374},{"$f":"(LOG(E4))*(H4)","v":9182081.9181117397},{"$f":"(I4/1000000)","v":9.1820819181117397},{"$f":"(J4/1000)","v":9.1820819181117393E-3},0,{"$f":"(J4/L4) *100","v":{"$error":"#DIV/0!"}},{"$f":"(J4-L4)","v":9.1820819181117397},null,null,null,4.0199999999999996]
["PL02",0.70269499999999996,0.70269599999999999,8.4700000000000001E-3,1.0001180637544307,48800000000,1.4200819672131146E-11,162173737373.7374,8314876.2569871154,8.314876256987116,8.3148762569871162E-3,0,{"$f":"(J5/L5) *100","v":{"$error":"#DIV/0!"}},{"$f":"(J5-L5)","v":8.314876256987116},null,null,null,2.95]
["PL03",0.70347599999999999,0.70347599999999999,2.15E-3,1,48800000000,1.4200819672131146E-11,162173737373.7374,0,0,0,0,{"$error":"#DIV/0!"},0,null,null,null,2.81]
["PL03-leached",0.70337300000000003,0.70337300000000003,1.91E-3,1,48800000000,1.4200819672131146E-11,162173737373.7374,0,0,0,0,{"$error":"#DIV/0!"},0,null,null,null,2.57]
["PL06",0.70264499999999996,0.70264599999999999,1.2999999999999999E-2,1.0000769230769253,48800000000,1.4200819672131146E-11,162173737373.7374,5417573.115480856,5.417573115480856,5.417573115480856E-3,0,{"$error":"#DIV/0!"},5.417573115480856,null,null,null,2.5299999999999998]
["PL07",0.702569,0.70257000000000003,1.0999999999999999E-2,1.0000909090909118,48800000000,1.4200819672131146E-11,162173737373.7374,6402541.6391660925,6.4025416391660928,6.4025416391660928E-3,0,{"$error":"#DIV/0!"},6.4025416391660928,null,null,null,2.5099999999999998]
["PL11",0.70424500000000001,0.70425000000000004,5.8400000000000001E-2,1.0000856164383567,48800000000,1.4200819672131146E-11,162173737373.7374,6029806.8827958331,6.0298068827958327,6.0298068827958325E-3,0,{"$error":"#DIV/0!"},6.0298068827958327,null,null,null,2.48]
["PL12",0.70255100000000004,0.70255199999999995,5.4099999999999999E-3,1.0001848428835338,48800000000,1.4200819672131146E-11,162173737373.7374,13017495.507949645,13.017495507949645,1.3017495507949645E-2,0,{"$error":"#DIV/0!"},13.017495507949645,null,null,null,2.41]
["PL13",0.70329200000000003,0.70329299999999995,3.3800000000000002E-3,1.0002958579881414,48800000000,1.4200819672131146E-11,162173737373.7374,20834539.198002625,20.834539198002624,2.0834539198002624E-2,0,{"$error":"#DIV/0!"},20.834539198002624,null,null,null,2.12]
["PL14",0.70289599999999997,0.70289699999999999,1.9E-2,1.0000526315789489,48800000000,1.4200819672131146E-11,162173737373.7374,3706805.5719214105,3.7068055719214104,3.7068055719214105E-3,0,{"$error":"#DIV/0!"},3.7068055719214104,null,null,null,1.83,null,null,null,null,null,null," "]
["PL15",0.702824,0.70283099999999998,0.107,1.0000654205607475,48800000000,1.4200819672131146E-11,162173737373.7374,4607495.2214852804,4.60749522148528,4.6074952214852803E-3,0,{"$error":"#DIV/0!"},4.60749522148528,null,null,null,1.67]
["PL15-leached",0.70279499999999995,0.70279499999999995,4.79E-3,1,48800000000,1.4200819672131146E-11,162173737373.7374,0,0,0,0,{"$error":"#DIV/0!"},0,null,null,null,1.63,null,null,null,null,null,null," "]
["PL16",0.70333900000000005,0.70333900000000005,4.8999999999999998E-3,1,48800000000,1.4200819672131146E-11,162173737373.7374,0,0,0,0,{"$error":"#DIV/0!"},0,null,null,null,1.44]
["PL17",0.70333400000000001,0.70333500000000004,2.12E-2,1.000047169811322,48800000000,1.4200819672131146E-11,162173737373.7374,3322146.1411756151,3.3221461411756152,3.3221461411756152E-3,0,{"$error":"#DIV/0!"},3.3221461411756152,null,null,null,1.41]
["PL17-leached",0.70291400000000004,0.70291400000000004,8.6400000000000001E-3,1,48800000000,1.4200819672131146E-11,162173737373.7374,0,0,0,0,{"$error":"#DIV/0!"},0,null,null,null,1.39]
["PL18",0.70412300000000005,0.70412699999999995,4.9500000000000002E-2,1.0000808080808059,48800000000,1.4200819672131146E-11,162173737373.7374,5691176.8645685511,5.6911768645685514,5.6911768645685513E-3,0,{"$error":"#DIV/0!"},5.6911768645685514,null,null,null,1.39]
["PL19",0.70362199999999997,0.703623,5.3899999999999998E-3,1.0001855287569628,48800000000,1.4200819672131146E-11,162173737373.7374,13065793.424560113,13.065793424560113,1.3065793424560112E-2,0,{"$error":"#DIV/0!"},13.065793424560113,null,null,null,1.34]
["PL19-leached-R",0.70347000000000004,0.70347000000000004,1.33E-3,1,48800000000,1.4200819672131146E-11,162173737373.7374,0,0,0,0,{"$error":"#DIV/0!"},0,null,null,null,1.29]
["PL23",0.70364400000000005,0.70364599999999999,2.5999999999999999E-2,1.0000769230769211,48800000000,1.4200819672131146E-11,162173737373.7374,5417573.1151837399,5.4175731151837399,5.4175731151837395E-3,0,{"$error":"#DIV/0!"},5.4175731151837399,null,null,null,1.28]
["PL23-leached",0.70359000000000005,0.70359000000000005,8.3000000000000001E-3,1,48800000000,1.4200819672131146E-11,162173737373.7374,0,0,0,0,{"$error":"#DIV/0!"},0,null,null,null,1.1299999999999999]
["SW01",0.70320700000000003,0.70321999999999996,5.4600000000000003E-2,1.000238095238094,48800000000,1.4200819672131146E-11,162173737373.7374,16767327.599888558,16.767327599888556,1.6767327599888558E-2,0,{"$error":"#DIV/0!"},16.767327599888556,null,null,null,1.1000000000000001]
["SW01-leached",0.70305300000000004,0.70305300000000004,2.32E-3,1,48800000000,1.4200819672131146E-11,162173737373.7374,0,0,0,0,{"$error":"#DIV/0!"},0,null,null,null,1.04]
["SW02",0.70266399999999996,0.70267599999999997,0.05,1.0002400000000002,48800000000,1.4200819672131146E-11,162173737373.7374,16901450.127368759,16.901450127368758,1.6901450127368756E-2,0,{"$error":"#DIV/0!"},16.901450127368758,null,null,null,0.98]
["SW03-leached",0.70289299999999999,0.70289500000000005,6.3200000000000001E-3,1.0003164556962116,48800000000,1.4200819672131146E-11,162173737373.7374,22284815.643301472,22.284815643301471,2.2284815643301471E-2,0,{"$error":"#DIV/0!"},22.284815643301471,null,null,null,0.96]
["SW04",0.70312399999999997,0.70313499999999995,4.6300000000000001E-2,1.0002375809935202,48800000000,1.4200819672131146E-11,162173737373.7374,16731117.370589081,16.731117370589082,1.6731117370589084E-2,0,{"$error":"#DIV/0!"},16.731117370589082,null,null,null,0.9]
["SW04-leached",0.70245000000000002,0.70245000000000002,1.1000000000000001E-3,1,48800000000,1.4200819672131146E-11,162173737373.7374,0,0,0,0,{"$error":"#DIV/0!"},0,null,null,null,0.89]
["SW05",0.70318099999999994,0.703183,0.01,1.0002000000000058,48800000000,1.4200819672131146E-11,162173737373.7374,14084823.415216476,14.084823415216476,1.4084823415216476E-2,0,{"$error":"#DIV/0!"},14.084823415216476,null,null,null,0.85]
["SW05-leached",0.70303099999999996,0.70303099999999996,9.3800000000000003E-4,1,48800000000,1.4200819672131146E-11,162173737373.7374,0,0,0,0,{"$error":"#DIV/0!"},0,null,null,null,0.79]
["SW07",0.703129,0.70313099999999995,8.9599999999999992E-3,1.0002232142857084,48800000000,1.4200819672131146E-11,162173737373.7374,15719486.562112354,15.719486562112353,1.5719486562112354E-2,0,{"$error":"#DIV/0!"},15.719486562112353,null,null,null,0.78]
["SW08",0.70338400000000001,0.70339099999999999,2.9399999999999999E-2,1.0002380952380945,48800000000,1.4200819672131146E-11,162173737373.7374,16767327.599919828,16.767327599919827,1.6767327599919828E-2,0,{"$error":"#DIV/0!"},16.767327599919827,null,null,null,0.78]
["SW09",0.70314299999999996,0.70314500000000002,8.6300000000000005E-3,1.0002317497103195,48800000000,1.4200819672131146E-11,162173737373.7374,16320509.690233624,16.320509690233624,1.6320509690233624E-2,0,{"$error":"#DIV/0!"},16.320509690233624,null,null,null,0.75]
["SW10",0.70262000000000002,0.70263100000000001,4.6399999999999997E-2,1.0002370689655169,48800000000,1.4200819672131146E-11,162173737373.7374,16695063.201300547,16.695063201300545,1.6695063201300545E-2,0,{"$error":"#DIV/0!"},16.695063201300545,null,null,null,0.49]
["SW11",0.70317399999999997,0.70317600000000002,8.4499999999999992E-3,1.0002366863905394,48800000000,1.4200819672131146E-11,162173737373.7374,16668124.38334115,16.668124383341151,1.666812438334115E-2,0,{"$error":"#DIV/0!"},16.668124383341151,null,null,null,0.47]
["SW11-leached",0.70315799999999995,0.70315799999999995,5.1900000000000004E-4,1,48800000000,1.4200819672131146E-11,162173737373.7374,0,0,0,0,{"$error":"#DIV/0!"},0,null,null,null,0.47]
["SW12",0.70257899999999995,0.70259000000000005,4.6300000000000001E-2,1.0002375809935224,48800000000,1.4200819672131146E-11,162173737373.7374,16731117.370745433,16.731117370745434,1.6731117370745435E-2,0,{"$error":"#DIV/0!"},16.731117370745434,null,null,null,0.43]
["SW13",0.702654,0.70266499999999998,4.9799999999999997E-2,1.0002208835341362,48800000000,1.4200819672131146E-11,162173737373.7374,15555365.469866505,15.555365469866505,1.5555365469866505E-2,0,{"$error":"#DIV/0!"},15.555365469866505,null,null,null,0.39]
["SW14",0.703129,0.70313199999999998,1.06E-2,1.0002830188679221,48800000000,1.4200819672131146E-11,162173737373.7374,19930526.733134512,19.930526733134514,1.9930526733134512E-2,0,{"$error":"#DIV/0!"},19.930526733134514,null,null,null,0.38]
["SW15",0.70325700000000002,0.70325899999999997,8.4899999999999993E-3,1.0002355712602999,48800000000,1.4200819672131146E-11,162173737373.7374,16589603.009018434,16.589603009018433,1.6589603009018433E-2,0,{"$error":"#DIV/0!"},16.589603009018433,null,null,null,0.37]
["SW16",0.70352199999999998,0.70352499999999996,1.03E-2,1.0002912621359199,48800000000,1.4200819672131146E-11,162173737373.7374,20510942.993220374,20.510942993220375,2.0510942993220375E-2,0,{"$error":"#DIV/0!"},20.510942993220375,null,null,null,0.36]
["SW17",0.70313199999999998,0.70313300000000001,3.3500000000000001E-3,1.0002985074626951,48800000000,1.4200819672131146E-11,162173737373.7374,21021089.322755042,21.021089322755042,2.1021089322755041E-2,0,{"$error":"#DIV/0!"},21.021089322755042,null,null,null,0.36]
["SW18",0.702268,0.702268,2.2799999999999999E-3,1,48800000000,1.4200819672131146E-11,162173737373.7374,0,0,0,0,{"$error":"#DIV/0!"},0,null,null,null,0.32]
["SW19",0.70290399999999997,0.702905,6.8799999999999998E-3,1.0001453488372134,48800000000,1.4200819672131146E-11,162173737373.7374,10236343.198460015,10.236343198460014,1.0236343198460014E-2,0,{"$error":"#DIV/0!"},10.236343198460014,null,null,null,0.32]
["SW20",0.70249300000000003,0.70249899999999998,2.76E-2,1.0002173913043459,48800000000,1.4200819672131146E-11,162173737373.7374,15309457.564992541,15.309457564992542,1.5309457564992541E-2,0,{"$error":"#DIV/0!"},15.309457564992542,null,null,null,0.31]
["SW21",0.70309699999999997,0.70309999999999995,1.43E-2,1.0002097902097884,48800000000,1.4200819672131146E-11,162173737373.7374,14774217.985951684,14.774217985951685,1.4774217985951684E-2,0,{"$error":"#DIV/0!"},14.774217985951685,null,null,null,0.22]
["SW22-leached",0.70304100000000003,0.70304100000000003,1.56E-3,1,48800000000,1.4200819672131146E-11,162173737373.7374,0,0,0,0,{"$error":"#DIV/0!"},0,null,null,null,0.19]
[null,null,null,null,null,null,null,null,"Average",{"$f":"AVERAGE(J4:J48)","v":9.4357469799734464},null,null,null,null,null,null,null,0.18]
[null,null,null,null,null,null,null,null,"Maximum",{"$f":"MAX(J4:J49)","v":22.284815643301471},null,null,null,null,null,null,null,7.0000000000000007E-2]
[null,null,null,null,null,null,null,null,"Minimum",{"$f":"MIN(J4:J50)","v":0},null,null,null,null,null,null,null,0]
[null,null,null,null,null,null,null,null,"Difference",{"$f":"(J50-J51)","v":22.284815643301471},null,null,null,null,null,null,null,-0.02]
[null,null,null,null,null,null,null,null,null,null,null,null,null,null,null,null,null,-0.03]
[null,null,null,null,null,null,null,null,null,null,null,null,null,null,null,null,null,-0.04]
["Table 5","147Sm/144Nd","Table 6","176Lu/176Hf","Table 7","187Re/188Os",null,null,null,null,null,null,null,null,null,null,null,-7.0000000000000007E-2]
[null,null,null,null,null,null,null,null,null,null,null,null,null,null,null,null,null,-0.12]
["PL01",364,"PL01",-244,"MY9",4.05,null,null,null,null,null,null,null,null,null,null,null,-0.28000000000000003]
["PL02",347,"PL02",-423,"MY9-R",2.81,null,null,null,null,null,null,null,null,null,null,null,-0.38]
["PL03",408,"PL03",-722,"MY9",2.5299999999999998,null,null,null,null,null,null,null,null,null,null,null,-0.38]
["PL03-leached",406,"PL03-leached",-865,"MY10",6.44,null,"Table","147Sm/144Nd","176Lu/176Hf","187Re/188Os","87Rb/86Sr",null,null,null,null,null,-0.41]
["PL06",-457,"PL06",-153,"MY33",1.67,null,"Summaries","Age","Age","Age","Age",null,null,null,null,null,-1.72]
["PL07",76,"PL07",-159,"MY34",2.95,null,"Average",290.60869565217394,-220,1048.2812499999998,9.4357469799734464,null,null,null,null,null,-2.27]
["PL11",601,"PL11",1377,"MY35",-2.68,null,"Maximum",3079,4192,20710,22.284815643301471,null,null,null,null,null,-2.68]
["PL12",128,"PL12",-1,"PL01",0.36,null,"Minimum",-3742,-9369,-11060,0,null,null,null,null,null,-11.06]
["PL13",428,"PL13",199,"PL02",1.34,null,"Difference",6821,13561,31770,22.284815643301471]
["PL14",1794,"PL14",-1779,"PL02",0.96]
["PL15",232,"PL15",-2614,"PL03",7.0000000000000007E-2]
["PL15-leached",362,"PL15-leached",4192,"PL03-R",0.39]
["PL16",425,"PL16",-143,"PL03",-0.03]
["PL17",881,"PL17",2285,"PL06",0.32]
["PL17-leached",847,"PL17-R",2694,"PL07",0]
["PL18",384,"PL17-leached",1740,"PL07",-7.0000000000000007E-2]
["PL19",162,"PL18",0,"PL08",1.83]
["PL19-leached",14,"PL19",1227,"PL08",0.98]
["PL19-leached-R",42,"PL19-leached",1345,"PL10",0.79]
["PL23",1412,"PL19-leached-R",1308,"PL11",0.36]
["PL23-leached",967,"PL23",1424,"PL11",0.43]
["SW01",878,"PL23-leached",1895,"PL12",1.29]
["SW01-leached",766,"SW01",492,"PL13",-0.38]
["SW02",277,"SW02",275,"PL14",-0.12]
["SW03",-128,"SW03",-660,"PL14",0.32]
["SW03-leached",-74,"SW03-leached",-409,"PL15",1.1000000000000001]
["SW04",400,"SW04",1011,"PL16",0.18]
["SW04-leached",396,"SW04-leached",895,"PL16-R",-2.27]
["SW05",179,"SW05",-1457,"PL16",0.19]
[null,null,"SW05-leached",-1548,"PL17",0.22]
["SW07",331,"SW07",-236,"PL17",0.31]
["SW08",405,"SW08",1028,"PL18",-1.72]
["SW09",346,"SW09",-218,"PL18-R",2.48]
["SW10",334,"SW10",380,"PL18",-0.38]
["SW11",-2301,"SW11",-1982,"PL19",-0.04]
["SW11-leached",3079,"SW11-leached",-3107,"PL19",0.38]
["SW12",259,"SW12",133,"PL19-R",0.47]
["SW13",193,"SW13",852,"PL23",1.1299999999999999]
["SW14",150,"SW14",1097,"PL23",1.04]
["SW15",370,"SW15",-2121,"SW01",0.47]
["SW16",123,"SW16",1543,"SW02",0.37]
["SW17",336,"SW17",-12,"SW03",1.41]
["SW18",-3742,"SW18",-9369,"SW04",0.75]
["SW19",-281,"SW19",-1614,"SW05",2.12]
["SW20",194,"SW20",870,"SW06",0.78]
["SW21",815,"SW21",447,"SW07",-0.28000000000000003]
["SW22-lea",240,"SW22",-3255,"SW07",0.78]
[null,null,"SW22-leached",-6178,"SW08",-0.41]
["Average",{"$f":"AVERAGE(B57:B104)","v":290.60869565217394},"Average",{"$f":"AVERAGE(D57:D104)","v":-220},"SW09",1.28]
["Maximum",{"$f":"MAX(B57:B104)","v":3079},"Maximum",{"$f":"MAX(D57:D104)","v":4192},"SW09",0.85]
["Minimum",{"$f":"MIN(B57:B104)","v":-3742},"Minimum",{"$f":"MIN(D57:D104)","v":-9369},"SW10",2.5099999999999998]
["Difference",{"$f":"B106 +ABS(B107)","v":6821},"Difference",{"$f":"D106 +ABS(D107)","v":13561},"SW11",1.39]
[null,null,null,null,"SW12",0.89]
[null,null,null,null,"SW13",4.0199999999999996]
[null,null,null,null,"SW14",1.44]
[null,null,null,null,"SW15",2.41]
[null,null,null,null,"SW16",1.63]
[null,null,null,null,"SW17",0.9]
[null,null,null,null,"SW18",-11.06]
[null,null,null,null,"SW18",20.71]
[null,null,null,null,"SW19",0.49]
[null,null,null,null,"SW20",2.57]
[null,null,null,null,"SW21",-0.02]
[null,null,null,null,"SW22",1.39]
[null,null,null,null,"Average",{"$f":"AVERAGE(F57:F120) * 1000","v":1048.2812499999998}]
[null,null,null,null,"Maximum",{"$f":"MAX(F57:F120)*1000","v":20710}]
[null,null,null,null,"Minimum",{"$f":"MIN(F57:F120)*1000","v":-11060}]
[null,null,null,null,"Difference",{"$f":"F122 +ABS(F123)","v":31770}]

{"sheet":"Rb-Sr _39","index":39,"n_rows":82,"n_cols":20,"rows_kept":82,"cut":false,"hidden":false,"merged":[]}
["Rubidium","Table 5",null,null,null,null,null,null,null,null,"Rubidium_035.pdf",null,null,null,null,null,"207Pb/206Pb","207Pb/235U","208Pb/232Th","206Pb/238U"]
["Strontium","Initial","Today","Today","The Ratio","Half","Decay","2.303/Delta","Age","Age","Age","Model Age","Model Age","Model Age",null,null,4945.2669185681916,5159.1019834289691,10716.472683725633,5716.7743594504873]
["Dating","87Sr/86Sr","87Sr/86Sr","87Rb/86Sr","Plus One","Life","Constant","Constant","Years","Million Years","Billion Years","Million Years","% Difference"," Difference",null,null,4944.2774891544204,null,7520.4659990229729]
["AMB-2",0.70306999999999997,0.70314299999999996,9.0999999999999998E-2,{"$f":"1+((C4-B4)/D4)","v":1.0008021978021977},48800000000,{"$f":"(0.693/F4)","v":1.4200819672131146E-11},{"$f":"(2.303/G4)","v":162173737373.7374},{"$f":"(LOG(E4))*(H4)","v":56477071.293657564},{"$f":"(I4/1000000)","v":56.477071293657566},{"$f":"(J4/1000)","v":5.6477071293657567E-2},0,{"$f":"(J4/L4) *100","v":{"$error":"#DIV/0!"}},{"$f":"(J4-L4)","v":56.477071293657566},null,null,4895.3688870839724,null,7258.7323765179008]
["AMB-5",0.70308000000000004,0.70316800000000002,0.10299999999999999,1.0008543689320386,48800000000,1.4200819672131146E-11,162173737373.7374,60148503.462422311,60.148503462422312,6.0148503462422315E-2,0,{"$f":"(J5/L5) *100","v":{"$error":"#DIV/0!"}},{"$f":"(J5-L5)","v":60.148503462422312},null,null,4891.6025726162397,null,7144.7133097030737]
["AMB-9",0.70303000000000004,0.70303899999999997,4.2000000000000003E-2,1.0002142857142839,48800000000,1.4200819672131146E-11,162173737373.7374,15090774.457003057,15.090774457003057,1.5090774457003058E-2,0,{"$error":"#DIV/0!"},15.090774457003057,null,null,4888.3929391075408,null,6558.9416957042513]
["AMB-10",0.70311000000000001,0.70318099999999994,8.7999999999999995E-2,1.0008068181818175,48800000000,1.4200819672131146E-11,162173737373.7374,56802228.394973233,56.802228394973234,5.6802228394973231E-2,0,{"$error":"#DIV/0!"},56.802228394973234,null,null,4882.3584897588808,null,6511.328970627972]
["AMB-17",0.70308000000000004,0.70316199999999995,9.9000000000000005E-2,1.000828282828282,48800000000,1.4200819672131146E-11,162173737373.7374,58312773.381620415,58.312773381620417,5.8312773381620414E-2,0,{"$error":"#DIV/0!"},58.312773381620417,null,null,4878.0247025267836,null,6354.7938838190057]
["AMB-21",0.70306999999999997,0.70315099999999997,9.4E-2,1.0008617021276596,48800000000,1.4200819672131146E-11,162173737373.7374,60664546.148064442,60.664546148064439,6.0664546148064435E-2,0,{"$error":"#DIV/0!"},60.664546148064439,null,null,4876.9964517040971,null,6354.408398026023]
["AMB-22",0.70308999999999999,0.703206,0.11899999999999999,1.0009747899159664,48800000000,1.4200819672131146E-11,162173737373.7374,68622143.15233463,68.62214315233463,6.8622143152334628E-2,0,{"$error":"#DIV/0!"},68.62214315233463,null,null,4871.9512387997784,null,6138.2561622892081]
["AMB-26",0.70313999999999999,0.70326200000000005,0.123,1.0009918699186997,48800000000,1.4200819672131146E-11,162173737373.7374,69823925.796050638,69.823925796050645,6.9823925796050651E-2,0,{"$error":"#DIV/0!"},69.823925796050645,null,null,4869.1804636219613,null,6031.5709918445873]
["AMB-29",0.70306999999999997,0.70316999999999996,0.108,1.0009259259259258,48800000000,1.4200819672131146E-11,162173737373.7374,65183863.283962727,65.183863283962722,6.5183863283962723E-2,0,{"$error":"#DIV/0!"},65.183863283962722,null,null,4867.3698071213967,null,5972.3636168808371]
["AMB-37",0.70306999999999997,0.70318199999999997,0.121,1.0009256198347107,48800000000,1.4200819672131146E-11,162173737373.7374,65162324.864535421,65.162324864535421,6.5162324864535423E-2,0,{"$error":"#DIV/0!"},65.162324864535421,null,null,4866.8072021685784,null,5972.3419842178082]
["AMB-38",0.70308000000000004,0.70319100000000001,0.121,1.0009173553719006,48800000000,1.4200819672131146E-11,162173737373.7374,64580785.049959347,64.580785049959346,6.4580785049959344E-2,0,{"$error":"#DIV/0!"},64.580785049959346,null,null,4866.6918151146256,null,5655.3685664518662]
["AMB-39",0.70304999999999995,0.70313800000000004,9.9000000000000005E-2,1.0008888888888898,48800000000,1.4200819672131146E-11,162173737373.7374,62577666.712074034,62.577666712074034,6.2577666712074029E-2,0,{"$error":"#DIV/0!"},62.577666712074034,null,null,4865.4553371723559,null,5597.5552060970695]
["AMB-41",0.70328000000000002,0.70343,0.14799999999999999,1.0010135135135134,48800000000,1.4200819672131146E-11,162173737373.7374,71346782.313584775,71.346782313584768,7.1346782313584767E-2,0,{"$error":"#DIV/0!"},71.346782313584768,null,null,4864.0470585064968,null,5518.6351435989345]
["AMB-44",0.70311999999999997,0.70323899999999995,0.122,1.0009754098360655,48800000000,1.4200819672131146E-11,162173737373.7374,68665762.310516745,68.66576231051674,6.8665762310516743E-2,0,{"$error":"#DIV/0!"},68.66576231051674,null,null,4852.1496394028991,null,5514.7516517475815]
["AMB-47",0.70306999999999997,0.70317300000000005,0.11,1.0009363636363644,48800000000,1.4200819672131146E-11,162173737373.7374,65918319.445067167,65.918319445067169,6.5918319445067167E-2,0,{"$error":"#DIV/0!"},65.918319445067169,null,null,4848.4279511055047,null,5505.0155710374629]
["AMB-48",0.70318999999999998,0.70332700000000004,0.14000000000000001,1.0009785714285717,48800000000,1.4200819672131146E-11,162173737373.7374,68888219.597125709,68.888219597125712,6.8888219597125711E-2,0,{"$error":"#DIV/0!"},68.888219597125712,null,null,4842.9409786052202,null,5210.2561619032722]
["AMB-52",0.70313999999999999,0.70318800000000004,7.0999999999999994E-2,1.0006760563380288,48800000000,1.4200819672131146E-11,162173737373.7374,47599343.49978929,47.599343499789292,4.7599343499789289E-2,0,{"$error":"#DIV/0!"},47.599343499789292,null,null,4835.9420690121451,null,4785.1651125447197]
["AMB-54",0.70355000000000001,0.70386499999999996,0.26900000000000002,1.0011710037174719,48800000000,1.4200819672131146E-11,162173737373.7374,82426897.620536968,82.426897620536963,8.2426897620536968E-2,0,{"$error":"#DIV/0!"},82.426897620536963]
["AMC-5",0.70301999999999998,0.70304800000000001,5.6000000000000001E-2,1.0005000000000006,48800000000,1.4200819672131146E-11,162173737373.7374,35206778.664188884,35.206778664188882,3.5206778664188879E-2,0,{"$error":"#DIV/0!"},35.206778664188882]
["AMC-8",0.70316000000000001,0.70322300000000004,0.08,1.0007875000000004,48800000000,1.4200819672131146E-11,162173737373.7374,55442710.207212359,55.442710207212357,5.5442710207212358E-2,0,{"$error":"#DIV/0!"},55.442710207212357]
["AMC-9",0.70321999999999996,0.70332899999999998,0.11799999999999999,1.0009237288135595,48800000000,1.4200819672131146E-11,162173737373.7374,65029261.09333916,65.029261093339159,6.5029261093339161E-2,0,{"$error":"#DIV/0!"},65.029261093339159]
["AMF-6",0.70328000000000002,0.70329699999999995,4.9000000000000002E-2,1.0003469387755088,48800000000,1.4200819672131146E-11,162173737373.7374,24431062.35181053,24.431062351810528,2.4431062351810529E-2,0,{"$error":"#DIV/0!"},24.431062351810528]
["AMG-3",0.70318999999999998,0.70324399999999998,7.9000000000000001E-2,1.0006835443037974,48800000000,1.4200819672131146E-11,162173737373.7374,48126371.335610837,48.126371335610834,4.8126371335610832E-2,0,{"$error":"#DIV/0!"},48.126371335610834]
["AMG-8",0.70308999999999999,0.703183,0.104,1.0008942307692308,48800000000,1.4200819672131146E-11,162173737373.7374,62953566.400007494,62.953566400007496,6.2953566400007502E-2,0,{"$error":"#DIV/0!"},62.953566400007496]
["AMG-10",0.70389000000000002,0.70429299999999995,0.33500000000000002,1.0012029850746267,48800000000,1.4200819672131146E-11,162173737373.7374,84676711.163492486,84.676711163492485,8.4676711163492485E-2,0,{"$error":"#DIV/0!"},84.676711163492485]
["TL-1",0.70306000000000002,0.70311599999999996,7.6999999999999999E-2,1.000727272727272,48800000000,1.4200819672131146E-11,162173737373.7374,51204043.877223134,51.204043877223135,5.1204043877223132E-2,0,{"$error":"#DIV/0!"},51.204043877223135]
[null,null,null,null,null,null,null,null,"Average",{"$f":"AVERAGE(J4:J29)","v":59.052401379852427}]
[null,null,null,null,null,null,null,null,"Maximum",{"$f":"MAX(J4:J30)","v":84.676711163492485}]
[null,null,null,null,null,null,null,null,"Minimum",{"$f":"MIN(J4:J31)","v":15.090774457003057}]
[null,null,null,null,null,null,null,null,"Difference",{"$f":"(J31-J32)","v":69.585936706489434}]
[]
[]
[null,"238U/204Pb","235U/204Pb","232Th/204Pb","206Pb/204Pb","206Pb/238U","207Pb/235U","208Pb/232Th","207Pb/204Pb","207Pb/206Pb","207Pb/206Pb","207Pb/235U","208Pb/204Pb","208Pb/232Th","206Pb/238U"]
[null,null,null,null,null,null,null,null,null,null,"Age","Age",null,"Age","Age"]
["AMB-9",30.7,0.223,116.8,20.419599999999999,{"$f":"(E38/B38)","v":0.66513355048859935},{"$f":"(I38/C38)","v":70.513901345291487},{"$f":"(M38/D38)","v":0.34377482876712334},15.724600000000001,{"$f":"(I38/E38)","v":0.77007385061411593},{"$f":"[1]!AgePb76(J38)","v":4867.3698071213967},{"$f":"[1]!AgePb7U5(G38)","v":4335.5758290213307},40.152900000000002,{"$f":"[1]!AgePb8Th2(H38)","v":5972.3636168808371},{"$f":"[1]!AgePb6U8(F38)","v":3287.0609554835132}]
["AMB-10",22.3,0.161,94.4,20.203199999999999,{"$f":"(E39/B39)","v":0.9059730941704035},{"$f":"(I39/C39)","v":97.65341614906832},{"$f":"(M39/D39)","v":0.42402118644067793},15.722200000000001,{"$f":"(I39/E39)","v":0.77820345291834969},{"$f":"[1]!AgePb76(J39)","v":4882.3584897588808},{"$f":"[1]!AgePb7U5(G39)","v":4662.2458860242623},40.0276,{"$f":"[1]!AgePb8Th2(H39)","v":7144.7133097030737},{"$f":"[1]!AgePb6U8(F39)","v":4157.8900160998246}]
["AMB-21",31.7,0.23,124.6,20.4574,0.64534384858044169,68.402608695652177,0.32286436597110757,15.7326,0.76904200924848709,{"$f":"[1]!AgePb76(J40)","v":4865.4553371723559},{"$f":"[1]!AgePb7U5(G40)","v":4305.1474397937009},40.228900000000003,{"$f":"[1]!AgePb8Th2(H40)","v":5655.3685664518662},{"$f":"[1]!AgePb6U8(F40)","v":3209.9880023659075}]
["AMB-22",23.4,0.17,104.7,20.271999999999998,0.86632478632478627,92.51705882352941,0.38334383954154727,15.7279,0.77584352801894241,{"$f":"[1]!AgePb76(J41)","v":4878.0247025267836},{"$f":"[1]!AgePb7U5(G41)","v":4607.9543757563379},40.136099999999999,{"$f":"[1]!AgePb8Th2(H41)","v":6558.9416957042513},{"$f":"[1]!AgePb6U8(F41)","v":4022.3764197634218}]
["AMB-26",29.8,0.216,112.8,20.274100000000001,0.68033892617449665,72.769444444444446,0.35484929078014188,15.7182,0.77528472287302519,{"$f":"[1]!AgePb76(J42)","v":4876.9964517040971},{"$f":"[1]!AgePb7U5(G42)","v":4367.10627400462},40.027000000000001,{"$f":"[1]!AgePb8Th2(H42)","v":6138.2561622892081},{"$f":"[1]!AgePb6U8(F42)","v":3345.6600473074409}]
["AMB-39",24.2,0.17499999999999999,89.1,20.481100000000001,0.84632644628099185,89.916000000000011,0.45074186307519643,15.735300000000001,0.76828393006235018,{"$f":"[1]!AgePb76(J43)","v":4864.0470585064968},{"$f":"[1]!AgePb7U5(G43)","v":4579.3125890195588},40.161099999999998,{"$f":"[1]!AgePb8Th2(H43)","v":7520.4659990229729},{"$f":"[1]!AgePb6U8(F43)","v":3952.9280274092912}]
["AMB-41",32,0.23200000000000001,126.7,19.994800000000001,0.62483750000000005,67.683620689655172,0.3139455406471981,15.7026,0.78533418688859102,{"$f":"[1]!AgePb76(J44)","v":4895.3688870839724},{"$f":"[1]!AgePb7U5(G44)","v":4294.5735420554256},39.776899999999998,{"$f":"[1]!AgePb8Th2(H44)","v":5518.6351435989345},{"$f":"[1]!AgePb6U8(F44)","v":3129.1397955285574}]
["AMB-47",39.5,0.28599999999999998,150.9,20.659099999999999,0.52301518987341766,55.036363636363639,0.26711928429423459,15.740399999999999,0.76191121588065314,{"$f":"[1]!AgePb76(J45)","v":4852.1496394028991},{"$f":"[1]!AgePb7U5(G45)","v":4087.9330158375292},40.308300000000003,{"$f":"[1]!AgePb8Th2(H45)","v":4785.1651125447197},{"$f":"[1]!AgePb6U8(F45)","v":2711.9551814099709}]
["AMB-48",31.9,0.23200000000000001,116.5,20.424399999999999,0.64026332288401255,67.767672413793093,0.34377339055793987,15.722099999999999,0.76977047061357984,{"$f":"[1]!AgePb76(J46)","v":4866.8072021685784},{"$f":"[1]!AgePb7U5(G46)","v":4295.8153595021377},40.049599999999998,{"$f":"[1]!AgePb8Th2(H46)","v":5972.3419842178082},{"$f":"[1]!AgePb6U8(F46)","v":3190.0518400093142}]
["AMB-52",34.5,0.25,129,20.713899999999999,0.6004028985507246,62.964399999999998,0.31306046511627905,15.741099999999999,0.7599293228218732,{"$f":"[1]!AgePb76(J47)","v":4848.4279511055047},{"$f":"[1]!AgePb7U5(G47)","v":4222.2944393514208},40.384799999999998,{"$f":"[1]!AgePb8Th2(H47)","v":5505.0155710374629},{"$f":"[1]!AgePb6U8(F47)","v":3031.4611386992451}]
["AMB-54",30.5,0.221,124.8,19.275600000000001,0.63198688524590163,70.889592760181003,0.31369310897435898,15.666600000000001,0.81276847413310094,{"$f":"[1]!AgePb76(J48)","v":4944.2774891544168},{"$f":"[1]!AgePb7U5(G48)","v":4340.8960838875346},39.148899999999998,{"$f":"[1]!AgePb8Th2(H48)","v":5514.7516517475815},{"$f":"[1]!AgePb6U8(F48)","v":3157.4421950577967}]
["AMC-5",38.9,0.28199999999999997,137.9,20.901599999999998,0.53731619537275066,55.835460992907805,0.29405076142131975,15.7456,0.7533203199755043,{"$f":"[1]!AgePb76(J49)","v":4835.9420690121451},{"$f":"[1]!AgePb7U5(G49)","v":4102.3104474590837},40.549599999999998,{"$f":"[1]!AgePb8Th2(H49)","v":5210.2561619032722},{"$f":"[1]!AgePb6U8(F49)","v":2772.204131036885}]
["AMC-9",26.6,0.193,114.8,20.066700000000001,0.75438721804511277,81.437823834196891,0.34771689895470387,15.717499999999999,0.78326281850030144,{"$f":"[1]!AgePb76(J50)","v":4891.6025726162397},{"$f":"[1]!AgePb7U5(G50)","v":4479.9150720503112},39.917900000000003,{"$f":"[1]!AgePb8Th2(H50)","v":6031.5709918445873},{"$f":"[1]!AgePb6U8(F50)","v":3623.655970597908}]
["AMF-6",23.7,0.17199999999999999,92.3,20.110499999999998,0.84854430379746826,91.374418604651169,0.43207692307692308,15.7164,0.78150220034310447,{"$f":"[1]!AgePb76(J51)","v":4888.3929391075408},{"$f":"[1]!AgePb7U5(G51)","v":4595.4714782842266},39.880699999999997,{"$f":"[1]!AgePb8Th2(H51)","v":7258.7323765179008},{"$f":"[1]!AgePb6U8(F51)","v":3960.6669881645089}]
["AMG-3",28.4,0.20599999999999999,105.6,20.357800000000001,0.71682394366197189,76.346601941747579,0.38008901515151516,15.727399999999999,0.77254909666073934,{"$f":"[1]!AgePb76(J52)","v":4871.9512387997784},{"$f":"[1]!AgePb7U5(G52)","v":4415.1867239818466},40.1374,{"$f":"[1]!AgePb8Th2(H52)","v":6511.328970627972},{"$f":"[1]!AgePb6U8(F52)","v":3484.1324059826657}]
["AMG-8",28.7,0.20799999999999999,108.8,20.406300000000002,0.71102090592334499,75.645673076923075,0.36944209558823532,15.734299999999999,0.77105109696515284,{"$f":"[1]!AgePb76(J53)","v":4869.1804636219613},{"$f":"[1]!AgePb7U5(G53)","v":4405.94319269485},40.195300000000003,{"$f":"[1]!AgePb8Th2(H53)","v":6354.7938838190057},{"$f":"[1]!AgePb6U8(F53)","v":3462.305968581672}]
["AMG-8#",28.7,0.20799999999999999,108.9,20.443200000000001,0.71230662020905933,75.650480769230782,0.3694159779614325,15.735300000000001,0.76970826485090393,{"$f":"[1]!AgePb76(J54)","v":4866.6918151146256},{"$f":"[1]!AgePb7U5(G54)","v":4406.0068818243371},40.229399999999998,{"$f":"[1]!AgePb8Th2(H54)","v":6354.408398026023},{"$f":"[1]!AgePb6U8(F54)","v":3467.1481854785393}]
["AMG-10",13.5,9.8000000000000004E-2,56,19.2697,1.4273851851851853,159.92551020408163,0.69926785714285711,15.672700000000001,0.81333388687940134,{"$f":"[1]!AgePb76(J55)","v":4945.2669185681916},{"$f":"[1]!AgePb7U5(G55)","v":5159.1019834289691},39.158999999999999,{"$f":"[1]!AgePb8Th2(H55)","v":10716.472683725633},{"$f":"[1]!AgePb6U8(F55)","v":5716.7743594504873}]
["TL-1",33.6,0.24399999999999999,126.8,20.8019,0.61910416666666668,64.538524590163945,0.31908596214511037,15.747400000000001,0.75701738783476513,{"$f":"[1]!AgePb76(J56)","v":4842.9409786052202},{"$f":"[1]!AgePb7U5(G56)","v":4246.9798765535952},40.460099999999997,{"$f":"[1]!AgePb8Th2(H56)","v":5597.5552060970695},{"$f":"[1]!AgePb6U8(F56)","v":3106.3530233902447}]
[null,null,null,null,null,null,null,null,null,"Average",{"$f":"AVERAGE(K38:K56)","v":4876.4869479553199},{"$f":"AVERAGE(L38:L56)","v":4416.3037100279507},null,{"$f":"AVERAGE(N38:N56)","v":6332.6914466189564},{"$f":"AVERAGE(O38:O56)","v":3515.2207711482733}]
[null,null,null,null,null,null,null,null,null,"Maximum",{"$f":"MAX(K38:K57)","v":4945.2669185681916},{"$f":"MAX(L38:L57)","v":5159.1019834289691},null,{"$f":"MAX(N38:N57)","v":10716.472683725633},{"$f":"MAX(O38:O57)","v":5716.7743594504873}]
[null,null,null,null,null,null,null,null,null,"Minimum",{"$f":"MIN(K38:K58)","v":4835.9420690121451},{"$f":"MIN(L38:L58)","v":4087.9330158375292},null,{"$f":"MIN(N38:N58)","v":4785.1651125447197},{"$f":"MIN(O38:O58)","v":2711.9551814099709}]
[null,null,null,null,null,null,null,null,null,"Difference",{"$f":"(K58-K59)","v":109.3248495560465},{"$f":"(L58-L59)","v":1071.1689675914399},null,{"$f":"(N58-N59)","v":5931.3075711809133},{"$f":"(O58-O59)","v":3004.8191780405164}]
[]
[null,null,null,null,null,null,"Table","207Pb/206Pb","207Pb/235U","87Rb/86Sr","208Pb/232Th","206Pb/238U"]
[null,null,null,null,null,null,"Summaries","Age","Age","Age","Age","Age",null,"Age","Age","Age"]
[null,null,null,null,null,null,"Average",4876.4869479553199,4416.3037100279507,59.052401379852427,6332.6914466189564,3515.2207711482733,null,10716.472683725633,6354.7938838190057,5655.3685664518662]
[null,null,null,null,null,null,"Maximum",4945.2669185681916,5159.1019834289691,84.676711163492485,10716.472683725633,5716.7743594504873,null,7520.4659990229729,6354.408398026023,5597.5552060970695]
[null,null,null,null,null,null,"Minimum",4835.9420690121451,4087.9330158375292,15.090774457003057,4785.1651125447197,2711.9551814099709,null,7258.7323765179008,6138.2561622892081,5518.6351435989345]
[null,null,null,null,null,null,"Difference",109.3248495560465,1071.1689675914399,69.585936706489434,5931.3075711809133,3004.8191780405164,null,7144.7133097030737,6031.5709918445873,5514.7516517475815]
[null,null,null,null,null,null,null,null,null,null,null,null,null,6558.9416957042513,5972.3636168808371,5505.0155710374629]
[null,null,null,null,null,null,null,null,null,null,null,null,null,6511.328970627972,5972.3419842178082,5210.2561619032722]
[]
[null,null,null,null,null,null,91.97,{"$f":"[1]!AgePb7U5(G71)","v":4601.9971167870908}]
[]
[]
[]
[]
[null,null,null,null,null,null,null,null,null,null,null,null,null,5655.3685664518662]
[null,null,null,null,null,null,null,null,null,null,null,null,null,5597.5552060970695]
[null,null,null,null,null,null,null,null,null,null,null,null,null,5518.6351435989345]
[null,null,null,null,null,null,null,null,null,null,null,null,null,5514.7516517475815]
[null,null,null,null,null,null,null,null,null,null,null,null,null,5505.0155710374629]
[null,null,null,null,null,null,null,null,null,null,null,null,null,5210.2561619032722]
[null,null,null,null,null,null,null,null,null,null,null,null,null,4785.1651125447197]

{"sheet":"Rb-Sr _40","index":40,"n_rows":53,"n_cols":15,"rows_kept":53,"cut":false,"hidden":false,"merged":[]}
["Rubidium"," "," ",null,null,null,null,null,null,null,"Rubidium_036.pdf"]
["Strontium","Initial","Today","Today","The Ratio","Half","Decay","2.303/Delta","Age","Age","Age","Model Age","Model Age","Model Age"]
["Dating","87Sr/86Sr","87Sr/86Sr","87Rb/86Sr","Plus One","Life","Constant","Constant","Years","Million Years","Billion Years","Million Years","% Difference"," Difference"]
[null,0.70379000000000003,0.71309999999999996,0.42099999999999999,{"$f":"1+((C4-B4)/D4)","v":1.0221140142517813},48800000000,{"$f":"(0.693/F4)","v":1.4200819672131146E-11},{"$f":"(2.303/G4)","v":162173737373.7374},{"$f":"(LOG(E4))*(H4)","v":1540543950.3816149},{"$f":"(I4/1000000)","v":1540.5439503816149},{"$f":"(J4/1000)","v":1.540543950381615},1341,{"$f":"(J4/L4) *100","v":114.88023492778635},{"$f":"(J4-L4)","v":199.54395038161488}]
[null,0.70379000000000003,0.71255000000000002,0.46200000000000002,1.0189610389610388,48800000000,1.4200819672131146E-11,162173737373.7374,1322945012.8933749,1322.945012893375,1.3229450128933748,1341,{"$f":"(J5/L5) *100","v":98.653617665426921},{"$f":"(J5-L5)","v":-18.054987106625049}]
[null,0.70379000000000003,0.71051200000000003,0.35399999999999998,1.0189887005649718,48800000000,1.4200819672131146E-11,162173737373.7374,1324856972.5399513,1324.8569725399514,1.3248569725399513,1341,98.796194820279752,-16.143027460048643]
[null,0.70379000000000003,0.71332300000000004,0.41299999999999998,1.0230823244552059,48800000000,1.4200819672131146E-11,162173737373.7374,1607236046.3402631,1607.2360463402631,1.6072360463402631,1341,119.8535455883865,266.2360463402631]
[null,0.70379000000000003,0.714561,0.53,1.020322641509434,48800000000,1.4200819672131146E-11,162173737373.7374,1416996920.5233364,1416.9969205233365,1.4169969205233366,1341,105.66718273850384,75.996920523336485]
[null,0.70379000000000003,0.71628499999999995,0.61,1.020483606557377,48800000000,1.4200819672131146E-11,162173737373.7374,1428107191.2408793,1428.1071912408793,1.4281071912408794,1341,106.4956891305652,87.107191240879274]
[null,0.70379000000000003,0.71451900000000002,0.53,1.020243396226415,48800000000,1.4200819672131146E-11,162173737373.7374,1411526539.2195292,1411.5265392195292,1.4115265392195293,1341,105.25924975537131,70.526539219529241]
[null,0.70379000000000003,0.71428999999999998,0.52500000000000002,1.02,48800000000,1.4200819672131146E-11,162173737373.7374,1394721996.6862524,1394.7219966862524,1.3947219966862523,1341,104.0061145925617,53.721996686252396]
[null,0.70379000000000003,0.71162999999999998,0.376,1.0208510638297872,48800000000,1.4200819672131146E-11,162173737373.7374,1453463584.1205435,1453.4635841205434,1.4534635841205434,1341,108.38654616857146,112.46358412054337]
[null,0.70379000000000003,0.71901999999999999,0.748,1.0203609625668448,48800000000,1.4200819672131146E-11,162173737373.7374,1419642109.1180787,1419.6421091180787,1.4196421091180786,1341,105.8644376672691,78.642109118078679]
[null,0.70379000000000003,0.718059,0.70399999999999996,1.0202684659090908,48800000000,1.4200819672131146E-11,162173737373.7374,1413257170.4849145,1413.2571704849145,1.4132571704849144,1341,105.3883050324321,72.257170484914468]
[null,0.70379000000000003,0.71270599999999995,0.41399999999999998,1.0215362318840577,48800000000,1.4200819672131146E-11,162173737373.7374,1500719246.4091423,1500.7192464091422,1.5007192464091421,1341,111.91045834520077,159.71924640914222]
[null,0.70379000000000003,0.731715,1.3640000000000001,1.0204728739002933,48800000000,1.4200819672131146E-11,162173737373.7374,1427366446.9011581,1427.366446901158,1.427366446901158,1341,106.44045092476944,86.366446901158042]
[null,0.70379000000000003,0.71948699999999999,0.61099999999999999,1.0256906710310965,48800000000,1.4200819672131146E-11,162173737373.7374,1786571651.3371568,1786.5716513371567,1.7865716513371568,1341,133.22681963737188,445.57165133715671]
[null,0.70379000000000003,0.70302600000000004,4.0000000000000001E-3,0.80900000000000327,48800000000,1.4200819672131146E-11,162173737373.7374,-14928332280.915331,-14928.332280915331,-14.928332280915331,1341,-1113.223883737161,-16269.332280915331,-66499.405664606093]
[null,0.70379000000000003,0.70364000000000004,1.7999999999999999E-2,0.99166666666666758,48800000000,1.4200819672131146E-11,162173737373.7374,-589385525.19656408,-589.38552519656412,-0.58938552519656406,1341,-43.951195018386585,-1930.3855251965642,-36488.556094813954]
[null,0.70379000000000003,0.70394999999999996,4.0000000000000001E-3,1.0399999999999845,48800000000,1.4200819672131146E-11,162173737373.7374,2762360294.0371151,2762.3602940371152,2.7623602940371152,1341,205.99256480515402,1421.3602940371152,-22990.343307194209]
[null,0.70379000000000003,0.70347999999999999,1.0999999999999999E-2,0.97181818181817892,48800000000,1.4200819672131146E-11,162173737373.7374,-2013383697.8220475,-2013.3836978220475,-2.0133836978220474,1341,-150.14046963624514,-3354.3836978220475,-16010.335247197805]
[null,0.70379000000000003,0.70311500000000005,5.0000000000000001E-3,0.86500000000000377,48800000000,1.4200819672131146E-11,162173737373.7374,-10214333246.776609,-10214.333246776609,-10.214333246776608,1341,-761.69524584463898,-11555.333246776609,-14928.332280915331]
[null,0.70379000000000003,0.703179,1E-3,0.38899999999997181,48800000000,1.4200819672131146E-11,162173737373.7374,-66499405664.606094,-66499.405664606093,-66.499405664606087,1341,-4958.9415111563085,-67840.405664606093,-10214.333246776609]
[null,0.70379000000000003,0.70267599999999997,4.0000000000000001E-3,{"$f":"1+((C24-B24)/D24)","v":0.72149999999998515},48800000000,{"$f":"(0.693/F24)","v":1.4200819672131146E-11},{"$f":"(2.303/G24)","v":162173737373.7374},{"$f":"(LOG(E24))*(H24)","v":-22990343307.19421},{"$f":"(I24/1000000)","v":-22990.343307194209},{"$f":"(J24/1000)","v":-22.990343307194209},1341,{"$f":"(J24/L24) *100","v":-1714.4178454283526},{"$f":"(J24-L24)","v":-24331.343307194209},-8808.0816603822968]
[null,0.70379000000000003,0.70273200000000002,8.9999999999999993E-3,0.88244444444444403,48800000000,1.4200819672131146E-11,162173737373.7374,-8808081660.3822975,-8808.0816603822968,-8.808081660382296,1341,-656.82935573320628,-10149.081660382297,-2013.3836978220475]
[null,0.70379000000000003,0.70409600000000006,4.1000000000000002E-2,1.007463414634147,48800000000,1.4200819672131146E-11,162173737373.7374,523705052.62418056,523.70505262418055,0.52370505262418054,1341,39.053322343339339,-817.29494737581945,-1499.3018335920428]
[null,0.70379000000000003,0.70257000000000003,6.0000000000000001E-3,0.79666666666666686,48800000000,1.4200819672131146E-11,162173737373.7374,-16010335247.197805,-16010.335247197805,-16.010335247197805,1341,-1193.9101601191503,-17351.335247197807,-589.38552519656412]
[null,0.70379000000000003,0.70257700000000001,3.0000000000000001E-3,0.59566666666666013,48800000000,1.4200819672131146E-11,162173737373.7374,-36488556094.813957,-36488.556094813954,-36.488556094813951,1341,-2720.9959802247545,-37829.556094813954,523.70505262418055]
[null,0.70379000000000003,0.70345299999999999,1.6E-2,0.97893749999999802,48800000000,1.4200819672131146E-11,162173737373.7374,-1499301833.5920429,-1499.3018335920428,-1.4993018335920429,1341,-111.80476014854905,-2840.3018335920428,2762.3602940371152]
[null,null,null,null,null,null,null,null,"Average",{"$f":"AVERAGE(J4:J29)","v":-6011.8245528322868},null,{"$f":"COUNT(L4:L29)","v":26}]
[null,null,null,null,null,null,null,null,"Maximum",{"$f":"MAX(J4:J30)","v":2762.3602940371152}]
[null,null,null,null,null,null,null,null,"Minimum",{"$f":"MIN(J4:J31)","v":-66499.405664606093}]
[null,null,null,null,null,null,null,null,"Difference",{"$f":"(J31 +ABS(J32))","v":69261.765958643213}]
[]
[null,null,null,null,"207Pb/206Pb",null,null,null,"Dating","87Rb/86Sr","207Pb/206Pb"]
[null,"206Pb/204Pb","207Pb/204Pb","207Pb/206Pb","Age",null,null,null,"Summary","Age","Age"]
["S57",16.734000000000002,15.381,{"$f":"(C37/B37)","v":0.9191466475439225},{"$f":"[1]!AgePb76($D$37)","v":5118.6144515415199},null,null,null,"Average",-6011.8245528322868,5055.6027681911655]
["S21",16.635999999999999,15.36,{"$f":"(C38/B38)","v":0.92329886992065402},{"$f":"[1]!AgePb76($D$38)","v":5124.9782772761801},null,null,null,"Maximum",2762.3602940371152,5126.4145777890253]
["S53",18.753,15.669,0.83554631258998557,{"$f":"[1]!AgePb76($D$39)","v":4983.5688562302457},null,null,null,"Minimum",-66499.405664606093,4648.9427811811793]
["S55",17.088999999999999,15.363,0.8989993563110773,{"$f":"[1]!AgePb76($D$40)","v":5087.2972237063468},null,null,null,"Difference",69261.765958643213,477.47179660784604]
["S56",16.957999999999998,15.407,0.90853874277627089,{"$f":"[1]!AgePb76($D$41)","v":5102.2171141982299}]
["S87",17.524000000000001,15.488,0.88381648025564929,{"$f":"[1]!AgePb76($D$42)","v":5063.2010504418822}]
["S05",16.552,15.298,0.92423876268728855,{"$f":"[1]!AgePb76($D$43)","v":5126.4145777890253}]
["S06",16.638000000000002,15.347,0.9224065392475056,{"$f":"[1]!AgePb76($D$44)","v":5123.6132248275571}]
["S27",24.326000000000001,16.088000000000001,0.66134999588917209,{"$f":"[1]!AgePb76($D$45)","v":4648.9427811811793}]
["S54",17.004999999999999,15.41,0.90620405763010881,{"$f":"[1]!AgePb76($D$46)","v":5098.5809960394954}]
["S58",17.271999999999998,15.536,0.89949050486336268,{"$f":"[1]!AgePb76($D$47)","v":5088.0694848876601}]
["S59",17.155999999999999,15.512,0.90417346700862677,{"$f":"[1]!AgePb76($D$48)","v":5095.4104017768177}]
["S61",17.593,15.535,0.88302165634059004,{"$f":"[1]!AgePb76($D$49)","v":5061.9275465890169}]
[null,null,null,"Average",{"$f":"AVERAGE(E37:E49)","v":5055.6027681911655}]
[null,null,null,"Maximum",{"$f":"MAX(E37:E49)","v":5126.4145777890253}]
[null,null,null,"Minimum",{"$f":"MIN(E37:E49)","v":4648.9427811811793}]
[null,null,null,"Difference",{"$f":"(E51 -ABS(E52))","v":477.47179660784604}]

{"sheet":"Rb-Sr _41","index":41,"n_rows":0,"n_cols":0,"rows_kept":0,"cut":false,"hidden":false,"merged":[]}

{"sheet":"Rb-Sr _42","index":42,"n_rows":51,"n_cols":14,"rows_kept":51,"cut":false,"hidden":false,"merged":[]}
["Rubidium"," "," ",null,null,null,null,null,null,null,"Rubidium_038.pdf"]
["Strontium","Initial","Today","Today","The Ratio","Half","Decay","2.303/Delta","Age","Age","Age","Model Age","Model Age","Model Age"]
["Dating","87Sr/86Sr","87Sr/86Sr","87Rb/86Sr","Plus One","Life","Constant","Constant","Years","Million Years","Billion Years","Million Years","% Difference"," Difference"]
[null,0.70767999999999998,0.81,0.70964300000000002,{"$f":"1+((C4-B4)/D4)","v":1.1441851747991596},48800000000,{"$f":"(0.693/F4)","v":1.4200819672131146E-11},{"$f":"(2.303/G4)","v":162173737373.7374},{"$f":"(LOG(E4))*(H4)","v":9486566239.3930683},{"$f":"(I4/1000000)","v":9486.5662393930688},{"$f":"(J4/1000)","v":9.4865662393930688},0,{"$f":"(J4/L4) *100","v":{"$error":"#DIV/0!"}},{"$f":"(J4-L4)","v":9486.5662393930688}]
[null,0.71274999999999999,1.1100000000000001,0.71542600000000001,1.5552635772253176,48800000000,1.4200819672131146E-11,162173737373.7374,31105571743.635376,31105.571743635377,31.105571743635377,0,{"$f":"(J5/L5) *100","v":{"$error":"#DIV/0!"}},{"$f":"(J5-L5)","v":31105.571743635377}]
[null,0.70737000000000005,1.21,0.71029100000000001,1.7076395449189135,48800000000,1.4200819672131146E-11,162173737373.7374,37688560871.112061,37688.560871112059,37.68856087111206,0,{"$error":"#DIV/0!"},37688.560871112059]
[null,0.72340000000000004,0.09,0.72361900000000001,0.1246774891206559,48800000000,1.4200819672131146E-11,162173737373.7374,-146639431724.9155,-146639.43172491548,-146.63943172491548,0,{"$error":"#DIV/0!"},-146639.43172491548]
[null,0.70579000000000003,1.48,0.70936200000000005,2.091417358133083,48800000000,1.4200819672131146E-11,162173737373.7374,51967067257.264175,51967.067257264178,51.967067257264176,0,{"$error":"#DIV/0!"},51967.067257264178]
[null,0.70908000000000004,0.12,0.70936299999999997,0.16956480673505658,48800000000,1.4200819672131146E-11,162173737373.7374,-124981506673.71703,-124981.50667371703,-124.98150667371702,0,{"$error":"#DIV/0!"},-124981.50667371703]
[null,0.70903000000000005,0.11,0.70928800000000003,0.15544884447502283,48800000000,1.4200819672131146E-11,162173737373.7374,-131103276776.93207,-131103.27677693206,-131.10327677693206,0,{"$error":"#DIV/0!"},-131103.27677693206]
[null,0.70520000000000005,0.02,0.70524299999999995,2.841999140721696E-2,48800000000,1.4200819672131146E-11,162173737373.7374,-250781584665.30432,-250781.58466530431,-250.78158466530431,0,{"$error":"#DIV/0!"},-250781.58466530431]
[null,0.70367000000000002,0.14000000000000001,0.70400399999999996,0.19933693558559318,48800000000,1.4200819672131146E-11,162173737373.7374,-113588467816.89667,-113588.46781689666,-113.58846781689667,0,{"$error":"#DIV/0!"},-113588.46781689666]
[null,0.70282999999999995,0.01,0.70286199999999999,1.4273072096656292E-2,48800000000,1.4200819672131146E-11,162173737373.7374,-299288800847.31635,-299288.80084731634,-299.28880084731634,0,{"$error":"#DIV/0!"},-299288.80084731634]
[null,0.70282999999999995,0.01,0.70285900000000001,1.4268864736739606E-2,48800000000,1.4200819672131146E-11,162173737373.7374,-299309565327.33008,-299309.56532733008,-299.30956532733006,0,{"$error":"#DIV/0!"},-299309.56532733008]
[null,0.70287999999999995,0.02,0.70292299999999996,2.8513791695534252E-2,48800000000,1.4200819672131146E-11,162173737373.7374,-250549509132.58215,-250549.50913258214,-250.54950913258213,0,{"$error":"#DIV/0!"},-250549.50913258214]
[null,0.70367999999999997,0.01,0.70371600000000001,1.426143501071464E-2,48800000000,1.4200819672131146E-11,162173737373.7374,-299346248028.41046,-299346.24802841048,-299.34624802841046,0,{"$error":"#DIV/0!"},-299346.24802841048]
[null,0.70413000000000003,0.11,0.704399,0.15654337953347452,48800000000,1.4200819672131146E-11,162173737373.7374,-130609099785.72295,-130609.09978572295,-130.60909978572295,0,{"$error":"#DIV/0!"},-130609.09978572295]
[null,0.70284000000000002,0.06,0.70299199999999995,8.5565696337938202E-2,48800000000,1.4200819672131146E-11,162173737373.7374,-173152949828.25543,-173152.94982825543,-173.15294982825543,0,{"$error":"#DIV/0!"},-173152.94982825543]
[null,0.70284000000000002,0.01,0.70287900000000003,1.4282685924604355E-2,48800000000,1.4200819672131146E-11,162173737373.7374,-299241376921.65479,-299241.3769216548,-299.24137692165482,0,{"$error":"#DIV/0!"},-299241.3769216548]
[null,0.70309999999999995,0.08,0.70327200000000001,0.11399856669965536,48800000000,1.4200819672131146E-11,162173737373.7374,-152946150480.9577,-152946.1504809577,{"$f":"(J20/1000)","v":-152.9461504809577},0,{"$error":"#DIV/0!"},-152946.1504809577]
[null,null,null,null,null,null,null,null,"Average",{"$f":"AVERAGE(J3:J20)","v":-149487.65893521125}]
[null,null,null,null,null,null,null,null,"Maximum",{"$f":"MAX(J4:J21)","v":51967.067257264178}]
[null,null,null,null,null,null,null,null,"Minimum",{"$f":"MIN(J4:J22)","v":-299346.24802841048}]
[null,null,null,null,null,null,null,null,"Difference",{"$f":"(J22 +ABS(J23))","v":351313.31528567465}]
[]
[]
[]
[]
[null,null,null,null,null,null,"207Pb/206Pb"]
[null,null,null,"206Pb/204Pb","207Pb/204Pb","207Pb/206Pb","Age"]
[null,null,null,19.059000000000001,15.699,{"$f":"(E31/D31)","v":0.82370533606170304},{"$f":"[1]!AgePb76($F$31)","v":4963.2875186615211}]
[null,null,null,18.922000000000001,15.7,{"$f":"(E32/D32)","v":0.82972201670013734},{"$f":"[1]!AgePb76($F$32)","v":4973.631392094826},null,null,null,"Dating","87Rb/86Sr","207Pb/206Pb"]
[null,null,null,19.018000000000001,15.744999999999999,0.82789988432011774,{"$f":"[1]!AgePb76($F$33)","v":4970.507222457315},null,null,null,"Summary","Age","Age"]
[null,null,null,18.902999999999999,15.699,0.83050309474686568,{"$f":"[1]!AgePb76($F$34)","v":4974.968371148856},null,null,null,"Average",-149487.65893521125,4974.0749963804165]
[null,null,null,18.975000000000001,15.726000000000001,0.8287747035573122,{"$f":"[1]!AgePb76($F$35)","v":4972.0080705586906},null,null,null,"Maximum",51967.067257264178,5023.7498665293406]
[null,null,null,18.949000000000002,15.701000000000001,0.82859253786479492,{"$f":"[1]!AgePb76($F$36)","v":4971.6956842432337},null,null,null,"Minimum",-299346.24802841048,4844.5429693754249]
[null,null,null,18.951000000000001,15.695,0.82818848609572049,{"$f":"[1]!AgePb76($F$37)","v":4971.0025366234868},null,null,null,"Difference",351313.31528567465,179.20689715391563]
[null,null,null,18.155000000000001,15.605,0.85954282566786011,{"$f":"[1]!AgePb76($F$38)","v":5023.7498665293406}]
[null,null,null,18.385000000000002,15.597,0.84835463693228164,{"$f":"[1]!AgePb76($F$39)","v":5005.1660423103904}]
[null,null,null,18.443000000000001,15.596,0.84563248929132995,{"$f":"[1]!AgePb76($F$40)","v":5000.6051213537839}]
[null,null,null,18.446999999999999,15.58,0.84458177481433294,{"$f":"[1]!AgePb76($F$41)","v":4998.8404906895739}]
[null,null,null,19.356999999999999,15.663,0.80916464328150028,{"$f":"[1]!AgePb76($F$42)","v":4937.9538040553807}]
[null,null,null,20.753,15.728,0.7578663325784224,{"$f":"[1]!AgePb76($F$43)","v":4844.5429693754249}]
[null,null,null,18.221,15.590999999999999,0.85566105043630969,{"$f":"[1]!AgePb76($F$44)","v":5017.3314040947962}]
[null,null,null,19.067,15.62,0.81921644726490794,{"$f":"[1]!AgePb76($F$45)","v":4955.5177688308668}]
[null,null,null,18.664000000000001,15.638,0.83786969567081004,{"$f":"[1]!AgePb76($F$46)","v":4987.5125100006262}]
[null,null,null,18.545000000000002,15.576000000000001,0.83990293879751954,{"$f":"[1]!AgePb76($F$47)","v":4990.9541654389541}]
[null,null,null,null,null,"Average",{"$f":"AVERAGE(G31:G47)","v":4974.0749963804165}]
[null,null,null,null,null,"Maximum",{"$f":"MAX(G31:G48)","v":5023.7498665293406}]
[null,null,null,null,null,"Minimum",{"$f":"MIN(G31:G49)","v":4844.5429693754249}]
[null,null,null,null,null,"Difference",{"$f":"(G49 - ABS(G50))","v":179.20689715391563}]

{"sheet":"Rb-Sr _43","index":43,"n_rows":15,"n_cols":14,"rows_kept":15,"cut":false,"hidden":false,"merged":[]}
["Rubidium"," "," ",null,null,null,null,null,null,null,"Rubidium_039.pdf"]
["Strontium","Initial","Today","Today","The Ratio","Half","Decay","2.303/Delta","Age","Age","Age","Model Age","Model Age","Model Age"]
["Dating","87Sr/86Sr","87Sr/86Sr","87Rb/86Sr","Plus One","Life","Constant","Constant","Years","Million Years","Billion Years","Million Years","% Difference"," Difference"]
[null,0.71024900000000002,0.70153799999999999,4.4339999999999997E-2,{"$f":"1+((C4-B4)/D4)","v":0.803540820929183},48800000000,{"$f":"(0.693/F4)","v":1.4200819672131146E-11},{"$f":"(2.303/G4)","v":162173737373.7374},{"$f":"(LOG(E4))*(H4)","v":-15405216679.098581},{"$f":"(I4/1000000)","v":-15405.216679098581},{"$f":"(J4/1000)","v":-15.405216679098581},0,{"$f":"(J4/L4) *100","v":{"$error":"#DIV/0!"}},{"$f":"(J4-L4)","v":-15405.216679098581}]
[null,0.71024900000000002,0.705646,0.15365999999999999,0.97004425354679147,48800000000,1.4200819672131146E-11,162173737373.7374,-2142064140.9486496,-2142.0641409486498,-2.1420641409486496,0,{"$f":"(J5/L5) *100","v":{"$error":"#DIV/0!"}},{"$f":"(J5-L5)","v":-2142.0641409486498}]
[null,0.71024900000000002,0.70316199999999995,0.10181,0.93038994204891401,48800000000,1.4200819672131146E-11,162173737373.7374,-5081712954.7453289,-5081.7129547453287,-5.0817129547453286,0,{"$error":"#DIV/0!"},-5081.7129547453287]
[null,0.71024900000000002,0.70268799999999998,8.8580000000000006E-2,0.91464213140663764,48800000000,1.4200819672131146E-11,162173737373.7374,-6284037304.6071396,-6284.03730460714,-6.2840373046071401,0,{"$error":"#DIV/0!"},-6284.03730460714]
[null,0.71024900000000002,0.70867400000000003,6.3699999999999998E-3,0.75274725274725385,48800000000,1.4200819672131146E-11,162173737373.7374,-20004263621.903244,-20004.263621903243,-20.004263621903242,0,{"$error":"#DIV/0!"},-20004.263621903243]
[null,0.71024900000000002,0.70759300000000003,1.985E-2,0.86619647355163765,48800000000,1.4200819672131146E-11,162173737373.7374,-10116979729.761812,-10116.979729761812,-10.116979729761811,0,{"$error":"#DIV/0!"},-10116.979729761812]
[null,0.71024900000000002,0.70579999999999998,3.082E-2,0.85564568462037527,48800000000,1.4200819672131146E-11,162173737373.7374,-10980140842.109425,-10980.140842109424,-10.980140842109424,0,{"$error":"#DIV/0!"},-10980.140842109424]
[null,0.71024900000000002,0.70857199999999998,2.368E-2,0.92918074324324151,48800000000,1.4200819672131146E-11,162173737373.7374,-5173309672.5530262,-5173.3096725530258,-5.1733096725530254,0,{"$error":"#DIV/0!"},-5173.3096725530258]
[null,null,null,null,null,null,null,null,"Average",{"$f":"AVERAGE(J3:J11)","v":-9398.4656182158997}]
[null,null,null,null,null,null,null,null,"Maximum",{"$f":"MAX(J3:J12)","v":-2142.0641409486498}]
[null,null,null,null,null,null,null,null,"Minimum",{"$f":"MIN(J3:J13)","v":-20004.263621903243}]
[null,null,null,null,null,null,null,null,"Difference",{"$f":"(J13 +ABS(J14))","v":17862.199480954594}]

{"sheet":"Rb-Sr _44","index":44,"n_rows":158,"n_cols":26,"rows_kept":158,"cut":false,"hidden":false,"merged":[]}
["Rubidium"," "," ",null,null,null,null,null,null,null,"Iso_Plot_005.pdf",null,null,null,null,null,null,null,null,"207Pb/206Pb",null,"206Pb/238U",null,"207Pb/235U",null,"208Pb/232Th"]
["Strontium","Initial","Today","Today","The Ratio","Half","Decay","2.303/Delta","Age","Age","Age",null,null,null,null,null,null,null,null,5020,null,23366.409003307977,null,8496.0278312916835,null,44378.163257484106]
["Dating","87Sr/86Sr","87Sr/86Sr","87Rb/86Sr","Plus One","Life","Constant","Constant","Years","Million Years","Billion Years",null,null,null,null,null,null,null,null,5019,null,6607.468599499447,null,5427.5109927373742,null,9091.8750657752935]
["Mt Bureau",0.70550000000000002,0.705511,3.2399999999999998E-2,{"$f":"1+((C4-B4)/D4)","v":1.0003395061728391},48800000000,{"$f":"(0.693/F4)","v":1.4200819672131146E-11},{"$f":"(2.303/G4)","v":162173737373.7374},{"$f":"(LOG(E4))*(H4)","v":23907755.140319228},{"$f":"(I4/1000000)","v":23.907755140319228},{"$f":"(J4/1000)","v":2.3907755140319228E-2},null,null,null,null,null,null,null,null,5018,null,6328.5847658001348,null,5365.3081982149779,null,8651.007300417139]
[null,0.70548,0.705507,6.83E-2,1.0003953147877014,48800000000,1.4200819672131146E-11,162173737373.7374,27836976.945016302,27.836976945016303,2.7836976945016304E-2,null,null,null,null,null,null,null,null,5017,null,6194.2277655619928,null,5329.688479301607,null,8623.81329850369]
[null,0.70398000000000005,0.704017,9.6600000000000005E-2,1.0003830227743267,48800000000,1.4200819672131146E-11,162173737373.7374,26971572.981700409,26.971572981700408,2.6971572981700408E-2,null,null,null,null,null,null,null,null,5015,null,5726.4152306326505,null,5213.4304222281444,null,8143.5669532692691]
[null,0.70538999999999996,0.70541600000000004,6.7500000000000004E-2,1.0003851851851864,48800000000,1.4200819672131146E-11,162173737373.7374,27123815.608327925,27.123815608327924,2.7123815608327925E-2,null,null,null,null,null,null,null,null,5013,null,5354.6956494749538,null,5100.0437781156752,null,8141.8795559923601]
[null,0.70435000000000003,0.70439399999999996,0.12039999999999999,1.0003654485049829,48800000000,1.4200819672131146E-11,162173737373.7374,25734259.865460943,25.734259865460942,2.5734259865460941E-2,null,null,null,null,null,null,null,null,5012,null,5259.6871625537715,null,5081.765646860269,null,8022.7326904316224]
[null,0.70521999999999996,0.70528199999999996,0.14599999999999999,1.0004246575342466,48800000000,1.4200819672131146E-11,162173737373.7374,29902773.651891343,29.902773651891344,2.9902773651891344E-2,null,null,null,null,null,null,null,null,5012,null,5197.5115488395477,null,5061.6337280802809,null,7787.5608908116383]
[null,0.70484000000000002,0.70491099999999995,0.18290000000000001,1.0003881902679055,48800000000,1.4200819672131146E-11,162173737373.7374,27335385.256493997,27.335385256493996,2.7335385256493996E-2,null,null,null,null,null,null,null,null,5012,null,5163.0327112458226,null,5055.4105073975852,null,7518.3520473770232]
[null,0.70406000000000002,0.704094,8.6699999999999999E-2,{"$f":"1+((C11-B11)/D11)","v":1.0003921568627447},48800000000,{"$f":"(0.693/F11)","v":1.4200819672131146E-11},{"$f":"(2.303/G11)","v":162173737373.7374},{"$f":"(LOG(E11))*(H11)","v":27614648.168296352},{"$f":"(I11/1000000)","v":27.614648168296352},null,null,null,null,null,null,null,null,null,5011,null,5157.887913465458,null,5052.318047396825,null,7507.2178139711214]
[null,0.70437000000000005,0.70441100000000001,0.11210000000000001,1.0003657448706509,48800000000,1.4200819672131146E-11,162173737373.7374,25755125.614572093,25.755125614572094,null,null,null,null,null,null,null,null,null,5010,null,5131.505240843564,null,5048.2444246252753,null,7416.0749623877464]
[null,0.70404,0.70406999999999997,8.1000000000000003E-2,1.0003703703703701,48800000000,1.4200819672131146E-11,162173737373.7374,26080785.0604738,26.080785060473801,null,null,null,null,null,null,null,null,null,5009,null,5126.7573478858894,null,5036.8295234008556,null,7244.6362070260266]
[null,0.70394000000000001,0.70396499999999995,6.6600000000000006E-2,1.0003753753753746,48800000000,1.4200819672131146E-11,162173737373.7374,26433161.973202981,26.433161973202981,null,null,null,null,null,null,null,null,null,5008,null,5116.5622320735802,null,5035.2984673684023,null,7045.9281376991175]
[null,0.70457999999999998,0.70458699999999996,1.7899999999999999E-2,1.0003910614525129,48800000000,1.4200819672131146E-11,162173737373.7374,27537527.357027281,27.53752735702728,null,null,null,null,null,null,null,null,null,5007,null,5094.2864791152087,null,5034.3831227711044,null,6961.0210723731198]
[null,0.70513000000000003,0.70520300000000002,0.18329999999999999,1.0003982542280414,48800000000,1.4200819672131146E-11,162173737373.7374,28043923.022715863,28.043923022715862,null,null,null,null,null,null,null,null,null,5006,null,5093.5233105675779,null,5033.9946130656053,null,6560.2290877189398]
[null,0.70501999999999998,0.70503700000000002,4.8500000000000001E-2,1.0003505154639185,48800000000,1.4200819672131146E-11,162173737373.7374,24682884.845450569,24.68288484545057,null,null,null,null,null,null,null,null,null,5006,null,5084.2647297471931,null,5030.3613360689951,null,6547.9460742305673]
[null,0.70508999999999999,0.70526699999999998,0.44219999999999998,1.0004002713704205,48800000000,1.4200819672131146E-11,162173737373.7374,28185935.998354215,28.185935998354214,null,null,null,null,null,null,null,null,null,5006,null,4893.7087623095968,null,4964.0353209404611,null,6421.8414563510778]
[null,0.70499000000000001,0.70511400000000002,0.31269999999999998,1.0003965462104254,48800000000,1.4200819672131146E-11,162173737373.7374,27923673.149325177,27.923673149325175,null,null,null,null,null,null,null,null,null,5005,null,null,null,4944.5810960451299,null,6327.5701392697101]
[null,0.70513000000000003,0.70519100000000001,0.16239999999999999,1.0003756157635466,48800000000,1.4200819672131146E-11,162173737373.7374,26450086.435768921,26.45008643576892,null,"Mt Rabouillere","Age","Age","Age","Age","Age",null,null,5004,null,null,null,4937.5696061754024,null,6216.3270382840583]
[null,0.70504,0.70513300000000001,0.2366,1.0003930684699915,48800000000,1.4200819672131146E-11,162173737373.7374,27678828.525449034,27.678828525449035,null,"Summary","87Rb/86Sr","207Pb/206Pb","206Pb/238U","207Pb/235U","208Pb/232Th",null,null,5004,null,null,null,4914.7779399283636,null,5965.9427683144677]
[null,0.70521999999999996,0.70528800000000003,0.18229999999999999,1.0003730115194738,48800000000,1.4200819672131146E-11,162173737373.7374,26266735.137638498,26.266735137638499,null,"Average",21.127154258455139,5007.9078878136561,4902.8788678979718,4975.213057640869,6141.8160667256261,null,null,5004,null,null,null,4912.8176074381736,null,5787.2007957565302]
[null,0.70518000000000003,0.70527600000000001,0.2424,1.0003960396039604,48800000000,1.4200819672131146E-11,162173737373.7374,27888006.403189633,27.888006403189632,null,"Maximum",30.195567129615121,5019.187108886581,5354.6956494749538,5100.0437781156752,7787.5608908116383,null,null,5004,null,null,null,4878.7812808102835,null,5773.4839207275827]
[null,null,null,null,null,null,null,null,"Average",{"$f":"AVERAGE(J4:J23)","v":26.967693057033728},null,"Minimum",-7.4817041150808468,4999.624237153047,4304.9334485841282,4792.895357758639,2798.7408098089518,null,null,5003,null,null,null,4814.7078876646692,null,5639.1019504711376]
[null,null,null,null,null,null,null,null,"Maximum",{"$f":"MAX(J4:J24)","v":29.902773651891344},null,"Difference",37.677271244695966,19.562871733533939,1049.7622008908256,307.14842035703623,4988.8200810026865,null,null,5001,null,null,null,null,null,5613.0695851344444]
[null,null,null,null,null,null,null,null,"Minimum",{"$f":"MIN(J4:J25)","v":23.907755140319228},null,null,null,null,null,null,null,null,null,5001,null,null,null,null,null,5107.0919015407972]
[null,null,null,null,null,null,null,null,"Difference",{"$f":"(J25-J26)","v":5.9950185115721162},null,null,null,null,null,null,null,null,null,5000]
[null,null,null,null,null,null,null,null,null,null,null,null,null,null,null,null,null,null,null,5000]
[null,null,null,null,null,null,null,null,null,null,null,"Mount Bureau","Age","Age","Age","Age","Age",null,null,4994]
["Mt Rabouillere",0.70520000000000005,0.70529299999999995,0.27579999999999999,{"$f":"1+((C30-B30)/D30)","v":1.0003372008701954},48800000000,{"$f":"(0.693/F30)","v":1.4200819672131146E-11},{"$f":"(2.303/G30)","v":162173737373.7374},{"$f":"(LOG(E30))*(H30)","v":23745444.920935426},{"$f":"(I30/1000000)","v":23.745444920935427},null,"Summary","87Rb/86Sr","207Pb/206Pb","206Pb/238U","207Pb/235U","208Pb/232Th",null,null,4994]
[null,0.70450000000000002,0.70451600000000003,3.8899999999999997E-2,1.000411311053985,48800000000,1.4200819672131146E-11,162173737373.7374,28963158.319580834,28.963158319580835,null,"Average",26.967693057033728,5006.3758163717566,5924.0164875460177,5161.4813830459543,8410.4309526133402,null,null,4994]
[null,0.70511000000000001,0.70518999999999998,0.21240000000000001,1.0003766478342748,48800000000,1.4200819672131146E-11,162173737373.7374,26522749.042868912,26.522749042868913,null,"Maximum",29.902773651891344,5019.5896247102164,23366.409003307977,8496.0278312916835,44378.163257484106]
[null,0.70511000000000001,0.70521599999999995,0.33360000000000001,1.0003177458033572,48800000000,1.4200819672131146E-11,162173737373.7374,22375650.581294198,22.375650581294199,null,"Minimum",23.907755140319228,4993.5617181034459,3335.3667608445003,4453.661875822776,2649.904308803129]
[null,0.70504,0.705287,0.65380000000000005,1.0003777913735088,48800000000,1.4200819672131146E-11,162173737373.7374,26603259.466656446,26.603259466656446,null,"Difference",5.9950185115721162,26.027906606770557,20031.042242463478,4042.3659554689075,41728.258948680974]
[null,0.70506999999999997,0.70510399999999995,8.8400000000000006E-2,1.0003846153846152,48800000000,1.4200819672131146E-11,162173737373.7374,27083699.334323756,27.083699334323757]
[null,0.70430999999999999,0.70429600000000003,0.1318,0.99989377845220062,48800000000,1.4200819672131146E-11,162173737373.7374,-7481704.1150808465,-7.4817041150808468]
[null,0.70443999999999996,0.70445599999999997,4.1000000000000002E-2,1.0003902439024395,48800000000,1.4200819672131146E-11,162173737373.7374,27479968.842998322,27.479968842998321]
[null,0.70511999999999997,0.70516999999999996,0.1166,1.0004288164665522,48800000000,1.4200819672131146E-11,162173737373.7374,30195567.129615121,30.195567129615121]
[null,0.70513999999999999,0.70515300000000003,0.1583,1.0000821225521166,48800000000,1.4200819672131146E-11,162173737373.7374,5783749.0613591922,5.7837490613591926]
[null,null,null,null,null,null,null,null,"Average",{"$f":"AVERAGE(J30:J39)","v":21.127154258455139}]
[null,null,null,null,null,null,null,null,"Maximum",{"$f":"MAX(J30:J40)","v":30.195567129615121}]
[null,null,null,null,null,null,null,null,"Minimum",{"$f":"MIN(J30:J41)","v":-7.4817041150808468}]
[null,null,null,null,null,null,null,null,"Difference",{"$f":"(J41-J42)","v":37.677271244695966}]
[]
[]
["Table 2","Mount Bureau",null,null,null,null,null,"Age",null,"Age",null,"Age",null,"Age"]
["238U/204Pb","235U/204Pb","232Th/204Pb","206Pb/204Pb","207Pb/204Pb","208Pb/204Pb","207Pb/206Pb","207Pb/206Pb","206Pb/238U","206Pb/238U","207Pb/235U","207Pb/235U","208Pb/232Th","208Pb/232Th","Model Age"]
[10.92,7.9200000000000007E-2,162.69999999999999,18.225999999999999,15.536,38.94,{"$f":"(E48/D48)","v":0.8524086469878196},{"$f":"[1]!AgePb76(G48)","v":5011.9297484819017},{"$f":"(D48/A48)","v":1.6690476190476189},{"$f":"[1]!AgePb6U8(I48)","v":6328.5847658001348},{"$f":"(E48/B48)","v":196.16161616161614},{"$f":"[1]!AgePb7U5(K48)","v":5365.3081982149779},{"$f":"(F48/C48)","v":0.2393362015980332},{"$f":"[1]!AgePb8Th2(M48)","v":4337.0574025151682},30]
[14.75,0.107,121.1,18.283000000000001,15.536,38.97,{"$f":"(E49/D49)","v":0.84975113493409171},{"$f":"[1]!AgePb76(G49)","v":5007.4998266130551},{"$f":"(D49/A49)","v":1.2395254237288136},{"$f":"[1]!AgePb6U8(I49)","v":5197.5115488395477},{"$f":"(E49/B49)","v":145.19626168224298},{"$f":"[1]!AgePb7U5(K49)","v":5061.6337280802809},{"$f":"(F49/C49)","v":0.32180016515276633},{"$f":"[1]!AgePb8Th2(M49)","v":5639.1019504711376},30]
[11.29,8.1900000000000001E-2,67.69,18.222000000000001,15.509,38.450000000000003,{"$f":"(E50/D50)","v":0.85111403797607288},{"$f":"[1]!AgePb76(G50)","v":5009.773543723798},1.613994685562445,{"$f":"[1]!AgePb6U8(I50)","v":6194.2277655619928},189.36507936507937,{"$f":"[1]!AgePb7U5(K50)","v":5329.688479301607},0.56803072832028367,{"$f":"[1]!AgePb8Th2(M50)","v":9091.8750657752935},30]
[14.96,0.1085,117.7,18.338000000000001,15.545999999999999,39.020000000000003,0.84774784600283559,{"$f":"[1]!AgePb76(G51)","v":5004.1507201128843},1.2258021390374332,{"$f":"[1]!AgePb6U8(I51)","v":5157.887913465458},143.2811059907834,{"$f":"[1]!AgePb7U5(K51)","v":5048.2444246252753},0.3315208156329652,{"$f":"[1]!AgePb8Th2(M51)","v":5787.2007957565302},30]
[22.31,0.1618,101.1,18.27,15.536,38.68,0.85035577449370547,{"$f":"[1]!AgePb76(G52)","v":5008.5090181914238},0.81891528462572838,{"$f":"[1]!AgePb6U8(I52)","v":3856.5049215357135},96.019777503090239,{"$f":"[1]!AgePb7U5(K52)","v":4645.2910082801582},0.38259149357072209,{"$f":"[1]!AgePb8Th2(M52)","v":6547.9460742305673},30]
[15.12,0.10970000000000001,94.81,18.372,15.541,38.979999999999997,0.84590681471804918,{"$f":"[1]!AgePb76(G53)","v":5001.0654559317072},1.2150793650793652,{"$f":"[1]!AgePb6U8(I53)","v":5126.7573478858894},141.66818596171376,{"$f":"[1]!AgePb7U5(K53)","v":5036.8295234008556},0.41113806560489397,{"$f":"[1]!AgePb8Th2(M53)","v":6961.0210723731198},30]
[20.85,0.1512,277.89999999999998,18.396999999999998,15.59,38.93,0.84742077512637937,{"$f":"[1]!AgePb76(G54)","v":5003.6031235531336},0.88235011990407664,{"$f":"[1]!AgePb6U8(I54)","v":4077.4927312904301},103.10846560846561,{"$f":"[1]!AgePb7U5(K54)","v":4716.8942419675641},0.14008636200071969,{"$f":"[1]!AgePb8Th2(M54)","v":2649.904308803129},30]
[19.21,0.13930000000000001,72.97,18.481999999999999,15.555999999999999,38.83,0.8416838004544962,{"$f":"[1]!AgePb76(G55)","v":4993.9613524733704},0.96210307131702233,{"$f":"[1]!AgePb6U8(I55)","v":4344.9920616537929},111.6726489590811,{"$f":"[1]!AgePb7U5(K55)","v":4797.1637332337405},0.53213649444977384,{"$f":"[1]!AgePb8Th2(M55)","v":8623.81329850369},30]
[26.9,0.1951,134,18.228999999999999,15.478,38.520000000000003,0.84908662022052772,{"$f":"[1]!AgePb76(G56)","v":5006.3898185708231},0.67765799256505577,{"$f":"[1]!AgePb6U8(I56)","v":3335.3667608445003},79.333675038441825,{"$f":"[1]!AgePb7U5(K56)","v":4453.661875822776},0.28746268656716423,{"$f":"[1]!AgePb8Th2(M56)","v":5107.0919015407972},30]
[16.25,0.1179,78.16,18.466999999999999,15.539,38.78,0.84144690529051824,{"$f":"[1]!AgePb76(G57)","v":4993.5617181034459},1.1364307692307691,{"$f":"[1]!AgePb6U8(I57)","v":4893.7087623095968},131.79813401187445,{"$f":"[1]!AgePb7U5(K57)","v":4964.0353209404611},0.49616171954964178,{"$f":"[1]!AgePb8Th2(M57)","v":8143.5669532692691},30]
[18.809999999999999,0.13639999999999999,116.6,18.419,15.5,38.549999999999997,0.84152234106086099,{"$f":"[1]!AgePb76(G58)","v":4993.6889887429197},0.97921318447634242,{"$f":"[1]!AgePb6U8(I58)","v":4400.9629921151109},113.63636363636364,{"$f":"[1]!AgePb7U5(K58)","v":4814.7078876646692},0.33061749571183535,{"$f":"[1]!AgePb8Th2(M58)","v":5773.4839207275827},30]
[0.5,3.5999999999999999E-3,4.82,18.257000000000001,15.491,38.49,0.84849646710850624,{"$f":"[1]!AgePb76(G59)","v":5005.4032506051008},36.514000000000003,{"$f":"[1]!AgePb6U8(I59)","v":23366.409003307977},4303.0555555555557,{"$f":"[1]!AgePb7U5(K59)","v":8496.0278312916835},7.9854771784232366,{"$f":"[1]!AgePb8Th2(M59)","v":44378.163257484106},30]
[14.83,0.1076,90.03,18.204999999999998,15.526999999999999,38.81,0.85289755561658886,{"$f":"[1]!AgePb76(G60)","v":5012.7431338965898},1.2275792312879297,{"$f":"[1]!AgePb6U8(I60)","v":5163.0327112458226},144.30297397769516,{"$f":"[1]!AgePb7U5(K60)","v":5055.4105073975852},0.43107852937909585,{"$f":"[1]!AgePb8Th2(M60)","v":7244.6362070260266},30]
[10.27,7.4499999999999997E-2,248.6,18.353000000000002,15.542,38.950000000000003,0.84683702936849559,{"$f":"[1]!AgePb76(G61)","v":5002.6252324234338},1.7870496592015581,{"$f":"[1]!AgePb6U8(I61)","v":6607.468599499447},208.61744966442953,{"$f":"[1]!AgePb7U5(K61)","v":5427.5109927373742},0.15667739340305714,{"$f":"[1]!AgePb8Th2(M61)","v":2941.9217601445685},30]
[22.28,0.16159999999999999,121.4,18.297000000000001,15.51,38.86,0.84767994753238229,{"$f":"[1]!AgePb76(G62)","v":5004.0370599428852},0.821229802513465,{"$f":"[1]!AgePb6U8(I62)","v":3864.7025854143553},95.977722772277232,{"$f":"[1]!AgePb7U5(K62)","v":4644.8507792917935},0.32009884678747941,{"$f":"[1]!AgePb8Th2(M62)","v":5613.0695851344444},30]
[17.04,0.1236,93.1,18.279,15.513,38.83,0.84867881175118987,{"$f":"[1]!AgePb76(G63)","v":5005.7081567116329},1.0727112676056338,{"$f":"[1]!AgePb6U8(I63)","v":4698.5175913811418},125.50970873786407,{"$f":"[1]!AgePb7U5(K63)","v":4914.7779399283636},0.41707841031149301,{"$f":"[1]!AgePb8Th2(M63)","v":7045.9281376991175},30]
[12.67,9.1899999999999996E-2,72.37,18.131,15.51,38.659999999999997,0.85544095747614579,{"$f":"[1]!AgePb76(G64)","v":5016.966557689705},1.4310181531176007,{"$f":"[1]!AgePb6U8(I64)","v":5726.4152306326505},168.77040261153428,{"$f":"[1]!AgePb7U5(K64)","v":5213.4304222281444},0.53419925383446176,{"$f":"[1]!AgePb8Th2(M64)","v":8651.007300417139},30]
[15.2,0.11020000000000001,86.24,18.248000000000001,15.512,38.79,0.85006576063130201,{"$f":"[1]!AgePb76(G65)","v":5008.025057097464},1.2005263157894739,{"$f":"[1]!AgePb6U8(I65)","v":5084.2647297471931},140.7622504537205,{"$f":"[1]!AgePb7U5(K65)","v":5030.3613360689951},0.44979128014842301,{"$f":"[1]!AgePb8Th2(M65)","v":7507.2178139711214},30]
["XX.XX","X.XXXX",79.569999999999993,18.126999999999999,15.521000000000001,38.770000000000003,0.85623655320792202,{"$f":"[1]!AgePb76(G66)","v":5018.2849398596491},null,null,null,null,0.48724393615684314,{"$f":"[1]!AgePb8Th2(M66)","v":8022.7326904316224},30]
[14.9,0.108,78.22,18.129000000000001,15.537000000000001,38.799999999999997,0.85702465662750282,{"$f":"[1]!AgePb76(G67)","v":5019.5896247102164},1.2167114093959732,{"$f":"[1]!AgePb6U8(I67)","v":5131.505240843564},143.86111111111111,{"$f":"[1]!AgePb7U5(K67)","v":5052.318047396825},0.49603681922781895,{"$f":"[1]!AgePb8Th2(M67)","v":8141.8795559923601},30]
[null,null,null,null,null,null,"Average",{"$f":"AVERAGE(H48:H67)","v":5006.3758163717566},"Average",{"$f":"AVERAGE(J48:J67)","v":5924.0164875460177},"Average",{"$f":"AVERAGE(L48:L67)","v":5161.4813830459543},"Average",{"$f":"AVERAGE(N48:N67)","v":8410.4309526133402}]
[null,null,null,null,null,null,"Maximum",{"$f":"MAX(H48:H68)","v":5019.5896247102164},"Maximum",{"$f":"MAX(J48:J68)","v":23366.409003307977},"Maximum",{"$f":"MAX(L48:L68)","v":8496.0278312916835},"Maximum",{"$f":"MAX(N48:N68)","v":44378.163257484106}]
[null,null,null,null,null,null,"Minimum",{"$f":"MIN(H48:H69)","v":4993.5617181034459},"Minimum",{"$f":"MIN(J48:J69)","v":3335.3667608445003},"Minimum",{"$f":"MIN(L48:L69)","v":4453.661875822776},"Minimum",{"$f":"MIN(N48:N69)","v":2649.904308803129}]
[null,null,null,null,null,null,"Difference",{"$f":"(H69-H70)","v":26.027906606770557},"Difference",{"$f":"(J69-J70)","v":20031.042242463478},"Difference",{"$f":"(L69-L70)","v":4042.3659554689075},"Difference",{"$f":"(N69-N70)","v":41728.258948680974}]
[]
[]
["Table 2","Mount Rabouillere",null,null,null,null,null,"Age",null,"Age",null,"Age",null,"Age"]
["238U/204Pb","235U/204Pb","232Th/204Pb","206Pb/204Pb","207Pb/204Pb","208Pb/204Pb","207Pb/206Pb","207Pb/206Pb","206Pb/238U","206Pb/238U","207Pb/235U","207Pb/235U","208Pb/232Th","208Pb/232Th","Model Age"]
[16.62,0.1205,86.42,18.181999999999999,15.577999999999999,38.94,{"$f":"(E76/D76)","v":0.85678143218567815},{"$f":"[1]!AgePb76(G76)","v":5019.187108886581},{"$f":"(D76/A76)","v":1.093983152827918},{"$f":"[1]!AgePb6U8(I76)","v":4764.3388684356778},{"$f":"(E76/B76)","v":129.2780082987552},{"$f":"[1]!AgePb7U5(K76)","v":4944.5810960451299},{"$f":"(F76/C76)","v":0.45059014117102519},{"$f":"[1]!AgePb8Th2(M76)","v":7518.3520473770232},30]
[16.690000000000001,0.1211,158.69999999999999,18.202000000000002,15.547000000000001,38.65,{"$f":"(E77/D77)","v":0.85413690803208431},{"$f":"[1]!AgePb76(G77)","v":5014.802797998399},{"$f":"(D77/A77)","v":1.0905931695626123},{"$f":"[1]!AgePb6U8(I77)","v":4753.8942072343489},{"$f":"(E77/B77)","v":128.38150289017341},{"$f":"[1]!AgePb7U5(K77)","v":4937.5696061754024},{"$f":"(F77/C77)","v":0.24354127284183996},{"$f":"[1]!AgePb8Th2(M77)","v":4405.5214669326479},30]
[15.2,0.11020000000000001,101.4,18.416,15.568,38.880000000000003,{"$f":"(E78/D78)","v":0.84535186794092088},{"$f":"[1]!AgePb76(G78)","v":5000.1340576780012},1.2115789473684211,{"$f":"[1]!AgePb6U8(I78)","v":5116.5622320735802},141.2704174228675,{"$f":"[1]!AgePb7U5(K78)","v":5033.9946130656053},0.3834319526627219,{"$f":"[1]!AgePb8Th2(M78)","v":6560.2290877189398},30]
[15.18,0.1101,87.87,18.271999999999998,15.574,38.950000000000003,0.85234238178633981,{"$f":"[1]!AgePb76(G79)","v":5011.8194665510582},1.2036890645586298,{"$f":"[1]!AgePb6U8(I79)","v":5093.5233105675779},141.45322434150771,{"$f":"[1]!AgePb7U5(K79)","v":5035.2984673684023},0.44326846477751225,{"$f":"[1]!AgePb8Th2(M79)","v":7416.0749623877464},30]
[19.3,0.14000000000000001,113.5,18.334,15.568,38.97,0.84913275880877059,{"$f":"[1]!AgePb76(G80)","v":5006.4669184558252},0.94994818652849733,{"$f":"[1]!AgePb6U8(I80)","v":4304.9334485841282},111.19999999999999,{"$f":"[1]!AgePb7U5(K80)","v":4792.895357758639},0.34334801762114536,{"$f":"[1]!AgePb8Th2(M80)","v":5965.9427683144677},30]
[14.24,0.1033,103.7,18.437999999999999,15.581,38.119999999999997,0.84504826987742709,{"$f":"[1]!AgePb76(G81)","v":4999.624237153047},1.2948033707865167,{"$f":"[1]!AgePb6U8(I81)","v":5354.6956494749538},150.83252662149079,{"$f":"[1]!AgePb7U5(K81)","v":5100.0437781156752},0.36759884281581484,{"$f":"[1]!AgePb8Th2(M81)","v":6327.5701392697101},30]
[17.13,0.1242,82.61,18.398,15.558,38.83,0.84563539515164687,{"$f":"[1]!AgePb76(G82)","v":5000.6099983935046},1.0740221833041448,{"$f":"[1]!AgePb6U8(I82)","v":4702.5934288720227},125.26570048309178,{"$f":"[1]!AgePb7U5(K82)","v":4912.8176074381736},0.47003994673768307,{"$f":"[1]!AgePb8Th2(M82)","v":7787.5608908116383},30]
[17.739999999999998,0.12870000000000001,262.2,18.384,15.586,38.94,0.84780243690165358,{"$f":"[1]!AgePb76(G83)","v":5004.242096762373},1.0363021420518603,{"$f":"[1]!AgePb6U8(I83)","v":4584.2738920684542},121.10334110334109,{"$f":"[1]!AgePb7U5(K83)","v":4878.7812808102835},0.14851258581235699,{"$f":"[1]!AgePb8Th2(M83)","v":2798.7408098089518},30]
[14.47,0.105,108,18.25,15.553000000000001,38.89,0.85221917808219183,{"$f":"[1]!AgePb76(G84)","v":5011.6144004535772},1.2612301313061507,{"$f":"[1]!AgePb6U8(I84)","v":5259.6871625537715},148.12380952380954,{"$f":"[1]!AgePb7U5(K84)","v":5081.765646860269},0.36009259259259258,{"$f":"[1]!AgePb8Th2(M84)","v":6216.3270382840583},30]
[15.19,0.11020000000000001,104.2,18.288,15.574,38.97,0.85159667541557305,{"$f":"[1]!AgePb76(G85)","v":5010.5777958041954},1.2039499670836078,{"$f":"[1]!AgePb6U8(I85)","v":5094.2864791152087},141.32486388384754,{"$f":"[1]!AgePb7U5(K85)","v":5034.3831227711044},0.3739923224568138,{"$f":"[1]!AgePb8Th2(M85)","v":6421.8414563510778},30]
[null,null,null,null,null,null,"Average",{"$f":"AVERAGE(H76:H85)","v":5007.9078878136561},"Average",{"$f":"AVERAGE(J76:J85)","v":4902.8788678979718},"Average",{"$f":"AVERAGE(L76:L85)","v":4975.213057640869},"Average",{"$f":"AVERAGE(N76:N85)","v":6141.8160667256261}]
[null,null,null,null,null,null,"Maximum",{"$f":"MAX(H76:H86)","v":5019.187108886581},"Maximum",{"$f":"MAX(J76:J86)","v":5354.6956494749538},"Maximum",{"$f":"MAX(L76:L86)","v":5100.0437781156752},"Maximum",{"$f":"MAX(N76:N86)","v":7787.5608908116383}]
[null,null,null,null,null,null,"Minimum",{"$f":"MIN(H76:H87)","v":4999.624237153047},"Minimum",{"$f":"MIN(J76:J87)","v":4304.9334485841282},"Minimum",{"$f":"MIN(L76:L87)","v":4792.895357758639},"Minimum",{"$f":"MIN(N76:N87)","v":2798.7408098089518}]
[null,null,null,null,null,null,"Difference",{"$f":"(H87-H88)","v":19.562871733533939},"Difference",{"$f":"(J87-J88)","v":1049.7622008908256},"Difference",{"$f":"(L87-L88)","v":307.14842035703623},"Difference",{"$f":"(N87-N88)","v":4988.8200810026865}]
[]
[]
["Summary","MAXIMUM","MINIMUM","DIFFERENCE","AVERAGE","4600 To 4999","5000 To 5999 ","6,000 To 9999","10,000 To 19,999","Over 19,999","Total"]
["207Pb/206Pb",5019.5896247102164,4993.5617181034459,26.027906606770557,5006.8865068523901,4,26,null,null,null,{"$f":"SUM(F93:J93)","v":30}]
["206Pb/238U",23366.409003307977,3335.3667608445003,20031.042242463478,5571.9000669777261,5,12,3,null,1,{"$f":"SUM(F94:J94)","v":21}]
["207Pb/235U",8496.0278312916835,4453.661875822776,4042.3659554689075,5097.2509260097177,12,15,1,null,null,{"$f":"SUM(F95:J95)","v":28}]
["208Pb/232Th",44378.163257484106,2649.904308803129,41728.258948680974,7654.2259906507697,null,6,18,null,1,{"$f":"SUM(F96:J96)","v":25}]
[]
[]
["Mount Bureau","Mount Rabouillere"]
[44378.163257484106,7787.5608908116383]
[9091.8750657752935,7518.3520473770232]
[8651.007300417139,7416.0749623877464]
[8623.81329850369,6560.2290877189398]
[8143.5669532692691,6421.8414563510778]
[8141.8795559923601,6327.5701392697101]
[8022.7326904316224,6216.3270382840583]
[7507.2178139711214,5965.9427683144677]
[7244.6362070260266,4405.5214669326479]
[7045.9281376991175,2798.7408098089518]
[6961.0210723731198]
[6547.9460742305673]
[5787.2007957565302]
[5773.4839207275827]
[5639.1019504711376]
[5613.0695851344444]
[5107.0919015407972]
[4337.0574025151682]
[2941.9217601445685]
[2649.904308803129,null,null,"Today","Today","Today"]
[null,null,null,"87Sr/86Sr","87Rb/86Sr","87Sr/87Rb + 1"]
[null,null,null,0.705511,3.2399999999999998E-2,{"$f":"(D121/E121)+1","v":22.775030864197532},{"$f":"7.042 * (10^10)*LN(F121)","v":220109315097.97043}]
[null,null,null,0.705507,6.83E-2,{"$f":"(D122/E122)+1","v":11.329531478770132},{"$f":"7.042 * (10^10)*LOG(F122)","v":74237605549.20842}]
[null,null,null,0.704017,9.6600000000000005E-2,8.2879606625258795,64677085702.85392]
[null,null,null,0.70541600000000004,6.7500000000000004E-2,11.450607407407407,74562704717.447586]
[null,null,null,0.70439399999999996,0.12039999999999999,6.8504485049833885,58851332407.516747]
[null,null,null,0.70528199999999996,0.14599999999999999,5.8306986301369861,53922044280.941597]
[null,null,null,0.70491099999999995,0.18290000000000001,4.8540787315472933,48315641994.375694]
[null,null,null,0.704094,8.6699999999999999E-2,9.1210380622837377,67606317356.125603]
[null,null,null,0.70441100000000001,0.11210000000000001,7.2837734165923278,60727139611.390968]
[null,null,null,0.70406999999999997,8.1000000000000003E-2,9.6922222222222221,69463933225.030609]
[null,null,null,0.70396499999999995,6.6600000000000006E-2,11.570045045045044,74880054204.859756]
[null,null,null,0.70458699999999996,1.7899999999999999E-2,40.362402234636868,113092900768.37991]
[null,null,null,0.70520300000000002,0.18329999999999999,4.8472613202400439,48272658851.43943]
[null,null,null,0.70503700000000002,4.8500000000000001E-2,15.536845360824742,83895771418.104553]
[null,null,null,0.70526699999999998,0.44219999999999998,2.5949050203527815,29162433654.909466]
[null,null,null,0.70511400000000002,0.31269999999999998,3.254921650143908,36093104759.376717]
[null,null,null,0.70519100000000001,0.16239999999999999,5.3423091133004927,51246677115.469971]
[null,null,null,0.70513300000000001,0.2366,3.9802747252747253,42245876899.724861]
[null,null,null,0.70528800000000003,0.18229999999999999,4.8688315962698852,48408451132.747704]
[null,null,null,0.70527600000000001,0.2424,3.9095544554455444,41697602121.987198]
[]
[]
[null,null,null,null,null,"40Ar/40K",null,"MY VALUE","TRUE VALUE","Ages_011.pdf"]
[null,null,null,null,null,0.115,{"$f":"1.804 * (10^9)*LN((9.54*F144)+1)","v":1335962010.0707057},{"$f":"(G144/1000000)","v":1335.9620100707057},1348]
[null,null,null,null,null,2.6100000000000002E-2,{"$f":"1.804 * (10^9)*LN((9.54*F145)+1)","v":401098522.82904506},{"$f":"(G145/1000000)","v":401.09852282904507},401]
[null,null,null,null,null,4.2999999999999997E-2,620117279.94023097,620.11727994023101,621]
[null,null,null,null,null,3.2399999999999998E-2,485883628.08750051,485.88362808750054,486]
[null,null,null,null,null,3.56E-2,527469715.54202825,527.46971554202821,548]
[null,null,null,null,null,3.1899999999999998E-2,479298323.79644191,479.29832379644193,479]
[null,null,null,null,null,0.08,1023103133.3175306,1023.1031333175306,1030]
[null,null,null,null,null,8.3500000000000005E-2,1056946324.4057391,1056.946324405739,1067]
[null,null,null,null,null,0.1714,1747972059.4316144,1747.9720594316143,1770]
[null,null,null,null,null,6.2799999999999995E-2,846885049.21791375,846.88504921791377,738]
[null,null,null,null,null,0.1055,1256264034.4060667,1256.2640344060667,1267]
[null,null,null,null,null,4.0099999999999997E-2,584374254.04018724,584.37425404018722,585]
[null,null,null,null,null,9.8299999999999998E-2,1193425412.1545465,1193.4254121545464,1202]
[null,null,null,null,null,5.2299999999999999E-2,730186184.74208546,730.1861847420854,731]
[null,null,null,null,null,5.04E-2,708238290.08907092,708.23829008907092,710]

{"sheet":"Rb-Sr _45","index":45,"n_rows":111,"n_cols":23,"rows_kept":111,"cut":false,"hidden":false,"merged":[]}
["Rubidium"," "," ",null,null,null,null,null,null,null,"Iso_Plot_006.pdf",null,null,null,null,null,null,null,null,null,null,null,88294]
["Strontium","Initial","Today","Today","The Ratio","Half","Decay","2.303/Delta","Age","Age","Age","Model Age","Model Age","Model Age",null,null,null,null,null,null,null,null,81614]
["Dating","87Sr/86Sr","87Sr/86Sr","87Rb/86Sr","Plus One","Life","Constant","Constant","Years","Million Years","Billion Years","Million Years","% Difference"," Difference",null,null,null,null,null,null,null,null,33751]
[null,0.71435199999999999,0.71527099999999999,2.8,{"$f":"1+((C4-B4)/D4)","v":1.0003282142857144},48800000000,{"$f":"(0.693/F4)","v":1.4200819672131146E-11},{"$f":"(2.303/G4)","v":162173737373.7374},{"$f":"(LOG(E4))*(H4)","v":23112719.87064537},{"$f":"(I4/1000000)","v":23.112719870645371},{"$f":"(J4/1000)","v":2.3112719870645372E-2},0,{"$f":"(J4/L4) *100","v":{"$error":"#DIV/0!"}},{"$f":"(J4-L4)","v":23.112719870645371},null,null,null,null,null,null,null,null,33742]
[null,0.71469800000000006,0.71527600000000002,1.82,1.0003175824175825,48800000000,1.4200819672131146E-11,162173737373.7374,22364146.78612069,22.364146786120692,2.2364146786120691E-2,0,{"$f":"(J5/L5) *100","v":{"$error":"#DIV/0!"}},{"$f":"(J5-L5)","v":22.364146786120692},null,null,null,null,null,null,null,null,33191]
[null,0.71445199999999998,0.71504900000000005,1.75,1.0003411428571429,48800000000,1.4200819672131146E-11,162173737373.7374,24022989.496092066,24.022989496092066,2.4022989496092065E-2,0,{"$error":"#DIV/0!"},24.022989496092066,null,null,null,null,null,null,null,null,25015]
[null,0.73374399999999995,0.73514800000000002,4.26,1.0003295774647887,48800000000,1.4200819672131146E-11,162173737373.7374,23208698.586110581,23.208698586110582,2.3208698586110584E-2,0,{"$error":"#DIV/0!"},23.208698586110582,null,null,null,null,null,null,null,null,15053]
[null,0.70714200000000005,0.70721599999999996,0.28000000000000003,1.0002642857142854,48800000000,1.4200819672131146E-11,162173737373.7374,18611489.963464938,18.611489963464937,1.8611489963464938E-2,0,{"$error":"#DIV/0!"},18.611489963464937,null,null,null,null,null,null,null,null,13475]
[null,0.70661200000000002,0.70669400000000004,0.42,1.0001952380952381,48800000000,1.4200819672131146E-11,162173737373.7374,13749503.207849758,13.749503207849758,1.3749503207849758E-2,0,{"$error":"#DIV/0!"},13.749503207849758,null,null,null,null,null,null,null,null,13328]
[null,0.70664000000000005,0.70676399999999995,0.65,1.000190769230769,48800000000,1.4200819672131146E-11,162173737373.7374,13434816.63841233,13.434816638412331,null,null,null,null,null,null,null,null,null,null,null,null,11504]
[null,0.70672000000000001,0.70694500000000005,1.26,1.0001785714285714,48800000000,1.4200819672131146E-11,162173737373.7374,12575869.911282744,12.575869911282744,null,null,null,null,null,null,null,null,null,null,null,null,11420]
[null,0.71024600000000004,0.71137300000000003,5.75,1.0001960000000001,48800000000,1.4200819672131146E-11,162173737373.7374,13803154.548248524,13.803154548248523,null,null,null,null,null,null,null,null,null,null,null,null,11350]
[null,0.70836500000000002,0.70837300000000003,0.49,1.0000163265306123,48800000000,1.4200819672131146E-11,162173737373.7374,1149887.0907670644,1.1498870907670644,null,null,null,null,null,null,null,null,null,null,null,null,11102]
[null,0.710094,0.71018000000000003,1.21,1.0000710743801653,48800000000,1.4200819672131146E-11,162173737373.7374,5005673.1026413562,5.0056731026413566,null,null,null,null,null,null,null,null,null,null,null,null,9265]
[null,0.71017799999999998,0.71018000000000003,0.27,1.0000074074074077,48800000000,1.4200819672131146E-11,162173737373.7374,521710.35850930924,0.52171035850930925,null,null,null,null,null,null,null,null,null,null,null,null,8305]
[null,0.70809800000000001,0.70816400000000002,0.37,1.0001783783783784,48800000000,1.4200819672131146E-11,162173737373.7374,12562275.588645579,12.56227558864558,null,null,null,null,null,null,null,null,null,null,null,null,8205]
[null,0.708179,0.70824200000000004,0.34,1.0001852941176472,48800000000,1.4200819672131146E-11,162173737373.7374,13049270.569087647,13.049270569087646,null,null,null,null,null,null,null,null,null,null,null,null,8023]
[null,0.70817799999999997,0.708233,0.32,1.0001718750000002,48800000000,1.4200819672131146E-11,162173737373.7374,12104315.311481781,12.104315311481781,null,null,null,null,null,null,null,null,null,null,null,null,7783]
[null,0.70789199999999997,0.70793899999999998,0.27,1.0001740740740741,48800000000,1.4200819672131146E-11,162173737373.7374,12259171.861548977,12.259171861548976,null,null,null,null,null,null,null,null,null,null,null,null,7471]
[null,0.71397600000000006,0.71415600000000001,1.45,{"$f":"1+((C20-B20)/D20)","v":1.0001241379310344},48800000000,{"$f":"(0.693/F20)","v":1.4200819672131146E-11},{"$f":"(2.303/G20)","v":162173737373.7374},{"$f":"(LOG(E20))*(H20)","v":8742635.7546468284},{"$f":"(I20/1000000)","v":8.7426357546468285},null,null,null,null,null,null,null,null,null,null,null,null,7470]
[null,0.70886700000000002,0.70897600000000005,0.86,1.0001267441860466,48800000000,1.4200819672131146E-11,162173737373.7374,8926174.2931949534,8.9261742931949541,null,null,null,null,null,null,null,null,null,null,null,null,7349]
[null,0.70896499999999996,0.70905700000000005,0.72,{"$f":"1+((C22-B22)/D22)","v":1.0001277777777779},48800000000,{"$f":"(0.693/F22)","v":1.4200819672131146E-11},{"$f":"(2.303/G22)","v":162173737373.7374},{"$f":"(LOG(E22))*(H22)","v":8998962.0939767137},{"$f":"(I22/1000000)","v":8.9989620939767132},null,null,null,null,null,null,null,null,null,null,null,null,6682]
[null,0.70985200000000004,0.70999199999999996,1.05,1.0001333333333333,48800000000,1.4200819672131146E-11,162173737373.7374,9390195.2343659885,9.3901952343659882,null,null,null,null,null,null,null,null,null,null,null,null,6331]
[null,0.70969300000000002,0.70982100000000004,0.96,1.0001333333333333,48800000000,1.4200819672131146E-11,162173737373.7374,9390195.2343659885,9.3901952343659882,null,null,null,null,null,null,null,null,null,null,null,null,6092]
[null,null,null,null,null,null,null,null,null,{"$f":"AVERAGE(J4:J24)","v":12.713516928640914},null,null,null,null,null,null,null,null,null,null,null,null,5799]
[null,null,null,null,null,null,null,null,null,null,null,null,null,null,null,null,null,null,null,null,null,null,5567]
[null,null,null,null,null,null,null,null,null,null,null,null,null,null,null,null,null,null,null,null,null,null,5140]
[null,null,null,null,null,null,null,null,null,null,null,null,null,null,null,null,null,null,null,null,null,null,5138]
[null,null,null,null,null,null,null,null,null,null,null,null,null,null,null,null,null,null,null,null,null,null,5136]
["Table 4","North Tibet",null,"208Pb/232Th",null,null,null,null,null,"MAXIMUM","MINIMUM","DIFFERENCE","AVERAGE","4600 To 4999","5000 To 5999 ","6,000 To 9999","10,000 To 19,999","Over 19,999","Total",null,null,null,5135]
["208Pb/204Pb","232Th/204Pb","208Pb/232Th","Age","Model Age","Ratio","Percentage",null,"208Pb/232Th",88294.26279754343,4825.639072074915,83468.623725468511,24257.791817225319,1,null,3,5,4,13,null,null,null,4994]
[38.959000000000003,51.3,0.75943469785575057,{"$f":"[1]!AgePb8Th2(C32)","v":11419.758727760471},0.5,22839.517455520941,22839517.455520943,null,"206Pb/238U",33751.196897701564,4085.8676092720625,29665.329288429501,11984.576351198619,null,2,6,2,2,12,null,null,null,4992]
[39.023000000000003,51.8,0.75333976833976846,{"$f":"[1]!AgePb8Th2(C33)","v":11349.619165852151},0.5,22699.238331704302,22699238.331704304,null,"207Pb/235U",7470.608358384141,238.25719157513799,7232.3511668090032,2959.5971881363339,null,4,2,null,null,6,null,null,null,4992]
[38.859000000000002,41,0.94778048780487811,{"$f":"[1]!AgePb8Th2(C34)","v":13475.300918423836},13,1036.5616091095258,1036561.6091095258,null,"207Pb/206Pb ",4993.9836483959552,4919.2394511831753,74.744197212779909,4981.017121179957,13,null,null,null,null,13,null,null,null,4991]
[39.106000000000002,51,0.76678431372549027,{"$f":"[1]!AgePb8Th2(C35)","v":11504.014600254242},18.5,621.83862704076989,621838.6270407699,null,null,null,null,null,null,null,null,null,null,null,null,null,null,null,4989]
[38.993000000000002,0.7,55.704285714285717,{"$f":"[1]!AgePb8Th2(C36)","v":81613.942267147373},13,6277.9955590113368,6277995.5590113364,null,null,null,null,null,null,null,null,null,null,null,null,null,null,null,4987]
[38.957000000000001,0.5,77.914000000000001,{"$f":"[1]!AgePb8Th2(C37)","v":88294.26279754343},12.5,7063.5410238034747,7063541.0238034744,null,null,null,null,null,null,null,null,null,null,null,null,null,null,null,4987]
[null,null,null,null,null,null,null,null,null,null,null,null,null,null,null,null,null,null,null,null,null,null,4982]
[null,null,null,null,null,null,null,null,null,null,null,null,null,null,null,null,null,null,null,null,null,null,4980]
["Table 4","North Tibet",null,"206Pb/238U",null,null,null,null,null,null,null,null,null,null,null,null,null,null,null,null,null,null,4980]
["238U/204Pb","206Pb/204Pb","206Pb/238U","Age","Model Age","Ratio","Percentage",null,null,null,null,null,null,null,null,null,null,null,null,null,null,null,4980]
[8,18.7578,2.3447249999999999,7783.3004218757706,0.5,15566.600843751541,15566600.84375154,null,null,null,null,null,null,null,null,null,null,null,null,null,null,null,4980]
[7.6,18.782699999999998,2.4714078947368421,8022.9508140196913,0.5,16045.901628039383,16045901.628039382,null,"North Tibet","South Tibet",null,null,null,null,null,null,null,null,null,null,null,null,4919]
[7.1,18.648800000000001,2.626591549295775,8304.8718132784779,13,638.83629332911369,638836.29332911363,null,"Age","Age",null,null,null,null,null,null,null,null,null,null,null,null,4826]
[8.8000000000000007,18.715,2.1267045454545452,7348.7805900245694,18.5,397.2313832445713,397231.38324457128,null,88294.26279754343,33190.723604729152]
[0.1,18.685199999999998,186.85199999999998,33751.196897701564,13,2596.2459152078127,2596245.9152078126,null,81613.942267147373,25014.918077208516]
[0.1,18.6586,186.58599999999998,33742.062252517193,12.5,2699.3649802013756,2699364.9802013757,null,13475.300918423836,11101.892230374853]
[null,null,null,null,null,null,null,null,11504.014600254242,9265.045241572434]
[null,null,null,null,null,null,null,null,11419.758727760471,8204.5270813781917]
["Table 4","North Tibet",null,"207Pb/235U",null,null,null,null,11349.619165852151,6091.6498396095676]
["235U/204Pb ","207Pb/204Pb ","207Pb/235U","Age","Model Age","Ratio","Percentage",null,null,4825.639072074915]
[0.1,15.638,156.38,5136.4809494916353,0.5,10272.961898983271,10272961.89898327]
[0.1,15.654999999999999,156.54999999999998,5137.5771622107768,0.5,10275.154324421554,10275154.324421553]
[0.1,15.615,156.15,5134.9959519150907,13,394.99968860885315,394999.68860885315]
[0.1,15.693,156.92999999999998,5140.0232491059178,18.5,277.83909454626581,277839.09454626578,null,"North Tibet","208Pb/232Th","207Pb/235U","207Pb/206Pb ","206Pb/238U"]
[0.01,15.654999999999999,1565.5,7469.7660662966409,13,574.59738971512627,574597.38971512625,null,"Summary","Million Years","Million Years","Million Years","Million Years"]
[0.01,15.667999999999999,1566.8,7470.608358384141,12.5,597.64866867073124,597648.66867073125,null,null,11419.758727760471,5136.4809494916353,4980.3923281836787,7783.3004218757706]
[null,null,null,null,null,null,null,null,"87Rb/86Sr",11349.619165852151,5137.5771622107768,4980.0513098960646,8022.9508140196913]
[null,null,null,null,null,null,null,null,"Model Age",13475.300918423836,5134.9959519150907,4986.5793183222768,8304.8718132784779]
["Table 4","North Tibet",null,"207Pb/206Pb ",null,null,null,null,"13 Million Years",11504.014600254242,5140.0232491059178,4988.6231254672994,7348.7805900245694]
["207Pb/204Pb ","206Pb/204Pb ","207Pb/206Pb ","Age","Model Age","Ratio","Percentage",null,null,81613.942267147373,7469.7660662966409,4987.4433136892785,33751.196897701564]
[15.638,18.7578,0.83367985584663451,4980.3923281836787,0.5,9960.7846563673575,9960784.6563673578,null,null,88294.26279754343,7470.608358384141,4990.6449058727258,33742.062252517193]
[15.654999999999999,18.782699999999998,0.83347974465864871,4980.0513098960646,0.5,9960.1026197921292,9960102.6197921298]
[15.615,18.648800000000001,0.83731929132169358,4986.5793183222768,13,383.58302448632901,383583.024486329]
[15.693,18.715,0.83852524712797216,4988.6231254672994,18.5,269.65530407931345,269655.30407931347,null,"South Tibet","208Pb/232Th","207Pb/235U","207Pb/206Pb ","206Pb/238U"]
[15.654999999999999,18.685199999999998,0.83782886990773453,4987.4433136892785,13,383.64948566840604,383649.48566840607,null,"Summary","Million Years","Million Years","Million Years","Million Years"]
[15.667999999999999,18.6586,0.83972002186659234,4990.6449058727258,12.5,399.25159246981804,399251.59246981802,null,null,11101.892230374853,312.62470537627939,4982.463815562789,6331.0555203144813]
[null,null,null,null,null,null,null,null,null,6091.6498396095676,945.76592680759666,4919.2394511831753,5799.4400516298692]
[null,null,null,null,null,null,null,null,"87Rb/86Sr",9265.045241572434,265.88136223975755,4980.2821009069476,6682.2681477332317]
["Table 4","South Tibet",null,"208Pb/232Th",null,null,null,null,"Model Age",4825.639072074915,238.25719157513799,4991.6166493637202,4085.8676092720625]
["208Pb/204Pb","232Th/204Pb","208Pb/232Th","Age","Model Age","Ratio","Percentage",null,"13 Million Years",8204.5270813781917,293.86130205979606,4979.7492195072373,5567.4126235478452]
[39.527000000000001,54,0.73198148148148146,11101.892230374853,24,462.57884293228557,462578.84293228557,null,null,25014.918077208516,446.63302515661974,4993.9836483959552,13327.509265235063]
[41.503999999999998,118,0.35172881355932201,6091.6498396095676,13.8,441.42390142098316,441423.90142098314,null,null,33190.723604729152,482.28819515294902,4992.1533889882894,15052.776558432242]
[39.718000000000004,68.3,0.58152269399707179,9265.045241572434,13.8,671.38008996901692,671380.08996901696]
[39.558999999999997,146.69999999999999,0.26965916837082482,4825.639072074915,13.8,349.68399073006628,349683.99073006626]
[39.704000000000001,79.3,0.50068095838587645,8204.5270813781917,13.3,616.88173544196923,616881.73544196924]
[39.158000000000001,16,2.4473750000000001,25014.918077208516,18.8,1330.5807487876871,1330580.7487876872]
[39.161000000000001,9.4,4.1660638297872339,33190.723604729152,17.3,1918.5389366895463,1918538.9366895463]
[]
[]
["Table 4","South Tibet",null,"206Pb/238U"]
["238U/204Pb","206Pb/204Pb","206Pb/238U","Age","Model Age","Ratio","Percentage"]
[11.3,18.8718,1.6700707964601769,6331.0555203144813,24,263.79398001310341,263793.9800131034]
[13.6,19.8385,1.4587132352941177,5799.4400516298692,13.8,420.24927910361367,420249.27910361369]
[10.4,18.9236,1.819576923076923,6682.2681477332317,13.8,484.22232954588634,484222.32954588631]
[21.2,18.7577,0.88479716981132073,4085.8676092720625,13.8,296.07736299072917,296077.36299072916]
[13.8,18.930700000000002,1.3717898550724639,5567.4126235478452,13.3,418.60245289833421,418602.45289833419]
[2.7,18.642099999999999,6.904481481481481,13327.509265235063,18.8,708.91006729973742,708910.06729973736]
[2,18.6602,9.3300999999999998,15052.776558432242,17.3,870.10269123885791,870102.69123885792]
[]
[]
["Table 4","South Tibet",null,"207Pb/235U"]
["235U/204Pb ","207Pb/204Pb ","207Pb/235U","Age","Model Age","Ratio","Percentage"]
[43.7,15.756,0.36054919908466815,312.62470537627939,24,13.026029390678309,13026.029390678308]
[10.3,15.843,1.5381553398058252,945.76592680759666,13.8,68.533762812144687,68533.762812144691]
[52.7,15.775,0.29933586337760909,265.88136223975755,13.8,19.266765379692576,19266.765379692577]
[59.6,15.762,0.26446308724832213,238.25719157513799,13.8,17.265013882256376,17265.013882256375]
[47,15.775,0.33563829787234045,293.86130205979606,13.3,22.094834741338047,22094.834741338047]
[28.4,15.691000000000001,0.5525000000000001,446.63302515661974,18.8,23.757075806203176,23757.075806203175]
[25.8,15.686,0.60798449612403094,482.28819515294902,17.3,27.877930355661793,27877.930355661792]
[]
[]
["Table 4","South Tibet",null,"207Pb/206Pb "]
["207Pb/204Pb ","206Pb/204Pb ","207Pb/206Pb ","Age","Model Age","Ratio","Percentage"]
[15.756,18.8718,0.83489651225638251,4982.463815562789,24,207.60265898178287,207602.65898178288]
[15.843,19.8385,0.79859868437633896,4919.2394511831753,13.8,356.46662689733154,356466.62689733156]
[15.775,18.9236,0.83361516836119975,4980.2821009069476,13.8,360.89000731209762,360890.00731209764]
[15.762,18.7577,0.84029491888664387,4991.6166493637202,13.8,361.71135140316812,361711.35140316811]
[15.775,18.930700000000002,0.83330251918840814,4979.7492195072373,13.3,374.41723454941632,374417.23454941635]
[15.691000000000001,18.642099999999999,0.84169701911265371,4993.9836483959552,18.8,265.63742810616782,265637.42810616782]
[15.686,18.6602,0.84061264080770837,4992.1533889882894,17.3,288.56377971030571,288563.77971030574]

{"sheet":"Rb-Sr _46","index":46,"n_rows":42,"n_cols":22,"rows_kept":42,"cut":false,"hidden":false,"merged":[]}
["Rubidium",null,null,null,null,null,null,null,null,null,"Iso_Plot_007.pdf",null,null,null,null,null,null,null,null,null,null,5021]
["Strontium","Initial","Today","Today","The Ratio","Half","Decay","2.303/Delta","Age","Age","Age","Model Age","Model Age","Model Age",null,null,null,null,null,null,null,5020]
["Dating","87Sr/86Sr","87Sr/86Sr","87Rb/86Sr","Plus One","Life","Constant","Constant","Years","Million Years","Billion Years","Million Years","% Difference"," Difference",null,null,null,null,null,null,null,5023]
[null,0.70313000000000003,0.70314699999999997,2.0899999999999998E-2,{"$f":"1+((C4-B4)/D4)","v":1.0008133971291835},48800000000,{"$f":"(0.693/F4)","v":1.4200819672131146E-11},{"$f":"(2.303/G4)","v":162173737373.7374},{"$f":"(LOG(E4))*(H4)","v":57265216.214636631},{"$f":"(I4/1000000)","v":57.265216214636631},{"$f":"(J4/1000)","v":5.7265216214636629E-2},0,{"$f":"(J4/L4) *100","v":{"$error":"#DIV/0!"}},{"$f":"(J4-L4)","v":57.265216214636631},null,null,null,null,null,null,null,5024]
[null,0.70306000000000002,0.703071,1.9599999999999999E-2,1.000561224489795,48800000000,1.4200819672131146E-11,162173737373.7374,39516603.610417597,39.516603610417597,3.9516603610417596E-2,0,{"$f":"(J5/L5) *100","v":{"$error":"#DIV/0!"}},{"$f":"(J5-L5)","v":39.516603610417597},null,null,null,null,null,null,null,5023]
[null,0.70315000000000005,0.70316299999999998,2.0199999999999999E-2,1.0006435643564322,48800000000,1.4200819672131146E-11,162173737373.7374,45312404.515381217,45.312404515381218,4.5312404515381217E-2,0,{"$error":"#DIV/0!"},45.312404515381218,null,null,null,null,null,null,null,5023]
[null,0.70316000000000001,0.70317300000000005,1.84E-2,1.0007065217391327,48800000000,1.4200819672131146E-11,162173737373.7374,49743574.733199425,49.743574733199424,4.9743574733199424E-2,0,{"$error":"#DIV/0!"},49.743574733199424,null,null,null,null,null,null,null,8165]
[null,0.70298000000000005,0.70299299999999998,1.8100000000000002E-2,1.000718232044195,48800000000,1.4200819672131146E-11,162173737373.7374,50567757.964841723,50.567757964841725,5.0567757964841725E-2,0,{"$error":"#DIV/0!"},50.567757964841725,null,null,null,null,null,null,null,7800]
[null,0.70309999999999995,0.70311299999999999,1.9199999999999998E-2,1.0006770833333354,48800000000,1.4200819672131146E-11,162173737373.7374,47671627.064896941,47.671627064896938,4.7671627064896936E-2,0,{"$error":"#DIV/0!"},47.671627064896938,null,null,null,null,null,null,null,10277]
[null,0.70308999999999999,0.70311100000000004,2.24E-2,1.0009375000000023,48800000000,1.4200819672131146E-11,162173737373.7374,65998279.935883969,65.998279935883971,6.5998279935883974E-2,0,{"$error":"#DIV/0!"},65.998279935883971,null,null,null,null,null,null,null,10518]
[null,null,null,null,null,null,null,null,"Average",{"$f":"AVERAGE(J4:J10)","v":50.867923434179637},null,null,null,null,null,null,null,null,null,null,null,8360]
[null,null,null,null,null,null,null,null,"Maximum",{"$f":"MAX(J4:J11)","v":65.998279935883971},null,null,null,null,null,null,null,null,null,null,null,8529]
[null,null,null,null,null,null,null,null,"Minimum",{"$f":"MIN(J4:J12)","v":39.516603610417597},null,null,null,null,null,null,null,null,null,null,null,7929]
[null,null,null,null,null,null,null,null,"Difference",{"$f":"(J12-J13)","v":26.481676325466374},null,null,null,null,null,null,null,null,null,null,null,7403]
[null,null,null,null,null,null,null,null,null,null,null,null,null,null,null,null,null,null,null,null,null,9552]
[null,null,null,null,null,null,null,null,null,null,null,null,null,null,null,null,null,null,null,null,null,9669]
[null,null,null,null,null,null,null,null,null,null,null,null,null,null,null,null,null,null,null,null,null,8443]
["Table 9",null,null,null,"207Pb/206Pb",null,null,"208Pb/232Th",null,null,"206Pb/238U",null,null,"207Pb/235U",null,null,null,null,null,null,null,9526]
["Sample","206Pb/204Pb","207Pb/204Pb","207Pb/206Pb","Age","208Pb/204Pb","208Pb/232Th","Age","238U/204Pb","206Pb/238U","Age","235U/204Pb","207Pb/235U","Age","232Th/204Pb","206Pb/204Pb(i)","207Pb/204Pb(i)","208Pb/204Pb(i)","Total",null,null,5828]
["04YJ-1",18.062000000000001,15.498100000000001,0.85805004982836897,5021.2852309812815,38.095109999999998,0.49771505095374963,8164.5406234245802,7.46,2.4211796246648793,7928.9953978798721,0.05,309.96199999999999,5827.9643785537692,76.540000000000006,18.055,15.547000000000001,37.886000000000003,13,null,null,5641]
["04YJ-2",18.020700000000001,15.4537,0.85755270328011668,5020.4630797822874,37.925699999999999,0.47095119831118837,7800.0862093950082,8.3699999999999992,2.1530107526881723,7402.7899491442449,0.06,257.56166666666667,5640.589146843733,80.53,18.012,15.507999999999999,37.706000000000003,12,null,null,6051]
["04YJ-5",17.988099999999999,15.45313,0.85907516635998249,5022.9782305532881,37.908160000000002,0.66273006993006989,10277.127274401371,5.29,3.4003969754253305,9551.6181050253617,0.04,386.32824999999997,6050.944331353362,57.2,17.984000000000002,15.488,37.753,6,null,null,6052]
["04YJ-6",17.997599999999998,15.470599999999999,0.85959239009645738,5023.8316215120558,37.948599999999999,0.68265155603525807,10517.854600530769,5.17,3.4811605415860734,9668.8609981663358,0.04,386.76499999999999,6052.0886287535659,55.59,17.992999999999999,15.504,37.795999999999999,13,null,null,5826]
["04YJ-7",18.014900000000001,15.4748,0.85900004995864532,5022.8542472241343,38.007899999999999,0.5122358490566038,8359.5603924966017,6.66,2.7049399399399401,8442.6562325487939,0.05,309.49599999999998,5826.4416092226111,74.2,18.007999999999999,15.516999999999999,37.805,null,null,null,6051]
["04YJ-9",17.998699999999999,15.460699999999999,0.85898981593115054,5022.837354565494,37.928600000000003,0.52496332179930805,8528.9612630822867,5.32,3.3832142857142853,9526.3968440561657,0.04,386.51749999999998,6051.4403300644599,72.25,17.992999999999999,15.494999999999999,37.731000000000002]
[null,null,null,"Average",{"$f":"AVERAGE(E19:E25)","v":5022.3749607697573},null,null,{"$f":"AVERAGE(H19:H25)","v":8941.3550605551027},null,null,{"$f":"AVERAGE(K19:K25)","v":8753.5529211367957},null,null,{"$f":"AVERAGE(N19:N25)","v":5908.2447374652511}]
[null,null,null,"Maximum",{"$f":"MAX(E19:E26)","v":5023.8316215120558},null,null,{"$f":"MAX(H19:H26)","v":10517.854600530769},null,null,{"$f":"MAX(K19:K26)","v":9668.8609981663358},null,null,{"$f":"MAX(N19:N26)","v":6052.0886287535659}]
[null,null,null,"Minimum",{"$f":"MIN(E19:E27)","v":5020.4630797822874},null,null,{"$f":"MIN(H19:H27)","v":7800.0862093950082},null,null,{"$f":"MIN(K19:K27)","v":7402.7899491442449},null,null,{"$f":"MIN(N19:N27)","v":5640.589146843733}]
[null,null,null,"Difference",{"$f":"(E27-E28)","v":3.3685417297683671},null,null,{"$f":"(H27-H28)","v":2717.7683911357608},null,null,{"$f":"(K27-K28)","v":2266.0710490220908},null,null,{"$f":"(N27-N28)","v":411.49948190983287}]
[]
[]
[]
[]
[]
["Table 9","208Pb/232Th",null,null,"Dating","87Rb/86Sr","207Pb/206Pb","208Pb/232Th","206Pb/238U","207Pb/235U"]
["Sample","Age",null,null,"Summary","Age","Age","Age","Age","Age"]
["04YJ-6",10517.854600530769,null,null,"Average",50.867923434179637,5022.3749607697573,8941.3550605551027,8753.5529211367957,5908.2447374652511]
["04YJ-5",10277.127274401371,null,null,"Maximum",65.998279935883971,5023.8316215120558,10517.854600530769,9668.8609981663358,6052.0886287535659]
["04YJ-9",8528.9612630822867,null,null,"Minimum",39.516603610417597,5020.4630797822874,7800.0862093950082,7402.7899491442449,5640.589146843733]
["04YJ-7",8359.5603924966017,null,null,"Difference",26.481676325466374,3.3685417297683671,2717.7683911357608,2266.0710490220908,411.49948190983287]
["04YJ-1",8164.5406234245802]
["04YJ-2",7800.0862093950082]

{"sheet":"Rb-Sr _47","index":47,"n_rows":219,"n_cols":21,"rows_kept":219,"cut":false,"hidden":false,"merged":[]}
["Rubidium"," "," ",null,null,null,null,null,null,null,"Iso_Plot_009.pdf",null,null,null,null,null,"206Pb/238U",null,"208Pb/232Th",null,"207Pb/206Pb"]
["Strontium","Initial","Today","Today","The Ratio","Half","Decay","2.303/Delta","Age","Age","Age","Model Age","Model Age","Model Age",null,null,15747.081483703845,null,58795.521060387298,null,5235.6510568162757]
["Dating","87Sr/86Sr","87Sr/86Sr","87Rb/86Sr","Plus One","Life","Constant","Constant","Years","Million Years","Billion Years","Million Years","% Difference"," Difference",null,null,15067.109071626164,null,54206.103928655786,null,5061.6396350515342]
[null,0.70823000000000003,0.70823999999999998,8.3000000000000001E-3,{"$f":"1+((C4-B4)/D4)","v":1.001204819277103},48800000000,{"$f":"(0.693/F4)","v":1.4200819672131146E-11},{"$f":"(2.303/G4)","v":162173737373.7374},{"$f":"(LOG(E4))*(H4)","v":84805740.831105217},{"$f":"(I4/1000000)","v":84.805740831105211},{"$f":"(J4/1000)","v":8.4805740831105217E-2},0,{"$f":"(J4/L4) *100","v":{"$error":"#DIV/0!"}},{"$f":"(J4-L4)","v":84.805740831105211},null,null,14363.276191278681,null,48251.861565806168,null,5052.3545056742487]
[null,0.70682,0.70691999999999999,5.33E-2,1.0018761726078798,48800000000,1.4200819672131146E-11,162173737373.7374,132017206.88338187,132.01720688338187,0.13201720688338187,0,{"$f":"(J5/L5) *100","v":{"$error":"#DIV/0!"}},{"$f":"(J5-L5)","v":132.01720688338187},null,null,13579.762802675361,null,47975.504074554556,null,5052.1366900832882]
[null,0.7046,0.70460999999999996,7.4999999999999997E-3,1.0013333333333272,48800000000,1.4200819672131146E-11,162173737373.7374,93845662.453120917,93.845662453120923,9.3845662453120926E-2,0,{"$error":"#DIV/0!"},93.845662453120923,null,null,13204.309752226725,null,46117.019895057652,null,5050.7964926667828]
[null,0.70396000000000003,0.70403000000000004,3.6900000000000002E-2,1.0018970189701901,48800000000,1.4200819672131146E-11,162173737373.7374,133482675.60001148,133.48267560001148,0.13348267560001148,0,{"$error":"#DIV/0!"},133.48267560001148,null,null,12780.328619636475,null,42203.430893673831,null,5050.6280585126924]
[null,0.70399,0.70413000000000003,7.8E-2,1.0017948717948721,48800000000,1.4200819672131146E-11,162173737373.7374,126301587.51830034,126.30158751830034,0.12630158751830034,0,{"$error":"#DIV/0!"},126.30158751830034,null,null,11757.238536795367,null,42192.419910103199,null,5048.6734768231536]
[null,0.70401999999999998,0.70484999999999998,0.4481,1.0018522651193931,48800000000,1.4200819672131146E-11,162173737373.7374,130336507.9450687,130.33650794506869,0.13033650794506868,0,{"$error":"#DIV/0!"},130.33650794506869,null,null,11658.500951084437,null,41603.985532642393,null,5043.5448700910838]
[null,0.70416000000000001,0.70443,0.14419999999999999,{"$f":"1+((C10-B10)/D10)","v":1.001872399445215},48800000000,{"$f":"(0.693/F10)","v":1.4200819672131146E-11},{"$f":"(2.303/G10)","v":162173737373.7374},{"$f":"(LOG(E10))*(H10)","v":131751955.8192232},{"$f":"(I10/1000000)","v":131.75195581922318},{"$f":"(J10/1000)","v":0.13175195581922319},0,{"$f":"(J10/L10) *100","v":{"$error":"#DIV/0!"}},{"$f":"(J10-L10)","v":131.75195581922318},null,null,11537.396611788328,null,41342.731584170317,null,5042.7360602258132]
[null,0.70320000000000005,0.70321,2.8E-3,1.0035714285714123,48800000000,1.4200819672131146E-11,162173737373.7374,251091742.77098945,251.09174277098944,0.25109174277098945,0,{"$error":"#DIV/0!"},251.09174277098944,null,null,11312.927675323997,null,41231.065174016119,null,5042.5170281462033]
[null,0.70304999999999995,0.70306999999999997,6.1999999999999998E-3,1.0032258064516162,48800000000,1.4200819672131146E-11,162173737373.7374,226831626.82514763,226.83162682514762,0.22683162682514763,0,{"$error":"#DIV/0!"},226.83162682514762,null,null,11308.542458270533,null,39637.347257735411,null,5041.5888034735262]
[null,0.70293000000000005,0.70294999999999996,5.5999999999999999E-3,1.0035714285714123,48800000000,1.4200819672131146E-11,162173737373.7374,251091742.77098945,251.09174277098944,0.25109174277098945,0,{"$error":"#DIV/0!"},251.09174277098944,null,null,11247.757254213015,null,38124.532020389815,null,5041.2805512614186]
[null,0.70338999999999996,0.70345000000000002,3.6600000000000001E-2,1.0016393442622966,48800000000,1.4200819672131146E-11,162173737373.7374,115366380.01414676,115.36638001414676,0.11536638001414676,0,{"$error":"#DIV/0!"},115.36638001414676,null,null,10359.625090251327,null,37115.232392523598,null,5040.6109933226335]
[null,0.70354000000000005,0.70355999999999996,1.17E-2,1.0017094017093939,48800000000,1.4200819672131146E-11,162173737373.7374,120292359.30274093,120.29235930274093,0.12029235930274093,0,{"$error":"#DIV/0!"},120.29235930274093,null,null,9642.7639257679948,null,35011.946301101525,null,5037.553128273109]
[null,0.70450000000000002,0.70450999999999997,6.7999999999999996E-3,1.0014705882352875,48800000000,1.4200819672131146E-11,162173737373.7374,103499150.51451007,103.49915051451006,0.10349915051451006,0,{"$error":"#DIV/0!"},103.49915051451006,null,null,9426.5802940584254,null,33584.323763833752,null,5028.6005361731213]
[null,0.70438999999999996,0.70440000000000003,6.1000000000000004E-3,1.0016393442623057,48800000000,1.4200819672131146E-11,162173737373.7374,115366380.0147869,115.3663800147869,0.1153663800147869,0,{"$error":"#DIV/0!"},115.3663800147869,null,null,9300.100528456278,null,31555.605621972372,null,5026.777016082382]
[null,0.70426999999999995,0.70433000000000001,3.3300000000000003E-2,1.0018018018018036,48800000000,1.4200819672131146E-11,162173737373.7374,126788799.76838174,126.78879976838175,0.12678879976838175,0,{"$error":"#DIV/0!"},126.78879976838175,null,null,9122.7911436234444,null,31286.0101240968,null,5026.5276562695526]
[null,0.70455000000000001,0.70472000000000001,9.8000000000000004E-2,1.0017346938775511,48800000000,1.4200819672131146E-11,162173737373.7374,122070653.71814278,122.07065371814278,0.12207065371814278,0,{"$error":"#DIV/0!"},122.07065371814278,null,null,9014.2294258138245,null,30740.108706474457,null,5025.1146618974535]
[null,0.70445999999999998,0.70484999999999998,0.2291,1.0017023134002618,48800000000,1.4200819672131146E-11,162173737373.7374,119793971.65177514,119.79397165177514,0.11979397165177513,0,{"$error":"#DIV/0!"},119.79397165177514,null,null,8996.2734753750046,null,29704.740594480569,null,5021.2083640174324]
[null,0.70450999999999997,0.70482999999999996,0.18360000000000001,1.0017429193899781,48800000000,1.4200819672131146E-11,162173737373.7374,122648980.49537411,122.64898049537412,0.12264898049537412,0,{"$error":"#DIV/0!"},122.64898049537412,null,null,8953.5695956561485,null,27709.770122495229,null,5020.1649271111492]
[null,0.70589000000000002,0.70621,0.12870000000000001,1.0024864024864024,48800000000,1.4200819672131146E-11,162173737373.7374,174902860.02412668,174.90286002412668,0.17490286002412669,0,{"$error":"#DIV/0!"},174.90286002412668,null,null,8770.4174931854868,null,27421.673339718644,null,5017.8769696435875]
[null,0.70577000000000001,0.70609999999999995,0.1328,1.0024849397590356,48800000000,1.4200819672131146E-11,162173737373.7374,174800093.88284549,174.80009388284549,0.17480009388284548,0,{"$error":"#DIV/0!"},174.80009388284549,null,null,8507.9599800931792,null,26673.974616721516,null,5016.0252739341304]
[null,0.70294999999999996,0.70299999999999996,2.18E-2,1.0022935779816511,48800000000,1.4200819672131146E-11,162173737373.7374,161354387.29810452,161.35438729810451,0.1613543872981045,0,{"$error":"#DIV/0!"},161.35438729810451,null,null,8314.9612694733296,null,26369.118154589694,null,5015.4960636645092]
[null,0.70374000000000003,0.70377000000000001,1.0800000000000001E-2,1.0027777777777753,48800000000,1.4200819672131146E-11,162173737373.7374,195370886.02779335,195.37088602779335,0.19537088602779334,0,{"$error":"#DIV/0!"},195.37088602779335,null,null,8314.1090405229497,null,25971.851965610815,null,5014.2317517509919]
[null,0.70325000000000004,0.70352000000000003,0.13159999999999999,1.0020516717325227,48800000000,1.4200819672131146E-11,162173737373.7374,144353586.02264005,144.35358602264006,0.14435358602264006,0,{"$error":"#DIV/0!"},144.35358602264006,null,null,8071.8978269494119,null,25589.866714442047,null,5013.5104248951384]
[null,0.70359000000000005,0.70365,3.2899999999999999E-2,1.0018237082066854,48800000000,1.4200819672131146E-11,162173737373.7374,128328901.43229742,128.32890143229741,0.12832890143229742,0,{"$error":"#DIV/0!"},128.32890143229741,null,null,8024.406328344704,null,25096.010214178888,null,5013.0800842634999]
[null,0.70318000000000003,0.70357999999999998,0.1953,1.0020481310803888,48800000000,1.4200819672131146E-11,162173737373.7374,144104723.93109414,144.10472393109413,0.14410472393109414,0,{"$error":"#DIV/0!"},144.10472393109413,null,null,7603.9435329226899,null,24010.438492414803,null,5013.0018376034859]
[null,0.70340999999999998,0.70357999999999998,8.4599999999999995E-2,1.0020094562647754,48800000000,1.4200819672131146E-11,162173737373.7374,141386326.89998227,141.38632689998227,0.14138632689998226,0,{"$error":"#DIV/0!"},141.38632689998227,null,null,7503.7582666888038,null,22717.601221353034,null,5012.5757389466153]
[null,0.70338999999999996,0.70357999999999998,9.0399999999999994E-2,1.0021017699115047,48800000000,1.4200819672131146E-11,162173737373.7374,147874746.37841058,147.87474637841058,0.14787474637841058,0,{"$error":"#DIV/0!"},147.87474637841058,null,null,7056.0802907879724,null,22306.917488089526,null,5012.3449856713933]
[null,0.70435000000000003,0.70440000000000003,2.3699999999999999E-2,1.0021097046413501,48800000000,1.4200819672131146E-11,162173737373.7374,148432424.27662989,148.43242427662989,0.14843242427662989,0,{"$error":"#DIV/0!"},148.43242427662989,null,null,7002.391859358022,null,22228.325358201328,null,5012.3035907656149]
[null,0.70377000000000001,0.70386000000000004,4.6699999999999998E-2,1.0019271948608144,48800000000,1.4200819672131146E-11,162173737373.7374,135603942.46922129,135.60394246922129,0.13560394246922131,0,{"$error":"#DIV/0!"},135.60394246922129,null,null,6602.0708824597114,null,21826.960516648396,null,5011.83231012734]
[null,0.70338999999999996,0.70348999999999995,0.05,1.0019999999999998,48800000000,1.4200819672131146E-11,162173737373.7374,140721643.7187151,140.72164371871511,0.14072164371871512,0,{"$error":"#DIV/0!"},140.72164371871511,null,null,6589.0755240568997,null,21560.451569012272,null,5010.6870520946468]
[null,0.70447000000000004,0.70448,3.7000000000000002E-3,1.0027027027026905,48800000000,1.4200819672131146E-11,162173737373.7374,190097711.22203404,190.09771122203404,0.19009771122203403,0,{"$error":"#DIV/0!"},190.09771122203404,null,null,6421.0231306903152,null,19910.001377221022,null,5010.3584409414507]
[null,0.70443999999999996,0.70443999999999996,1.6999999999999999E-3,1,48800000000,1.4200819672131146E-11,162173737373.7374,0,0,0,0,{"$error":"#DIV/0!"},0,null,null,6398.0014423346747,null,19593.655731947074,null,5009.5100480796946]
[null,0.70457000000000003,0.70492999999999995,0.1789,1.0020122973728336,48800000000,1.4200819672131146E-11,162173737373.7374,141586027.86004406,141.58602786004406,0.14158602786004407,0,{"$error":"#DIV/0!"},141.58602786004406,null,null,6369.1047600488901,null,19147.755581337195,null,5007.9609749690026]
[null,0.70476000000000005,0.70496000000000003,0.22289999999999999,1.0008972633467921,48800000000,1.4200819672131146E-11,162173737373.7374,63166963.203609027,63.166963203609029,6.3166963203609025E-2,0,{"$error":"#DIV/0!"},63.166963203609029,null,null,6356.7648807817404,null,18764.60167416371,null,5006.1787645131835]
[null,0.70367999999999997,0.70379000000000003,0.21129999999999999,1.0005205868433509,48800000000,1.4200819672131146E-11,162173737373.7374,36655994.381471857,36.655994381471857,3.6655994381471858E-2,0,{"$error":"#DIV/0!"},36.655994381471857,null,null,6218.813291089682,null,18607.108879386655,null,5005.8242046521245]
[null,0.70403000000000004,0.70406000000000002,0.21,1.000142857142857,48800000000,1.4200819672131146E-11,162173737373.7374,10060875.56185055,10.060875561850549,1.0060875561850549E-2,0,{"$error":"#DIV/0!"},10.060875561850549,null,null,5862.6765480249178,null,18120.887202832822,null,5005.3344661738183]
[null,0.70430999999999999,0.70431999999999995,0.21779999999999999,1.000045913682277,48800000000,1.4200819672131146E-11,162173737373.7374,3233679.6337530022,3.233679633753002,3.2336796337530021E-3,0,{"$error":"#DIV/0!"},3.233679633753002,null,null,5860.6504187006758,null,17796.962049413236,null,5004.9312660774658]
[null,0.70443999999999996,0.70445000000000002,0.20710000000000001,1.0000482858522457,48800000000,1.4200819672131146E-11,162173737373.7374,3400746.4457796509,3.4007464457796508,3.4007464457796507E-3,0,{"$error":"#DIV/0!"},3.4007464457796508,null,null,5807.0043192631429,null,17787.321317530936,null,5004.2101637264614]
[null,0.70669000000000004,0.70670999999999995,0.20860000000000001,1.0000958772770849,48800000000,1.4200819672131146E-11,162173737373.7374,6752424.0740804886,6.7524240740804888,6.7524240740804891E-3,0,{"$error":"#DIV/0!"},6.7524240740804888,null,null,5723.5059047250234,null,17590.606073629278,null,5004.0286502135996]
[null,0.70362999999999998,0.70387,0.217,1.0011059907834101,48800000000,1.4200819672131146E-11,162173737373.7374,77853168.484688938,77.853168484688936,7.7853168484688942E-2,0,{"$error":"#DIV/0!"},77.853168484688936,null,null,5719.6940773022943,null,17536.454461811121,null,5001.5292721195246]
[null,0.70306999999999997,0.70308999999999999,0.22770000000000001,1.0000878348704436,48800000000,1.4200819672131146E-11,162173737373.7374,6186040.07697138,6.1860400769713797,6.1860400769713801E-3,0,{"$error":"#DIV/0!"},6.1860400769713797,null,null,5601.0935059530138,null,17053.916488612984,null,5001.4798538773048]
[null,0.70296999999999998,0.70298000000000005,4.0000000000000002E-4,1.0250000000001638,48800000000,1.4200819672131146E-11,162173737373.7374,1739129329.6879768,1739.1293296879769,1.7391293296879768,0,{"$error":"#DIV/0!"},1739.1293296879769,null,null,5599.3993605449523,null,16053.252976887441,null,4998.2502961884784]
[null,0.70440999999999998,0.70443999999999996,1.29E-2,1.0023255813953469,48800000000,1.4200819672131146E-11,162173737373.7374,163603230.94128117,163.60323094128117,0.16360323094128118,0,{"$error":"#DIV/0!"},163.60323094128117,null,null,5572.6590602536317,null,15299.467546059468,null,4994.8068221443073]
[null,0.70408999999999999,0.70411999999999997,1.5599999999999999E-2,1.0019230769230754,48800000000,1.4200819672131146E-11,162173737373.7374,135314468.61704049,135.31446861704049,0.1353144686170405,0,{"$error":"#DIV/0!"},135.31446861704049,null,null,5514.9150868283759,null,14340.244565530851,null,4990.0000918418746]
[null,0.70440000000000003,0.70450999999999997,4.4900000000000002E-2,1.0024498886414241,48800000000,1.4200819672131146E-11,162173737373.7374,172337479.32629907,172.33747932629907,0.17233747932629909,0,{"$error":"#DIV/0!"},172.33747932629907,null,null,5461.8327413655952,null,13844.833968252937,null,4988.8158062743805]
[null,0.70308999999999999,0.70342000000000005,0.1396,1.0023638968481379,48800000000,1.4200819672131146E-11,162173737373.7374,166295519.98346296,166.29551998346295,0.16629551998346295,0,{"$error":"#DIV/0!"},166.29551998346295,null,null,5310.998775748174,null,13772.340889623347,null,4988.1718784809182]
[null,0.70362999999999998,0.70365,7.9000000000000008E-3,1.0025316455696227,48800000000,1.4200819672131146E-11,162173737373.7374,178081407.77129221,178.08140777129222,0.17808140777129222,0,{"$error":"#DIV/0!"},178.08140777129222,null,null,5286.1447021140966,null,13651.771248144512,null,4981.966469364982]
[null,0.70355999999999996,0.70357000000000003,6.4999999999999997E-3,1.0015384615384717,48800000000,1.4200819672131146E-11,162173737373.7374,108272364.5225385,108.2723645225385,0.10827236452253849,0,{"$error":"#DIV/0!"},108.2723645225385,null,null,5119.9262126213234,null,13403.89329016583,null,4981.1133361395041]
[null,0.70348999999999995,0.70396999999999998,0.2021,1.0023750618505691,48800000000,1.4200819672131146E-11,162173737373.7374,167080025.17888522,167.08002517888522,0.16708002517888523,0,{"$error":"#DIV/0!"},167.08002517888522,null,null,5114.5423014895432,null,13403.424733091932,null,4967.415471519249]
[null,0.70354000000000005,0.70372000000000001,7.6100000000000001E-2,1.0023653088042044,48800000000,1.4200819672131146E-11,162173737373.7374,166394731.09117317,166.39473109117318,0.1663947310911732,0,{"$error":"#DIV/0!"},166.39473109117318,null,null,5041.9070789740472,null,13006.0608934099,null,4964.2124824004641]
[null,0.70342000000000005,0.70357000000000003,6.5500000000000003E-2,1.0022900763358775,48800000000,1.4200819672131146E-11,162173737373.7374,161108326.25636396,161.10832625636397,0.16110832625636395,0,{"$error":"#DIV/0!"},161.10832625636397,null,null,null,null,12171.066144951017,null,4961.5355928699191]
[null,0.70337000000000005,0.70354000000000005,7.6499999999999999E-2,1.0022222222222223,48800000000,1.4200819672131146E-11,162173737373.7374,156340040.33469716,156.34004033469716,0.15634004033469717,0,{"$error":"#DIV/0!"},156.34004033469716,null,null,null,null,11540.311312197709,null,4959.943460293186]
[null,0.70350999999999997,0.70394999999999996,0.19350000000000001,1.0022739018087856,48800000000,1.4200819672131146E-11,162173737373.7374,159971729.26483327,159.97172926483327,0.15997172926483327,0,{"$error":"#DIV/0!"},159.97172926483327,null,null,null,null,11426.710271889626,null,4959.5490393900409]
[null,0.70343999999999995,0.70379999999999998,0.15690000000000001,1.0022944550669217,48800000000,1.4200819672131146E-11,162173737373.7374,161416020.04393995,161.41602004393994,0.16141602004393993,0,{"$error":"#DIV/0!"},161.41602004393994,null,null,null,null,11377.005586671121,null,4959.2607548601145]
[null,0.70416000000000001,0.70433000000000001,7.3899999999999993E-2,1.0023004059539919,48800000000,1.4200819672131146E-11,162173737373.7374,161834187.20886615,161.83418720886615,0.16183418720886616,0,{"$error":"#DIV/0!"},161.83418720886615,null,null,null,null,11365.659932561086,null,4958.9665267759256]
[null,0.70391999999999999,0.70404999999999995,5.8299999999999998E-2,1.0022298456260714,48800000000,1.4200819672131146E-11,162173737373.7374,156875772.9462615,156.87577294626149,0.15687577294626148,0,{"$error":"#DIV/0!"},156.87577294626149,null,null,null,null,11241.436733587927,null,4958.961598541151]
[null,0.70389000000000002,0.70391000000000004,1.0500000000000001E-2,1.0019047619047639,48800000000,1.4200819672131146E-11,162173737373.7374,134026984.78592037,134.02698478592038,0.13402698478592037,0,{"$error":"#DIV/0!"},134.02698478592038,null,null,null,null,10717.972334711558,null,4952.7589979119784]
[null,0.70362000000000002,0.70384999999999998,9.7699999999999995E-2,{"$f":"1+((C61-B61)/D61)","v":1.0023541453428859},48800000000,{"$f":"(0.693/F61)","v":1.4200819672131146E-11},{"$f":"(2.303/G61)","v":162173737373.7374},{"$f":"(LOG(E61))*(H61)","v":165610326.54988417},{"$f":"(I61/1000000)","v":165.61032654988418},{"$f":"(J61/1000)","v":0.16561032654988417},0,{"$f":"(J61/L61) *100","v":{"$error":"#DIV/0!"}},{"$f":"(J61-L61)","v":165.61032654988418},null,null,null,null,10699.141035762988,null,4951.4968363299722]
[null,0.70704999999999996,0.70755999999999997,0.2697,1.0018909899888766,48800000000,1.4200819672131146E-11,162173737373.7374,133058850.18423201,133.058850184232,0.133058850184232,0,{"$error":"#DIV/0!"},133.058850184232,null,null,null,null,10698.983619843166,null,4951.4788822847049]
[null,0.70669999999999999,0.70701000000000003,0.1651,1.0018776499091462,48800000000,1.4200819672131146E-11,162173737373.7374,132121060.00105369,132.12106000105368,0.13212106000105367,0,{"$error":"#DIV/0!"},132.12106000105368,null,null,null,null,10300.20523539229,null,4947.3723466461333]
[null,0.70335000000000003,0.70389000000000002,0.28520000000000001,1.0018934081346422,48800000000,1.4200819672131146E-11,162173737373.7374,133228841.33664402,133.22884133664402,0.13322884133664403,0,{"$error":"#DIV/0!"},133.22884133664402,null,null,null,null,9356.5614324217659,null,4946.6599729124682]
[null,0.70364000000000004,0.70394000000000001,0.15659999999999999,1.0019157088122603,48800000000,1.4200819672131146E-11,162173737373.7374,134796518.18121767,134.79651818121766,0.13479651818121766,0,{"$error":"#DIV/0!"},134.79651818121766,null,null,null,null,8631.9321060631955,null,4941.9063301701026]
[null,0.70342000000000005,0.70347999999999999,3.4099999999999998E-2,1.0017595307917873,48800000000,1.4200819672131146E-11,162173737373.7374,123816895.49954818,123.81689549954818,0.12381689549954818,0,{"$error":"#DIV/0!"},123.81689549954818,null,null,null,null,8486.447511889779,null,4938.6550725522929]
[null,0.70287999999999995,0.70306999999999997,8.7099999999999997E-2,1.0021814006888636,48800000000,1.4200819672131146E-11,162173737373.7374,153471248.95516336,153.47124895516336,0.15347124895516337,0,{"$error":"#DIV/0!"},153.47124895516336,null,null,null,null,8056.9599619131932,null,4929.8696717041994]
[null,0.70293000000000005,0.70333000000000001,0.1898,1.0021074815595361,48800000000,1.4200819672131146E-11,162173737373.7374,148276179.50401169,148.27617950401168,0.14827617950401167,0,{"$error":"#DIV/0!"},148.27617950401168,null,null,null,null,6496.8245490981408,null,4928.4044588692905]
[null,0.70299999999999996,0.70318999999999998,8.72E-2,1.0021788990825691,48800000000,1.4200819672131146E-11,162173737373.7374,153295441.211081,153.295441211081,0.15329544121108099,0,{"$error":"#DIV/0!"},153.295441211081,null,null,null,null,5573.1756444656512,null,4900.7814536500937]
[null,0.70301000000000002,0.70372999999999997,0.33279999999999998,1.0021634615384614,48800000000,1.4200819672131146E-11,162173737373.7374,152210512.65907478,152.21051265907479,0.15221051265907479,0,{"$error":"#DIV/0!"},152.21051265907479,null,null,null,null,5424.9317124137187,null,4873.4031783633918]
[null,0.70309999999999995,0.70340000000000003,0.1384,1.002167630057804,48800000000,1.4200819672131146E-11,162173737373.7374,152503471.89209852,152.5034718920985,0.15250347189209851,0,{"$error":"#DIV/0!"},152.5034718920985,null,null,null,null,4869.2022578777523,null,4821.6826121966369]
[null,0.70338000000000001,0.70415000000000005,0.35659999999999997,1.0021592821088054,48800000000,1.4200819672131146E-11,162173737373.7374,151916785.43714142,151.91678543714141,0.15191678543714141,0,{"$error":"#DIV/0!"},151.91678543714141]
[null,0.70323000000000002,0.70382,0.27539999999999998,1.0021423384168482,48800000000,1.4200819672131146E-11,162173737373.7374,150725982.76118702,150.72598276118703,0.15072598276118704,0,{"$error":"#DIV/0!"},150.72598276118703]
[null,0.70301999999999998,0.70411000000000001,0.49220000000000003,1.0022145469321415,48800000000,1.4200819672131146E-11,162173737373.7374,155800657.31568399,155.80065731568399,0.15580065731568399,0,{"$error":"#DIV/0!"},155.80065731568399]
[null,0.70282999999999995,0.70323000000000002,0.18129999999999999,1.002206287920574,48800000000,1.4200819672131146E-11,162173737373.7374,155220248.50246659,155.2202485024666,0.1552202485024666,0,{"$error":"#DIV/0!"},155.2202485024666]
[null,0.70362000000000002,0.70365999999999995,1.04E-2,1.0038461538461469,48800000000,1.4200819672131146E-11,162173737373.7374,270369465.41862643,270.36946541862642,0.27036946541862644,0,{"$error":"#DIV/0!"},270.36946541862642]
[null,0.70299,0.70299999999999996,3.3E-3,1.0030303030302892,48800000000,1.4200819672131146E-11,162173737373.7374,213105031.72084972,213.10503172084972,0.21310503172084971,0,{"$error":"#DIV/0!"},213.10503172084972]
[null,0.70464000000000004,0.70498000000000005,8.7300000000000003E-2,1.0038946162657503,48800000000,1.4200819672131146E-11,162173737373.7374,273769570.09772313,273.76957009772315,0.27376957009772313,0,{"$error":"#DIV/0!"},273.76957009772315]
[null,0.70584999999999998,0.70592999999999995,1.7899999999999999E-2,1.004469273743015,48800000000,1.4200819672131146E-11,162173737373.7374,314074809.20497185,314.07480920497187,0.31407480920497188,0,{"$error":"#DIV/0!"},314.07480920497187]
[null,0.70984000000000003,0.7117,0.37269999999999998,1.0049906090689562,48800000000,1.4200819672131146E-11,162173737373.7374,350620203.81818074,350.62020381818076,0.35062020381818076,0,{"$error":"#DIV/0!"},350.62020381818076]
[null,0.70365,0.70367999999999997,6.0000000000000001E-3,1.0049999999999957,48800000000,1.4200819672131146E-11,162173737373.7374,351278330.43486911,351.27833043486913,0.35127833043486911,0,{"$error":"#DIV/0!"},351.27833043486913]
[null,0.70481000000000005,0.70498000000000005,3.4200000000000001E-2,1.0049707602339182,48800000000,1.4200819672131146E-11,162173737373.7374,349229155.72849399,349.22915572849399,0.349229155728494,0,{"$error":"#DIV/0!"},349.22915572849399]
[null,null,null,null,null,null,null,null,"Average",{"$f":"AVERAGE(J3:J82)","v":168.23028458959968}]
[null,null,null,null,null,null,null,null,"Maximum",{"$f":"MAX(J3:J82)","v":1739.1293296879769}]
[null,null,null,null,null,null,null,null,"Minimum",{"$f":"MIN(J3:J82)","v":0}]
[null,null,null,null,null,null,null,null,"Difference",{"$f":"(J84 +ABS(J85))","v":1739.1293296879769}]
[]
[]
["Sample","Table 2",null,null,null,null,null,null,null,null,null,"Table 2"]
["Number",null,null,"206Pb/238U",null,null,"208Pb/232Th",null,null,null,"207Pb/206Pb"]
["Dajiweng","238U/204Pb","206Pb/238U","Age","232Th/204Pb","208Pb/232Th","Age","206Pb/204Pb","207Pb/204Pb","207Pb/206Pb","Age","208Pb/204Pb"]
["DJB98-11",17.600000000000001,{"$f":"(H92/B92)","v":1.0888636363636364},{"$f":"[1]!AgePb6U8(C92)","v":4748.5589263610445},39.799999999999997,{"$f":"(L92/E92)","v":0.98371859296482422},{"$f":"[1]!AgePb8Th2(F92)","v":13844.833968252937},19.164000000000001,15.602,{"$f":"(I92/H92)","v":0.81413066165727399},{"$f":"[1]!AgePb76(J92)","v":4946.6599729124682},39.152000000000001]
["L",14.1,{"$f":"(H93/B93)","v":1.3525531914893618},{"$f":"[1]!AgePb6U8(C93)","v":5514.9150868283759},39.9,{"$f":"(L93/E93)","v":0.97661654135338349},{"$f":"[1]!AgePb8Th2(F93)","v":13772.340889623347},19.071000000000002,15.593,{"$f":"(I93/H93)","v":0.81762886057364581},{"$f":"[1]!AgePb76(J93)","v":4952.7589979119784},38.966999999999999]
["DJB98-18",25.2,0.73146825396825399,{"$f":"[1]!AgePb6U8(C94)","v":3538.8863837665258},121,0.31749586776859506,{"$f":"[1]!AgePb8Th2(F94)","v":5573.1756444656512},18.433,15.523999999999999,0.84218521130581014,{"$f":"[1]!AgePb76(J94)","v":4994.8068221443073},38.417000000000002]
["DJB98-20",39,0.49715384615384611,{"$f":"[1]!AgePb6U8(C95)","v":2601.5527464876791},129,0.30786821705426359,{"$f":"[1]!AgePb8Th2(F95)","v":5424.9317124137187},19.388999999999999,15.584,0.80375470627675483,{"$f":"[1]!AgePb76(J95)","v":4928.4044588692905},39.715000000000003]
["Bar"]
["BAR98-1",5.56,3.2320143884892087,{"$f":"[1]!AgePb6U8(C97)","v":9300.100528456278},14.9,2.5468456375838926,{"$f":"[1]!AgePb8Th2(F97)","v":25589.866714442047},17.97,15.478999999999999,{"$f":"(I97/H97)","v":0.86138007790762383},{"$f":"[1]!AgePb76(J97)","v":5026.777016082382},37.948]
["BAR98-6",15.8,1.2108860759493671,{"$f":"[1]!AgePb6U8(C98)","v":5114.5423014895432},80.7,0.48976456009913261,{"$f":"[1]!AgePb8Th2(F98)","v":8056.9599619131932},19.132000000000001,15.629,0.8169036169767927,{"$f":"[1]!AgePb76(J98)","v":4951.4968363299722},39.524000000000001]
["Dangqiong"]
["DQ98-9",4.42,3.9880090497737553,{"$f":"[1]!AgePb6U8(C100)","v":10359.625090251327},8.0500000000000007,4.653167701863353,{"$f":"[1]!AgePb8Th2(F100)","v":35011.946301101525},17.626999999999999,15.42,{"$f":"(I100/H100)","v":0.87479434957735303},{"$f":"[1]!AgePb76(J100)","v":5048.6734768231536},37.457999999999998]
["DQ98-12",3.55,4.9878873239436627,{"$f":"[1]!AgePb6U8(C101)","v":11537.396611788328},5.57,6.7324955116696588,{"$f":"[1]!AgePb8Th2(F101)","v":41342.731584170317},17.707000000000001,15.433999999999999,0.87163268763765733,{"$f":"[1]!AgePb76(J101)","v":5043.5448700910838},37.5]
["DQ98-14",10.4,1.7075961538461539,{"$f":"[1]!AgePb6U8(C102)","v":6421.0231306903152},19.3,1.9443523316062177,{"$f":"[1]!AgePb8Th2(F102)","v":21826.960516648396},17.759,15.414,0.86795427670476943,{"$f":"[1]!AgePb76(J102)","v":5037.553128273109},37.526000000000003]
["Xialu"]
["XL98-10",12.9,1.3737209302325581,{"$f":"[1]!AgePb6U8(C104)","v":5572.6590602536317},25.8,1.4510852713178295,{"$f":"[1]!AgePb8Th2(F104)","v":18120.887202832822},17.721,15.435,{"$f":"(I104/H104)","v":0.87100050787201633},{"$f":"[1]!AgePb76(J104)","v":5042.5170281462033},37.438000000000002]
["Dazhuqu_Dazhuka"]
["DZ98-1",1.66,10.504819277108433,{"$f":"[1]!AgePb6U8(C106)","v":15747.081483703845},5.27,7.0688804554079701,{"$f":"[1]!AgePb8Th2(F106)","v":42203.430893673831},17.437999999999999,15.395,{"$f":"(I106/H106)","v":0.88284206904461526},{"$f":"[1]!AgePb76(J106)","v":5061.6396350515342},37.253]
["DZ98-12",6.06,2.8981848184818482,{"$f":"[1]!AgePb6U8(C107)","v":8770.4174931854868},12.7,2.9390551181102365,{"$f":"[1]!AgePb8Th2(F107)","v":27709.770122495229},17.562999999999999,15.404,0.87707111541308436,{"$f":"[1]!AgePb76(J107)","v":5052.3545056742487},37.326000000000001]
["L",7.03,2.4978662873399711,{"$f":"[1]!AgePb6U8(C108)","v":8071.8978269494119},13.6,2.7422794117647062,{"$f":"[1]!AgePb8Th2(F108)","v":26673.974616721516},17.559999999999999,15.398999999999999,0.87693621867881555,{"$f":"[1]!AgePb76(J108)","v":5052.1366900832882},37.295000000000002]
["DZ98-19",5.64,3.1171985815602836,{"$f":"[1]!AgePb6U8(C109)","v":9122.7911436234444},13.9,2.6862589928057554,{"$f":"[1]!AgePb8Th2(F109)","v":26369.118154589694},17.581,15.401,0.87600250270178037,{"$f":"[1]!AgePb76(J109)","v":5050.6280585126924},37.338999999999999]
["Langceling"]
["LC98-3",24.3,0.74600823045267484,{"$f":"[1]!AgePb6U8(C111)","v":3592.7940131940122},10.5,3.5761904761904759,{"$f":"[1]!AgePb8Th2(F111)","v":30740.108706474457},18.128,15.465,{"$f":"(I111/H111)","v":0.85310017652250658},{"$f":"[1]!AgePb76(J111)","v":5013.0800842634999},37.549999999999997]
["LC98-4",24.7,0.7339676113360325,{"$f":"[1]!AgePb6U8(C112)","v":3548.1850095103969},6.14,6.1068403908794799,{"$f":"[1]!AgePb8Th2(F112)","v":39637.347257735411},18.129000000000001,15.465,0.85305311931160011,{"$f":"[1]!AgePb76(J112)","v":5013.0018376034859},37.496000000000002]
["LC98-6",3.42,5.1956140350877194,{"$f":"[1]!AgePb6U8(C113)","v":11757.238536795367},5.5,6.8330909090909095,{"$f":"[1]!AgePb8Th2(F113)","v":41603.985532642393},17.768999999999998,15.456,0.86982947830491308,{"$f":"[1]!AgePb76(J113)","v":5040.6109933226335},37.582000000000001]
["Luobusha"]
["LB98-1",5.42,3.3158671586715869,{"$f":"[1]!AgePb6U8(C115)","v":9426.5802940584254},5.64,6.6898936170212773,{"$f":"[1]!AgePb8Th2(F115)","v":41231.065174016119},17.972000000000001,15.478,{"$f":"(I115/H115)","v":0.86122857778766959},{"$f":"[1]!AgePb76(J115)","v":5026.5276562695526},37.731000000000002]
["L",5.17,3.4630560928433267,{"$f":"[1]!AgePb6U8(C116)","v":9642.7639257679948},8.81,4.2676503972758226,{"$f":"[1]!AgePb8Th2(F116)","v":33584.323763833752},17.904,15.442,0.86248882931188564,{"$f":"[1]!AgePb76(J116)","v":5028.6005361731213},37.597999999999999]
["LB98-3",2.14,8.2822429906542059,{"$f":"[1]!AgePb6U8(C117)","v":14363.276191278681},6.71,5.5943368107302529,{"$f":"[1]!AgePb8Th2(F117)","v":38124.532020389815},17.724,15.44,0.87113518393139244,{"$f":"[1]!AgePb76(J117)","v":5042.7360602258132},37.537999999999997]
["Southern"]
["Band-e-Zeyarat"]
["BZ96-4",6.92,2.6317919075144509,{"$f":"[1]!AgePb6U8(C120)","v":8314.1090405229497},27.7,1.3812274368231046,{"$f":"[1]!AgePb8Th2(F120)","v":17536.454461811121},18.212,15.523,{"$f":"(I120/H120)","v":0.85235009883593238},{"$f":"[1]!AgePb76(J120)","v":5011.83231012734},38.26]
["BZ96-6",3.83,4.7248041775456917,{"$f":"[1]!AgePb6U8(C121)","v":11247.757254213015},16.7,2.2802395209580837,{"$f":"[1]!AgePb8Th2(F121)","v":24010.438492414803},18.096,15.49,0.85599027409372241,{"$f":"[1]!AgePb76(J121)","v":5017.8769696435875},38.08]
["BZ96-10",6.91,2.6322720694645443,{"$f":"[1]!AgePb6U8(C122)","v":8314.9612694733296},33.799999999999997,1.1317455621301775,{"$f":"[1]!AgePb8Th2(F122)","v":15299.467546059468},18.189,15.509,0.85265820001099568,{"$f":"[1]!AgePb76(J122)","v":5012.3449856713933},38.253]
[]
[]
["BZ97-4-1",3.7,4.7829729729729724,{"$f":"[1]!AgePb6U8(C125)","v":11312.927675323997},3.79,9.8836411609498693,{"$f":"[1]!AgePb8Th2(F125)","v":48251.861565806168},17.696999999999999,15.404,{"$f":"(I125/H125)","v":0.87043001638695827},{"$f":"[1]!AgePb76(J125)","v":5041.5888034735262},37.459000000000003]
["L",3.47,5.1014409221902017,{"$f":"[1]!AgePb6U8(C126)","v":11658.500951084437},4.26,8.792723004694837,{"$f":"[1]!AgePb8Th2(F126)","v":46117.019895057652},17.702000000000002,15.404999999999999,0.87024065077392376,{"$f":"[1]!AgePb76(J126)","v":5041.2805512614186},37.457000000000001]
["BZ97-11-5",6.61,2.7426626323751893,{"$f":"[1]!AgePb6U8(C127)","v":8507.9599800931792},23.3,1.6363519313304722,{"$f":"[1]!AgePb8Th2(F127)","v":19593.655731947074},18.129000000000001,15.497999999999999,0.85487340724805549,{"$f":"[1]!AgePb76(J127)","v":5016.0252739341304},38.127000000000002]
["BZ97-14-1",18.899999999999999,0.97941798941798941,{"$f":"[1]!AgePb6U8(C128)","v":4401.6300193897332},49.9,0.76995991983967937,{"$f":"[1]!AgePb8Th2(F128)","v":11540.311312197709},18.510999999999999,15.537000000000001,0.83933877154124581,{"$f":"[1]!AgePb76(J128)","v":4990.0000918418746},38.420999999999999]
["BZ97-14-2",9.33,1.9631296891747052,{"$f":"[1]!AgePb6U8(C129)","v":7002.391859358022},22.8,1.6779385964912279,{"$f":"[1]!AgePb8Th2(F129)","v":19910.001377221022},18.315999999999999,15.528,0.84778335881196776,{"$f":"[1]!AgePb76(J129)","v":5004.2101637264614},38.256999999999998]
["BZ97-14-6",13.8,1.3332608695652175,{"$f":"[1]!AgePb6U8(C130)","v":5461.8327413655952},42.5,0.90308235294117645,{"$f":"[1]!AgePb8Th2(F130)","v":13006.0608934099},18.399000000000001,15.532999999999999,0.84423066471003849,{"$f":"[1]!AgePb76(J130)","v":4998.2502961884784},38.381]
["Neyriz"]
["N95-28",7.3,2.4721917808219178,{"$f":"[1]!AgePb6U8(C132)","v":8024.406328344704},15.4,2.4612337662337662,{"$f":"[1]!AgePb8Th2(F132)","v":25096.010214178888},18.047000000000001,15.473000000000001,{"$f":"(I132/H132)","v":0.85737241646811102},{"$f":"[1]!AgePb76(J132)","v":5020.1649271111492},37.902999999999999]
["N95-33",20.5,0.89146341463414625,{"$f":"[1]!AgePb6U8(C133)","v":4108.6273838403868},54.5,0.69779816513761472,{"$f":"[1]!AgePb8Th2(F133)","v":10698.983619843166},18.274999999999999,15.464,0.84618331053351581,{"$f":"[1]!AgePb76(J133)","v":5001.5292721195246},38.03]
["N96-61",10.7,1.697943925233645,{"$f":"[1]!AgePb6U8(C134)","v":6398.0014423346747},26.9,1.4109665427509295,{"$f":"[1]!AgePb8Th2(F134)","v":17787.321317530936},18.167999999999999,15.473000000000001,0.8516622633201234,{"$f":"[1]!AgePb76(J134)","v":5010.6870520946468},37.954999999999998]
["N96-62",10.8,1.6807407407407406,{"$f":"[1]!AgePb6U8(C135)","v":6356.7648807817404},24.8,1.5304032258064515,{"$f":"[1]!AgePb8Th2(F135)","v":18764.60167416371},18.152000000000001,15.477,0.85263331864257375,{"$f":"[1]!AgePb76(J135)","v":5012.3035907656149},37.954000000000001]
["N96-64",17.3,1.0535838150289016,{"$f":"[1]!AgePb6U8(C136)","v":4638.7524207971528},40.4,0.94086633663366348,{"$f":"[1]!AgePb8Th2(F136)","v":13403.424733091932},18.227,15.474,0.84896033357107592,{"$f":"[1]!AgePb76(J136)","v":5006.1787645131835},38.011000000000003]
["N14B",16.899999999999999,1.0739053254437871,{"$f":"[1]!AgePb6U8(C137)","v":4702.2302045066463},46,0.82606521739130445,{"$f":"[1]!AgePb8Th2(F137)","v":12171.066144951017},18.149000000000001,15.444000000000001,0.85095597553584224,{"$f":"[1]!AgePb76(J137)","v":5009.5100480796946},37.999000000000002]
["Albania"]
["AL-1",1.94,9.3530927835051543,{"$f":"[1]!AgePb6U8(C139)","v":15067.109071626164},5.35,7.0644859813084118,{"$f":"[1]!AgePb8Th2(F139)","v":42192.419910103199},18.145,15.474,{"$f":"(I139/H139)","v":0.8527969137503445},{"$f":"[1]!AgePb76(J139)","v":5012.5757389466153},37.795000000000002]
["AL-2",5.1100000000000003,3.0371819960861055,{"$f":"[1]!AgePb6U8(C140)","v":8996.2734753750046},19,2.0151052631578947,{"$f":"[1]!AgePb8Th2(F140)","v":22306.917488089526},15.52,15.500999999999999,0.99877577319587629,{"$f":"[1]!AgePb76(J140)","v":5235.6510568162757},38.286999999999999]
["L",6.08,3.0105263157894733,{"$f":"[1]!AgePb6U8(C141)","v":8953.5695956561485},18.3,2.0769945355191255,{"$f":"[1]!AgePb8Th2(F141)","v":22717.601221353034},18.303999999999998,15.488,0.84615384615384615,{"$f":"[1]!AgePb76(J141)","v":5001.4798538773048},38.009]
["AL-4",33,0.56424242424242432,{"$f":"[1]!AgePb6U8(C142)","v":2884.1362309362626},73.900000000000006,0.52175913396481732,{"$f":"[1]!AgePb8Th2(F142)","v":8486.447511889779},18.62,15.531000000000001,0.83410311493018263,{"$f":"[1]!AgePb76(J142)","v":4981.1133361395041},38.558]
["IA-509",13.2,1.4284848484848487,{"$f":"[1]!AgePb6U8(C143)","v":5719.6940773022943},37.4,1.0329411764705883,{"$f":"[1]!AgePb8Th2(F143)","v":14340.244565530851},18.856000000000002,15.491,0.82154221467967747,{"$f":"[1]!AgePb76(J143)","v":4959.5490393900409},38.631999999999998]
["RU-124",2.68,6.7548507462686569,{"$f":"[1]!AgePb6U8(C144)","v":13204.309752226725},10.199999999999999,3.7014705882352947,{"$f":"[1]!AgePb8Th2(F144)","v":31286.0101240968},18.103000000000002,15.47,0.85455449373032089,{"$f":"[1]!AgePb76(J144)","v":5015.4960636645092},37.755000000000003]
["RU-143",30.7,0.61596091205211734,{"$f":"[1]!AgePb6U8(C145)","v":3093.8260868319489},143,0.27239860139860139,{"$f":"[1]!AgePb8Th2(F145)","v":4869.2022578777523},18.91,15.529,0.82120571126388153,{"$f":"[1]!AgePb76(J145)","v":4958.9665267759256},38.953000000000003]
[]
[]
["95/10-13A",15.1,1.2705298013245032,{"$f":"[1]!AgePb6U8(C148)","v":5286.1447021140966},56.1,0.69939393939393935,{"$f":"[1]!AgePb8Th2(F148)","v":10717.972334711558},19.184999999999999,15.567,{"$f":"(I148/H148)","v":0.8114151681000783},{"$f":"[1]!AgePb76(J148)","v":4941.9063301701026},39.235999999999997]
["L",3.96,4.779040404040404,{"$f":"[1]!AgePb6U8(C149)","v":11308.542458270533},7.37,5.2731343283582088,{"$f":"[1]!AgePb8Th2(F149)","v":37115.232392523598},18.925000000000001,15.552,0.82177014531043591,{"$f":"[1]!AgePb76(J149)","v":4959.943460293186},38.863]
["95/10-15A",14,1.3842142857142858,{"$f":"[1]!AgePb6U8(C150)","v":5601.0935059530138},59.4,0.66462962962962968,{"$f":"[1]!AgePb8Th2(F150)","v":10300.20523539229},19.379000000000001,15.592000000000001,0.80458227978739871,{"$f":"[1]!AgePb76(J150)","v":4929.8696717041994},39.478999999999999]
["L",11.4,1.6858771929824561,{"$f":"[1]!AgePb6U8(C151)","v":6369.1047600488901},28.1,1.3876156583629891,{"$f":"[1]!AgePb8Th2(F151)","v":17590.606073629278},19.219000000000001,15.558999999999999,0.8095634528331338,{"$f":"[1]!AgePb76(J151)","v":4938.6550725522929},38.991999999999997]
["96/23-4",12.9,1.4821705426356591,{"$f":"[1]!AgePb6U8(C152)","v":5860.6504187006758},73.400000000000006,0.53275204359673023,{"$f":"[1]!AgePb8Th2(F152)","v":8631.9321060631955},19.12,15.619,0.81689330543933047,{"$f":"[1]!AgePb76(J152)","v":4951.4788822847049},39.103999999999999]
["L",8.6199999999999992,2.2027842227378192,{"$f":"[1]!AgePb6U8(C153)","v":7503.7582666888038},20.399999999999999,1.9057843137254904,{"$f":"[1]!AgePb8Th2(F153)","v":21560.451569012272},18.988,15.593,0.82120286496734785,{"$f":"[1]!AgePb76(J153)","v":4958.961598541151},38.878]
["96/24-1",11.8,1.6239830508474575,{"$f":"[1]!AgePb6U8(C154)","v":6218.813291089682},51.6,0.75571705426356584,{"$f":"[1]!AgePb8Th2(F154)","v":11377.005586671121},19.163,15.609,0.81453843343944055,{"$f":"[1]!AgePb76(J154)","v":4947.3723466461333},38.994999999999997]
["L",10.6,1.7847169811320756,{"$f":"[1]!AgePb6U8(C155)","v":6602.0708824597114},27.4,1.412116788321168,{"$f":"[1]!AgePb8Th2(F155)","v":17796.962049413236},18.917999999999999,15.593,0.82424146315678193,{"$f":"[1]!AgePb76(J155)","v":4964.2124824004641},38.692]
["96/8-10A",9.43,1.9879109225874867,{"$f":"[1]!AgePb6U8(C156)","v":7056.0802907879724},52.2,0.75473180076628343,{"$f":"[1]!AgePb8Th2(F156)","v":11365.659932561086},18.745999999999999,15.714,0.83825882855009082,{"$f":"[1]!AgePb76(J156)","v":4988.1718784809182},39.396999999999998]
["L",8.31,{"$f":"(H157/B157)","v":2.2529482551143203},{"$f":"[1]!AgePb6U8(C157)","v":7603.9435329226899},32.4,{"$f":"(L157/E157)","v":1.2127469135802469},{"$f":"[1]!AgePb8Th2(F157)","v":16053.252976887441},18.722000000000001,15.701000000000001,0.83863903429120812,{"$f":"[1]!AgePb76(J157)","v":4988.8158062743805},39.292999999999999]
["96/34-2",12.5,1.4616,{"$f":"[1]!AgePb6U8(C158)","v":5807.0043192631429},40.6,0.94091133004926109,{"$f":"[1]!AgePb8Th2(F158)","v":13403.89329016583},18.27,15.53,0.85002736726874661,{"$f":"[1]!AgePb76(J158)","v":5007.9609749690026},38.201000000000001]
["96/34-3",14.3,1.2793006993006992,{"$f":"[1]!AgePb6U8(C159)","v":5310.998775748174},39.5,0.96486075949367089,{"$f":"[1]!AgePb8Th2(F159)","v":13651.771248144512},18.294,15.526999999999999,0.84874822346124401,{"$f":"[1]!AgePb76(J159)","v":5005.8242046521245},38.112000000000002]
["96/34-4",12.2,1.482950819672131,{"$f":"[1]!AgePb6U8(C160)","v":5862.6765480249178},28.7,1.3250522648083625,{"$f":"[1]!AgePb8Th2(F160)","v":17053.916488612984},18.091999999999999,15.523,0.85800353747512714,{"$f":"[1]!AgePb76(J160)","v":5021.2083640174324},38.029000000000003]
["DSDP"]
["261-34R-2",60.2,0.31347176079734218,{"$f":"[1]!AgePb6U8(C162)","v":1757.7684493776885},24.9,1.5107630522088356,{"$f":"[1]!AgePb8Th2(F162)","v":18607.108879386655},18.870999999999999,15.525,{"$f":"(I162/H162)","v":0.82269090138307466},{"$f":"[1]!AgePb76(J162)","v":4961.5355928699191},37.618000000000002]
["261-35R-2",60.3,0.31145936981757877,{"$f":"[1]!AgePb6U8(C163)","v":1747.8842218319473},11.2,3.3476785714285717,{"$f":"[1]!AgePb8Th2(F163)","v":29704.740594480569},18.780999999999999,15.515000000000001,0.8261008466002876,{"$f":"[1]!AgePb76(J163)","v":4967.415471519249},37.494]
["L",65.400000000000006,0.28899082568807333,{"$f":"[1]!AgePb6U8(C164)","v":1636.4841678946445},3.85,9.7358441558441555,{"$f":"[1]!AgePb8Th2(F164)","v":47975.504074554556},18.899999999999999,15.523999999999999,0.82137566137566143,{"$f":"[1]!AgePb76(J164)","v":4959.2607548601145},37.482999999999997]
["261-35R-4",108,0.18688888888888891,{"$f":"[1]!AgePb6U8(C165)","v":1104.4996266324524},50.1,0.76003992015968069,{"$f":"[1]!AgePb8Th2(F165)","v":11426.710271889626},20.184000000000001,15.609,0.77333531510107012,{"$f":"[1]!AgePb76(J165)","v":4873.4031783633918},38.078000000000003]
["L",47.1,0.44609341825902332,{"$f":"[1]!AgePb6U8(C166)","v":2377.8612490244577},101,0.3790990099009901,{"$f":"[1]!AgePb8Th2(F166)","v":6496.8245490981408},21.010999999999999,15.670999999999999,0.74584741325972115,{"$f":"[1]!AgePb76(J166)","v":4821.6826121966369},38.289000000000001]
["261-37R-2",12.7,1.4299212598425197,{"$f":"[1]!AgePb6U8(C167)","v":5723.5059047250234},18.8,2.0034042553191491,{"$f":"[1]!AgePb8Th2(F167)","v":22228.325358201328},18.16,15.497,0.85335903083700437,{"$f":"[1]!AgePb76(J167)","v":5013.5104248951384},37.664000000000001]
["L",15,1.2127333333333332,{"$f":"[1]!AgePb6U8(C168)","v":5119.9262126213234},10,3.7646000000000002,{"$f":"[1]!AgePb8Th2(F168)","v":31555.605621972372},18.190999999999999,15.489000000000001,0.85146501016986431,{"$f":"[1]!AgePb76(J168)","v":5010.3584409414507},37.646000000000001]
["ODP"]
["765C-63R-4",110,0.17934545454545456,{"$f":"[1]!AgePb6U8(C170)","v":1063.3978084584596},13,2.8833076923076919,{"$f":"[1]!AgePb8Th2(F170)","v":27421.673339718644},19.728000000000002,15.552,{"$f":"(I170/H170)","v":0.7883211678832116},{"$f":"[1]!AgePb76(J170)","v":4900.7814536500937},37.482999999999997]
["765D-21R-1",13.1,1.383587786259542,{"$f":"[1]!AgePb6U8(C171)","v":5599.3993605449523},23.9,1.5788284518828453,{"$f":"[1]!AgePb8Th2(F171)","v":19147.755581337195},18.125,15.475,0.85379310344827586,{"$f":"[1]!AgePb76(J171)","v":5014.2317517509919},37.734000000000002]
["Paleotethyan"]
["Mayodia"]
["AP-146",19,0.96084210526315794,{"$f":"[1]!AgePb6U8(C174)","v":4340.8478743828246},64.599999999999994,0.58869969040247683,{"$f":"[1]!AgePb8Th2(F174)","v":9356.5614324217659},18.256,15.484999999999999,{"$f":"(I174/H174)","v":0.8482142857142857},{"$f":"[1]!AgePb76(J174)","v":5004.9312660774658},38.03]
["AP-148",10.1,1.7791089108910894,{"$f":"[1]!AgePb6U8(C175)","v":6589.0755240568997},51,0.74398039215686274,{"$f":"[1]!AgePb8Th2(F175)","v":11241.436733587927},17.969000000000001,15.46,0.8603706383215538,{"$f":"[1]!AgePb76(J175)","v":5025.1146618974535},37.942999999999998]
["Lancang"]
["HN-4",2.94,6.2612244897959188,{"$f":"[1]!AgePb6U8(C177)","v":12780.328619636475},2.82,13.612056737588654,{"$f":"[1]!AgePb8Th2(F177)","v":54206.103928655786},18.408000000000001,15.603999999999999,{"$f":"(I177/H177)","v":0.84767492394611033},{"$f":"[1]!AgePb76(J177)","v":5004.0286502135996},38.386000000000003]
["Ailaoshan"]
["LZK",2.56,7.2199218749999998,{"$f":"[1]!AgePb6U8(C179)","v":13579.762802675361},2.23,17.336771300448433,{"$f":"[1]!AgePb8Th2(F179)","v":58795.521060387298},18.483000000000001,15.682,{"$f":"(I179/H179)","v":0.84845533733701239},{"$f":"[1]!AgePb76(J179)","v":5005.3344661738183},38.661000000000001]
["Changning_Menglian"]
["MW-10",5.78,3.0484429065743943,{"$f":"[1]!AgePb6U8(C181)","v":9014.2294258138245},14.4,2.6145138888888888,{"$f":"[1]!AgePb8Th2(F181)","v":25971.851965610815},17.62,15.436999999999999,{"$f":"(I181/H181)","v":0.87610669693530074},{"$f":"[1]!AgePb76(J181)","v":5050.7964926667828},37.649000000000001]
["MX",15.7,1.1861146496815287,{"$f":"[1]!AgePb6U8(C182)","v":5041.9070789740472},56.2,0.6978113879003558,{"$f":"[1]!AgePb8Th2(F182)","v":10699.141035762988},18.622,15.542,0.83460423155407581,{"$f":"[1]!AgePb76(J182)","v":4981.966469364982},39.216999999999999]
[null,null,"Average",{"$f":"AVERAGE(D92:D182)","v":7014.1402514935289},null,"Average",{"$f":"AVERAGE(G92:G182)","v":22675.450550113088},null,null,"Average",{"$f":"AVERAGE(K92:K182)","v":4998.7408020193316}]
[null,null,"Maximum",{"$f":"MAX(D92:D183)","v":15747.081483703845},null,"Maximum",{"$f":"MAX(G92:G183)","v":58795.521060387298},null,null,"Maximum",{"$f":"MAX(K92:K183)","v":5235.6510568162757}]
[null,null,"Minimum",{"$f":"MIN(D181:D184)","v":5041.9070789740472},null,"Minimum",{"$f":"MIN(G181:G184)","v":10699.141035762988},null,null,"Minimum",{"$f":"MIN(K181:K184)","v":4981.966469364982}]
[null,null,"Difference",{"$f":"(D184-ABS(D185))","v":10705.174404729798},null,"Difference",{"$f":"(G184-ABS(G185))","v":48096.380024624312},null,null,"Difference",{"$f":"(K184-ABS(K185))","v":253.68458745129374}]
[]
[]
[null,null,null,null,null,null,"Table 2"]
[]
["Dating","87Rb/86Sr","207Pb/206Pb","208Pb/232Th","206Pb/238U"]
["Summary","Age","Age","Age","Age"]
["Average",168.23028458959968,4998.7408020193316,22356.078007153752,7014.1402514935289]
["Maximum",1739.1293296879769,5235.6510568162757,58795.521060387298,15747.081483703845]
["Minimum",0,4981.966469364982,10699.141035762988,5041.9070789740472]
["Difference",1739.1293296879769,253.68458745129374,48096.380024624312,10705.174404729798]
[]
[]
[]
["208Pb/232Th","208Pb/232Th","208Pb/232Th","208Pb/232Th",null,"206Pb/238U","206Pb/238U","206Pb/238U","206Pb/238U","206Pb/238U"]
["Age","Age","Age","Age",null,"Age","Age","Age","Age","Age"]
[58795.521060387298,29704.740594480569,18607.108879386655,11426.710271889626,null,15747.081483703845,11308.542458270533,8770.4174931854868,6602.0708824597114,5723.5059047250234]
[54206.103928655786,27709.770122495229,18120.887202832822,11377.005586671121,null,15067.109071626164,11247.757254213015,8507.9599800931792,6589.0755240568997,5719.6940773022943]
[48251.861565806168,27421.673339718644,17796.962049413236,11365.659932561086,null,14363.276191278681,10359.625090251327,8314.9612694733296,6421.0231306903152,5601.0935059530138]
[47975.504074554556,26673.974616721516,17787.321317530936,11241.436733587927,null,13579.762802675361,9642.7639257679948,8314.1090405229497,6398.0014423346747,5599.3993605449523]
[46117.019895057652,26369.118154589694,17590.606073629278,10717.972334711558,null,13204.309752226725,9426.5802940584254,8071.8978269494119,6369.1047600488901,5572.6590602536317]
[42203.430893673831,25971.851965610815,17536.454461811121,10699.141035762988,null,12780.328619636475,9300.100528456278,8024.406328344704,6356.7648807817404,5514.9150868283759]
[42192.419910103199,25589.866714442047,17053.916488612984,10698.983619843166,null,11757.238536795367,9122.7911436234444,7603.9435329226899,6218.813291089682,5461.8327413655952]
[41603.985532642393,25096.010214178888,16053.252976887441,10300.20523539229,null,11658.500951084437,9014.2294258138245,7503.7582666888038,5862.6765480249178,5310.998775748174]
[41342.731584170317,24010.438492414803,15299.467546059468,9356.5614324217659,null,11537.396611788328,8996.2734753750046,7056.0802907879724,5860.6504187006758,5286.1447021140966]
[41231.065174016119,22717.601221353034,14340.244565530851,8631.9321060631955,null,11312.927675323997,8953.5695956561485,7002.391859358022,5807.0043192631429,5119.9262126213234]
[39637.347257735411,22306.917488089526,13844.833968252937,8486.447511889779]
[38124.532020389815,22228.325358201328,13772.340889623347,8056.9599619131932]
[37115.232392523598,21826.960516648396,13651.771248144512,6496.8245490981408]
[35011.946301101525,21560.451569012272,13403.89329016583,5573.1756444656512]
[33584.323763833752,19910.001377221022,13403.424733091932,5424.9317124137187]
[31555.605621972372,19593.655731947074,13006.0608934099,4869.2022578777523]
[31286.0101240968,19147.755581337195,12171.066144951017]
[30740.108706474457,18764.60167416371,11540.311312197709]

{"sheet":"Rb-Sr _48","index":48,"n_rows":70,"n_cols":17,"rows_kept":70,"cut":false,"hidden":false,"merged":[]}
["Rubidium"," "," ",null,null,null,null,null,null,null,"Iso_Plot_016.pdf",null,null,null,null,null,99275]
["Strontium","Initial","Today","Today","The Ratio","Half","Decay","2.303/Delta","Age","Age","Age","Model Age","Model Age","Model Age",null,null,95541]
["Dating","87Sr/86Sr","87Sr/86Sr","87Rb/86Sr","Plus One","Life","Constant","Constant","Years","Million Years","Billion Years","Million Years","% Difference"," Difference",null,null,71706]
[null,0.72184999999999999,0.72253999999999996,2.0920000000000001,{"$f":"1+((C4-B4)/D4)","v":1.0003298279158699},48800000000,{"$f":"(0.693/F4)","v":1.4200819672131146E-11},{"$f":"(2.303/G4)","v":162173737373.7374},{"$f":"(LOG(E4))*(H4)","v":23226332.332202166},{"$f":"(I4/1000000)","v":23.226332332202166},{"$f":"(J4/1000)","v":2.3226332332202164E-2},0,{"$f":"(J4/L4) *100","v":{"$error":"#DIV/0!"}},{"$f":"(J4-L4)","v":23.226332332202166},null,null,70277]
[null,0.72119,0.74631999999999998,76.941999999999993,1.0003266096540251,48800000000,1.4200819672131146E-11,162173737373.7374,22999740.791299891,22.999740791299892,2.2999740791299891E-2,0,{"$f":"(J5/L5) *100","v":{"$error":"#DIV/0!"}},{"$f":"(J5-L5)","v":22.999740791299892},null,null,68343]
[null,0.71924999999999994,0.71991000000000005,2.5910000000000002,1.0002547279042842,48800000000,1.4200819672131146E-11,162173737373.7374,17938496.971436296,17.938496971436297,1.7938496971436298E-2,0,{"$error":"#DIV/0!"},17.938496971436297,null,null,67704]
[null,0.71941999999999995,0.72009000000000001,2.6030000000000002,1.0002573953131002,48800000000,1.4200819672131146E-11,162173737373.7374,18126317.572901782,18.126317572901783,1.8126317572901784E-2,0,{"$error":"#DIV/0!"},18.126317572901783,null,null,6944]
[null,0.71928000000000003,0.72026000000000001,2.8929999999999998,1.0003387487037676,48800000000,1.4200819672131146E-11,162173737373.7374,23854423.801639318,23.854423801639317,2.3854423801639317E-2,0,{"$error":"#DIV/0!"},23.854423801639317,null,null,5560]
[null,0.71999000000000002,0.72057000000000004,1.7010000000000001,1.0003409758965314,48800000000,1.4200819672131146E-11,162173737373.7374,24011234.275898814,24.011234275898815,2.4011234275898814E-2,0,{"$error":"#DIV/0!"},24.011234275898815,null,null,5013]
[null,0.72182999999999997,0.72233999999999998,1.9570000000000001,1.00026060296372,48800000000,1.4200819672131146E-11,162173737373.7374,18352177.626966376,18.352177626966377,1.8352177626966375E-2,0,{"$error":"#DIV/0!"},18.352177626966377,null,null,5007]
[null,0.72189000000000003,0.72523000000000004,13.082000000000001,1.0002553126433267,48800000000,1.4200819672131146E-11,162173737373.7374,17979670.320021663,17.979670320021661,1.7979670320021662E-2,0,{"$error":"#DIV/0!"},17.979670320021661,null,null,5007]
[null,0.71728999999999998,0.71765000000000001,1.4079999999999999,1.0002556818181818,48800000000,1.4200819672131146E-11,162173737373.7374,18005665.091442723,18.005665091442722,1.8005665091442722E-2,0,{"$error":"#DIV/0!"},18.005665091442722,null,null,5001]
[null,0.73755000000000004,0.73841000000000001,2.528,1.0003401898734177,48800000000,1.4200819672131146E-11,162173737373.7374,23955892.6052281,23.955892605228101,2.39558926052281E-2,0,{"$error":"#DIV/0!"},23.955892605228101,null,null,5000]
[null,0.71762000000000004,0.71794999999999998,1.3029999999999999,1.0002532617037605,48800000000,1.4200819672131146E-11,162173737373.7374,17835256.991279036,17.835256991279035,1.7835256991279035E-2,0,{"$error":"#DIV/0!"},17.835256991279035,null,null,4997]
[null,0.73243000000000003,0.73343999999999998,2.8540000000000001,1.000353889278206,48800000000,1.4200819672131146E-11,162173737373.7374,24920422.835373845,24.920422835373845,2.4920422835373844E-2,0,{"$error":"#DIV/0!"},24.920422835373845,null,null,4988]
[null,0.73272999999999999,0.73375999999999997,2.9079999999999999,1.0003541953232462,48800000000,1.4200819672131146E-11,162173737373.7374,24941970.313619334,24.941970313619333,2.4941970313619333E-2,0,{"$error":"#DIV/0!"},24.941970313619333,null,null,4715]
[null,0.73253999999999997,0.73355000000000004,2.8519999999999999,1.0003541374474054,48800000000,1.4200819672131146E-11,162173737373.7374,24937895.494224172,24.937895494224172,2.4937895494224174E-2,0,{"$error":"#DIV/0!"},24.937895494224172,null,null,3745]
[null,0.70931999999999995,0.70955999999999997,0.996,1.0002409638554217,48800000000,1.4200819672131146E-11,162173737373.7374,16969319.260753721,16.969319260753721,1.6969319260753721E-2,0,{"$error":"#DIV/0!"},16.969319260753721,null,null,2646]
[null,0.70903000000000005,0.70913999999999999,0.44900000000000001,1.0002449888641425,48800000000,1.4200819672131146E-11,162173737373.7374,17252736.427281704,17.252736427281704,1.7252736427281704E-2,0,{"$error":"#DIV/0!"},17.252736427281704]
[null,0.70967000000000002,0.70977999999999997,0.47,1.0002340425531913,48800000000,1.4200819672131146E-11,162173737373.7374,16481959.670598254,16.481959670598254,1.6481959670598255E-2,0,{"$error":"#DIV/0!"},16.481959670598254]
[null,0.70950999999999997,0.70967000000000002,0.65600000000000003,1.0002439024390244,48800000000,1.4200819672131146E-11,162173737373.7374,17176236.946740475,17.176236946740474,1.7176236946740475E-2,0,{"$error":"#DIV/0!"},17.176236946740474]
[null,0.70909999999999995,0.70921000000000001,0.47199999999999998,1.0002330508474577,48800000000,1.4200819672131146E-11,162173737373.7374,16412128.99487352,16.41212899487352,1.6412128994873518E-2,0,{"$error":"#DIV/0!"},16.41212899487352]
[null,0.71965999999999997,0.72258999999999995,10.305999999999999,1.0002843004075297,48800000000,1.4200819672131146E-11,162173737373.7374,20020761.457370847,20.020761457370849,2.0020761457370848E-2,0,{"$error":"#DIV/0!"},20.020761457370849]
[null,0.70689000000000002,0.70069999999999999,0.30599999999999999,0.97977124183006525,48800000000,1.4200819672131146E-11,162173737373.7374,-1439342528.8723989,0,0,0,{"$error":"#DIV/0!"},0]
[null,0.70923000000000003,0.70986000000000005,2.2120000000000002,1.0002848101265822,48800000000,1.4200819672131146E-11,162173737373.7374,20056651.348474745,20.056651348474745,2.0056651348474744E-2,0,{"$error":"#DIV/0!"},20.056651348474745]
[null,0.70613999999999999,0.70638000000000001,0.85799999999999998,1.0002797202797202,48800000000,1.4200819672131146E-11,162173737373.7374,19698268.69252741,19.69826869252741,1.9698268692527412E-2,0,{"$error":"#DIV/0!"},19.69826869252741]
[null,0.70606999999999998,0.70631999999999995,0.89100000000000001,1.0002805836139168,48800000000,1.4200819672131146E-11,162173737373.7374,19759057.290769249,19.759057290769249,1.9759057290769249E-2,0,{"$error":"#DIV/0!"},19.759057290769249]
[null,null,null,null,null,null,null,null,"Average",{"$f":"AVERAGE(J3:J27)","v":19.371359046371808}]
[null,null,null,null,null,null,null,null,"Maximum",{"$f":"MAX(J3:J27)","v":24.941970313619333}]
[null,null,null,null,null,null,null,null,"Minimum",{"$f":"MIN(J3:J27)","v":0}]
[null,null,null,null,null,null,null,null,"Difference",{"$f":"(J29 +ABS(J30))","v":24.941970313619333}]
[]
[]
[]
[null,null,null,null,null,null,null,null,null,null,"Dating","Summary"]
[null,null,null,null,"207Pb/206Pb",null,null,null,"Dating","87Rb/86Sr","207Pb/206Pb","208Pb/232Th","206Pb/238U"]
["Sample","206Pb/204Pb","207Pb/204Pb","207Pb/206Pb","Age","Model Age","Table 9",null,"Summary","Maximum Age","Age","Age","Age"]
["TE-118",18.603400000000001,15.723100000000001,{"$f":"(C38/B38)","v":0.84517346291538109},{"$f":"[1]!AgePb76(D38)","v":4999.8344925653437},3600,null,null,"Average",{"$f":"MAX(J12:J36)","v":24.941970313619333},5007.0979529838241,99274.745726908324,6943.9215303258161]
["TE-126",18.562999999999999,15.698600000000001,{"$f":"(C39/B39)","v":0.84569304530517708},{"$f":"[1]!AgePb76(D39)","v":5000.7067516317838},3600,null,null,"Maximum",24.941970313619333,5007.0376515891485,95540.744696299647,5559.9106857821498]
["TE-137",18.521100000000001,15.7332,0.84947438327097202,{"$f":"[1]!AgePb76(D40)","v":5007.0376515891485},3600,null,null,"Minimum",24.941970313619333,5000.7067516317838,71705.774706020122,5013.0855626954799]
["TE-138",18.457100000000001,15.679500000000001,0.84951048647945782,{"$f":"[1]!AgePb76(D41)","v":5007.0979529838241},3600,null,null,"Difference",24.941970313619333,4999.8344925653437,70276.623810157776,4715.260607496888]
["TE-025",18.796800000000001,15.757899999999999,0.83832886448757227,{"$f":"[1]!AgePb76(D42)","v":4988.2905167490944},3600,null,null,null,24.941970313619333,4996.6690360225384,68343.494936901567,3745.2632258155195]
["TE-150",18.589200000000002,15.6761,0.84329072794956206,{"$f":"[1]!AgePb76(D43)","v":4996.6690360225384},3600,null,null,null,24.941970313619333,4988.2905167490944,67704.35205267508,2646.3590564598026]
[]
[null,null,null,null,"208Pb/232Th"]
["Sample","232Th/204Pb","208Pb/204Pb","208Pb/232Th","Age","Model Age"]
["TE-118",1.3933,39.582000000000001,{"$f":"(C47/B47)","v":28.408813607981052},{"$f":"[1]!AgePb8Th2(D47)","v":68343.494936901567},3600]
["TE-126",1.4339,39.422800000000002,27.493409582258181,{"$f":"[1]!AgePb8Th2(D48)","v":67704.35205267508},3600]
["TE-137",1.2677,39.755600000000001,31.360416502327048,{"$f":"[1]!AgePb8Th2(D49)","v":70276.623810157776},3600]
["TE-138",1.1726000000000001,39.553400000000003,33.731366194780833,{"$f":"[1]!AgePb8Th2(D50)","v":71705.774706020122},3600]
["TE-025",0.35270000000000001,39.482100000000003,111.94244400340233,{"$f":"[1]!AgePb8Th2(D51)","v":95540.744696299647},3600]
["TE-150",0.29020000000000001,39.136099999999999,134.85906271536871,{"$f":"[1]!AgePb8Th2(D52)","v":99274.745726908324},3600]
[]
[null,null,null,null,"206Pb/238U"]
["Sample","238U/204Pb","206Pb/204Pb","206Pb/238U","Age","Model Age"]
["TE-118",36.65,18.603400000000001,{"$f":"(C56/B56)","v":0.50759618008185547},{"$f":"[1]!AgePb6U8(D56)","v":2646.3590564598026},3600]
["TE-126",15.78,18.562999999999999,1.1763624841571609,{"$f":"[1]!AgePb6U8(D57)","v":5013.0855626954799},3600]
["TE-137",23.51,18.521100000000001,0.78779668226286681,{"$f":"[1]!AgePb6U8(D58)","v":3745.2632258155195},3600]
["TE-138",17.12,18.457100000000001,1.0781016355140187,{"$f":"[1]!AgePb6U8(D59)","v":4715.260607496888},3600]
["TE-025",13.73,18.796800000000001,1.3690313182811362,{"$f":"[1]!AgePb6U8(D60)","v":5559.9106857821498},3600]
["TE-150",9.6,18.589200000000002,1.9363750000000002,{"$f":"[1]!AgePb6U8(D61)","v":6943.9215303258161},3600]
[]
[]
[null,"MAXIMUM","MINIMUM","DIFFERENCE","AVERAGE","4600 To 4999","5000 To 5999 ","6,000 To 9999","10,000 To 19,999","Over 19,999","Total"]
["206Pb/238U",6943.9215303258161,2646.3590564598026,4297.5624738660135,4770.6334447626095,1,2,1,null,null,{"$f":"SUM(F65:J65)","v":4}]
["208Pb/232Th",99274.745726908324,67704.35205267508,31570.393674233244,78807.622654827093,null,null,null,null,6,{"$f":"SUM(F66:J66)","v":6}]
["207Pb/206Pb",5007.0979529838241,4988.2905167490944,18.807436234729721,4999.9394002569543,3,3,null,null,null,{"$f":"SUM(F67:J67)","v":6}]
[]
[null,"MAXIMUM","MINIMUM","DIFFERENCE","AVERAGE"]
[null,99274.745726908324,67704.35205267508,31570.393674233244,78807.622654827093]

{"sheet":"Rb-Sr _49","index":49,"n_rows":100,"n_cols":24,"rows_kept":100,"cut":false,"hidden":false,"merged":[]}
["Rubidium"," "," ",null,null,null,null,null,null,null,"Rubidium_056.pdf",null,null,null,null,null,null,null,null,"207Pb/206Pb",null,"206Pb/238U",null,"208Pb/232Th"]
["Strontium","Initial","Today","Today","The Ratio","Half","Decay","2.303/Delta","Age","Age","Age","Model Age","Model Age","Model Age",null,null,null,null,null,4988.5257756720302,null,7092.6278788949512,null,13430.277831815292]
["Dating","87Sr/86Sr","87Sr/86Sr","87Rb/86Sr","Plus One","Life","Constant","Constant","Years","Million Years","Billion Years","Million Years","% Difference"," Difference",null,null,null,null,null,4988.2527720589815,null,5324.5062513882294,null,12296.761802654779]
[null,0.70391999999999999,0.70403000000000004,0.17299999999999999,{"$f":"1+((C4-B4)/D4)","v":1.0006358381502893},48800000000,{"$f":"(0.693/F4)","v":1.4200819672131146E-11},{"$f":"(2.303/G4)","v":162173737373.7374},{"$f":"(LOG(E4))*(H4)","v":44768586.741035782},{"$f":"(I4/1000000)","v":44.768586741035783},{"$f":"(J4/1000)","v":4.476858674103578E-2},0,{"$f":"(J4/L4) *100","v":{"$error":"#DIV/0!"}},{"$f":"(J4-L4)","v":44.768586741035783},null,null,null,null,null,4982.9734563874781,null,5279.184045265215,null,11101.890210644291]
[null,0.70377999999999996,0.70388300000000004,0.16700000000000001,1.0006167664670662,48800000000,1.4200819672131146E-11,162173737373.7374,43426186.730947174,43.426186730947173,4.3426186730947169E-2,0,{"$f":"(J5/L5) *100","v":{"$error":"#DIV/0!"}},{"$f":"(J5-L5)","v":43.426186730947173},null,null,null,null,null,4982.4015741332541,null,5261.5015701536149,null,11014.709509158349]
[null,0.70386000000000004,0.70395200000000002,0.14299999999999999,1.0006433566433566,48800000000,1.4200819672131146E-11,162173737373.7374,45297784.450107619,45.297784450107621,4.5297784450107619E-2,0,{"$error":"#DIV/0!"},45.297784450107621,null,null,null,null,null,4978.1337328281206,null,5211.1723800706841,null,10719.568314081916]
[null,0.70413000000000003,0.70415899999999998,6.4000000000000001E-2,1.0004531249999991,48800000000,1.4200819672131146E-11,162173737373.7374,31906890.67645194,31.90689067645194,3.1906890676451943E-2,0,{"$error":"#DIV/0!"},31.90689067645194,null,null,null,null,null,4973.8885738486588,null,5121.3005585100136,null,10198.097556545576]
[null,0.70413000000000003,0.70418000000000003,0.108,1.0004629629629629,48800000000,1.4200819672131146E-11,162173737373.7374,32599472.579696577,32.599472579696574,3.2599472579696573E-2,0,{"$error":"#DIV/0!"},32.599472579696574,null,null,null,null,null,4969.226134468131,null,5047.879688088653,null,9535.2701680492446]
[null,0.70409999999999995,0.70414900000000002,0.10100000000000001,1.0004851485148523,48800000000,1.4200819672131146E-11,162173737373.7374,34161286.331181452,34.161286331181451,3.4161286331181449E-2,0,{"$error":"#DIV/0!"},34.161286331181451,null,null,null,null,null,4966.642334631335,null,4844.8389015421899,null,9491.4876406106487]
[null,0.70415000000000005,0.70420499999999997,0.108,1.0005092592592584,48800000000,1.4200819672131146E-11,162173737373.7374,35858590.104158364,35.858590104158367,3.5858590104158365E-2,0,{"$error":"#DIV/0!"},35.858590104158367,null,null,null,null,null,4965.446998995214,null,null,null,9061.9667769207645]
[null,0.70418000000000003,0.70421699999999998,8.1000000000000003E-2,1.0004567901234562,48800000000,1.4200819672131146E-11,162173737373.7374,32164912.181504428,32.164912181504427,3.2164912181504426E-2,0,{"$error":"#DIV/0!"},32.164912181504427,null,null,null,null,null,4964.2643492185425,null,null,null,8950.0891004939713]
[null,0.70413000000000003,0.70414600000000005,2.5999999999999999E-2,1.0006153846153851,48800000000,1.4200819672131146E-11,162173737373.7374,43328921.238026783,43.32892123802678,4.3328921238026778E-2,0,{"$error":"#DIV/0!"},43.32892123802678,null,null,null,null,null,4963.5850593979376,null,null,null,8562.4654200614641]
[null,0.70413999999999999,0.70417399999999997,6.8000000000000005E-2,1.0004999999999997,48800000000,1.4200819672131146E-11,162173737373.7374,35206778.664126359,35.206778664126361,3.5206778664126359E-2,0,{"$error":"#DIV/0!"},35.206778664126361,null,null,null,null,null,4962.9141183675874,null,null,null,8555.634197323021]
[null,0.70396999999999998,0.70405200000000001,0.28799999999999998,{"$f":"1+((C14-B14)/D14)","v":1.0002847222222224},48800000000,{"$f":"(0.693/F14)","v":1.4200819672131146E-11},{"$f":"(2.303/G14)","v":162173737373.7374},{"$f":"(LOG(E14))*(H14)","v":20050461.905055553},{"$f":"(I14/1000000)","v":20.050461905055553},{"$f":"(J14/1000)","v":2.0050461905055553E-2},0,{"$f":"(J14/L14) *100","v":{"$error":"#DIV/0!"}},{"$f":"(J14-L14)","v":20.050461905055553},null,null,null,null,null,4962.8819168328355,null,null,null,8416.1130004330371]
[null,0.70401999999999998,0.70412600000000003,0.39900000000000002,1.0002656641604011,48800000000,1.4200819672131146E-11,162173737373.7374,18708549.802933652,18.708549802933653,1.8708549802933655E-2,0,{"$error":"#DIV/0!"},18.708549802933653,null,null,null,null,null,4961.8087690756802,null,null,null,8330.8775760773897]
["Sample",0.70384999999999998,0.70392699999999997,0.104,1.0007403846153846,48800000000,1.4200819672131146E-11,162173737373.7374,52126852.173790097,52.126852173790098,5.2126852173790102E-2,0,{"$error":"#DIV/0!"},52.126852173790098,null,null,null,null,null,4959.2547599355821,null,null,null,8156.569595653038]
[782,0.70389999999999997,0.70396800000000004,9.2999999999999999E-2,1.0007311827956997,48800000000,1.4200819672131146E-11,162173737373.7374,51479233.853167422,51.479233853167422,5.1479233853167425E-2,0,{"$error":"#DIV/0!"},51.479233853167422,null,null,null,null,null,4956.5960298946557,null,null,null,7133.2571007785782]
[783,0.70389000000000002,0.70395300000000005,8.7999999999999995E-2,1.0007159090909095,48800000000,1.4200819672131146E-11,162173737373.7374,50404266.90668337,50.404266906683368,5.040426690668337E-2,0,{"$error":"#DIV/0!"},50.404266906683368,null,null,null,null,null,4953.8785314996012,null,null,null,6560.4870985499801]
[784,0.70391000000000004,0.70394800000000002,0.06,1.000633333333333,48800000000,1.4200819672131146E-11,162173737373.7374,44592281.459909797,44.592281459909799,4.4592281459909802E-2,0,{"$error":"#DIV/0!"},44.592281459909799,null,null,null,null,null,4952.2300023333573,null,null,null,6018.7226415512287]
[785,0.70391999999999999,0.70396999999999998,7.5999999999999998E-2,1.0006578947368421,48800000000,1.4200819672131146E-11,162173737373.7374,46321053.46250245,46.321053462502448,4.6321053462502447E-2,0,{"$error":"#DIV/0!"},46.321053462502448,null,null,null,null,null,4951.886705850543,null,null,null,6003.4239691140974]
[786,0.70389999999999997,0.70396300000000001,8.3000000000000004E-2,1.0007590361445788,48800000000,1.4200819672131146E-11,162173737373.7374,53439516.878427498,53.439516878427497,5.3439516878427497E-2,0,{"$error":"#DIV/0!"},53.439516878427497,null,null,null,null,null,4949.4425667701053,null,null,null,5563.3138717840948]
[287,0.70389999999999997,0.70392100000000002,3.2000000000000001E-2,1.0006562500000016,48800000000,1.4200819672131146E-11,162173737373.7374,46205288.805920169,46.205288805920169,4.6205288805920168E-2,0,{"$error":"#DIV/0!"},46.205288805920169,null,null,null,null,null,4948.5834877332118,null,null,null,5286.2119822371506]
[289,0.70399,0.70408300000000001,0.13100000000000001,1.0007099236641221,48800000000,1.4200819672131146E-11,162173737373.7374,49983006.682752199,49.983006682752197,4.9983006682752198E-2,0,{"$error":"#DIV/0!"},49.983006682752197,null,null,null,null,null,4946.0233788446312,null,null,null,5118.9296505512657]
[291,0.70404999999999995,0.70408300000000001,4.5999999999999999E-2,1.0007173913043492,48800000000,1.4200819672131146E-11,162173737373.7374,50508586.157091945,50.508586157091948,5.0508586157091945E-2,0,{"$error":"#DIV/0!"},50.508586157091948,null,null,null,null,null,4945.7292067339131]
[292,0.70408000000000004,0.70411699999999999,4.7E-2,1.0007872340425521,48800000000,1.4200819672131146E-11,162173737373.7374,55423993.252930626,55.423993252930629,5.5423993252930626E-2,0,{"$error":"#DIV/0!"},55.423993252930629,null,null,null,null,null,4945.4910754247785]
[294,0.70399,0.70405499999999999,8.5000000000000006E-2,1.0007647058823528,48800000000,1.4200819672131146E-11,162173737373.7374,53838539.079048127,53.838539079048125,5.3838539079048127E-2,0,{"$error":"#DIV/0!"},53.838539079048125,null,null,null,null,null,4942.9560526632549]
[295,0.70435000000000003,0.70437300000000003,3.5000000000000003E-2,1.0006571428571427,48800000000,1.4200819672131146E-11,162173737373.7374,46268132.500184566,46.268132500184564,4.6268132500184564E-2,0,{"$error":"#DIV/0!"},46.268132500184564,null,null,null,null,null,4941.1202210492747]
[null,null,null,null,null,null,null,null,"Average",{"$f":"AVERAGE(J4:J27)","v":42.41954885906808},4.2419548859068082E-2,null,null,null,null,null,null,null,null,4920.7707756030304]
[null,null,null,null,null,null,null,null,"Maximum",{"$f":"MAX(J4:J28)","v":55.423993252930629}]
[null,null,null,null,null,null,null,null,"Minimum",{"$f":"MIN(J4:J29)","v":18.708549802933653}]
[null,null,null,null,null,null,null,null,"Difference",{"$f":"(J29-J30)","v":36.715443449996975}]
[]
[]
[null,null,null,null,null,null,"Age",null,"Age",null,"Age",null,"Dating","Age","Age","Age","Age","Age"]
["206Pb/2042Pb","207Pb/204Pb","208Pb/204Pb","238U/204Pb","232Th/204Pb","207Pb/206Pb","207Pb/206Pb","206Pb/238U","206Pb/238U","208Pb/232Th","208Pb/232Th",null,"Summary","87Rb/86Sr","147Sm/144Nd","207Pb/206Pb","206Pb/238U","208Pb/232Th"]
[18.61,15.542999999999999,38.543999999999997,33.700000000000003,55.1,{"$f":"(B36/A36)","v":0.83519613111230517},{"$f":"[1]!AgePb76(F36)","v":4982.9734563874781},{"$f":"(A36/D36)","v":0.55222551928783381},{"$f":"[1]!AgePb6U8(H36)","v":2834.4220468925296},{"$f":"(C36/E36)","v":0.69952813067150632},{"$f":"[1]!AgePb8Th2(J36)","v":10719.568314081916},null,"Average",42.41954885906808,41.451797200715461,4960.1817911204344,4259.7580682438766,8372.6521023056393]
[18.565999999999999,15.564,38.587000000000003,18.600000000000001,58.8,{"$f":"(B37/A37)","v":0.83830658192394703},{"$f":"[1]!AgePb76(F37)","v":4988.2527720589815},{"$f":"(A37/D37)","v":0.99817204301075257},{"$f":"[1]!AgePb6U8(H37)","v":4462.4192369528018},{"$f":"(C37/E37)","v":0.65624149659863951},{"$f":"[1]!AgePb8Th2(J37)","v":10198.097556545576},null,"Maximum",55.423993252930629,53.634938562803988,4988.5257756720302,7092.6278788949512,13430.277831815292]
[18.535,15.541,38.523000000000003,15.6,46,0.83846776369031562,{"$f":"[1]!AgePb76(F38)","v":4988.5257756720302},1.1881410256410256,{"$f":"[1]!AgePb6U8(H38)","v":5047.879688088653},0.83745652173913054,{"$f":"[1]!AgePb8Th2(J38)","v":12296.761802654779},null,"Minimum",18.708549802933653,20.477032284618616,4920.7707756030268,1904.4912486170917,3064.8733379405085]
[18.994,15.571999999999999,39.128999999999998,33.9,130.9,0.81983784352953559,{"$f":"[1]!AgePb76(F39)","v":4956.5960298946557},0.56029498525073751,{"$f":"[1]!AgePb6U8(H39)","v":2867.8478420309057},0.2989228418640183,{"$f":"[1]!AgePb8Th2(J39)","v":5286.2119822371506},null,"Difference",36.715443449996975,33.157906278185372,67.755000069003472,5188.1366302778597,10365.404493874783]
[18.943999999999999,15.615,39.155000000000001,null,null,0.82427153716216217,{"$f":"[1]!AgePb76(F40)","v":4964.2643492185425}]
[18.876000000000001,15.585000000000001,39.052,14.7,53.9,0.82565162110616652,{"$f":"[1]!AgePb76(F41)","v":4966.642334631335},1.2840816326530613,{"$f":"[1]!AgePb6U8(H41)","v":5324.5062513882294},0.72452690166975886,{"$f":"[1]!AgePb8Th2(J41)","v":11014.709509158349}]
[19.006,15.611000000000001,39.253,27.6,113.5,0.82137219825318319,{"$f":"[1]!AgePb76(F42)","v":4959.2547599355821},0.68862318840579706,{"$f":"[1]!AgePb6U8(H42)","v":3377.3635164225116},0.34584140969162996,{"$f":"[1]!AgePb8Th2(J42)","v":6003.4239691140974}]
[18.925999999999998,15.585000000000001,39.076999999999998,15.6,65.2,0.8234703582373456,{"$f":"[1]!AgePb76(F43)","v":4962.8819168328355},1.2132051282051282,{"$f":"[1]!AgePb6U8(H43)","v":5121.3005585100136},0.59934049079754592,{"$f":"[1]!AgePb8Th2(J43)","v":9491.4876406106487}]
[18.913,15.582000000000001,39.061999999999998,15.2,64.8,0.82387775604081848,{"$f":"[1]!AgePb76(F44)","v":4963.5850593979376},1.2442763157894738,{"$f":"[1]!AgePb6U8(H44)","v":5211.1723800706841},0.60280864197530859,{"$f":"[1]!AgePb8Th2(J44)","v":9535.2701680492446}]
[18.933,15.579000000000001,39.073,16.899999999999999,76.599999999999994,0.82284899382031373,{"$f":"[1]!AgePb76(F45)","v":4961.8087690756802},1.1202958579881657,{"$f":"[1]!AgePb6U8(H45)","v":4844.8389015421862},0.51009138381201047,{"$f":"[1]!AgePb8Th2(J45)","v":8330.8775760773897}]
[19.056999999999999,15.571999999999999,39.137,"-","-",0.81712756467439784,{"$f":"[1]!AgePb76(F46)","v":4951.886705850543}]
[19.178999999999998,15.603999999999999,39.411000000000001,55.8,240.7,0.81359820637155222,{"$f":"[1]!AgePb76(F47)","v":4945.7292067339131},0.34370967741935482,{"$f":"[1]!AgePb6U8(H47)","v":1904.4912486170917},0.16373493975903616,{"$f":"[1]!AgePb8Th2(J47)","v":3064.8733379405085}]
[18.78,15.585000000000001,38.779000000000003,23.1,111.8,0.82987220447284349,{"$f":"[1]!AgePb76(F48)","v":4973.8885738486588},0.81298701298701304,{"$f":"[1]!AgePb6U8(H48)","v":3835.4602319070959},0.3468604651162791,{"$f":"[1]!AgePb8Th2(J48)","v":6018.7226415512287}]
[18.748000000000001,15.605,38.841000000000001,null,null,0.83235545124813315,{"$f":"[1]!AgePb76(F49)","v":4978.1337328281206}]
[18.669,15.586,38.793999999999997,24.7,134.6,0.83485992822325783,{"$f":"[1]!AgePb76(F50)","v":4982.4015741332541},0.75582995951417009,{"$f":"[1]!AgePb6U8(H50)","v":3628.9550783855534},0.28821693907875184,{"$f":"[1]!AgePb8Th2(J50)","v":5118.9296505512657}]
[19.202999999999999,15.573,39.161999999999999,17.7,70.3,0.81096703640056245,{"$f":"[1]!AgePb76(F51)","v":4941.1202210492747},1.0849152542372882,{"$f":"[1]!AgePb6U8(H51)","v":4736.3623463334361},0.55706970128022759,{"$f":"[1]!AgePb8Th2(J51)","v":8950.0891004939713}]
[19.164999999999999,15.59,39.186999999999998,null,null,0.81346204017740675,{"$f":"[1]!AgePb76(F52)","v":4945.4910754247785}]
[19.148,15.582000000000001,39.161000000000001,15.1,53.5,0.81376645080426158,{"$f":"[1]!AgePb76(F53)","v":4946.0233788446312},1.2680794701986755,{"$f":"[1]!AgePb6U8(H53)","v":5279.184045265215},0.731981308411215,{"$f":"[1]!AgePb8Th2(J53)","v":11101.890210644291}]
[19.077999999999999,15.553000000000001,39.048999999999999,19.8,74.099999999999994,0.81523220463360946,{"$f":"[1]!AgePb76(F54)","v":4948.5834877332118},0.96353535353535347,{"$f":"[1]!AgePb6U8(H54)","v":4349.6960531147888},0.52697705802968964,{"$f":"[1]!AgePb8Th2(J54)","v":8555.634197323021}]
[19.091000000000001,15.573,39.097000000000001,20.3,75.7,0.81572468702529988,{"$f":"[1]!AgePb76(F55)","v":4949.4425667701053},0.94044334975369459,{"$f":"[1]!AgePb6U8(H55)","v":4273.4341838319069},0.51647291941875828,{"$f":"[1]!AgePb8Th2(J55)","v":8416.1130004330371}]
[19.001000000000001,15.548,38.929000000000002,20.5,73.8,0.81827272248829008,{"$f":"[1]!AgePb76(F56)","v":4953.8785314996012},0.92687804878048785,{"$f":"[1]!AgePb6U8(H56)","v":4228.2101653373338},0.52749322493224937,{"$f":"[1]!AgePb8Th2(J56)","v":8562.4654200614641}]
[18.864000000000001,15.561999999999999,38.725999999999999,20.6,77.900000000000006,0.82495759117896517,{"$f":"[1]!AgePb76(F57)","v":4965.446998995214},0.91572815533980578,{"$f":"[1]!AgePb6U8(H57)","v":4190.7996011983996},0.49712451861360712,{"$f":"[1]!AgePb8Th2(J57)","v":8156.569595653038}]
[18.826000000000001,15.571999999999999,38.869999999999997,9.39,41.2,0.82715393604589393,{"$f":"[1]!AgePb76(F58)","v":4969.226134468131},2.004898828541001,{"$f":"[1]!AgePb6U8(H58)","v":7092.6278788949512},0.94344660194174745,{"$f":"[1]!AgePb8Th2(J58)","v":13430.277831815292}]
[19.094000000000001,15.606,39.104999999999997,25.4,92.4,0.81732481407772073,{"$f":"[1]!AgePb76(F59)","v":4952.2300023333573},0.751732283464567,{"$f":"[1]!AgePb6U8(H59)","v":3613.8931480834876},0.42321428571428565,{"$f":"[1]!AgePb8Th2(J59)","v":7133.2571007785782}]
[19.161000000000001,15.558999999999999,39.067999999999998,33.799999999999997,123.3,0.81201398674390679,{"$f":"[1]!AgePb76(F60)","v":4942.9560526632549},0.56689349112426046,{"$f":"[1]!AgePb6U8(H60)","v":2895.0523199789868},0.31685320356853203,{"$f":"[1]!AgePb8Th2(J60)","v":5563.3138717840948}]
[18.928000000000001,15.587,38.920999999999999,15,68.8,0.82348901098901095,{"$f":"[1]!AgePb76(F61)","v":4962.9141183675874},1.2618666666666667,{"$f":"[1]!AgePb6U8(H61)","v":5261.5015701536149},0.56571220930232557,{"$f":"[1]!AgePb8Th2(J61)","v":9061.9667769207645}]
[19.547000000000001,15.627000000000001,39.572000000000003,26.2,103.2,0.79945771729677184,{"$f":"[1]!AgePb76(F62)","v":4920.7707756030268},0.74606870229007638,{"$f":"[1]!AgePb6U8(H62)","v":3593.0172766087594},0.38344961240310077,{"$f":"[1]!AgePb8Th2(J62)","v":6560.4870985499801}]
[null,null,null,null,null,"Average",{"$f":"AVERAGE(G36:G62)","v":4960.1817911204344},"Average",{"$f":"AVERAGE(I36:I62)","v":4259.7580682438766},"Average",{"$f":"AVERAGE(K36:K62)","v":8372.6521023056393}]
[null,null,null,null,null,"Maximum",{"$f":"MAX(G36:G63)","v":4988.5257756720302},"Maximum",{"$f":"MAX(I36:I63)","v":7092.6278788949512},"Maximum",{"$f":"MAX(K36:K63)","v":13430.277831815292}]
[null,null,null,null,null,"Minimum",{"$f":"MIN(G36:G64)","v":4920.7707756030268},"Minimum",{"$f":"MIN(I36:I64)","v":1904.4912486170917},"Minimum",{"$f":"MIN(K36:K64)","v":3064.8733379405085}]
[null,null,null,null,null,"Difference",{"$f":"(G64-G65)","v":67.755000069003472},"Difference",{"$f":"(I64-I65)","v":5188.1366302778597},"Difference",{"$f":"(K64-K65)","v":10365.404493874783}]
[]
[]
[null,"Neodymium",null,null,null,null,null,null,null,null,null,"Rubidium_040.PDF"]
[null,"Samarium","Initial","Today","Today","The Ratio","Half","Decay","2.303/Delta","Age","Age","Age"]
[null,"Dating","143Nd/144Nd","143Nd/144Nd","147Sm/144Nd","Plus One","Life","Constant","Constant","Years","Million Years","Billion Years"]
[null,null,0.51293,0.51298100000000002,0.187,{"$f":"1+((D72-C72)/E72)","v":1.0002727272727274},106000000000,{"$f":"(0.693/G72)","v":6.5377358490566029E-12},{"$f":"(2.303/H72)","v":352262626262.62628},{"$f":"(LOG(F72))*(I72)","v":41717688.237428851},{"$f":"(J72/1000000)","v":41.717688237428852},{"$f":"(K72/1000)","v":4.171768823742885E-2}]
[null,null,0.51293999999999995,0.51299700000000004,0.187,{"$f":"1+((D73-C73)/E73)","v":1.0003048128342251},106000000000,6.5377358490566029E-12,{"$f":"(2.303/H73)","v":352262626262.62628},{"$f":"(LOG(F73))*(I73)","v":46624903.740379542},{"$f":"(J73/1000000)","v":46.624903740379544},{"$f":"(K73/1000)","v":4.6624903740379545E-2}]
[null,null,0.51290999999999998,0.512961,0.184,{"$f":"1+((D74-C74)/E74)","v":1.0002771739130436},106000000000,{"$f":"(0.693/G74)","v":6.5377358490566029E-12},{"$f":"(2.303/H74)","v":352262626262.62628},{"$f":"(LOG(F74))*(I74)","v":42397773.694611147},{"$f":"(J74/1000000)","v":42.397773694611146},{"$f":"(K74/1000)","v":4.2397773694611146E-2}]
[null,null,0.51283999999999996,0.51287499999999997,0.16,1.0002187500000002,106000000000,6.5377358490566029E-12,352262626262.62628,33461965.336179703,33.461965336179702,3.3461965336179705E-2]
[null,null,0.51283000000000001,0.51286600000000004,0.159,1.0002264150943398,106000000000,6.5377358490566029E-12,352262626262.62628,34634354.319170699,34.634354319170697,3.4634354319170696E-2]
[null,null,0.51285000000000003,0.51288400000000001,0.155,1.0002193548387095,106000000000,6.5377358490566029E-12,352262626262.62628,33554476.753596701,33.554476753596703,3.3554476753596706E-2]
[null,null,0.51283000000000001,0.51287199999999999,0.161,1.0002608695652173,106000000000,6.5377358490566029E-12,352262626262.62628,39904112.237689488,39.904112237689489,3.9904112237689492E-2]
[null,null,0.51282000000000005,0.51285599999999998,0.161,1.0002236024844715,106000000000,6.5377358490566029E-12,352262626262.62628,34204161.985158913,34.204161985158912,3.420416198515891E-2]
[null,null,0.51280999999999999,0.51284799999999997,0.161,1.0002360248447204,106000000000,6.5377358490566029E-12,352262626262.62628,36104168.999374613,36.104168999374615,3.6104168999374617E-2]
[null,null,0.51282000000000005,0.51285599999999998,0.158,1.0002278481012654,106000000000,6.5377358490566029E-12,352262626262.62628,34853534.125284433,34.853534125284433,3.4853534125284434E-2]
[null,null,0.51283999999999996,0.51287499999999997,0.156,1.0002243589743591,106000000000,6.5377358490566029E-12,352262626262.62628,34319868.215364508,34.319868215364508,3.4319868215364507E-2]
[null,null,0.51288,0.51290000000000002,0.126,1.0001587301587302,106000000000,6.5377358490566029E-12,352262626262.62628,24281519.734600395,24.281519734600394,2.4281519734600396E-2]
[null,null,0.51288999999999996,0.512907,0.127,1.0001338582677168,106000000000,6.5377358490566029E-12,352262626262.62628,20477032.284618616,20.477032284618616,2.0477032284618616E-2]
[null,null,0.51280000000000003,0.51285400000000003,0.157,1.000343949044586,106000000000,6.5377358490566029E-12,352262626262.62628,52610243.326382771,52.610243326382772,5.2610243326382769E-2]
[null,null,0.51282000000000005,0.51286600000000004,0.155,1.0002967741935482,106000000000,6.5377358490566029E-12,352262626262.62628,45395476.354450718,45.395476354450714,4.5395476354450716E-2]
[null,null,0.51280999999999999,0.51285499999999995,0.152,1.0002960526315787,106000000000,6.5377358490566029E-12,352262626262.62628,45285120.391784661,45.285120391784659,4.5285120391784658E-2]
[null,null,0.51282000000000005,0.51286900000000002,0.153,1.0003202614379083,106000000000,6.5377358490566029E-12,352262626262.62628,48987580.992663182,48.987580992663183,4.8987580992663184E-2]
[null,null,0.51280000000000003,0.51285000000000003,0.16300000000000001,1.0003067484662576,106000000000,6.5377358490566029E-12,352262626262.62628,46920937.269061923,46.920937269061923,4.6920937269061921E-2]
[null,null,0.51280999999999999,0.51286399999999999,0.154,1.0003506493506493,106000000000,6.5377358490566029E-12,352262626262.62628,53634938.562803991,53.634938562803988,5.3634938562803991E-2]
[null,null,0.51290000000000002,0.51294799999999996,0.155,1.0003096774193545,106000000000,6.5377358490566029E-12,352262626262.62628,47368887.188153885,47.368887188153884,4.7368887188153887E-2]
[null,null,0.51285999999999998,0.512907,0.157,1.0002993630573249,106000000000,6.5377358490566029E-12,352262626262.62628,45791417.512124129,45.791417512124127,4.5791417512124129E-2]
[null,null,0.51283999999999996,0.51288800000000001,0.14799999999999999,1.0003243243243247,106000000000,6.5377358490566029E-12,352262626262.62628,49608944.314119205,49.608944314119206,4.9608944314119205E-2]
[null,null,0.51285999999999998,0.512903,0.14199999999999999,1.0003028169014085,106000000000,6.5377358490566029E-12,352262626262.62628,46319647.27326224,46.319647273262241,4.6319647273262238E-2]
[null,null,0.51282000000000005,0.51287300000000002,0.16800000000000001,1.000315476190476,106000000000,6.5377358490566029E-12,352262626262.62628,48255739.123602785,48.255739123602787,4.8255739123602787E-2]
[null,null,0.51278000000000001,0.51282700000000003,0.14499999999999999,1.0003241379310346,106000000000,6.5377358490566029E-12,352262626262.62628,49580438.046019532,49.58043804601953,4.9580438046019533E-2]
[null,null,null,null,null,null,null,null,null,"Average",{"$f":"AVERAGE(K72:K96)","v":41.451797200715461}]
[null,null,null,null,null,null,null,null,null,"Maximum",{"$f":"MAX(K72:K97)","v":53.634938562803988}]
[null,null,null,null,null,null,null,null,null,"Minimum",{"$f":"MIN(K72:K98)","v":20.477032284618616}]
[null,null,null,null,null,null,null,null,null,"Difference",{"$f":"(K98-K99)","v":33.157906278185372}]

{"sheet":"Rb-Sr _50","index":50,"n_rows":150,"n_cols":18,"rows_kept":150,"cut":false,"hidden":false,"merged":[]}
["Rubidium","Table 2",null,null,null,null,null,null,null,null,"Iso_Plot_018.pdf",null,null,"207Pb/206Pb",null,"206Pb/238U",null,"208Pb/232Th"]
["Strontium","Initial","Today","Today","The Ratio","Half","Decay","2.303/Delta","Age","Age","Age","Model Age",null,8125.8564072258814,null,31192.554504666758,null,352962.19225740928]
["Dating","87Sr/86Sr","87Sr/86Sr","87Rb/86Sr","Plus One","Life","Constant","Constant","Years","Million Years","Billion Years","Million Years",null,5024.3400848397669,null,28057.541755987695,null,82030]
[null,0.71235999999999999,0.71236999999999995,6.0999999999999999E-2,{"$f":"1+((C4-B4)/D4)","v":1.0001639344262288},48800000000,{"$f":"(0.693/F4)","v":1.4200819672131146E-11},{"$f":"(2.303/G4)","v":162173737373.7374},{"$f":"(LOG(E4))*(H4)","v":11545145.382906932},{"$f":"(I4/1000000)","v":11.545145382906933},null,null,null,5022.9050641552758,null,23317.704399179525,null,57900]
[null,0.71155000000000002,0.71155999999999997,6.4000000000000001E-2,1.0001562499999992,48800000000,1.4200819672131146E-11,162173737373.7374,11004008.967103694,11.004008967103694,null,null,null,5020.3053913074682,null,21151.892291307289,null,28600]
[null,0.71201000000000003,0.71201999999999999,6.6000000000000003E-2,1.0001515151515146,48800000000,1.4200819672131146E-11,162173737373.7374,10670579.408452416,10.670579408452415,null,null,null,5019.3949108127808,null,20209,null,12900]
[null,0.71218999999999999,0.71235999999999999,0.94,1.0001808510638297,48800000000,1.4200819672131146E-11,162173737373.7374,12736398.416419528,12.736398416419528,null,null,null,4999.5975777756503,null,16434.125413305988,null,5389.2669507577175]
[null,0.71242000000000005,0.71279999999999999,2.1,1.0001809523809524,48800000000,1.4200819672131146E-11,162173737373.7374,12743533.008162739,12.743533008162739,null,null,null,4998.8927737070744,null,15648.115748484332]
[null,0.71148,0.71165,0.94,1.0001808510638297,48800000000,1.4200819672131146E-11,162173737373.7374,12736398.416419528,12.736398416419528,null,null,null,4988.9354154144557,null,15433.625049089198]
[null,null,null,null,null,null,null,null,"Average",{"$f":"AVERAGE(J3:J9)","v":11.906010599910806},null,null,null,4964.5402241918455,null,13502.806910237272]
[null,null,null,null,null,null,null,null,"Maximum",{"$f":"MAX(J3:J9)","v":12.743533008162739},null,null,null,4959.2871992254304,null,12300.85299643814]
[null,null,null,null,null,null,null,null,"Minimum",{"$f":"MIN(J3:J9)","v":10.670579408452415},null,null,null,4949.5795500452723,null,11023.038080965302]
[null,null,null,null,null,null,null,null,"Difference",{"$f":"(J11 -ABS(J12))","v":2.0729535997103241},null,null,null,4948.5972358681929,null,8442.0607262969133]
[null,null,null,null,null,null,null,null,null,null,null,null,null,4943.4649943184158,null,8009.5893765814808]
["Table 1",null,null,null,null,null,null,null,null,null,null,null,null,4904.4990133072524,null,7940]
["Sample","207Pb/206Pb","207Pb/206Pb","206Pb/204Pb","207Pb/204Pb","208Pb/204Pb","206Pb/238U","206Pb/238U","238U/204Pb","232Th/204Pb","208Pb/232Th","208Pb/232Th",null,4883.0003395432686,null,7556.253400456525]
["Number","Ratio","Age","Ratio","Ratio","Ratio","Ratio","Age","Ratio","Ratio","Ratio","Age",null,4844.6061865939582,null,7504]
["HD1939Pb1-Cc",{"$f":"(E18/D18)","v":0.84461288576069304},{"$f":"[1]!AgePb76($B$18)","v":4998.8927737070744},18.47,15.6,39.24,{"$f":"(D18/I18)","v":0.36866267465069857},{"$f":"[1]!AgePb6U8(G18)","v":2023.1046781979298},50.1,22900,{"$f":"(F18/J18)","v":1.7135371179039301E-3},{"$f":"[1]!AgePb8Th2(K18)","v":34.604763782227465},null,4837.2370333173903,null,6415.878422228805]
["HD2055Pb6-Cc",{"$f":"(E19/D19)","v":0.75400291120815133},{"$f":"[1]!AgePb76($B$19)","v":4837.2370333173858},20.61,15.54,37.53,{"$f":"(D19/I19)","v":1.120108695652174},{"$f":"[1]!AgePb6U8(G19)","v":4844.269839829979},18.399999999999999,null," "," ",null,null,null,6372.4902954303752]
["HD2055Pb7-Cc1",0.82139093782929395,{"$f":"[1]!AgePb76($B$20)","v":4959.2871992254304},18.98,15.59,39.18,0.24333333333333335,{"$f":"[1]!AgePb6U8(G20)","v":1404.0028685744694},78,null," "," ",null,null,null,6372]
["HD2055Pb7-Cc2",0.81524008350730681,{"$f":"[1]!AgePb76($B$21)","v":4948.5972358681929},19.16,15.62,39.28,1.3884057971014492,{"$f":"[1]!AgePb6U8(G21)","v":5612.4165213738088},13.8,1480,{"$f":"(F21/J21)","v":2.6540540540540541E-2},{"$f":"[1]!AgePb8Th2(K21)","v":529.44821925879489},null,null,null,6292]
["HD2055Pb10-Cc",0.77855361596009964,{"$f":"[1]!AgePb76($B$22)","v":4883.0003395432686},20.05,15.61,39.299999999999997,0.17587719298245616,{"$f":"[1]!AgePb6U8(G22)","v":1044.4120308620325},114,null,null,null,null,null,null,5612.4165213738088]
["HD2055Pb11-Cc",8.8084874863982587E-2,{"$f":"[1]!AgePb76($B$23)","v":1384.335948802971},183.8,16.190000000000001,39.97,6.5409252669039145E-2,{"$f":"[1]!AgePb6U8(G23)","v":408.43835715290163},2810,null,null,null,null,null,null,4844.269839829979]
["HD2055Pb11-Op",1.7999001996007985E-2,null,2004,36.07,41.28,1.7275862068965518E-4,{"$f":"[1]!AgePb6U8(G24)","v":1.1135774352143044},11600000,19900,2.0743718592964823E-3,{"$f":"[1]!AgePb8Th2(K24)","v":41.884251050496282}]
["HD2055Pb12-Cc",5.1929158760278316E-2,{"$f":"[1]!AgePb76($B$25)","v":282.29178200205058},316.2,16.420000000000002,39.909999999999997,0.13747826086956522,{"$f":"[1]!AgePb6U8(G25)","v":830.38685148677303},2300]
["HD2055Pb12-Op",4.0290088638195005E-2,{"$f":"[1]!AgePb76($B$26)","v":-332.33410648682116},6205,250,44.51,9.0058055152394771E-4,{"$f":"[1]!AgePb6U8(G26)","v":5.8029026408715216},6890000,1.1599999999999999E-6,38370689.655172415,{"$f":"[1]!AgePb8Th2(K26)","v":352962.19225740928}]
["HD-2057-Pb1-Cc",0.14250457038391223,{"$f":"[1]!AgePb76($B$27)","v":2257.8635805422746},109.4,15.59,39.200000000000003,0.30388888888888893,{"$f":"[1]!AgePb6U8(G27)","v":1710.5640739195323},360,1760,2.2272727272727274E-2,{"$f":"[1]!AgePb8Th2(K27)","v":445.24128575863386}]
["HD-2057-Pb2-Cc",0.37654171704957679,{"$f":"[1]!AgePb76($B$28)","v":3817.9471079901537},41.35,15.57,38.43,7.0203735144312399E-2,{"$f":"[1]!AgePb6U8(G28)","v":437.3829945250065},589,1690,2.27396449704142E-2,{"$f":"[1]!AgePb8Th2(K28)","v":454.47100724187658}]
["HD-2057-Pb2-Op",2.3098688750862663E-2,null,1449,33.47,39.72,2.2818897637795276E-4,{"$f":"[1]!AgePb6U8(G29)","v":1.4708328459852666},6350000,13900,2.8575539568345323E-3,{"$f":"[1]!AgePb8Th2(K29)","v":57.6751674742777}]
["HD2059Pb4-Cc",0.19191185373531902,{"$f":"[1]!AgePb76($B$30)","v":2758.6154099350538},82.59,15.85,39.520000000000003,0.40092233009708739,{"$f":"[1]!AgePb6U8(G30)","v":2173.2849438531066},206,415,9.5228915662650612E-2,{"$f":"[1]!AgePb8Th2(K30)","v":1838.5729523822154}]
["HD2062Pb1-Cc",3.8586156111929309E-2,{"$f":"[1]!AgePb76($B$31)","v":-444.77331376212413},407.4,15.72,44.83,7.1223776223776216,{"$f":"[1]!AgePb6U8(G31)","v":13502.806910237272},57.2]
["HD2062Pb2-Cc",0.81230448383733056,{"$f":"[1]!AgePb76($B$32)","v":4943.4649943184158},19.18,15.58,39.14,0.35917602996254683,{"$f":"[1]!AgePb6U8(G32)","v":1978.2669190573738},53.4,27800,1.4079136690647483E-3,{"$f":"[1]!AgePb8Th2(K32)","v":28.437058876182348}]
["HD2062Pb3-Mn",0.8590308370044053,{"$f":"[1]!AgePb76($B$33)","v":5022.9050641552758},18.16,15.6,39.18,4.5286783042394019,{"$f":"[1]!AgePb6U8(G33)","v":11023.038080965302},4.01,1600,2.4487499999999999E-2,{"$f":"[1]!AgePb8Th2(K33)","v":488.98408385425358}]
["HD2065Pb4-Cc",0.23585189644792295,{"$f":"[1]!AgePb76($B$34)","v":3092.1909355063431},66.44,15.67,39.18,0.11396226415094339,{"$f":"[1]!AgePb6U8(G34)","v":695.71807729312036},583,3790,1.0337730870712401E-2,{"$f":"[1]!AgePb8Th2(K34)","v":207.87593651339753}]
["HD2074Pb1-Cc2",2.7981981981981981E-2,null,555,15.53,43.61,0.12788018433179724,{"$f":"[1]!AgePb6U8(G35)","v":775.76101769643935},4340]
["HD2074Pb1-Cc3",0.46128841607565008,{"$f":"[1]!AgePb76($B$36)","v":4122.0193774773015},33.840000000000003,15.61,39.18,2.7737704918032791E-2,{"$f":"[1]!AgePb6U8(G36)","v":176.37378642069558},1220,825,4.7490909090909091E-2,{"$f":"[1]!AgePb8Th2(K36)","v":937.80079038570238}]
["HD2074Pb2-Cc1",0.17845079936951139,{"$f":"[1]!AgePb76($B$37)","v":2638.5251591243909},88.82,15.85,39.479999999999997,2.9121311475409833E-2,{"$f":"[1]!AgePb6U8(G37)","v":185.04652695193346},3050]
["HD2074Pb2-Cc2",0.39334833708427108,{"$f":"[1]!AgePb76($B$38)","v":3883.8455058505187},39.99,15.73,38.61,2.272159090909091E-2,{"$f":"[1]!AgePb6U8(G38)","v":144.83352316564677},1760,482,8.0103734439834026E-2,{"$f":"[1]!AgePb8Th2(K38)","v":1557.49544074456}]
["HD2074Pb2-Op",5.6500146070698212E-2,{"$f":"[1]!AgePb76($B$39)","v":472.07628383261931},342.3,19.34,38.049999999999997,8.8449612403100785E-5,{"$f":"[1]!AgePb6U8(G39)","v":0.57015762105945977},3870000,34700,1.0965417867435157E-3,{"$f":"[1]!AgePb8Th2(K39)","v":22.151410286663168}]
["HD2089APbl-Ccl",5.8525688756515268E-3,null,2686,15.72,72.02,2.4642201834862387,{"$f":"[1]!AgePb6U8(G40)","v":8009.5893765814808},1090]
["HD2089APb1-Cc2a",1.1378799110452187E-3,null,13490,15.35,210.2,1.7054361567635903,{"$f":"[1]!AgePb6U8(G41)","v":6415.878422228805},7910]
["HD2089APb1-Cc2b",7.0230607966457028E-4,null,23850,16.75,341.1,2.2289719626168223,{"$f":"[1]!AgePb6U8(G42)","v":7556.253400456525},10700]
["HD2089APb1-Cc2c",7.8704168759417374E-3,null,1991,15.67,65.930000000000007,1.6872881355932203,{"$f":"[1]!AgePb6U8(G43)","v":6372.4902954303752},1180]
["HD2089APb1-Cc3",1.3624454148471615E-2,null,1145,15.6,53.63,1.0132743362831858,{"$f":"[1]!AgePb6U8(G44)","v":4510.9583863249927},1130,43600,1.230045871559633E-3,{"$f":"[1]!AgePb8Th2(K44)","v":24.846689942866455}]
["HD2089APb2-Cc",0.28036710455281627,{"$f":"[1]!AgePb76(B45)","v":3364.9765099568349},55.57,15.58,39.619999999999997,9.9587813620071692,{"$f":"[1]!AgePb6U8(G45)","v":15433.625049089198},5.58,56300,7.0373001776198932E-4,{"$f":"[1]!AgePb8Th2(K45)","v":14.218949285547959}]
["HD2089APb3-Mn",0.83870967741935476,{"$f":"[1]!AgePb76($B$46)","v":4988.9354154144557},18.600000000000001,15.6,39.17,5.7407407407407405,{"$f":"[1]!AgePb6U8(G46)","v":12300.85299643814},3.24,10500,3.7304761904761907E-3,{"$f":"[1]!AgePb8Th2(K46)","v":75.260944333457729}]
["HD2092Pb1-Cc",0.79037974683544299,{"$f":"[1]!AgePb76($B$47)","v":4904.4990133072524},19.75,15.61,39.69,7.342007434944238E-2,{"$f":"[1]!AgePb6U8(G47)","v":456.72768563522476},269,288000,1.378125E-4,{"$f":"[1]!AgePb8Th2(K47)","v":2.7853058055541302}]
["HD2092Pb1-Mn",0.8574573472757292,{"$f":"[1]!AgePb76($B$48)","v":5020.3053913074682},18.170000000000002,15.58,39.054000000000002,76.666666666666671,{"$f":"[1]!AgePb6U8(G48)","v":28057.541755987695},0.23699999999999999,4940,7.9056680161943317E-3,{"$f":"[1]!AgePb8Th2(K48)","v":159.16284896852093}]
["HD2098Pb3-Cc",0.62444889779559121,{"$f":"[1]!AgePb76($B$49)","v":4565.9430351386945},24.95,15.58,39.33,1.1039823008849556,{"$f":"[1]!AgePb6U8(G49)","v":4795.0483978285829},22.6,15100,2.6046357615894041E-3,{"$f":"[1]!AgePb8Th2(K49)","v":52.57705055972307}]
["HD2109Pb1-Cc",0.66383340416489578,{"$f":"[1]!AgePb76($B$50)","v":4654.3492082259163},23.53,15.62,39.479999999999997,2.7045977011494258,{"$f":"[1]!AgePb6U8(G50)","v":8442.0607262969133},8.6999999999999993,41700,9.4676258992805744E-4,{"$f":"[1]!AgePb8Th2(K50)","v":19.127128709576112}]
["HD2155Pb1-Cc",0.44619347452776192,{"$f":"[1]!AgePb76($B$51)","v":4072.5672617366927},34.94,15.59,39.61,0.22411802437459907,{"$f":"[1]!AgePb6U8(G51)","v":1303.5977733065295},155.9,14800,2.6763513513513512E-3,{"$f":"[1]!AgePb8Th2(K51)","v":54.022765040546162}]
["HD2177Pb1-Cc",8.1803880440482438E-2,{"$f":"[1]!AgePb76($B$52)","v":1240.8253069563914},190.7,15.6,40.17,0.73629343629343624,{"$f":"[1]!AgePb6U8(G52)","v":3556.8259924391559},259,12200,3.2926229508196724E-3,{"$f":"[1]!AgePb8Th2(K52)","v":66.441922939025957}]
["HD2177Pb2-Cc",0.67139784946236558,{"$f":"[1]!AgePb76($B$53)","v":4670.6846567141438},23.25,15.61,39.159999999999997,4.7741273100616016E-2,{"$f":"[1]!AgePb6U8(G53)","v":300.63934638107531},487,13500,2.9007407407407406E-3,{"$f":"[1]!AgePb8Th2(K53)","v":58.545562618634001}]
["HD2177Pb1-Mn",8.5753575357535752,{"$f":"[1]!AgePb76($B$54)","v":8125.8564072258814},18.18,155.9,39.159999999999997,10.329545454545455,{"$f":"[1]!AgePb6U8(G54)","v":15648.115748484332},1.76,18300,2.1398907103825134E-3,{"$f":"[1]!AgePb8Th2(K54)","v":43.205748464961353}]
["HD2227Pb1-Cc",0.53228561667236074,{"$f":"[1]!AgePb76($B$55)","v":4333.2059851153372},29.27,15.58,39.549999999999997,0.11755020080321285,{"$f":"[1]!AgePb6U8(G55)","v":716.44782540265942},249,71600,5.5237430167597761E-4,{"$f":"[1]!AgePb8Th2(K55)","v":11.161633130829889}]
["HD2227Pb1-Mn",0.85690698954320299,{"$f":"[1]!AgePb76($B$56)","v":5019.3949108127808},18.170000000000002,15.57,39.090000000000003,11.7987012987013,{"$f":"[1]!AgePb6U8(G56)","v":16434.125413305988},1.54,16200,2.4129629629629631E-3,{"$f":"[1]!AgePb8Th2(K56)","v":48.712611267198483}]
["HD2231Pb1-Cc",0.84503239740820735,{"$f":"[1]!AgePb76($B$57)","v":4999.5975777756503},18.52,15.65,39.18,2.5580110497237567E-2,{"$f":"[1]!AgePb6U8(G57)","v":162.82619793912031},724,349000,1.1226361031518624E-4,{"$f":"[1]!AgePb8Th2(K57)","v":2.2689703734760536}]
["HD2233Pb1-Ch1",6.8436675461741425E-2,{"$f":"[1]!AgePb76($B$58)","v":881.80746822939147},303.2,20.75,50.04,1.8047619047619047E-3,{"$f":"[1]!AgePb6U8(G58)","v":11.623756833627013},168000]
["HD2233Pb1-Ch2",7.6300578034682084E-2,{"$f":"[1]!AgePb76($B$59)","v":1102.9680181560091},294.10000000000002,22.44,48.89,1.2899122807017544E-3,{"$f":"[1]!AgePb6U8(G59)","v":8.3099504179301977},228000,160,0.30556250000000001,{"$f":"[1]!AgePb8Th2(K59)","v":5389.2669507577175}]
["HD2233Pb2-Ch1",0.1351940095302927,{"$f":"[1]!AgePb76($B$60)","v":2166.5169092047463},146.9,19.86,41.76,1.2555555555555555E-3,{"$f":"[1]!AgePb6U8(G60)","v":8.0887542615260628},117000]
["HD2233Pb2-Ch2",0.11127780651836523,{"$f":"[1]!AgePb76($B$61)","v":1820.3894901005988},193.3,21.51,43.59,1.1858895705521473E-3,{"$f":"[1]!AgePb6U8(G61)","v":7.6402060205661488},163000,252,0.17297619047619048,{"$f":"[1]!AgePb8Th2(K61)","v":3224.745254998878}]
["HD2233Pb3-Ch",0.17659980897803246,{"$f":"[1]!AgePb76($B$62)","v":2621.1950635953726},104.7,18.489999999999998,40.93,1.5284671532846716E-3,{"$f":"[1]!AgePb6U8(G62)","v":9.8456099034772535},68500]
["HD2233Pb4-Ch",0.13894389438943894,{"$f":"[1]!AgePb76($B$63)","v":2214.0862301124707},151.5,21.05,40.56,1.8453105968331304E-3,{"$f":"[1]!AgePb6U8(G63)","v":11.88467431343854},82100]
["HD2233Pb5-Ch",0.31407269338303823,{"$f":"[1]!AgePb76($B$64)","v":3541.0502874186891},53.65,16.850000000000001,39.5,2.8386243386243387E-3,{"$f":"[1]!AgePb6U8(G64)","v":18.273025319617272},18900]
["HD2247Pb1-Cc1",0.815803244374673,{"$f":"[1]!AgePb76($B$65)","v":4949.5795500452723},19.11,15.59,31.22,0.33703703703703702,{"$f":"[1]!AgePb6U8(G65)","v":1872.399673389242},56.7,9960,3.1345381526104417E-3,{"$f":"[1]!AgePb8Th2(K65)","v":63.256912173382517}]
["HD2247Pb1-Cc2",0.82443151771549439,{"$f":"[1]!AgePb76($B$66)","v":4964.5402241918455},18.91,15.59,39.24,0.16734513274336282,{"$f":"[1]!AgePb6U8(G66)","v":997.46690184359636},113,30200,1.2993377483443709E-3,{"$f":"[1]!AgePb8Th2(K66)","v":26.245464164832196}]
["HD2247Pb2-Cc",0.7578998541565386,{"$f":"[1]!AgePb76($B$67)","v":4844.6061865939582},20.57,15.59,39.29,1.2171597633136096E-4,{"$f":"[1]!AgePb6U8(G67)","v":0.78458384878603971},169000,4730,8.3065539112050744E-3,{"$f":"[1]!AgePb8Th2(K67)","v":167.200492317986}]
["HD2247Pb1-Op",0.20615419296663659,{"$f":"[1]!AgePb76($B$68)","v":2875.5511140813828},88.72,18.29,38.75,125.31073446327684,{"$f":"[1]!AgePb6U8(G68)","v":31192.554504666758},0.70799999999999996,158000,2.4525316455696204E-4,{"$f":"[1]!AgePb8Th2(K68)","v":4.9565052029491889}]
["HD2247Pb1-Mn",0.85990071704357418,{"$f":"[1]!AgePb76($B$69)","v":5024.3400848397669},18.13,15.59,39.14,25.60734463276836,{"$f":"[1]!AgePb6U8(G69)","v":21151.892291307289},0.70799999999999996,3330,1.1753753753753754E-2,{"$f":"[1]!AgePb8Th2(K69)","v":236.18423297294208}]
["HD2293Pb1-Cc",0.42849359847453011,{"$f":"[1]!AgePb76($B$70)","v":4012.206716367446},36.71,15.73,39.24,0.15359832635983264,{"$f":"[1]!AgePb6U8(G70)","v":921.10257372987337},239]
["HD2293Pb1-Op",4.502423081257749E-2,{"$f":"[1]!AgePb76($B$71)","v":-54.343836264344986},887.3,39.950000000000003,41.17,9.0448521916411818E-4,{"$f":"[1]!AgePb6U8(G71)","v":5.8280510484597512},981000,33400,1.2326347305389221E-3,{"$f":"[1]!AgePb8Th2(K71)","v":24.898952199222105}]
["HD2294Pb1-Cc",0.24325588648058633,{"$f":"[1]!AgePb76($B$72)","v":3141.396162991653},64.13,15.6,39.61,36.231638418079093,{"$f":"[1]!AgePb6U8(G72)","v":23317.704399179525},1.77,42500,9.3199999999999999E-4,{"$f":"[1]!AgePb8Th2(K72)","v":18.829023904274266}]
[null,"Average",{"$f":"AVERAGE(C18:C72)","v":3459.4259289425868},null,null,null,"Average",{"$f":"AVERAGE(H18:H72)","v":4890.6921675954},null,null,"Average",{"$f":"AVERAGE(L18:L72)","v":9983.6420687878563}]
[null,"Maximum",{"$f":"MAX(C18:C73)","v":8125.8564072258814},null,null,null,"Maximum",{"$f":"MAX(H18:H73)","v":31192.554504666758},null,null,"Maximum",{"$f":"MAX(L18:L73)","v":352962.19225740928}]
[null,"Minimum",{"$f":"MIN(C18:C74)","v":-444.77331376212413},null,null,null,"Minimum",{"$f":"MIN(H18:H74)","v":0.57015762105945977},null,null,"Minimum",{"$f":"MIN(L18:L74)","v":2.2689703734760536}]
[null,"Difference",{"$f":"(C74-C75)","v":8570.6297209880049},null,null,null,"Difference",{"$f":"(H74-H75)","v":31191.984347045698},null,null,"Difference",{"$f":"(L74-L75)","v":352959.92328703578}]
[]
[]
[]
["Table 1"]
["Dating","207Pb/206Pb","206Pb/238U","208Pb/232Th","87Rb/86Sr"]
["Summary","Age","Age","Age","Age"]
["Average",3459.4259289425868,4890.6921675954,9983.6420687878563,11.906010599910806]
["Maximum",8125.8564072258814,31192.554504666758,352962.19225740928,12.743533008162739]
["Minimum",-444.77331376212413,0.57015762105945977,2.2689703734760536,10.670579408452415]
["Difference",8570.6297209880049,31191.984347045698,352959.92328703578,2.0729535997103241]
[]
[null,null,null,null,null,"Table 3"]
[null,null,null,null,null,"Dating","206Pb/238U","207Pb/235U","208Pb/232Th","87Rb/86Sr"]
["Table 3","Age","Age","Age",null,"Summary","Age","Age","Age","Age"]
[null,"206Pb/238U","207Pb/235U","208Pb/232Th",null,"Average",1540.2325145833338,45.546254054054046,7687.4080000000004,11.906010599910806]
["HD1939Pb1-Cc",38.200000000000003,28,96,null,"Maximum",20209,486,82030,12.743533008162739]
["HD2055Pb6-Cc",798,"—","—",null,"Minimum",0.53269999999999995,0,3.2,10.670579408452415]
["HD2055Pb7-Cc1",631,64,"—",null,"Difference",20208.4673,486,82026.8,2.0729535997103241]
["HD2055Pb7-Cc2",442,285,1864]
["HD2055Pb10-Cc",103.8,23,"—"]
["HD2055Pb11-Cc",365.3,29.3,"—"]
["HD2055Pb11-Op",1.0960000000000001,0.24510000000000001,1951]
["HD2055Pb12-Cc",775.9,49,"—"]
["HD2055Pb12-Op",5.726,4.702,88]
["HD-2057-Pb1-Cc",1455,"—","—"]
["HD-2057-Pb2-Cc",248.8,"—","—"]
["HD-2057-Pb2-Op",1.454,0.39439999999999997,"—"]
["HD2059Pb4-Cc",1737.9,162,12900]
["HD2062Pb1-Cc",420.2,3.29,"—"]
["HD2062Pb2-Cc",118.8,"—",9]
["HD2065Pb4-Cc",505.9,18.8,276]
["HD2074Pb1-Cc2",744.6,"—","—"]
["HD2074Pb1-Cc3",81.37,2.9,1300]
["HD2074Pb2-Cc1",145.69999999999999,11.9,"—"]
["HD2074Pb2-Cc2",78.260000000000005,10.9,"—"]
["HD2074Pb2-Op",0.53269999999999995,0.13289999999999999,"—"]
["HD2089APb1-Cc1",7940,16,"—"]
["HD2089APb1-Cc2a",6372,"—","—"]
["HD2089APb1-Cc2b",7504,15,"—"]
["HD2089APb1-Cc2c",6292,9,"—"]
["HD2089APb1-Cc3",4423,"n.d.",28600]
["HD2089APb2-Cc",3270,"n.d.",166]
["HD2092Pb1-Cc",37.5,10,37]
["HD2098Pb3-Cc",2734,"—",250]
["HD2109Pb1-Cc",3353,486,161]
["HD2155Pb1-Cc",398.6,0,607]
["HD2177Pb1-Cc",20209,277,1555]
["HD2177Pb2-Cc",66.62,6,49]
["HD2227Pb1-Cc",279.89999999999998,"—",112]
["HD2231Pb1-Cc",3.11,12,3.2]
["HD2233Pb1-Ch1",10.781000000000001,4.218,"—"]
["HD2233Pb1-Ch2",7.6870000000000003,4.133,82030]
["HD2233Pb2-Ch1",6.9790000000000001,5.01,"—"]
["HD2233Pb2-Ch2",6.85,5.0229999999999997,57900]
["HD2233Pb3-Ch",7.9720000000000004,5.78,"—"]
["HD2233Pb4-Ch",10.284000000000001,9.1,"—"]
["HD2233Pb5-Ch",11.69,8.9499999999999993,"—"]
["HD2247Pb1-Cc1",148.6,16,177]
["HD2247Pb1-Cc2",41.5,"—",69]
["HD2247Pb2-Cc",143,6,649]
["HD2293Pb1-Cc",474.5,81,"—"]
["HD2293Pb1-Op",5.649,3.4329999999999998,1120]
["HD2294Pb1-Cc",1473.4,12,216]
["Average",1540.2325145833338,45.546254054054046,7687.4080000000004]
["Maximum",20209,486,82030]
["Minimum",0.53269999999999995,0,3.2]
["Difference",20208.4673,486,82026.8]
[]
[]
["Summary","206Pb/238U Age ","207Pb/235U Age","208Pb/232Th Age"]
["Average",1540.2325145833338,45.546254054054046,7687.4080000000004]
["Maximum",20209,486,82030]
["Minimum",0.53269999999999995,0,3.2]
["Difference",20208.4673,486,82026.8]