{"text_format":"1","workbook":"xlsx","n_sheets":19,"sheets":["Index","Rb-Sr_01","Rb-Sr _02","Rb-Sr _03","Rb-Sr _04","Rb-Sr _05","Rb-Sr _06","Rb-Sr _07","Rb-Sr _08","Rb-Sr _09","Rb-Sr _10","Rb-Sr _11","Rb-Sr _12","Rb-Sr _13","Rb-Sr _14","Rb-Sr _15","Rb-Sr _16","Rb-Sr _17","Rb-Sr _18"],"not_rendered":{"charts":0,"images":0,"macros":1,"external_links":1,"defined_names":18,"comments":1,"pivot_tables":0},"unopened":[],"bounds":{"document_bytes":16777216,"sheet_cells":100000,"rows_first":2000,"rows_last":500,"rows_between":2000,"halvings":0,"cell_chars":16384,"cell_head_chars":4096},"cells_cut":0,"cells_raw":0,"read":"whole","date_system":"1900"}

{"sheet":"Index","index":0,"n_rows":19,"n_cols":9,"rows_kept":19,"cut":false,"hidden":false,"merged":[]}
["Number","Spreadsheet","Magazine","Title","Folder","File Name","Hyperlink"]
[1,"Rb-Sr_01","Geochimica et Cosmochimica Acta, 1991, Volume 55, Pages 829-848","Sm-Nd and Rb-Sr isotopic systematics of ureilites",{"$f":"(\"C:\\Essays\\Geo_Dating\\Rubidium\\\")","v":"C:\\Essays\\Geo_Dating\\Rubidium\\"},"Rubidium_040.pdf",{"$f":"(E2 & F2)","v":"C:\\Essays\\Geo_Dating\\Rubidium\\Rubidium_040.pdf"},{"$f":"(A2)","v":1},{"$f":"(D2 & \", \"  & C2)","v":"Sm-Nd and Rb-Sr isotopic systematics of ureilites, Geochimica et Cosmochimica Acta, 1991, Volume 55, Pages 829-848"}]
[2,"Rb-Sr_02","Journal Of Petrology, 2001, Volume 42, Number 7, Pages 1387-1400","Sr, Nd, Pb and Os Isotopes","C:\\Essays\\Geo_Dating\\Rubidium\\","Rubidium_041.pdf","C:\\Essays\\Geo_Dating\\Rubidium\\Rubidium_041.pdf",{"$f":"(A3)","v":2},{"$f":"(D3 & \", \"  & C3)","v":"Sr, Nd, Pb and Os Isotopes, Journal Of Petrology, 2001, Volume 42, Number 7, Pages 1387-1400"}]
[3,"Rb-Sr_03","Geochimica et Cosmochimica Acta, 2001, Volume 65, Number 22, Pages 4243–4255","Sr-Nd-Pb isotope systematics of mantle xenoliths","C:\\Essays\\Geo_Dating\\Rubidium\\","Rubidium_042.pdf","C:\\Essays\\Geo_Dating\\Rubidium\\Rubidium_042.pdf",3,"Sr-Nd-Pb isotope systematics of mantle xenoliths, Geochimica et Cosmochimica Acta, 2001, Volume 65, Number 22, Pages 4243–4255"]
[4,"Rb-Sr_04","Geochimica et Cosmochimica Acta, 1997, Volume 61, Number 19, Pages 4181-4200","Strontium, neodymium, and lead isotope variations","C:\\Essays\\Geo_Dating\\Rubidium\\","Rubidium_043.pdf","C:\\Essays\\Geo_Dating\\Rubidium\\Rubidium_043.pdf",4,"Strontium, neodymium, and lead isotope variations, Geochimica et Cosmochimica Acta, 1997, Volume 61, Number 19, Pages 4181-4200"]
[5,"Rb-Sr_05","Geochimica et Cosmochimica Acta, 2002, Volume 66, Number 10, Pages 1821–1837","Crystallization history of rhyolites at Long Valley","C:\\Essays\\Geo_Dating\\Rubidium\\","Rubidium_044.pdf","C:\\Essays\\Geo_Dating\\Rubidium\\Rubidium_044.pdf",5,"Crystallization history of rhyolites at Long Valley, Geochimica et Cosmochimica Acta, 2002, Volume 66, Number 10, Pages 1821–1837"]
[6,"Rb-Sr_06","Geochimica et Cosmochimica Acta, 2003, Volume 67, Number 23, Pages 4577–4595","Fluid–rock interaction during progressive migration",{"$f":"(\"C:\\Essays\\Geo_Dating\\Rubidium\\\")","v":"C:\\Essays\\Geo_Dating\\Rubidium\\"},"Rubidium_045.pdf","C:\\Essays\\Geo_Dating\\Rubidium\\Rubidium_045.pdf",6,"Fluid–rock interaction during progressive migration, Geochimica et Cosmochimica Acta, 2003, Volume 67, Number 23, Pages 4577–4595"]
[7,"Rb-Sr_07","Geochimica et Cosmochimica Acta, 2005, Volume 69, Number 24, Pages 5819–5830","Constraints on the U-Pb isotopic systematics","C:\\Essays\\Geo_Dating\\Rubidium\\","Rubidium_046.pdf","C:\\Essays\\Geo_Dating\\Rubidium\\Rubidium_046.pdf",7,"Constraints on the U-Pb isotopic systematics, Geochimica et Cosmochimica Acta, 2005, Volume 69, Number 24, Pages 5819–5830"]
[8,"Rb-Sr_08","Canadian Journal Of Earth Science, 1987, Volume 24, Pages 24-30","Age and Radiogenic Isotopic Systematics","C:\\Essays\\Geo_Dating\\Rubidium\\","Rubidium_047.pdf","C:\\Essays\\Geo_Dating\\Rubidium\\Rubidium_047.pdf",8,"Age and Radiogenic Isotopic Systematics, Canadian Journal Of Earth Science, 1987, Volume 24, Pages 24-30"]
[9,"Rb-Sr_09","Journal Of Petrology, 1998, Volume 39, Number 4, Pages 749–783","Crustal Age Domains","C:\\Essays\\Geo_Dating\\Rubidium\\","Rubidium_048.pdf","C:\\Essays\\Geo_Dating\\Rubidium\\Rubidium_048.pdf",9,"Crustal Age Domains, Journal Of Petrology, 1998, Volume 39, Number 4, Pages 749–783"]
[10,"Rb-Sr_10","Journal Of Petrology, 2010, Volume 51, Number 7, Pages 1417-1445","Melt Peridotite Reactions","C:\\Essays\\Geo_Dating\\Rubidium\\","Rubidium_049.pdf","C:\\Essays\\Geo_Dating\\Rubidium\\Rubidium_049.pdf",10,"Melt Peridotite Reactions, Journal Of Petrology, 2010, Volume 51, Number 7, Pages 1417-1445"]
[11,"Rb-Sr_11","Geochimica et Cosmochimica Acta, 2006, Volume 70, Pages 5990–6015","Feldspathic clasts in Yamato-86032","C:\\Essays\\Geo_Dating\\Rubidium\\","Rubidium_050.pdf","C:\\Essays\\Geo_Dating\\Rubidium\\Rubidium_050.pdf",11,"Feldspathic clasts in Yamato-86032, Geochimica et Cosmochimica Acta, 2006, Volume 70, Pages 5990–6015"]
[12,"Rb-Sr_12","Geochimica et Cosmochimica Acta, 2006, Volume 70, Pages 4950–4976","Cretaceous seamounts along the continent","C:\\Essays\\Geo_Dating\\Rubidium\\","Rubidium_051.pdf","C:\\Essays\\Geo_Dating\\Rubidium\\Rubidium_051.pdf",12,"Cretaceous seamounts along the continent, Geochimica et Cosmochimica Acta, 2006, Volume 70, Pages 4950–4976"]
[13,"Rb-Sr_13","Geochimica et Cosmochimica Acta, 1998, Volume 62, Number 12, Pages 2179–2196","Petrology and geochemistry of target rocks","C:\\Essays\\Geo_Dating\\Rubidium\\","Rubidium_052.pdf","C:\\Essays\\Geo_Dating\\Rubidium\\Rubidium_052.pdf",13,"Petrology and geochemistry of target rocks, Geochimica et Cosmochimica Acta, 1998, Volume 62, Number 12, Pages 2179–2196"]
[14,"Rb-Sr_14","Journal Of Geophysical Research, 1981, Volume 86, Number B11, Pages 10663-10680","Geochronology of the Deep Profile","C:\\Essays\\Geo_Dating\\Rubidium\\","Rubidium_053.pdf","C:\\Essays\\Geo_Dating\\Rubidium\\Rubidium_053.pdf",14,"Geochronology of the Deep Profile, Journal Of Geophysical Research, 1981, Volume 86, Number B11, Pages 10663-10680"]
[15,"Rb-Sr_15","Geochimica et Cosmochimica Acta, 2009, Volume 73, Pages 3963–3980","Mechanisms for Incompatible-Element Enrichment","C:\\Essays\\Geo_Dating\\Rubidium\\","Rubidium_054.pdf","C:\\Essays\\Geo_Dating\\Rubidium\\Rubidium_054.pdf",15,"Mechanisms for Incompatible-Element Enrichment, Geochimica et Cosmochimica Acta, 2009, Volume 73, Pages 3963–3980"]
[16,"Rb-Sr_16","Journal Of Petrology, 2001, Volume 42, Number 1, Pages 159-172","A Non-Cognate Origin Of The Gibeon Kimberlites","C:\\Essays\\Geo_Dating\\Rubidium\\","Rubidium_055.pdf","C:\\Essays\\Geo_Dating\\Rubidium\\Rubidium_055.pdf",16,"A Non-Cognate Origin Of The Gibeon Kimberlites, Journal Of Petrology, 2001, Volume 42, Number 1, Pages 159-172"]
[17,"Rb-Sr_17","Chemical Geology 255 (2008) 329–345","Zircon U–Pb geochronology","C:\\Essays\\Geo_Dating\\Rubidium\\","Rubidium_057.pdf",{"$f":"(E18 & F18)","v":"C:\\Essays\\Geo_Dating\\Rubidium\\Rubidium_057.pdf"},17,"Zircon U–Pb geochronology, Chemical Geology 255 (2008) 329–345"]
[18,"Rb-Sr_18","Geochimica et Cosmochimica Acta, 1997, Volume 61, Number 8, Pages 1713-1731","Radiometric ages of basaltic achondrites","C:\\Essays\\Geo_Dating\\Rubidium\\","Rubidium_058.pdf","C:\\Essays\\Geo_Dating\\Rubidium\\Rubidium_058.pdf",18,"Radiometric ages of basaltic achondrites, Geochimica et Cosmochimica Acta, 1997, Volume 61, Number 8, Pages 1713-1731"]

{"sheet":"Rb-Sr_01","index":1,"n_rows":58,"n_cols":15,"rows_kept":58,"cut":false,"hidden":false,"merged":[]}
["Neodymium",null,null,null,null,null,null,null,null,null,"Rubidium_040.pdf"]
["Samarium","Initial","Today","Today","The Ratio","Half","Decay","2.303/Delta","Age","Age","Age","Model Age","Model Age","Model Age"]
["Dating","143Nd/144Nd","143Nd/144Nd","147Sm/144Nd","Plus One","Life","Constant","Constant","Years","Million Years","Billion Years","Million Years","% Difference"," Difference"]
[null,0.50880000000000003,0.51408699999999996,0.18840000000000001,{"$f":"1+((C4-B4)/D4)","v":1.0280626326963902},106000000000,{"$f":"(0.693/F4)","v":6.5377358490566029E-12},{"$f":"(2.303/G4)","v":352262626262.62628},{"$f":"(LOG(E4))*(H4)","v":4234046705.012219},{"$f":"(I4/1000000)","v":4234.0467050122188},{"$f":"(J4/1000)","v":4.2340467050122186}]
[null,0.50880000000000003,0.512405,0.11899999999999999,{"$f":"1+((C5-B5)/D5)","v":1.0302941176470586},106000000000,6.5377358490566029E-12,{"$f":"(2.303/G5)","v":352262626262.62628},{"$f":"(LOG(E5))*(H5)","v":4565753493.7939005},{"$f":"(I5/1000000)","v":4565.7534937939008},{"$f":"(J5/1000)","v":4.5657534937939008}]
[null,0.50880000000000003,0.51990000000000003,0.34799999999999998,1.0318965517241379,106000000000,6.5377358490566029E-12,352262626262.62628,4803509949.2283792,4803.5099492283789,4.8035099492283786]
[null,0.50880000000000003,0.51880000000000004,0.34539999999999998,1.0289519397799654,106000000000,6.5377358490566029E-12,352262626262.62628,4366327039.9447412,4366.327039944741,4.3663270399447409]
[null,0.50880000000000003,0.51232100000000003,0.11650000000000001,1.0302231759656653,106000000000,6.5377358490566029E-12,352262626262.62628,4555219183.9168291,4555.219183916829,4.5552191839168295]
[null,0.50880000000000003,0.51226700000000003,0.1143,1.0303324584426947,106000000000,6.5377358490566029E-12,352262626262.62628,4571446513.6683922,4571.4465136683921,4.5714465136683922]
[null,0.50880000000000003,0.51303100000000001,0.14000000000000001,1.0302214285714284,106000000000,6.5377358490566029E-12,352262626262.62628,4554959699.768877,4554.9596997688768,4.5549596997688768]
[null,0.50880000000000003,0.51224700000000001,0.11600000000000001,1.0297155172413792,106000000000,6.5377358490566029E-12,352262626262.62628,4479814479.2808914,4479.8144792808916,4.4798144792808916]
[null,0.50880000000000003,0.51225399999999999,0.1263,1.0273475851148057,106000000000,6.5377358490566029E-12,352262626262.62628,4127603651.6246953,4127.603651624695,4.1276036516246952,null,3]
[null,0.50880000000000003,0.51261000000000001,0.1187,1.0320977253580452,106000000000,6.5377358490566029E-12,352262626262.62628,4833332408.1515532,4833.332408151553,4.833332408151553]
[null,0.50880000000000003,0.51230900000000001,0.12,1.0292416666666666,106000000000,6.5377358490566029E-12,352262626262.62628,4409397891.0085411,4409.3978910085407,4.409397891008541]
[null,0.50880000000000003,0.51517000000000002,0.2293,1.0277802006105539,106000000000,6.5377358490566029E-12,352262626262.62628,4192012290.6138968,4192.0122906138968,4.1920122906138966]
[null,0.50880000000000003,0.51263400000000003,0.11749999999999999,1.0326297872340426,106000000000,6.5377358490566029E-12,352262626262.62628,4912178520.003931,4912.1785200039312,4.9121785200039314]
[null,0.50880000000000003,0.51332999999999995,0.1588,1.0285264483627199,106000000000,6.5377358490566029E-12,352262626262.62628,4303051420.7232161,4303.0514207232163,4.3030514207232162]
[null,0.50880000000000003,0.51727999999999996,0.31569999999999998,1.0268609439341145,106000000000,6.5377358490566029E-12,352262626262.62628,4055119140.7263713,4055.1191407263714,4.0551191407263714]
[null,0.50880000000000003,0.51683000000000001,0.34720000000000001,1.0231278801843318,106000000000,6.5377358490566029E-12,352262626262.62628,3497939461.8977566,3497.9394618977567,3.4979394618977566]
[null,0.50880000000000003,0.51639000000000002,0.33489999999999998,1.0226634816363094,106000000000,6.5377358490566029E-12,352262626262.62628,3428483361.5817518,3428.483361581752,3.428483361581752]
[null,0.50880000000000003,0.51636000000000004,0.27929999999999999,1.0270676691729324,106000000000,6.5377358490566029E-12,352262626262.62628,4085914766.558558,4085.9147665585579,4.0859147665585578]
[null,0.50880000000000003,0.51727699999999999,0.3498,1.024233847913093,106000000000,6.5377358490566029E-12,352262626262.62628,3663222692.1437626,3663.2226921437627,3.6632226921437629]
[null,0.50880000000000003,0.51658899999999996,0.32640000000000002,1.0238633578431371,106000000000,6.5377358490566029E-12,352262626262.62628,3607874060.6187749,3607.8740606187748,3.6078740606187747]
[null,0.50880000000000003,0.51682499999999998,0.31419999999999998,1.0255410566518139,106000000000,6.5377358490566029E-12,352262626262.62628,3858350742.4564285,3858.3507424564286,3.8583507424564285]
[null,0.50880000000000003,0.51685400000000004,0.31390000000000001,1.0256578528193692,106000000000,6.5377358490566029E-12,352262626262.62628,3875772890.1694007,3875.7728901694009,3.8757728901694009,null,"Dating","Age","Age"]
[null,0.50880000000000003,0.51255399999999995,0.19420000000000001,1.0193305870236866,106000000000,6.5377358490566029E-12,352262626262.62628,2929083559.0472708,2929.0835590472707,2.9290835590472706,null,"Summary","147Sm/144Nd","87Rb/86Sr"]
[null,null,null,null,null,null,null,null,"Average",{"$f":"AVERAGE(J4:J26)","v":4170.0179966060941},null,null,"Average",4170.0179966060941,7759.1790143396584]
[null,null,null,null,null,null,null,null,"Maximum",{"$f":"MAX(J4:J27)","v":4912.1785200039312},null,null,"Maximum",4912.1785200039312,19651.504112104896]
[null,null,null,null,null,null,null,null,"Minimum",{"$f":"MIN(J4:J28)","v":2929.0835590472707},null,null,"Minimum",2929.0835590472707,2423.0465020921279]
[null,null,null,null,null,null,null,null,"Difference",{"$f":"(J28-ABS(J29))","v":1983.0949609566605},null,null,"Difference",1983.0949609566605,17228.457610012767]
[]
[]
["Rubidium"]
["Strontium","Initial","Today","Today","The Ratio","Half","Decay","2.303/Delta","Age","Age","Age","87Rb/86Sr","87Rb/86Sr","Model Age"]
["Dating","87Sr/86Sr","87Sr/86Sr","87Rb/86Sr","Plus One","Life","Constant","Constant","Years","Million Years","Billion Years","Age Sorted","Age Sorted"," Difference"]
[null,0.69896999999999998,0.71313899999999997,0.39889999999999998,{"$f":"1+((C36-B36)/D36)","v":1.035520180496365},48800000000,{"$f":"(0.693/F36)","v":1.4200819672131146E-11},{"$f":"(2.303/G36)","v":162173737373.7374},{"$f":"(LOG(E36))*(H36)","v":2458321457.1097836},{"$f":"(I36/1000000)","v":2458.3214571097838},{"$f":"(J36/1000)","v":2.4583214571097836},19651.504112104896,10138.974154667885]
[null,0.69896999999999998,0.71297500000000003,0.36830000000000002,{"$f":"1+((C37-B37)/D37)","v":1.0380260657073039},48800000000,1.4200819672131146E-11,{"$f":"(2.303/G37)","v":162173737373.7374},{"$f":"(LOG(E37))*(H37)","v":2628553962.510366},{"$f":"(I37/1000000)","v":2628.5539625103661},{"$f":"(J37/1000)","v":2.6285539625103662},17418.718321049,8489.6210961878751]
[null,0.69896999999999998,0.71076499999999998,0.224,1.0526562500000001,48800000000,1.4200819672131146E-11,162173737373.7374,3614296896.4708729,3614.296896470873,3.614296896470873,14812.229373535514,7714.3277434949459]
[null,0.69896999999999998,0.70865999999999996,4.1399999999999999E-2,1.2340579710144921,48800000000,1.4200819672131146E-11,162173737373.7374,14812229373.535515,14812.229373535514,14.812229373535514,13793.644086073022,6819.2207735779321]
[null,0.69896999999999998,0.70869700000000002,0.1226,1.0793393148450248,48800000000,1.4200819672131146E-11,162173737373.7374,5377356214.4822044,5377.3562144822045,5.3773562144822042,11014.566566649366,5377.3562144822045]
[null,0.69896999999999998,0.70866200000000001,4.48E-2,1.2163392857142865,48800000000,1.4200819672131146E-11,162173737373.7374,13793644086.073021,13793.644086073022,13.793644086073021]
[null,0.69896999999999998,0.70859399999999995,3.4299999999999997E-2,1.2805830903790079,48800000000,1.4200819672131146E-11,162173737373.7374,17418718321.049,17418.718321049,17.418718321048999]
[null,0.69896999999999998,0.70887199999999995,9.74E-2,1.1016632443531824,48800000000,1.4200819672131146E-11,162173737373.7374,6819220773.5779324,6819.2207735779321,6.819220773577932]
[null,0.69896999999999998,0.70870900000000003,6.2899999999999998E-2,1.154833068362481,48800000000,1.4200819672131146E-11,162173737373.7374,10138974154.667885,10138.974154667885,10.138974154667885]
[null,0.69896999999999998,0.70881799999999995,3.0599999999999999E-2,1.3218300653594761,48800000000,1.4200819672131146E-11,162173737373.7374,19651504112.104897,19651.504112104896,19.651504112104895]
[null,0.69896999999999998,0.70860199999999995,5.6899999999999999E-2,1.1692794376098414,48800000000,1.4200819672131146E-11,162173737373.7374,11014566566.649366,11014.566566649366,11.014566566649366]
[null,0.69896999999999998,0.70862899999999995,7.5399999999999995E-2,1.1281034482758616,48800000000,1.4200819672131146E-11,162173737373.7374,8489621096.1878748,8489.6210961878751,8.4896210961878751]
[null,0.69896999999999998,0.70864700000000003,8.3599999999999994E-2,1.1157535885167469,48800000000,1.4200819672131146E-11,162173737373.7374,7714327743.4949455,7714.3277434949459,7.7143277434949455,14,6]
[null,0.69896999999999998,0.71744399999999997,0.32669999999999999,1.0565472910927456,48800000000,1.4200819672131146E-11,162173737373.7374,3874158821.0362225,3874.1588210362224,3.8741588210362226,17,6]
[null,0.69896999999999998,0.72056600000000004,0.4345,1.0497031070195628,48800000000,1.4200819672131146E-11,162173737373.7374,3416430228.5760431,3416.4302285760432,3.4164302285760431]
[null,0.69896999999999998,0.70940400000000003,0.29809999999999998,1.0350016772895003,48800000000,1.4200819672131146E-11,162173737373.7374,2423046502.0921278,2423.0465020921279,2.4230465020921277]
[null,0.69896999999999998,0.71602900000000003,0.2359,1.0723145400593475,48800000000,1.4200819672131146E-11,162173737373.7374,4917463663.992631,4917.4636639926312,4.9174636639926312]
[null,0.69896999999999998,0.70866099999999999,0.15079999999999999,1.0642639257294431,48800000000,1.4200819672131146E-11,162173737373.7374,4386692814.724226,4386.6928147242261,4.3866928147242259]
[null,0.69896999999999998,0.71408499999999997,0.23039999999999999,1.065603298611111,48800000000,1.4200819672131146E-11,162173737373.7374,4475274484.1185837,4475.274484118584,4.4752744841185841]
[null,null,null,null,null,null,null,null,"Average",{"$f":"AVERAGE(J36:J54)","v":7759.1790143396584}]
[null,null,null,null,null,null,null,null,"Maximum",{"$f":"MAX(J36:J55)","v":19651.504112104896}]
[null,null,null,null,null,null,null,null,"Minimum",{"$f":"MIN(J36:J56)","v":2423.0465020921279}]
[null,null,null,null,null,null,null,null,"Difference",{"$f":"(J56-ABS(J57))","v":17228.457610012767}]

{"sheet":"Rb-Sr _02","index":2,"n_rows":61,"n_cols":14,"rows_kept":61,"cut":false,"hidden":false,"merged":[]}
["Table 5",null,null,null,null,"Age","Age",null,null,"Dating","Age","Age","Age","Age"]
["238U/204Pb","206Pb/204Pb","207Pb/204Pb","207Pb/206Pb","206Pb/238U","207Pb/206Pb","206Pb/238U",null,null,"Summary","207Pb/206Pb","206Pb/238U","87Rb/86Sr","147Sm/144Nd"]
[5.0999999999999996,17.28,15.49,{"$f":"(C3/B3)","v":0.89641203703703698},{"$f":"(B3/A3)","v":3.3882352941176475},{"$f":"[1]!AgePb76(D3)","v":5083.2216331847221},{"$f":"[1]!AgePb6U8(E3)","v":9533.777038862203},null,null,"Average",5069.0137831985357,9856.9741613713813,445.65317061983347,446.78261714993027]
[3.33,16.809999999999999,15.45,{"$f":"(C4/B4)","v":0.91909577632361694},{"$f":"(B4/A4)","v":5.0480480480480479},{"$f":"[1]!AgePb76(D4)","v":5118.5362959730282},{"$f":"[1]!AgePb6U8(E4)","v":11601.840988222813},null,null,"Maximum",5122.8137009592583,11601.840988222813,447.53600081489901,453.73947675292141]
[3.61,16.77,15.46,0.92188431723315456,4.6454293628808863,{"$f":"[1]!AgePb76(D5)","v":5122.8137009592583},{"$f":"[1]!AgePb6U8(E5)","v":11157.751848185588},null,null,"Minimum",5025.6515487442939,6403.3610899448822,444.41908371490126,439.36523878048553]
[10.64,18.09,15.57,0.86069651741293529,1.7001879699248119,{"$f":"[1]!AgePb76(D6)","v":5025.6515487442939},{"$f":"[1]!AgePb6U8(E6)","v":6403.3610899448822},null,null,"Difference",97.162152214964408,5198.4798982779312,3.1169170999977496,14.374237972435878]
[4.22,17.52,15.54,0.88698630136986301,4.1516587677725116,{"$f":"[1]!AgePb76(D7)","v":5068.2678296674685},{"$f":"[1]!AgePb6U8(E7)","v":10567.727662498908}]
[4.51,17.79,15.54,0.87352445193929174,3.9445676274944566,{"$f":"[1]!AgePb76(D8)","v":5046.6159130786718},{"$f":"[1]!AgePb6U8(E8)","v":10303.236260767035}]
[3.8,17.77,15.55,0.87507034327518296,4.6763157894736844,{"$f":"[1]!AgePb76(D9)","v":5049.1202389614864},{"$f":"[1]!AgePb6U8(E9)","v":11192.924374979695}]
[7.13,17.899999999999999,15.54,0.86815642458100561,2.5105189340813463,{"$f":"[1]!AgePb76(D10)","v":5037.8831050193594},{"$f":"[1]!AgePb6U8(E10)","v":8095.1740275099337}]
[null,null,null,null,"Average",{"$f":"AVERAGE(F3:F10)","v":5069.0137831985357},{"$f":"AVERAGE(G3:G10)","v":9856.9741613713813}]
[null,null,null,null,"Maximum",{"$f":"MAX(F3:F11)","v":5122.8137009592583},{"$f":"MAX(G3:G11)","v":11601.840988222813}]
[null,null,null,null,"Minimum",{"$f":"MIN(F3:F12)","v":5025.6515487442939},{"$f":"MIN(G3:G12)","v":6403.3610899448822}]
[null,null,null,null,"Difference",{"$f":"(F12-ABS(F13))","v":97.162152214964408},{"$f":"(G12-ABS(G13))","v":5198.4798982779312}]
[]
[]
["Rubidium"]
["Strontium","Initial","Today","Today","The Ratio","Half","Decay","2.303/Delta","Age","Age","Age"]
["Dating","87Sr/86Sr","87Sr/86Sr","87Rb/86Sr","Plus One","Life","Constant","Constant","Years","Million Years","Billion Years"]
[null,0.70945999999999998,0.71287500000000004,0.53869999999999996,{"$f":"1+((C20-B20)/D20)","v":1.0063393354371637},48800000000,{"$f":"(0.693/F20)","v":1.4200819672131146E-11},{"$f":"(2.303/G20)","v":162173737373.7374},{"$f":"(LOG(E20))*(H20)","v":445077481.8224743},{"$f":"(I20/1000000)","v":445.07748182247428},{"$f":"(J20/1000)","v":0.44507748182247431}]
[null,0.70989999999999998,0.71196700000000002,0.32640000000000002,{"$f":"1+((C21-B21)/D21)","v":1.0063327205882355},48800000000,{"$f":"(0.693/F21)","v":1.4200819672131146E-11},{"$f":"(2.303/G21)","v":162173737373.7374},{"$f":"(LOG(E21))*(H21)","v":444614523.66007704},{"$f":"(I21/1000000)","v":444.61452366007705},{"$f":"(J21/1000)","v":0.44461452366007703}]
[null,0.70977999999999997,0.71323800000000004,0.54430000000000001,1.0063531140914939,48800000000,1.4200819672131146E-11,162173737373.7374,446041808.58549803,446.04180858549802,0.44604180858549802]
[null,0.70730999999999999,0.70833199999999996,0.1605,1.0063676012461058,48800000000,1.4200819672131146E-11,162173737373.7374,447055706.92301732,447.05570692301734,0.44705570692301733]
[null,0.70726,0.70863799999999999,0.21679999999999999,1.0063560885608855,48800000000,1.4200819672131146E-11,162173737373.7374,446249981.05982953,446.24998105982951,0.44624998105982949]
[null,0.70728999999999997,0.70862800000000004,0.2099,1.006374464030491,48800000000,1.4200819672131146E-11,162173737373.7374,447536000.81489903,447.53600081489901,0.44753600081489903]
[null,0.70626,0.70836900000000003,0.33200000000000002,1.0063524096385543,48800000000,1.4200819672131146E-11,162173737373.7374,445992506.35366684,445.99250635366684,0.44599250635366683]
[null,0.70616999999999996,0.70774499999999996,0.24829999999999999,1.0063431333064841,48800000000,1.4200819672131146E-11,162173737373.7374,445343284.64340776,445.34328464340774,0.44534328464340772]
[null,0.70618999999999998,0.70786300000000002,0.26429999999999998,1.0063299281119942,48800000000,1.4200819672131146E-11,162173737373.7374,444419083.71490127,444.41908371490126,0.44441908371490124]
[null,0.70615000000000006,0.70785799999999999,0.26979999999999998,1.0063306152705704,48800000000,1.4200819672131146E-11,162173737373.7374,444467176.64867955,444.46717664867953,0.44446717664867952]
[null,0.71021000000000001,0.71337300000000003,0.49859999999999999,1.0063437625350984,48800000000,1.4200819672131146E-11,162173737373.7374,445387322.59171689,445.3873225917169,0.44538732259171687]
[null,null,null,null,null,null,null,null,"Average",{"$f":"AVERAGE(J20:J30)","v":445.65317061983347}]
[null,null,null,null,null,null,null,null,"Maximum",{"$f":"MAX(J20:J31)","v":447.53600081489901}]
[null,null,null,null,null,null,null,null,"Minimum",{"$f":"MIN(J20:J32)","v":444.41908371490126}]
[null,null,null,null,null,null,null,null,"Difference",{"$f":"(J32-ABS(J33))","v":3.1169170999977496}]
[]
[null,null,null,null,null,null,null,null,null,null,"Rubidium_040.PDF"]
["Neodymium","Initial","Today","Today","The Ratio","Half","Decay","2.303/Delta","Age","Age","Age"]
["Samarium","143Nd/144Nd","143Nd/144Nd","147Sm/144Nd","Plus One","Life","Constant","Constant","Years","Million Years","Billion Years"]
["Dating",0.51134000000000002,0.51164399999999999,0.1031,{"$f":"1+((C39-B39)/D39)","v":1.0029485935984479},106000000000,{"$f":"(0.693/F39)","v":6.5377358490566029E-12},{"$f":"(2.303/G39)","v":352262626262.62628},{"$f":"(LOG(E39))*(H39)","v":450428959.10532016},{"$f":"(I39/1000000)","v":450.42895910532013},{"$f":"(J39/1000)","v":0.45042895910532016}]
[null,0.51127999999999996,0.51158400000000004,0.1057,{"$f":"1+((C40-B40)/D40)","v":1.0028760643330188},106000000000,6.5377358490566029E-12,{"$f":"(2.303/G40)","v":352262626262.62628},{"$f":"(LOG(E40))*(H40)","v":439365238.78048551},{"$f":"(I40/1000000)","v":439.36523878048553},{"$f":"(J40/1000)","v":0.4393652387804855}]
[null,0.51131000000000004,0.51161800000000002,0.1052,{"$f":"1+((C41-B41)/D41)","v":1.0029277566539923},106000000000,{"$f":"(0.693/F41)","v":6.5377358490566029E-12},{"$f":"(2.303/G41)","v":352262626262.62628},{"$f":"(LOG(E41))*(H41)","v":447250543.00722617},{"$f":"(I41/1000000)","v":447.25054300722616},{"$f":"(J41/1000)","v":0.44725054300722616}]
[null,0.51151000000000002,0.51180999999999999,0.10100000000000001,1.0029702970297028,106000000000,6.5377358490566029E-12,352262626262.62628,453739476.7529214,453.73947675292141,0.45373947675292142]
[null,0.51149,0.51179200000000002,0.10199999999999999,1.0029607843137258,106000000000,6.5377358490566029E-12,352262626262.62628,452288470.11899537,452.28847011899535,0.45228847011899537]
[null,0.51151000000000002,0.51180199999999998,9.9900000000000003E-2,1.0029229229229226,106000000000,6.5377358490566029E-12,352262626262.62628,446513208.15951514,446.51320815951516,0.44651320815951517]
[null,0.51190000000000002,0.51230699999999996,0.1389,1.0029301655867526,106000000000,6.5377358490566029E-12,352262626262.62628,447617999.0429554,447.61799904295538,0.44761799904295535]
[null,0.51188,0.51226899999999997,0.13439999999999999,1.002894345238095,106000000000,6.5377358490566029E-12,352262626262.62628,442153910.22203165,442.15391022203164,0.44215391022203165]
[null,0.51190000000000002,0.512293,0.13439999999999999,1.002924107142857,106000000000,6.5377358490566029E-12,352262626262.62628,446693848.78702033,446.69384878702033,0.44669384878702034]
[null,0.51187000000000005,0.51229100000000005,0.14360000000000001,1.0029317548746519,106000000000,6.5377358490566029E-12,352262626262.62628,447860426.84195966,447.86042684195968,0.4478604268419597]
[null,0.51104000000000005,0.51135299999999995,0.1085,1.0028847926267273,106000000000,6.5377358490566029E-12,352262626262.62628,440696707.83080292,440.69670783080289,0.44069670783080289]
[null,null,null,null,null,null,null,null,"Average",{"$f":"AVERAGE(J39:J49)","v":446.78261714993027}]
[null,null,null,null,null,null,null,null,"Maximum",{"$f":"MAX(J39:J50)","v":453.73947675292141}]
[null,null,null,null,null,null,null,null,"Minimum",{"$f":"MIN(J39:J51)","v":439.36523878048553}]
[null,null,null,null,null,null,null,null,"Difference",{"$f":"(J51-ABS(J52))","v":14.374237972435878}]
[]
[]
[null,null,null,null,null,null,null,"Age","Age"]
[null,null,null,null,null,null,null,"206Pb/238U","206Pb/238U"]
[null,null,null,null,null,null,null,11601.840988222813,10303.236260767035]
[null,null,null,null,null,null,null,11192.924374979695,9533.777038862203]
[null,null,null,null,null,null,null,11157.751848185588,8095.1740275099337]
[null,null,null,null,null,null,null,10567.727662498908,6403.3610899448822]

{"sheet":"Rb-Sr _03","index":3,"n_rows":139,"n_cols":17,"rows_kept":139,"cut":false,"hidden":false,"merged":[]}
["Rubidium",null,null,null,null,null,null,null,null,null,"Rubidium_042.pdf"]
["Strontium","Initial","Today","Today","The Ratio","Half","Decay","2.303/Delta","Age","Age","Age","Model Age","Model Age","Model Age"]
["Dating","87Sr/86Sr","87Sr/86Sr","87Rb/86Sr","Plus One","Life","Constant","Constant","Years","Million Years","Billion Years","Million Years","% Difference"," Difference"]
[null,0.70520000000000005,0.705403,0.16,1.0012687499999999,48800000000,1.42008E-11,162173737374,89302894,89,0.09]
[null,0.70520000000000005,0.70533400000000002,0.12,1.001116667,48800000000,1.42008E-11,162173737374,78604249,79,0.08]
[null,0.70520000000000005,0.70524799999999999,0.05,1.0009600000000001,48800000000,1.42008E-11,162173737374,67581479,68,7.0000000000000007E-2]
[null,0.70520000000000005,0.70524299999999995,0.03,1.001433333,48800000000,1.42008E-11,162173737374,100879049,101,0.1]
[null,0.70520000000000005,0.70527200000000001,7.0000000000000007E-2,1.001028571,48800000000,1.42008E-11,162173737374,72406247,72,7.0000000000000007E-2]
[null,0.70509999999999995,0.705677,0.38,1.0015184210000001,48800000000,1.42008E-11,162173737374,106863044,107,0.11]
[null,0.70660000000000001,0.70691700000000002,0.2,1.0015849999999999,48800000000,1.42008E-11,162173737374,111545011,112,0.11]
[null,0.70709999999999995,0.70753900000000003,0.28999999999999998,1.001513793,48800000000,1.42008E-11,162173737374,106537586,107,0.11]
[null,0.70569999999999999,0.70609299999999997,0.28000000000000003,1.001403571,48800000000,1.42008E-11,162173737374,98785853,99,0.1]
[null,0.70509999999999995,0.70532899999999998,0.16,1.00143125,48800000000,1.42008E-11,162173737374,100732527,101,0.1]
[null,0.70550000000000002,0.70563699999999996,0.09,1.001522222,48800000000,1.42008E-11,162173737374,107130358,107,0.11]
[null,0.70569999999999999,0.70579199999999997,0.1,1.00092,48800000000,1.42008E-11,162173737374,64766878,65,0.06]
[null,0.70540000000000003,0.70553399999999999,0.1,1.0013399999999999,48800000000,1.42008E-11,162173737374,94314577,94,0.09]
[null,0.70599999999999996,0.70620300000000003,0.16,1.0012687499999999,48800000000,1.42008E-11,162173737374,89302894,89,0.09]
[null,0.70650000000000002,0.70666799999999996,0.09,1.001866667,48800000000,1.42008E-11,162173737374,131348943,131,0.13]
[null,0.70469999999999999,0.70518800000000004,0.37,1.001318919,48800000000,1.42008E-11,162173737374,92831783,93,0.09]
[null,0.70640000000000003,0.70654399999999995,0.14000000000000001,1.001028571,48800000000,1.42008E-11,162173737374,72406247,72,7.0000000000000007E-2]
[null,0.70799999999999996,0.70927700000000005,0.93,1.0013731180000001,48800000000,1.42008E-11,162173737374,96643976,97,0.1]
[null,0.70950000000000002,0.71001499999999995,0.39,1.001320513,48800000000,1.42008E-11,162173737374,92943895,93,0.09]
[null,0.70660000000000001,0.70691199999999998,0.25,1.0012479999999999,48800000000,1.42008E-11,162173737374,87843284,88,0.09]
[null,0.70699999999999996,0.707152,0.12,1.0012666670000001,48800000000,1.42008E-11,162173737374,89156348,89,0.09]
[null,0.70799999999999996,0.70806500000000006,0.04,1.001625,48800000000,1.42008E-11,162173737374,114357743,114,0.11]
[null,0.70660000000000001,0.70969300000000002,2.21,1.001399548,48800000000,1.42008E-11,162173737374,98502840,99,0.1]
[null,0.70660000000000001,0.706955,0.27,1.001314815,48800000000,1.42008E-11,162173737374,92543106,93,0.09]
[null,0.70709999999999995,0.70723400000000003,0.13,1.001030769,48800000000,1.42008E-11,162173737374,72560882,73,7.0000000000000007E-2]
[null,0.70640000000000003,0.70665999999999995,0.2,1.0013000000000001,48800000000,1.42008E-11,162173737374,91501044,92,0.09]
[null,0.7077,0.70852300000000001,0.56000000000000005,1.0014696430000001,48800000000,1.42008E-11,162173737374,103432664,103,0.1]
[null,0.70850000000000002,0.70853299999999997,0.03,1.0011000000000001,48800000000,1.42008E-11,162173737374,77431696,77,0.08]
[null,0.70850000000000002,0.70886700000000002,0.27,1.001359259,48800000000,1.42008E-11,162173737374,95669200,96,0.1]
[null,0.70409999999999995,0.70412799999999998,0.04,1.0006999999999999,106000000000,6.53774E-12,352262626263,107052536,107,0.11]
[null,0.70589999999999997,0.70662899999999995,0.54,1.00135,106000000000,6.53774E-12,352262626263,206391432,206,0.21]
[null,0.70569999999999999,0.70610799999999996,0.27,1.0015111109999999,106000000000,6.53774E-12,352262626263,231003921,231,0.23,null,"Dating","Age","Age","Age","Age"]
[null,0.7046,0.70484000000000002,0.16,1.0015000000000001,106000000000,6.53774E-12,352262626263,229306635,229,0.23,null,"Summary","87Rb/86Sr","147Sm/144Nd","206Pb/238U","207Pb/206Pb"]
[null,0.7056,0.70611000000000002,0.35,1.0014571430000001,106000000000,6.53774E-12,352262626263,222759784,223,0.22,null,"Average",4349,4349,4349.1071428571431,4974.3571428571431]
[null,0.50938799999999995,0.51090599999999997,9.1300000000000006E-2,1.0166265059999999,106000000000,6.53774E-12,352262626263,2522703671,2523,2.52,null,"Maximum",9644,9644,9644,5092]
[null,0.50914199999999998,0.51055499999999998,8.5000000000000006E-2,1.0166235290000001,106000000000,6.53774E-12,352262626263,2522255739,2522,2.52,null,"Minimum",1173,1173,1173,4904]
[null,null,null,null,null,null,null,null,"Average",{"$f":"AVERAGE(J4:J39)","v":242.80555555555554},null,null,"Std Deviation",1991,1991,2198.7408443646855,38.704121616023286]
[null,null,null,null,null,null,null,null,"Maximum",{"$f":"MAX(J4:J40)","v":2523}]
[null,null,null,null,null,null,null,null,"Minimum",{"$f":"MIN(J4:J41)","v":65}]
[null,null,null,null,null,null,null,null,"Std Deviation",{"$f":"STDEV(J4:J42)","v":652.69459337887315}]
[]
[]
["Neodymium",null,null,null,null,null,null,null,null,null,"Rubidium_042.pdf"]
["Samarium","Initial","Today","Today","The Ratio","Half","Decay","2.303/Delta","Age","Age","Age","Model Age","Model Age","Model Age"]
["Dating","143Nd/144Nd","143Nd/144Nd","147Sm/144Nd","Plus One","Life","Constant","Constant","Years","Million Years","Billion Years","Million Years","% Difference"," Difference"]
[null,0.51256299999999999,0.51261699999999999,8.1900000000000001E-2,1.000659341,106000000000,6.53774E-12,352262626263,100836463,101,0.1]
[null,0.51253899999999997,0.51259299999999997,8.2799999999999999E-2,1.0006521740000001,106000000000,6.53774E-12,352262626263,99740772,100,0.1]
[null,0.51258700000000001,0.51263999999999998,8.0799999999999997E-2,1.000655941,106000000000,6.53774E-12,352262626263,100316643,100,0.1]
[null,0.51258000000000004,0.51263400000000003,8.14E-2,1.000663391,106000000000,6.53774E-12,352262626263,101455646,101,0.1]
[null,0.512575,0.51263099999999995,8.5000000000000006E-2,1.0006588240000001,106000000000,6.53774E-12,352262626263,100757402,101,0.1]
[null,0.51267099999999999,0.51276299999999997,0.1411,1.00065202,106000000000,6.53774E-12,352262626263,99717217,100,0.1]
[null,0.51261100000000004,0.51267600000000002,9.8400000000000001E-2,1.0006605690000001,106000000000,6.53774E-12,352262626263,101024274,101,0.1]
[null,0.51256199999999996,0.51261999999999996,8.7499999999999994E-2,1.000662857,106000000000,6.53774E-12,352262626263,101374079,101,0.1]
[null,0.51270499999999997,0.51304899999999998,0.52559999999999996,1.0006544900000001,106000000000,6.53774E-12,352262626263,100094885,100,0.1]
[null,0.51264299999999996,0.51270099999999996,8.7900000000000006E-2,1.000659841,106000000000,6.53774E-12,352262626263,100912916,101,0.1]
[null,0.51267600000000002,0.51273199999999997,8.6400000000000005E-2,1.000648148,106000000000,6.53774E-12,352262626263,99125287,99,0.1]
[null,0.51268999999999998,0.51282899999999998,0.2135,1.000651054,106000000000,6.53774E-12,352262626263,99569532,100,0.1]
[null,0.51269900000000002,0.51275499999999996,8.5300000000000001E-2,1.0006565059999999,106000000000,6.53774E-12,352262626263,100403154,100,0.1]
[null,0.51258499999999996,0.51264799999999999,9.64E-2,1.0006535270000001,106000000000,6.53774E-12,352262626263,99947635,100,0.1]
[null,0.51259500000000002,0.51265700000000003,9.4399999999999998E-2,1.0006567799999999,106000000000,6.53774E-12,352262626263,100444924,100,0.1]
[null,0.51256800000000002,0.51262099999999999,8.0600000000000005E-2,1.0006575680000001,106000000000,6.53774E-12,352262626263,100565486,101,0.1]
[null,0.512602,0.51280700000000001,0.31369999999999998,1.000653491,106000000000,6.53774E-12,352262626263,99942074,100,0.1]
[null,0.51259399999999999,0.51265499999999997,9.3799999999999994E-2,1.0006503200000001,106000000000,6.53774E-12,352262626263,99457308,99,0.1]
[null,0.51259900000000003,0.51266999999999996,0.1094,1.0006489949999999,106000000000,6.53774E-12,352262626263,99254685,99,0.1]
[null,0.51256800000000002,0.51265499999999997,0.13239999999999999,1.0006571,106000000000,6.53774E-12,352262626263,100493853,100,0.1]
[null,0.51256699999999999,0.51264600000000005,0.1207,1.0006545149999999,106000000000,6.53774E-12,352262626263,100098741,100,0.1]
[null,0.51254999999999995,0.51282899999999998,0.42720000000000002,1.0006530899999999,106000000000,6.53774E-12,352262626263,99880811,100,0.1]
[null,0.51276299999999997,0.51284700000000005,0.128,1.00065625,106000000000,6.53774E-12,352262626263,100363947,100,0.1]
[null,0.51268599999999998,0.51277499999999998,0.13569999999999999,1.0006558590000001,106000000000,6.53774E-12,352262626263,100304094,100,0.1]
[null,0.51262399999999997,0.51288599999999995,0.39989999999999998,1.0006551640000001,106000000000,6.53774E-12,352262626263,100197881,100,0.1]
[null,0.51258400000000004,0.51267399999999996,0.1371,1.0006564549999999,106000000000,6.53774E-12,352262626263,100395310,100,0.1]
[null,0.51253899999999997,0.51262399999999997,0.12989999999999999,1.0006543489999999,106000000000,6.53774E-12,352262626263,100073388,100,0.1]
[null,0.51255899999999999,0.51266400000000001,0.16039999999999999,1.000654613,106000000000,6.53774E-12,352262626263,100113745,100,0.1]
[null,0.51256000000000002,0.51296600000000003,0.62050000000000005,1.0006543109999999,106000000000,6.53774E-12,352262626263,100067508,100,0.1]
[null,0.51256000000000002,0.51266100000000003,0.15479999999999999,1.000652455,106000000000,6.53774E-12,352262626263,99783712,100,0.1]
[null,0.51256299999999999,0.51265499999999997,0.14050000000000001,1.0006548040000001,106000000000,6.53774E-12,352262626263,100142916,100,0.1]
[null,0.51255399999999995,0.51262799999999997,0.112,1.0006607139999999,106000000000,6.53774E-12,352262626263,101046470,101,0.1]
[null,0.51259999999999994,0.51269399999999998,0.14510000000000001,1.000647829,106000000000,6.53774E-12,352262626263,99076507,99,0.1]
[null,0.51260899999999998,0.51270000000000004,0.13950000000000001,1.0006523300000001,106000000000,6.53774E-12,352262626263,99764597,100,0.1]
[null,0.51258400000000004,0.51299899999999998,0.63339999999999996,1.0006551939999999,106000000000,6.53774E-12,352262626263,100202529,100,0.1]
[null,0.51258499999999996,0.51266199999999995,0.1177,1.0006542060000001,106000000000,6.53774E-12,352262626263,100051389,100,0.1]
[null,0.51262399999999997,0.51274900000000001,0.19040000000000001,1.000656513,106000000000,6.53774E-12,352262626263,100404095,100,0.1]
[null,0.51252299999999995,0.51288599999999995,0.55510000000000004,1.000653936,106000000000,6.53774E-12,352262626263,100010205,100,0.1]
[null,0.51258800000000004,0.51268599999999998,0.14879999999999999,1.0006586019999999,106000000000,6.53774E-12,352262626263,100723556,101,0.1]
[null,0.51259100000000002,0.512687,0.14560000000000001,1.000659341,106000000000,6.53774E-12,352262626263,100836463,101,0.1]
[null,0.51259399999999999,0.51291100000000001,0.48499999999999999,1.0006536079999999,106000000000,6.53774E-12,352262626263,99960061,100,0.1]
[null,0.512571,0.51263899999999996,0.1043,1.0006519650000001,106000000000,6.53774E-12,352262626263,99708906,100,0.1]
[null,0.51249400000000001,0.51256900000000005,0.115,1.0006521740000001,106000000000,6.53774E-12,352262626263,99740772,100,0.1]
[null,0.51254100000000002,0.51263899999999996,0.15010000000000001,1.000652898,106000000000,6.53774E-12,352262626263,99851485,100,0.1]
[null,0.51242100000000002,0.51279699999999995,0.57520000000000004,1.0006536859999999,106000000000,6.53774E-12,352262626263,99971899,100,0.1]
[null,0.51249,0.51255399999999995,9.7299999999999998E-2,1.00065776,106000000000,6.53774E-12,352262626263,100594728,101,0.1]
[null,0.51263999999999998,0.51271999999999995,0.12180000000000001,1.0006568140000001,106000000000,6.53774E-12,352262626263,100450243,100,0.1]
[null,0.51286600000000004,0.51297999999999999,0.17449999999999999,1.000653295,106000000000,6.53774E-12,352262626263,99912190,100,0.1]
[null,0.51197099999999995,0.51205800000000001,0.13300000000000001,1.000654135,106000000000,6.53774E-12,352262626263,100040646,100,0.1]
[null,0.511791,0.51187899999999997,0.13420000000000001,1.0006557380000001,106000000000,6.53774E-12,352262626263,100285625,100,0.1]
[null,0.51270700000000002,0.51295599999999997,0.38059999999999999,1.0006542300000001,106000000000,6.53774E-12,352262626263,100055143,100,0.1]
[null,null,null,null,null,null,null,null,"Average",{"$f":"AVERAGE(J49:J99)","v":100.13725490196079}]
[null,null,null,null,null,null,null,null,"Maximum",{"$f":"MAX(J49:J100)","v":101}]
[null,null,null,null,null,null,null,null,"Minimum",{"$f":"MIN(J49:J101)","v":99}]
[null,null,null,null,null,null,null,null,"Std Deviation",{"$f":"STDEV(J49:J102)","v":0.55073703665529006}]
[]
[]
[null,null,null,null,null,"206Pb/238U",null,"207Pb/206Pb","Rubidium_042.pdf","206Pb/238U","207Pb/206Pb"]
[null,"238U/204Pb","206Pb/204Pb","207Pb/204Pb","206Pb/238U","Age","207Pb/206Pb","Age",null,"Age Sorted","Age Sorted"]
["NK3–K1",17,18.484999999999999,15.478,1.087352941,4744,0.837327563,4987,null,9644,5092]
["NK3–K2",14.6,18.483000000000001,15.465999999999999,1.2659589040000001,5273,0.83676892300000005,4986,null,8218,5001]
["NK3–K3",16.2,18.712,15.512,1.155061728,4950,0.828986746,4972,null,7359,4996]
["NK3–K4",8.8000000000000007,18.757999999999999,15.513,2.1315909089999998,7359,0.82700714399999997,4969,null,6417,4992]
["NK3–K5",5.4,18.704000000000001,15.537000000000001,3.4637037039999998,9644,0.83067793000000001,4975,null,6280,4989]
["NK3–20",22.2,18.823,15.587,0.84788288300000003,3958,0.82808266500000005,4971,null,5231,4987]
["NK1–4",22.7,18.675000000000001,15.542,0.82268722500000002,3870,0.83223560900000004,4978,null,5213,4986]
["NK2–3",36.700000000000003,19.146999999999998,15.509,0.52171662100000005,2706,0.80999634399999998,4939,null,5033,4985]
["NK1–23",30.7,18.600000000000001,15.451000000000001,0.60586319200000005,3053,0.83069892499999998,4975,null,4950,4980]
["NK2–10",16.3,19.286999999999999,15.55,1.183251534,5033,0.80624254699999998,4933,null,4744,4979]
["NK1–14",28.3,18.771000000000001,15.516999999999999,0.66328621899999995,3280,0.82664748799999999,4968,null,4706,4978]
["NK1–2",18.5,18.587,15.494,1.004702703,4483,0.83359337200000005,4980,null,null,4978]
["NK1–12",15.1,18.797999999999998,15.515000000000001,1.244900662,5213,0.82535376100000002,4966,null,null,4978]
["NK1–3",37.5,18.407,15.394,0.490853333,2574,0.83631227299999999,4985,null,null,4975]
["NK2–4",21.9,18.994,15.503,0.86730593600000006,4026,0.81620511699999998,4950,null,null,4975]
["NK2–1",14.8,18.52,15.427,1.2513513510000001,5231,0.83299136100000004,4979,null,null,4973]
["NK1–9",20.2,18.614000000000001,15.496,0.921485149,4210,0.83249167300000004,4978,null,null,4972]
["NK1–1",37.700000000000003,18.571000000000002,15.454000000000001,0.49259946900000001,2582,0.83215766499999999,4978,null,null,4971]
["NK3–11",77.599999999999994,19.193000000000001,15.574999999999999,0.247332474,1425,0.811493774,4942,null,null,4971]
["NK3–25",56.6,18.314,15.436,0.32356890500000002,1807,0.84285246300000005,4996,null,null,4969]
["NK1–5",20.3,18.425999999999998,15.492000000000001,0.90768472899999997,4164,0.84076847899999996,4992,null,null,4968]
["NK3–16",46.3,18.376999999999999,15.548999999999999,0.39691144699999997,2155,0.84611198799999998,5001,null,null,4966]
["NK1–7",17.2,18.494,15.509,1.0752325579999999,4706,0.83859630200000002,4989,null,null,4953]
["NK2–2",28.6,18.681999999999999,15.472,0.65321678299999997,3241,0.82817685500000005,4971,null,null,4950]
["NK3–4",93.4,18.640999999999998,15.455,0.199582441,1173,0.82908642200000005,4973,null,null,4942]
["NK2–7",11.5,18.963999999999999,15.509,1.6490434780000001,6280,0.817812698,4953,null,null,4939]
["NK3–17",11.6,19.788,15.632,1.7058620689999999,6417,0.78997372099999996,4904,null,null,4933]
["NK3–1",6.6,17.015000000000001,15.349,2.5780303029999998,8218,0.90208639400000001,5092,null,null,4904]
[null,null,null,null,"Average",{"$f":"AVERAGE(F108:F135)","v":4349.1071428571431},null,{"$f":"AVERAGE(H108:H135)","v":4974.3571428571431},null,null,{"$f":"COUNT(K108:K135)","v":28}]
[null,null,null,null,"Maximum",{"$f":"MAX(F108:F136)","v":9644},null,{"$f":"MAX(H108:H136)","v":5092}]
[null,null,null,null,"Minimum",{"$f":"MIN(F108:F137)","v":1173},null,{"$f":"MIN(H108:H137)","v":4904}]
[null,null,null,null,"Std Deviation",{"$f":"STDEV(F108:F138)","v":2198.7408443646855},null,{"$f":"STDEV(H108:H138)","v":38.704121615967956}]

{"sheet":"Rb-Sr _04","index":4,"n_rows":51,"n_cols":4,"rows_kept":51,"cut":false,"hidden":false,"merged":[]}
[null,null,null,"Rubidium_059.pdf"]
["Ratio","Ratio","Ratio","Age"]
["206Pb/204Pb","207Pb/204Pb","207Pb/206Pb","Million Years"]
[18.655000000000001,15.609,{"$f":"(B4/A4)","v":0.83671937818279274},{"$f":"[1]!AgePb76($C$4)","v":4985.5614435188163}]
[18.940999999999999,15.638,{"$f":"(B5/A5)","v":0.82561638773032053},{"$f":"[1]!AgePb76($C$5)","v":4966.5816775274534}]
[18.794,15.605,0.83031818665531554,{"$f":"[1]!AgePb76($C$6)","v":4974.6519829083527}]
[18.925000000000001,15.669,0.82795244385733158,{"$f":"[1]!AgePb76($C$7)","v":4970.5974416794925}]
[18.87,15.637,0.8286698463169051,{"$f":"[1]!AgePb76($C$8)","v":4971.8282653358629}]
[18.722000000000001,15.608000000000001,0.83367161628031194,{"$f":"[1]!AgePb76($C$9)","v":4980.3782884930843}]
[18.738,15.617000000000001,0.83344006831038542,{"$f":"[1]!AgePb76($C$10)","v":4979.9836853477927}]
[18.614999999999998,15.632999999999999,0.83980660757453673,{"$f":"[1]!AgePb76($C$11)","v":4990.7913061542131}]
[18.571999999999999,15.587999999999999,0.83932802067628687,{"$f":"[1]!AgePb76($C$12)","v":4989.9819042418794}]
[18.649000000000001,15.589,0.83591613491340011,{"$f":"[1]!AgePb76($C$13)","v":4984.1973628131836}]
[18.745999999999999,15.635999999999999,0.83409794089405742,{"$f":"[1]!AgePb76($C$14)","v":4981.104524686386}]
[18.588000000000001,15.617000000000001,0.84016569829997845,{"$f":"[1]!AgePb76($C$15)","v":4991.3982904703626}]
[18.706,15.605,0.83422431305463496,{"$f":"[1]!AgePb76($C$16)","v":4981.3197215615601}]
[18.626999999999999,15.584,0.836634992215601,{"$f":"[1]!AgePb76($C$17)","v":4985.4182033324278}]
[15.58,15.6,1.0012836970474968,{"$f":"[1]!AgePb76($C$18)","v":5239.1749864276762}]
[18.503,15.584,0.84224179862724957,{"$f":"[1]!AgePb76($C$19)","v":4994.9022050526819}]
[18.61,15.587,0.83756045137023105,{"$f":"[1]!AgePb76($C$20)","v":4986.9882771089633}]
[18.718,15.57,0.83181963885030452,{"$f":"[1]!AgePb76($C$21)","v":4977.2188909166298}]
[18.875,15.638999999999999,0.82855629139072839,{"$f":"[1]!AgePb76($C$22)","v":4971.6335183736819}]
[18.859000000000002,15.624000000000001,0.82846386340739164,{"$f":"[1]!AgePb76($C$23)","v":4971.4749832231573}]
[18.605,15.602,0.83859177640419247,{"$f":"[1]!AgePb76($C$24)","v":4988.7357857889856}]
[18.664000000000001,15.595000000000001,0.83556579511358764,{"$f":"[1]!AgePb76($C$25)","v":4983.601973814556}]
[18.292999999999999,15.555,0.8503252610288089,{"$f":"[1]!AgePb76($C$26)","v":5008.4581070505837}]
[18.663,15.6114,0.8364893104002572,{"$f":"[1]!AgePb76($C$27)","v":4985.1708809379033}]
[18.620999999999999,15.601000000000001,0.83781751785618397,{"$f":"[1]!AgePb76($C$28)","v":4987.4240722587665}]
[18.620999999999999,15.59,0.83722678696095809,{"$f":"[1]!AgePb76($C$29)","v":4986.4224163781419}]
[18.581,15.577999999999999,0.83838329476346807,{"$f":"[1]!AgePb76($C$30)","v":4988.3827123357487}]
[18.626999999999999,15.603999999999999,0.83770870242121653,{"$f":"[1]!AgePb76($C$31)","v":4987.239618886666}]
[18.625,15.611000000000001,0.83817449664429533,{"$f":"[1]!AgePb76($C$32)","v":4988.0290093983876}]
[18.981000000000002,15.654999999999999,0.82477214056161419,{"$f":"[1]!AgePb76($C$33)","v":4965.1274142924531}]
[19.006,15.62,0.82184573292644425,{"$f":"[1]!AgePb76($C$34)","v":4960.0742346527486}]
[19.024000000000001,15.666,0.82348612279226241,{"$f":"[1]!AgePb76($C$35)","v":4962.9091323246048}]
[18.927,15.657999999999999,0.82728377450203416,{"$f":"[1]!AgePb76($C$36)","v":4969.4492066616222}]
[18.911999999999999,15.651,0.82756979695431476,{"$f":"[1]!AgePb76($C$37)","v":4969.9404834005691}]
[18.936,15.71,0.82963667089142379,{"$f":"[1]!AgePb76($C$38)","v":4973.4852237633868}]
[18.777000000000001,15.625,0.83213505884859129,{"$f":"[1]!AgePb76($C$39)","v":4977.7575123581828}]
[18.776,15.583,0.82994247976139757,{"$f":"[1]!AgePb76($C$40)","v":4974.0088963630133}]
[18.826000000000001,15.589,0.82805694252629347,{"$f":"[1]!AgePb76($C$41)","v":4970.7767971062885}]
[18.890999999999998,15.596,0.82557831771743162,{"$f":"[1]!AgePb76($C$42)","v":4966.5161338306452}]
[18.556000000000001,15.632999999999999,0.8424768269023496,{"$f":"[1]!AgePb76($C$43)","v":4995.2982930395719}]
[18.870999999999999,15.635,0.82851995124794664,{"$f":"[1]!AgePb76($C$44)","v":4971.5711889521899}]
[19.001000000000001,15.618,0.8219567391189937,{"$f":"[1]!AgePb76($C$45)","v":4960.2662636194027}]
[18.559999999999999,15.574999999999999,0.83917025862068972,{"$f":"[1]!AgePb76($C$46)","v":4989.714984394378}]
[18.646999999999998,15.563000000000001,0.83461146565131128,{"$f":"[1]!AgePb76($C$47)","v":4981.9787811720325}]
[null,null,"Average",{"$f":"AVERAGE(D4:D47)","v":4985.6255927716938}]
[null,null,"Maximum",{"$f":"MAX(D4:D48)","v":5239.1749864276762}]
[null,null,"Minimum",{"$f":"MIN(D4:D49)","v":4960.0742346527486}]
[null,null,"Std Deviation",{"$f":"STDEV(D4:D47)","v":40.481595042183699}]

{"sheet":"Rb-Sr _05","index":5,"n_rows":53,"n_cols":14,"rows_kept":53,"cut":false,"hidden":false,"merged":[]}
["Rubidium","TABLE 1.",null,null,null,null,null,null,null,null,"Rubidium_044.pdf"]
["Strontium","Initial","Today","Today","The Ratio","Half","Decay","2.303/Delta","Age","Age","Age","Model Age","Model Age","Model Age"]
["Dating","87Sr/86Sr","87Sr/86Sr","87Rb/86Sr","Plus One","Life","Constant","Constant","Years","Million Years","Billion Years","Million Years","% Difference"," Difference"]
[null,0.70630000000000004,0.70633000000000001,10.59,{"$f":"1+((C4-B4)/D4)","v":1.0000028328611898},48800000000,{"$f":"(0.693/F4)","v":1.4200819672131146E-11},{"$f":"(2.303/G4)","v":162173737373.7374},{"$f":"(LOG(E4))*(H4)","v":199521.4149903041},{"$f":"(I4/1000000)","v":0.1995214149903041},{"$f":"(J4/1000)","v":1.9952141499030409E-4}]
[null,0.70630000000000004,0.70638699999999999,28.76,1.0000030250347705,48800000000,1.4200819672131146E-11,162173737373.7374,213056.38340647033,0.21305638340647032,2.1305638340647032E-4]
[null,0.70630000000000004,0.70628400000000002,1.873,0.99999145755472507,48800000000,1.4200819672131146E-11,162173737373.7374,-601656.89336598304,-0.60165689336598305,-6.0165689336598308E-4]
[null,0.70630000000000004,0.70635099999999995,12.92,1.000003947368421,48800000000,1.4200819672131146E-11,162173737373.7374,278017.18516562763,0.27801718516562762,2.780171851656276E-4]
[null,0.70630000000000004,0.70636399999999999,23.84,1.0000026845637584,48800000000,1.4200819672131146E-11,162173737373.7374,189076.68379362396,0.18907668379362397,1.8907668379362395E-4]
[null,0.70630000000000004,0.70630400000000004,1.861,1.0000021493820526,48800000000,1.4200819672131146E-11,162173737373.7374,151383.30694517837,0.15138330694517838,1.5138330694517836E-4]
[null,0.70630000000000004,0.70630400000000004,1.044,1.0000038314176245,48800000000,1.4200819672131146E-11,162173737373.7374,269850.66791344993,0.26985066791344992,2.6985066791344989E-4]
[null,0.70630000000000004,0.70745400000000003,85.62,1.0000134781593086,48800000000,1.4200819672131146E-11,162173737373.7374,949275.98744511651,0.94927598744511654,9.4927598744511653E-4]
[null,0.70630000000000004,0.70640700000000001,1.52,1.0000703947368421,48800000000,1.4200819672131146E-11,162173737373.7374,4957808.4211999523,4.9578084211999522,4.9578084211999518E-3]
[null,0.70630000000000004,0.70633000000000001,8.1229999999999993,1.0000036932167917,48800000000,1.4200819672131146E-11,162173737373.7374,260117.05967237803,0.26011705967237803,2.6011705967237802E-4]
[null,0.70630000000000004,0.70632200000000001,10.45,1.0000021052631578,48800000000,1.4200819672131146E-11,162173737373.7374,148275.96865268561,0.14827596865268561,1.4827596865268561E-4]
[null,0.70630000000000004,0.70628400000000002,1.512,0.99998941798941798,48800000000,1.4200819672131146E-11,162173737373.7374,-745307.21592958388,-0.74530721592958393,-7.4530721592958396E-4]
[null,0.70630000000000004,0.70629399999999998,1.4,0.99999571428571421,48800000000,1.4200819672131146E-11,162173737373.7374,-301848.47218555096,-0.30184847218555094,-3.0184847218555093E-4]
[null,0.70630000000000004,0.70628899999999994,2.85,0.99999614035087714,48800000000,1.4200819672131146E-11,162173737373.7374,-271840.08662941499,-0.271840086629415,-2.7184008662941499E-4]
[null,0.70630000000000004,0.70630000000000004,0.98909999999999998,{"$f":"1+((C18-B18)/D18)","v":1},48800000000,{"$f":"(0.693/F18)","v":1.4200819672131146E-11},{"$f":"(2.303/G18)","v":162173737373.7374},{"$f":"(LOG(E18))*(H18)","v":0},{"$f":"(I18/1000000)","v":0},{"$f":"(J18/1000)","v":0}]
[null,0.70630000000000004,0.70613999999999999,2.931,0.99994541112248381,48800000000,1.4200819672131146E-11,162173737373.7374,-3844862.8700075257,-3.8448628700075256,-3.8448628700075258E-3]
[null,0.70630000000000004,0.70616900000000005,3.758,0.99996514103246403,48800000000,1.4200819672131146E-11,162173737373.7374,-2455200.2869747248,-2.4552002869747249,-2.4552002869747251E-3]
[null,0.70630000000000004,0.70610899999999999,0.83709999999999996,0.99977183132242253,48800000000,1.4200819672131146E-11,162173737373.7374,-16072018.101851234,-16.072018101851235,-1.6072018101851236E-2]
[null,0.70630000000000004,0.70612699999999995,3.6389999999999998,0.99995245946688649,48800000000,1.4200819672131146E-11,162173737373.7374,-3348414.4519317779,-3.3484144519317778,-3.3484144519317777E-3]
[null,0.70630000000000004,0.70616500000000004,4.5540000000000003,0.99997035573122528,48800000000,1.4200819672131146E-11,162173737373.7374,-2087911.1624057202,-2.0879111624057201,-2.08791116240572E-3]
[null,0.70630000000000004,0.70614500000000002,0.78649999999999998,0.99980292434837892,48800000000,1.4200819672131146E-11,162173737373.7374,-13881634.514844192,-13.881634514844192,-1.3881634514844192E-2]
[null,null,null,null,null,null,null,null,"Average",{"$f":"AVERAGE(J4:J24)","v":-1.7140148084257583}]
[null,null,null,null,null,null,null,null,"Maximum",{"$f":"MAX(J4:J25)","v":4.9578084211999522}]
[null,null,null,null,null,null,null,null,"Minimum",{"$f":"MIN(J4:J26)","v":-16.072018101851235}]
[null,null,null,null,null,null,null,null,"Difference",{"$f":"(J26+ABS(J27))","v":21.029826523051188}]
[]
[]
[null,null,"206Pb/204Pb","207Pb/204Pb","207Pb/206Pb","Age"]
[null,null,19.178000000000001,15.69,{"$f":"(D32/C32)","v":0.81812493482114912},{"$f":"[1]!AgePb76($E$32)","v":4953.6216442526347},null,null,"Dating","Age","Age"]
[null,null,19.183,15.680999999999999,{"$f":"(D33/C33)","v":0.81744252723765831},{"$f":"[1]!AgePb76($E$33)","v":4952.4348305049398},null,null,"Summary","87Rb/86Sr","207Pb/206Pb"]
[null,null,19.173999999999999,15.664999999999999,0.81699175967455928,{"$f":"[1]!AgePb76($E$34)","v":4951.6502971102636},null,null,"Average",-1.7140148084257583,4952.6384575157481]
[null,null,19.178000000000001,15.689,0.81807279174053604,{"$f":"[1]!AgePb76($E$35)","v":4953.5309964125754},null,null,"Maximum",4.9578084211999522,4953.9432031465731]
[null,null,19.173999999999999,15.673,0.81740899134244294,{"$f":"[1]!AgePb76($E$36)","v":4952.3764791702579},null,null,"Minimum",-16.072018101851235,4951.3715829755702]
[null,null,19.181000000000001,15.673,0.81711068244617069,{"$f":"[1]!AgePb76($E$37)","v":4951.8573196168572},null,null,"Difference",21.029826523051188,2.5716201710029054]
[null,null,19.181999999999999,15.686999999999999,0.81779793556459179,{"$f":"[1]!AgePb76($E$38)","v":4953.053072697965}]
[null,null,19.184999999999999,15.677,0.8171488141777431,{"$f":"[1]!AgePb76($E$39)","v":4951.9236931113146}]
[null,null,19.178000000000001,15.675000000000001,0.8173427886119512,{"$f":"[1]!AgePb76($E$40)","v":4952.2612811627469}]
[null,null,19.190999999999999,15.696,0.81788338283570428,{"$f":"[1]!AgePb76($E$41)","v":4953.2016678864829}]
[null,null,19.190000000000001,15.675000000000001,0.81683168316831678,{"$f":"[1]!AgePb76($E$42)","v":4951.3715829755702}]
[null,null,19.181999999999999,15.678000000000001,0.81732874569909297,{"$f":"[1]!AgePb76($E$43)","v":4952.2368441038298}]
[null,null,19.175000000000001,15.682,0.81783572359843548,{"$f":"[1]!AgePb76($E$44)","v":4953.1187891791769}]
[null,null,19.172000000000001,15.685,0.81812017525558101,{"$f":"[1]!AgePb76($E$45)","v":4953.6133702679044}]
[null,null,19.198,15.693,0.81742889884362946,{"$f":"[1]!AgePb76($E$46)","v":4952.4111178627409}]
[null,null,19.158999999999999,15.678000000000001,0.81830993266871976,{"$f":"[1]!AgePb76($E$47)","v":4953.9432031465731}]
[null,null,19.184999999999999,15.686999999999999,0.817670054730258,{"$f":"[1]!AgePb76($E$48)","v":4952.830653513005}]
[null,null,19.181999999999999,15.676,0.81722448128453762,{"$f":"[1]!AgePb76($E$49)","v":4952.0553923086472}]
[null,null,null,null,"Average",{"$f":"AVERAGE(F32:F49)","v":4952.6384575157481}]
[null,null,null,null,"Maximum",{"$f":"MAX(F32:F50)","v":4953.9432031465731}]
[null,null,null,null,"Minimum",{"$f":"MIN(F32:F51)","v":4951.3715829755702}]
[null,null,null,null,"Difference",{"$f":"(F51-ABS(F52))","v":2.5716201710029054}]

{"sheet":"Rb-Sr _06","index":6,"n_rows":58,"n_cols":17,"rows_kept":58,"cut":false,"hidden":false,"merged":[]}
["Rubidium","TABLE 1.",null,null,null,null,null,null,null,null,"Rubidium_045.pdf"]
["Strontium","Initial","Today","Today","The Ratio","Half","Decay","2.303/Delta","Age","Age","Age","Model Age","Model Age","Model Age"]
["Dating","87Sr/86Sr","87Sr/86Sr","87Rb/86Sr","Plus One","Life","Constant","Constant","Years","Million Years","Billion Years","Million Years","% Difference"," Difference"]
[null,0.70459000000000005,0.70459000000000005,1E-4,{"$f":"1+((C4-B4)/D4)","v":1},48800000000,{"$f":"(0.693/F4)","v":1.4200819672131146E-11},{"$f":"(2.303/G4)","v":162173737373.7374},{"$f":"(LOG(E4))*(H4)","v":0},{"$f":"(I4/1000000)","v":0},{"$f":"(J4/1000)","v":0}]
[null,0.70459000000000005,0.70459000000000005,1E-4,1,48800000000,1.4200819672131146E-11,162173737373.7374,0,0,0]
[null,0.70457999999999998,0.70457999999999998,1E-4,1,48800000000,1.4200819672131146E-11,162173737373.7374,0,0,0]
[null,0.70455999999999996,0.70455999999999996,1E-4,1,48800000000,1.4200819672131146E-11,162173737373.7374,0,0,0]
[null,0.70457000000000003,0.70457000000000003,1E-4,1,48800000000,1.4200819672131146E-11,162173737373.7374,0,0,0]
[null,0.70457999999999998,0.70457999999999998,1E-4,1,48800000000,1.4200819672131146E-11,162173737373.7374,0,0,0]
[null,0.70459000000000005,0.70459000000000005,2.9999999999999997E-4,1,48800000000,1.4200819672131146E-11,162173737373.7374,0,0,0]
[null,0.70459000000000005,0.70459000000000005,1E-4,1,48800000000,1.4200819672131146E-11,162173737373.7374,0,0,0]
[null,0.70457999999999998,0.70457999999999998,1E-4,1,48800000000,1.4200819672131146E-11,162173737373.7374,0,0,0]
[null,0.70457000000000003,0.70457000000000003,1E-4,1,48800000000,1.4200819672131146E-11,162173737373.7374,0,0,0]
[null,0.70457999999999998,0.70457999999999998,1E-4,1,48800000000,1.4200819672131146E-11,162173737373.7374,0,0,0]
[null,0.70484000000000002,0.70484000000000002,1E-4,1,48800000000,1.4200819672131146E-11,162173737373.7374,0,{"$f":"(I15/1000000)","v":0},{"$f":"(J15/1000)","v":0}]
[null,0.70455000000000001,0.70455000000000001,1E-4,1,48800000000,1.4200819672131146E-11,162173737373.7374,0,0,0]
[null,0.70454000000000006,0.70454000000000006,1E-4,1,48800000000,1.4200819672131146E-11,162173737373.7374,0,0,0]
[null,0.70459000000000005,0.70459000000000005,1E-3,1,48800000000,1.4200819672131146E-11,162173737373.7374,0,0,0]
[null,0.70501000000000003,0.70501000000000003,5.9999999999999995E-4,1,48800000000,1.4200819672131146E-11,162173737373.7374,0,{"$f":"(I19/1000000)","v":0},{"$f":"(J19/1000)","v":0}]
[null,0.70494000000000001,0.70494000000000001,5.9999999999999995E-4,1,48800000000,1.4200819672131146E-11,162173737373.7374,0,{"$f":"(I20/1000000)","v":0},{"$f":"(J20/1000)","v":0}]
[null,0.70482,0.70482,2.9999999999999997E-4,1,48800000000,1.4200819672131146E-11,162173737373.7374,0,0,0]
[null,0.70487,0.70487,1E-3,1,48800000000,1.4200819672131146E-11,162173737373.7374,0,0,0]
[null,0.70428999999999997,0.70430000000000004,7.0000000000000001E-3,{"$f":"1+((C23-B23)/D23)","v":1.0014285714285809},48800000000,{"$f":"(0.693/F23)","v":1.4200819672131146E-11},{"$f":"(2.303/G23)","v":162173737373.7374},{"$f":"(LOG(E23))*(H23)","v":100544141.63098615},100.54414163098616,0.10054414163098616]
[null,0.70477999999999996,0.70477999999999996,1E-4,1,48800000000,1.4200819672131146E-11,162173737373.7374,0,0,0]
[null,0.70640999999999998,0.70704999999999996,0.35199999999999998,1.0018181818181817,48800000000,1.4200819672131146E-11,162173737373.7374,127940378.96156402,127.94037896156402,0.12794037896156402]
[null,0.70643,0.70718000000000003,0.41799999999999998,1.0017942583732058,48800000000,1.4200819672131146E-11,162173737373.7374,126258460.91273007,126.25846091273007,0.12625846091273007]
[null,0.70652999999999999,0.70664000000000005,6.1600000000000002E-2,1.0017857142857152,48800000000,1.4200819672131146E-11,162173737373.7374,125657766.16141242,125.65776616141241,0.12565776616141242]
[null,0.70494999999999997,0.70521999999999996,0.15,1.0018,48800000000,1.4200819672131146E-11,162173737373.7374,126662124.90748917,126.66212490748917,0.12666212490748918]
[null,0.70750999999999997,0.70750999999999997,1E-4,1,48800000000,1.4200819672131146E-11,162173737373.7374,0,0,0]
[null,0.70757999999999999,0.70757999999999999,2.0000000000000001E-4,1,48800000000,1.4200819672131146E-11,162173737373.7374,0,0,0]
[null,0.71,0.71,0.04,1,48800000000,1.4200819672131146E-11,162173737373.7374,0,0,0]
[null,0.70435000000000003,0.70438000000000001,6.0000000000000001E-3,1.0049999999999957,48800000000,1.4200819672131146E-11,162173737373.7374,351278330.43486911,351.27833043486913,0.35127833043486911,null,"Dating","87Rb/86Sr","206Pb/238U","207Pb/235U","207Pb/206Pb"]
[null,0.70442000000000005,0.70442000000000005,4.0000000000000002E-4,1,48800000000,1.4200819672131146E-11,162173737373.7374,0,0,0,null,"Summary","Age","Age","Age","Age"]
[null,null,null,null,null,null,null,"Average",{"$f":"AVERAGE(I4:I33)","v":31944706.766968362},{"$f":"AVERAGE(J4:J33)","v":31.944706766968366},null,null,"Average",31.944706766968366,10874.223177735943,5213.7331955875916,4597.8884639691005]
[null,null,null,null,null,null,null,"Maximum",{"$f":"MAX(I4:I34)","v":351278330.43486911},{"$f":"MAX(J4:J34)","v":351.27833043486913},null,null,"Maximum",351.27833043486913,36764.010665921429,10638.229209072721,5019.2923085867696]
[null,null,null,null,null,null,null,"Minimum",{"$f":"MAX(I4:I35)","v":351278330.43486911},{"$f":"MIN(J4:J35)","v":0},null,null,"Minimum",0,137.70267203460452,327.73863254612479,2047.3164486163053]
[null,null,null,null,null,null,null,"Difference",{"$f":"(I35-ABS(I36))","v":0},{"$f":"(J35-ABS(J36))","v":351.27833043486913},null,null,"Difference",351.27833043486913,36626.307993886825,10310.490576526596,2971.9758599704646]
[]
[]
[null,null,null,null,null,null,"206Pb/238U",null,"207Pb/235U",null,"207Pb/206Pb",null,"206Pb/238U","207Pb/235U","207Pb/206Pb"]
["238U/204Pb","235U/204Pb","206Pb/204Pb","207Pb/204Pb","208Pb/204Pb","206Pb/238U","Age","207Pb/235U","Age","207Pb/206Pb","Age",null,"Age Sorted","Age Sorted","Age Sorted"]
[33.119999999999997,0.24,19.260000000000002,15.641,75.266000000000005,{"$f":"(C42/A42)","v":0.58152173913043492},{"$f":"[1]!AgePb6U8(F42)","v":2954.9557425463795},{"$f":"(D42/B42)","v":65.170833333333334},{"$f":"[1]!AgePb7U5(H42)","v":4256.7292295970501},{"$f":"(D42/C42)","v":0.81209761163032179},{"$f":"[1]!AgePb76($J$42)","v":4943.1025806473945},null,36764.010665921429,10638.229209072721,5019.2923085867696]
[962.8,6.98,32.292999999999999,16.268000000000001,45.991999999999997,{"$f":"(C43/A43)","v":3.3540714582467802E-2},{"$f":"[1]!AgePb6U8(F43)","v":212.67038980538223},{"$f":"(D43/B43)","v":2.3306590257879654},{"$f":"[1]!AgePb7U5(H43)","v":1221.678621164285},{"$f":"(D43/C43)","v":0.50376242529340731},{"$f":"[1]!AgePb76($J$43)","v":4252.2561408248193},null,25352.734946128723,8815.601801650595,5012.5406292209673]
[8800,63,190,24,240,2.1590909090909091E-2,{"$f":"[1]!AgePb6U8(F44)","v":137.70267203460452},0.38095238095238093,{"$f":"[1]!AgePb7U5(H44)","v":327.73863254612479},0.12631578947368421,{"$f":"[1]!AgePb76($J$44)","v":2047.3164486163053},null,22727.638743189091,8371.7750494575212,5000.1097276851297]
[86.86,0.63,20.077000000000002,15.683999999999999,46.972999999999999,0.23114206769514162,{"$f":"[1]!AgePb6U8(F45)","v":1340.481862411076},24.895238095238096,{"$f":"[1]!AgePb7U5(H45)","v":3304.1164588261636},0.78119240922448563,{"$f":"[1]!AgePb76($J$45)","v":4887.8273886472052},null,17109.689423539647,7448.5043874022258,4990.0108692567728]
[0.56000000000000005,4.1000000000000003E-3,18.466000000000001,15.61,38.752000000000002,32.975000000000001,{"$f":"[1]!AgePb6U8(F46)","v":22727.638743189091},3807.3170731707314,{"$f":"[1]!AgePb7U5(H46)","v":8371.7750494575212},0.84533737680060639,{"$f":"[1]!AgePb76($J$46)","v":5000.1097276851297},null,7145.054446969425,5516.7950228692653,4943.1025806473945]
[22.74,0.16500000000000001,21.71,15.628,40.426000000000002,0.95470536499560255,{"$f":"[1]!AgePb6U8(F47)","v":4320.6412482676787},94.715151515151518,{"$f":"[1]!AgePb7U5(H47)","v":4631.5445082697606},0.71985260248733296,{"$f":"[1]!AgePb76($J$47)","v":4770.8658391475674},null,null,4631.5445082697606,4937.2498742216812]
[0.36599999999999999,2.65E-3,18.318999999999999,15.622,38.347999999999999,50.051912568306008,{"$f":"[1]!AgePb6U8(F48)","v":25352.734946128723},5895.0943396226412,{"$f":"[1]!AgePb7U5(H48)","v":8815.601801650595},0.85277580653965834,{"$f":"[1]!AgePb76($J$48)","v":5012.5406292209673},null,null,null,4887.8273886472052]
[1.41,1.0200000000000001E-2,18.63,15.637,38.737000000000002,13.212765957446809,{"$f":"[1]!AgePb6U8(F49)","v":17109.689423539647},1533.0392156862745,{"$f":"[1]!AgePb7U5(H49)","v":7448.5043874022258},0.83934514224369305,{"$f":"[1]!AgePb76($J$49)","v":4990.0108692567728},null,null,null,4770.8658391475674]
[6.0999999999999999E-2,4.4000000000000002E-4,18.225000000000001,15.616,38.171999999999997,298.77049180327873,{"$f":"[1]!AgePb6U8(F50)","v":36764.010665921429},35490.909090909088,{"$f":"[1]!AgePb7U5(H50)","v":10638.229209072721},0.85684499314128937,{"$f":"[1]!AgePb76($J$50)","v":5019.2923085867696}]
[9.58,6.9000000000000006E-2,19.442,15.724,37.853000000000002,2.0294363256784971,{"$f":"[1]!AgePb6U8(F51)","v":7145.054446969425},227.88405797101447,{"$f":"[1]!AgePb7U5(H51)","v":5516.7950228692653},0.80876453039810714,{"$f":"[1]!AgePb76($J$51)","v":4937.2498742216812}]
[157.1,1.1399999999999999,42.728999999999999,17.155999999999999,38.201999999999998,0.27198599618077657,{"$f":"[1]!AgePb6U8(F52)","v":1550.8748142819359},15.049122807017545,{"$f":"[1]!AgePb7U5(H52)","v":2818.3522306077843},0.40150717311427836,{"$f":"[1]!AgePb76($J$52)","v":3914.7319992785483}]
[null,null,18.18,15.539,38.652000000000001,0,null,0,null,0.85473047304730476,{"$f":"[1]!AgePb76($J$53)","v":5015.7881125287468}]
[null,null,18.684999999999999,15.589,39.134999999999998,0,null,0,null,0.83430559272143434,{"$f":"[1]!AgePb76($J$54)","v":4981.4581129363978}]
[null,null,null,null,null,"Average",{"$f":"AVERAGE(G42:G54)","v":10874.223177735943},null,{"$f":"AVERAGE(I42:I54)","v":5213.7331955875916},null,{"$f":"AVERAGE(K42:K54)","v":4597.8884639691005}]
[null,null,null,null,null,"Maximum",{"$f":"MAX(G42:G55)","v":36764.010665921429},null,{"$f":"MAX(I42:I55)","v":10638.229209072721},null,{"$f":"MAX(K42:K55)","v":5019.2923085867696}]
[null,null,null,null,null,"Minimum",{"$f":"MIN(G42:G56)","v":137.70267203460452},null,{"$f":"MIN(I42:I56)","v":327.73863254612479},null,{"$f":"MIN(K42:K56)","v":2047.3164486163053}]
[null,null,null,null,null,"Difference",{"$f":"(G56-ABS(G57))","v":36626.307993886825},null,{"$f":"(I56-ABS(I57))","v":10310.490576526596},null,{"$f":"(K56-ABS(K57))","v":2971.9758599704646}]

{"sheet":"Rb-Sr _07","index":7,"n_rows":48,"n_cols":20,"rows_kept":48,"cut":false,"hidden":false,"merged":[]}
["Rubidium","TABLE 1.",null,null,null,null,null,null,null,null,"Rubidium_046.pdf"]
["Strontium","Initial","Today","Today","The Ratio","Half","Decay","2.303/Delta","Age","Age","Age","Model Age","Model Age","Model Age"]
["Dating","87Sr/86Sr","87Sr/86Sr","87Rb/86Sr","Plus One","Life","Constant","Constant","Years","Million Years","Billion Years","Million Years","% Difference"," Difference"]
[null,0.69903000000000004,0.71369000000000005,0.23749999999999999,{"$f":"1+((C4-B4)/D4)","v":1.0617263157894736},48800000000,{"$f":"(0.693/F4)","v":1.4200819672131146E-11},{"$f":"(2.303/G4)","v":162173737373.7374},{"$f":"(LOG(E4))*(H4)","v":4218557617.123796},{"$f":"(I4/1000000)","v":4218.5576171237963},{"$f":"(J4/1000)","v":4.2185576171237962}]
[null,0.69903000000000004,0.70052999999999999,1.634E-2,{"$f":"1+((C5-B5)/D5)","v":1.0917992656058719},48800000000,{"$f":"(0.693/F5)","v":1.4200819672131146E-11},{"$f":"(2.303/G5)","v":162173737373.7374},{"$f":"(LOG(E5))*(H5)","v":6185760080.2047815},{"$f":"(I5/1000000)","v":6185.7600802047818},{"$f":"(J5/1000)","v":6.1857600802047816}]
[null,0.69903000000000004,0.70546299999999995,0.10349999999999999,1.0621545893719797,48800000000,1.4200819672131146E-11,162173737373.7374,4246962039.6392293,4246.9620396392293,4.2469620396392296]
[null,0.69903000000000004,0.74893500000000002,0.83860000000000001,1.0595098974481278,48800000000,1.4200819672131146E-11,162173737373.7374,4071374602.8026338,4071.3746028026339,4.0713746028026341]
[null,0.69903000000000004,0.70522099999999999,9.2410000000000006E-2,1.066994913970349,48800000000,1.4200819672131146E-11,162173737373.7374,4567193436.6115961,4567.1934366115966,4.5671934366115963]
[null,0.69903000000000004,0.72551299999999996,0.44240000000000002,1.0598621157323687,48800000000,1.4200819672131146E-11,162173737373.7374,4094784501.7185383,4094.7845017185382,4.0947845017185385]
[null,0.69903000000000004,0.72571600000000003,0.44280000000000003,1.0602664859981932,48800000000,1.4200819672131146E-11,162173737373.7374,4121651048.3146019,4121.6510483146021,4.1216510483146021]
[null,null,null,null,null,null,null,null,"Average",{"$f":"AVERAGE(J4:J10)","v":4500.8976180593108}]
[null,null,null,null,null,null,null,null,"Maximum",{"$f":"MAX(J4:J11)","v":6185.7600802047818}]
[null,null,null,null,null,null,null,null,"Minimum",{"$f":"MIN(J4:J12)","v":4071.3746028026339}]
[null,null,null,null,null,null,null,null,"Difference",{"$f":"(J12-ABS(J13))","v":2114.3854774021479}]
[]
[]
[null,null,null,"Age",null,null,null,null,"Age",null,null,null,"Age"]
[null,null,"207Pb/206Pb","207Pb/206Pb","238U","206Pb","238U/204Pb","206Pb/238U","206Pb/238U","207Pb/204Pb","206Pb/204Pb","206Pb/238U","206Pb/238U",null,null,"207Pb/206Pb",null,"206Pb/238U",null,"206Pb/238U"]
[null,"Wr",{"$f":"(J19/K19)","v":0.91999732208609508},{"$f":"[1]!AgePb76($C$19)","v":5119.92069947653},13,23,8.4269999999999996,{"$f":"(F19/E19)","v":1.7692307692307692},{"$f":"[1]!AgePb6U8(H19)","v":6566.1213923904807},13.742000000000001,14.936999999999999,{"$f":"(K19/G19)","v":1.7725169099323603},{"$f":"[1]!AgePb6U8(L19)","v":6573.7665713962715},null,null,15,null,2,null,1]
[null,"Wr",{"$f":"(J20/K20)","v":0.86247706964909154},{"$f":"[1]!AgePb76($C$20)","v":5028.5812085754451},11.7,5.57,35.46,{"$f":"(F20/E20)","v":0.4760683760683761},{"$f":"[1]!AgePb6U8(H20)","v":2510.1179716672159},14.574999999999999,16.899000000000001,{"$f":"(K20/G20)","v":0.47656514382402709},{"$f":"[1]!AgePb6U8(L20)","v":2512.2871340193228}]
[null,"Mask",0.97661857195708468,{"$f":"[1]!AgePb76($C$21)","v":5204.1050129968226},19.399999999999999,26.4,10.09,1.3608247422680413,{"$f":"[1]!AgePb6U8(H21)","v":5537.5408544777238},13.199,13.515000000000001,1.3394449950445988,{"$f":"[1]!AgePb6U8(L21)","v":5478.8958558113309}]
[null,"Mask",0.82777256934870125,{"$f":"[1]!AgePb76($C$22)","v":4970.2886591908191},2.89,1.23,43,0.4256055363321799,{"$f":"[1]!AgePb6U8(H22)","v":2285.8769459280857},15.01,18.132999999999999,0.42169767441860462,{"$f":"[1]!AgePb6U8(L22)","v":2268.1818074657376}]
[null,"Mask",0.97054925636872325,{"$f":"[1]!AgePb76($C$23)","v":5195.3317420418798},39.9,32.799999999999997,16.54,0.82205513784461148,{"$f":"[1]!AgePb6U8(H23)","v":3867.62327570447},13.182,13.582000000000001,0.82116082224909315,{"$f":"[1]!AgePb6U8(L23)","v":3864.4584186566426}]
[null,"Mask",0.85809326171874989,{"$f":"[1]!AgePb76($C$24)","v":5021.3566395899734},13.7,3.76,59.9,0.27445255474452557,{"$f":"[1]!AgePb6U8(H24)","v":1563.3632075898595},14.058999999999999,16.384,0.27352253756260436,{"$f":"[1]!AgePb6U8(L24)","v":1558.6572932852118}]
[null,"Mg-Px",0.82943205617839089,{"$f":"[1]!AgePb76($C$25)","v":4973.134723280973},16,2.2200000000000002,118.2,0.13875000000000001,{"$f":"[1]!AgePb6U8(H25)","v":837.59013435636405},13.465,16.234000000000002,0.13734348561759729,{"$f":"[1]!AgePb6U8(L25)","v":829.62299638644038}]
[null,"Mg-Px",0.82302806579447374,{"$f":"[1]!AgePb76($C$26)","v":4962.1181295333763},2.86,1.88,28.1,0.65734265734265729,{"$f":"[1]!AgePb6U8(H26)","v":3256.8284343285991},15.161,18.420999999999999,0.65555160142348745,{"$f":"[1]!AgePb6U8(L26)","v":3249.8581609052158}]
[null,"Fe-Px",0.90335823406689553,{"$f":"[1]!AgePb76($C$27)","v":5094.1353609002235},41.3,9.33,65.98,0.22590799031476999,{"$f":"[1]!AgePb6U8(H27)","v":1313.0171540037441},13.423,14.859,0.22520460745680507,{"$f":"[1]!AgePb6U8(L27)","v":1309.3173669277635}]
[null,"Fe-Px",0.85282811641954959,{"$f":"[1]!AgePb76($C$28)","v":5012.6276397634319},18,7.15,45.85,0.39722222222222225,{"$f":"[1]!AgePb6U8(H28)","v":2156.2361879102887},15.53,18.21,0.39716466739367501,{"$f":"[1]!AgePb6U8(L28)","v":2155.9706396682564}]
[null,"Ox",0.83428186769475543,{"$f":"[1]!AgePb76($C$29)","v":4981.4177188398671},467,16.100000000000001,474.3,3.4475374732334051E-2,{"$f":"[1]!AgePb6U8(H29)","v":218.49743040427853},13.632999999999999,16.341000000000001,3.4452877925363695E-2,{"$f":"[1]!AgePb6U8(L29)","v":218.35723826825284}]
[null,"Mask",0.95030338052585961,{"$f":"[1]!AgePb76($C$30)","v":5165.6406134999079},128,74.3,23.86,0.58046874999999998,{"$f":"[1]!AgePb6U8(H30)","v":2950.6622417668505},13.156000000000001,13.843999999999999,0.58021793797150045,{"$f":"[1]!AgePb6U8(L30)","v":2949.6391487617066}]
[null,"Mg-Px",0.97359833877187774,{"$f":"[1]!AgePb76($C$31)","v":5199.7464599638897},41.7,27.3,20.59,0.65467625899280568,{"$f":"[1]!AgePb6U8(H31)","v":3246.4488366962355},13.128,13.484,0.65488101019912581,{"$f":"[1]!AgePb6U8(L31)","v":3247.246472739097}]
[null,"Fe-Px",0.9626519976838448,{"$f":"[1]!AgePb76($C$32)","v":5183.8288602190632},25,16.399999999999999,21.08,0.65599999999999992,{"$f":"[1]!AgePb6U8(H32)","v":3251.6039062889154},13.3,13.816000000000001,0.65540796963946879,{"$f":"[1]!AgePb6U8(L32)","v":3249.2988608290843}]
[null,"NBS-981",0.90891963497203421,{"$f":"[1]!AgePb76($C$33)","v":5102.8093888792419},null,null,null,null,null,15.438000000000001,16.984999999999999]
[null,null,"Average",{"$f":"AVERAGE(D19:D33)","v":5081.0028571167622},null,null,null,"Average",{"$f":"AVERAGE(I19:I33)","v":2825.823426679508},null,null,"Average",{"$f":"AVERAGE(M19:M33)","v":2818.9684260800236}]
[null,null,"Maximum",{"$f":"MAX(D19:D34)","v":5204.1050129968226},null,null,null,"Maximum",{"$f":"MAX(I19:I34)","v":6566.1213923904807},null,null,"Maximum",{"$f":"MAX(M19:M34)","v":6573.7665713962715}]
[null,null,"Minimum",{"$f":"MIN(D19:D35)","v":4962.1181295333763},null,null,null,"Minimum",{"$f":"MIN(I19:I35)","v":218.49743040427853},null,null,"Minimum",{"$f":"MIN(M19:M35)","v":218.35723826825284}]
[null,null,"Difference",{"$f":"(D35-ABS(D36))","v":241.98688346344625},null,null,null,"Difference",{"$f":"(I35-ABS(I36))","v":6347.6239619862017},null,null,"Difference",{"$f":"(M35-ABS(M36))","v":6355.4093331280183}]
[]
[]
[]
[]
[]
[null,null,null,null,null,null,null,"Dating","Age","Age","Age"]
[null,null,null,null,null,null,null,"Summary","87Rb/86Sr","207Pb/206Pb","206Pb/238U"]
[null,null,null,null,null,null,null,"Average",4500.8976180593108,5081.0028571167622,2825.823426679508]
[null,null,null,null,null,null,null,"Maximum",6185.7600802047818,5204.1050129968226,6566.1213923904807]
[null,null,null,null,null,null,null,"Minimum",4071.3746028026339,4962.1181295333763,218.49743040427853]
[null,null,null,null,null,null,null,"Difference",2114.3854774021479,241.98688346344625,6347.6239619862017]

{"sheet":"Rb-Sr _08","index":8,"n_rows":61,"n_cols":14,"rows_kept":61,"cut":false,"hidden":false,"merged":[]}
["Rubidium","TABLE 1.",null,null,null,null,null,null,null,null,"Rubidium_047.pdf"]
["Strontium","Initial","Today","Today","The Ratio","Half","Decay","2.303/Delta","Age","Age","Age","Model Age","Model Age","Model Age"]
["Dating","87Sr/86Sr","87Sr/86Sr","87Rb/86Sr","Plus One","Life","Constant","Constant","Years","Million Years","Billion Years","Million Years","% Difference"," Difference"]
[null,0.70184000000000002,3.4498000000000002,104.7,{"$f":"1+((C4-B4)/D4)","v":1.0262460362941739},48800000000,{"$f":"(0.693/F4)","v":1.4200819672131146E-11},{"$f":"(2.303/G4)","v":162173737373.7374},{"$f":"(LOG(E4))*(H4)","v":1824696628.6834571},{"$f":"(I4/1000000)","v":1824.6966286834572},{"$f":"(J4/1000)","v":1.8246966286834572}]
[null,0.70184000000000002,1.415,27.75,1.0256994594594595,48800000000,1.4200819672131146E-11,162173737373.7374,1787175124.258673,1787.1751242586729,1.7871751242586729]
[null,0.70184000000000002,0.70186000000000004,2.9999999999999997E-4,1.0666666666667333,48800000000,1.4200819672131146E-11,162173737373.7374,4545522860.0713682,4545.5228600713681,4.545522860071368]
[null,0.70184000000000002,0.70184999999999997,6.9999999999999994E-5,1.1428571428564926,48800000000,1.4200819672131146E-11,162173737373.7374,9404770778.911005,9404.7707789110045,9.4047707789110042]
[null,0.70184000000000002,0.70189000000000001,2.3E-3,{"$f":"1+((C8-B8)/D8)","v":1.0217391304347803},48800000000,{"$f":"(0.693/F8)","v":1.4200819672131146E-11},{"$f":"(2.303/G8)","v":162173737373.7374},{"$f":"(LOG(E8))*(H8)","v":1514706964.8031006},{"$f":"(I8/1000000)","v":1514.7069648031006},{"$f":"(J8/1000)","v":1.5147069648031006}]
[null,null,null,null,null,null,null,null,"Average",{"$f":"AVERAGE(J4:J8)","v":3815.3744713455208}]
[null,null,null,null,null,null,null,null,"Maximum",{"$f":"MAX(J4:J9)","v":9404.7707789110045}]
[null,null,null,null,null,null,null,null,"Minimum",{"$f":"MIN(J4:J10)","v":1514.7069648031006}]
[null,null,null,null,null,null,null,null,"Difference",{"$f":"(J10-ABS(J11))","v":7890.0638141079035}]
[]
[null,null,null,null,null,null,null,null,null,null,"Age","Age","Age"]
[null,"206Pb/204Pb","207Pb/204Pb","208Pb/204Pb","238U/204Pb","232Th/238U","238U/232Th","208Pb/232Th","207Pb/206Pb","206Pb/238U","208Pb/232Th","207Pb/206Pb","206Pb/238U"]
[null,15.909000000000001,15.285,35.494,2.3599999999999999E-2,0.14130000000000001,{"$f":"(1/F16)","v":7.0771408351026182},{"$f":"((D16/E16))/G16","v":212.51280508474579},{"$f":"(C16/B16)","v":0.96077691872524984},{"$f":"(B16/E16)","v":674.11016949152543},{"$f":"[1]!AgePb8Th2(H16)","v":108412.26493881483},{"$f":"[1]!AgePb76(I16)","v":5181.0830145396894},{"$f":"[1]!AgePb6U8(J16)","v":41997.588342408271}]
[null,15.803000000000001,15.257999999999999,35.56,1.6639999999999999E-2,0.12670000000000001,{"$f":"(1/F17)","v":7.8926598263614833},{"$f":"((D17/E17))/G17","v":270.76033653846156},{"$f":"(C17/B17)","v":0.96551287730177804},{"$f":"(B17/E17)","v":949.6995192307694},{"$f":"[1]!AgePb8Th2(H17)","v":113287.93455721058},{"$f":"[1]!AgePb76(I17)","v":5188.0074163025456},{"$f":"[1]!AgePb6U8(J17)","v":44204.338756903169}]
[null,15.89,15.286,35.762999999999998,4.0500000000000001E-2,0.36399999999999999,2.7472527472527473,321.42548148148143,0.96198867212083061,392.34567901234567,{"$f":"[1]!AgePb8Th2(H18)","v":116743.24495932198},{"$f":"[1]!AgePb76(I18)","v":5182.8581407479569},{"$f":"[1]!AgePb6U8(J18)","v":38515.318714704605}]
[null,15.856,15.269,35.634,7.3300000000000004E-2,0.76300000000000001,1.310615989515072,370.92417462482945,0.96297931382441981,216.31650750341063,{"$f":"[1]!AgePb8Th2(H19)","v":119629.91413527977},{"$f":"[1]!AgePb76(I19)","v":5184.3075982616883},{"$f":"[1]!AgePb6U8(J19)","v":34690.442229161432}]
[null,15.996,15.29,34.83,0.11799999999999999,1.569,0.63734862970044615,463.12093220338983,0.95586396599149781,135.55932203389833,{"$f":"[1]!AgePb8Th2(H20)","v":124106.01612969999},{"$f":"[1]!AgePb76(I20)","v":5173.8615574044206},{"$f":"[1]!AgePb6U8(J20)","v":31695.46568168559}]
[null,15.439,15.166,35.43,2.5100000000000001E-2,0.14710000000000001,6.7980965329707681,207.63956175298804,0.98231750761059655,615.09960159362549,{"$f":"[1]!AgePb8Th2(H21)","v":107945.59228382719},{"$f":"[1]!AgePb76(I21)","v":5212.2905556372489},{"$f":"[1]!AgePb6U8(J21)","v":41407.952563169696}]
[null,null,null,null,null,null,null,null,null,"Average",{"$f":"AVERAGE(K16:K21)","v":115020.82783402572},{"$f":"AVERAGE(L16:L21)","v":5187.0680471489259},{"$f":"AVERAGE(M16:M21)","v":38751.851048005461}]
[null,null,null,null,null,null,null,null,null,"Maximum",{"$f":"MAX(K16:K22)","v":124106.01612969999},{"$f":"MAX(L16:L22)","v":5212.2905556372489},{"$f":"MAX(M16:M22)","v":44204.338756903169}]
[null,null,null,null,null,null,null,null,null,"Minimum",{"$f":"MIN(K16:K23)","v":107945.59228382719},{"$f":"MIN(L16:L23)","v":5173.8615574044206},{"$f":"MIN(M16:M23)","v":31695.46568168559}]
[null,null,null,null,null,null,null,null,null,"Difference",{"$f":"(K23-ABS(K24))","v":16160.423845872792},{"$f":"(L23-ABS(L24))","v":38.428998232828235},{"$f":"(M23-ABS(M24))","v":12508.87307521758}]
[]
[]
["Neodymium",null,null,null,null,null,null,null,null,null,"Rubidium_047.pdf"]
["Samarium","Initial","Today","Today","The Ratio","Half","Decay","2.303/Delta","Age","Age","Age"]
["Dating","143Nd/144Nd","143Nd/144Nd","147Sm/144Nd","Plus One","Life","Constant","Constant","Years","Million Years","Billion Years"]
[null,0.51036999999999999,0.51166999999999996,0.1053,{"$f":"1+((C31-B31)/D31)","v":1.0123456790123453},106000000000,{"$f":"(0.693/F31)","v":6.5377358490566029E-12},{"$f":"(2.303/G31)","v":352262626262.62628},{"$f":"(LOG(E31))*(H31)","v":1877148885.4110978},{"$f":"(I31/1000000)","v":1877.1488854110978},{"$f":"(J31/1000)","v":1.8771488854110978}]
[null,0.51034999999999997,0.51175000000000004,0.11210000000000001,{"$f":"1+((C32-B32)/D32)","v":1.012488849241749},106000000000,6.5377358490566029E-12,{"$f":"(2.303/G32)","v":352262626262.62628},{"$f":"(LOG(E32))*(H32)","v":1898783245.7595549},{"$f":"(I32/1000000)","v":1898.7832457595548},{"$f":"(J32/1000)","v":1.8987832457595548}]
[null,0.51036000000000004,0.51173999999999997,0.11020000000000001,1.0125226860254077,106000000000,6.5377358490566029E-12,352262626262.62628,1903895853.2126644,1903.8958532126644,1.9038958532126644]
[null,0.51036000000000004,0.51168999999999998,0.1061,1.0125353440150795,106000000000,6.5377358490566029E-12,352262626262.62628,1905808382.6994655,1905.8083826994655,1.9058083826994654]
[null,0.51036000000000004,0.51173999999999997,0.1119,{"$f":"1+((C35-B35)/D35)","v":1.0123324396782836},106000000000,{"$f":"(0.693/F35)","v":6.5377358490566029E-12},{"$f":"(2.303/G35)","v":352262626262.62628},{"$f":"(LOG(E35))*(H35)","v":1875148143.6973433},{"$f":"(I35/1000000)","v":1875.1481436973434},{"$f":"(J35/1000)","v":1.8751481436973434}]
[null,0.51027,0.51171,0.1172,1.0122866894197953,106000000000,6.5377358490566029E-12,352262626262.62628,1868234116.3662882,1868.2341163662882,1.8682341163662881]
[null,null,null,null,null,null,null,null,"Average",{"$f":"AVERAGE(J31:J36)","v":1888.169771191069}]
[null,null,null,null,null,null,null,null,"Maximum",{"$f":"MAX(J31:J37)","v":1905.8083826994655}]
[null,null,null,null,null,null,null,null,"Minimum",{"$f":"MIN(J31:J38)","v":1868.2341163662882}]
[null,null,null,null,null,null,null,null,"Difference",{"$f":"(J38-ABS(J39))","v":37.57426633317732}]
[]
[]
[]
[]
[]
[null,null,"Dating","Age","Age","Age","Age","Age"]
[null,null,"Summary","147Sm/144Nd","87Rb/86Sr","208Pb/232Th","207Pb/206Pb","206Pb/238U"]
[null,null,"Average",1888.169771191069,3815.3744713455208,115020.82783402572,5187.0680471489259,38751.851048005461]
[null,null,"Maximum",1905.8083826994655,9404.7707789110045,124106.01612969999,5212.2905556372489,44204.338756903169]
[null,null,"Minimum",1868.2341163662882,1514.7069648031006,107945.59228382719,5173.8615574044206,31695.46568168559]
[null,null,"Difference",37.57426633317732,7890.0638141079035,16160.423845872792,38.428998232828235,12508.87307521758]
[]
[]
[null,null,"Age Sorted","Age Sorted","Age Sorted"]
[null,null,"208Pb/232Th","207Pb/206Pb","206Pb/238U"]
[null,null,124106.01612969999,5212.2905556372489,44204.338756903169]
[null,null,119629.91413527977,5188.0074163025456,41997.588342408271]
[null,null,116743.24495932198,5184.3075982616883,41407.952563169696]
[null,null,113287.93455721058,5182.8581407479569,38515.318714704605]
[null,null,108412.26493881483,5181.0830145396894,34690.442229161432]
[null,null,107945.59228382719,5173.8615574044206,31695.46568168559]

{"sheet":"Rb-Sr _09","index":9,"n_rows":61,"n_cols":14,"rows_kept":61,"cut":false,"hidden":false,"merged":[]}
["Rubidium","TABLE 1.",null,null,null,null,null,null,null,null,"Rubidium_048.pdf"]
["Strontium","Initial","Today","Today","The Ratio","Half","Decay","2.303/Delta","Age","Age","Age","Model Age","Model Age","Model Age"]
["Dating","87Sr/86Sr","87Sr/86Sr","87Rb/86Sr","Plus One","Life","Constant","Constant","Years","Million Years","Billion Years","Million Years","% Difference"," Difference"]
[null,0.66500000000000004,0.748838,2.9049999999999998,{"$f":"1+((C4-B4)/D4)","v":1.0288598967297762},48800000000,{"$f":"(0.693/F4)","v":1.4200819672131146E-11},{"$f":"(2.303/G4)","v":162173737373.7374},{"$f":"(LOG(E4))*(H4)","v":2003857534.1265152},{"$f":"(I4/1000000)","v":2003.8575341265152},{"$f":"(J4/1000)","v":2.0038575341265155}]
[null,-0.624,1.0785309999999999,59.107999999999997,1.0288037321513162,48800000000,1.4200819672131146E-11,162173737373.7374,2000012652.6646025,2000.0126526646025,2.0000126526646023]
[null,0.70499999999999996,0.76096799999999998,1.9330000000000001,1.0289539575788929,48800000000,1.4200819672131146E-11,162173737373.7374,2010296225.9782269,2010.2962259782269,2.0102962259782267]
[null,0.70199999999999996,0.70266200000000001,3.1E-2,1.0213548387096791,48800000000,1.4200819672131146E-11,162173737373.7374,1488211744.8891783,1488.2117448891784,1.4882117448891783]
[null,0.70699999999999996,0.76308500000000001,1.9450000000000001,1.0288354755784062,48800000000,1.4200819672131146E-11,162173737373.7374,2002185751.1945376,2002.1857511945377,2.0021857511945376]
[null,0.70899999999999996,0.73728400000000005,0.998,1.0283406813627256,48800000000,1.4200819672131146E-11,162173737373.7374,1968305394.6139748,1968.3053946139748,1.9683053946139748]
[null,0.70399999999999996,0.73177599999999998,0.77800000000000002,{"$f":"1+((C10-B10)/D10)","v":1.0357017994858613},48800000000,{"$f":"(0.693/F10)","v":1.4200819672131146E-11},{"$f":"(2.303/G10)","v":162173737373.7374},{"$f":"(LOG(E10))*(H10)","v":2470673234.1077495},{"$f":"(I10/1000000)","v":2470.6732341077495},{"$f":"(J10/1000)","v":2.4706732341077493}]
[null,0.70199999999999996,0.70467100000000005,6.6000000000000003E-2,{"$f":"1+((C11-B11)/D11)","v":1.0404696969696983},48800000000,{"$f":"(0.693/F11)","v":1.4200819672131146E-11},{"$f":"(2.303/G11)","v":162173737373.7374},{"$f":"(LOG(E11))*(H11)","v":2794162057.5368438},{"$f":"(I11/1000000)","v":2794.1620575368438},{"$f":"(J11/1000)","v":2.7941620575368438}]
[null,0.7,0.71546799999999999,0.44,1.0351545454545454,48800000000,1.4200819672131146E-11,162173737373.7374,2433448308.4659534,2433.4483084659532,2.4334483084659531]
[null,0.70199999999999996,0.72699499999999995,0.69099999999999995,1.0361722141823444,48800000000,1.4200819672131146E-11,162173737373.7374,2502655731.8395472,2502.6557318395471,2.502655731839547]
[null,0.70199999999999996,0.72727900000000001,0.70099999999999996,1.0360613409415123,48800000000,1.4200819672131146E-11,162173737373.7374,2495119003.298625,2495.1190032986251,2.4951190032986252]
[null,0.71199999999999997,0.71482299999999999,6.8000000000000005E-2,1.0415147058823533,48800000000,1.4200819672131146E-11,162173737373.7374,2864864984.250412,2864.8649842504119,2.8648649842504117]
[null,0.70299999999999996,0.70521299999999998,7.0000000000000007E-2,1.031614285714286,48800000000,1.4200819672131146E-11,162173737373.7374,2192158777.0291157,2192.1587770291158,2.1921587770291158]
[null,null,null,null,null,null,null,null,"Average",{"$f":"AVERAGE(J4:J16)","v":2248.1501076919444},{"$f":"AVERAGE(K11:K16)","v":2.5470681437367495}]
[null,null,null,null,null,null,null,null,"Maximum",{"$f":"MAX(J4:J17)","v":2864.8649842504119},{"$f":"MAX(K11:K17)","v":2.8648649842504117}]
[null,null,null,null,null,null,null,null,"Minimum",{"$f":"MIN(J4:J18)","v":1488.2117448891784},{"$f":"MIN(K11:K18)","v":2.1921587770291158}]
[null,null,null,null,null,null,null,null,"Difference",{"$f":"(J18-ABS(J19))","v":1376.6532393612335},{"$f":"(K18+ABS(K19))","v":5.0570237612795275}]
[]
[null,null,null,null,null,null,null,null,null,null,"Dating","Age","Age"]
[null,null,null,null,null,"Age",null,null,null,null,"Summary","87Rb/86Sr","207Pb/206Pb"]
[null,null,"206Pb/204Pb","207Pb/204Pb","207Pb/206Pb","207Pb/206Pb",null,null,null,null,"Average",2248.1501076919444,5134.2078483703781]
[1,"A16G",17.361999999999998,15.452,{"$f":"(D25/C25)","v":0.88998963253081453},{"$f":"[1]!AgePb76($E$25)","v":5073.0507960381383},null,null,null,null,"Maximum",2864.8649842504119,5333.1798865945366]
[2,"A26-2",17.962,15.555,{"$f":"(D26/C26)","v":0.86599487807593811},{"$f":"[1]!AgePb76($E$26)","v":5034.3504638853728},null,null,null,null,"Minimum",1488.2117448891784,5018.2758856743421]
[3,"T121G",17.994,15.555,0.86445481827275761,{"$f":"[1]!AgePb76($E$27)","v":5031.8278113675551},null,null,null,null,"Difference",1376.6532393612335,314.90400092019445]
[4,"T135G",17.539000000000001,15.465999999999999,0.88180626033411247,{"$f":"[1]!AgePb76($E$28)","v":5059.9778292219435}]
[5,"T139G",17.677,15.483000000000001,0.8758839169542344,{"$f":"[1]!AgePb76($E$29)","v":5050.4363340327191}]
[6,"T137-1",17.385000000000002,15.507999999999999,0.89203336209375883,{"$f":"[1]!AgePb76($E$30)","v":5076.2957676567139}]
[7,"A108G",17.359000000000002,15.478999999999999,0.89169883057779808,{"$f":"[1]!AgePb76($E$31)","v":5075.7651486977538}]
[8,"A114-1",17.244,15.461,0.89660171653908605,{"$f":"[1]!AgePb76($E$32)","v":5083.5208430809635}]
[9,"A125G",18.152999999999999,15.583,0.85842560458326456,{"$f":"[1]!AgePb76($E$33)","v":5021.9057159846834}]
[10,"A144-1",17.97,15.52,0.86366165831942132,{"$f":"[1]!AgePb76($E$34)","v":5030.5267357438361}]
[11,"T144-2",17.050999999999998,15.425000000000001,0.9046390241041582,{"$f":"[1]!AgePb76($E$35)","v":5096.1379959442884}]
[12,"P1",17.745999999999999,15.712999999999999,0.88543897216274092,{"$f":"[1]!AgePb76($E$36)","v":5065.7969154572365}]
[13,"P9-2",18.175000000000001,15.561999999999999,0.85623108665749648,{"$f":"[1]!AgePb76($E$37)","v":5018.2758856743421}]
[14,"T28-1",16.495999999999999,15.281000000000001,0.92634578079534446,{"$f":"[1]!AgePb76($E$38)","v":5129.6288104686655}]
[15,"T25-1",16.780999999999999,15.398999999999999,0.91764495560455284,{"$f":"[1]!AgePb76($E$39)","v":5116.3054083633797}]
[16,"P8-7",17.594000000000001,15.646000000000001,0.88928043651244737,{"$f":"[1]!AgePb76($E$40)","v":5071.9229088243928}]
[17,"P88-5",17.329999999999998,15.497,0.89422965954991351,{"$f":"[1]!AgePb76($E$41)","v":5079.7742044678116}]
[18,"T9",17.439,15.637,0.89666838694879292,{"$f":"[1]!AgePb76($E$42)","v":5083.6259963651728}]
[19,"b",17.291,15.59,0.90162512289630437,{"$f":"[1]!AgePb76($E$43)","v":5091.4206819423325}]
[19,"P20-1",17.811,15.513999999999999,0.87103475380382911,{"$f":"[1]!AgePb76($E$44)","v":5042.5727278497343}]
[20,"T46G",15.651999999999999,15.292999999999999,0.97706363404037821,{"$f":"[1]!AgePb76($E$45)","v":5204.7460846455469}]
[21,"P94G",17.282,15.583,0.90168961925703039,{"$f":"[1]!AgePb76($E$46)","v":5091.5218056409003}]
[22,"T73-3",16.209,15.56,0.9599605157628478,{"$f":"[1]!AgePb76($E$47)","v":5179.8857102391585}]
[27,"T70G",15.946999999999999,15.579000000000001,0.97692355929014874,{"$f":"[1]!AgePb76($E$48)","v":5204.5443529586837}]
[28,"A167-9",16.04,15.436,0.96234413965087284,{"$f":"[1]!AgePb76($E$49)","v":5183.3784247154599}]
[29,"A167-16",16.539000000000001,15.664,0.94709474575246377,{"$f":"[1]!AgePb76($E$50)","v":5160.8736669607379}]
[30,"P6-3",14.805999999999999,14.972,1.0112116709442118,{"$f":"[1]!AgePb76($E$51)","v":5253.0339881265591}]
[31,"A154G",14.401999999999999,15.106999999999999,1.0489515345090961,{"$f":"[1]!AgePb76($E$52)","v":5304.4360180388212}]
[32,"A156-5",14.262,14.949,1.0481699621371476,{"$f":"[1]!AgePb76($E$53)","v":5303.391436841207}]
[33,"T71-1",14.122999999999999,15.058,1.0662040642922892,{"$f":"[1]!AgePb76($E$54)","v":5327.2873334435499}]
[34,"A159-1",14.084,15.002000000000001,1.0651803464924738,{"$f":"[1]!AgePb76($E$55)","v":5325.9423245044809}]
[35,"A164-1",15.294,15.144,0.9901922322479404,{"$f":"[1]!AgePb76($E$56)","v":5223.5189824458002}]
[36,"A183-1",13.946,14.932,1.0707012763516421,{"$f":"[1]!AgePb76($E$57)","v":5333.1798865945366}]
[null,null,null,{"$f":"COUNT(D25:D57)","v":33},"Average",{"$f":"AVERAGE(F25:F57)","v":5134.2078483703781}]
[null,null,null,null,"Maximum",{"$f":"MAX(F25:F58)","v":5333.1798865945366}]
[null,null,null,null,"Minimum",{"$f":"MIN(F25:F59)","v":5018.2758856743421}]
[null,null,null,null,"Difference",{"$f":"(F59-F60)","v":314.90400092019445}]

{"sheet":"Rb-Sr _10","index":10,"n_rows":46,"n_cols":14,"rows_kept":46,"cut":false,"hidden":false,"merged":[]}
[null,"TABLE 1.",null,null,"Age",null,null,null,null,null,"Rubidium_049.pdf"]
["Sample","206Pb/204Pb","207Pb/204Pb","207Pb/206Pb","207Pb/206Pb"]
["0902-7",18.349,15.542,{"$f":"(C3/B3)","v":0.84702163605646086},{"$f":"[1]!AgePb76($D$3)","v":5002.9345630132375}]
["0902-9",18.343,15.542,{"$f":"(C4/B4)","v":0.84729869705064598},{"$f":"[1]!AgePb76($D$4)","v":5003.3986774932609}]
["0903-8",18.244,15.519,0.85063582547686911,{"$f":"[1]!AgePb76($D$5)","v":5008.9761873766574}]
["0903-11",18.271000000000001,15.522,0.84954299162607405,{"$f":"[1]!AgePb76($D$6)","v":5007.1522423861752}]
["0903-1",17.710999999999999,15.407,0.86991135452543622,{"$f":"[1]!AgePb76($D$7)","v":5040.7443482749532},null,"Dating","Age","Age"]
["0903-2",18.02,15.438000000000001,0.85671476137624869,{"$f":"[1]!AgePb76($D$8)","v":5019.0767531640749},null,"Summary","207Pb/206Pb","176Lu/177Hf"]
["0903-5",17.847999999999999,15.417999999999999,0.8638502913491708,{"$f":"[1]!AgePb76($D$9)","v":5030.836278589406},null,"Average",5013.9545584403304,439.74392853845535]
["HR–10",17.908000000000001,15.426,0.86140272503908866,{"$f":"[1]!AgePb76($D$10)","v":5026.8142878575791},null,"Maximum",5050.3806300874066,954.91714545893399]
["HR–20",18.007999999999999,15.416,0.85606397156819203,{"$f":"[1]!AgePb76($D$11)","v":5017.9990652288334},null,"Minimum",4998.826860648237,262.19534588462813]
["HR–30",18.079999999999998,15.44,0.85398230088495586,{"$f":"[1]!AgePb76($D$12)","v":5014.5460316554181},null,"Difference",51.553769439169628,692.72179957430581]
["HR–40",18.169,15.444000000000001,0.85001926358082447,{"$f":"[1]!AgePb76($D$13)","v":5007.9474487597745}]
["HR–80",17.510999999999999,15.337,0.87584946604991154,{"$f":"[1]!AgePb76($D$14)","v":5050.3806300874066}]
["0903-6",18.308,15.525,0.84798994974874375,{"$f":"[1]!AgePb76($D$15)","v":5004.5559164267279}]
["0903-7",18.373000000000001,15.537000000000001,0.84564306319055138,{"$f":"[1]!AgePb76($D$16)","v":5000.6228679322567}]
["0903-9",18.405000000000001,15.551,0.84493344199945664,{"$f":"[1]!AgePb76($D$17)","v":4999.4313604112367}]
["0903-10",18.401,15.541,0.84457366447475679,{"$f":"[1]!AgePb76($D$18)","v":4998.826860648237}]
["0903-12",18.346,15.54,0.84705112831134843,{"$f":"[1]!AgePb76($D$19)","v":5002.9839741803908}]
[null,null,null,"Average",{"$f":"AVERAGE(E3:E19)","v":5013.9545584403304}]
[null,null,null,"Maximum",{"$f":"MAX(E3:E20)","v":5050.3806300874066}]
[null,null,null,"Minimum",{"$f":"MIN(E3:E21)","v":4998.826860648237}]
[null,null,null,"Difference",{"$f":"(E21-E22)","v":51.553769439169628}]
[]
[]
["Lutetium",null,null,null,null,null,null,null,null,null,"Rubidium_049.pdf"]
["Hafnium","Initial","Today","Today","The Ratio","Half","Decay","2.303/Delta","Age","Age","Age","Model Age","Model Age","Model Age"]
["Dating","176Hf/177Hf","176Hf/177Hf","176Lu/177Hf","Plus One","Life","Constant","Constant","Years","Million Years","Billion Years","Million Years","% Difference"," Difference"]
[null,0.2828,0.283418,0.11899999999999999,{"$f":"1+((C29-B29)/D29)","v":1.0051932773109244},37300000000,{"$f":"(0.693/F29)","v":1.8579088471849864E-11},{"$f":"(2.303/G29)","v":123956565656.56567},{"$f":"(LOG(E29))*(H29)","v":278849639.22965139},{"$f":"(I29/1000000)","v":278.84963922965142},{"$f":"(J29/1000)","v":0.27884963922965139}]
[null,0.2828,0.28320600000000001,7.2999999999999995E-2,{"$f":"1+((C30-B30)/D30)","v":1.0055616438356167},37300000000,1.8579088471849864E-11,{"$f":"(2.303/G30)","v":123956565656.56567},{"$f":"(LOG(E30))*(H30)","v":298574087.47702205},{"$f":"(I30/1000000)","v":298.57408747702203},{"$f":"(J30/1000)","v":0.29857408747702202}]
[null,0.2828,0.28331899999999999,2.9000000000000001E-2,1.0178965517241376,37300000000,1.8579088471849864E-11,123956565656.56567,954917145.45893395,954.91714545893399,0.95491714545893402]
[null,0.2828,0.283335,0.10299999999999999,1.0051941747572817,37300000000,1.8579088471849864E-11,123956565656.56567,278897702.41791606,278.89770241791604,0.27889770241791606]
[null,0.2828,0.283389,7.8E-2,1.0075512820512822,37300000000,1.8579088471849864E-11,123956565656.56567,404985929.27879566,404.98592927879565,0.40498592927879568]
[null,0.2828,0.28334399999999998,5.3999999999999999E-2,1.0100740740740739,37300000000,1.8579088471849864E-11,123956565656.56567,539610704.24012423,539.61070424012428,0.53961070424012425]
[null,0.2828,0.28336,6.2E-2,1.0090322580645161,37300000000,1.8579088471849864E-11,123956565656.56567,484056655.33180571,484.0566553318057,0.4840566553318057]
[null,0.2828,0.28308,3.2000000000000001E-2,1.00875,37300000000,1.8579088471849864E-11,123956565656.56567,468995582.62421852,468.99558262421851,0.46899558262421853]
[null,0.2828,0.282966,3.4000000000000002E-2,1.0048823529411766,37300000000,1.8579088471849864E-11,123956565656.56567,262195345.88462812,262.19534588462813,0.26219534588462812]
[null,0.2828,0.283028,3.6999999999999998E-2,1.0061621621621624,37300000000,1.8579088471849864E-11,123956565656.56567,330713783.54380608,330.71378354380607,0.33071378354380609]
[null,0.2828,0.28309000000000001,4.2999999999999997E-2,1.0067441860465118,37300000000,1.8579088471849864E-11,123956565656.56567,361845358.45761085,361.84535845761087,0.36184535845761084]
[null,0.2828,0.28311799999999998,4.9000000000000002E-2,1.006489795918367,37300000000,1.8579088471849864E-11,123956565656.56567,348240630.99576956,348.24063099576955,0.34824063099576957]
[null,0.2828,0.28295799999999999,1.2999999999999999E-2,1.0121538461538455,37300000000,1.8579088471849864E-11,123956565656.56567,650341809.96166778,650.34180996166776,0.65034180996166779]
[null,0.2828,0.282883,8.9999999999999993E-3,1.0092222222222222,37300000000,1.8579088471849864E-11,123956565656.56567,494190624.63642538,494.19062463642535,0.49419062463642538]
[null,null,null,null,null,null,null,null,"Average",{"$f":"AVERAGE(J26:J42)","v":439.74392853845535}]
[null,null,null,null,null,null,null,null,"Maximum",{"$f":"MAX(J26:J43)","v":954.91714545893399}]
[null,null,null,null,null,null,null,null,"Minimum",{"$f":"MIN(J26:J44)","v":262.19534588462813}]
[null,null,null,null,null,null,null,null,"Difference",{"$f":"(J44-J45)","v":692.72179957430581}]

{"sheet":"Rb-Sr _11","index":11,"n_rows":81,"n_cols":29,"rows_kept":81,"cut":false,"hidden":false,"merged":[]}
["Rubidium",null,null,null,null,null,null,null,null,null,"Rubidium_050.pdf"]
["Strontium","Initial","Today","Today","The Ratio","Half","Decay","2.303/Delta","Age","Age","Age","Model Age","Model Age","Model Age"]
["Dating","87Sr/86Sr","87Sr/86Sr","87Rb/86Sr","Plus One","Life","Constant","Constant","Years","Million Years","Billion Years","Million Years","% Difference"," Difference"]
["TABLE 3",0.69906599999999997,0.69921299999999997,2.1099999999999999E-3,{"$f":"1+((C4-B4)/D4)","v":1.0696682464455016},48800000000,{"$f":"(0.693/F4)","v":1.4200819672131146E-11},{"$f":"(2.303/G4)","v":162173737373.7374},{"$f":"(LOG(E4))*(H4)","v":4743436474.8464222},{"$f":"(I4/1000000)","v":4743.4364748464222},{"$f":"(J4/1000)","v":4.7434364748464226}]
[null,0.69906599999999997,0.69942899999999997,5.3200000000000001E-3,1.0682330827067674,48800000000,1.4200819672131146E-11,162173737373.7374,4648876207.1303072,4648.8762071303072,4.6488762071303071]
[null,0.69906599999999997,0.69913499999999995,1.2099999999999999E-3,1.057024793388418,48800000000,1.4200819672131146E-11,162173737373.7374,3905982709.181191,3905.9827091811908,3.9059827091811909]
[null,0.69906599999999997,0.69911999999999996,1.09E-3,1.0495412844036682,48800000000,1.4200819672131146E-11,162173737373.7374,3405571698.2404294,3405.5716982404292,3.4055716982404292]
[null,0.69906599999999997,0.69914900000000002,1.4300000000000001E-3,1.0580419580419966,48800000000,1.4200819672131146E-11,162173737373.7374,3973725338.2733469,3973.725338273347,3.9737253382733471]
[null,0.69906599999999997,0.69925700000000002,5.13E-3,1.0372319688109264,48800000000,1.4200819672131146E-11,162173737373.7374,2574653033.7882762,2574.6530337882764,2.5746530337882763]
[null,0.69906599999999997,0.69947499999999996,7.11E-3,1.0575246132208147,48800000000,1.4200819672131146E-11,162173737373.7374,3939278588.4431672,3939.2785884431673,3.9392785884431674]
[null,0.69906599999999997,0.69945999999999997,5.7600000000000004E-3,1.0684027777777787,48800000000,1.4200819672131146E-11,162173737373.7374,4660063720.001997,4660.0637200019974,4.6600637200019976]
[null,0.69906599999999997,0.69938,4.7099999999999998E-3,{"$f":"1+((C12-B12)/D12)","v":1.0666666666666744},48800000000,{"$f":"(0.693/F12)","v":1.4200819672131146E-11},{"$f":"(2.303/G12)","v":162173737373.7374},{"$f":"(LOG(E12))*(H12)","v":4545522860.0674829},4545.5228600674827,{"$f":"(J12/1000)","v":4.5455228600674831}]
[null,0.69906599999999997,0.69953399999999999,6.4599999999999996E-3,1.0724458204334402,48800000000,1.4200819672131146E-11,162173737373.7374,4926085819.7505665,4926.0858197505668,4.9260858197505666]
[null,0.69906599999999997,0.69988300000000003,1.0500000000000001E-2,1.0778095238095302,48800000000,1.4200819672131146E-11,162173737373.7374,5277460489.000864,5277.4604890008641,5.2774604890008643]
[null,0.69906599999999997,0.69914799999999999,1.6100000000000001E-3,{"$f":"1+((C15-B15)/D15)","v":1.0509316770186501},48800000000,{"$f":"(0.693/F15)","v":1.4200819672131146E-11},{"$f":"(2.303/G15)","v":162173737373.7374},{"$f":"(LOG(E15))*(H15)","v":3498814486.6872516},3498.8144866872517,{"$f":"(J15/1000)","v":3.4988144866872517}]
[null,0.69906599999999997,0.69925199999999998,2.82E-3,1.0659574468085176,48800000000,1.4200819672131146E-11,162173737373.7374,4498678056.7102804,4498.6780567102805,4.4986780567102809]
[null,0.69906599999999997,0.69939600000000002,5.3400000000000001E-3,1.0617977528089986,48800000000,1.4200819672131146E-11,162173737373.7374,4223296336.2886786,4223.2963362886785,4.2232963362886782,null,"Dating","Age","Age"]
[null,0.69906599999999997,0.69947499999999996,6.3899999999999998E-3,1.0640062597809066,48800000000,1.4200819672131146E-11,162173737373.7374,4369638860.1397343,{"$f":"(I18/1000000)","v":4369.6388601397339},4.3696388601397338,null,"Summary","87Rb/86Sr","147Sm/144Nd"]
[null,null,null,null,null,null,null,null,"Average",{"$f":"AVERAGE(J4:J18)","v":4212.7389785700007},{"$f":"AVERAGE(K4:K18)","v":4.21273897857},null,"Average",4212.7389785700007,294470.41120048083]
[null,null,null,null,null,null,null,null,"Maximum",{"$f":"MAX(J4:J19)","v":5277.4604890008641},{"$f":"MAX(K4:K19)","v":5.2774604890008643},null,"Maximum",5277.4604890008641,315266.19194417534]
[null,null,null,null,null,null,null,null,"Minimum",{"$f":"MIN(J4:J20)","v":2574.6530337882764},{"$f":"MIN(K4:K20)","v":2.5746530337882763},null,"Minimum",2574.6530337882764,251680.05633055072]
[null,null,null,null,null,null,null,null,"Difference",{"$f":"(J20-ABS(J21))","v":2702.8074552125877},{"$f":"(K20+ABS(K21))","v":7.852113522789141},null,"Difference",2702.8074552125877,63586.135613624618]
[]
[]
["Neodymium",null,null,null,null,null,null,null,null,null,"Rubidium_050.pdf"]
["Samarium","Initial","Today","Today","The Ratio","Half","Decay","2.303/Delta","Age","Age","Age","Model Age","Model Age","Model Age"]
["Dating","143Nd/144Nd","143Nd/144Nd","147Sm/144Nd","Plus One","Life","Constant","Constant","Years","Million Years","Billion Years","Million Years","% Difference"," Difference"]
[null,-0.64,0.51109400000000005,0.17249999999999999,{"$f":"1+((C28-B28)/D28)","v":7.6730086956521744},106000000000,{"$f":"(0.693/F28)","v":6.5377358490566029E-12},{"$f":"(2.303/G28)","v":352262626262.62628},{"$f":"(LOG(E28))*(H28)","v":311740338244.66333},{"$f":"(I28/1000000)","v":311740.33824466332},{"$f":"(J28/1000)","v":311.74033824466329}]
[null,-0.64,0.51118799999999998,0.16800999999999999,{"$f":"1+((C29-B29)/D29)","v":7.8519016725194923},106000000000,6.5377358490566029E-12,{"$f":"(2.303/G29)","v":352262626262.62628},{"$f":"(LOG(E29))*(H29)","v":315266191944.17535},{"$f":"(I29/1000000)","v":315266.19194417534},{"$f":"(J29/1000)","v":315.26619194417532}]
[null,-0.64,0.51119999999999999,0.17463999999999999,7.5918460833715073,106000000000,6.5377358490566029E-12,352262626262.62628,310113485262.31348,310113.48526231345,310.11348526231347]
[null,-0.64,0.51221700000000003,0.20902999999999999,{"$f":"1+((C31-B31)/D31)","v":6.5122087738602117},106000000000,{"$f":"(0.693/F31)","v":6.5377358490566029E-12},{"$f":"(2.303/G31)","v":352262626262.62628},{"$f":"(LOG(E31))*(H31)","v":286646073334.94409},{"$f":"(I31/1000000)","v":286646.07333494409},{"$f":"(J31/1000)","v":286.64607333494411}]
[null,-0.64,0.51417400000000002,0.27600999999999998,5.1816383464367242,106000000000,6.5377358490566029E-12,352262626262.62628,251680056330.55072,251680.05633055072,251.68005633055071,null,null,null,null,null,null,null,null,null,null,null,null,null,null,null,0.32,"ÿ1.81",0.32]
[null,-0.64,0.51137600000000005,0.18235999999999999,7.3137530160122832,106000000000,6.5377358490566029E-12,352262626262.62628,304404328089.1452,304404.32808914519,304.40432808914517]
[null,-0.64,0.51159200000000005,0.1875,7.1418239999999997,106000000000,6.5377358490566029E-12,352262626262.62628,300765051189.78687,300765.05118978687,300.76505118978685,null,null,null,null,null,null,null,null,null,null,null,null,null,null,null,0.23,"ÿ1.77",0.23]
[null,-0.64,0.51122699999999999,0.17527000000000001,7.5683060421064638,106000000000,6.5377358490566029E-12,352262626262.62628,309638385421.22095,309638.38542122097,309.63838542122096]
[null,-0.64,0.51207800000000003,0.20412,6.644121105232216,106000000000,6.5377358490566029E-12,352262626262.62628,289714007750.05731,289714.00775005732,289.71400775005731,null,"Dating","143Nd/144Nd","143Nd/144Nd","143Nd/144Nd"]
[null,-0.64,0.51338799999999996,0.24840000000000001,5.6432689210950082,106000000000,6.5377358490566029E-12,352262626262.62628,264736194437.95078,264736.19443795079,264.73619443795081,null,"Summary","Initial = -0.64","Initial = -0.51","Initial = -0.77",null,null,null,null,null,null,null,null,null,null,0.22,"ÿ3.0",0.22]
[null,null,null,null,null,null,null,null,"Average",{"$f":"AVERAGE(J23:J37)","v":294470.41120048083},null,null,"Average",294470.41120048083,278989.69014625123,308526.74097024195,null,null,null,null,null,null,null,null,null,null,0.22,"ÿ1.29",0.22]
[null,null,null,null,null,null,null,null,"Maximum",{"$f":"MAX(J23:J38)","v":315266.19194417534},null,null,"Maximum",315266.19194417534,299394.71254781022,329644.7568650741]
[null,null,null,null,null,null,null,null,"Minimum",{"$f":"MIN(J23:J39)","v":251680.05633055072},null,null,"Minimum",251680.05633055072,237100.92857025465,264989.91382812388]
[null,null,null,null,null,null,null,null,"Difference",{"$f":"(J39-ABS(J40))","v":63586.135613624618},null,null,"Difference",63586.135613624618,62293.783977555577,64654.843036950217]
[]
[]
[]
[]
["Neodymium",null,null,null,null,null,null,null,null,null,"Rubidium_050.pdf"]
["Samarium","Initial","Today","Today","The Ratio","Half","Decay","2.303/Delta","Age","Age","Age","Model Age","Model Age","Model Age"]
["Dating","143Nd/144Nd","143Nd/144Nd","147Sm/144Nd","Plus One","Life","Constant","Constant","Years","Million Years","Billion Years","Million Years","% Difference"," Difference"]
[null,-0.51,0.51109400000000005,0.17249999999999999,{"$f":"1+((C49-B49)/D49)","v":6.9193855072463784},106000000000,{"$f":"(0.693/F49)","v":6.5377358490566029E-12},{"$f":"(2.303/G49)","v":352262626262.62628},{"$f":"(LOG(E49))*(H49)","v":295924393509.66516},{"$f":"(I49/1000000)","v":295924.39350966515},{"$f":"(J49/1000)","v":295.92439350966515}]
[null,-0.51,0.51118799999999998,0.16800999999999999,{"$f":"1+((C50-B50)/D50)","v":7.0781382060591636},106000000000,6.5377358490566029E-12,{"$f":"(2.303/G50)","v":352262626262.62628},{"$f":"(LOG(E50))*(H50)","v":299394712547.81024},{"$f":"(I50/1000000)","v":299394.71254781022},{"$f":"(J50/1000)","v":299.39471254781023}]
[null,-0.51,0.51119999999999999,0.17463999999999999,6.8474576271186436,106000000000,6.5377358490566029E-12,352262626262.62628,294325764372.31415,294325.76437231415,294.32576437231415]
[null,-0.51,0.51221700000000003,0.20902999999999999,5.8902884753384681,106000000000,6.5377358490566029E-12,352262626262.62628,271290328885.59015,271290.32888559013,271.29032888559016]
[null,-0.51,0.51417400000000002,0.27600999999999998,4.7106409188072895,106000000000,6.5377358490566029E-12,352262626262.62628,237100928570.25464,237100.92857025465,237.10092857025464]
[null,-0.51,0.51137600000000005,0.18235999999999999,6.6008773853915335,106000000000,6.5377358490566029E-12,352262626262.62628,288715035209.48596,288715.03520948597,288.71503520948596]
[null,-0.51,0.51159200000000005,0.1875,6.4484906666666673,106000000000,6.5377358490566029E-12,352262626262.62628,285141827556.68103,285141.827556681,285.14182755668099]
[null,-0.51,0.51122699999999999,0.17527000000000001,6.8265932561191311,106000000000,6.5377358490566029E-12,352262626262.62628,293858901521.66095,293858.90152166097,293.85890152166098]
[null,-0.51,0.51207800000000003,0.20412,6.0072408387223204,106000000000,6.5377358490566029E-12,352262626262.62628,274298115924.33621,274298.11592433619,274.29811592433617]
[null,-0.51,0.51338799999999996,0.24840000000000001,5.119919484702093,106000000000,6.5377358490566029E-12,352262626262.62628,249846893364.71381,249846.89336471382,249.84689336471382]
[null,null,null,null,null,null,null,null,"Average",{"$f":"AVERAGE(J44:J58)","v":278989.69014625123}]
[null,null,null,null,null,null,null,null,"Maximum",{"$f":"MAX(J44:J59)","v":299394.71254781022}]
[null,null,null,null,null,null,null,null,"Minimum",{"$f":"MIN(J44:J60)","v":237100.92857025465}]
[null,null,null,null,null,null,null,null,"Difference",{"$f":"(J60-ABS(J61))","v":62293.783977555577}]
[]
[]
["Neodymium",null,null,null,null,null,null,null,null,null,"Rubidium_050.pdf"]
["Samarium","Initial","Today","Today","The Ratio","Half","Decay","2.303/Delta","Age","Age","Age","Model Age","Model Age","Model Age"]
["Dating","143Nd/144Nd","143Nd/144Nd","147Sm/144Nd","Plus One","Life","Constant","Constant","Years","Million Years","Billion Years","Million Years","% Difference"," Difference"]
[null,-0.77,0.51109400000000005,0.17249999999999999,{"$f":"1+((C68-B68)/D68)","v":8.4266318840579721},106000000000,{"$f":"(0.693/F68)","v":6.5377358490566029E-12},{"$f":"(2.303/G68)","v":352262626262.62628},{"$f":"(LOG(E68))*(H68)","v":326073316890.8277},{"$f":"(I68/1000000)","v":326073.31689082767},{"$f":"(J68/1000)","v":326.0733168908277}]
[null,-0.77,0.51118799999999998,0.16800999999999999,{"$f":"1+((C69-B69)/D69)","v":8.6256651389798229},106000000000,6.5377358490566029E-12,{"$f":"(2.303/G69)","v":352262626262.62628},{"$f":"(LOG(E69))*(H69)","v":329644756865.0741},{"$f":"(I69/1000000)","v":329644.7568650741},{"$f":"(J69/1000)","v":329.6447568650741}]
[null,-0.77,0.51119999999999999,0.17463999999999999,8.3362345396243711,106000000000,6.5377358490566029E-12,352262626262.62628,324423284484.16919,324423.28448416921,324.42328448416919]
[null,-0.77,0.51221700000000003,0.20902999999999999,7.1341290723819561,106000000000,6.5377358490566029E-12,352262626262.62628,300600128524.41205,300600.12852441205,300.60012852441207]
[null,-0.77,0.51417400000000002,0.27600999999999998,5.6526357740661579,106000000000,6.5377358490566029E-12,352262626262.62628,264989913828.1239,264989.91382812388,264.98991382812386]
[null,-0.77,0.51137600000000005,0.18235999999999999,8.0266286466330339,106000000000,6.5377358490566029E-12,352262626262.62628,318633230263.71448,318633.2302637145,318.63323026371449]
[null,-0.77,0.51159200000000005,0.1875,7.835157333333334,106000000000,6.5377358490566029E-12,352262626262.62628,314939598454.52319,314939.59845452319,314.93959845452321]
[null,-0.77,0.51122699999999999,0.17527000000000001,8.3100188280937974,106000000000,6.5377358490566029E-12,352262626262.62628,323941418373.66638,323941.41837366635,323.94141837366635]
[null,-0.77,0.51207800000000003,0.20412,7.2810013717421125,106000000000,6.5377358490566029E-12,352262626262.62628,303717705760.85913,303717.70576085913,303.71770576085913]
[null,-0.77,0.51338799999999996,0.24840000000000001,6.1666183574879225,106000000000,6.5377358490566029E-12,352262626262.62628,278304056257.04999,278304.05625704996,278.30405625704998]
[null,null,null,null,null,null,null,null,"Average",{"$f":"AVERAGE(J63:J77)","v":308526.74097024195}]
[null,null,null,null,null,null,null,null,"Maximum",{"$f":"MAX(J63:J78)","v":329644.7568650741}]
[null,null,null,null,null,null,null,null,"Minimum",{"$f":"MIN(J63:J79)","v":264989.91382812388}]
[null,null,null,null,null,null,null,null,"Difference",{"$f":"(J79-ABS(J80))","v":64654.843036950217}]

{"sheet":"Rb-Sr _12","index":12,"n_rows":150,"n_cols":14,"rows_kept":150,"cut":false,"hidden":false,"merged":[]}
["Rubidium","TABLE 1.",null,null,null,null,null,null,null,null,"Rubidium_051.pdf"]
["Strontium","Initial","Today","Today","The Ratio","Half","Decay","2.303/Delta","Age","Age","Age","Model Age","Model Age","Model Age"]
["Dating","87Sr/86Sr","87Sr/86Sr","87Rb/86Sr","Plus One","Life","Constant","Constant","Years","Million Years","Billion Years","Million Years","% Difference"," Difference"]
["TABLE 1",0.70306000000000002,0.70308000000000004,1.52E-2,{"$f":"1+((C4-B4)/D4)","v":1.0013157894736855},48800000000,{"$f":"(0.693/F4)","v":1.4200819672131146E-11},{"$f":"(2.303/G4)","v":162173737373.7374},{"$f":"(LOG(E4))*(H4)","v":92611662.589378268},{"$f":"(I4/1000000)","v":92.61166258937827},{"$f":"(J4/1000)","v":9.2611662589378266E-2}]
[null,0.70340000000000003,0.70340999999999998,2.3999999999999998E-3,1.0041666666666478,48800000000,1.4200819672131146E-11,162173737373.7374,292853474.9466536,292.85347494665359,0.29285347494665359]
[null,0.70294000000000001,0.70294000000000001,2.2000000000000001E-3,1,48800000000,1.4200819672131146E-11,162173737373.7374,0,0,0]
[null,0.69396000000000002,0.70869000000000004,10.199999999999999,1.0014441176470588,48800000000,1.4200819672131146E-11,162173737373.7374,101637509.36759886,101.63750936759887,0.10163750936759887]
[null,0.69528000000000001,0.70928000000000002,9.6999999999999993,1.0014432989690722,48800000000,1.4200819672131146E-11,162173737373.7374,101579932.05280311,101.57993205280312,0.10157993205280312]
[null,0.70230999999999999,0.70370999999999995,0.95099999999999996,1.0014721345951629,48800000000,1.4200819672131146E-11,162173737373.7374,103607902.41980228,103.60790241980227,0.10360790241980228]
[null,0.70308999999999999,0.70321,9.35E-2,1.0012834224598932,48800000000,1.4200819672131146E-11,162173737373.7374,90334975.08296302,90.334975082963027,9.0334975082963023E-2]
[null,0.70304999999999995,0.70308999999999999,2.9399999999999999E-2,1.0013605442176885,48800000000,1.4200819672131146E-11,162173737373.7374,95759578.655106142,95.759578655106139,9.5759578655106134E-2]
[null,0.70279999999999998,0.7036,0.65959999999999996,1.0012128562765312,48800000000,1.4200819672131146E-11,162173737373.7374,85371112.57501407,85.371112575014067,8.5371112575014063E-2]
[null,0.70243,0.70401000000000002,1.26,1.0012539682539683,48800000000,1.4200819672131146E-11,162173737373.7374,88263109.78059116,88.263109780591165,8.8263109780591167E-2]
[null,null,null,null,null,null,null,null,"Average",{"$f":"AVERAGE(J4:J13)","v":105.20192574699107},{"$f":"AVERAGE(K4:K13)","v":0.10520192574699105}]
[null,null,null,null,null,null,null,null,"Maximum",{"$f":"MAX(J4:J14)","v":292.85347494665359},{"$f":"MAX(K4:K14)","v":0.29285347494665359}]
[null,null,null,null,null,null,null,null,"Minimum",{"$f":"MIN(J4:J15)","v":0},{"$f":"MIN(K4:K15)","v":0}]
[null,null,null,null,null,null,null,null,"Difference",{"$f":"(J15+ABS(J16))","v":292.85347494665359},{"$f":"(K15+ABS(K16))","v":0.29285347494665359}]
[]
[]
["Sample","Table 4",null,null,"Age",null,null,null,"Sample",null,null,null,"Age"]
[-1,"206Pb/204Pb","238U/204Pb","206Pb/238U","206Pb/238U",null,null,null,"Number","206Pb/204Pb","207Pb/204Pb","207Pb/206Pb","207Pb/206Pb"]
[-2,49.29,2467,{"$f":"(B22/C22)","v":1.9979732468585327E-2},{"$f":"[1]!AgePb6U8(D22)","v":127.52784509220409},null,null,null,"TMD3b-2",19.138999999999999,15.544,{"$f":"(K22/J22)","v":0.81216364491352744},{"$f":"[1]!AgePb76($L$22)","v":4943.2182731892563}]
[-3,64.66,3418,{"$f":"(B23/C23)","v":1.8917495611468695E-2},{"$f":"[1]!AgePb6U8(D23)","v":120.81086174874439},null,null,null,"TMD10c-1",19.495999999999999,15.611000000000001,{"$f":"(K23/J23)","v":0.8007283545342635},{"$f":"[1]!AgePb76($L$23)","v":4923.0326243945583}]
[-4,61.59,3360,1.8330357142857145E-2,{"$f":"[1]!AgePb6U8(D24)","v":117.09512549152385},null,null,null,"TMD10c-2",19.343,15.641999999999999,0.80866463320064108,{"$f":"[1]!AgePb76($L$24)","v":4937.0740644856724}]
[-5,74.94,4344,1.7251381215469614E-2,{"$f":"[1]!AgePb6U8(D25)","v":110.26118093325776},null,null,null,"TMD4-3",19.471,15.714,0.80704637666272916,{"$f":"[1]!AgePb76($L$25)","v":4934.2228613639791}]
[-7,181.85,12761,1.4250450591646422E-2,{"$f":"[1]!AgePb6U8(D26)","v":91.215905658333398},null,null,null,"TMD4-8",19.62,15.827999999999999,0.80672782874617732,{"$f":"[1]!AgePb76($L$26)","v":4933.6608960094409}]
[-8,38.64,1443,2.6777546777546776E-2,{"$f":"[1]!AgePb6U8(D27)","v":170.34844540713482},null,null,null,"TMD14-9",19.363,15.635999999999999,0.80751949594587613,{"$f":"[1]!AgePb76($L$27)","v":4935.0570779919271}]
[-9,109.01,6411,1.7003587583840275E-2,{"$f":"[1]!AgePb6U8(D28)","v":108.69069894985662},null,null,null,"TMD15-5",19.440000000000001,15.661,0.80560699588477358,{"$f":"[1]!AgePb76($L$28)","v":4931.6817038242707}]
[-10,134.09,8425,1.591572700296736E-2,{"$f":"[1]!AgePb6U8(D29)","v":101.79145755275182},null,null,null,"TMD16-1",19.497,15.651999999999999,0.80279017284710463,{"$f":"[1]!AgePb76($L$29)","v":4926.694732624067}]
[-11,72.72,3743,1.9428266096713866E-2,{"$f":"[1]!AgePb6U8(D30)","v":124.04155816017634},null,null,null,"TMD16-2",19.495999999999999,15.669,0.80370332375871978,{"$f":"[1]!AgePb76($L$30)","v":4928.3134335820887}]
[-12,90.84,5287,1.7181766597314168E-2,{"$f":"[1]!AgePb6U8(D31)","v":109.82001169413428},null,null,null,null,null,null,"Average",{"$f":"AVERAGE(M21:M30)","v":4932.5506297183629}]
[-14,91.67,5168,1.7738003095975233E-2,{"$f":"[1]!AgePb6U8(D32)","v":113.3442105311462},null,null,null,null,null,null,"Maximum",{"$f":"MAX(M21:M31)","v":4943.2182731892563}]
[-15,35.22,1101,3.1989100817438693E-2,{"$f":"[1]!AgePb6U8(D33)","v":202.98537166922634},null,null,null,null,null,null,"Minimum",{"$f":"MIN(M21:M32)","v":4923.0326243945583}]
[-16,48.21,2072,2.3267374517374519E-2,{"$f":"[1]!AgePb6U8(D34)","v":148.27278636374996},null,null,null,null,null,null,"Difference",{"$f":"(M32-ABS(M33))","v":20.185648794697954}]
[-18,29.17,737.1,3.9574006240672907E-2,{"$f":"[1]!AgePb6U8(D35)","v":250.19190882497389}]
[-19,31.21,722.3,4.3209192856153954E-2,{"$f":"[1]!AgePb6U8(D36)","v":272.69443559592281}]
[-20,35.43,989.8,3.5795110123257222E-2,{"$f":"[1]!AgePb6U8(D37)","v":226.71622321933901}]
[-21,36.19,1045,3.4631578947368416E-2,{"$f":"[1]!AgePb6U8(D38)","v":219.4707557002229},null,null,"Dating","Age","Age","Age"]
[-22,36.229999999999997,1053,3.440645773979107E-2,{"$f":"[1]!AgePb6U8(D39)","v":218.06795447065224},null,null,"Summary","207Pb/206Pb","206Pb/238U","87Rb/86Sr"]
[-23,37.049999999999997,1072,3.4561567164179102E-2,{"$f":"[1]!AgePb6U8(D40)","v":219.03452290766126},null,null,"Average",4932.5506297183629,211.58248557446925,105.20192574699107]
[-24,34.630000000000003,942.6,3.6738807553575219E-2,{"$f":"[1]!AgePb6U8(D41)","v":232.58678086567357},null,null,"Maximum",4943.2182731892563,702.14460356084021,292.85347494665359]
[-25,23.27,223.3,0.10420958351992834,{"$f":"[1]!AgePb6U8(D42)","v":639.03155508400437},null,null,"Minimum",4923.0326243945583,91.215905658333398,0]
[-26,22.98,215.3,0.1067347886669763,{"$f":"[1]!AgePb6U8(D43)","v":653.75695980769899},null,null,"Difference",20.185648794697954,610.92869790250677,292.85347494665359]
[-27,22.75,197.7,0.11507334344967123,{"$f":"[1]!AgePb6U8(D44)","v":702.14460356084021}]
[-28,25.19,340.6,7.3957721667645332E-2,{"$f":"[1]!AgePb6U8(D45)","v":459.95571320996032}]
[-29,30,640.20000000000005,4.6860356138706649E-2,{"$f":"[1]!AgePb6U8(D46)","v":295.21706860562347}]
[-31,26.93,429.9,6.2642474994184696E-2,{"$f":"[1]!AgePb6U8(D47)","v":391.67579009699858}]
[-32,38.200000000000003,1291,2.9589465530596441E-2,{"$f":"[1]!AgePb6U8(D48)","v":187.97837636613482}]
[-33,39.35,1374,2.8639010189228532E-2,{"$f":"[1]!AgePb6U8(D49)","v":182.02468434423062}]
[-34,33.54,974.9,3.4403528567032514E-2,{"$f":"[1]!AgePb6U8(D50)","v":218.04969985960753}]
[-35,36.56,1172,3.1194539249146759E-2,{"$f":"[1]!AgePb6U8(D51)","v":198.0201585721943}]
[-36,34.590000000000003,1027,3.3680623174294065E-2,{"$f":"[1]!AgePb6U8(D52)","v":213.54297051597439}]
[-37,38.659999999999997,1305,2.9624521072796933E-2,{"$f":"[1]!AgePb6U8(D53)","v":188.19786064110158}]
[-39,35.32,1066,3.3133208255159474E-2,{"$f":"[1]!AgePb6U8(D54)","v":210.12818460050997}]
[-40,32.630000000000003,941.3,3.4664825241687035E-2,{"$f":"[1]!AgePb6U8(D55)","v":219.67789797600616}]
[-41,60.5,2775,2.1801801801801801E-2,{"$f":"[1]!AgePb6U8(D56)","v":139.03330393906728}]
[-42,50.01,2145,2.3314685314685314E-2,{"$f":"[1]!AgePb6U8(D57)","v":148.57082962406264}]
[-43,48.27,1958,2.4652706843718081E-2,{"$f":"[1]!AgePb6U8(D58)","v":156.9942471267284}]
[-45,64.239999999999995,3110,2.0655948553054661E-2,{"$f":"[1]!AgePb6U8(D59)","v":131.80020900036803}]
[-46,56.61,2730,2.0736263736263735E-2,{"$f":"[1]!AgePb6U8(D60)","v":132.30745590101625}]
[-47,47.97,2084,2.3018234165067177E-2,{"$f":"[1]!AgePb6U8(D61)","v":146.70305249906107}]
[-48,58.44,2914,2.0054907343857242E-2,{"$f":"[1]!AgePb6U8(D62)","v":128.00294328206121}]
[-49,52.45,2465,2.1277890466531443E-2,{"$f":"[1]!AgePb6U8(D63)","v":135.72716806128867}]
[-50,36.81,1234,2.9829821717990278E-2,{"$f":"[1]!AgePb6U8(D64)","v":189.48310690041947}]
[-51,34.85,1069,3.2600561272217027E-2,{"$f":"[1]!AgePb6U8(D65)","v":206.80378414615666}]
[-52,32.71,928.7,3.5221277053946377E-2,{"$f":"[1]!AgePb6U8(D66)","v":223.1439040877884}]
[-53,34.53,1095,3.153424657534247E-2,{"$f":"[1]!AgePb6U8(D67)","v":200.14345675875452}]
[-54,46.96,2028,2.3155818540433925E-2,{"$f":"[1]!AgePb6U8(D68)","v":147.56996396122676}]
[-55,39.450000000000003,1517,2.6005273566249178E-2,{"$f":"[1]!AgePb6U8(D69)","v":165.49806068323352}]
[-56,53.93,2523,2.1375346809353945E-2,{"$f":"[1]!AgePb6U8(D70)","v":136.34229346732496}]
[null,47.44,2062,2.3006789524733267E-2,{"$f":"[1]!AgePb6U8(D71)","v":146.63093520733301}]
[null,null,null,"Average",{"$f":"AVERAGE(E22:E71)","v":211.58248557446925}]
[null,null,null,"Maximum",{"$f":"MAX(E22:E72)","v":702.14460356084021}]
[null,null,null,"Minimum",{"$f":"MIN(E22:E73)","v":91.215905658333398}]
[null,null,null,"Difference",{"$f":"(E73-ABS(E74))","v":610.92869790250677}]
[]
[]
[]
[]
[]
[null,null,null,"Age"]
["Pb-206","Pb-207","Pb-207/206","Pb-207/206","Age Sorted"]
[37.799999999999997,1.6,{"$f":"(B83/A83)","v":4.2328042328042333E-2},{"$f":"[1]!AgePb76($C$83)","v":-206.97847772573246},"Pb-207/206"]
[35.799999999999997,2.1,{"$f":"(B84/A84)","v":5.865921787709498E-2},{"$f":"[1]!AgePb76($C$84)","v":554.47124280611752},2102.2689613245916]
[36.6,1.9,5.1912568306010924E-2,{"$f":"[1]!AgePb76($C$85)","v":281.56067665491304},1223.4103436269622]
[36.299999999999997,2.1,5.7851239669421496E-2,{"$f":"[1]!AgePb76($C$86)","v":524.13260740500527},1178.8423545672679]
[37.6,4.9000000000000004,0.13031914893617022,{"$f":"[1]!AgePb76($C$87)","v":2102.2689613245916},1170.8156496252698]
[62.7,3,4.784688995215311E-2,{"$f":"[1]!AgePb76($C$88)","v":91.705234294936531},1049.7198624004357]
[68.599999999999994,3.5,5.1020408163265307E-2,{"$f":"[1]!AgePb76($C$89)","v":241.75201535801597},1024.1782855330807]
[54.7,2.9,5.3016453382084092E-2,{"$f":"[1]!AgePb76($C$90)","v":329.50101011235478},988.56775920339192]
[71,3.8,5.3521126760563378E-2,{"$f":"[1]!AgePb76($C$91)","v":350.95379154333352},930.72327374925271]
[37,2,5.4054054054054057E-2,{"$f":"[1]!AgePb76($C$92)","v":373.30228595767744},887.562485269999]
[34.6,2.1,6.0693641618497107E-2,{"$f":"[1]!AgePb76($C$93)","v":628.39440281303848},863.34741578343881]
[33.799999999999997,2,5.9171597633136098E-2,{"$f":"[1]!AgePb76($C$94)","v":573.4154455933209},781.35734042696231]
[32.200000000000003,2.1,6.5217391304347824E-2,{"$f":"[1]!AgePb76($C$95)","v":781.35734042696231},703.98022503277866]
[34.200000000000003,1.4,4.0935672514619874E-2,{"$f":"[1]!AgePb76($C$96)","v":-291.60676425466551},703.40104219805744]
[32.4,1.7,5.246913580246914E-2,{"$f":"[1]!AgePb76($C$97)","v":305.90911309372649},668.16321451980355]
[43,3.1,7.2093023255813959E-2,{"$f":"[1]!AgePb76($C$98)","v":988.56775920339192},663.3208654938569]
[34.200000000000003,2.7,7.8947368421052627E-2,{"$f":"[1]!AgePb76($C$99)","v":1170.8156496252698},633.81429047444317]
[32.799999999999997,2.6,7.9268292682926844E-2,{"$f":"[1]!AgePb76($C$100)","v":1178.8423545672679},628.39440281303848]
[45.2,2.1,4.6460176991150438E-2,{"$f":"[1]!AgePb76($C$101)","v":21.567544449579078},608.38641533448003]
[28.9,1.5,5.1903114186851215E-2,{"$f":"[1]!AgePb76($C$102)","v":281.14390663577217},573.4154455933209]
[30.5,1.2,3.9344262295081964E-2,{"$f":"[1]!AgePb76($C$103)","v":-393.82763720235209},572.80271270447781]
[31.1,1.3,4.1800643086816719E-2,{"$f":"[1]!AgePb76($C$104)","v":-238.53520448196755},554.47124280611752]
[30.6,1.4,4.5751633986928102E-2,{"$f":"[1]!AgePb76($C$105)","v":-15.45462801612727},524.13260740500527]
[30.8,1.9,6.1688311688311681E-2,{"$f":"[1]!AgePb76($C$106)","v":663.3208654938569},452.36845225238858]
[30.6,1.1000000000000001,3.5947712418300658E-2,{"$f":"[1]!AgePb76($C$107)","v":-634.90491729235214},429.03025749761639]
[53.7,2.7,5.027932960893855E-2,{"$f":"[1]!AgePb76($C$108)","v":207.92705114671315},427.78262773250623]
[56.3,2.7,4.7957371225577271E-2,{"$f":"[1]!AgePb76($C$109)","v":97.166681809201449},422.29812071764769]
[53,2.8,5.2830188679245278E-2,{"$f":"[1]!AgePb76($C$110)","v":321.51071139704425},411.15858362652085]
[33.299999999999997,1.7,5.1051051051051052E-2,{"$f":"[1]!AgePb76($C$111)","v":243.13561939888521},401.06098351162979]
[27.5,1.4,5.0909090909090904E-2,{"$f":"[1]!AgePb76($C$112)","v":236.71582930874351},373.30228595767744]
[27,0.1,3.7037037037037038E-3," ",350.95379154333352]
[26.8,1.4,5.2238805970149252E-2,{"$f":"[1]!AgePb76($C$114)","v":295.87710071622161},334.13924435923917]
[27.1,1,3.6900369003690037E-2,{"$f":"[1]!AgePb76($C$115)","v":-563.80917558948136},329.50101011235478]
[27.3,1.3,4.7619047619047616E-2,{"$f":"[1]!AgePb76($C$116)","v":80.38459466304657},327.06210500090845]
[26.8,1.2,4.4776119402985072E-2,{"$f":"[1]!AgePb76($C$117)","v":-67.819957270551598},321.51071139704425]
[35,2.2000000000000002,6.2857142857142861E-2,{"$f":"[1]!AgePb76($C$118)","v":703.40104219805744},305.90911309372649]
[32.299999999999997,2.4,7.4303405572755415E-2,{"$f":"[1]!AgePb76($C$119)","v":1049.7198624004357},295.87710071622161]
[40.200000000000003,2.2000000000000002,5.4726368159203981E-2,{"$f":"[1]!AgePb76($C$120)","v":401.06098351162979},281.56067665491304]
[29.3,1.4,4.7781569965870303E-2,{"$f":"[1]!AgePb76($C$121)","v":88.467693269531466},281.14390663577217]
[32,1.7,5.3124999999999999E-2,{"$f":"[1]!AgePb76($C$122)","v":334.13924435923917},243.13561939888521]
[33.4,2.1,6.2874251497005998E-2,{"$f":"[1]!AgePb76($C$123)","v":703.98022503277866},241.75201535801597]
[32.5,1.8,5.5384615384615386E-2,{"$f":"[1]!AgePb76($C$124)","v":427.78262773250623},236.71582930874351]
[69.2,3.3,4.7687861271676298E-2,{"$f":"[1]!AgePb76($C$125)","v":83.811916484315162},224.15324444457693]
[64.2,3.1,4.8286604361370715E-2,{"$f":"[1]!AgePb76($C$126)","v":113.33482265212589},207.92705114671315]
[64.2,3.4,5.2959501557632398E-2,{"$f":"[1]!AgePb76($C$127)","v":327.06210500090845}]
[37,3,8.1081081081081086E-2,{"$f":"[1]!AgePb76($C$128)","v":1223.4103436269622},122.9939812687043]
[44.9,2.7,6.0133630289532301E-2,{"$f":"[1]!AgePb76($C$129)","v":608.38641533448003},113.33482265212589]
[36.200000000000003,2,5.5248618784530384E-2,{"$f":"[1]!AgePb76($C$130)","v":422.29812071764769},108.74301999995072]
[36.799999999999997,2.7,7.3369565217391311E-2,{"$f":"[1]!AgePb76($C$131)","v":1024.1782855330807},97.166681809201449]
[33,1.6,4.8484848484848485E-2,{"$f":"[1]!AgePb76($C$132)","v":122.9939812687043},91.705234294936531]
[38.200000000000003,2.1,5.4973821989528791E-2,{"$f":"[1]!AgePb76($C$133)","v":411.15858362652085},88.467693269531466]
[37.200000000000003,2.2999999999999998,6.1827956989247305E-2,{"$f":"[1]!AgePb76($C$134)","v":668.16321451980355},83.811916484315162]
[35.5,2.1,5.9154929577464793E-2,{"$f":"[1]!AgePb76($C$135)","v":572.80271270447781},80.38459466304657]
[39.5,2,5.0632911392405063E-2,{"$f":"[1]!AgePb76($C$136)","v":224.15324444457693},68.500454599021737]
[36,1.8,0.05,{"$f":"[1]!AgePb76($C$137)","v":194.99313028453997},21.567544449579078]
[39.700000000000003,2.2000000000000002,5.5415617128463476E-2,{"$f":"[1]!AgePb76($C$138)","v":429.03025749761639},-15.45462801612727]
[40.1,1.9,4.738154613466334E-2,{"$f":"[1]!AgePb76($C$139)","v":68.500454599021737},-24.3338406272767]
[37.1,2.6,7.0080862533692723E-2,{"$f":"[1]!AgePb76($C$140)","v":930.72327374925271},-67.819957270551598]
[35.1,1.6,4.5584045584045586E-2,{"$f":"[1]!AgePb76($C$141)","v":-24.3338406272767},-206.97847772573246]
[41.5,2,{"$f":"(B142/A142)","v":4.8192771084337352E-2},{"$f":"[1]!AgePb76($C$142)","v":108.74301999995072},-238.53520448196755]
[51.6,3.5,6.7829457364341081E-2,{"$f":"[1]!AgePb76($C$143)","v":863.34741578343881},-291.60676425466551]
[37.5,2.1,5.6000000000000001E-2,{"$f":"[1]!AgePb76($C$144)","v":452.36845225238858},-393.82763720235209]
[40.799999999999997,2.8,6.8627450980392163E-2,{"$f":"[1]!AgePb76($C$145)","v":887.562485269999},-563.80917558948136]
[37.799999999999997,2.2999999999999998,6.0846560846560843E-2,{"$f":"[1]!AgePb76($C$146)","v":633.81429047444317},-634.90491729235214]
[null,null,"Average",{"$f":"AVERAGE(D83:D146)","v":389.96535551852241}]
[null,null,"Maximum",{"$f":"MAX(D83:D147)","v":2102.2689613245916}]
[null,null,"Minimum",{"$f":"MIN(D83:D148)","v":-634.90491729235214}]
[null,null,"Difference",{"$f":"(D148+ABS(D149))","v":2737.1738786169435}]

{"sheet":"Rb-Sr _13","index":13,"n_rows":36,"n_cols":14,"rows_kept":36,"cut":false,"hidden":false,"merged":[]}
["Rubidium","TABLE 1.",null,null,null,null,null,null,null,null,"Rubidium_052.pdf"]
["Strontium","Initial","Today","Today","The Ratio","Half","Decay","2.303/Delta","Age","Age","Age","Model Age","Model Age","Model Age"]
["Dating","87Sr/86Sr","87Sr/86Sr","87Rb/86Sr","Plus One","Life","Constant","Constant","Years","Million Years","Billion Years","Million Years","% Difference"," Difference"]
["TABLE 1",0.70099999999999996,0.72376300000000005,0.26500000000000001,{"$f":"1+((C4-B4)/D4)","v":1.0858981132075476},48800000000,{"$f":"(0.693/F4)","v":1.4200819672131146E-11},{"$f":"(2.303/G4)","v":162173737373.7374},{"$f":"(LOG(E4))*(H4)","v":5804048621.3928566},{"$f":"(I4/1000000)","v":5804.0486213928561},{"$f":"(J4/1000)","v":5.8040486213928562},65]
[null,0.70099999999999996,0.72229200000000005,0.26800000000000002,1.0794477611940301,48800000000,1.4200819672131146E-11,162173737373.7374,5384432412.1935844,5384.4324121935842,5.3844324121935845]
[null,0.70099999999999996,0.722132,0.22500000000000001,1.0939200000000002,48800000000,1.4200819672131146E-11,162173737373.7374,6322434383.3181343,6322.4343833181347,6.3224343833181349]
[null,0.70099999999999996,0.72333999999999998,0.216,1.103425925925926,48800000000,1.4200819672131146E-11,162173737373.7374,6931821873.501894,6931.8218735018936,6.9318218735018933]
[null,0.70099999999999996,0.72357000000000005,0.224,1.100758928571429,48800000000,1.4200819672131146E-11,162173737373.7374,6761382623.1994629,6761.3826231994626,6.7613826231994629]
[null,0.70099999999999996,0.72570999999999997,0.27100000000000002,1.0911808118081181,48800000000,1.4200819672131146E-11,162173737373.7374,6145852781.4299917,6145.8527814299914,6.1458527814299915]
[null,0.70099999999999996,0.75528499999999998,0.63300000000000001,1.0857582938388626,48800000000,1.4200819672131146E-11,162173737373.7374,5794979378.0227833,5794.9793780227828,5.7949793780227825]
[null,0.70099999999999996,0.74268800000000001,0.621,1.0671304347826087,48800000000,1.4200819672131146E-11,162173737373.7374,4576138448.1391573,4576.1384481391569,4.5761384481391572]
[null,0.70099999999999996,0.75006899999999999,0.65200000000000002,1.0752592024539878,48800000000,1.4200819672131146E-11,162173737373.7374,5110608245.6432991,5110.6082456432987,5.1106082456432986]
[null,0.70099999999999996,0.722356,0.24099999999999999,{"$f":"1+((C13-B13)/D13)","v":1.0886141078838176},48800000000,{"$f":"(0.693/F13)","v":1.4200819672131146E-11},{"$f":"(2.303/G13)","v":162173737373.7374},{"$f":"(LOG(E13))*(H13)","v":5979987621.5855188},{"$f":"(I13/1000000)","v":5979.9876215855193},{"$f":"(J13/1000)","v":5.9799876215855194}]
[null,0.70099999999999996,0.71399999999999997,0.157,1.0828025477707006,48800000000,1.4200819672131146E-11,162173737373.7374,5602984072.2397375,5602.9840722397375,5.6029840722397379]
[null,0.70099999999999996,0.7298,0.27500000000000002,1.1047272727272728,48800000000,1.4200819672131146E-11,162173737373.7374,7014837286.0861177,7014.8372860861182,7.0148372860861183]
[null,0.70099999999999996,0.70601100000000006,9.7299999999999998E-2,1.0515005138746156,48800000000,1.4200819672131146E-11,162173737373.7374,3536926384.2709279,3536.9263842709279,3.5369263842709278]
[null,0.70099999999999996,0.71183300000000005,0.16500000000000001,1.0656545454545461,48800000000,{"$f":"(0.693/F17)","v":1.4200819672131146E-11},{"$f":"(2.303/G17)","v":162173737373.7374},{"$f":"(LOG(E17))*(H17)","v":4478661568.0435371},{"$f":"(I17/1000000)","v":4478.661568043537},{"$f":"(J17/1000)","v":4.4786615680435373}]
[null,0.70099999999999996,0.72010600000000002,0.23799999999999999,{"$f":"1+((C18-B18)/D18)","v":1.08027731092437},48800000000,{"$f":"(0.693/F18)","v":1.4200819672131146E-11},{"$f":"(2.303/G18)","v":162173737373.7374},{"$f":"(LOG(E18))*(H18)","v":5438537587.7011061},{"$f":"(I18/1000000)","v":5438.5375877011056},{"$f":"(J18/1000)","v":5.4385375877011057}]
[null,0.70099999999999996,0.70352300000000001,2.8400000000000002E-2,1.088838028169016,48800000000,1.4200819672131146E-11,162173737373.7374,5994473327.2052307,5994.4733272052308,5.9944733272052311]
[null,0.70099999999999996,0.70284999999999997,2.1999999999999999E-2,1.0840909090909099,48800000000,1.4200819672131146E-11,162173737373.7374,5686736036.806118,5686.7360368061181,5.6867360368061179]
[null,0.70099999999999996,0.70925899999999997,0.114,1.0724473684210527,48800000000,1.4200819672131146E-11,162173737373.7374,4926187481.280962,4926.1874812809619,4.9261874812809623]
[null,null,null,null,null,null,null,null,"Average",{"$f":"AVERAGE(J2:J21)","v":5638.3905628922448},{"$f":"AVERAGE(K2:K21)","v":5.6383905628922451}]
[null,null,null,null,null,null,null,null,"Maximum",{"$f":"MAX(J2:J22)","v":7014.8372860861182},{"$f":"MAX(K2:K22)","v":7.0148372860861183}]
[null,null,null,null,null,null,null,null,"Minimum",{"$f":"MIN(J2:J23)","v":3536.9263842709279},{"$f":"MIN(K2:K23)","v":3.5369263842709278}]
[null,null,null,null,null,null,null,null,"Difference",{"$f":"(J23-ABS(J24))","v":3477.9109018151903},{"$f":"(K23+ABS(K24))","v":10.551763670357046}]
[]
[]
[]
[null,null,null,null,null,null,"87Rb/86Sr","87Rb/86Sr","87Rb/86Sr"]
[null,null,null,null,null,null,"Maximum Age","Maximum Age","Maximum Age"]
[null,null,null,null,null,null,7014.8372860861182,5979.9876215855193,5384.4324121935842]
[null,null,null,null,null,null,6931.8218735018936,5804.0486213928561,5110.6082456432987]
[null,null,null,null,null,null,6761.3826231994626,5794.9793780227828,4926.1874812809619]
[null,null,null,null,null,null,6322.4343833181347,5686.7360368061181,4576.1384481391569]
[null,null,null,null,null,null,6145.8527814299914,5602.9840722397375,4478.661568043537]
[null,null,null,null,null,null,5994.4733272052308,5438.5375877011056,3536.9263842709279]

{"sheet":"Rb-Sr _14","index":14,"n_rows":174,"n_cols":16,"rows_kept":174,"cut":false,"hidden":false,"merged":[]}
["Rubidium_053.pdf","TABLE 7",null,null,null,null,null,null,null,"Age","Age","Age",null,"208Pb/232Th","206Pb/238U","207Pb/206Pb"]
[null,"238U/204Pb","232Th/204Pb","206Pb/204Pb","207Pb/204Pb","208Pb/204Pb","208Pb/232Th","206Pb/238U","207Pb/206Pb","208Pb/232Th","206Pb/238U","207Pb/206Pb",null,64609.839028491064,25894.124020270498,6497.6472962994094]
[null,1.597,5.2,13.734,14.504,33.835000000000001,{"$f":"(F3/C3)","v":6.506730769230769},{"$f":"(D3/B3)","v":8.5998747651847207},{"$f":"(E3/D3)","v":1.056065239551478},{"$f":"[1]!AgePb8Th2(G3)","v":40743.811096207632},{"$f":"[1]!AgePb6U8(H3)","v":14580.177618665217},{"$f":"[1]!AgePb76(I3)","v":5313.9059745981385},null,50396.578639719643,22873.882680846888,5381.4361079627424]
[null,1.7110000000000001,3,13.821999999999999,14.547000000000001,33.305999999999997,{"$f":"(F4/C4)","v":11.101999999999999},{"$f":"(D4/B4)","v":8.0783167738164803},{"$f":"(E4/D4)","v":1.0524526117783246},{"$f":"[1]!AgePb8Th2(G4)","v":50396.578639719643},{"$f":"[1]!AgePb6U8(H4)","v":14220.072832204442},{"$f":"[1]!AgePb76(I4)","v":5309.1051899707563},null,40743.811096207632,20347.43574837079,5361.1996794707384]
[null,8.6820000000000004,63.2,18.05,15.647,44.851999999999997,0.70968354430379743,2.0790140520617371,0.86686980609418285,{"$f":"[1]!AgePb8Th2(G5)","v":10839.985681210183},{"$f":"[1]!AgePb6U8(H5)","v":7249.6981967537286},{"$f":"[1]!AgePb76(I5)","v":5035.7814953693287},null,33172.238893101094,19155.585211695077,5350.498205486022]
[null,2.6739999999999999,32.299999999999997,14.991,14.874000000000001,38.981000000000002,1.2068421052631582,5.6062079281974571,0.99219531719031429,{"$f":"[1]!AgePb8Th2(G6)","v":15999.24369916586},{"$f":"[1]!AgePb6U8(H6)","v":12170.893164424544},{"$f":"[1]!AgePb76(I6)","v":5226.3600837693648},null,28598.281609219601,18932.951589569184,5347.1080424591564]
[null,22.6,14.509,14.786,37.002000000000002,null,null,0.65424778761061941,2.5025023671040176,null,{"$f":"[1]!AgePb6U8(H7)","v":3244.7793489888782},{"$f":"[1]!AgePb76(I7)","v":6497.6472962994094},null,26292.507865418745,18340.919535441681,5337.3050505269175]
[null,11.35,39.200000000000003,20.852,16.07,38.170999999999999,0.97374999999999989,1.8371806167400881,0.7706694801457894,{"$f":"[1]!AgePb8Th2(G8)","v":13743.007308493476},{"$f":"[1]!AgePb6U8(H8)","v":6722.3904496073192},{"$f":"[1]!AgePb76(I8)","v":4868.4736894489652},null,18726.276324149272,16498.036928744445,5330.5933084193475]
[null,0.38300000000000001,10.7,12.928000000000001,14.327999999999999,33.341999999999999,3.1160747663551405,33.75456919060052,1.1082920792079207,{"$f":"[1]!AgePb8Th2(G9)","v":28598.281609219601},{"$f":"[1]!AgePb6U8(H9)","v":22873.882680846888},{"$f":"[1]!AgePb76(I9)","v":5381.4361079627424},null,18318.986181173743,16394.443109089636,5328.5222000522208]
[null,0.73599999999999999,53.8,13.144,14.358000000000001,40.087000000000003,0.74511152416356885,17.858695652173914,1.0923615337796713,{"$f":"[1]!AgePb8Th2(G10)","v":11254.541976910437},{"$f":"[1]!AgePb6U8(H10)","v":18932.951589569184},{"$f":"[1]!AgePb76(I10)","v":5361.1996794707384},null,15999.24369916586,16373.099175024172,5317.4063620560783]
[null,1.244,36.1,13.523,14.430999999999999,37.308999999999997,1.0334903047091413,10.870578778135048,1.0671448643052577,{"$f":"[1]!AgePb8Th2(G11)","v":14345.703457680565},{"$f":"[1]!AgePb6U8(H11)","v":15948.834599030777},{"$f":"[1]!AgePb76(I11)","v":5328.5222000522208},null,14950.995858239621,16119.887289310054,5313.9059745981385]
[null,0.82399999999999995,1.4,13.352,14.439,32.828000000000003,23.448571428571434,16.203883495145632,1.0814110245656081,{"$f":"[1]!AgePb8Th2(G12)","v":64609.839028491064},{"$f":"[1]!AgePb6U8(H12)","v":18340.919535441681},{"$f":"[1]!AgePb76(I12)","v":5347.1080424591564},null,14879.64142874453,15948.834599030777,5311.5772551673408]
[null,3.9009999999999998,38.200000000000003,15.007999999999999,14.856999999999999,38.155000000000001,0.99882198952879575,3.8472186618815689,0.98993869936034118,{"$f":"[1]!AgePb8Th2(G13)","v":13998.140511220116},{"$f":"[1]!AgePb6U8(H13)","v":10175.052819819908},{"$f":"[1]!AgePb76(I13)","v":5223.1589476401969},null,14345.703457680565,15793.5051379871,5309.1051899707563]
[null,1.843,66.099999999999994,13.695,14.499000000000001,42.405000000000001,0.64152798789712562,7.4308193163320677,1.0587075575027383,{"$f":"[1]!AgePb8Th2(G14)","v":10017.736392327355},{"$f":"[1]!AgePb6U8(H14)","v":13743.071444580453},{"$f":"[1]!AgePb76(I14)","v":5317.4063620560783},null,14001.759344218459,14622.618039173714,5295.1693438547481]
[null,1.33,13.4,14.082000000000001,14.673999999999999,35.808999999999997,2.6723134328358205,10.587969924812031,1.0420394830279789,{"$f":"[1]!AgePb8Th2(G15)","v":26292.507865418745},{"$f":"[1]!AgePb6U8(H15)","v":15793.5051379871},{"$f":"[1]!AgePb76(I15)","v":5295.1693438547481},null,13998.140511220116,14580.177618665217,5238.9826381663333]
[null,0.66900000000000004,24.6,15.042999999999999,14.872999999999999,37.53,1.525609756097561,22.485799701046336,0.98869906268696406,{"$f":"[1]!AgePb8Th2(G16)","v":18726.276324149272},{"$f":"[1]!AgePb6U8(H16)","v":20347.43574837079},{"$f":"[1]!AgePb76(I16)","v":5221.3971701737719},null,13743.007308493476,14220.072832204442,5232.1094264030398]
[null,1.165,49.8,13.605,14.54,39.935000000000002,0.80190763052208847,11.678111587982833,1.0687247335538403,{"$f":"[1]!AgePb8Th2(G17)","v":11901.887790816221},{"$f":"[1]!AgePb6U8(H17)","v":16373.099175024172},{"$f":"[1]!AgePb76(I17)","v":5330.5933084193475},null,13502.130202284799,13743.071444580453,5226.3600837693648]
[null,0.84199999999999997,null,15.595000000000001,15.052,38.409999999999997,null,18.521377672209027,0.96518114780378317,null,{"$f":"[1]!AgePb6U8(H18)","v":19155.585211695077},{"$f":"[1]!AgePb76(I18)","v":5187.5235693062723},null,12100.885508354433,12170.893164424544,5223.1589476401969]
[null,1.2649999999999999,8.1999999999999993,14.826000000000001,14.843,34.122999999999998,4.161341463414634,11.720158102766799,1.0011466342911102,{"$f":"[1]!AgePb8Th2(G19)","v":33172.238893101094},{"$f":"[1]!AgePb6U8(H19)","v":16394.443109089636},{"$f":"[1]!AgePb76(I19)","v":5238.9826381663333},null,11901.887790816221,10836.618263704839,5221.3971701737719]
[null,0.24399999999999999,null,13.304,14.422000000000001,33.049999999999997,null,54.524590163934427,1.0840348767288035,null,{"$f":"[1]!AgePb6U8(H20)","v":25894.124020270498},{"$f":"[1]!AgePb76(I20)","v":5350.498205486022},null,11814.999489447053,10737.137880439996,5219.9152798699743]
[null,null,null,null,null,null,null,null,"Average",{"$f":"AVERAGE(J3:J20)","v":24309.318684942082},{"$f":"AVERAGE(K3:K20)","v":15120.050926798351},{"$f":"AVERAGE(L3:L20)","v":5324.1260724724216},null,11594.11158841293,10175.052819819908,5187.5235693062723]
[null,null,null,null,null,null,null,null,"Maximum",{"$f":"MAX(J3:J21)","v":64609.839028491064},{"$f":"MAX(K3:K21)","v":25894.124020270498},{"$f":"MAX(L3:L21)","v":6497.6472962994094},null,11415.63154846008,9656.6908250990946,5175.8844036934579]
[null,null,null,null,null,null,null,null,"Minimum",{"$f":"MIN(J3:J22)","v":10017.736392327355},{"$f":"MIN(K3:K22)","v":3244.7793489888782},{"$f":"MIN(L3:L22)","v":4868.4736894489652},null,11254.541976910437,9495.6803110921865,5117.5309305819537]
[null,null,null,null,null,null,null,null,"Difference",{"$f":"(J22-J23)","v":54592.102636163705},{"$f":"(K22-K23)","v":22649.344671281619},{"$f":"(L22-L23)","v":1629.1736068504442},null,11129.75437992859,7901.5651253269225,5100.8360639060511]
[null,null,null,null,null,null,null,null,null,null,null,null,null,10839.985681210183,7249.6981967537286,5035.7814953693287]
[null,null,null,null,null,null,null,null,null,null,null,null,null,10380.987839583255,6722.3904496073192,4868.4736894489652]
[null,null,null,null,null,null,null,null,"Dating","Age","Age","Age",null,10017.736392327355,5324.4316828091705,25]
[null,"TABLE 4","Age",null,"Age",null,null,null,"Summary","208Pb/232Th","206Pb/238U","207Pb/206Pb",null,8136.5713858862437,{"$f":"COUNT(O2:O27)","v":26}]
[null,"207Pb/235U","207Pb/235U","206Pb/238U","206Pb/238U",null,null,null,"Average",24309.318684942082,15120.050926798351,5324.1260724724216,null,5652.1646537003107]
[null,22.52,{"$f":"[1]!AgePb7U5(B30)","v":3206.4285150331789},0.62309999999999999,{"$f":"[1]!AgePb6U8(D30)","v":3122.2427134819523},null,null,null,"Maximum",64609.839028491064,25894.124020270498,6497.6472962994094,null,{"$f":"COUNT(N2:N29)","v":28}]
[null,18.8,{"$f":"[1]!AgePb7U5(B31)","v":3031.6108419561251},0.5655,{"$f":"[1]!AgePb6U8(D31)","v":2889.316756063326},null,null,null,"Minimum",10017.736392327355,3244.7793489888782,4868.4736894489652]
[null,16.940000000000001,{"$f":"[1]!AgePb7U5(B32)","v":2931.4442368184496},0.59989999999999999,{"$f":"[1]!AgePb6U8(D32)","v":3029.4351477358846},null,null,null,"Difference",54592.102636163705,22649.344671281619,1629.1736068504442]
[null,19.97,{"$f":"[1]!AgePb7U5(B33)","v":3089.9049042126499},0.61299999999999999,{"$f":"[1]!AgePb6U8(D33)","v":3082.0035400036863}]
[null,30.87,{"$f":"[1]!AgePb7U5(B34)","v":3514.9161074572221},0.85360000000000003,{"$f":"[1]!AgePb6U8(D34)","v":3978.2736124804483}]
[null,20.149999999999999,{"$f":"[1]!AgePb7U5(B35)","v":3098.5834446791764},0.63060000000000005,{"$f":"[1]!AgePb6U8(D35)","v":3151.9616131937046},null,null,null,null,null,null,null,null,79,46,32]
[null,20.8,{"$f":"[1]!AgePb7U5(B36)","v":3129.3191549931903},0.65139999999999998,{"$f":"[1]!AgePb6U8(D36)","v":3233.672283649903},null,null,null,"Dating","Age","Age"]
[null,22.31,{"$f":"[1]!AgePb7U5(B37)","v":3197.3218795224302},0.67879999999999996,{"$f":"[1]!AgePb6U8(D37)","v":3339.753440627228},null,null,null,"Summary","207Pb/235U","206Pb/238U"]
[null,22.55,{"$f":"[1]!AgePb7U5(B38)","v":3207.7228212036625},0.68569999999999998,{"$f":"[1]!AgePb6U8(D38)","v":3366.1944096962143},null,null,null,"Average",3220.3475778405518,3446.3976440755796]
[null,19.670000000000002,{"$f":"[1]!AgePb7U5(B39)","v":3075.2737713293159},0.59930000000000005,{"$f":"[1]!AgePb6U8(D39)","v":3027.0171378867881},null,null,null,"Maximum",3659.5808759291726,4798.4720189796344]
[null,20.98,{"$f":"[1]!AgePb7U5(B40)","v":3137.6686287002844},0.66459999999999997,{"$f":"[1]!AgePb6U8(D40)","v":3284.9950319410659},null,null,null,"Minimum",2931.4442368184496,2889.316756063326]
[null,35.75,{"$f":"[1]!AgePb7U5(B41)","v":3659.5808759291726},1.1051,{"$f":"[1]!AgePb6U8(D41)","v":4798.4720189796344},null,null,null,"Difference",728.13663911072308,1909.1552629163084]
[null,33.61,{"$f":"[1]!AgePb7U5(B42)","v":3598.6623928996833},0.99809999999999999,{"$f":"[1]!AgePb6U8(D42)","v":4462.186810790975}]
[null,22.52,{"$f":"[1]!AgePb7U5(B43)","v":3206.4285150331789},0.71679999999999999,{"$f":"[1]!AgePb6U8(D43)","v":3484.0425005272978}]
[null,"Average",{"$f":"AVERAGE(C30:C43)","v":3220.3475778405518},"Average",{"$f":"AVERAGE(E30:E43)","v":3446.3976440755796},null,null,null,"Age","Age","Age"]
[null,"Maximum",{"$f":"MAX(C30:C44)","v":3659.5808759291726},"Maximum",{"$f":"MAX(E30:E44)","v":4798.4720189796344},null,null,null,"208Pb/232Th","206Pb/238U","207Pb/206Pb"]
[null,"Minimum",{"$f":"MIN(C30:C45)","v":2931.4442368184496},"Minimum",{"$f":"MIN(E30:E45)","v":2889.316756063326},null,null,null,64609.839028491064,25894.124020270498,6497.6472962994094]
[null,"Difference",{"$f":"(C45-C46)","v":728.13663911072308},"Difference",{"$f":"(E45-E46)","v":1909.1552629163084},null,null,null,50396.578639719643,22873.882680846888,5381.4361079627424]
[null,null,null,null,null,null,null,null,40743.811096207632,20347.43574837079,5361.1996794707384]
[null,null,null,null,null,null,null,null,33172.238893101094,19155.585211695077,5350.498205486022]
[null,null,null,null,null,null,null,null,28598.281609219601,18932.951589569184,5347.1080424591564]
[null,null,null,null,null,null,null,null,26292.507865418745,18340.919535441681,5330.5933084193475]
[null,null,null,null,null,null,null,null,18726.276324149272,16394.443109089636,5328.5222000522208]
[null,null,null,null,null,null,null,null,15999.24369916586,16373.099175024172,5317.4063620560783]
[null,null,null,null,null,null,null,null,14345.703457680565,15948.834599030777,5313.9059745981385]
[null,null,null,null,null,null,null,null,13998.140511220116,15793.5051379871,5309.1051899707563]
[null,null,null,null,null,null,null,null,13743.007308493476,14580.177618665217,5295.1693438547481]
[null,null,null,null,null,null,null,null,11901.887790816221,14220.072832204442,5238.9826381663333]
[null,null,null,null,null,null,null,null,11254.541976910437,13743.071444580453,5226.3600837693648]
[null,null,null,null,null,null,null,null,10839.985681210183,12170.893164424544,5223.1589476401969]
[null,null,null,null,null,null,null,null,10017.736392327355,10175.052819819908,5221.3971701737719]
[null,null,null,null,null,null,null,null,null,7249.6981967537286,5187.5235693062723]
[null,null,null,null,null,null,null,null,null,6722.3904496073192,5035.7814953693287]
[null,null,null,null,null,null,null,null,null,3244.7793489888782,4868.4736894489652]
[]
[]
["Rubidium",null,null,null,null,null,null,null,null,null,"Rubidium_053.pdf"]
["Strontium","Initial","Today","Today","The Ratio","Half","Decay","2.303/Delta","Age","Age","Age","Model Age"]
["Dating","87Sr/86Sr","87Sr/86Sr","87Rb/86Sr","Plus One","Life","Constant","Constant","Years","Million Years","Billion Years","Million Years"]
["TABLE 2.",0.70189999999999997,0.73395999999999995,0.73850000000000005,{"$f":"1+((C69-B69)/D69)","v":1.0434123222748815},48800000000,{"$f":"(0.693/F69)","v":1.4200819672131146E-11},{"$f":"(2.303/G69)","v":162173737373.7374},{"$f":"(LOG(E69))*(H69)","v":2993072213.9900999},{"$f":"(I69/1000000)","v":2993.0722139901},{"$f":"(J69/1000)","v":2.9930722139901},65]
[null,0.70189999999999997,0.76197000000000004,1.367,1.0439429407461596,48800000000,1.4200819672131146E-11,162173737373.7374,3028880277.4464836,3028.8802774464834,3.0288802774464836]
[null,0.70189999999999997,0.71140000000000003,0.2205,1.0430839002267576,48800000000,1.4200819672131146E-11,162173737373.7374,2970899975.6562438,2970.8999756562439,2.970899975656244]
[null,0.70189999999999997,0.72426999999999997,0.51359999999999995,1.0435552959501557,48800000000,1.4200819672131146E-11,162173737373.7374,3002722389.3160276,3002.7223893160276,3.0027223893160278]
[null,0.70189999999999997,1.0229999999999999,7.5389999999999997,1.0425918556837777,48800000000,1.4200819672131146E-11,162173737373.7374,2937668282.6570377,2937.6682826570377,2.9376682826570377]
[null,0.70189999999999997,0.90639999999999998,4.8890000000000002,1.0418285948046635,48800000000,1.4200819672131146E-11,162173737373.7374,2886088141.1198158,2886.0881411198156,2.8860881411198158]
[null,0.70189999999999997,0.96389999999999998,5.9429999999999996,1.044085478714454,48800000000,1.4200819672131146E-11,162173737373.7374,3038496156.4894066,3038.4961564894065,3.0384961564894066]
[null,0.70189999999999997,0.81020000000000003,2.488,{"$f":"1+((C76-B76)/D76)","v":1.0435289389067524},48800000000,{"$f":"(0.693/F76)","v":1.4200819672131146E-11},{"$f":"(2.303/G76)","v":162173737373.7374},{"$f":"(LOG(E76))*(H76)","v":3000943489.2693267},{"$f":"(I76/1000000)","v":3000.9434892693266},{"$f":"(J76/1000)","v":3.0009434892693267}]
[null,null,null,null,null,null,null,null,"Average",{"$f":"AVERAGE(J69:J76)","v":2982.3463657430557}]
[null,null,null,null,null,null,null,null,"Maximum",{"$f":"MAX(J69:J77)","v":3038.4961564894065}]
[null,null,null,null,null,null,null,null,"Minimum",{"$f":"MIN(J69:J78)","v":2886.0881411198156}]
[null,null,null,null,null,null,null,null,"Difference",{"$f":"(J78-J79)","v":152.40801536959088}]
[]
[]
[]
[]
["Rubidium",null,null,null,null,null,null,null,null,null,"Rubidium_053.pdf"]
["Strontium","Initial","Today","Today","The Ratio","Half","Decay","2.303/Delta","Age","Age","Age","Model Age"]
["Dating","87Sr/86Sr","87Sr/86Sr","87Rb/86Sr","Plus One","Life","Constant","Constant","Years","Million Years","Billion Years","Million Years"]
["TABLE 5.",0.70099999999999996,0.70504,9.6500000000000002E-2,{"$f":"1+((C88-B88)/D88)","v":1.0418652849740937},48800000000,{"$f":"(0.693/F88)","v":1.4200819672131146E-11},{"$f":"(2.303/G88)","v":162173737373.7374},{"$f":"(LOG(E88))*(H88)","v":2888568477.7867618},{"$f":"(I88/1000000)","v":2888.5684777867618},{"$f":"(J88/1000)","v":2.888568477786762},65]
[null,0.70099999999999996,0.74404000000000003,0.83589999999999998,1.0514894126091638,48800000000,1.4200819672131146E-11,162173737373.7374,3536182800.1147857,3536.1828001147856,3.5361828001147857]
[null,0.70099999999999996,0.71145999999999998,0.22109999999999999,1.0473089099954773,48800000000,1.4200819672131146E-11,162173737373.7374,3255605069.9381704,3255.6050699381703,3.2556050699381704]
[null,0.70099999999999996,0.70482,5.7599999999999998E-2,1.0663194444444453,48800000000,1.4200819672131146E-11,162173737373.7374,4522592318.0278997,4522.5923180278996,4.5225923180278995]
[null,0.70099999999999996,0.70218000000000003,2.86E-2,1.0412587412587437,48800000000,1.4200819672131146E-11,162173737373.7374,2847553562.0373206,2847.5535620373207,2.8475535620373207]
[null,0.70099999999999996,0.75256999999999996,1.0032000000000001,1.0514055023923445,48800000000,1.4200819672131146E-11,162173737373.7374,3530562078.1238132,3530.5620781238131,3.530562078123813]
[null,0.70099999999999996,0.70874000000000004,0.13189999999999999,1.0586808188021235,48800000000,1.4200819672131146E-11,162173737373.7374,4016239838.3243027,4016.2398383243026,4.016239838324303]
[null,null,null,null,null,null,null,null,"Average",{"$f":"AVERAGE(J88:J94)","v":3513.900592050436}]
[null,null,null,null,null,null,null,null,"Maximum",{"$f":"MAX(J88:J95)","v":4522.5923180278996}]
[null,null,null,null,null,null,null,null,"Minimum",{"$f":"MIN(J88:J96)","v":2847.5535620373207}]
[null,null,null,null,null,null,null,null,"Difference",{"$f":"(J96-J97)","v":1675.0387559905789}]
[]
[]
["Rubidium",null,null,null,null,null,null,null,null,null,"Rubidium_053.pdf"]
["Strontium","Initial","Today","Today","The Ratio","Half","Decay","2.303/Delta","Age","Age","Age"]
["Dating","87Sr/86Sr","87Sr/86Sr","87Rb/86Sr","Plus One","Life","Constant","Constant","Years","Million Years","Billion Years"]
["TABLE 6.",0.70440000000000003,0.74119999999999997,0.90559999999999996,{"$f":"1+((C104-B104)/D104)","v":1.0406360424028267},48800000000,{"$f":"(0.693/F104)","v":1.4200819672131146E-11},{"$f":"(2.303/G104)","v":162173737373.7374},{"$f":"(LOG(E104))*(H104)","v":2805421362.1407857},{"$f":"(I104/1000000)","v":2805.4213621407857},{"$f":"(J104/1000)","v":2.8054213621407857}]
[null,0.70440000000000003,0.7298,0.64359999999999995,1.0394655065257923,48800000000,1.4200819672131146E-11,162173737373.7374,2726153878.7728457,2726.1538787728459,2.7261538787728461]
[null,0.70440000000000003,0.79469999999999996,2.2029999999999998,1.0409895596913299,48800000000,1.4200819672131146E-11,162173737373.7374,2829343658.8870273,2829.3436588870272,2.8293436588870273]
[null,0.70440000000000003,0.74550000000000005,0.99650000000000005,1.0412443552433517,48800000000,1.4200819672131146E-11,162173737373.7374,2846580479.4591637,2846.5804794591636,2.8465804794591638]
[null,0.70440000000000003,0.80489999999999995,2.48,1.0405241935483871,48800000000,1.4200819672131146E-11,162173737373.7374,2797850926.8128533,2797.8509268128532,2.7978509268128531]
[null,0.70440000000000003,0.77390000000000003,1.708,1.0406908665105385,48800000000,1.4200819672131146E-11,162173737373.7374,2809131808.0543094,2809.1318080543092,2.8091318080543091]
[null,0.70440000000000003,0.72150000000000003,0.41170000000000001,1.0415350983726015,48800000000,1.4200819672131146E-11,162173737373.7374,2866243987.9836016,2866.2439879836015,2.8662439879836015]
[null,0.70440000000000003,0.73729999999999996,0.82210000000000005,{"$f":"1+((C111-B111)/D111)","v":1.0400194623525119},48800000000,{"$f":"(0.693/F111)","v":1.4200819672131146E-11},{"$f":"(2.303/G111)","v":162173737373.7374},{"$f":"(LOG(E111))*(H111)","v":2763678316.368257},{"$f":"(I111/1000000)","v":2763.6783163682571},{"$f":"(J111/1000)","v":2.763678316368257}]
[null,0.70440000000000003,0.75519999999999998,1.2579,1.0403847682645679,48800000000,1.4200819672131146E-11,162173737373.7374,2788412854.7364774,2788.4128547364776,2.7884128547364777]
[null,0.70440000000000003,0.73770000000000002,0.79569999999999996,1.0418499434460224,48800000000,1.4200819672131146E-11,162173737373.7374,2887531367.1566496,2887.5313671566496,2.8875313671566496]
[null,null,null,null,null,null,null,null,"Average",{"$f":"AVERAGE(J104:J113)","v":2812.0348640371967}]
[null,null,null,null,null,null,null,null,"Maximum",{"$f":"MAX(J104:J114)","v":2887.5313671566496}]
[null,null,null,null,null,null,null,null,"Minimum",{"$f":"MIN(J104:J115)","v":2726.1538787728459}]
[null,null,null,null,null,null,null,null,"Difference",{"$f":"(J115-J116)","v":161.37748838380367}]
[]
[]
[]
[]
[]
["Rubidium",null,null,null,null,null,null,null,null,null,"Rubidium_053.pdf"]
["Strontium","Initial","Today","Today","The Ratio","Half","Decay","2.303/Delta","Age","Age","Age"]
["Dating","87Sr/86Sr","87Sr/86Sr","87Rb/86Sr","Plus One","Life","Constant","Constant","Years","Million Years","Billion Years"]
["TABLE 8",0.70099999999999996,0.74621000000000004,1.3129999999999999,{"$f":"1+((C126-B126)/D126)","v":1.0344325971058645},48800000000,{"$f":"(0.693/F126)","v":1.4200819672131146E-11},{"$f":"(2.303/G126)","v":162173737373.7374},{"$f":"(LOG(E126))*(H126)","v":2384310332.9404907},{"$f":"(I126/1000000)","v":2384.3103329404908},{"$f":"(J126/1000)","v":2.3843103329404909}]
[null,0.70099999999999996,0.75360000000000005,1.5609999999999999,1.0336963484945549,48800000000,1.4200819672131146E-11,162173737373.7374,2334163705.9688883,2334.1637059688883,2.3341637059688884]
[null,0.70099999999999996,0.74736999999999998,1.325,1.0349962264150943,48800000000,1.4200819672131146E-11,162173737373.7374,2422675572.8243589,2422.6755728243588,2.422675572824359]
[null,0.70099999999999996,0.77785000000000004,2.431,1.0316125051419169,48800000000,1.4200819672131146E-11,162173737373.7374,2192037212.326057,2192.0372123260568,2.1920372123260567]
[null,null,null,null,null,null,null,null,"Average",{"$f":"AVERAGE(J126:J129)","v":2333.2967060149485}]
[null,"Rb/Sr Dating","TABLE 2","TABLE 5","TABLE 6","TABLE 8",null,null,"Maximum",{"$f":"MAX(J126:J130)","v":2422.6755728243588}]
[null,"Summary","Age","Age","Age","Age",null,null,"Minimum",{"$f":"MIN(J126:J131)","v":2192.0372123260568}]
[null,"Average",2982.3463657430557,3513.900592050436,2812.0348640371967,2333.2967060149485,null,null,"Difference",{"$f":"(J131-J132)","v":230.63836049830206}]
[null,"Maximum",3038.4961564894065,4522.5923180278996,2887.5313671566496,2422.6755728243588]
[null,"Minimum",2886.0881411198156,2847.5535620373207,2726.1538787728459,2192.0372123260568]
[null,"Difference",152.40801536959088,1675.0387559905789,161.37748838380367,230.63836049830206]
[]
[]
[null,null,null,null,null,null,null,null,"Age","Age","Age"]
["TABLE 3.","238U/204Pb","232Th/204Pb","206Pb/204Pb","207Pb/204Pb","208Pb/204Pb","208Pb/232Th","206Pb/238U","208Pb/232Th","206Pb/238U","207Pb/206Pb","207Pb/206Pb"]
["KK4",1.125,53,13.417,14.407999999999999,40.231000000000002,{"$f":"(F141/C141)","v":0.75907547169811329},{"$f":"(D141/B141)","v":11.926222222222222},{"$f":"[1]!AgePb8Th2(G141)","v":11415.63154846008},{"$f":"[1]!AgePb6U8(H141)","v":16498.036928744445},{"$f":"[1]!AgePb76(L141)","v":5337.3050505269175},{"$f":"(E141/D141)","v":1.0738615189684728}]
["KK5",1.2909999999999999,34.200000000000003,14.446,14.391999999999999,37.207000000000001,{"$f":"(F142/C142)","v":1.087923976608187},{"$f":"(D142/B142)","v":11.189775367931837},{"$f":"[1]!AgePb8Th2(G142)","v":14879.64142874453},{"$f":"[1]!AgePb6U8(H142)","v":16119.887289310054},{"$f":"[1]!AgePb76(L142)","v":5232.1094264030398},{"$f":"(E142/D142)","v":0.99626194102173615}]
["KK6",1.577,24.3,13.662000000000001,14.404,35.847999999999999,1.4752263374485597,8.6632847178186445,{"$f":"[1]!AgePb8Th2(G143)","v":18318.986181173743},{"$f":"[1]!AgePb6U8(H143)","v":14622.618039173714},{"$f":"[1]!AgePb76(L143)","v":5311.5772551673408},1.0543112282242717]
["KK7",4.625,50.5,15.551,14.885999999999999,40.106000000000002,0.79417821782178222,3.3623783783783785,{"$f":"[1]!AgePb8Th2(G144)","v":11814.999489447053},{"$f":"[1]!AgePb6U8(H144)","v":9495.6803110921865},{"$f":"[1]!AgePb76(L144)","v":5175.8844036934579},0.95723747668960191]
["KK8",4.8550000000000004,40.799999999999997,16.86,15.303000000000001,38.774999999999999,0.95036764705882359,3.4727085478887743,{"$f":"[1]!AgePb8Th2(G145)","v":13502.130202284799},{"$f":"[1]!AgePb6U8(H145)","v":9656.6908250990946},{"$f":"[1]!AgePb76(L145)","v":5100.8360639060511},0.90765124555160148]
["KKI0",3.476,49.2,14.907999999999999,14.724,40.331000000000003,0.81973577235772355,4.2888377445339465,{"$f":"[1]!AgePb8Th2(G146)","v":12100.885508354433},{"$f":"[1]!AgePb6U8(H146)","v":10737.137880439996},{"$f":"[1]!AgePb76(L146)","v":5219.9152798699743},0.98765763348537705]
["VT158",3.77,37.799999999999997,16.478999999999999,15.135,37.768999999999998,0.99917989417989417,4.3710875331564987,{"$f":"[1]!AgePb8Th2(G147)","v":14001.759344218459},{"$f":"[1]!AgePb6U8(H147)","v":10836.618263704839},{"$f":"[1]!AgePb76(L147)","v":5117.5309305819537},0.91844165301292557]
["VT42",9.77,62.5,23.513000000000002,16.748999999999999,41.956000000000003,0.671296,2.4066530194472877,{"$f":"[1]!AgePb8Th2(G148)","v":10380.987839583255},{"$f":"[1]!AgePb6U8(H148)","v":7901.5651253269225},{"$f":"[1]!AgePb76(L148)","v":4755.7926297902723},0.71232934972143058]
["VT41",48.37,57.2,44.863999999999997,21.576000000000001,42.006,0.73437062937062936,0.92751705602646273,{"$f":"[1]!AgePb8Th2(G149)","v":11129.75437992859},{"$f":"[1]!AgePb6U8(H149)","v":4230.3476241596154},{"$f":"[1]!AgePb76(L149)","v":4183.7654239491821},0.48092011412268193]
["VT40",57.29,95.5,47.052,22.387,47.334000000000003,0.49564397905759167,0.82129516495025312,{"$f":"[1]!AgePb8Th2(G150)","v":8136.5713858862437},{"$f":"[1]!AgePb6U8(H150)","v":3864.9339377555457},{"$f":"[1]!AgePb76(L150)","v":4167.9064471524398},0.47579273994729238]
["VT39",35.29,34.1,36.914000000000001,19.988,37.35,1.095307917888563,1.0460187021819214,{"$f":"[1]!AgePb8Th2(G151)","v":14950.995858239621},{"$f":"[1]!AgePb6U8(H151)","v":4614.9608917907271},{"$f":"[1]!AgePb76(L151)","v":4358.290153396847},0.5414747792165574]
["VT38",21.01,200.4,26.978000000000002,17.614999999999998,64.66,0.32265469061876245,1.2840552118039028,{"$f":"[1]!AgePb8Th2(G152)","v":5652.1646537003107},{"$f":"[1]!AgePb6U8(H152)","v":5324.4316828091705},{"$f":"[1]!AgePb76(L152)","v":4630.469947809619},0.65293943212988348]
["VT34",37.39,49.6,37.07,19.856000000000002,38.423999999999999,0.77467741935483869,0.99144156191495048,{"$f":"[1]!AgePb8Th2(G153)","v":11594.11158841293},{"$f":"[1]!AgePb6U8(H153)","v":4440.6690053540597},{"$f":"[1]!AgePb76(L153)","v":4342.4035471398001},0.53563528459670895]
[null,null,null,null,null,null,null,"Average",{"$f":"AVERAGE(I141:I153)","v":12144.509185264158},{"$f":"AVERAGE(J141:J153)","v":9103.3521388277222},{"$f":"AVERAGE(K141:K153)","v":4841.0605045682232}]
[null,"Dating","Age","Age","Age",null,null,"Maximum",{"$f":"MAX(I141:I154)","v":18318.986181173743},{"$f":"MAX(J141:J154)","v":16498.036928744445},{"$f":"MAX(K141:K154)","v":5337.3050505269175}]
[null,"Summary","208Pb/232Th","206Pb/238U","207Pb/206Pb",null,null,"Minimum",{"$f":"MIN(I141:I155)","v":5652.1646537003107},{"$f":"MIN(J141:J155)","v":3864.9339377555457},{"$f":"MIN(K141:K155)","v":4167.9064471524398}]
[null,"Average",12144.509185264158,9103.3521388277222,4841.0605045682232,null,null,"Difference",{"$f":"(I155-I156)","v":12666.821527473432},{"$f":"(J155-J156)","v":12633.102990988898},{"$f":"(K155-K156)","v":1169.3986033744777}]
[null,"Maximum",18318.986181173743,16498.036928744445,5337.3050505269175]
[null,"Minimum",5652.1646537003107,3864.9339377555457,4167.9064471524398]
[null,"Difference",12666.821527473432,12633.102990988898,1169.3986033744777,null,null,null,"Age Sorted","Age Sorted","Age Sorted"]
[null,null,null,null,null,null,null,null,"208Pb/232Th","206Pb/238U","207Pb/206Pb"]
[null,null,null,null,null,null,null,null,18318.986181173743,16498.036928744445,5337.3050505269175]
[null,null,null,null,null,null,null,null,14950.995858239621,16119.887289310054,5311.5772551673408]
[null,null,null,null,null,null,null,null,14879.64142874453,14622.618039173714,5232.1094264030398]
[null,null,null,null,null,null,null,null,14001.759344218459,10836.618263704839,5219.9152798699743]
[null,null,null,null,null,null,null,null,13502.130202284799,10737.137880439996,5175.8844036934579]
[null,null,null,null,null,null,null,null,12100.885508354433,9656.6908250990946,5117.5309305819537]
[null,null,null,null,null,null,null,null,11814.999489447053,9495.6803110921865,5100.8360639060511]
[null,null,null,null,null,null,null,null,11594.11158841293,7901.5651253269225,4755.7926297902723]
[null,null,null,null,null,null,null,null,11415.63154846008,5324.4316828091705,4630.469947809619]
[null,null,null,null,null,null,null,null,11129.75437992859,4614.9608917907271,4358.290153396847]
[null,null,null,null,null,null,null,null,10380.987839583255,4440.6690053540597,4342.4035471398001]
[null,null,null,null,null,null,null,null,8136.5713858862437,4230.3476241596154,4183.7654239491821]
[null,null,null,null,null,null,null,null,5652.1646537003107,3864.9339377555457,4167.9064471524398]

{"sheet":"Rb-Sr _15","index":15,"n_rows":18,"n_cols":14,"rows_kept":18,"cut":false,"hidden":false,"merged":[]}
["Rubidium","TABLE 1.",null,null,null,null,null,null,null,null,"Rubidium_054.pdf"]
["Strontium","Initial","Today","Today","The Ratio","Half","Decay","2.303/Delta","Age","Age","Age","Model Age","Model Age","Model Age"]
["Dating","87Sr/86Sr","87Sr/86Sr","87Rb/86Sr","Plus One","Life","Constant","Constant","Years","Million Years","Billion Years","Million Years","% Difference"," Difference"]
["TABLE 1",0.70005700000000004,0.71101800000000004,0.26179999999999998,{"$f":"1+((C4-B4)/D4)","v":1.0418678380443087},48800000000,{"$f":"(0.693/F4)","v":1.4200819672131146E-11},{"$f":"(2.303/G4)","v":162173737373.7374},{"$f":"(LOG(E4))*(H4)","v":2888741067.7340121},{"$f":"(I4/1000000)","v":2888.7410677340122},{"$f":"(J4/1000)","v":2.8887410677340122},71]
[null,0.70005700000000004,0.70582,0.13619999999999999,1.0423127753303962,48800000000,1.4200819672131146E-11,162173737373.7374,2918812789.0887971,2918.8127890887972,2.9188127890887974]
[null,0.70005700000000004,0.70794800000000002,0.18709999999999999,1.0421753073222875,48800000000,1.4200819672131146E-11,162173737373.7374,2909523188.1880841,2909.5231881880841,2.9095231881880839]
[null,0.70005700000000004,0.71064099999999997,0.24959999999999999,1.0424038461538458,48800000000,1.4200819672131146E-11,162173737373.7374,2924966357.9791503,2924.9663579791504,2.9249663579791503]
[null,0.70005700000000004,0.70271099999999997,4.9189999999999998E-2,1.0539540557023772,48800000000,1.4200819672131146E-11,162173737373.7374,3701077039.3549237,3701.0770393549237,3.7010770393549239]
[null,0.70005700000000004,0.70271099999999997,4.3900000000000002E-2,1.0604555808656022,48800000000,1.4200819672131146E-11,162173737373.7374,4134211082.4307466,4134.2110824307465,4.1342110824307463]
[null,0.70005700000000004,0.70025999999999999,3.2100000000000002E-3,{"$f":"1+((C10-B10)/D10)","v":1.0632398753893935},48800000000,{"$f":"(0.693/F10)","v":1.4200819672131146E-11},{"$f":"(2.303/G10)","v":162173737373.7374},{"$f":"(LOG(E10))*(H10)","v":4318890296.0040846},{"$f":"(I10/1000000)","v":4318.890296004085},{"$f":"(J10/1000)","v":4.3188902960040849}]
[null,0.70005700000000004,0.70021100000000003,3.6600000000000001E-3,1.042076502732237,48800000000,1.4200819672131146E-11,162173737373.7374,2902845567.1940904,2902.8455671940906,2.9028455671940905]
[null,0.70005700000000004,0.70248999999999995,1.1939999999999999E-2,1.2037688442210979,48800000000,1.4200819672131146E-11,162173737373.7374,13061975349.537153,13061.975349537153,13.061975349537153]
[null,0.70005700000000004,0.70159700000000003,7.0400000000000003E-3,1.218749999999998,48800000000,1.4200819672131146E-11,162173737373.7374,13933096432.425095,13933.096432425094,13.933096432425094]
[null,0.70005700000000004,0.70124900000000001,7.77E-3,1.1534105534105497,48800000000,1.4200819672131146E-11,162173737373.7374,10052164089.339209,10052.164089339209,10.052164089339209]
[null,null,null,null,null,null,null,null,"Average",{"$f":"AVERAGE(J4:J14)","v":5795.1184781159409},{"$f":"AVERAGE(K5:K14)","v":6.085756219154133}]
[null,null,null,null,null,null,null,null,"Maximum",{"$f":"MAX(J4:J15)","v":13933.096432425094},{"$f":"MAX(K5:K15)","v":13.933096432425094}]
[null,null,null,null,null,null,null,null,"Minimum",{"$f":"MIN(J4:J16)","v":2888.7410677340122},{"$f":"MIN(K5:K16)","v":2.9028455671940905}]
[null,null,null,null,null,null,null,null,"Difference",{"$f":"(J16-ABS(J17))","v":11044.355364691082},{"$f":"(K16+ABS(K17))","v":16.835941999619184}]

{"sheet":"Rb-Sr _16","index":16,"n_rows":102,"n_cols":14,"rows_kept":102,"cut":false,"hidden":false,"merged":[]}
["Rubidium","TABLE 1.",null,null,null,null,null,null,null,null,"Rubidium_055.pdf"]
["Strontium","Initial","Today","Today","The Ratio","Half","Decay","2.303/Delta","Age","Age","Age","Model Age","Model Age","Model Age"]
["Dating","87Sr/86Sr","87Sr/86Sr","87Rb/86Sr","Plus One","Life","Constant","Constant","Years","Million Years","Billion Years","Million Years","% Difference"," Difference"]
["TABLE 1",0.70440999999999998,0.70469000000000004,0.2707,{"$f":"1+((C4-B4)/D4)","v":1.0010343553749541},48800000000,{"$f":"(0.693/F4)","v":1.4200819672131146E-11},{"$f":"(2.303/G4)","v":162173737373.7374},{"$f":"(LOG(E4))*(H4)","v":72813197.263078868},{"$f":"(I4/1000000)","v":72.813197263078862},{"$f":"(J4/1000)","v":7.281319726307886E-2},3120,{"$f":"(L4/J4) * 100","v":4284.9375075884045},{"$f":"(L4-J4)","v":3047.186802736921}]
[null,0.70443,0.70470999999999995,0.28410000000000002,1.000985568461809,48800000000,1.4200819672131146E-11,162173737373.7374,69380545.261107817,69.380545261107812,6.9380545261107818E-2,3120,4496.9378494477724,{"$f":"(L5-J5)","v":3050.6194547388923}]
[null,0.70440000000000003,0.70450999999999997,0.1057,1.0010406811731309,48800000000,1.4200819672131146E-11,162173737373.7374,73258268.79201819,73.258268792018185,7.3258268792018189E-2,2460,3357.9827104350406,{"$f":"(J6-L6)","v":-2386.741731207982}]
[null,0.70433000000000001,0.70450999999999997,0.17780000000000001,1.0010123734533181,48800000000,1.4200819672131146E-11,162173737373.7374,71266567.805173203,71.26656780517321,7.1266567805173209E-2,2460,3451.8289231005028,{"$f":"(J7-L7)","v":-2388.7334321948269}]
[null,0.70430999999999999,0.70445999999999998,0.1525,1.0009836065573769,48800000000,1.4200819672131146E-11,162173737373.7374,69242501.973317489,69.242501973317488,6.9242501973317494E-2,3060,4419.2510564958602,{"$f":"(L8-J8)","v":2990.7574980266827}]
[null,0.70430000000000004,0.70445999999999998,0.15509999999999999,1.0010315925209539,48800000000,1.4200819672131146E-11,162173737373.7374,72618807.053022549,72.61880705302255,7.2618807053022552E-2,3060,4213.7844508596017,{"$f":"(L9-J9)","v":2987.3811929469775}]
[null,0.70501999999999998,0.70625000000000004,0.22750000000000001,1.0054065934065937,48800000000,1.4200819672131146E-11,162173737373.7374,379766941.10187256,379.76694110187259,0.37976694110187259,2300,605.6346014022912,{"$f":"(J10-L10)","v":-1920.2330588981274}]
[null,0.70531999999999995,0.70652999999999999,0.2069,1.0058482358627359,48800000000,1.4200819672131146E-11,162173737373.7374,410698268.35871464,410.69826835871464,0.41069826835871465,2300,560.0218401678577,{"$f":"(L11-J11)","v":1889.3017316412854}]
[null,0.70362000000000002,0.70379999999999998,0.18160000000000001,1.0009911894273125,48800000000,1.4200819672131146E-11,162173737373.7374,69776045.473547533,69.776045473547526,6.9776045473547529E-2,2300,3296.2601769570656,2230.2239545264524]
[null,0.70360999999999996,0.70379999999999998,0.18679999999999999,1.0010171306209852,48800000000,1.4200819672131146E-11,162173737373.7374,71601280.987837002,71.601280987837001,7.1601280987836996E-2,2300,3212.233033080377,2228.3987190121629]
[null,0.70391999999999999,0.70399,7.4099999999999999E-2,1.0009446693657222,48800000000,1.4200819672131146E-11,162173737373.7374,66502751.923778489,66.50275192377849,6.6502751923778497E-2,2300,3458.503495669057,2233.4972480762217]
[null,0.70389999999999997,0.70398000000000005,8.3299999999999999E-2,1.0009603841536625,48800000000,1.4200819672131146E-11,162173737373.7374,67608509.392240182,67.60850939224018,6.7608509392240182E-2,2300,3401.9386326893114,2232.3914906077598]
[null,0.70389999999999997,0.70403000000000004,0.13469999999999999,1.0009651076466226,48800000000,1.4200819672131146E-11,162173737373.7374,67940870.497843102,67.940870497843108,6.7940870497843114E-2,2300,3385.2966309476669,2232.0591295021568]
[null,0.70387,0.70401000000000002,0.13769999999999999,1.0010167029774875,48800000000,1.4200819672131146E-11,162173737373.7374,71571192.158382222,71.571192158382217,7.1571192158382216E-2,2300,3213.5834693241591,2228.428807841618]
[null,0.70365,0.70384000000000002,0.18859999999999999,1.0010074231177095,48800000000,1.4200819672131146E-11,162173737373.7374,70918261.683336273,70.918261683336269,7.0918261683336273E-2,2300,3243.1702997317452,2229.0817383166636]
[null,0.70364000000000004,0.70382999999999996,0.185,1.0010270270270265,48800000000,1.4200819672131146E-11,162173737373.7374,72297584.660512999,72.297584660512996,7.229758466051299E-2,2300,3181.2957663801435,2227.7024153394868]
[null,0.70391000000000004,0.70391700000000001,2E-3,1.0034999999999896,48800000000,1.4200819672131146E-11,162173737373.7374,246078670.47126243,246.07867047126243,0.24607867047126242,2300,934.66044643174337,2053.9213295287377]
[null,0.70387999999999995,0.70388200000000001,2.0999999999999999E-3,1.0009523809524083,48800000000,1.4200819672131146E-11,162173737373.7374,67045373.223793887,67.045373223793888,6.7045373223793892E-2,2300,3430.5126355590901,2232.9546267762062]
[null,0.70389000000000002,0.70389599999999997,2.0999999999999999E-3,1.0028571428571194,48800000000,1.4200819672131146E-11,162173737373.7374,200944955.85242423,200.94495585242424,0.20094495585242425,2300,1144.5920551940305,2099.0550441475757]
[null,0.70389000000000002,0.70388899999999999,2.0999999999999999E-3,0.99952380952379583,48800000000,1.4200819672131146E-11,162173737373.7374,-33546635.191522077,-33.546635191522078,-3.3546635191522081E-2,2300,-6856.1272594673128,2333.546635191522]
[null,0.70381000000000005,0.70381700000000003,5.1999999999999998E-3,1.0013461538461499,48800000000,1.4200819672131146E-11,162173737373.7374,94747417.912332699,94.747417912332693,9.4747417912332696E-2,2300,2427.5067866526238,2205.2525820876672]
[null,0.70335000000000003,0.70335599999999998,5.4999999999999997E-3,1.0010909090909001,48800000000,1.4200819672131146E-11,162173737373.7374,76792112.914148957,76.792112914148959,7.6792112914148961E-2,2300,2995.0992526684659,2223.2078870858509]
[null,0.70333000000000001,0.70333500000000004,6.1999999999999998E-3,1.0008064516129085,48800000000,1.4200819672131146E-11,162173737373.7374,56776431.33057902,56.776431330579022,5.6776431330579025E-2,2300,4050.976692438313,2243.2235686694212]
[null,0.70337000000000005,0.70337300000000003,2.7000000000000001E-3,1.001111111111102,48800000000,1.4200819672131146E-11,162173737373.7374,78213399.765044376,78.213399765044372,7.8213399765044378E-2,2300,2940.6725790072746,2221.7866002349556]
[null,0.70335999999999999,0.70336900000000002,6.3E-3,1.0014285714285773,48800000000,1.4200819672131146E-11,162173737373.7374,100544141.63073629,100.54414163073629,0.10054414163073629,2300,2287.5524746604347,2199.4558583692638]
[null,0.70338999999999996,0.70340100000000005,6.7999999999999996E-3,1.0016176470588374,48800000000,1.4200819672131146E-11,162173737373.7374,113840705.37647414,113.84070537647415,0.11384070537647414,2300,2020.3669613552031,2186.159294623526]
[null,null,null,null,null,null,null,null,"Average",{"$f":"AVERAGE(J4:J29)","v":106.87300644888683}]
[null,null,null,null,null,null,null,null,"Maximum",{"$f":"MAX(J4:J30)","v":410.69826835871464}]
[null,null,null,null,null,null,null,null,"Minimum",{"$f":"MIN(J4:J31)","v":-33.546635191522078}]
[null,null,null,null,null,null,null,null,"Difference",{"$f":"(J31+ABS(J32))","v":444.2449035502367}]
[]
[]
[]
["Neodymium",null,null,null,null,null,null,null,null,null,"Rubidium_055.pdf"]
["Samarium","Initial","Today","Today","The Ratio","Half","Decay","2.303/Delta","Age","Age"]
["Dating","143Nd/144Nd","143Nd/144Nd","147Sm/144Nd","Plus One","Life","Constant","Constant","Years","Million Years"]
[null,0.51273999999999997,0.51277600000000001,7.4759999999999993E-2,{"$f":"1+((C40-B40)/D40)","v":1.0004815409309795},106000000000,{"$f":"(0.693/F40)","v":6.5377358490566029E-12},{"$f":"(2.303/G40)","v":352262626262.62628},{"$f":"(LOG(E40))*(H40)","v":73651151.916001305},{"$f":"(I40/1000000)","v":73.651151916001311}]
[null,0.51272899999999999,0.512764,7.3959999999999998E-2,1.0004732287723095,106000000000,6.5377358490566029E-12,352262626262.62628,72380117.153347328,72.380117153347328]
[null,0.51267700000000005,0.51271199999999995,7.3849999999999999E-2,1.0004739336492876,106000000000,6.5377358490566029E-12,352262626262.62628,72487902.216686621,72.487902216686621,{"$f":"(J42/1000)","v":7.248790221668662E-2}]
[null,0.512714,0.51274900000000001,7.6840000000000006E-2,1.0004554919312858,106000000000,6.5377358490566029E-12,352262626262.62628,69667893.300788388,69.667893300788393,6.9667893300788389E-2]
[null,0.51266400000000001,0.51269900000000002,7.578E-2,1.0004618632884668,106000000000,6.5377358490566029E-12,352262626262.62628,70642173.052845627,70.642173052845621,7.0642173052845619E-2]
[null,0.51270400000000005,0.51273999999999997,7.6350000000000001E-2,1.0004715127701365,106000000000,6.5377358490566029E-12,352262626262.62628,72117717.284394518,72.117717284394516,7.211771728439452E-2]
[null,0.51267700000000005,0.51271299999999997,7.6569999999999999E-2,1.0004701580253352,106000000000,6.5377358490566029E-12,352262626262.62628,71910558.220472276,71.910558220472282,7.1910558220472279E-2]
[null,0.51271800000000001,0.51275300000000001,7.6119999999999993E-2,1.0004598003152918,106000000000,6.5377358490566029E-12,352262626262.62628,70326713.001154825,70.326713001154829,7.0326713001154825E-2]
[null,0.51263000000000003,0.51266599999999996,7.646E-2,1.0004708344232269,106000000000,6.5377358490566029E-12,352262626262.62628,72013988.771716326,72.013988771716328,7.2013988771716331E-2]
[null,0.51266900000000004,0.51270300000000002,7.1980000000000002E-2,1.0004723534315085,106000000000,6.5377358490566029E-12,352262626262.62628,72246265.798978269,72.246265798978271,7.2246265798978276E-2]
[null,0.51267799999999997,0.51271299999999997,7.6310000000000003E-2,1.0004586554842092,106000000000,6.5377358490566029E-12,352262626262.62628,70151650.593238115,70.151650593238116,7.0151650593238121E-2]
[null,0.51263000000000003,0.51266599999999996,7.4020000000000002E-2,1.0004863550391776,106000000000,6.5377358490566029E-12,352262626262.62628,74387285.449309766,74.387285449309772,7.4387285449309767E-2]
[null,0.51264100000000001,0.51267700000000005,7.5929999999999997E-2,1.0004741209008301,106000000000,6.5377358490566029E-12,352262626262.62628,72516535.45482035,72.516535454820357,7.2516535454820355E-2]
[null,0.51267099999999999,0.51270499999999997,7.3480000000000004E-2,1.0004627109417525,106000000000,6.5377358490566029E-12,352262626262.62628,70771791.975487873,70.771791975487872,7.0771791975487872E-2]
[null,0.51265000000000005,0.51268400000000003,7.3669999999999999E-2,1.0004615175783897,106000000000,6.5377358490566029E-12,352262626262.62628,70589308.756552115,70.589308756552114,7.0589308756552116E-2]
[null,0.51269299999999995,0.51272799999999996,7.4090000000000003E-2,1.0004723984343367,106000000000,6.5377358490566029E-12,352262626262.62628,72253147.338132873,72.253147338132877,7.2253147338132873E-2]
[null,0.512768,0.51283800000000002,0.14967,1.00046769559698,106000000000,6.5377358490566029E-12,352262626262.62628,71534018.428091168,71.534018428091173,7.1534018428091178E-2]
[null,0.51278299999999999,0.512853,0.14965000000000001,1.0004677581022388,106000000000,6.5377358490566029E-12,352262626262.62628,71543576.369271472,71.543576369271477,7.1543576369271472E-2]
[null,0.51275700000000002,0.51282700000000003,0.14953,1.0004681334849195,106000000000,6.5377358490566029E-12,352262626262.62628,71600977.696282506,71.600977696282513,7.1600977696282514E-2]
[null,0.51281100000000002,0.51307499999999995,0.56442000000000003,1.0004677367917507,106000000000,6.5377358490566029E-12,352262626262.62628,71540317.693263888,71.540317693263887,7.1540317693263883E-2]
[null,0.51278699999999999,0.51285700000000001,0.14951,1.0004681961072839,106000000000,6.5377358490566029E-12,352262626262.62628,71610553.540388286,71.610553540388281,7.1610553540388283E-2]
[null,0.51274399999999998,0.51300100000000004,0.55006999999999995,1.0004672132637666,106000000000,6.5377358490566029E-12,352262626262.62628,71460262.814076662,71.460262814076657,7.1460262814076664E-2]
[null,0.51277499999999998,0.51302499999999995,0.53315999999999997,1.0004689023932778,106000000000,6.5377358490566029E-12,352262626262.62628,71718554.604179129,71.718554604179133,7.1718554604179127E-2]
[null,0.51268199999999997,0.51292899999999997,0.52830999999999995,1.0004675285343831,106000000000,6.5377358490566029E-12,352262626262.62628,71508472.183031037,71.508472183031031,7.1508472183031038E-2]
[null,0.51268899999999995,0.51275899999999996,0.14992,1.0004669156883672,106000000000,6.5377358490566029E-12,352262626262.62628,71414759.281980872,71.414759281980878,7.1414759281980877E-2]
[null,0.51272899999999999,0.512799,0.14907999999999999,1.0004695465521869,106000000000,6.5377358490566029E-12,352262626262.62628,71817055.49628225,71.817055496282251,7.1817055496282256E-2]
[null,0.51274399999999998,0.51281299999999996,0.1482,1.0004655870445343,106000000000,6.5377358490566029E-12,352262626262.62628,71211590.483256131,71.211590483256131,7.1211590483256135E-2]
[null,0.512737,0.51280599999999998,0.14849999999999999,1.0004646464646463,106000000000,6.5377358490566029E-12,352262626262.62628,71067762.093792781,71.06776209379278,7.1067762093792786E-2]
[null,0.51273899999999994,0.51280899999999996,0.14910999999999999,1.0004694520823554,106000000000,6.5377358490566029E-12,352262626262.62628,71802609.743855238,71.802609743855243,7.1802609743855245E-2]
[null,0.51274200000000003,0.51281200000000005,0.14888999999999999,1.000470145745181,106000000000,6.5377358490566029E-12,352262626262.62628,71908680.415154159,71.908680415154166,7.1908680415154164E-2]
[null,0.51274399999999998,0.51298500000000002,0.51483000000000001,1.0004681156886741,106000000000,6.5377358490566029E-12,352262626262.62628,71598256.398871213,71.598256398871214,7.1598256398871213E-2]
[null,0.51276299999999997,0.51302099999999995,0.55171000000000003,1.0004676369831977,106000000000,6.5377358490566029E-12,352262626262.62628,71525055.54835178,71.525055548351773,7.1525055548351771E-2]
[null,null,null,null,null,null,null,null,"Average",{"$f":"AVERAGE(J40:J71)","v":71.655521971064246}]
[null,null,null,null,null,null,null,null,"Maximum",{"$f":"MAX(J40:J72)","v":74.387285449309772}]
[null,null,null,null,null,null,null,null,"Minimum",{"$f":"MIN(J40:J73)","v":69.667893300788393}]
[null,null,null,null,null,null,null,null,"Difference",{"$f":"(J73-ABS(J74))","v":4.7193921485213792}]
[null,"Rubidium_055.pdf",null,null,"Age"]
["Sample","206Pb/204Pb","207Pb/204Pb","207Pb/206Pb","207Pb/206Pb"]
[null,19.137,15.631,{"$f":"(C78/B78)","v":0.81679469091289125},{"$f":"[1]!AgePb76(D78)","v":4951.3071663583696}]
[null,19.225999999999999,15.645,0.81374180796837614,{"$f":"[1]!AgePb76(D79)","v":4945.9802953699127},null,null,"Dating","Age","Age","Age"]
[null,19.323,15.651,0.80996739636702375,{"$f":"[1]!AgePb76(D80)","v":4939.3649941761778},null,null,"Summary","87Rb/86Sr","147Sm/144Nd","207Pb/206Pb"]
[null,19.699000000000002,15.670999999999999,0.79552261536118574,{"$f":"[1]!AgePb76(D81)","v":4913.7415935405243},null,null,"Average",106.87300644888683,71.655521971064246,4963.0682367068657]
[null,19.725999999999999,15.675000000000001,0.79463652032850052,{"$f":"[1]!AgePb76(D82)","v":4912.1536779988783},null,null,"Maximum",410.69826835871464,74.387285449309772,5044.1787654080063]
[null,19.766999999999999,15.689,0.79369656498204078,{"$f":"[1]!AgePb76(D83)","v":4910.4671815426109},null,null,"Minimum",-33.546635191522078,69.667893300788393,4906.9578563939167]
[null,19.766999999999999,15.686,0.79354479688369506,{"$f":"[1]!AgePb76(D84)","v":4910.1946752867452},null,null,"Difference",444.2449035502367,4.7193921485213792,137.22090901408956]
[null,19.702999999999999,15.672000000000001,0.79541186621326709,{"$f":"[1]!AgePb76(D85)","v":4913.5432298760516}]
[null,19.817,15.69,0.79174446182570513,{"$f":"[1]!AgePb76(D86)","v":4906.9578563939167}]
[null,19.777999999999999,15.664999999999999,0.79204166245323082,{"$f":"[1]!AgePb76(D87)","v":4907.4927323908323}]
[null,19.815000000000001,15.691000000000001,0.79187484229119354,{"$f":"[1]!AgePb76(D88)","v":4907.1925301932088}]
[null,17.963999999999999,15.6,0.86840347361389447,{"$f":"[1]!AgePb76(D89)","v":5038.2862656007856}]
[null,18.411000000000001,15.637,0.84932920536635703,{"$f":"[1]!AgePb76(D90)","v":5006.7951406680959}]
[null,18.533999999999999,15.641999999999999,0.84396244739397863,{"$f":"[1]!AgePb76(D91)","v":4997.7992636669351}]
[null,18.074000000000002,15.593999999999999,0.86278632289476587,{"$f":"[1]!AgePb76(D92)","v":5029.0893888153951}]
[null,17.885999999999999,15.597,0.87202281113720226,{"$f":"[1]!AgePb76(D93)","v":5044.1787654080063}]
[null,18.146999999999998,15.625,0.86102386069322756,{"$f":"[1]!AgePb76(D94)","v":5026.1906306240899}]
[null,19.024000000000001,15.669,0.8236438183347351,{"$f":"[1]!AgePb76(D95)","v":4963.1813430710381}]
[null,18.68,15.648,0.83768736616702355,{"$f":"[1]!AgePb76(D96)","v":4987.2034487525243}]
[null,18.170000000000002,15.63,0.8602091359383599,{"$f":"[1]!AgePb76(D97)","v":5024.8485061880128}]
[null,18.667000000000002,15.651,0.83843145658113238,{"$f":"[1]!AgePb76(D98)","v":4988.4642849220872}]
[null,null,{"$f":"COUNT(C78:C98)","v":21},"Average",{"$f":"AVERAGE(E73:E98)","v":4963.0682367068657}]
[null,null,null,"Maximum",{"$f":"MAX(E73:E99)","v":5044.1787654080063}]
[null,null,null,"Minimum",{"$f":"MIN(E73:E100)","v":4906.9578563939167}]
[null,null,null,"Difference",{"$f":"(E100-ABS(E101))","v":137.22090901408956}]

{"sheet":"Rb-Sr _17","index":17,"n_rows":55,"n_cols":12,"rows_kept":55,"cut":false,"hidden":false,"merged":[]}
["Rubidium","TABLE 1.",null,null,null,null,null,null,null,null,"Rubidium_057.pdf"]
["Strontium","Initial","Today","Today","The Ratio","Half","Decay","2.303/Delta","Age","Age","Age"]
["Dating","87Sr/86Sr","87Sr/86Sr","87Rb/86Sr","Plus One","Life","Constant","Constant","Years","Million Years","Billion Years"]
["TABLE 1",0.70718999999999999,0.70757999999999999,0.192,{"$f":"1+((C4-B4)/D4)","v":1.0020312499999999},48800000000,{"$f":"(0.693/F4)","v":1.4200819672131146E-11},{"$f":"(2.303/G4)","v":162173737373.7374},{"$f":"(LOG(E4))*(H4)","v":142918190.03183666},{"$f":"(I4/1000000)","v":142.91819003183667},{"$f":"(J4/1000)","v":0.14291819003183667}]
[null,0.70643,0.70653200000000005,5.1799999999999999E-2,1.0019691119691128,48800000000,1.4200819672131146E-11,162173737373.7374,138550472.70661345,138.55047270661345,0.13855047270661344]
[null,0.70704,0.70719799999999999,7.6799999999999993E-2,{"$f":"1+((C6-B6)/D6)","v":1.0020572916666666},48800000000,{"$f":"(0.693/F6)","v":1.4200819672131146E-11},{"$f":"(2.303/G6)","v":162173737373.7374},{"$f":"(LOG(E6))*(H6)","v":144748592.96477169},{"$f":"(I6/1000000)","v":144.74859296477169},{"$f":"(J6/1000)","v":0.14474859296477169}]
[null,0.70635000000000003,0.70658500000000002,0.1149,1.0020452567449956,48800000000,1.4200819672131146E-11,162173737373.7374,143902694.64937183,143.90269464937182,0.14390269464937183]
[null,0.70648999999999995,0.70659700000000003,5.3400000000000003E-2,1.0020037453183535,48800000000,1.4200819672131146E-11,162173737373.7374,140984903.81893215,140.98490381893214,0.14098490381893214]
[null,0.70726,0.70752599999999999,0.12909999999999999,1.0020604182804027,48800000000,1.4200819672131146E-11,162173737373.7374,144968351.54369509,144.96835154369509,0.14496835154369508]
[null,0.70645999999999998,0.70660699999999999,7.3099999999999998E-2,1.0020109439124487,48800000000,1.4200819672131146E-11,162173737373.7374,141490893.45047879,141.49089345047878,0.14149089345047877]
[null,0.70970999999999995,0.71029500000000001,0.28749999999999998,1.0020347826086959,48800000000,1.4200819672131146E-11,162173737373.7374,143166490.9576467,143.16649095764669,0.14316649095764669]
[null,0.70869000000000004,0.70906899999999995,0.18590000000000001,1.0020387305002685,48800000000,1.4200819672131146E-11,162173737373.7374,143443980.35934094,143.44398035934094,0.14344398035934094]
[null,0.70860999999999996,0.70897699999999997,0.1782,1.0020594837261505,48800000000,1.4200819672131146E-11,162173737373.7374,144902665.11515349,144.9026651151535,0.14490266511515348]
[null,0.70886000000000005,0.70925800000000006,0.19650000000000001,1.0020254452926209,48800000000,1.4200819672131146E-11,162173737373.7374,142510185.33738208,142.51018533738207,0.14251018533738208]
[null,0.70884999999999998,0.70923899999999995,0.1905,1.002041994750656,48800000000,1.4200819672131146E-11,162173737373.7374,143673417.1639407,143.67341716394068,0.14367341716394069]
[null,null,null,null,null,null,null,null,"Average",{"$f":"AVERAGE(J4:J15)","v":142.9384031749303}]
[null,null,null,null,null,null,null,null,"Maximum",{"$f":"MAX(J4:J16)","v":144.96835154369509}]
[null,null,null,null,null,null,null,null,"Minimum",{"$f":"MIN(J4:J17)","v":138.55047270661345}]
[null,null,null,null,null,null,null,null,"Difference",{"$f":"(J17-ABS(J18))","v":6.4178788370816449}]
[null,null,null,null,"Age"]
[null,"206Pb/204Pb","207Pb/204Pb","207Pb/206Pb","207Pb/206Pb"]
[null,18.449000000000002,15.583,{"$f":"(C22/B22)","v":0.84465282671147479},{"$f":"[1]!AgePb76($D$22)","v":4998.9598928522964},null,null,null,"Dating","Age","Age","Age"]
[null,17.687000000000001,15.462,{"$f":"(C23/B23)","v":0.87420139085203818},{"$f":"[1]!AgePb76($D$23)","v":5047.7131245304163},null,null,null,"Summary","87Rb/86Sr","207Pb/206Pb","147Sm/144Nd"]
[null,17.954999999999998,15.529,0.86488443330548603,{"$f":"[1]!AgePb76($D$24)","v":5032.5320099109922},null,null,null,"Average",142.9384031749303,5051.9536172513926,130.50739454622115]
[null,17.016999999999999,15.497999999999999,0.91073632250102843,{"$f":"[1]!AgePb76($D$25)","v":5105.6306626826145},null,null,null,"Maximum",144.96835154369509,5106.8828603878192,144.38187871302165]
[null,17.719000000000001,15.503,0.87493650883232688,{"$f":"[1]!AgePb76($D$26)","v":5048.9036144228266},null,null,null,"Minimum",138.55047270661345,4998.9598928522964,-10.828492452305225]
[null,17.988,15.571,0.86563264398487882,{"$f":"[1]!AgePb76($D$27)","v":5033.7575448654288},null,null,null,"Difference",6.4178788370816449,107.92296753552273,155.21037116532688]
[null,17.047999999999998,15.54,0.91154387611450027,{"$f":"[1]!AgePb76($D$28)","v":5106.8828603878192}]
[null,17.527999999999999,15.558,0.88760839799178459,{"$f":"[1]!AgePb76($D$29)","v":5069.259961070883}]
[null,17.992000000000001,15.467000000000001,0.85965984882169855,{"$f":"[1]!AgePb76($D$30)","v":5023.9428845392504}]
[null,null,null,"Average",{"$f":"AVERAGE(E22:E30)","v":5051.9536172513926}]
[null,null,null,"Maximum",{"$f":"MAX(E22:E31)","v":5106.8828603878192}]
[null,null,null,"Minimum",{"$f":"MIN(E22:E32)","v":4998.9598928522964}]
[null,null,null,"Difference",{"$f":"(E32-ABS(E33))","v":107.92296753552273}]
[]
[]
["Neodymium",null,null,null,null,null,null,null,null,null,"Rubidium_057.pdf"]
["Samarium","Initial","Today","Today","The Ratio","Half","Decay","2.303/Delta","Age","Age","Age"]
["Dating","143Nd/144Nd","143Nd/144Nd","147Sm/144Nd","Plus One","Life","Constant","Constant","Years","Million Years","Billion Years"]
[null,0.51219700000000001,0.512347,0.16039999999999999,{"$f":"1+((C40-B40)/D40)","v":1.0009351620947631},106000000000,{"$f":"(0.693/F40)","v":6.5377358490566029E-12},{"$f":"(2.303/G40)","v":352262626262.62628},{"$f":"(LOG(E40))*(H40)","v":142999588.00938958},{"$f":"(I40/1000000)","v":142.99958800938958},{"$f":"(J40/1000)","v":0.14299958800938958}]
[null,0.51217900000000005,0.51231599999999999,0.1467,{"$f":"1+((C41-B41)/D41)","v":1.0009338786639397},106000000000,6.5377358490566029E-12,{"$f":"(2.303/G41)","v":352262626262.62628},{"$f":"(LOG(E41))*(H41)","v":142803424.74608612},{"$f":"(I41/1000000)","v":142.80342474608611},{"$f":"(J41/1000)","v":0.14280342474608612}]
[null,0.51212100000000005,0.512243,0.1303,1.0009363008442054,106000000000,6.5377358490566029E-12,352262626262.62628,143173637.54313362,143.17363754313362,0.14317363754313361]
[null,0.51213699999999995,0.51226899999999997,0.13980000000000001,{"$f":"1+((C43-B43)/D43)","v":1.0009442060085838},106000000000,{"$f":"(0.693/F43)","v":6.5377358490566029E-12},{"$f":"(2.303/G43)","v":352262626262.62628},{"$f":"(LOG(E43))*(H43)","v":144381878.71302164},{"$f":"(I43/1000000)","v":144.38187871302165},{"$f":"(J43/1000)","v":0.14438187871302166}]
[null,0.51217500000000005,0.51231899999999997,0.15379999999999999,1.0009362808842648,106000000000,6.5377358490566029E-12,352262626262.62628,143170586.81372595,143.17058681372595,0.14317058681372594]
[null,0.51217299999999999,0.51233799999999996,0.17680000000000001,1.0009332579185519,106000000000,6.5377358490566029E-12,352262626262.62628,142708548.14304003,142.70854814304002,0.14270854814304001]
[null,0.51222699999999999,0.51236899999999996,0.15179999999999999,1.0009354413702238,106000000000,6.5377358490566029E-12,352262626262.62628,143042273.24179846,143.04227324179845,0.14304227324179847]
[null,0.51209099999999996,0.512185,0.10009999999999999,1.0009390609390614,106000000000,6.5377358490566029E-12,352262626262.62628,143595497.05789709,143.59549705789709,0.14359549705789709]
[null,0.51210500000000003,0.51220100000000002,0.1018,1.0009430255402749,106000000000,6.5377358490566029E-12,352262626262.62628,144201454.17646688,144.20145417646688,0.14420145417646688]
[null,0.51211200000000001,0.51220500000000002,9.8900000000000002E-2,1.0009403437815976,106000000000,6.5377358490566029E-12,352262626262.62628,143791569.39059666,143.79156939059666,0.14379156939059667]
[null,0.51210999999999995,0.51210299999999997,9.8900000000000002E-2,0.99992922143579399,106000000000,6.5377358490566029E-12,352262626262.62628,-10828492.452305226,-10.828492452305225,-1.0828492452305225E-2]
[null,0.51211499999999999,0.51223099999999999,0.124,1.0009354838709679,106000000000,6.5377358490566029E-12,352262626262.62628,143048769.17180312,143.04876917180312,0.14304876917180312]
[null,null,null,null,null,null,null,null,"Average",{"$f":"AVERAGE(J40:J51)","v":130.50739454622115}]
[null,null,null,null,null,null,null,null,"Maximum",{"$f":"MAX(J40:J52)","v":144.38187871302165}]
[null,null,null,null,null,null,null,null,"Minimum",{"$f":"MIN(J40:J53)","v":-10.828492452305225}]
[null,null,null,null,null,null,null,null,"Difference",{"$f":"(J53+ABS(J54))","v":155.21037116532688}]

{"sheet":"Rb-Sr _18","index":18,"n_rows":47,"n_cols":5,"rows_kept":47,"cut":false,"hidden":false,"merged":[]}
["Table 1","Age",null,"Table 2","Age"]
["207Pb/P06Pb","207Pb/P06Pb",null,"207Pb/P06Pb","207Pb/P06Pb"]
[0.86253999999999997,{"$f":"[1]!AgePb76($A$3)","v":5028.684634517489},null,0.61799000000000004,{"$f":"[1]!AgePb76($D$3)","v":4550.8752599791842}]
[0.90444999999999998,{"$f":"[1]!AgePb76($A$4)","v":5095.8426282038818},null,0.66878000000000004,{"$f":"[1]!AgePb76($D$4)","v":4665.0537976643709}]
[0.90347,{"$f":"[1]!AgePb76($A$5)","v":5094.3102372251287},null,0.57965999999999995,{"$f":"[1]!AgePb76($D$5)","v":4457.8236333117475}]
[0.84336999999999995,{"$f":"[1]!AgePb76($A$6)","v":4996.8024680539138},null,0.89527000000000001,{"$f":"[1]!AgePb76($D$6)","v":5081.4187069368072}]
[0.92996999999999996,{"$f":"[1]!AgePb76($A$7)","v":5135.1394415456716},null,0.83101000000000003,{"$f":"[1]!AgePb76($D$7)","v":4975.8353310106895}]
[0.80425999999999997,{"$f":"[1]!AgePb76($A$8)","v":4929.2992684104875},null,0.59072999999999998,{"$f":"[1]!AgePb76($D$8)","v":4485.3617320346839}]
[0.69289000000000001,{"$f":"[1]!AgePb76($A$9)","v":4716.0435491787166},null,0.69288000000000005,{"$f":"[1]!AgePb76($D$9)","v":4716.0227959869198}]
[0.82776000000000005,{"$f":"[1]!AgePb76($A$10)","v":4970.2670792885592},null,0.63715999999999995,{"$f":"[1]!AgePb76($D$10)","v":4595.1138986829083}]
[0.82416999999999996,{"$f":"[1]!AgePb76($A$11)","v":4964.0892261456202},null,0.60721000000000003,{"$f":"[1]!AgePb76($D$11)","v":4525.3462497037826}]
[0.70091999999999999,{"$f":"[1]!AgePb76($A$12)","v":4732.6058113929521},null,0.62804000000000004,{"$f":"[1]!AgePb76($D$12)","v":4574.2484191441927}]
[0.82238999999999995,{"$f":"[1]!AgePb76($A$13)","v":4961.0154953675765},null,0.60904999999999998,{"$f":"[1]!AgePb76($D$13)","v":4529.7379992625847}]
[0.82864000000000004,{"$f":"[1]!AgePb76($A$14)","v":4971.7770815811191},null,0.64797000000000005,{"$f":"[1]!AgePb76($D$14)","v":4619.4349401590553}]
[0.82167999999999997,{"$f":"[1]!AgePb76($A$15)","v":4959.7874829014809},null,0.62095,{"$f":"[1]!AgePb76($D$15)","v":4557.8014415686603}]
[0.81616999999999995,{"$f":"[1]!AgePb76($A$16)","v":4950.2188894569708},null,0.71279000000000003,{"$f":"[1]!AgePb76($D$16)","v":4756.7204422224222}]
[0.78098000000000001,{"$f":"[1]!AgePb76($A$17)","v":4887.4394792137782},null,0.67864000000000002,{"$f":"[1]!AgePb76($D$17)","v":4686.1405437437852}]
[0.76031000000000004,{"$f":"[1]!AgePb76($A$18)","v":4849.1436060147907},null,0.76339999999999997,{"$f":"[1]!AgePb76($D$18)","v":4854.9385652861847}]
[0.73511000000000004,{"$f":"[1]!AgePb76($A$19)","v":4800.9249364963371},null,0.60309000000000001,{"$f":"[1]!AgePb76($D$19)","v":4515.4604701486696}]
[0.79974999999999996,{"$f":"[1]!AgePb76($A$20)","v":4921.2914037502042},null,0.59863,{"$f":"[1]!AgePb76($D$20)","v":4504.676720876133}]
[0.80386999999999997,{"$f":"[1]!AgePb76($A$21)","v":4928.6086817656196},null,0.83221999999999996,{"$f":"[1]!AgePb76($D$21)","v":4977.9025235462786}]
[0.88415999999999995,{"$f":"[1]!AgePb76($A$22)","v":5063.7510777966991},null,0.87122999999999995,{"$f":"[1]!AgePb76($D$22)","v":5042.8902439598141}]
[0.83623000000000003,{"$f":"[1]!AgePb76($A$23)","v":4984.7305392994613},null,0.85760999999999998,{"$f":"[1]!AgePb76($D$23)","v":5020.5578213626977}]
[0.80320000000000003,{"$f":"[1]!AgePb76($A$24)","v":4927.4214566979754},null,0.70645000000000002,{"$f":"[1]!AgePb76($D$24)","v":4743.894202305416}]
[0.79195000000000004,{"$f":"[1]!AgePb76($A$25)","v":4907.327789018892},null,0.61868999999999996,{"$f":"[1]!AgePb76($D$25)","v":4552.5164191856074}]
[0.85582000000000003,{"$f":"[1]!AgePb76($A$26)","v":5017.5948315979267},null,0.64522999999999997,{"$f":"[1]!AgePb76($D$26)","v":4613.311695773883}]
[0.84245000000000003,{"$f":"[1]!AgePb76($A$27)","v":4995.2530881858393},null,0.67112000000000005,{"$f":"[1]!AgePb76($D$27)","v":4670.0881327858724}]
[0.62050000000000005,{"$f":"[1]!AgePb76($A$28)","v":4556.7507625183289},null,0.63307000000000002,{"$f":"[1]!AgePb76($D$28)","v":4585.7963542107245}]
[0.87988,{"$f":"[1]!AgePb76($A$29)","v":5056.8819083166873},null,0.83496999999999999,{"$f":"[1]!AgePb76($D$29)","v":4982.5888335402196}]
["Average",{"$f":"AVERAGE(B3:B29)","v":4940.851957553411},null,0.70987999999999996,{"$f":"[1]!AgePb76($D$30)","v":4750.8485164432486}]
["Maximum",{"$f":"MAX(B3:B30)","v":5135.1394415456716},null,0.84486000000000006,{"$f":"[1]!AgePb76($D$31)","v":4999.3079850575914}]
["Minimum",{"$f":"MIN(B3:B31)","v":4556.7507625183289},null,0.59609999999999996,{"$f":"[1]!AgePb76($D$32)","v":4498.521018270505}]
["Difference",{"$f":"(B31-ABS(B32))","v":578.38867902734273},null,0.54601999999999995,{"$f":"[1]!AgePb76($D$33)","v":4370.5281547465684}]
[null,null,null,0.58831,{"$f":"[1]!AgePb76($D$34)","v":4479.389358494489}]
[null,null,null,"Average",{"$f":"AVERAGE(E3:E34)","v":4685.6297564814267}]
[null,null,null,"Maximum",{"$f":"MAX(E3:E35)","v":5081.4187069368072}]
[null,null,null,"Minimum",{"$f":"MIN(E3:E36)","v":4370.5281547465684}]
[null,null,null,"Difference",{"$f":"(E36-ABS(E37))","v":710.89055219023885}]
[]
[]
[]
["207Pb/P06Pb","Table 1","Table 2"]
["Dating","Age Summary","Age Summary"]
["Average",4940.851957553411,4685.6297564814267]
["Maximum",5135.1394415456716,5081.4187069368072]
["Minimum",4556.7507625183289,4370.5281547465684]
["Difference",578.38867902734273,710.89055219023885]