{"text_format":"1","workbook":"xlsx","n_sheets":17,"sheets":["Index","232_Th_02","232_Th_03","232_Th_04","232_Th_05","232_Th_06","232_Th_07","232_Th_08","232_Th_09","232_Th_10","232_Th_11","Thorium_A","Thorium_B","Throrium_C","Thorium_D","Thorium_E","Thorium_F"],"not_rendered":{"charts":0,"images":0,"macros":1,"external_links":2,"defined_names":0,"comments":0,"pivot_tables":0},"unopened":[],"bounds":{"document_bytes":16777216,"sheet_cells":100000,"rows_first":2000,"rows_last":500,"rows_between":2000,"halvings":0,"cell_chars":16384,"cell_head_chars":4096},"cells_cut":0,"cells_raw":0,"read":"whole","date_system":"1900"}

{"sheet":"Index","index":0,"n_rows":16,"n_cols":7,"rows_kept":16,"cut":false,"hidden":false,"merged":[]}
["Number","Essay's Title","Magazine Reference","Folder","File Name","Magazine Article [Adobe Acrobat]","Reference"]
[1,"U–Th–Pb Isotope Data","Earth and Planetary Science Letters, Volume 319-320, 2012, Pages 197-206","C:\\Essays\\Geo_Dating\\Dating\\Th-232_Pb-208\\","232_Th_02","C:\\Essays\\Geo_Dating\\Dating\\Th-232_Pb-208\\232_Th_02.pdf",{"$f":"(B2 & \", \" & C2)","v":"U–Th–Pb Isotope Data, Earth and Planetary Science Letters, Volume 319-320, 2012, Pages 197-206"}]
[2,"U–Th–Pb Geochronology ","Gondwana Research, 2012, Volume 21, Pages 728–744","C:\\Essays\\Geo_Dating\\Dating\\Th-232_Pb-208\\","232_Th_03","C:\\Essays\\Geo_Dating\\Dating\\Th-232_Pb-208\\232_Th_03.pdf",{"$f":"(B3 & \", \" & C3)","v":"U–Th–Pb Geochronology , Gondwana Research, 2012, Volume 21, Pages 728–744"}]
[3,"The U, Th and Pb Compositions","Geochimica et Cosmochimica Acta, 2009, Volume 73, Pages 469-488","C:\\Essays\\Geo_Dating\\Dating\\Th-232_Pb-208\\","232_Th_04","C:\\Essays\\Geo_Dating\\Dating\\Th-232_Pb-208\\232_Th_04.pdf",{"$f":"(B4 & \", \" & C4)","v":"The U, Th and Pb Compositions, Geochimica et Cosmochimica Acta, 2009, Volume 73, Pages 469-488"}]
[4,"Rb–Sr and U–Pb Systematics","Lithology and Mineral Resources, 2011, Volume 46, Number 2, Pages 151-164","C:\\Essays\\Geo_Dating\\Dating\\Th-232_Pb-208\\","232_Th_05","C:\\Essays\\Geo_Dating\\Dating\\Th-232_Pb-208\\232_Th_05.pdf","Rb–Sr and U–Pb Systematics, Lithology and Mineral Resources, 2011, Volume 46, Number 2, Pages 151-164"]
[5,"Cu–Pb–Zn–Ag Mineralisation","Mineral Deposita, 2010, Volume 45, Pages 393-410","C:\\Essays\\Geo_Dating\\Dating\\Th-232_Pb-208\\","232_Th_06","C:\\Essays\\Geo_Dating\\Dating\\Th-232_Pb-208\\232_Th_06.pdf","Cu–Pb–Zn–Ag Mineralisation, Mineral Deposita, 2010, Volume 45, Pages 393-410"]
[6,"Mesozoic volcanic rocks ","Int Journal Earth Science, 2010, Volume 99, Pages 357-378","C:\\Essays\\Geo_Dating\\Dating\\Th-232_Pb-208\\","232_Th_07","C:\\Essays\\Geo_Dating\\Dating\\Th-232_Pb-208\\232_Th_07.pdf","Mesozoic volcanic rocks , Int Journal Earth Science, 2010, Volume 99, Pages 357-378"]
[7,"Uranium-Lead Age Of Baddeleyite","Journal Of Geophysical Research, 2011, Volume 116, Page 1-12","C:\\Essays\\Geo_Dating\\Dating\\Th-232_Pb-208\\","232_Th_08","C:\\Essays\\Geo_Dating\\Dating\\Th-232_Pb-208\\232_Th_08.pdf","Uranium-Lead Age Of Baddeleyite, Journal Of Geophysical Research, 2011, Volume 116, Page 1-12"]
[8,"Mesozoic Lithosphere Destruction","Contrib Mineral Petrol, 2002, Volume 144, Pages 241–253","C:\\Essays\\Geo_Dating\\Dating\\Th-232_Pb-208\\","232_Th_09","C:\\Essays\\Geo_Dating\\Dating\\Th-232_Pb-208\\232_Th_09.pdf","Mesozoic Lithosphere Destruction, Contrib Mineral Petrol, 2002, Volume 144, Pages 241–253"]
[9,"SHRIMP U–Pb Geochronology","International Earth Science, 2002, Volume 91, Pages 406-432","C:\\Essays\\Geo_Dating\\Dating\\Th-232_Pb-208\\","232_Th_10","C:\\Essays\\Geo_Dating\\Dating\\Th-232_Pb-208\\232_Th_10.pdf","SHRIMP U–Pb Geochronology, International Earth Science, 2002, Volume 91, Pages 406-432"]
[10,"The Beverley Uranium Deposit","Economic Geology, 2011, Volume 106, Pages 835-867","C:\\Essays\\Geo_Dating\\Dating\\Th-232_Pb-208\\",{"$f":"(\"232_Th_\") & (A11+1)","v":"232_Th_11"},"C:\\Essays\\Geo_Dating\\Dating\\Th-232_Pb-208\\232_Th_11.pdf","The Beverley Uranium Deposit, Economic Geology, 2011, Volume 106, Pages 835-867"]
[11,"Isotopic Systematics of the Goalpara Ureilite","Gcochimica et Cosmochimtca Acta, 1995, Volume 59, Number 2, Pages 381-390","C:\\Essays\\Geo_Dating\\Dating\\Th-232_Pb-208\\","Thorium_A","C:\\Essays\\Geo_Dating\\Dating\\Th-232_Pb-208\\Thorium_A.pdf","Isotopic Systematics of the Goalpara Ureilite, Gcochimica et Cosmochimtca Acta, 1995, Volume 59, Number 2, Pages 381-390"]
[12,"Middle Atlas Peridotite Xenoliths","Geochimica et Cosmochimica Acta, 2010, Volume 74, Pages 1417–1435","C:\\Essays\\Geo_Dating\\Dating\\Th-232_Pb-208\\","Thorium_B","C:\\Essays\\Geo_Dating\\Dating\\Th-232_Pb-208\\Thorium_B.pdf","Middle Atlas Peridotite Xenoliths, Geochimica et Cosmochimica Acta, 2010, Volume 74, Pages 1417–1435"]
[13,"U, Th and Pb  Isotope Compositions","Geochimica et Cosmochimica Acta, 2009, Volume 73, Pages 469–488","C:\\Essays\\Geo_Dating\\Dating\\Th-232_Pb-208\\","Thorium_C","C:\\Essays\\Geo_Dating\\Dating\\Th-232_Pb-208\\Thorium_C.pdf","U, Th and Pb  Isotope Compositions, Geochimica et Cosmochimica Acta, 2009, Volume 73, Pages 469–488"]
[14,"A Precise 232Th-208Pb Chronology ","Geochimica et Cosmochimica Acta, 1994, Volume 58, Number 15, Pages 3155-3169","C:\\Essays\\Geo_Dating\\Dating\\Th-232_Pb-208\\","Thorium_D","C:\\Essays\\Geo_Dating\\Dating\\Th-232_Pb-208\\Thorium_D.pdf","A Precise 232Th-208Pb Chronology , Geochimica et Cosmochimica Acta, 1994, Volume 58, Number 15, Pages 3155-3169"]
[15,"Age of the MET 78008 Ureilite","Geochimica et Cosmochimica Acta, 1995, Volume 59, Number 11, Pages 2319-2329","C:\\Essays\\Geo_Dating\\Dating\\Th-232_Pb-208\\","Thorium_E","C:\\Essays\\Geo_Dating\\Dating\\Th-232_Pb-208\\Thorium_E.pdf","Age of the MET 78008 Ureilite, Geochimica et Cosmochimica Acta, 1995, Volume 59, Number 11, Pages 2319-2329"]

{"sheet":"232_Th_02","index":1,"n_rows":49,"n_cols":17,"rows_kept":49,"cut":false,"hidden":false,"merged":[]}
[null,null,"Age",null,"Age",null,"Age",null,null,null,null,null,null,"Age",null,null,100601]
["Sample","207/206 Pb","207/206 Pb","208Pb/232Th","208Pb/232Th","207Pb/235U","207Pb/235U","206/204 Pb","207/204 Pb","Pb-208/204","238U/204Pb","206Pb/238U","235U/204Pb","206Pb/238U","232Th/Pb204",null,84457]
["ABDP-42.60b",{"$f":"(I3/H3)","v":0.98935952527112758},{"$f":"[1]!AgePb76(B3)","v":5222.3361132001573},{"$f":"(J3/O3)","v":2.684838026511883},{"$f":"[2]!AgePb8Th2(D3)","v":26361.325313019875},{"$f":"(I3/M3)","v":500.17241379310343},{"$f":"[2]!AgePb7U5(F3)","v":6312.5858569224829},14.661,14.505000000000001,34.228999999999999,4.0019999999999998,{"$f":"(H3/K3)","v":3.6634182908545729},2.9000000000000001E-2,{"$f":"[2]!AgePb6U8(L3)","v":9925.8579728570567},12.749000000000001,null,73968]
["ABDP-190.26",1.0428987618353969,{"$f":"[2]!AgePb76(B4)","v":5296.3248665591236},37.845022624434385,{"$f":"[2]!AgePb8Th2(D4)","v":73968.265807593663},1884.0789473684213,{"$f":"[2]!AgePb7U5(F4)","v":7657.7397379277563},13.73,14.319000000000001,33.454999999999998,1.0429999999999999,13.163950143815917,7.6E-3,{"$f":"[2]!AgePb6U8(L4)","v":17087.510164840198},0.88400000000000001,null,67423]
["ABDP-193.28",1.0670534167106156,{"$f":"[2]!AgePb76(B5)","v":5328.4022190224496},14.432835820895523,{"$f":"[2]!AgePb8Th2(D5)","v":55310.711180948121},963.46938775510193,{"$f":"[2]!AgePb7U5(F5)","v":6977.2839446245125},13.273,14.163,32.878,2.0299999999999998,6.5384236453201972,1.4700000000000001E-2,{"$f":"[2]!AgePb6U8(L5)","v":13021.841060790997},2.278,null,58353]
["ABDP-194.17",1.0442834138486312,{"$f":"[2]!AgePb76(B6)","v":5298.1847762047119},15.874405328258803,{"$f":"[2]!AgePb8Th2(D6)","v":57115.674508959499},1011.8439716312055,{"$f":"[2]!AgePb7U5(F6)","v":7026.976155104896},13.662000000000001,14.266999999999999,33.368000000000002,1.9500000000000002,7.006153846153846,1.4100000000000001E-2,{"$f":"[2]!AgePb6U8(L6)","v":13409.898319050528},2.1019999999999999,null,57116]
["ABDP-194.44",1.069909043072991,{"$f":"[2]!AgePb76(B7)","v":5332.1437457872435},144.07391304347826,{"$f":"[2]!AgePb8Th2(D7)","v":100601.17953859721},3310,{"$f":"[2]!AgePb7U5(F7)","v":8229.6852693783276},13.303000000000001,14.233000000000001,33.137,0.59199999999999997,22.471283783783786,4.3E-3,{"$f":"[2]!AgePb6U8(L7)","v":20343.450167881376},0.23,null,55311]
["ABDP-211.40",1.0569832402234636,{"$f":"[2]!AgePb76(B8)","v":5315.1231346929635},5.9170531573314307,{"$f":"[2]!AgePb8Th2(D8)","v":39090.244257016078},614.28571428571422,{"$f":"[2]!AgePb7U5(F8)","v":6520.8780382787199},13.425000000000001,14.19,33.170999999999999,3.1819999999999999,4.2190446260213701,2.3100000000000002E-2,{"$f":"[2]!AgePb6U8(L8)","v":10651.502744941312},5.6059999999999999,null,51607]
["ABDP-214.13",1.0842364153408655,{"$f":"[2]!AgePb76(B9)","v":5350.758246584749},8.012439024390245,{"$f":"[2]!AgePb8Th2(D9)","v":44438.721312121168},719.74489795918362,{"$f":"[2]!AgePb7U5(F9)","v":6681.510136263797},13.010999999999999,14.106999999999999,32.850999999999999,2.7,4.8188888888888881,1.9599999999999999E-2,{"$f":"[2]!AgePb6U8(L9)","v":11352.840167317821},4.0999999999999996,null,44439]
["ABDP-214.18",1.075210179504658,{"$f":"[2]!AgePb76(B10)","v":5339.0616019936288},11.848766535573828,{"$f":"[2]!AgePb8Th2(D10)","v":51606.828040109933},300.12684989429175,{"$f":"[2]!AgePb7U5(F10)","v":5795.3308668255904},13.202999999999999,14.196,33.140999999999998,6.5170000000000003,2.0259321773822307,4.7300000000000002E-2,{"$f":"[2]!AgePb6U8(L10)","v":7137.5935653456636},2.7970000000000002,null,39090]
["ABDP-217.80",1.0227891643973055,{"$f":"[2]!AgePb76(B11)","v":5269.0151859386178},null,".",null,".",13.954000000000001,14.272,33.962000000000003,null,null,null,null,null,null,31005]
["ABDP-223.25",1.1256746958833481,{"$f":"[2]!AgePb76(B12)","v":5403.1702168046904},{"$f":"(J12/O12)","v":64.268924302788847},{"$f":"[2]!AgePb8Th2(D12)","v":84457.120399835621},{"$f":"(I12/M12)","v":19961.428571428572},{"$f":"[2]!AgePb7U5(F12)","v":10053.924165486405},12.413,13.973000000000001,32.262999999999998,0.10200000000000001,{"$f":"(H12/K12)","v":121.69607843137254},6.9999999999999999E-4,{"$f":"[2]!AgePb6U8(L12)","v":31005.385273692853},0.502,null,26361]
["ABDP-229.45",1.115047770700637,{"$f":"[2]!AgePb76(B13)","v":5389.9253885410144},{"$f":"(J13/O13)","v":16.939884997386304},{"$f":"[2]!AgePb8Th2(D13)","v":58353.237922344662},{"$f":"(I13/M13)","v":2090.2985074626868},{"$f":"[2]!AgePb7U5(F13)","v":7763.1522033522297},12.56,14.005000000000001,32.405999999999999,0.92,{"$f":"(H13/K13)","v":13.652173913043478},6.7000000000000002E-3,{"$f":"[2]!AgePb6U8(L13)","v":17305.970761793469},1.913,null,24980]
["ABDP-229.60",1.1189466101016567,{"$f":"[2]!AgePb76(B14)","v":5394.8000813471717},{"$f":"(J14/O14)","v":27.099916036943746},{"$f":"[2]!AgePb8Th2(D14)","v":67423.276166268144},{"$f":"(I14/M14)","v":3038.9130434782605},{"$f":"[2]!AgePb7U5(F14)","v":8142.9498805626927},12.493,13.978999999999999,32.276000000000003,0.629,{"$f":"(H14/K14)","v":19.861685214626391},4.5999999999999999E-3,{"$f":"[2]!AgePb6U8(L14)","v":19583.653396966205},1.1910000000000001,null,20343]
["ABDP-261.45",1.0372580410420607,{"$f":"[2]!AgePb76(B15)","v":5288.7210274272065},{"$f":"(J15/O15)","v":2.441351603414879},{"$f":"[2]!AgePb8Th2(D15)","v":24979.571544954521},{"$f":"(I15/M15)","v":705.64356435643549},{"$f":"[2]!AgePb7U5(F15)","v":6661.4473133117881},13.742000000000001,14.254,34.03,2.7850000000000001,{"$f":"(H15/K15)","v":4.9342908438061039},2.0200000000000003E-2,{"$f":"[2]!AgePb6U8(L15)","v":11479.436156515339},13.939,null,19584]
[" ","Average",{"$f":"[2]!AgePb76(B16)","v":{"$error":"#NAME?"}},"Average",{"$f":"AVERAGE(E3:E15)","v":56975.512999314051},"Average",{"$f":"AVERAGE(G3:G15)","v":7318.6219640032677},null,null,null,null,null,"Average",{"$f":"AVERAGE(N3:N15)","v":15192.078312666068},null,null,17306]
[null,"Maximim",{"$f":"MAX(C3:C16)","v":{"$error":"#NAME?"}},"Maximim",{"$f":"MAX(E3:E16)","v":100601.17953859721},"Maximim",{"$f":"MAX(G3:G16)","v":10053.924165486405},null,null,null,null,null,"Maximim",{"$f":"MAX(N3:N16)","v":31005.385273692853},null,null,17088]
[null,"Minimum",{"$f":"MIN(C3:C17)","v":{"$error":"#NAME?"}},"Minimum",{"$f":"MIN(E3:E17)","v":24979.571544954521},"Minimum",{"$f":"MIN(G3:G17)","v":5795.3308668255904},null,null,null,null,null,"Minimum",{"$f":"MIN(N3:N17)","v":7137.5935653456636},null,null,13410]
[null,null,13,null,12,null,12,null,null,null,null,null,null,12,null,null,13022]
[null,null,null,null,null,null,null,null,null,null,null,null,null,null,null,null,11479]
[null,null,"Age","Age","Age","Age",null,null,null,null,null,null,null,null,null,null,11353]
[null,"Statistics","207/206 Pb","208Pb/232Th","207Pb/235U","206Pb/238U",null,null,null,null,null,null,null,null,null,null,10652]
[null,"Average",5325.2282003156715,56975.512999314051,7318.6219640032677,15192.078312666068,null,null,null,null,null,null,null,null,null,null,10054]
[null,"Maximim",5403.1702168046904,100601.17953859721,10053.924165486405,31005.385273692853,null,"208Pb/232Th","207Pb/235U","206Pb/238U",null,null,null,null,null,null,9926]
[null,"Minimum",5222.3361132001573,24979.571544954521,5795.3308668255904,7137.5935653456636,null,100601.17953859721,10053.924165486405,31005.385273692853,null,null,null,null,null,null,8230]
[null,"Difference",{"$f":"(C24-C25)","v":180.83410360453308},{"$f":"(D24-D25)","v":75621.607993642683},{"$f":"(E24-E25)","v":4258.593298660815},{"$f":"(F24-F25)","v":23867.791708347191},null,84457.120399835621,8229.6852693783276,20343.450167881376,null,null,null,null,null,null,8143]
[null,null,null,null,null,null,null,73968.265807593663,8142.9498805626927,19583.653396966205,null,null,null,null,null,null,7763]
[null,null,null,null,null,null,null,67423.276166268144,7763.1522033522297,17305.970761793469,null,null,null,null,null,null,7658]
[null,null,null,null,null,null,null,58353.237922344662,7657.7397379277563,17087.510164840198,null,null,null,null,null,null,7138]
[null,null,null,null,null,null,null,57115.674508959499,7026.976155104896,13409.898319050528,null,null,null,null,null,null,7027]
[null,null,null,null,null,null,null,55310.711180948121,6977.2839446245125,13021.841060790997,null,null,null,null,null,null,6977]
[null,null,null,null,null,null,null,51606.828040109933,6681.510136263797,11479.436156515339,null,null,null,null,null,null,6682]
[null,null,null,null,null,null,null,44438.721312121168,6661.4473133117881,11352.840167317821,null,null,null,null,null,null,6661]
[null,null,null,null,null,null,null,39090.244257016078,6520.8780382787199,10651.502744941312,null,null,null,null,null,null,6521]
[null,null,null,null,null,null,null,26361.325313019875,6312.5858569224829,9925.8579728570567,null,null,null,null,null,null,6313]
[null,null,null,null,null,null,null,24979.571544954521,5795.3308668255904,7137.5935653456636,null,null,null,null,null,null,5795]
[null,null,null,null,null,null,null," ",null,null,null,null,null,null,null,null,5403]
[null,null,null,null,null,null,null,null,null,null,null,null,null,null,null,null,5395]
[null,null,null,null,null,null,null,null,null,null,null,null,null,null,null,null,5390]
[null,null,null,null,null,null,null,null,null,null,null,null,null,null,null,null,5351]
[null,null,null,null,null,null,null,null,null,null,null,null,null,null,null,null,5339]
[null,null,null,null,null,null,null,null,null,null,null,null,null,null,null,null,5332]
[null,null,null,null,null,null,null,null,null,null,null,null,null,null,null,null,5328]
[null,null,null,null,null,null,null,null,null,null,null,null,null,null,null,null,5315]
[null,null,null,null,null,null,null,null,null,null,null,null,null,null,null,null,5298]
[null,null,null,null,null,null,null,null,null,null,null,null,null,null,null,null,5296]
[null,null,null,null,null,null,null,null,null,null,null,null,null,null,null,null,5289]
[null,null,null,null,null,null,null,null,null,null,null,null,null,null,null,null,5269]
[null,null,null,null,null,null,null,null,null,null,null,null,null,null,null,null,5222]

{"sheet":"232_Th_03","index":2,"n_rows":46,"n_cols":11,"rows_kept":46,"cut":false,"hidden":false,"merged":[]}
[null,null,null,null,"207Pb Age/232Th Age","238U Age/232Th Age","208Pb/232Th Age ","238U/206Pb ","Age","207Pb/206Pb ","Age"]
[1,"K-3fr_1.1",0.37,7,{"$f":"(K2/G2)","v":5.6098650701333206},{"$f":"(I2/G2)","v":1.0475172151069922},355,16.84,{"$f":"[2]!AgePb6U8(1/H2)","v":371.86861136298228},0.12239999999999999,{"$f":"[2]!AgePb76($J$2)","v":1991.5020998973287}]
[2,"K-3fr_1.2",0.09,2,{"$f":"(K3/G3)","v":9.9933999455724791},{"$f":"(I3/G3)","v":1.2511611950171579},316,15.81,{"$f":"[2]!AgePb6U8(1/H3)","v":395.36693762542194},0.24579999999999999,{"$f":"[2]!AgePb76($J$3)","v":3157.9143828009032}]
[3,"K-3fr_1.3",0.04,0.4,12.747660005899345,2.2698697517884789,306,8.7899999999999991,{"$f":"[2]!AgePb6U8(1/H4)","v":694.58014404727453},0.39779999999999999,{"$f":"[2]!AgePb76($J$4)","v":3900.7839618051994}]
[4,"K-3fr_1.4",0.27,5,5.2971094037302491,1.0541258242933003,354,16.78,{"$f":"[2]!AgePb6U8(1/H5)","v":373.16054179982831},0.1147,{"$f":"[2]!AgePb76($J$5)","v":1875.1767289205081}]
[5,"K-3fr_1.5",0.3,5,5.7454223667317015,1.1216409415386961,380,14.63,{"$f":"[2]!AgePb6U8(1/H6)","v":426.2235577847045},0.13650000000000001,{"$f":"[2]!AgePb76($J$6)","v":2183.2604993580467}]
[6,"K-3fr_1.6",0.41,7,6.3373359108494531,1.1206375884233073,361,15.44,{"$f":"[2]!AgePb6U8(1/H7)","v":404.55016942081397},0.14499999999999999,{"$f":"[2]!AgePb76($J$7)","v":2287.7782638166527}]
[7,"K-3fr_1.7",0.37,8,4.0898188294843738,0.83709947161891729,423,17.71,{"$f":"[2]!AgePb6U8(1/H8)","v":354.09307649480201},0.10589999999999999,{"$f":"[2]!AgePb76($J$8)","v":1729.99336487189}]
[8,"K-3fr_1.8",0.53,10,7.8568879836208074,1.0188079930614986,379,16.2,{"$f":"[2]!AgePb6U8(1/H9)","v":386.12822937030796},0.21959999999999999,{"$f":"[2]!AgePb76($J$9)","v":2977.7605457922859}]
[9,"K-3fr_1.9",0.39,7,5.2125100630611607,1.0333389187278865,373,16.23,{"$f":"[2]!AgePb6U8(1/H10)","v":385.43541668550171},0.1192,{"$f":"[2]!AgePb76($J$10)","v":1944.2662535218128}]
[10,"K-3fr_1.10",0.37,4,9.0135673466041659,1.5973908892923439,385,9.99,{"$f":"[2]!AgePb6U8(1/H11)","v":614.99549237755241},0.3,{"$f":"[2]!AgePb76($J$11)","v":3470.2234284426036}]
[11,"K-3fr_1.11",0.41,11,3.6104609978161548,0.73630540625885099,365,23.49,{"$f":"[2]!AgePb6U8(1/H12)","v":268.7514732844806},8.5099999999999995E-2,{"$f":"[2]!AgePb76($J$12)","v":1317.8182642028964}]
[12,"K-3fr_1.12",0.39,10,5.9859331706681447,0.78288132195612981,379,21.23,{"$f":"[2]!AgePb6U8(1/H13)","v":296.71202102137318},0.1434,{"$f":"[2]!AgePb76($J$13)","v":2268.6686716832269}]
[13,"K-3fr_1.13",0.1,2,5.7781160394785198,1.0038275561103593,399,15.6,{"$f":"[2]!AgePb6U8(1/H14)","v":400.52719488803342},0.14649999999999999,{"$f":"[2]!AgePb76($J$14)","v":2305.4682997519294}]
[14,"K-3fr_2.1",0.02,7.0000000000000007E-2,8.8046843417186089,3.0636107451322445,512,3.63,{"$f":"[2]!AgePb6U8(1/H15)","v":1568.5687015077092},0.6,{"$f":"[2]!AgePb76($J$15)","v":4507.9983829599278}]
[15,"K-3fr_2.2",0.05,0.14000000000000001,10.656805673875763,5.1263224056047871,438,2.4,{"$f":"[2]!AgePb6U8(1/H16)","v":2245.3292136548966},0.67,{"$f":"[2]!AgePb76($J$16)","v":4667.6808851575843}]
[16,"K-3fr_2.3",0.03,0.14000000000000001,11.944508129676967,3.4870621152252368,358,4.68,{"$f":"[2]!AgePb6U8(1/H17)","v":1248.3682372506348},0.51200000000000001,{"$f":"[2]!AgePb76($J$17)","v":4276.1339104243543}]
[17,"K-3fr_3.1",7.0000000000000007E-2,0.39,7.7724642915969193,2.6163619019281974,479,4.66,{"$f":"[2]!AgePb6U8(1/H18)","v":1253.2373510236066},0.35370000000000001,{"$f":"[2]!AgePb76($J$18)","v":3723.0103956749244}]
[18,"K-3fr_3.2",0.05,0.17,8.6226691947246916,3.5187668486645918,521,3.04,{"$f":"[2]!AgePb6U8(1/H19)","v":1833.2775281542524},0.59360000000000002,{"$f":"[2]!AgePb76($J$19)","v":4492.4106504515639}]
[19,"K-3fr_4.1",0.08,0.37,7.6958696678045566,3.0328933750109552,468,4.0599999999999996,{"$f":"[2]!AgePb6U8(1/H20)","v":1419.3940995051271},0.32669999999999999,{"$f":"[2]!AgePb76($J$20)","v":3601.6670045325327}]
[20,"K-3fr_4.2",0.1,0.73,7.5458511515595612,1.840756110428269,499,6.53,{"$f":"[2]!AgePb6U8(1/H21)","v":918.53729910370623},0.36370000000000002,{"$f":"[2]!AgePb76($J$21)","v":3765.3797246282211}]
[21,"K-3fr_5.1",0.01,0.26,10.620561290233658,1.1491482485817648,343,15.86,{"$f":"[2]!AgePb6U8(1/H22)","v":394.15784926354536},0.33560000000000001,{"$f":"[2]!AgePb76($J$22)","v":3642.8525225501444}]
[22,"K-3fr_5.2",0.02,0.25,10.656913085487322,1.5287573248237849,365,11.06,{"$f":"[2]!AgePb6U8(1/H23)","v":557.99642356068148},0.39489999999999997,{"$f":"[2]!AgePb76($J$23)","v":3889.7732762028722}]
[23,"K-3fr_5.3",7.0000000000000007E-2,0.44,8.2549345911483112,2.6684751924510377,419,5.28,{"$f":"[2]!AgePb6U8(1/H24)","v":1118.0911056369848},0.29780000000000001,{"$f":"[2]!AgePb76($J$24)","v":3458.8175936911421}]
[24,"K-3fr_5.4",0.06,0.39,8.9045376133355241,2.4559075242639294,404,6.01,{"$f":"[2]!AgePb6U8(1/H25)","v":992.1866398026275},0.32579999999999998,{"$f":"[2]!AgePb76($J$25)","v":3597.4331957875515}]
[25,"K-3fr_6.1",7.0000000000000007E-2,0.54,9.5487978357097862,2.3426172513589445,376,6.83,{"$f":"[2]!AgePb6U8(1/H26)","v":880.82408651096318},0.32429999999999998,{"$f":"[2]!AgePb76($J$26)","v":3590.3479862268796}]
[26,"K-3fr_7.1",0.03,0.24,10.001955412041941,3.0765382121495142,324,5.98,{"$f":"[2]!AgePb6U8(1/H27)","v":996.7983807364426},0.25900000000000001,{"$f":"[2]!AgePb76($J$27)","v":3240.6335535015887}]
[27,"K-3gr_1.1",0.05,0.33,12.073864910594647,3.1634315409388036,331,5.67,{"$f":"[2]!AgePb6U8(1/H28)","v":1047.0958400507441},0.42399999999999999,{"$f":"[2]!AgePb76($J$28)","v":3996.4492854068285}]
[28,"K-3gr_1.2",0.05,0.09,10.200665808323812,6.6897814388858228,461,1.63,{"$f":"[2]!AgePb6U8(1/H29)","v":3083.9892433263644},0.68640000000000001,{"$f":"[2]!AgePb76($J$29)","v":4702.5069376372776}]
[29,"K-3gr_1.3",0.04,0.28000000000000003,10.194432561162275,2.6773273404967295,407,5.43,{"$f":"[2]!AgePb6U8(1/H30)","v":1089.6722275821689},0.4698,{"$f":"[2]!AgePb76($J$30)","v":4149.1340523930457}]
[30,"K-3gr_1.4",0.05,0.2,9.5919680155387219,4.1360165655749084,425,3.19,{"$f":"[2]!AgePb6U8(1/H31)","v":1757.8070403693359},0.44740000000000002,{"$f":"[2]!AgePb76($J$31)","v":4076.5864066039571}]
[31,"K-3gr_1.5",0.08,0.51,10.880028574050227,2.8520626011235151,363,5.74,{"$f":"[2]!AgePb6U8(1/H32)","v":1035.2987242078359},0.41089999999999999,{"$f":"[2]!AgePb76($J$32)","v":3949.4503723802322}]
[32,"K-3gr_1.6",0.04,0.32,11.44223225102524,2.3122570234070197,357,7.32,{"$f":"[2]!AgePb6U8(1/H33)","v":825.47575735630608},0.44990000000000002,{"$f":"[2]!AgePb76($J$33)","v":4084.8769136160108}]
[33,"K-3gr_1.7",0.09,0.09,10.750438718923554,11.654523943824724,441,0.82,{"$f":"[2]!AgePb6U8(1/H34)","v":5139.6450592267038},0.70499999999999996,{"$f":"[2]!AgePb76($J$34)","v":4740.9434750452874}]
[null,null,null,"Average",{"$f":"AVERAGE(E2:E34)","v":8.5891597046115731},{"$f":"AVERAGE(F2:F34)","v":2.5535521752445063},null,"Average",{"$f":"AVERAGE(I2:I34)","v":1053.8831416361731},null,{"$f":"AVERAGE(K2:K34)","v":3380.7485239314301}]
[null,null,null,"Maximim",{"$f":"MAX(E2:E35)","v":12.747660005899345},{"$f":"MAX(F2:F35)","v":11.654523943824724},null,"Maximim",{"$f":"MAX(I2:I35)","v":5139.6450592267038},null,{"$f":"MAX(K2:K35)","v":4740.9434750452874}]
[null,null,null,"Minimum",{"$f":"MIN(E2:E36)","v":3.6104609978161548},{"$f":"MIN(F2:F36)","v":0.73630540625885099},null,"Minimum",{"$f":"MIN(I2:I36)","v":268.7514732844806},null,{"$f":"MIN(K2:K36)","v":1317.8182642028964}]
[null,null,null,"Difference",{"$f":"(E36-E37)","v":9.13719900808319},{"$f":"(F36-F37)","v":10.918218537565874},null,"Difference",{"$f":"(I36-I37)","v":4870.8935859422236},null,{"$f":"(K36-K37)","v":3423.125210842391}]
[]
[]
[]
[null,null,null,"Statistics","207Pb Age/232Th Age","238U Age/232Th Age","238U/206Pb Age","207Pb/206Pb Age"]
[null,null,null,"Average",8.5891597046115731,2.5535521752445063,1053.8831416361731,3380.7485239314301]
[null,null,null,"Maximim",12.747660005899345,11.654523943824724,5139.6450592267038,4740.9434750452874]
[null,null,null,"Minimum",3.6104609978161548,0.73630540625885099,268.7514732844806,1317.8182642028964]
[null,null,null,"Difference",9.13719900808319,10.918218537565874,4870.8935859422236,3423.125210842391]

{"sheet":"232_Th_04","index":3,"n_rows":53,"n_cols":15,"rows_kept":53,"cut":false,"hidden":false,"merged":[]}
[null,null,null,null,"Age",null,null,"Age",null,null,null,"Age",null,null,92495]
["Sample","206Pb/204Pb","207Pb/206Pb","207Pb/204Pb","207Pb/206Pb","208Pb/204Pb","208Pb/232Th","208Pb/232Th","206Pb/238U","238U/204Pb","232Th/204Pb","206Pb/238U",null,null,73503]
["Atl-3A",20.088999999999999,{"$f":"(D3/B3)","v":0.77828662452088215},15.635,{"$f":"[1]!AgePb76(C3)","v":4882.5109713765105},39.966000000000001,{"$f":"(F3/K3)","v":0.29365172667156503},{"$f":"[1]!AgePb8Th2(G3)","v":5204.0225383689649},{"$f":"(B3/J3)","v":0.68098305084745758},29.5,136.1,{"$f":"[1]!AgePb6U8(I3)","v":3348.1306791041184},null,null,42038]
["Atl-3A",20.093,{"$f":"(D4/B4)","v":0.77828099338077938},15.638,{"$f":"[1]!AgePb76(C4)","v":4882.5006481439514},39.976999999999997,0,".",0," "," ",null,null,null,29253]
["Atl-3A",18.515999999999998,0.84289263339814224,15.606999999999999,{"$f":"[1]!AgePb76(C5)","v":4995.9987551230261},38.369,{"$f":"(F5/K5)","v":3.2516101694915251},{"$f":"[1]!AgePb8Th2(G5)","v":29253.113180302702},{"$f":"(B5/J5)","v":9.7452631578947368},1.9,11.8,{"$f":"[1]!AgePb6U8(I5)","v":15306.784986236808}," ",null,23557]
["Atl-3C",20.176300000000001,0.77516690374350106,15.64,{"$f":"[1]!AgePb76(C6)","v":4876.7795533303015},40.075000000000003,0.10680970149253732,{"$f":"[1]!AgePb8Th2(G6)","v":2051.1719908048703},0.24970668316831685,80.8,375.2,{"$f":"[1]!AgePb6U8(I6)","v":1436.9629029068892},null,null,18639]
["Atl-3C",20.176300000000001,0.77516690374350106,15.64,{"$f":"[1]!AgePb76(C7)","v":4876.7795533303015},40.075000000000003,0.10997530186608125,{"$f":"[1]!AgePb8Th2(G7)","v":2108.8987267427406},0.26033935483870968,77.5,364.4,{"$f":"[1]!AgePb6U8(I7)","v":1491.5778497202236},null,null,15307]
["Atl-3E",20.106000000000002,0.77762856858649154,15.635,{"$f":"[1]!AgePb76(C8)","v":4881.3040579134331},40.003,0.10718917470525188,{"$f":"[1]!AgePb8Th2(G8)","v":2058.1006296618652},0.26736702127659573,75.2,373.2,{"$f":"[1]!AgePb6U8(I8)","v":1527.4232831530896},null,null,13018]
["Atl-3E",18.965,0.82430793567097282,15.632999999999999,{"$f":"[1]!AgePb76(C9)","v":4964.3271208343631},38.768999999999998,0.64187086092715229,{"$f":"[1]!AgePb8Th2(G9)","v":10021.957766786414},3.9510416666666668,4.8,60.4,{"$f":"[1]!AgePb6U8(I9)","v":10311.671182286076}," ",null,10956]
["Atl-3E",20.1114,0.77746949491333273,15.635999999999999,{"$f":"[1]!AgePb76(C10)","v":4881.0121441372958},40.011000000000003,0.10498819207557072,{"$f":"[1]!AgePb8Th2(G10)","v":2017.880727805164},0.26672944297082224,75.400000000000006,381.1,{"$f":"[1]!AgePb6U8(I10)","v":1524.1794493233529},null,null,10772]
["Atl-3E",19.175999999999998,0.81518564872757615,15.632,{"$f":"[1]!AgePb76(C11)","v":4948.5022477450257},38.768999999999998,0,".",0," "," ",null,null,null,10621]
["Atl-3F",19.977399999999999,0.78233403746233243,15.629,{"$f":"[1]!AgePb76(C12)","v":4889.9103492794111},39.828000000000003,0.13714876033057855,{"$f":"[1]!AgePb8Th2(G12)","v":2597.7572922281456},0.27707905686546463,72.099999999999994,290.39999999999998,{"$f":"[1]!AgePb6U8(I12)","v":1576.6348648369044},null,null,10312]
["Atl-3F",19.979299999999999,0.78225963872608151,15.629,{"$f":"[1]!AgePb76(C13)","v":4889.7747035059137},39.831000000000003,0,".",0," "," ",null,null,null,10022]
["Atl-3F",18.71,0.83575628006413683,15.637,{"$f":"[1]!AgePb76(C14)","v":4983.9257285506674},38.610999999999997,0.90423887587822005,{"$f":"[1]!AgePb8Th2(G14)","v":13018.340344008024},3.2258620689655175,5.8,42.7,{"$f":"[1]!AgePb6U8(I14)","v":9290.7221917011921},null,null,9291]
["Atl-3I",19.933,0.78422716098931422,15.632,{"$f":"[1]!AgePb76(C15)","v":4893.3573288361849},39.718000000000004,0.16765723934149432,{"$f":"[1]!AgePb8Th2(G15)","v":3132.8829079430225},0.41964210526315787,47.5,236.9,{"$f":"[1]!AgePb6U8(I15)","v":2258.8544805740212},null,null,5625]
["Atl-3K",20.2499,0.77318900340248597,15.657,{"$f":"[1]!AgePb76(C16)","v":4873.1330980951725},40.173000000000002,0.14851386321626617,{"$f":"[1]!AgePb8Th2(G16)","v":2798.7632903333515},0.39168085106382977,51.7,270.5,{"$f":"[1]!AgePb6U8(I16)","v":2130.6189328861378},null,null,5204]
["Atl-3L",20.1831,0.77510392357962854,15.644,{"$f":"[1]!AgePb76(C17)","v":4876.6635959968671},40.082999999999998,0.12573086574654954,{"$f":"[1]!AgePb8Th2(G17)","v":2393.784399415229},0.35659187279151944,56.6,318.8,{"$f":"[1]!AgePb6U8(I17)","v":1965.9988953820709},null,null,5090]
["Atl-3L",18.998000000000001,0.82098115591114851,15.597,{"$f":"[1]!AgePb76(C18)","v":4958.5776634420463},38.854999999999997,0.71953703703703698,{"$f":"[1]!AgePb8Th2(G18)","v":10956.141285108475},4.3177272727272724,4.4000000000000004,54,{"$f":"[1]!AgePb6U8(I18)","v":10772.254683005282}," ",null,5090]
["Atl-3U",20.213000000000001,0.77385840795527627,15.641999999999999,{"$f":"[1]!AgePb76(C19)","v":4874.3683229976414},40.125999999999998,0.10066733567486201,{"$f":"[1]!AgePb8Th2(G19)","v":1938.6895331083174},0.25361355081555836,79.7,398.6,{"$f":"[1]!AgePb6U8(I19)","v":1457.0844256069474},null,null,5086]
["Atl-3U",20.2166,0.77377007014037968,15.643000000000001,{"$f":"[1]!AgePb76(C20)","v":4874.2053820388192},40.134,0,".",0," "," ",null,null,null,5085]
["Atl-3U",19.29,0.81181959564541217,15.66,{"$f":"[1]!AgePb76(C21)","v":4942.6153774890208},39.15,0.27785663591199428,{"$f":"[1]!AgePb8Th2(G21)","v":4955.7184677160112},0.79382716049382707,24.3,140.9,{"$f":"[1]!AgePb6U8(I21)","v":3766.9712548190064}," ",null,5085]
["Atl-3V",20.103999999999999,0.77790489454834855,15.638999999999999,{"$f":"[1]!AgePb76(C22)","v":4881.8109884880387},39.936999999999998,0.2450122699386503,{"$f":"[1]!AgePb8Th2(G22)","v":4429.4165788886703},0.77323076923076917,26,163,{"$f":"[1]!AgePb6U8(I22)","v":3692.5265180524298},null,null,5068]
["Atl-3T",20.2456,0.77310625518631204,15.651999999999999,{"$f":"[1]!AgePb76(C23)","v":4872.9803270773873},40.225999999999999,0.11710625909752546,{"$f":"[1]!AgePb8Th2(G23)","v":2238.3354131710612},0.35960213143872116,56.3,343.5,{"$f":"[1]!AgePb6U8(I23)","v":1980.2875521936232},null,null,5025]
["Mb47",20.285,0.77229479911264487,15.666,{"$f":"[1]!AgePb76(C24)","v":4871.4812808926517},39.917000000000002,7.0029824561403506,{"$f":"[1]!AgePb8Th2(G24)","v":42037.681237435281},0.29743401759530791,68.2,5.7,{"$f":"[1]!AgePb6U8(I24)","v":1678.5719985413816},null,null,5021]
["Mb47",18.399000000000001,0.85004619816294358,15.64,{"$f":"[1]!AgePb76(C25)","v":5007.9924058843444},38.298999999999999,0,".",0," "," ",null,null,null,5021]
["Br12",18.387,0.84532550171316689,15.542999999999999,{"$f":"[1]!AgePb76(C26)","v":5000.0897896007054},38.020000000000003,0.69127272727272737,{"$f":"[1]!AgePb8Th2(G26)","v":10621.148834026884},1.3929545454545456,13.2,55,{"$f":"[1]!AgePb6U8(I26)","v":5624.6821205505685},null,null,5016]
["Br12",18.396999999999998,0.84600750122302559,15.564,{"$f":"[1]!AgePb76(C27)","v":5001.2343741666264},38.119999999999997,0,".",0," "," ",null,null,null,5008]
["Br12",17.55,0.88660968660968664,15.56,{"$f":"[1]!AgePb76(C28)","v":5067.6668386303554},37.44,0,".",0," "," ",null,null,null,5001]
["70-379",17.010000000000002,0.90076425631981172,15.321999999999999,{"$f":"[1]!AgePb76(C29)","v":5090.0701963828933},37.085000000000001,2.207440476190476,{"$f":"[1]!AgePb8Th2(G29)","v":23556.811715807617},1.0125,16.8,16.8,{"$f":"[1]!AgePb6U8(I29)","v":4508.4785193268754}," ",null,5000]
["70-379",17.021000000000001,0.90065213559720336,15.33,{"$f":"[1]!AgePb76(C30)","v":5089.894206146746},37.11,0,".",0," "," ",null," ",null,4996]
["70-379",18.225999999999999,0.85767584769011307,15.632,{"$f":"[1]!AgePb76(C31)","v":5020.6666938897624},38.323999999999998,0,".",0," "," ",null,null,null,4984]
["71-321",17.018999999999998,0.89735002056525071,15.272,{"$f":"[1]!AgePb76(C32)","v":5084.7006007861301},36.962000000000003,36.962000000000003,{"$f":"[1]!AgePb8Th2(G32)","v":73503.499937196611},17.018999999999998,1,1,{"$f":"[1]!AgePb6U8(I32)","v":18639.33445121468},null,null,4964]
["71-321",16.998999999999999,0.89793517265721512,15.263999999999999,{"$f":"[1]!AgePb76(C33)","v":5085.6224106147311},36.939,0,".",0," "," ",null,null,null,4959]
["71-321",18.219000000000001,0.858005378999945,15.632,{"$f":"[1]!AgePb76(C34)","v":5021.2114074311512},38.362000000000002,0,".",0," "," ",null,null,null,4956]
["71-107",17.09,0.89742539496781748,15.337,{"$f":"[1]!AgePb76(C35)","v":5084.8193763808467},36.892000000000003,0,".",0," "," ",null,null,null,4949]
["71-107",18.164000000000001,0.86043822946487547,15.629,{"$f":"[1]!AgePb76(C36)","v":5025.2260362661509},38.298999999999999,0,".",0," "," ",null,null,null,4943]
["72-228",19.542999999999999,0.80054239369595248,15.645,{"$f":"[1]!AgePb76(C37)","v":4922.7018360162956},38.457000000000001,96.142499999999998,{"$f":"[1]!AgePb8Th2(G37)","v":92494.774585901818},0.57310850439882688,34.1,0.4,{"$f":"[1]!AgePb6U8(I37)","v":2920.5711585605445},null,null,4923]
["72-228",18.297000000000001,0.85467562988468049,15.638,{"$f":"[1]!AgePb76(C38)","v":5015.6971036629939},38.371000000000002,0,".",0," "," ",null,null,null,4893]
[null,null,null,"Average",{"$f":"AVERAGE(E3:E38)","v":4955.2809020689947},null,"Average",{"$f":"AVERAGE(H3:H38)","v":15608.585971943696},null,null,"Average",{"$f":"AVERAGE(L3:L38)","v":4873.1964718173731},null,null,4890]
[null,null,null,"Maximim",{"$f":"MAX(E3:E39)","v":5090.0701963828933},null,"Maximim",{"$f":"MAX(H3:H39)","v":92494.774585901818},null,null,"Maximim",{"$f":"MAX(L3:L39)","v":18639.33445121468},null,null,4890]
[null,null,null,"Minimum",{"$f":"MIN(E3:E40)","v":4871.4812808926517},null,"Minimum",{"$f":"MIN(H3:H40)","v":1938.6895331083174},null,null,"Minimum",{"$f":"MIN(L3:L40)","v":1436.9629029068892},null,null,4883]
[null,null,null,null,37,null,null,11,null,null,null,6,null,null,4883]
[null,null,null,null,null,null,null,null,null,null,null,null,null,null,4882]
[null,null,null,null,"Age","Age","Age",null,null,null,null,null,null,null,4881]
[null,null,null,"Statistics","207Pb/206Pb","208Pb/232Th","206Pb/238U",null,null,null,null,null,null,null,4881]
[null,null,null,"Average",4955.2809020689947,15608.523831560255,4873.1964718173731,null,null,null,null,null,null,null,4877]
[null,null,null,"Maximim",{"$f":"MAX(E10:E46)","v":5090.0701963828933},92494.400682311389,18639.33445121468,null,null,null,null,null,null,null,4877]
[null,null,null,"Minimum",{"$f":"MIN(E10:E47)","v":37},1938.6816960928709,1436.9629029068892,null,null,null,null,null,null,null,4877]
[null,null,null,"Difference",{"$f":"(E47-E48)","v":5053.0701963828933},{"$f":"(F47-F48)","v":90555.718986218519},{"$f":"(G47-G48)","v":17202.37154830779},null,null,null,null,null,null,null,4874]
[null,null,null,null,null,null,null,null,null,null,null,null,null,null,4874]
[null,null,null,null,null,null,null,null,null,null,null,null,null,null,4873]
[null,null,null,null,null,null,null,null,null,null,null,null,null,null,4873]
[null,null,null,null,null,null,null,null,null,null,null,null,null,null,4871]

{"sheet":"232_Th_05","index":4,"n_rows":54,"n_cols":11,"rows_kept":54,"cut":false,"hidden":false,"merged":[]}
["Rubidium","Table 2",null,null,null,null,null,null,null,null," "]
["Strontium","Initial","Today","Today","The Ratio","Half","Decay","2.303/Delta","Age","Age","Age"]
["Dating","87Sr/86Sr","87Sr/86Sr","87Rb/86Sr","Plus One","Life","Constant","Constant","Years","Million Years","Billion Years"]
[null,0.7043100000000001,0.70435000000000003,1.3000000000000002E-3,{"$f":"1+((C4-B4)/D4)","v":1.030769230769176},48800000000,{"$f":"(0.693/F4)","v":1.4200819672131146E-11},{"$f":"(2.303/G4)","v":162173737373.7374},{"$f":"(LOG(E4))*(H4)","v":2134440896.4602377},{"$f":"(I4/1000000)","v":2134.4408964602376},{"$f":"(J4/1000)","v":2.1344408964602377}]
[null,0.70407000000000008,0.70408000000000004,2.0000000000000001E-4,{"$f":"1+((C5-B5)/D5)","v":1.0499999999997724},48800000000,{"$f":"(0.693/F5)","v":1.4200819672131146E-11},{"$f":"(2.303/G5)","v":162173737373.7374},{"$f":"(LOG(E5))*(H5)","v":3436347822.4864516},{"$f":"(I5/1000000)","v":3436.3478224864516},{"$f":"(J5/1000)","v":3.4363478224864514}]
[null,0.70406000000000002,0.70407000000000008,4.0000000000000002E-4,1.0250000000001638,48800000000,1.4200819672131146E-11,162173737373.7374,1739129329.6879768,1739.1293296879769,1.7391293296879768]
[null,0.70410000000000006,0.70417000000000007,2.4000000000000002E-3,1.0291666666666728,48800000000,1.4200819672131146E-11,162173737373.7374,2024854505.5196936,2024.8545055196937,2.0248545055196936]
[null,0.70486000000000004,0.70490000000000008,1.4E-3,1.0285714285714571,48800000000,1.4200819672131146E-11,162173737373.7374,1984107521.8848345,1984.1075218848346,1.9841075218848345]
[null,0.70620000000000005,0.7065300000000001,1.0700000000000001E-2,1.0308411214953319,48800000000,1.4200819672131146E-11,162173737373.7374,2139352927.6586146,2139.3529276586146,2.1393529276586145]
[null,0.70623000000000002,0.70645000000000002,7.5000000000000006E-3,1.029333333333333,48800000000,1.4200819672131146E-11,162173737373.7374,2036259437.8170319,2036.2594378170318,2.0362594378170318]
[null,0.7057500000000001,0.70585000000000009,3.2000000000000002E-3,1.0312499999999964,48800000000,1.4200819672131146E-11,162173737373.7374,2167283591.976572,2167.2835919765721,2.1672835919765721]
[null,0.70579000000000003,0.7059200000000001,4.0000000000000001E-3,1.0325000000000186,48800000000,1.4200819672131146E-11,162173737373.7374,2252602995.8108459,2252.6029958108456,2.2526029958108458]
[null,0.70578000000000007,0.70595000000000008,5.5999999999999999E-3,1.0303571428571434,48800000000,1.4200819672131146E-11,162173737373.7374,2106277820.0803447,2106.2778200803446,2.1062778200803445]
[null,0.7056,0.7059200000000001,1.0800000000000001E-2,1.0296296296296388,48800000000,1.4200819672131146E-11,162173737373.7374,2056530314.1271424,2056.5303141271424,2.0565303141271425]
[null,0.70622000000000007,0.70655000000000001,1.0700000000000001E-2,1.0308411214953217,48800000000,1.4200819672131146E-11,162173737373.7374,2139352927.6579168,2139.352927657917,2.1393529276579168]
[null,null,null,null,null,null,null,null,null,{"$f":"AVERAGE(J4:J15)","v":2184.7116742639719},2.1847116742639718]
[null,null,null,null,null,null,null,null,null,{"$f":"MAX(J4:J16)","v":3436.3478224864516},3.4363478224864514]
[null,null,null,null,null,null,null,null,null,{"$f":"MIN(J4:J17)","v":1739.1293296879769}]
[]
[]
[null,null,null,null,"Age","Age",null,null,"Age"]
["Sample","206Pb/204Pb","207Pb/204Pb","208Pb/204Pb","207Pb/206Pb","206Pb/238U","238U/204Pb","238U/204Pb","206Pb/238U"]
["CX-307.3",17.73,15.597,35.837000000000003,{"$f":"[2]!AgePb76(C23/B23)","v":5056.5848889736053},{"$f":"[2]!AgePb6U8(B23/G23)","v":4829.0051025043831},15.9,6.33,{"$f":"[2]!AgePb6U8(B23/H23)","v":8607.5775947812945}]
["ECF",17.733000000000001,15.596,35.963000000000001,{"$f":"[2]!AgePb76(C24/B24)","v":5056.254565599641},{"$f":"[2]!AgePb6U8(B24/G24)","v":2813.995494543572},32.4,"–","."]
["CX-314.5",17.050999999999998,15.484999999999999,36.020000000000003,{"$f":"[2]!AgePb76(C25/B25)","v":5101.6246209695755},{"$f":"[2]!AgePb6U8(B25/G25)","v":10538.772902104238},4.13,4.34,{"$f":"[2]!AgePb6U8(B25/H25)","v":10282.648990861271},null,2813.995494543572]
[" ",17.042999999999999,15.475,36.018000000000001,{"$f":"[2]!AgePb76(C26/B26)","v":5101.374919692702},".",".",".",".",null,4829.0051025043831]
["CX-322.5",17.652000000000001,15.584,35.883000000000003,{"$f":"[2]!AgePb76(C27/B27)","v":5061.6461564837982},{"$f":"[2]!AgePb6U8(B27/G27)","v":9392.7596707064404},5.36,6.09,{"$f":"[2]!AgePb6U8(B27/H27)","v":8770.9753418825894},null,4834.3892945190855]
["ECF",17.658000000000001,15.609,35.792000000000002,{"$f":"[2]!AgePb76(C28/B28)","v":5063.4339870490676},{"$f":"[2]!AgePb6U8(B28/G28)","v":5647.4700942157033},12.6,".",".",null,4864.7243911600926]
["CX-322.6",17.548000000000002,15.57,35.859000000000002,{"$f":"[2]!AgePb76(C29/B29)","v":5068.7372774573359},{"$f":"[2]!AgePb6U8(B29/G29)","v":9600.732223920606},5.1100000000000003,5.79,{"$f":"[2]!AgePb6U8(B29/H29)","v":8985.9831864561602},null,4986.6303793161533]
["CX-339.4",18.757999999999999,15.707000000000001,36.566000000000003,{"$f":"[2]!AgePb76(C30/B30)","v":4986.6303793161533},{"$f":"[2]!AgePb6U8(B30/G30)","v":6133.9370550130761},11.8,9.32,{"$f":"[2]!AgePb6U8(B30/H30)","v":7109.2584873634787},null,5056.254565599641]
["CX-340.3",21.277000000000001,16.010999999999999,40.146000000000001,{"$f":"[2]!AgePb76(C31/B31)","v":4834.3892945190855},{"$f":"[2]!AgePb6U8(B31/G31)","v":7825.5933061132837},8.99,16.670000000000002,{"$f":"[2]!AgePb6U8(B31/H31)","v":5302.6897828900037},null,5056.5848889736053]
["ECF",20.739000000000001,15.941000000000001,39.531999999999996,{"$f":"[2]!AgePb76(C32/B32)","v":4864.7243911600926},{"$f":"[2]!AgePb6U8(B32/G32)","v":8490.2783145302401},7.59,".",".",null,5061.6461564837982]
[null,null,null,"Average",{"$f":"AVERAGE(E23:E32)","v":5019.5400481221059},{"$f":"AVERAGE(F23:F32)","v":7252.5049070723935},null,null,{"$f":"AVERAGE(I23:I32)","v":8176.5222307057993},null,5063.4339870490676]
[null,null,null,"Maximim",{"$f":"MAX(E23:E33)","v":5101.6246209695755},{"$f":"MAX(F23:F33)","v":10538.772902104238},null,null,{"$f":"MAX(I23:I33)","v":10282.648990861271},null,5068.7372774573359]
[null,null,null,"Minimum",{"$f":"MIN(E23:E34)","v":4834.3892945190855},{"$f":"MIN(F23:F34)","v":2813.995494543572},null,null,{"$f":"MIN(I23:I34)","v":5302.6897828900037},null,5101.374919692702]
[null,null,null,null,null,null,null,null,null,null,5101.6246209695755]
[null,null,null,null,null,null,null,null,null,null,5302.6897828900037]
[null,null,null,null,null,null,null,null,null,null,5647.4700942157033]
[null,null,null,null,"Age","Age","Age","Age",null,null,6133.9370550130761]
[null,null,null,"Statistics","207Pb/206Pb","206Pb/238U","206Pb/238U","87Sr/86Sr",null,null,7109.2584873634787]
[null,null," ","Average",5019.5400481221059,7252.5049070723935,8176.5222307057993,2184.7116742639719,null,null,7825.5933061132837]
[null,null,null,"Maximim",5101.6246209695755,10538.772902104238,10282.648990861271,3436.3478224864516,null,null,8490.2783145302401]
[null,null,null,"Minimum",4834.3892945190855,2813.995494543572,5302.6897828900037,1739.1293296879769,null,null,8607.5775947812945]
[null,null,null,"Difference",{"$f":"(E42-E43)","v":267.23532645048999},{"$f":"(F42-F43)","v":7724.7774075606658},{"$f":"(G42-G43)","v":4979.9592079712675},{"$f":"(H42-H43)","v":1697.2184927984747},null,null,8770.9753418825894]
[null,null,null,null,null,null,null,null,null,null,8985.9831864561602]
[null,null,null,null,null,null,null,null,null,null,9392.7596707064404]
[null,null,null,null,null,null,null,null,null,null,9600.732223920606]
[null,null,null,null,null,null,null,null,null,null,10282.648990861271]
[null,null,null,null,null,null,null,null,null,null,10538.772902104238]
[null,null,null,null,null,null,null,null,null,null,{"$f":"COUNT(K25:K49)","v":25}]
[null,null,null,null,null,null,null,null,null,null,"."]
[null,null,null,null,null,null,null,null,null,null,"."]
[null,null,null,null,null,null,null,null,null,null,"."]
[null,null,null,null,null,null,null,null,null,null,"."]

{"sheet":"232_Th_06","index":5,"n_rows":120,"n_cols":17,"rows_kept":120,"cut":false,"hidden":false,"merged":[]}
[null,null,null,null,null,null,"Age","Age","Age","Age",null,"208Pb/232Th","207Pb/206Pb","206Pb/238U","207Pb/235U",null,199319]
["206Pb/204Pb","207Pb/204Pb","208Pb/204Pb","232Th/204Pb","235U/204Pb","238U/204Pb","208Pb/232Th","207Pb/206Pb","206Pb/238U","207Pb/235U",null,199318.78093016674,6275.1354856211456,48495.6445612077,12149.859667409522,null,171568]
[18.263999999999999,15.722,38.781999999999996,null,null,null,null,{"$f":"[1]!AgePb76(B3/A3)","v":5025.8534442700802},null,null,null,171567.90429301304,5042.6764393612166,37795.425984067799,10750.617189673714,null,169191]
[18.314,15.734,38.862000000000002,8.9999999999999993E-3,6.9999999999999999E-4,9.1999999999999998E-2,{"$f":"[1]!AgePb8Th2(C4/D4)","v":169192.10051461749},{"$f":"[1]!AgePb76(B4/A4)","v":5023.059102827242},{"$f":"[1]!AgePb6U8(A4/F4)","v":34157.249961964619},{"$f":"[1]!AgePb7U5(B4/E4)","v":10174.441475837493},null,169191.41656750656,5040.2629572073201,37134.247799037235,10739.479468188867,null,109612]
[19.986999999999998,15.86,39.566000000000003,null,null,null,null,{"$f":"[1]!AgePb76(B5/A5)","v":4910.1425773332594},null,null,null,109611.6143888035,5040.0037687453751,34881.091408563225,10327.919474155258,null,109326]
[21.047000000000001,15.858000000000001,38.347000000000001,2E-3,4.0000000000000002E-4,0.06,{"$f":"[1]!AgePb8Th2(C6/D6)","v":199319.5866655116},{"$f":"[1]!AgePb76(B6/A6)","v":4836.2006142690771},{"$f":"[1]!AgePb6U8(A6/F6)","v":37795.425984067799},{"$f":"[1]!AgePb7U5(B6/E6)","v":10750.617189673714},null,109326.26888071869,5039.7917795150033,34722.787271369474,10327.919474155258,null,100493]
[21.917000000000002,15.901,38.33,null,null,null,null,{"$f":"[1]!AgePb76(B7/A7)","v":4782.0900755591119},null,null,null,100492.66027787304,5039.5013798008504,34157.249961964619,10174.441475837493,null,97525]
[26.901,16.260999999999999,45.207000000000001,null,null,null,null,{"$f":"[1]!AgePb76(B8/A8)","v":4518.7934101620449},null,null,null,97525.279669831638,5039.3992437615434,30516.990241847416,9809.2616823639964,null,95641]
[18.268999999999998,15.711,38.633000000000003,null,null,null,null,{"$f":"[1]!AgePb76(B9/A9)","v":5024.4730897648542},null,null,null,95640.910633686668,5039.0852886394114,26502.508810884923,9008.6236602741901,null,94641]
[18.07,15.685,38.33,null,null,null,null,{"$f":"[1]!AgePb76(B10/A10)","v":5037.6494536701102},null,null,null,94641.150156236588,5037.6494536701102,25365.108734231337,8839.1551062897688,null,90058]
[18.268000000000001,15.702,38.601999999999997,null,null,null,null,{"$f":"[1]!AgePb76(B11/A11)","v":5023.7382780094595},null,null,null,90058.017997241594,5033.3028068443191,20439.945172804517,7847.3024113733481,null,80165]
[18.215,15.698,38.551000000000002,null,null,null,null,{"$f":"[1]!AgePb76(B12/A12)","v":5027.496204167157},null,null,null,80165.497425628477,5033.3010293344041,16364.380184553591,7289.876624822472,null,80073]
[18.36,15.712,38.764000000000003,null,null,null,null,{"$f":"[1]!AgePb76(B13/A13)","v":5017.5176406253786},null,null,null,80072.740548313886,5033.0127191702177,15122.347082400342,7130.5133189246508,null,75876]
[18.356000000000002,15.712,38.779000000000003,null,null,null,null,{"$f":"[1]!AgePb76(B14/A14)","v":5017.8266520545094},null,null,null,75875.837936841344,5027.496204167157,14581.947271962192,6943.664767819515,null,69663]
[18.352,15.711,38.777000000000001,null,null,null,null,{"$f":"[1]!AgePb76(B15/A15)","v":5018.0454627122281},null,null,null,69662.788377004486,5025.8534442700802,11865.235946339315,6504.9861523613736,null,69494]
[18.143999999999998,15.701000000000001,38.423999999999999,null,null,null,null,{"$f":"[1]!AgePb76(B16/A16)","v":5033.3028068443191},null,null,null,69493.648087111447,5024.4730897648542,10145.030146454686,6176.5544559514192,null,65937]
[18.489000000000001,15.728,38.854999999999997,8.0000000000000002E-3,1E-4,0.01,{"$f":"[1]!AgePb8Th2(C17/D17)","v":171568.5978469465},{"$f":"[1]!AgePb76(B17/A17)","v":5009.0297902778329},{"$f":"[1]!AgePb6U8(A17/F17)","v":48495.6445612077},{"$f":"[1]!AgePb7U5(B17/E17)","v":12149.859667409522},null,65937.490039199227,5023.7382780094595,9578.4155183112889,6068.4786987994175,null,60456]
[18.390999999999998,15.72,38.854999999999997,null,null,null,null,{"$f":"[1]!AgePb76(B18/A18)","v":5015.8469281417429},null,null,null,60455.801132063854,5023.059102827242,6846.9082066263372,5363.9026794220508,null,51708]
[18.98,15.728999999999999,38.795000000000002,null,null,null,null,{"$f":"[1]!AgePb76(B19/A19)","v":4971.9047294165248},null,null,null,51707.709799320051,5018.0454627122281,6459.8854731518395,5248.1816159293721,null,49691]
[21.334,15.872,39.094000000000001,8.19,0.32,44,{"$f":"[1]!AgePb8Th2(C20/D20)","v":35437.252633110715},{"$f":"[1]!AgePb76(B20/A20)","v":4818.089251241352},{"$f":"[1]!AgePb6U8(A20/F20)","v":2548.4154112729589},{"$f":"[1]!AgePb7U5(B20/E20)","v":3984.3139323688074},null,49690.839440526695,5017.8266520545094,4660.868429132177,4880.5430561576013,null,48496]
[21.684000000000001,15.897,39.377000000000002,0.35,7.0000000000000001E-3,0.95,{"$f":"[1]!AgePb8Th2(C21/D21)","v":95641.297256872655},{"$f":"[1]!AgePb76(B21/A21)","v":4797.0446651151487},{"$f":"[1]!AgePb6U8(A21/F21)","v":20439.945172804517},{"$f":"[1]!AgePb7U5(B21/E21)","v":7847.3024113733481},null,45444.646196649846,5017.5176406253786,3981.9572621615894,4671.9420872118108,null,45445]
[22.832000000000001,15.994,40.012,null,null,null,null,{"$f":"[1]!AgePb76(B22/A22)","v":4731.7611095926086},null,null,null,35437.109380520997,5015.8469281417429,3933.6014955107876,4613.502182508686,null,37795]
[18.821000000000002,15.726000000000001,38.792000000000002,null,null,null,null,{"$f":"[1]!AgePb76(B23/A23)","v":4983.5853709106541},null,null,null,26639.786458640512,5009.0297902778329,3897.5780836573113,4555.3374478128071,null,37134]
[18.657,15.723000000000001,38.759,2.0499999999999998,2.5999999999999999E-2,3.52,{"$f":"[1]!AgePb8Th2(C24/D24)","v":60456.045521355947},{"$f":"[1]!AgePb76(B24/A24)","v":4995.7416573340579},{"$f":"[1]!AgePb6U8(A24/F24)","v":11865.235946339315},{"$f":"[1]!AgePb7U5(B24/E24)","v":6504.9861523613736},null,20649.543681675823,4995.7416573340579,3896.9338807795571,4510.8670455524652,null,35437]
[19.123999999999999,15.734,38.837000000000003,3.26,1.2E-2,1.64,{"$f":"[1]!AgePb8Th2(C25/D25)","v":51707.918824928129},{"$f":"[1]!AgePb76(B25/A25)","v":4961.6132318899736},{"$f":"[1]!AgePb6U8(A25/F25)","v":16364.380184553591},{"$f":"[1]!AgePb7U5(B25/E25)","v":7289.876624822472},null,17815.966706188639,4992.4815111878597,3726.336095933264,4508.3487331175902,null,34881]
[18.893999999999998,15.744,38.771999999999998,0.93,3.5999999999999997E-2,4.9400000000000004,{"$f":"[1]!AgePb8Th2(C26/D26)","v":75876.144660794598},{"$f":"[1]!AgePb76(B26/A26)","v":4979.7115224071522},{"$f":"[1]!AgePb6U8(A26/F26)","v":10145.030146454686},{"$f":"[1]!AgePb7U5(B26/E26)","v":6176.5544559514192},null,15280.403680273866,4986.365454286527,3473.4483272107682,4401.9236159487464,null,34723]
[23.652000000000001,16.024000000000001,40.173999999999999,1.6,0.72,99.2,{"$f":"[1]!AgePb8Th2(C27/D27)","v":65937.756587920958},{"$f":"[1]!AgePb76(B27/A27)","v":4683.6986721716958},{"$f":"[1]!AgePb6U8(A27/F27)","v":1378.516451636571},{"$f":"[1]!AgePb7U5(B27/E27)","v":3194.9475068444281},null,13961.133080040725,4984.6733895317529,3452.7053133379463,4398.4977654714103,null,34157]
[22.417999999999999,15.945,39.936,null,null,null,null,{"$f":"[1]!AgePb76(B28/A28)","v":4753.6339387530825},null,null,null,11153.770174007002,4983.5853709106541,3350.415482076412,4321.452677186292,null,30517]
[21.722000000000001,15.896000000000001,39.171999999999997,0.76,9.0999999999999998E-2,12.6,{"$f":"[1]!AgePb8Th2(C29/D29)","v":80073.064238017963},{"$f":"[1]!AgePb76(B29/A29)","v":4794.4463388069735},{"$f":"[1]!AgePb6U8(A29/F29)","v":6459.8854731518395},{"$f":"[1]!AgePb7U5(B29/E29)","v":5248.1816159293721},null,10362.711462632411,4979.7115224071522,3062.5520277897663,4266.5280893387453,null,26640]
[18.783000000000001,15.725,38.567999999999998,1.28,0.34,46.9,{"$f":"[1]!AgePb8Th2(C30/D30)","v":69493.929011408909},{"$f":"[1]!AgePb76(B30/A30)","v":4986.365454286527},{"$f":"[1]!AgePb6U8(A30/F30)","v":2171.2971129972238},{"$f":"[1]!AgePb7U5(B30/E30)","v":3914.7612874445367},null,8591.8405122666409,4971.9047294165248,2563.7358120361382,4049.217969956424,null,26503]
[19.946999999999999,15.795,39.006999999999998,3.65,0.24,32.799999999999997,{"$f":"[1]!AgePb8Th2(C31/D31)","v":49691.040313045916},{"$f":"[1]!AgePb76(B31/A31)","v":4907.1449364927303},{"$f":"[1]!AgePb6U8(A31/F31)","v":3062.5520277897663},{"$f":"[1]!AgePb7U5(B31/E31)","v":4266.5280893387453},null,8385.297029144911,4968.9749458459146,2548.4154112729589,3984.3139323688074,null,25365]
[18.803000000000001,15.723000000000001,38.691000000000003,0.27,0.04,5.5,{"$f":"[1]!AgePb8Th2(C32/D32)","v":100493.06651399343},{"$f":"[1]!AgePb76(B32/A32)","v":4984.6733895317529},{"$f":"[1]!AgePb6U8(A32/F32)","v":9578.4155183112889},{"$f":"[1]!AgePb7U5(B32/E32)","v":6068.4786987994175},null,6695.9123237165495,4968.8743778439912,2482.9271697511967,3981.9910468242128,null,20650]
[19.216999999999999,15.766999999999999,38.947000000000003,null,null,null,null,{"$f":"[1]!AgePb76(B33/A33)","v":4957.6945971130754},null,null,null,5535.7741645782044,4961.6132318899736,2171.2971129972238,3914.7612874445367,null,20440]
[19.297000000000001,15.749000000000001,39.975999999999999,896.3,1.87,257.8,{"$f":"[1]!AgePb8Th2(C34/D34)","v":881.96314184950893},{"$f":"[1]!AgePb76(B34/A34)","v":4950.1617647418025},{"$f":"[1]!AgePb6U8(A34/F34)","v":465.32496302197325},{"$f":"[1]!AgePb7U5(B34/E34)","v":2277.5442294176746},null,5239.135180501934,4960.2767255472136,1834.9726802726677,3576.1171745527586,null,17816]
[18.129000000000001,15.688000000000001,38.380000000000003,4.53,1.4E-2,1.92,{"$f":"[1]!AgePb8Th2(C35/D35)","v":45444.829904163533},{"$f":"[1]!AgePb76(B35/A35)","v":5033.3010293344041},{"$f":"[1]!AgePb6U8(A35/F35)","v":15122.347082400342},{"$f":"[1]!AgePb7U5(B35/E35)","v":7130.5133189246508},null,5140.7183021044766,4957.6945971130754,1378.516451636571,3194.9475068444281,null,16364]
[18.135000000000002,15.69,38.402000000000001,"–","–","–",null,{"$f":"[1]!AgePb76(B36/A36)","v":5033.0127191702177},null,null,null,4879.0854631355051,4950.1617647418025,1344.0572875746236,2963.3480094854831,null,15280]
[18.006,15.685,38.295000000000002,1.26,2.2000000000000001E-3,0.3,{"$f":"[1]!AgePb8Th2(C37/D37)","v":69663.069985042399},{"$f":"[1]!AgePb76(B37/A37)","v":5042.6764393612166},{"$f":"[1]!AgePb6U8(A37/F37)","v":26502.508810884923},{"$f":"[1]!AgePb7U5(B37/E37)","v":9008.6236602741901},null,3873.3965721591526,4931.475781758797,990.89734360230955,2568.6916771747906,null,15122]
[18.04,15.685,38.347000000000001,0.17,4.0000000000000002E-4,5.7000000000000002E-2,{"$f":"[1]!AgePb8Th2(C38/D38)","v":109612.05748780053},{"$f":"[1]!AgePb76(B38/A38)","v":5040.0037687453751},{"$f":"[1]!AgePb6U8(A38/F38)","v":37134.247799037235},{"$f":"[1]!AgePb7U5(B38/E38)","v":10739.479468188867},null,2850.7484796136182,4910.1425773332594,661.36908077448925,2277.5442294176746,null,14582]
[18.053999999999998,15.686999999999999,38.32,0.74,2.5999999999999999E-3,0.36,{"$f":"[1]!AgePb8Th2(C39/D39)","v":80165.82149029721},{"$f":"[1]!AgePb76(B39/A39)","v":5039.0852886394114},{"$f":"[1]!AgePb6U8(A39/F39)","v":25365.108734231337},{"$f":"[1]!AgePb7U5(B39/E39)","v":8839.1551062897688},null,2245.4276218772293,4907.1449364927303,465.32496302197325,2274.9570431714128,null,13961]
[18.047999999999998,38.308999999999997,0.64,8.9999999999999998E-4,0.125,null,null,{"$f":"[1]!AgePb76(B40/A40)","v":6275.1354856211456},null,null,null,1351.7290161913527,4904.9923551660204,321.49489598334401,1523.1383732731088,null,12150]
[18.039000000000001,15.686999999999999,38.299999999999997,0.45,1E-3,0.16,{"$f":"[1]!AgePb8Th2(C41/D41)","v":90058.382051887354},{"$f":"[1]!AgePb76(B41/A41)","v":5040.2629572073201},{"$f":"[1]!AgePb6U8(A41/F41)","v":30516.990241847416},{"$f":"[1]!AgePb7U5(B41/E41)","v":9809.2616823639964},null,881.95957657582892,4901.24321498057,173.50032679960293,848.05304176918332,null,11865]
[18.045000000000002,15.686999999999999,38.314999999999998,0.31,5.9999999999999995E-4,8.3000000000000004E-2,{"$f":"[1]!AgePb8Th2(C42/D42)","v":97525.673910477082},{"$f":"[1]!AgePb76(B42/A42)","v":5039.7917795150033},{"$f":"[1]!AgePb6U8(A42/F42)","v":34722.787271369474},{"$f":"[1]!AgePb7U5(B42/E42)","v":10327.919474155258},null,null,4890.8093079238297,null,null,null,11154]
[18.050999999999998,15.689,38.322000000000003," "," "," ",null,{"$f":"[1]!AgePb76(B43/A43)","v":5039.5013798008504},null,null,null,null,4873.0714444190608,null,null,null,10751]
[18.05,15.686999999999999,38.316000000000003,0.35799999999999998,5.9999999999999995E-4,8.1000000000000003E-2,{"$f":"[1]!AgePb8Th2(C44/D44)","v":94641.532737945148},{"$f":"[1]!AgePb76(B44/A44)","v":5039.3992437615434},{"$f":"[1]!AgePb6U8(A44/F44)","v":34881.091408563225},{"$f":"[1]!AgePb7U5(B44/E44)","v":10327.919474155258},null,null,4868.4768870779471,null,null,null,10739]
[19.634,15.815,40.531999999999996,103.2,0.17,23.64,{"$f":"[1]!AgePb8Th2(C45/D45)","v":6695.939391578394},{"$f":"[1]!AgePb76(B45/A45)","v":4931.475781758797},{"$f":"[1]!AgePb6U8(A45/F45)","v":3897.5780836573113},{"$f":"[1]!AgePb7U5(B45/E45)","v":4613.502182508686},null,null,4844.297886260737,null,null,null,10363]
[24.678000000000001,16.068999999999999,42.368000000000002," "," "," ",null,{"$f":"[1]!AgePb76(B46/A46)","v":4626.4996143095068},null,null,null,null,4841.0250913215023,null,null,null,10328]
[30.484999999999999,16.637,49.279000000000003,419.4,0.95,131.5,{"$f":"[1]!AgePb8Th2(C47/D47)","v":2245.4366988964184},{"$f":"[1]!AgePb76(B47/A47)","v":4369.7876518124986},{"$f":"[1]!AgePb6U8(A47/F47)","v":1344.0572875746236},{"$f":"[1]!AgePb7U5(B47/E47)","v":2963.3480094854831},null,null,4836.2006142690771,null,null,null,10328]
[50.521999999999998,17.53,45.917999999999999,663.9,13.43,1852,{"$f":"[1]!AgePb8Th2(C48/D48)","v":1351.7344804824743},{"$f":"[1]!AgePb76(B48/A48)","v":3693.7790795405149},{"$f":"[1]!AgePb6U8(A48/F48)","v":173.50032679960293},{"$f":"[1]!AgePb7U5(B48/E48)","v":848.05304176918332},null,null,4824.0420257949318,null,null,null,10174]
[84.472999999999999,19.48,66.706999999999994," "," "," ",null,{"$f":"[1]!AgePb76(B49/A49)","v":3056.2595640908808},null,null,null,null,4818.089251241352,null,null,null,10145]
[29.030999999999999,16.376000000000001,40.875999999999998,28.9,1.95,268.7,{"$f":"[1]!AgePb8Th2(C50/D50)","v":17816.038726266281},{"$f":"[1]!AgePb76(B50/A50)","v":4418.109032648259},{"$f":"[1]!AgePb6U8(A50/F50)","v":661.36908077448925},{"$f":"[1]!AgePb7U5(B50/E50)","v":2274.9570431714128},null,null,4797.0446651151487,null,null,null,9809]
[33.658000000000001,16.609000000000002,42.731999999999999,202.3,4.7699999999999996,658.2,{"$f":"[1]!AgePb8Th2(C51/D51)","v":3873.4122301543912},{"$f":"[1]!AgePb76(B51/A51)","v":4221.8019165807546},{"$f":"[1]!AgePb6U8(A51/F51)","v":321.49489598334401},{"$f":"[1]!AgePb7U5(B51/E51)","v":1523.1383732731088},null,null,4794.4463388069735,null,null,null,9578]
[19.076000000000001,15.776,38.603999999999999,52.42,0.16,22.32,{"$f":"[1]!AgePb8Th2(C52/D52)","v":11153.815262517053},{"$f":"[1]!AgePb76(B52/A52)","v":4968.9749458459146},{"$f":"[1]!AgePb6U8(A52/F52)","v":3981.9572621615894},{"$f":"[1]!AgePb7U5(B52/E52)","v":4671.9420872118108},null,null,4782.0900755591119,null,null,null,9009]
[24.914000000000001,16.170000000000002,41.853999999999999," "," "," ",null,{"$f":"[1]!AgePb76(B53/A53)","v":4621.8022927507654},null,null,null,null,4769.9811490693446,null,null,null,8839]
[20.481000000000002,15.835000000000001,40.652999999999999,148.9,0.32,43.59,{"$f":"[1]!AgePb8Th2(C54/D54)","v":4879.1051865734553},{"$f":"[1]!AgePb76(B54/A54)","v":4873.0714444190608},{"$f":"[1]!AgePb6U8(A54/F54)","v":2482.9271697511967},{"$f":"[1]!AgePb7U5(B54/E54)","v":3981.9910468242128},null,null,4762.5058051802544,null,null,null,8592]
[22.419,15.991,42.594000000000001,281.2,0.23,31.4,{"$f":"[1]!AgePb8Th2(C55/D55)","v":2850.7600036094932},{"$f":"[1]!AgePb76(B55/A55)","v":4757.7044836605364},{"$f":"[1]!AgePb6U8(A55/F55)","v":3473.4483272107682},{"$f":"[1]!AgePb7U5(B55/E55)","v":4321.452677186292},null,null,4757.7044836605364,null,null,null,8385]
[20.56,15.845000000000001,40.030999999999999,0.18,1.7000000000000001E-2,2.39,{"$f":"[1]!AgePb8Th2(C56/D56)","v":109326.710826222},{"$f":"[1]!AgePb76(B56/A56)","v":4868.4768870779471},{"$f":"[1]!AgePb6U8(A56/F56)","v":14581.947271962192},{"$f":"[1]!AgePb7U5(B56/E56)","v":6943.664767819515},null,null,4753.6339387530825,null,null,null,7847]
[21.306999999999999,15.917999999999999,40.616,60.64,0.19,25.66,{"$f":"[1]!AgePb8Th2(C57/D57)","v":10362.753353330592},{"$f":"[1]!AgePb76(B57/A57)","v":4824.0420257949318},{"$f":"[1]!AgePb6U8(A57/F57)","v":3896.9338807795571},{"$f":"[1]!AgePb7U5(B57/E57)","v":4508.3487331175902},null,null,4731.7611095926086,null,null,null,7290]
[19.943000000000001,15.768000000000001,39.554000000000002,74.67,0.21,29.26,{"$f":"[1]!AgePb8Th2(C58/D58)","v":8591.8752443151989},{"$f":"[1]!AgePb76(B58/A58)","v":4904.9923551660204},{"$f":"[1]!AgePb6U8(A58/F58)","v":3350.415482076412},{"$f":"[1]!AgePb7U5(B58/E58)","v":4398.4977654714103},null,null,4683.6986721716958,null,null,null,7131]
[20.988,15.867000000000001,40.218000000000004,78.22,8.1000000000000003E-2,11.09,{"$f":"[1]!AgePb8Th2(C59/D59)","v":8385.3309262526582},{"$f":"[1]!AgePb76(B59/A59)","v":4841.0250913215023},{"$f":"[1]!AgePb6U8(A59/F59)","v":6846.9082066263372},{"$f":"[1]!AgePb7U5(B59/E59)","v":5363.9026794220508},null,null,4626.4996143095068,null,null,null,6944]
[19.11,15.803000000000001,38.951000000000001,39.14,0.18,24.42,{"$f":"[1]!AgePb8Th2(C60/D60)","v":13961.189517162828},{"$f":"[1]!AgePb76(B60/A60)","v":4968.8743778439912},{"$f":"[1]!AgePb6U8(A60/F60)","v":3726.336095933264},{"$f":"[1]!AgePb7U5(B60/E60)","v":4555.3374478128071},null,null,4621.8022927507654,null,null,null,6847]
[22.297999999999998,15.958,40.895000000000003,129.80000000000001,0.19,26.52,{"$f":"[1]!AgePb8Th2(C61/D61)","v":5535.7965426445598},{"$f":"[1]!AgePb76(B61/A61)","v":4762.5058051802544},{"$f":"[1]!AgePb6U8(A61/F61)","v":3933.6014955107876},{"$f":"[1]!AgePb7U5(B61/E61)","v":4510.8670455524652},null,null,4518.7934101620449,null,null,null,6696]
[21.917999999999999,15.768000000000001,40.603000000000002,140.19999999999999,0.48,66.56,{"$f":"[1]!AgePb8Th2(C62/D62)","v":5140.7390831789671},{"$f":"[1]!AgePb76(B62/A62)","v":4769.9811490693446},{"$f":"[1]!AgePb6U8(A62/F62)","v":1834.9726802726677},{"$f":"[1]!AgePb7U5(B62/E62)","v":3576.1171745527586},null,null,4418.109032648259,null,null,null,6505]
[20.94,15.867000000000001,40.872999999999998," "," "," ",null,{"$f":"[1]!AgePb76(B63/A63)","v":4844.297886260737},null,null,null,null,4369.7876518124986,null,null,null,6460]
[20.288,15.882,40.006,135.19999999999999,0.3,41.54,{"$f":"[1]!AgePb8Th2(C64/D64)","v":5239.1563594213094},{"$f":"[1]!AgePb76(B64/A64)","v":4890.8093079238297},{"$f":"[1]!AgePb6U8(A64/F64)","v":2563.7358120361382},{"$f":"[1]!AgePb7U5(B64/E64)","v":4049.217969956424},null,null,4254.0662546062003,null,null,null,6275]
[20.064,15.821999999999999,39.015000000000001,14.26,0.21,28.32,{"$f":"[1]!AgePb8Th2(C65/D65)","v":26639.894148530188},{"$f":"[1]!AgePb76(B65/A65)","v":4901.24321498057},{"$f":"[1]!AgePb6U8(A65/F65)","v":3452.7053133379463},{"$f":"[1]!AgePb7U5(B65/E65)","v":4401.9236159487464},null,null,4221.8019165807546,null,null,null,6177]
[18.687999999999999,15.712999999999999,38.631999999999998," "," "," ",null,{"$f":"[1]!AgePb76(B66/A66)","v":4992.4815111878597},null,null,null,null,3693.7790795405149,null,null,null,6068]
[19.187000000000001,15.771000000000001,38.985999999999997,21.93,0.13,18.09,{"$f":"[1]!AgePb8Th2(C67/D67)","v":20649.627156334467},{"$f":"[1]!AgePb76(B67/A67)","v":4960.2767255472136},{"$f":"[1]!AgePb6U8(A67/F67)","v":4660.868429132177},{"$f":"[1]!AgePb7U5(B67/E67)","v":4880.5430561576013},null,null,3056.2595640908808,null,null,null,5536]
[32.976999999999997,16.632999999999999,38.591999999999999,34.159999999999997,1.44,198.47,{"$f":"[1]!AgePb8Th2(C68/D68)","v":15280.465450475707},{"$f":"[1]!AgePb76(B68/A68)","v":4254.0662546062003},{"$f":"[1]!AgePb6U8(A68/F68)","v":990.89734360230955},{"$f":"[1]!AgePb7U5(B68/E68)","v":2568.6916771747906},null,null,null,null,null,null,5364]
[null,null,null,null,null,"Average",{"$f":"AVERAGE(G3:G68)","v":52321.522797148362},{"$f":"AVERAGE(H3:H68)","v":4856.4067371367855},{"$f":"AVERAGE(I3:I68)","v":11883.701367727266},{"$f":"AVERAGE(J3:J68)","v":5774.6690479085164},null,null,null,null,null,null,5248]
[null,null,null,null,null,"Maximim",{"$f":"MAX(G3:G69)","v":199319.5866655116},{"$f":"MAX(H3:H69)","v":6275.1354856211456},{"$f":"MAX(I3:I69)","v":48495.6445612077},{"$f":"MAX(J3:J69)","v":12149.859667409522},null,null,null,null,null,null,5239]
[null,null,null,null,null,"Minimum",{"$f":"MIN(G3:G70)","v":881.96314184950893},{"$f":"MIN(H3:H70)","v":3056.2595640908808},{"$f":"MIN(I3:I70)","v":173.50032679960293},{"$f":"MIN(J3:J70)","v":848.05304176918332},null,null,null,null,null,null,5141]
[null,null,null,null,null,null,null,null,null,null,null,null,null,null,null,null,5043]
[null,null,null,null,null,null,null,null,null,null,null,null,null,null,null,null,5040]
[null,null,null,null,null,null,"Age","Age","Age","Age",null,null,null,null,null,null,5040]
[null,null,null,null,null,"Statistics","208Pb/232Th","207Pb/206Pb","206Pb/238U","207Pb/235U",null,null,null,null,null,null,5040]
[null,null,null,null,null,"Average",52321.311291089565,4856.4067371367855,11883.701367727266,5774.6690479085164,null,null,null,null,null,null,5040]
[null,null,null,null,null,"Maximim",199318.78093016674,6275.1354856211456,48495.6445612077,12149.859667409522,null,null,null,null,null,null,5039]
[null,null,null,null,null,"Minimum",881.95957657582892,3056.2595640908808,173.50032679960293,848.05304176918332,null,null,null,null,null,null,5039]
[null,null,null,null,null,"Difference",{"$f":"(G77-G78)","v":198436.8213535909},{"$f":"(H77-H78)","v":3218.8759215302648},{"$f":"(I77-I78)","v":48322.144234408101},{"$f":"(J77-J78)","v":11301.80662564034},null,null,null,null,null,null,5038]
[null,null,null,null,null,null,null,null,null,null,null,null,null,null,null,null,5033]
[null,null,null,null,null,null,null,null,null,null,null,null,null,null,null,null,5033]
[null,null,null,null,null,null,null,null,null,null,null,null,null,null,null,null,5033]
[null,null,null,null,null,null,null,null,null,null,null,null,null,null,null,null,5027]
[null,null,null,null,null,null,null,null,null,null,null,null,null,null,null,null,5026]
[null,null,null,null,null,null,null,null,null,null,null,null,null,null,null,null,5024]
[null,null,null,null,null,null,null,null,null,null,null,null,null,null,null,null,5024]
[null,null,null,null,null,null,null,null,null,null,null,null,null,null,null,null,5023]
[null,null,null,null,null,null,null,null,null,null,null,null,null,null,null,null,5018]
[null,null,null,null,null,null,null,null,null,null,null,null,null,null,null,null,5018]
[null,null,null,null,null,null,null,null,null,null,null,null,null,null,null,null,5018]
[null,null,null,null,null,null,null,null,null,null,null,null,null,null,null,null,5016]
[null,null,null,null,null,null,null,null,null,null,null,null,null,null,null,null,5009]
[null,null,null,null,null,null,null,null,null,null,null,null,null,null,null,null,4996]
[null,null,null,null,null,null,null,null,null,null,null,null,null,null,null,null,4992]
[null,null,null,null,null,null,null,null,null,null,null,null,null,null,null,null,4986]
[null,null,null,null,null,null,null,null,null,null,null,null,null,null,null,null,4985]
[null,null,null,null,null,null,null,null,null,null,null,null,null,null,null,null,4984]
[null,null,null,null,null,null,null,null,null,null,null,null,null,null,null,null,4980]
[null,null,null,null,null,null,null,null,null,null,null,null,null,null,null,null,4972]
[null,null,null,null,null,null,null,null,null,null,null,null,null,null,null,null,4969]
[null,null,null,null,null,null,null,null,null,null,null,null,null,null,null,null,4969]
[null,null,null,null,null,null,null,null,null,null,null,null,null,null,null,null,4962]
[null,null,null,null,null,null,null,null,null,null,null,null,null,null,null,null,4960]
[null,null,null,null,null,null,null,null,null,null,null,null,null,null,null,null,4958]
[null,null,null,null,null,null,null,null,null,null,null,null,null,null,null,null,4950]
[null,null,null,null,null,null,null,null,null,null,null,null,null,null,null,null,4931]
[null,null,null,null,null,null,null,null,null,null,null,null,null,null,null,null,4910]
[null,null,null,null,null,null,null,null,null,null,null,null,null,null,null,null,4907]
[null,null,null,null,null,null,null,null,null,null,null,null,null,null,null,null,4905]
[null,null,null,null,null,null,null,null,null,null,null,null,null,null,null,null,4901]
[null,null,null,null,null,null,null,null,null,null,null,null,null,null,null,null,4891]
[null,null,null,null,null,null,null,null,null,null,null,null,null,null,null,null,4881]
[null,null,null,null,null,null,null,null,null,null,null,null,null,null,null,null,4879]
[null,null,null,null,null,null,null,null,null,null,null,null,null,null,null,null,4873]
[null,null,null,null,null,null,null,null,null,null,null,null,null,null,null,null,4868]
[null,null,null,null,null,null,null,null,null,null,null,null,null,null,null,null,4844]
[null,null,null,null,null,null,null,null,null,null,null,null,null,null,null,null,4841]
[null,null,null,null,null,null,null,null,null,null,null,null,null,null,null,null,4836]
[null,null,null,null,null,null,null,null,null,null,null,null,null,null,null,null,4824]
[null,null,null,null,null,null,null,null,null,null,null,null,null,null,null,null,4818]

{"sheet":"232_Th_07","index":6,"n_rows":150,"n_cols":12,"rows_kept":150,"cut":false,"hidden":false,"merged":[]}
[null,"Table 4",null,null,null,null,null,"Age",null,null,"Age","Age Ratio"]
["Sample","87Rb/86Sr","87Sr/86Sr","(87Sr/86Sr)i","147Sm/144Nd","143Nd/144Nd","(143Nd/144Nd)i","207Pb/206Pb","206Pb/204Pb","207Pb/204Pb","87Rb/86Sr","207Pb/87Rb"]
["05MZL01",0.40570000000000001,0.70600814000000001,0.70508499999999996,9.6100000000000005E-2,0.51260112000000002,0.51250099999999998,{"$f":"[2]!AgePb76(J3/I3)","v":4999.7098718895113},18.512499999999999,15.6449,160.07877933924763,{"$f":"(H3/K3)","v":31.23280857416994}]
["05MZL02",0.4163,0.70602514999999999,0.70507799999999998,9.5299999999999996E-2,0.51258815000000002,0.51248800000000005,{"$f":"[2]!AgePb76(J4/I4)","v":5000.5045323084414},18.526499999999999,15.6655,160.06029459776565,{"$f":"(H4/K4)","v":31.241380286565121}]
["05MZL06",0.25669999999999998,0.70604911999999997,0.70546500000000001,0.10150000000000001,0.51256513000000004,0.512459,{"$f":"[2]!AgePb76(J5/I5)","v":4994.9253135550271},18.566099999999999,15.6374,160.08380357364607,31.201940496479562]
["05MZL08",0.31119999999999998,0.70618623000000003,0.70547800000000005,0.11219999999999999,0.51253512000000001,0.51241700000000001,{"$f":"[2]!AgePb76(J6/I6)","v":4987.8822090891454},18.5718,15.5648,160.10535247348386,31.153750527579785]
["05MZL09",0.29649999999999999,0.70619114000000005,0.70551600000000003,0.11310000000000001,0.51252313000000005,0.512405,{"$f":"[2]!AgePb76(J7/I7)","v":4988.3513978679302},18.5764,15.5738,160.19169458742331,31.139887812008745]
["05MZL11",0.29670000000000002,0.70623415,0.70555900000000005,0.11260000000000001,0.51254412000000005,0.51242699999999997,{"$f":"[2]!AgePb76(J8/I8)","v":4989.605426364792},18.580500000000001,15.590999999999999,160.08620337147215,31.168241367975092]
["05MZL13",9.5749999999999993,0.73567011999999998,0.71457199999999998,0.1192,0.51251115000000003,0.51239000000000001,{"$f":"[2]!AgePb76(J9/I9)","v":4986.912499986769},18.796900000000001,15.742699999999999,155.02144323913544,32.169178636106352]
["05MZL14",18.196999999999999,0.75143512000000001,0.71133900000000005,0.11609999999999999,0.51251513999999998,0.51239800000000002,{"$f":"[2]!AgePb76(J10/I10)","v":4990.1861399516984},18.6632,15.6668,155.02057983525199,32.190475259833342]
["05MZL19",0.23300000000000001,0.70597913999999995,0.70548500000000003,0.1043,0.51255914000000002,0.51245799999999997,{"$f":"[2]!AgePb76(J11/I11)","v":4990.8676213045692},18.562799999999999,15.59,149.21030325921686,33.44854552459519]
["05MZL20",0.23730000000000001,0.70596413999999996,0.705461,0.1021,0.51255613,0.51245600000000002,{"$f":"[2]!AgePb76(J12/I12)","v":4989.4207303585572},18.6325,15.6326,149.1749632009861,33.446770311156179]
["05MZL22",0.21440000000000001,0.70626814000000004,0.70581400000000005,0.10299999999999999,0.51254113000000001,0.51244100000000004,{"$f":"[2]!AgePb76(J13/I13)","v":4993.712062309085},18.510200000000001,15.577,149.02881820180588,33.508365177712811]
["05TH03",1.2962,0.70789511999999999,0.70550000000000002,0.105,0.51250512000000004,0.51241599999999998,{"$f":"[2]!AgePb76(J14/I14)","v":4988.6295188125887},18.659700000000001,15.646699999999999,130.02269408816309,38.367375432399534]
["05TH05",0.2384,0.70594714000000003,0.70550599999999997,0.11840000000000001,0.51250311999999998,0.51240200000000002,{"$f":"[2]!AgePb76(J15/I15)","v":4994.7359673416868},18.462299999999999,15.5479,130.20675644632567,38.360036788111195]
["05TH12",0.3458,0.70674711999999995,0.70610799999999996,0.1074,0.51256718000000001,0.51247600000000004,{"$f":"[2]!AgePb76(J16/I16)","v":4988.7341867785672},18.538599999999999,15.5463,130.05325469258898,38.359164471282149]
["05TH14",0.26290000000000002,0.70619109999999996,0.70570500000000003,0.1081,0.51249414999999998,0.51240200000000002,{"$f":"[2]!AgePb76(J17/I17)","v":4987.5363101609673},18.547799999999999,15.540900000000001,130.10640504410833,38.334287297155782]
["05TH16",0.2175,0.70636810000000005,0.70596599999999998,0.1099,0.51252012000000002,0.51242699999999997,{"$f":"[2]!AgePb76(J18/I18)","v":4986.0351699008897},18.580200000000001,15.551600000000001,130.08838122796419,38.328059145908384]
["05TH17",0.16600000000000001,0.70629713999999999,0.70599000000000001,0.11070000000000001,0.51249312000000002,0.51239900000000005,{"$f":"[2]!AgePb76(J19/I19)","v":4988.5064677761884},18.579499999999999,15.578099999999999,130.19420775768822,38.315886349265085]
["05TH21",9.69E-2,0.70700213000000001,0.70682299999999998,6.7299999999999999E-2,0.51254913000000002,0.51249199999999995,{"$f":"[2]!AgePb76(J20/I20)","v":5247.8675126737207},15.4697,15.585699999999999,130.07932495497337,40.343594299019131]
["05TH23",0.1123,0.70595209999999997,0.70574400000000004,0.1241,0.51252613999999996,0.51242100000000002,{"$f":"[2]!AgePb76(J21/I21)","v":4998.785533746398},18.435400000000001,15.569599999999999,130.39324140448724,38.336231846862994]
["05TH25",6.6199999999999995E-2,0.70583609999999997,0.70571399999999995,0.11020000000000001,0.51253711000000002,0.51244299999999998,{"$f":"[2]!AgePb76(J22/I22)","v":4992.4595862987435},18.515000000000001,15.567299999999999,129.784345070846,38.467348150298754]
["05GH11",3.9615999999999998,0.71433212000000001,0.70740700000000001,0.1074,0.51263612000000003,0.51254999999999995,{"$f":"[2]!AgePb76(J23/I23)","v":4984.6246992795941},18.6874,15.6258,123.01050643109583,40.521942750245685]
["05GH13",61.802,0.84732012000000001,0.73928099999999997,0.1045,0.51263413000000002,0.51254999999999995,{"$f":"[2]!AgePb76(J24/I24)","v":4979.9892933004412},18.632100000000001,15.5288,123.01668381936163,40.482226789766862]
["05GH14",75.835999999999999,0.86386213000000001,0.73129,0.10440000000000001,0.51261513000000003,0.51253099999999996,{"$f":"[2]!AgePb76(J25/I25)","v":4976.741107382014},18.6798,15.532999999999999,123.01620488756487,40.455979859976068]
["GH04-1",0.1192,0.70477539,0.70456600000000003,0.1203,0.51276213000000004,0.51266500000000004,{"$f":"[2]!AgePb76(J26/I26)","v":4998.7674969454793},18.3415,15.4901,123.61277333796751,40.43892359957362]
["GH04-2",0.08,0.70537413999999998,0.70523400000000003,9.9900000000000003E-2,0.51263811999999997,0.51255799999999996,{"$f":"[2]!AgePb76(J27/I27)","v":4997.0383926117165},18.360299999999999,15.4871,123.26984573670477,40.537394711152793]
["GH04-3",0.95599999999999996,0.70687911000000003,0.70520700000000003,0.15790000000000001,0.51266312000000003,0.51253599999999999,{"$f":"[2]!AgePb76(J28/I28)","v":4993.1840363775627},18.435300000000002,15.5082,123.08135239155453,40.568160321255782]
["GH04-4",0.20130000000000001,0.70548111999999996,0.70512900000000001,0.1191,0.51267711000000005,0.51258099999999995,{"$f":"[2]!AgePb76(J29/I29)","v":4995.2733549650902},18.381599999999999,15.485799999999999,123.09266971015862,40.581403967655106]
["ERBY04-1",0.23880000000000001,0.70539012000000001,0.70491499999999996,0.1075,0.51265612999999999,0.51255799999999996,{"$f":"[2]!AgePb76(J30/I30)","v":4996.8302050452694},18.370699999999999,15.493600000000001,139.99165403256958,35.693772172180623]
["ERBY04-2",0.25679999999999997,0.70544311999999998,0.704932,8.9599999999999999E-2,0.51264712999999995,0.51256500000000005,{"$f":"[2]!AgePb76(J31/I31)","v":4995.4869867194811},18.394500000000001,15.499000000000001,140.04282178050414,35.671139178765969]
["ERBY04-3",0.3241,0.70552110000000001,0.70487599999999995," "," "," ",{"$f":"[2]!AgePb76(J32/I32)","v":4997.5559212802546},18.350999999999999,15.4849,140.04931470878734,35.684258303383793]
["ERBY04-4",0.36349999999999999,0.70573280000000005,0.70500799999999997,8.6599999999999996E-2,0.51264712000000001,0.51256800000000002,{"$f":"[2]!AgePb76(J33/I33)","v":4997.5424241887313},18.357099999999999,15.4899,140.2962249048968,35.62136064299974]
[null,null,null,null,null,null,"Average",{"$f":"AVERAGE(H3:H33)","v":4999.9484508571268},null,null,{"$f":"AVERAGE(K3:K33)","v":139.07970639057243}]
[null,null,null,null,null,null,"Maximim",{"$f":"MAX(H3:H34)","v":5247.8675126737207},null,null,{"$f":"MAX(K3:K34)","v":160.19169458742331}]
[null,null,null,"Age","Age",null,"Minimum",{"$f":"MIN(H3:H35)","v":4976.741107382014},null,null,{"$f":"MIN(K3:K35)","v":123.01050643109583}]
[null,null,"Statistics","207Pb/206Pb","87Rb/86Sr"]
[null,null,"Average",4999.9484508571268,139.07970639057243]
[null,null,"Maximim",5247.8675126737207,160.19169458742331]
[null,null,"Minimum",4976.741107382014,123.01050643109583]
[null,null,"Difference",{"$f":"(D39-D40)","v":271.12640529170676},{"$f":"(E39-E40)","v":37.18118815632748}]
[]
[]
["Rubidium","Table 4",null,null,null,null,null,null,null,null,"Iso_Plot_018.pdf"]
["Strontium","Initial","Today","Today","The Ratio","Half","Decay","2.303/Delta","Age","Age","Age"]
["Dating","87Sr/86Sr","87Sr/86Sr","87Rb/86Sr","Plus One","Life","Constant","Constant","Years","Million Years","Billion Years"]
[null,0.70508499999999996,0.70600814000000001,0.40570000000000001,{"$f":"1+((C47-B47)/D47)","v":1.002275425191028},48800000000,{"$f":"(0.693/F47)","v":1.4200819672131146E-11},{"$f":"(2.303/G47)","v":162173737373.7374},{"$f":"(LOG(E47))*(H47)","v":160078779.33924764},{"$f":"(I47/1000000)","v":160.07877933924763}]
[null,0.70507799999999998,0.70602514999999999,0.4163,1.0022751621426855,48800000000,1.4200819672131146E-11,162173737373.7374,160060294.59776565,160.06029459776565]
[null,0.70546500000000001,0.70604911999999997,0.25669999999999998,1.0022754966887415,48800000000,1.4200819672131146E-11,162173737373.7374,160083803.57364607,160.08380357364607]
[null,0.70547800000000005,0.70618623000000003,0.31119999999999998,{"$f":"1+((C50-B50)/D50)","v":1.0022758033419021},48800000000,{"$f":"(0.693/F50)","v":1.4200819672131146E-11},{"$f":"(2.303/G50)","v":162173737373.7374},{"$f":"(LOG(E50))*(H50)","v":160105352.47348386},{"$f":"(I50/1000000)","v":160.10535247348386}]
[null,0.70551600000000003,0.70619114000000005,0.29649999999999999,1.0022770320404721,48800000000,1.4200819672131146E-11,162173737373.7374,160191694.58742332,160.19169458742331]
[null,0.70555900000000005,0.70623415,0.29670000000000002,1.0022755308392315,48800000000,1.4200819672131146E-11,162173737373.7374,160086203.37147215,160.08620337147215]
[null,0.71457199999999998,0.73567011999999998,9.5749999999999993,1.0022034590078328,48800000000,1.4200819672131146E-11,162173737373.7374,155021443.23913544,155.02144323913544]
[null,0.71133900000000005,0.75143512000000001,18.196999999999999,1.0022034467219871,48800000000,1.4200819672131146E-11,162173737373.7374,155020579.83525199,155.02057983525199]
[null,0.70548500000000003,0.70597913999999995,0.23300000000000001,1.0021207725321886,48800000000,1.4200819672131146E-11,162173737373.7374,149210303.25921685,149.21030325921686]
[null,0.705461,0.70596413999999996,0.23730000000000001,1.0021202697008005,48800000000,1.4200819672131146E-11,162173737373.7374,149174963.20098609,149.1749632009861]
[null,0.70581400000000005,0.70626814000000004,0.21440000000000001,1.0021181902985075,48800000000,1.4200819672131146E-11,162173737373.7374,149028818.20180589,149.02881820180588]
[null,0.70550000000000002,0.70789511999999999,1.2962,1.0018478012652368,48800000000,1.4200819672131146E-11,162173737373.7374,130022694.08816309,130.02269408816309]
[null,0.70550599999999997,0.70594714000000003,0.2384,1.0018504194630875,48800000000,1.4200819672131146E-11,162173737373.7374,130206756.44632566,130.20675644632567]
[null,0.70610799999999996,0.70674711999999995,0.3458,1.0018482359745517,48800000000,1.4200819672131146E-11,162173737373.7374,130053254.69258898,130.05325469258898]
[null,0.70570500000000003,0.70619109999999996,0.26290000000000002,1.0018489920121716,48800000000,1.4200819672131146E-11,162173737373.7374,130106405.04410832,130.10640504410833]
[null,0.70596599999999998,0.70636810000000005,0.2175,1.0018487356321841,48800000000,1.4200819672131146E-11,162173737373.7374,130088381.22796419,130.08838122796419]
[null,0.70599000000000001,0.70629713999999999,0.16600000000000001,1.0018502409638552,48800000000,1.4200819672131146E-11,162173737373.7374,130194207.75768821,130.19420775768822]
[null,0.70682299999999998,0.70700213000000001,9.69E-2,1.0018486068111458,48800000000,1.4200819672131146E-11,162173737373.7374,130079324.95497338,130.07932495497337]
[null,0.70574400000000004,0.70595209999999997,0.1123,1.0018530721282273,48800000000,1.4200819672131146E-11,162173737373.7374,130393241.40448725,130.39324140448724]
[null,0.70571399999999995,0.70583609999999997,6.6199999999999995E-2,1.0018444108761331,48800000000,1.4200819672131146E-11,162173737373.7374,129784345.07084599,129.784345070846]
[null,0.70740700000000001,0.71433212000000001,3.9615999999999998,1.0017480613893377,48800000000,1.4200819672131146E-11,162173737373.7374,123010506.43109584,123.01050643109583]
[null,0.73928099999999997,0.84732012000000001,61.802,1.0017481492508333,48800000000,1.4200819672131146E-11,162173737373.7374,123016683.81936163,123.01668381936163]
[null,0.73129,0.86386213000000001,75.835999999999999,1.0017481424389472,48800000000,1.4200819672131146E-11,162173737373.7374,123016204.88756487,123.01620488756487]
[null,0.70456600000000003,0.70477539,0.1192,1.0017566275167784,48800000000,1.4200819672131146E-11,162173737373.7374,123612773.33796751,123.61277333796751]
[null,0.70523400000000003,0.70537413999999998,0.08,1.0017517499999995,48800000000,1.4200819672131146E-11,162173737373.7374,123269845.73670477,123.26984573670477]
[null,0.70520700000000003,0.70687911000000003,0.95599999999999996,1.0017490690376569,48800000000,1.4200819672131146E-11,162173737373.7374,123081352.39155453,123.08135239155453]
[null,0.70512900000000001,0.70548111999999996,0.20130000000000001,1.0017492300049675,48800000000,1.4200819672131146E-11,162173737373.7374,123092669.71015862,123.09266971015862]
[null,0.70491499999999996,0.70539012000000001,0.23880000000000001,1.0019896147403686,48800000000,1.4200819672131146E-11,162173737373.7374,139991654.03256959,139.99165403256958]
[null,0.704932,0.70544311999999998,0.25679999999999997,1.0019903426791277,48800000000,1.4200819672131146E-11,162173737373.7374,140042821.78050414,140.04282178050414]
[null,0.70487599999999995,0.70552110000000001,0.3241,1.0019904350509103,48800000000,1.4200819672131146E-11,162173737373.7374,140049314.70878732,140.04931470878734]
[null,0.70500799999999997,0.70573280000000005,0.36349999999999999,1.0019939477303992,48800000000,1.4200819672131146E-11,162173737373.7374,140296224.9048968,140.2962249048968]
[]
[]
[]
["Neodymium","Table 4",null,null,null,null,null,null,null,null,"Rubidium_010.pdf"]
["Samarium","Initial","Today","Today","The Ratio","Half","Decay","2.303/Delta","Age","Age","Age"]
["Dating","143Nd/144Nd","143Nd/144Nd","147Sm/144Nd","Plus One","Life","Constant","Constant","Years","Million Years","Billion Years"]
[null,0.51250099999999998,0.51260112000000002,9.6100000000000005E-2,{"$f":"1+((C84-B84)/D84)","v":1.0010418314255987},106000000000,{"$f":"(0.693/F84)","v":6.5377358490566029E-12},{"$f":"(2.303/G84)","v":352262626262.62628},{"$f":"(LOG(E84))*(H84)","v":159302356.61244395},{"$f":"(I84/1000000)","v":159.30235661244396},{"$f":"(J84/1000)","v":0.15930235661244396}]
[null,0.51248800000000005,0.51258815000000002,9.5299999999999996E-2,{"$f":"1+((C85-B85)/D85)","v":1.0010508919202514},106000000000,6.5377358490566029E-12,{"$f":"(2.303/G85)","v":352262626262.62628},{"$f":"(LOG(E85))*(H85)","v":160687033.98970926},{"$f":"(I85/1000000)","v":160.68703398970925},{"$f":"(J85/1000)","v":0.16068703398970924}]
[null,0.512459,0.51256513000000004,0.10150000000000001,1.0010456157635472,106000000000,6.5377358490566029E-12,352262626262.62628,159880702.62504503,159.88070262504502,0.15988070262504503]
[null,0.51241700000000001,0.51253512000000001,0.11219999999999999,1.0010527629233512,106000000000,6.5377358490566029E-12,352262626262.62628,160972969.98094401,160.97296998094401,0.16097296998094401]
[null,0.512405,0.51252313000000005,0.11310000000000001,{"$f":"1+((C88-B88)/D88)","v":1.0010444739168882},106000000000,{"$f":"(0.693/F88)","v":6.5377358490566029E-12},{"$f":"(2.303/G88)","v":352262626262.62628},{"$f":"(LOG(E88))*(H88)","v":159706198.76212513},{"$f":"(I88/1000000)","v":159.70619876212513},{"$f":"(J88/1000)","v":0.15970619876212513}]
[null,0.51242699999999997,0.51254412000000005,0.11260000000000001,1.0010401420959154,106000000000,6.5377358490566029E-12,352262626262.62628,159044182.05966654,159.04418205966655,0.15904418205966656]
[null,0.51239000000000001,0.51251115000000003,0.1192,1.0010163590604029,106000000000,6.5377358490566029E-12,352262626262.62628,155409454.78271434,155.40945478271433,0.15540945478271434]
[null,0.51239800000000002,0.51251513999999998,0.11609999999999999,1.0010089577950039,106000000000,6.5377358490566029E-12,352262626262.62628,154278312.36636689,154.27831236636689,0.15427831236636688]
[null,0.51245799999999997,0.51255914000000002,0.1043,1.0009697027804416,106000000000,6.5377358490566029E-12,352262626262.62628,148278791.41240853,148.27879141240854,0.14827879141240854]
[null,0.51245600000000002,0.51255613,0.1021,1.0009807051909889,106000000000,6.5377358490566029E-12,352262626262.62628,149960363.17867118,149.96036317867117,0.14996036317867117]
[null,0.51244100000000004,0.51254113000000001,0.10299999999999999,1.0009721359223298,106000000000,6.5377358490566029E-12,352262626262.62628,148650666.30277494,148.65066630277494,0.14865066630277493]
[null,0.51241599999999998,0.51250512000000004,0.105,1.0008487619047624,106000000000,6.5377358490566029E-12,352262626262.62628,129793372.62023804,129.79337262023805,0.12979337262023805]
[null,0.51240200000000002,0.51250311999999998,0.11840000000000001,1.0008540540540536,106000000000,6.5377358490566029E-12,352262626262.62628,130602307.12891576,130.60230712891575,0.13060230712891577]
[null,0.51247600000000004,0.51256718000000001,0.1074,1.0008489757914336,106000000000,6.5377358490566029E-12,352262626262.62628,129826066.47272736,129.82606647272735,0.12982606647272735]
[null,0.51240200000000002,0.51249414999999998,0.1081,1.000852451433857,106000000000,6.5377358490566029E-12,352262626262.62628,130357338.15309787,130.35733815309786,0.13035733815309786]
[null,0.51242699999999997,0.51252012000000002,0.1099,1.0008473157415838,106000000000,6.5377358490566029E-12,352262626262.62628,129572317.77578969,129.57231777578968,0.12957231777578967]
[null,0.51239900000000005,0.51249312000000002,0.11070000000000001,1.0008502258355914,106000000000,6.5377358490566029E-12,352262626262.62628,130017143.03288829,130.0171430328883,0.1300171430328883]
[null,0.51249199999999995,0.51254913000000002,6.7299999999999999E-2,1.0008488855869253,106000000000,6.5377358490566029E-12,352262626262.62628,129812278.17685632,129.81227817685632,0.12981227817685631]
[null,0.51242100000000002,0.51252613999999996,0.1241,1.0008472199838836,106000000000,6.5377358490566029E-12,352262626262.62628,129557680.61717221,129.55768061717222,0.12955768061717221]
[null,0.51244299999999998,0.51253711000000002,0.11020000000000001,1.0008539927404723,106000000000,6.5377358490566029E-12,352262626262.62628,130592935.03084315,130.59293503084317,0.13059293503084315]
[null,0.51254999999999995,0.51263612000000003,0.1074,1.0008018621973938,106000000000,6.5377358490566029E-12,352262626262.62628,122624304.08345392,122.62430408345392,0.12262430408345393]
[null,0.51254999999999995,0.51263413000000002,0.1045,1.0008050717703356,106000000000,6.5377358490566029E-12,352262626262.62628,123114928.69338553,123.11492869338552,0.12311492869338553]
[null,0.51253099999999996,0.51261513000000003,0.10440000000000001,1.000805842911878,106000000000,6.5377358490566029E-12,352262626262.62628,123232807.38717645,123.23280738717645,0.12323280738717644]
[null,0.51266500000000004,0.51276213000000004,0.1203,1.0008073981712386,106000000000,6.5377358490566029E-12,352262626262.62628,123470548.08557911,123.47054808557911,0.12347054808557911]
[null,0.51255799999999996,0.51263811999999997,9.9900000000000003E-2,1.0008020020020021,106000000000,6.5377358490566029E-12,352262626262.62628,122645675.05332091,122.64567505332091,0.12264567505332091]
[null,0.51253599999999999,0.51266312000000003,0.15790000000000001,1.0008050664977837,106000000000,6.5377358490566029E-12,352262626262.62628,123114122.71712333,123.11412271712332,0.12311412271712333]
[null,0.51258099999999995,0.51267711000000005,0.1191,1.00080696893367,106000000000,6.5377358490566029E-12,352262626262.62628,123404933.8320884,123.40493383208839,0.12340493383208839]
[null,0.51255799999999996,0.51265612999999999,0.1075,1.0009128372093026,106000000000,6.5377358490566029E-12,352262626262.62628,139587352.35454839,139.58735235454839,0.13958735235454839]
[null,0.51256500000000005,0.51264712999999995,8.9599999999999999E-2,1.0009166294642846,106000000000,6.5377358490566029E-12,352262626262.62628,140166982.9860917,140.16698298609171,0.1401669829860917]
[null,0.51256800000000002,0.51264712000000001,8.6599999999999996E-2,1.0009136258660507,106000000000,6.5377358490566029E-12,352262626262.62628,139707895.48707628,139.70789548707629,0.13970789548707629]
[]
[]
[]
[]
["Table 4"]
["Sample","206Pb/204Pb","207Pb/204Pb","Age"]
["05MZL01",18.512499999999999,15.6449,{"$f":"[1]!AgePb76(C120/B120)","v":4999.7098718895113}]
["05MZL02",18.526499999999999,15.6655,{"$f":"[1]!AgePb76(C121/B121)","v":5000.5045323084414}]
["05MZL06",18.566099999999999,15.6374,{"$f":"[1]!AgePb76(C122/B122)","v":4994.9253135550271}]
["05MZL08",18.5718,15.5648,{"$f":"[1]!AgePb76(C123/B123)","v":4987.8822090891454}]
["05MZL09",18.5764,15.5738,{"$f":"[1]!AgePb76(C124/B124)","v":4988.3513978679302}]
["05MZL11",18.580500000000001,15.590999999999999,{"$f":"[1]!AgePb76(C125/B125)","v":4989.605426364792}]
["05MZL13",18.796900000000001,15.742699999999999,{"$f":"[1]!AgePb76(C126/B126)","v":4986.912499986769}]
["05MZL14",18.6632,15.6668,{"$f":"[1]!AgePb76(C127/B127)","v":4990.1861399516984}]
["05MZL19",18.562799999999999,15.59,{"$f":"[1]!AgePb76(C128/B128)","v":4990.8676213045692}]
["05MZL20",18.6325,15.6326,{"$f":"[1]!AgePb76(C129/B129)","v":4989.4207303585572}]
["05MZL22",18.510200000000001,15.577,{"$f":"[1]!AgePb76(C130/B130)","v":4993.712062309085}]
["05TH03",18.659700000000001,15.646699999999999,{"$f":"[1]!AgePb76(C131/B131)","v":4988.6295188125887}]
["05TH05",18.462299999999999,15.5479,{"$f":"[1]!AgePb76(C132/B132)","v":4994.7359673416868}]
["05TH12",18.538599999999999,15.5463,{"$f":"[1]!AgePb76(C133/B133)","v":4988.7341867785672}]
["05TH14",18.547799999999999,15.540900000000001,{"$f":"[1]!AgePb76(C134/B134)","v":4987.5363101609673}]
["05TH16",18.580200000000001,15.551600000000001,{"$f":"[1]!AgePb76(C135/B135)","v":4986.0351699008897}]
["05TH17",18.579499999999999,15.578099999999999,{"$f":"[1]!AgePb76(C136/B136)","v":4988.5064677761884}]
["05TH21",15.4697,15.585699999999999,{"$f":"[1]!AgePb76(C137/B137)","v":5247.8675126737207}]
["05TH23",18.435400000000001,15.569599999999999,{"$f":"[1]!AgePb76(C138/B138)","v":4998.785533746398}]
["05TH25",18.515000000000001,15.567299999999999,{"$f":"[1]!AgePb76(C139/B139)","v":4992.4595862987435}]
["05GH11",18.6874,15.6258,{"$f":"[1]!AgePb76(C140/B140)","v":4984.6246992795941}]
["05GH13",18.632100000000001,15.5288,{"$f":"[1]!AgePb76(C141/B141)","v":4979.9892933004412}]
["05GH14",18.6798,15.532999999999999,{"$f":"[1]!AgePb76(C142/B142)","v":4976.741107382014}]
["GH04-1",18.3415,15.4901,{"$f":"[1]!AgePb76(C143/B143)","v":4998.7674969454793}]
["GH04-2",18.360299999999999,15.4871,{"$f":"[1]!AgePb76(C144/B144)","v":4997.0383926117165}]
["GH04-3",18.435300000000002,15.5082,{"$f":"[1]!AgePb76(C145/B145)","v":4993.1840363775627}]
["GH04-4",18.381599999999999,15.485799999999999,{"$f":"[1]!AgePb76(C146/B146)","v":4995.2733549650902}]
["ER04-1",18.370699999999999,15.493600000000001,{"$f":"[1]!AgePb76(C147/B147)","v":4996.8302050452694}]
["ER04-2",18.394500000000001,15.499000000000001,{"$f":"[1]!AgePb76(C148/B148)","v":4995.4869867194811}]
["ER04-3",null,null,"."]
["ER04-4",18.357099999999999,15.4899,{"$f":"[1]!AgePb76(C150/B150)","v":4997.5424241887313}]

{"sheet":"232_Th_08","index":7,"n_rows":286,"n_cols":17,"rows_kept":286,"cut":false,"hidden":false,"merged":[]}
["Table 1",null,null,null,"Age",null,null,null,"Age",null,"Age",null,"Age",null,"Age","Age"]
["Sample","Pb 204/206","Pb 204/206","Pb 207/206","Pb 207/206","Pb 208/206","232Th/238U","207Pb/235U","207Pb/235U","206Pb/238U","206Pb/238U","Pb207/U235","207Pb/235U","Pb206/U238","Pb206/U238","Pb208/232Th","Pb208/U238"]
["RBT33A.13",2.9499999999999998E-2,2.5899999999999999E-2,0.4,{"$f":"[2]!AgePb76(D3)","v":3909.0784195164515},1.01,2.75E-2,3.68,{"$f":"[2]!AgePb7U5(H3)","v":1567.0387469457839},6.6799999999999998E-2,{"$f":"[2]!AgePb6U8(J3)","v":416.84778936807174},".",null,3.44E-2,{"$f":"[2]!AgePb6U8(N3)","v":218.02770975349338},{"$f":"[2]!AgePb8Th2(Q3/G3)","v":127165.73608535781},{"$f":"(1/F3)/J3","v":14.821841465583685}]
["RBT33A.46",1.9699999999999999E-2,1.3100000000000001E-2,0.27600000000000002,{"$f":"[2]!AgePb76(D4)","v":3340.4456648595719},0.51400000000000001,4.1099999999999998E-2,2.0499999999999998,{"$f":"[2]!AgePb7U5(H4)","v":1132.2958730967359},5.3800000000000001E-2,{"$f":"[2]!AgePb6U8(J4)","v":337.80937175212523},0.53700000000000003,{"$f":"[2]!AgePb7U5(L4)","v":436.44460025025001},4.0599999999999997E-2,{"$f":"[2]!AgePb6U8(N4)","v":256.55097420832271},{"$f":"[2]!AgePb8Th2(Q4/G4)","v":137057.03656313851},{"$f":"(1/F4)/J4","v":36.162180145516615}]
["RBT33.031",5.6000000000000001E-2,5.0900000000000001E-2,0.77600000000000002,{"$f":"[2]!AgePb76(D5)","v":4878.3124834238133},1.97,0.108,67,{"$f":"[2]!AgePb7U5(H5)","v":4284.4166169224827},0.627,{"$f":"[2]!AgePb6U8(J5)","v":3137.7136389163629},".",null,".",null,{"$f":"[2]!AgePb8Th2(Q5/G5)","v":43246.521900092048},0.80959204656773442]
["RBT33.028",1.9800000000000002E-2,3.5799999999999998E-2,0.438,{"$f":"[2]!AgePb76(D6)","v":4044.9563262918105},1.46,0.748,5.95,{"$f":"[2]!AgePb7U5(H6)","v":1968.5654257772258},9.8500000000000004E-2,{"$f":"[2]!AgePb6U8(J6)","v":605.61233097519994},".",null,3.2500000000000001E-2,{"$f":"[2]!AgePb6U8(N6)","v":206.17596037421916},{"$f":"[2]!AgePb8Th2(Q6/G6)","v":47130.528834837569},6.9536193588762947]
["RBT33.027",5.57E-2,5.3400000000000003E-2,0.80800000000000005,{"$f":"[2]!AgePb76(D7)","v":4935.9037836460539},2.06,5.0700000000000002E-2,28,{"$f":"[2]!AgePb7U5(H7)","v":3419.0951210706953},0.251,{"$f":"[2]!AgePb6U8(J7)","v":1443.6308234312587},2.69,{"$f":"[2]!AgePb7U5(L7)","v":1325.7109793901973},3.15E-2,{"$f":"[2]!AgePb6U8(N7)","v":199.92943451519449},{"$f":"[2]!AgePb8Th2(Q7/G7)","v":74124.3647371017},1.9340115267086992]
["RBT33.023",2.75E-2,1.9599999999999999E-2,0.35499999999999998,{"$f":"[2]!AgePb76(D8)","v":3728.5925159224898},0.76,2.41E-2,2.2200000000000002,{"$f":"[2]!AgePb7U5(H8)","v":1187.3700152879292},4.5499999999999999E-2,{"$f":"[2]!AgePb6U8(J8)","v":286.8347454411043},0.307,{"$f":"[2]!AgePb7U5(L8)","v":271.85300770887432},2.8799999999999999E-2,{"$f":"[2]!AgePb6U8(N8)","v":183.03351813839052},{"$f":"[2]!AgePb8Th2(Q8/G8)","v":143322.00643043732},28.918449971081554]
["RBT33.026",4.9299999999999997E-2,7.7400000000000004E-3,0.184,{"$f":"[2]!AgePb76(D9)","v":2689.2584405808457},0.30599999999999999,2.4199999999999999E-2,0.95499999999999996,{"$f":"[2]!AgePb7U5(H9)","v":680.7028414858396},3.7600000000000001E-2,{"$f":"[2]!AgePb6U8(J9)","v":237.93942962189948},0.32800000000000001,{"$f":"[2]!AgePb7U5(L9)","v":288.03782408919341},3.2099999999999997E-2,{"$f":"[2]!AgePb6U8(N9)","v":203.6780763239361},{"$f":"[2]!AgePb8Th2(Q9/G9)","v":165469.47848811653},86.914198303434844]
["RBT33.020",6.5199999999999994E-2,1.5299999999999999E-2,0.26500000000000001,{"$f":"[2]!AgePb76(D10)","v":3276.6793246493676},0.59399999999999997,2.1299999999999999E-2,1.7,{"$f":"[2]!AgePb7U5(H10)","v":1008.5310179319525},4.6399999999999997E-2,{"$f":"[2]!AgePb6U8(J10)","v":292.38163881255247},0.17199999999999999,{"$f":"[2]!AgePb7U5(L10)","v":161.15316155233873},3.32E-2,{"$f":"[2]!AgePb6U8(N10)","v":210.54492982786965},{"$f":"[2]!AgePb8Th2(Q10/G10)","v":150398.52199014949},36.282363868570769]
["RBT33.019",3.0300000000000001E-2,2.63E-2,0.42,{"$f":"[2]!AgePb76(D11)","v":3982.2686074654957},1.03,6.6199999999999995E-2,5.37,{"$f":"[2]!AgePb7U5(H11)","v":1880.0827228350227},9.2899999999999996E-2,{"$f":"[2]!AgePb6U8(J11)","v":572.66535826263168},".",null,4.7199999999999999E-2,{"$f":"[2]!AgePb6U8(N11)","v":297.30820701726373},{"$f":"[2]!AgePb8Th2(Q11/G11)","v":102436.82966892052},10.450740434959817]
["RBT33.025",6.8000000000000005E-2,4.3900000000000002E-2,0.626,{"$f":"[2]!AgePb76(D12)","v":4569.5366462854454},1.7,6.7799999999999999E-2,12.6,{"$f":"[2]!AgePb7U5(H12)","v":2650.2206353678289},0.14599999999999999,{"$f":"[2]!AgePb6U8(J12)","v":878.50197126541673},".",null,".",null,{"$f":"[2]!AgePb8Th2(Q12/G12)","v":82898.462431440232},4.0290088638195005]
["RBT33.018",6.0499999999999998E-2,5.7500000000000002E-2,0.91500000000000004,{"$f":"[2]!AgePb76(D13)","v":5112.2286977155709},2.2200000000000002,0.106,84.5,{"$f":"[2]!AgePb7U5(H13)","v":4516.948140267772},0.67,{"$f":"[2]!AgePb6U8(J13)","v":3305.8734983314343},10.9,{"$f":"[2]!AgePb7U5(L13)","v":2514.6351222191033},".",null,{"$f":"[2]!AgePb8Th2(Q13/G13)","v":40296.939519221844},0.67231410514992596]
[null,null,null,"Average",{"$f":"AVERAGE(E3:E13)","v":4042.478264577901},null,null,"Average",{"$f":"AVERAGE(I3:I13)","v":2208.6606506353883},"Average",{"$f":"AVERAGE(K3:K13)","v":1046.8918723798233},"Average",{"$f":"AVERAGE(M3:M13)","v":832.9724492016594},"Average",{"$f":"AVERAGE(O3:O13)","v":221.9061012698362},{"$f":"AVERAGE(P3:P13)","v":101231.49333171033}]
[null,null,null,"Maximim",{"$f":"MAX(E3:E14)","v":5112.2286977155709},null,null,"Maximim",{"$f":"MAX(I3:I14)","v":4516.948140267772},"Maximim",{"$f":"MAX(K3:K14)","v":3305.8734983314343},"Maximim",{"$f":"MAX(M3:M14)","v":2514.6351222191033},"Maximim",{"$f":"MAX(O3:O14)","v":297.30820701726373},{"$f":"MAX(P3:P14)","v":165469.47848811653}]
[null,null,null,"Minimum",{"$f":"MIN(E3:E15)","v":2689.2584405808457},null,null,"Minimum",{"$f":"MIN(I3:I15)","v":680.7028414858396},"Minimum",{"$f":"MIN(K3:K15)","v":237.93942962189948},"Minimum",{"$f":"MIN(M3:M15)","v":161.15316155233873},"Minimum",{"$f":"MIN(O3:O15)","v":183.03351813839052},{"$f":"MIN(P3:P15)","v":40296.939519221844}]
[]
[]
[]
[null,null,null,null,"Age","Age","Age","Age","Age","Age"]
[null,null,null,"Statistics","Pb 207/206","207Pb/235U","206Pb/238U","207Pb/235U","Pb206/U238","Pb208/232Th"]
[null,null,null,"Average",4042.478264577901,2208.6606506353883,1046.8918723798233,832.9724492016594,221.9061012698362,101231.0841105517,null,null,null,{"$f":"(165469/161)","v":1027.7577639751553}]
[null,null,null,"Maximim",5112.2286977155709,4516.948140267772,3305.8734983314343,2514.6351222191033,297.30820701726373,165468.80958944207]
[null,null,null,"Minimum",2689.2584405808457,680.7028414858396,237.93942962189948,161.15316155233873,183.03351813839052,40296.776621691286]
[null,null,null,"Difference",{"$f":"(E23-E24)","v":2422.9702571347252},3836.2452987819324,3067.934068709535,2353.4819606667647,114.27468887887321,125172.03296775078,null,"Pb208/232Th","Pb208/232Th"]
[null,null,null,null,null,null,null,null,null,null,null,165469.47848811653,102436.82966892052]
[null,null,null,null,null,null,null,null,null,null,null,150398.52199014949,82898.462431440232]
[null,null,null,null,null,null,null,null,null,null,null,143322.00643043732,74124.3647371017]
[null,null,null,null,null,null,null,null,null,null,null,137057.03656313851,47130.528834837569]
[null,null,null,null,null,null,null,null,null,null,null,127165.73608535781,43246.521900092048]
[]
[]
[]
[]
[]
[]
[]
[]
[]
[]
[]
[]
[]
[]
[]
[]
[]
[]
[]
[]
[]
[]
[]
[]
[]
[]
[]
[]
[]
[]
[]
[]
[]
[]
[]
[]
[]
[]
[]
[]
[]
[]
[]
[]
[]
[]
[]
[]
[]
[]
[]
[]
[]
[]
[]
[]
[]
[]
[]
[]
[]
[]
[]
[]
[]
[]
[]
[]
[]
[]
[]
[]
[]
[]
[]
[]
[]
[]
[]
[]
[]
[]
[]
[]
[]
[]
[]
[]
[]
[]
[]
[]
[]
[]
[]
[]
[]
[]
[]
[]
[]
[]
[]
[]
[]
[]
[]
[]
[]
[]
[]
[]
[]
[]
[]
[]
[]
[]
[]
[]
[]
[]
[]
[]
[]
[]
[]
[]
[]
[]
[]
[]
[]
[]
[]
[]
[]
[]
[]
[]
[]
[]
[]
[]
[]
[]
[]
[]
[]
[]
[]
[]
[]
[]
[]
[]
[]
[]
[]
[]
[]
[]
[]
[]
[]
[]
[]
[]
[]
[]
[]
[]
[]
[]
[]
[]
[]
[]
[]
[]
[]
[null,null,null,"n.d."]
[]
[]
[]
[]
[]
[]
[]
[]
[]
[]
[]
[]
[]
[]
[]
[]
[]
[]
[]
[]
[]
[]
[]
[]
[]
[]
[]
[]
[]
[]
[]
["FC1.1.3",7.4499999999999997E-2,4.5,5.45,null,1.6E-2,1.8140000000000001,0.1777,null,0.89,null,0.95]
["FC1.3.2",7.4889999999999998E-2,8.1999999999999993,2.02,null,7.3099999999999997E-3,1.5389999999999999,0.1507,null,0.81,null,0.94]
["FC1.4.2",7.7200000000000005E-2,3.6,7.11,null,8.4899999999999993E-3,1.774,0.16700000000000001,null,0.97,null,0.98]
["FC1.5.2",7.7119999999999994E-2,9.9,1.1599999999999999,null,5.9800000000000001E-3,1.6439999999999999,0.157,null,0.74,null,0.92]
["FC1.9.2",7.5359999999999996E-2,9.9,1.49,null,7.1900000000000002E-3,1.8440000000000001,0.1792,null,0.66,null,0.9]
["FC1.10.2",7.5310000000000002E-2,13,0.92100000000000004,null,7.1300000000000001E-3,1.577,0.14949999999999999,null,0.65,null,0.89]
["FC1.11.2",7.7780000000000002E-2,7.8,2.08,null,8.2299999999999995E-3,1.633,0.15140000000000001,null,0.81,null,0.93]
["FC1.13.1",7.5829999999999995E-2,11,1.17,null,7.6299999999999996E-3,1.8129999999999999,0.17599999999999999,null,0.64,null,0.9]
["FC1.14.1",7.6039999999999996E-2,7.1,1.96,null,3.8999999999999998E-3,2.089,0.1993,null,0.94,null,0.97]
["FC1.15.1",7.3969999999999994E-2,15,0.74,null,7.1900000000000002E-3,1.8560000000000001,0.1787,null,0.3,null,0.68]
["FC1.16.1",7.8839999999999993E-2,14,0.89600000000000002,null,1.15E-2,1.9790000000000001,0.18429999999999999,null,0.26,null,0.65]
["FC1.17.1",7.6359999999999997E-2,12,1.18,null,8.4799999999999997E-3,1.9059999999999999,0.18110000000000001,null,0.39,null,0.73]
["FC1.18.1",7.671E-2,28,2.4500000000000002,null,5.6299999999999996E-3,2.1120000000000001,0.20150000000000001,null,0.74,null,0.87]
["FC1.19.1",7.4260000000000007E-2,13,0.69099999999999995,null,8.9599999999999992E-3,1.7450000000000001,0.18010000000000001,null,0.27,null,0.65]
["FC1.20.1",7.8310000000000005E-2,10,1.9,null,8.1600000000000006E-3,2,0.18529999999999999,null,0.51,null,0.79]
["FC1.21.1",7.7799999999999994E-2,15,0.52600000000000002,null,7.6800000000000002E-3,1.706,0.17069999999999999,null,0.53,null,0.91]
["FC1.22.1",7.4510000000000007E-2,13,1.1200000000000001,null,8.6899999999999998E-3,1.81,0.17879999999999999,null,0.36,null,0.68]
["FC1.23.1",7.8020000000000006E-2,14,1.8,null,8.8699999999999994E-3,1.8660000000000001,0.17349999999999999,null,0.38,null,0.72]
["FC1.24.1",7.5759999999999994E-2,11,1.35,null,1.01E-2,1.8420000000000001,0.1754,null,0.4,null,0.74]
["FC1.25.1",7.4690000000000006E-2,10,1.28,null,1.15E-2,1.974,0.1966,null,0.4,null,0.74]
["FC1.26.1",7.6119999999999993E-2,11,1.04,null,6.0800000000000003E-3,1.9810000000000001,0.19040000000000001,null,0.5,null,0.79]
["FC1.27.1",7.6130000000000003E-2,9.6999999999999993,1.28,null,1.03E-2,2.161,0.21290000000000001,null,0.42,null,0.76]
["FC1.28.1",7.8149999999999997E-2,9.6999999999999993,1.5,null,6.1700000000000001E-3,2.133,0.1986,null,0.59,null,0.82]
["FC1.29.1",7.6630000000000004E-2,15,0.88100000000000001,null,8.6899999999999998E-3,1.998,0.18179999999999999,null,0.67,null,0.93]
["FC1.30.1",7.5920000000000001E-2,9.9,1.37,null,7.5900000000000004E-3,1.903,0.19059999999999999,null,0.48,null,0.79]
["FC1.31.1",7.4959999999999999E-2,9.1,1.1399999999999999,null,8.2299999999999995E-3,2.0430000000000001,0.19769999999999999,null,0.45,null,0.77]
["FC1.32.1",7.4759999999999993E-2,13,1.29,null,6.0099999999999997E-3,1.7370000000000001,0.1744,null,0.41,null,0.75]
["FC1.33.1",7.5259999999999994E-2,9.9,1.05,null,5.3299999999999997E-3,2.081,0.2019,null,0.61,null,0.83]
["FC1.34.1",7.6969999999999997E-2,17,0.97699999999999998,null,5.5399999999999998E-3,2.0230000000000001,0.19409999999999999,null,0.43,null,0.75]
["FC1.35.1",7.936E-2,7.9,1.66,null,6.5100000000000002E-3,1.744,0.1623,null,0.55000000000000004,null,0.76]
["FC1.36.1",7.6149999999999995E-2,11,1.59,null,1.15E-2,1.9350000000000001,0.18079999999999999,null,0.55000000000000004,null,0.7]
["FC1.37.1",7.8479999999999994E-2,16,0.92900000000000005,null,7.7400000000000004E-3,1.952,0.1774,null,0.42,null,0.66]
["FC1.38.1",7.5410000000000005E-2,14,1.2,null,3.0400000000000002E-3,1.899,0.18010000000000001,null,0.75,null,0.84]
["FC1.39.1",7.4200000000000002E-2,15,1.47,null,8.2799999999999992E-3,1.73,0.16600000000000001,null,0.39,null,0.64]
["FC1.40.1",7.596E-2,13,1.51,null,5.4599999999999996E-3,1.6679999999999999,0.158,null,0.61,null,0.77]
["FC1.41.1",7.5990000000000002E-2,12,1.45,null,6.9100000000000003E-3,1.7889999999999999,0.16650000000000001,null,0.61,null,0.77]
["FC1.42.1",7.5069999999999998E-2,7.1,5.38,null,8.0499999999999999E-3,1.8,0.17399999999999999,null,0.87,null,0.92]
["FC1.43.1",7.6600000000000001E-2,7.3,2.93,null,8.6599999999999993E-3,1.7110000000000001,0.16500000000000001,null,0.3,null,0.33]
["FC1.44.1",7.5719999999999996E-2,15,1.8,null,6.62E-3,1.7130000000000001,0.15770000000000001,null,0.54,null,0.72]
["FC1.45.1",7.6880000000000004E-2,12,1.19,null,1.46E-2,2.2869999999999999,0.2006,null,0.4,null,0.64]
["FC1.46.1",7.6829999999999996E-2,40,2.4900000000000002,null,9.8399999999999998E-3,1.77,0.1638,null,0.7,null,0.77]
["FC1.47.1",7.8409999999999994E-2,8.1,3.03,null,1.0699999999999999E-2,1.7769999999999999,0.16289999999999999,null,0.67,null,0.8]
["FC1.48.1",7.6939999999999995E-2,7.6,3.12,null,1.21E-2,1.92,0.1789,null,0.7,null,0.81]

{"sheet":"232_Th_09","index":8,"n_rows":317,"n_cols":18,"rows_kept":317,"cut":false,"hidden":false,"merged":[]}
[null,"FC1-1","FC1-2","FC5-1","FC6-1","FC6-2","FC7","FC4",null,null,"Method/Sample","FC1-1","FC1-2","FC5-1","FC6-1","FC6-2","FC7","FC4"]
["206Pb/204Pb",17.795000000000002,17.782,17.707000000000001,17.64,17.763000000000002,17.707999999999998,16.936,null,null,"Pb 207/206",5046.946860146244,5047.0707002927747,5050.5023955518645,5051.1151482243695,5048.7671678745519,5050.9701572390049,5098.2612442636864]
["207Pb/204Pb",15.548,15.538,15.51,15.458,15.54,15.516,15.343999999999999,null,null,"206Pb/238U",6049.7245157421967,6657.5085765580316,5870.873282540374,6407.4025448770517,6538.7435191060849,6212.2547325064425,14281.940671671247]
["Pb 207/206",{"$f":"[2]!AgePb76(B3/B2)","v":5046.946860146244},{"$f":"[2]!AgePb76(C3/C2)","v":5047.0707002927747},{"$f":"[2]!AgePb76(D3/D2)","v":5050.5023955518645},{"$f":"[2]!AgePb76(E3/E2)","v":5051.1151482243695},{"$f":"[2]!AgePb76(F3/F2)","v":5048.7671678745519},{"$f":"[2]!AgePb76(G3/G2)","v":5050.9701572390049},{"$f":"[2]!AgePb76(H3/H2)","v":5098.2612442636864},"Age",null,"207Pb/235U",33767.418488953255,34765.015780287496,33524.077059461597,34380.235026279435,34587.588966273193,34070.960687025836,44682.718448434607]
["208Pb/204Pb",38.064999999999998,38.043999999999997,37.978000000000002,37.837000000000003,38.067,37.966000000000001,36.991999999999997,null,null,"Pb208/232Th",8401.8316091897432,8396.1782645277053,8724.9303364066818,8773.6087232028895,9358.3977077678082,8257.8548220799439,27208.030260857595]
["204Pb%",1.3959999999999999,1.3819999999999999,1.385,1.39,1.3819999999999999,1.385,1.423,null,null,"Rb/Sr",124,126,124,126,126,124,116]
["238U/204Pb",11.436,9.8309999999999995,11.914999999999999,10.365,10.106999999999999,10.922000000000001,2.0739999999999998,null,null,"Nd/Sm",125,126,126,125,125,125,116]
["206Pb/238U",{"$f":"[2]!AgePb6U8(B2/B7)","v":6049.7245157421967},{"$f":"[2]!AgePb6U8(C2/C7)","v":6657.5085765580316},{"$f":"[2]!AgePb6U8(D2/D7)","v":5870.873282540374},{"$f":"[2]!AgePb6U8(E2/E7)","v":6407.4025448770517},{"$f":"[2]!AgePb6U8(F2/F7)","v":6538.7435191060849},{"$f":"[2]!AgePb6U8(G2/G7)","v":6212.2547325064425},{"$f":"[2]!AgePb6U8(H2/H7)","v":14281.940671671247},"Age"]
["235U/204Pb",8.3000000000000004E-2,7.0999999999999994E-2,8.5999999999999993E-2,7.4999999999999997E-2,7.2999999999999995E-2,7.9000000000000001E-2,1.4999999999999999E-2]
["207Pb/235U",{"$f":"[2]!AgePb6U8(B3/B9)","v":33767.418488953255},{"$f":"[2]!AgePb6U8(C3/C9)","v":34765.015780287496},{"$f":"[2]!AgePb6U8(D3/D9)","v":33524.077059461597},{"$f":"[2]!AgePb6U8(E3/E9)","v":34380.235026279435},{"$f":"[2]!AgePb6U8(F3/F9)","v":34587.588966273193},{"$f":"[2]!AgePb6U8(G3/G9)","v":34070.960687025836},{"$f":"[2]!AgePb6U8(H3/H9)","v":44682.718448434607},"Age"]
["232Th/204Pb",73.855000000000004,73.875,70.352999999999994,69.613,64.647000000000006,75.233000000000004,13.013999999999999]
["Pb208/232Th",{"$f":"[2]!AgePb8Th2(B5/B11)","v":8401.7976453791507},{"$f":"[2]!AgePb8Th2(C5/C11)","v":8396.1443235703591},{"$f":"[2]!AgePb8Th2(D5/D11)","v":8724.8950664923159},{"$f":"[2]!AgePb8Th2(E5/E11)","v":8773.5732565095841},{"$f":"[2]!AgePb8Th2(F5/F11)","v":9358.3598771063553},{"$f":"[2]!AgePb8Th2(G5/G11)","v":8257.8214402853391},{"$f":"[2]!AgePb8Th2(H5/H11)","v":27207.920274317832},"Age"]
[]
[]
[null,"Age","Age","Age","Age"]
[null,"Pb 207/206","206Pb/238U","207Pb/235U","Pb208/232Th"]
[null,5047,6050,33767,8402]
[null,5047,6658,34765,8396]
[null,5051,5871,33524,8725]
[null,5051,6407,34380,8774]
[null,5049,6539,34588,9358]
[null,5051,6212,34071,8258]
[null,5098,14282,44683,27208]
["Average",{"$f":"AVERAGE(B17:B23)","v":5056.2857142857147},{"$f":"AVERAGE(C17:C23)","v":7431.2857142857147},{"$f":"AVERAGE(D17:D23)","v":35682.571428571428},{"$f":"AVERAGE(E17:E23)","v":11303}]
["Maximim",{"$f":"MAX(B17:B24)","v":5098},{"$f":"MAX(C17:C24)","v":14282},{"$f":"MAX(D17:D24)","v":44683},{"$f":"MAX(E17:E24)","v":27208}]
["Minimum",{"$f":"MIN(B17:B25)","v":5047},{"$f":"MIN(C17:C25)","v":5871},{"$f":"MIN(D17:D25)","v":33524},{"$f":"MIN(E17:E25)","v":8258}]
[]
[]
[null,"Age","Age","Age","Age"]
["Statistics","Pb 207/206","206Pb/238U","207Pb/235U","Pb208/232Th"]
["Average",5056.2857142857147,7431.2857142857147,35682.571428571428,11303]
["Maximim",5098,14282,44683,27208]
["Minimum",5047,5871,33524,8258]
["Difference",{"$f":"(B32-B33)","v":51},{"$f":"(C32-C33)","v":8411},{"$f":"(D32-D33)","v":11159},{"$f":"(E32-E33)","v":18950}]
[]
[]
["Strontium","Initial","Today","Today","The Ratio","Half","Decay","2.303/Delta","Age","Age","Age"]
["Dating","87Sr/86Sr","87Sr/86Sr","87Rb/86Sr","Plus One","Life","Constant","Constant","Years","Million Years","Billion Years"]
["FC1-1",0.70963100000000001,0.709677,2.6100000000000002E-2,{"$f":"1+((C39-B39)/D39)","v":1.0017624521072794},48800000000,{"$f":"(0.693/F39)","v":1.4200819672131146E-11},{"$f":"(2.303/G39)","v":162173737373.7374},{"$f":"(LOG(E39))*(H39)","v":124022285.44626039},{"$f":"(I39/1000000)","v":124.0222854462604},{"$f":"(J39/1000)","v":0.1240222854462604}]
["FC1-2",0.709561,0.70962099999999995,3.3500000000000002E-2,{"$f":"1+((C40-B40)/D40)","v":1.0017910447761178},48800000000,{"$f":"(0.693/F40)","v":1.4200819672131146E-11},{"$f":"(2.303/G40)","v":162173737373.7374},{"$f":"(LOG(E40))*(H40)","v":126032528.56244034},{"$f":"(I40/1000000)","v":126.03252856244033},{"$f":"(J40/1000)","v":0.12603252856244032}]
["FC5-1",0.71009,0.710148,3.2899999999999999E-2,1.0017629179331309,48800000000,1.4200819672131146E-11,162173737373.7374,124055036.3714218,124.05503637142179,0.12405503637142179]
["FC6-1",0.70990500000000001,0.70996499999999996,3.3599999999999998E-2,1.0017857142857127,48800000000,1.4200819672131146E-11,162173737373.7374,125657766.16124071,125.65776616124072,0.12565776616124072]
["FC6-2",0.70979800000000004,0.70985799999999999,3.3599999999999998E-2,1.0017857142857127,48800000000,1.4200819672131146E-11,162173737373.7374,125657766.16124071,125.65776616124072,0.12565776616124072]
["FC7",0.70983399999999996,0.70989500000000005,3.4500000000000003E-2,1.0017681159420315,48800000000,1.4200819672131146E-11,162173737373.7374,124420492.94432266,124.42049294432266,0.12442049294432266]
["FC4",0.70936900000000003,0.70960900000000005,0.14560000000000001,1.0016483516483519,48800000000,1.4200819672131146E-11,162173737373.7374,115999739.50913303,115.99973950913302,0.11599973950913302]
[null,null,null,null,null,null,null,null,null,{"$f":"AVERAGE(J39:J45)","v":123.69223073657994},0.12369223073657995]
[]
["Neodymium","Initial","Today","Today","The Ratio","Half","Decay","2.303/Delta","Age","Age","Age"]
["Dating","143Nd/144Nd","143Nd/144Nd","147Sm/144Nd","Plus One","Life","Constant","Constant","Years","Million Years","Billion Years"]
["FC1-1",0.51180599999999998,0.51188400000000001,9.5299999999999996E-2,{"$f":"1+((C50-B50)/D50)","v":1.000818467995803},106000000000,{"$f":"(0.693/F50)","v":6.5377358490566029E-12},{"$f":"(2.303/G50)","v":352262626262.62628},{"$f":"(LOG(E50))*(H50)","v":125162697.50466721},{"$f":"(I50/1000000)","v":125.16269750466721},{"$f":"(J50/1000)","v":0.12516269750466721}]
["FC1-2",0.51178900000000005,0.51186200000000004,8.8800000000000004E-2,{"$f":"1+((C51-B51)/D51)","v":1.000822072072072},106000000000,{"$f":"(0.693/F51)","v":6.5377358490566029E-12},{"$f":"(2.303/G51)","v":352262626262.62628},{"$f":"(LOG(E51))*(H51)","v":125713617.78535397},{"$f":"(I51/1000000)","v":125.71361778535397},{"$f":"(J51/1000)","v":0.12571361778535398}]
["FC5-1",0.51175099999999996,0.51183199999999995,9.8500000000000004E-2,1.0008223350253806,106000000000,6.5377358490566029E-12,352262626262.62628,125753812.83671919,125.75381283671919,0.12575381283671919]
["FC6-1",0.51175199999999998,0.51183299999999998,9.8699999999999996E-2,1.000820668693009,106000000000,6.5377358490566029E-12,352262626262.62628,125499097.03730762,125.49909703730762,0.12549909703730763]
["FC6-2",0.51176500000000003,0.51184399999999997,9.69E-2,1.0008152734778115,106000000000,6.5377358490566029E-12,352262626262.62628,124674380.77805166,124.67438077805166,0.12467438077805165]
["FC7",0.51173999999999997,0.511818,9.5200000000000007E-2,1.0008193277310926,106000000000,6.5377358490566029E-12,352262626262.62628,125294117.10323235,125.29411710323235,0.12529411710323235]
["FC4",0.51183400000000001,0.51190899999999995,9.9099999999999994E-2,1.0007568113017149,106000000000,6.5377358490566029E-12,352262626262.62628,115737527.72388755,115.73752772388755,0.11573752772388755]
[null,null,null,null,null,null,null,null,null,{"$f":"AVERAGE(J50:J56)","v":123.97646439560278},0.12397646439560278]
[]
[]
[]
[]
[]
[]
[]
[]
[]
[]
[]
[]
[]
[]
[]
[]
[]
[]
[]
[]
[]
[]
[]
[]
[]
[]
[]
[]
[]
[]
[]
[]
[]
[]
[]
[]
[]
[]
[]
[]
[]
[]
[]
[]
[]
[]
[]
[]
[]
[]
[]
[]
[]
[]
[]
[]
[]
[]
[]
[]
[]
[]
[]
[]
[]
[]
[]
[]
[]
[]
[]
[]
[]
[]
[]
[]
[]
[]
[]
[]
[]
[]
[]
[]
[]
[]
[]
[]
[]
[]
[]
[]
[]
[]
[]
[]
[]
[]
[]
[]
[]
[]
[]
[]
[]
[]
[]
[]
[]
[]
[]
[]
[]
[]
[]
[]
[]
[]
[]
[]
[]
[]
[]
[]
[]
[]
[]
[]
[]
[]
[]
[]
[]
[]
[]
[]
[]
[]
[]
[]
[]
[]
[]
[]
[]
[]
[]
[]
[]
[]
[]
[]
[]
[]
[]
[]
[]
[]
[]
[]
[]
[]
[]
[]
[]
[]
[]
[]
[]
[]
[]
[]
[]
[]
[]
[]
[]
[]
[]
[]
[]
[]
[]
[]
[]
[null,null,null,"n.d."]
[]
[]
[]
[]
[]
[]
[]
[]
[]
[]
[]
[]
[]
[]
[]
[]
[]
[]
[]
[]
[]
[]
[]
[]
[]
[]
[]
[]
[]
[]
[]
["FC1.1.3",7.4499999999999997E-2,4.5,5.45,null,1.6E-2,1.8140000000000001,0.1777,null,0.89,null,0.95]
["FC1.3.2",7.4889999999999998E-2,8.1999999999999993,2.02,null,7.3099999999999997E-3,1.5389999999999999,0.1507,null,0.81,null,0.94]
["FC1.4.2",7.7200000000000005E-2,3.6,7.11,null,8.4899999999999993E-3,1.774,0.16700000000000001,null,0.97,null,0.98]
["FC1.5.2",7.7119999999999994E-2,9.9,1.1599999999999999,null,5.9800000000000001E-3,1.6439999999999999,0.157,null,0.74,null,0.92]
["FC1.9.2",7.5359999999999996E-2,9.9,1.49,null,7.1900000000000002E-3,1.8440000000000001,0.1792,null,0.66,null,0.9]
["FC1.10.2",7.5310000000000002E-2,13,0.92100000000000004,null,7.1300000000000001E-3,1.577,0.14949999999999999,null,0.65,null,0.89]
["FC1.11.2",7.7780000000000002E-2,7.8,2.08,null,8.2299999999999995E-3,1.633,0.15140000000000001,null,0.81,null,0.93]
["FC1.13.1",7.5829999999999995E-2,11,1.17,null,7.6299999999999996E-3,1.8129999999999999,0.17599999999999999,null,0.64,null,0.9]
["FC1.14.1",7.6039999999999996E-2,7.1,1.96,null,3.8999999999999998E-3,2.089,0.1993,null,0.94,null,0.97]
["FC1.15.1",7.3969999999999994E-2,15,0.74,null,7.1900000000000002E-3,1.8560000000000001,0.1787,null,0.3,null,0.68]
["FC1.16.1",7.8839999999999993E-2,14,0.89600000000000002,null,1.15E-2,1.9790000000000001,0.18429999999999999,null,0.26,null,0.65]
["FC1.17.1",7.6359999999999997E-2,12,1.18,null,8.4799999999999997E-3,1.9059999999999999,0.18110000000000001,null,0.39,null,0.73]
["FC1.18.1",7.671E-2,28,2.4500000000000002,null,5.6299999999999996E-3,2.1120000000000001,0.20150000000000001,null,0.74,null,0.87]
["FC1.19.1",7.4260000000000007E-2,13,0.69099999999999995,null,8.9599999999999992E-3,1.7450000000000001,0.18010000000000001,null,0.27,null,0.65]
["FC1.20.1",7.8310000000000005E-2,10,1.9,null,8.1600000000000006E-3,2,0.18529999999999999,null,0.51,null,0.79]
["FC1.21.1",7.7799999999999994E-2,15,0.52600000000000002,null,7.6800000000000002E-3,1.706,0.17069999999999999,null,0.53,null,0.91]
["FC1.22.1",7.4510000000000007E-2,13,1.1200000000000001,null,8.6899999999999998E-3,1.81,0.17879999999999999,null,0.36,null,0.68]
["FC1.23.1",7.8020000000000006E-2,14,1.8,null,8.8699999999999994E-3,1.8660000000000001,0.17349999999999999,null,0.38,null,0.72]
["FC1.24.1",7.5759999999999994E-2,11,1.35,null,1.01E-2,1.8420000000000001,0.1754,null,0.4,null,0.74]
["FC1.25.1",7.4690000000000006E-2,10,1.28,null,1.15E-2,1.974,0.1966,null,0.4,null,0.74]
["FC1.26.1",7.6119999999999993E-2,11,1.04,null,6.0800000000000003E-3,1.9810000000000001,0.19040000000000001,null,0.5,null,0.79]
["FC1.27.1",7.6130000000000003E-2,9.6999999999999993,1.28,null,1.03E-2,2.161,0.21290000000000001,null,0.42,null,0.76]
["FC1.28.1",7.8149999999999997E-2,9.6999999999999993,1.5,null,6.1700000000000001E-3,2.133,0.1986,null,0.59,null,0.82]
["FC1.29.1",7.6630000000000004E-2,15,0.88100000000000001,null,8.6899999999999998E-3,1.998,0.18179999999999999,null,0.67,null,0.93]
["FC1.30.1",7.5920000000000001E-2,9.9,1.37,null,7.5900000000000004E-3,1.903,0.19059999999999999,null,0.48,null,0.79]
["FC1.31.1",7.4959999999999999E-2,9.1,1.1399999999999999,null,8.2299999999999995E-3,2.0430000000000001,0.19769999999999999,null,0.45,null,0.77]
["FC1.32.1",7.4759999999999993E-2,13,1.29,null,6.0099999999999997E-3,1.7370000000000001,0.1744,null,0.41,null,0.75]
["FC1.33.1",7.5259999999999994E-2,9.9,1.05,null,5.3299999999999997E-3,2.081,0.2019,null,0.61,null,0.83]
["FC1.34.1",7.6969999999999997E-2,17,0.97699999999999998,null,5.5399999999999998E-3,2.0230000000000001,0.19409999999999999,null,0.43,null,0.75]
["FC1.35.1",7.936E-2,7.9,1.66,null,6.5100000000000002E-3,1.744,0.1623,null,0.55000000000000004,null,0.76]
["FC1.36.1",7.6149999999999995E-2,11,1.59,null,1.15E-2,1.9350000000000001,0.18079999999999999,null,0.55000000000000004,null,0.7]
["FC1.37.1",7.8479999999999994E-2,16,0.92900000000000005,null,7.7400000000000004E-3,1.952,0.1774,null,0.42,null,0.66]
["FC1.38.1",7.5410000000000005E-2,14,1.2,null,3.0400000000000002E-3,1.899,0.18010000000000001,null,0.75,null,0.84]
["FC1.39.1",7.4200000000000002E-2,15,1.47,null,8.2799999999999992E-3,1.73,0.16600000000000001,null,0.39,null,0.64]
["FC1.40.1",7.596E-2,13,1.51,null,5.4599999999999996E-3,1.6679999999999999,0.158,null,0.61,null,0.77]
["FC1.41.1",7.5990000000000002E-2,12,1.45,null,6.9100000000000003E-3,1.7889999999999999,0.16650000000000001,null,0.61,null,0.77]
["FC1.42.1",7.5069999999999998E-2,7.1,5.38,null,8.0499999999999999E-3,1.8,0.17399999999999999,null,0.87,null,0.92]
["FC1.43.1",7.6600000000000001E-2,7.3,2.93,null,8.6599999999999993E-3,1.7110000000000001,0.16500000000000001,null,0.3,null,0.33]
["FC1.44.1",7.5719999999999996E-2,15,1.8,null,6.62E-3,1.7130000000000001,0.15770000000000001,null,0.54,null,0.72]
["FC1.45.1",7.6880000000000004E-2,12,1.19,null,1.46E-2,2.2869999999999999,0.2006,null,0.4,null,0.64]
["FC1.46.1",7.6829999999999996E-2,40,2.4900000000000002,null,9.8399999999999998E-3,1.77,0.1638,null,0.7,null,0.77]
["FC1.47.1",7.8409999999999994E-2,8.1,3.03,null,1.0699999999999999E-2,1.7769999999999999,0.16289999999999999,null,0.67,null,0.8]
["FC1.48.1",7.6939999999999995E-2,7.6,3.12,null,1.21E-2,1.92,0.1789,null,0.7,null,0.81]

{"sheet":"232_Th_10","index":9,"n_rows":129,"n_cols":14,"rows_kept":129,"cut":false,"hidden":false,"merged":[]}
["Table 4",null,null,"Age",null,null,null,"Age",null,"Age",null,"Age"]
["Sample","208Pb/238U","208Pb/232Th","208Pb/232Th","232Th/238U",null,"207Pb/206Pb","207Pb/206Pb","208Pb/206Pb","206Pb/238U","206Pb/238U","207Pb/235U","207Pb/235U"]
["94-12",{"$f":"(I3/K3)","v":0.20640138408304501},{"$f":"(B3/E3)","v":0.47016260611171984},{"$f":"[2]!AgePb8Th2(C3)","v":7789.2473183553775},0.439,null,0.2145,{"$f":"[2]!AgePb76(G3)","v":2939.8546735011541},0.1193,{"$f":"[2]!AgePb6U8(K3)","v":2940.5848343186622},0.57799999999999996,{"$f":"[2]!AgePb7U5(M3)","v":2940.4599058453368},17.100000000000001]
["94-12",{"$f":"(I4/K4)","v":0.625},{"$f":"(B4/E4)","v":3.0487804878048782E-3},{"$f":"[2]!AgePb8Th2(C4)","v":61.528901085963653},205,0.56699999999999995,0.155,{"$f":"[2]!AgePb76(G4)","v":2401.8329897954036},5.0000000000000001E-4,{"$f":"[2]!AgePb6U8(K4)","v":5.1550695926784478},8.0000000000000004E-4,{"$f":"[2]!AgePb7U5(M4)","v":19.111290288457802},1.9E-2]
["94-12",0.43661971830985913,3.894912741390358E-4,{"$f":"[2]!AgePb8Th2(C5)","v":7.8709538575599112},1121,1.2490000000000001,0.11799999999999999,{"$f":"[2]!AgePb76(G5)","v":1926.1556973970091},3.0999999999999999E-3,{"$f":"[2]!AgePb6U8(K5)","v":45.607823832148171},7.1000000000000004E-3,{"$f":"[2]!AgePb7U5(M5)","v":4.0534307453291936},4.0000000000000001E-3]
["94-12",0.55000000000000004,2.2633744855967081E-3,{"$f":"[2]!AgePb8Th2(C6)","v":45.696147791877934},243,0.80300000000000005,4.0000000000000001E-3,".",1.1000000000000001E-3,{"$f":"[2]!AgePb6U8(K6)","v":12.879952700551543},2E-3,{"$f":"[2]!AgePb7U5(M6)","v":6.0740942047494224},6.0000000000000001E-3]
["94-12",0.6,1.0714285714285714E-2,{"$f":"[2]!AgePb8Th2(C7)","v":215.40767001491616},56,0.43,3.0000000000000001E-3,".",1.5E-3,{"$f":"[2]!AgePb6U8(K7)","v":16.095923923204808},2.5000000000000001E-3,{"$f":"[2]!AgePb7U5(M7)","v":7.0829199740317188},7.0000000000000001E-3]
["94-12",0.43902439024390238,3.3771106941838645E-3,{"$f":"[2]!AgePb8Th2(C8)","v":68.143932530439415},130,0.217,6.8000000000000005E-2,{"$f":"[2]!AgePb76(G8)","v":868.55414978088208},3.5999999999999999E-3,{"$f":"[2]!AgePb6U8(K8)","v":52.645045391738286},8.2000000000000007E-3,{"$f":"[2]!AgePb7U5(M8)","v":2.028738044040268},2E-3]
["94-12",0.44025157232704398,1.7197327044025156E-3,{"$f":"[2]!AgePb8Th2(C9)","v":34.72977579161666},256,0.60599999999999998,0.29199999999999998,{"$f":"[2]!AgePb76(G9)","v":3428.292063033507},7.0000000000000001E-3,{"$f":"[2]!AgePb6U8(K9)","v":101.69166230692822},1.5900000000000001E-2,{"$f":"[2]!AgePb7U5(M9)","v":5.0642651277239867},5.0000000000000001E-3]
["94-12",0.4838709677419355,3.3370411568409346E-3,{"$f":"[2]!AgePb8Th2(C10)","v":67.336747670609782},145,0.64900000000000002,8.0000000000000002E-3,".",1.5E-3,{"$f":"[2]!AgePb6U8(K10)","v":19.952972810975162},3.0999999999999999E-3,{"$f":"[2]!AgePb7U5(M10)","v":7.0829199740317188},7.0000000000000001E-3]
["94-12",0.31793478260869562,0.49989745693191134,{"$f":"[2]!AgePb8Th2(C11)","v":8193.9715760683321},0.63600000000000001,0.23899999999999999,0.1898,{"$f":"[2]!AgePb76(G11)","v":2740.4294179447306},0.17549999999999999,{"$f":"[2]!AgePb6U8(K11)","v":2833.4853941081519},0.55200000000000005,{"$f":"[2]!AgePb7U5(M11)","v":2779.0643697990863},14.44]
["94-12",0.5,1.3157894736842105E-2,{"$f":"[2]!AgePb8Th2(C12)","v":264.21589827898333},38,0.60199999999999998,0.22800000000000001,{"$f":"[2]!AgePb76(G12)","v":3038.0615422520718},1.4E-3,{"$f":"[2]!AgePb6U8(K12)","v":18.024736838041502},2.8E-3,{"$f":"[2]!AgePb7U5(M12)","v":16.11752973172581},1.6E-2]
["94-12",0.5,3.125E-2,{"$f":"[2]!AgePb8Th2(C13)","v":621.96379316328819},16,0.503,3.0000000000000001E-3,".",3.5000000000000001E-3,{"$f":"[2]!AgePb6U8(K13)","v":44.96769531942072},7.0000000000000001E-3,{"$f":"[2]!AgePb7U5(M13)","v":9.0975695501566758},8.9999999999999993E-3]
["94-12",0.31281553398058248,0.5231028996330811,{"$f":"[2]!AgePb8Th2(C14)","v":8504.2877293211077},0.59799999999999998,0.42399999999999999,0.1862,{"$f":"[2]!AgePb76(G14)","v":2708.884369728436},0.16109999999999999,{"$f":"[2]!AgePb6U8(K14)","v":2677.939977188284},0.51500000000000001,{"$f":"[2]!AgePb7U5(M14)","v":2696.9131400556735},13.24]
["94-12",0.23308270676691728,0.50341837314668958,{"$f":"[2]!AgePb8Th2(C15)","v":8241.3629257187968},0.46300000000000002,5.0000000000000001E-3,0.18720000000000001,{"$f":"[2]!AgePb76(G15)","v":2717.7169655977846},0.124,{"$f":"[2]!AgePb6U8(K15)","v":2749.8731430678458},0.53200000000000003,{"$f":"[2]!AgePb7U5(M15)","v":2731.2648936127725},13.73]
["94-12",0.5442379182156134,0.51054213716286434,{"$f":"[2]!AgePb8Th2(C16)","v":8336.9099065028222},1.0660000000000001,0.36599999999999999,0.1845,{"$f":"[2]!AgePb76(G16)","v":2693.7425851113576},0.2928,{"$f":"[2]!AgePb6U8(K16)","v":2775.0708853083142},0.53800000000000003,{"$f":"[2]!AgePb7U5(M16)","v":2727.812380754805},13.68]
["94-12",0.46876227897838901,0.54192170980160581,{"$f":"[2]!AgePb8Th2(C17)","v":8752.491197544432},0.86499999999999999,3.0000000000000001E-3,0.18340000000000001,{"$f":"[2]!AgePb76(G17)","v":2683.8588500203809},0.23860000000000001,{"$f":"[2]!AgePb6U8(K17)","v":2652.3589349602694},0.50900000000000001,{"$f":"[2]!AgePb7U5(M17)","v":2669.449148359402},12.86]
["94-12",0.47181467181467179,0.5301288447355863,{"$f":"[2]!AgePb8Th2(C18)","v":8597.3106438438244},0.89,0.122,0.1857,{"$f":"[2]!AgePb76(G18)","v":2704.4475226342797},0.24440000000000001,{"$f":"[2]!AgePb6U8(K18)","v":2690.6925316579418},0.51800000000000002,{"$f":"[2]!AgePb7U5(M18)","v":2697.6259397011318},13.25]
["94-12",0.45660749506903353,0.53655404825973385,{"$f":"[2]!AgePb8Th2(C19)","v":8682.0066334156472},0.85099999999999998,3.0000000000000001E-3,0.18329999999999999,{"$f":"[2]!AgePb76(G19)","v":2682.9569340440207},0.23150000000000001,{"$f":"[2]!AgePb6U8(K19)","v":2643.8093127758807},0.50700000000000001,{"$f":"[2]!AgePb7U5(M19)","v":2665.779527259177},12.81]
["94-12",0.38327067669172932,0.52004162373368967,{"$f":"[2]!AgePb8Th2(C20)","v":8463.6224056305455},0.73699999999999999,0.27600000000000002,0.1847,{"$f":"[2]!AgePb76(G20)","v":2695.5323146624141},0.2039,{"$f":"[2]!AgePb6U8(K20)","v":2749.8731430678458},0.53200000000000003,{"$f":"[2]!AgePb7U5(M20)","v":2718.7805184723579},13.55]
["94-12",0.44935304990757857,0.5054589987711795,{"$f":"[2]!AgePb8Th2(C21)","v":8268.7788635739344},0.88900000000000001,0,0.18490000000000001,{"$f":"[2]!AgePb76(G21)","v":2697.319807676},0.24310000000000001,{"$f":"[2]!AgePb6U8(K21)","v":2787.6329175695641},0.54100000000000004,{"$f":"[2]!AgePb7U5(M21)","v":2735.3924726838691},13.79]
["94-8",0.46590909090909094,{"$error":"#DIV/0!"},".",0,1.7999999999999999E-2,2.4980000000000002,{"$f":"[2]!AgePb76(G22)","v":6495.2209995052053},8.2000000000000007E-3,{"$f":"[2]!AgePb6U8(K22)","v":112.47003128909398},1.7600000000000001E-2,{"$f":"[2]!AgePb7U5(M22)","v":12.112068706172323},1.2E-2]
["94-8",0.53623188405797106,{"$error":"#DIV/0!"},".",0,2E-3,0.65700000000000003,{"$f":"[2]!AgePb76(G23)","v":4639.4201455625698},3.7000000000000002E-3,{"$f":"[2]!AgePb6U8(K23)","v":44.327503235661979},6.8999999999999999E-3,{"$f":"[2]!AgePb7U5(M23)","v":11.108229718570607},1.0999999999999999E-2]
["94-8",0.51505016722408026,{"$error":"#DIV/0!"},".",0,3.0000000000000001E-3,1.17,{"$f":"[2]!AgePb76(G24)","v":5457.0295832622587},1.54E-2,{"$f":"[2]!AgePb6U8(K24)","v":189.92238613775376},2.9899999999999999E-2,{"$f":"[2]!AgePb7U5(M24)","v":10.103397322605566},0.01]
["94-8",0.51351351351351349,{"$error":"#DIV/0!"},".",0,8.0000000000000002E-3,0.96599999999999997,{"$f":"[2]!AgePb76(G25)","v":5188.7175947439409},3.8E-3,{"$f":"[2]!AgePb6U8(K25)","v":47.527828070350736},7.4000000000000003E-3,{"$f":"[2]!AgePb7U5(M25)","v":11.108229718570607},1.0999999999999999E-2]
["94-12",".",{"$error":"#VALUE!"},".",3.0000000000000001E-3,0.26300000000000001,0.18179999999999999,{"$f":"[2]!AgePb76(G26)","v":2669.3595486245517},"–0.0012",{"$f":"[2]!AgePb6U8(K26)","v":2724.5765212716537},0.52600000000000002,{"$f":"[2]!AgePb7U5(M26)","v":2692.6258020043474},13.18]
["94-12",2.8985507246376812E-3,0.41407867494824019,{"$f":"[2]!AgePb8Th2(C27)","v":7003.0966330109623},7.0000000000000001E-3,2E-3,0.17230000000000001,{"$f":"[2]!AgePb76(G27)","v":2580.111028875463},1.1999999999999999E-3,{"$f":"[2]!AgePb6U8(K27)","v":2233.1833519702236},0.41399999999999998,{"$f":"[2]!AgePb7U5(M27)","v":2418.9674173863018},9.83]
["94-12",".",{"$error":"#VALUE!"},".",1E-3,0,0.18099999999999999,{"$f":"[2]!AgePb76(G28)","v":2662.0544594416015},"–0.0002",{"$f":"[2]!AgePb6U8(K28)","v":2677.939977188284},0.51500000000000001,{"$f":"[2]!AgePb7U5(M28)","v":2667.9828909879916},12.84]
["94-12",0.43902439024390238,2.195121951219512E-3,{"$f":"[2]!AgePb8Th2(C29)","v":44.319680465095168},200,8.6999999999999994E-2,27.722999999999999,".",3.5999999999999999E-3,{"$f":"[2]!AgePb6U8(K29)","v":52.645045391738286},8.2000000000000007E-3,{"$f":"[2]!AgePb7U5(M29)","v":3.0415890539659554},3.0000000000000001E-3]
["94-12",0.44186046511627908,9.4012864918357249E-4,{"$f":"[2]!AgePb8Th2(C30)","v":18.993168368364575},470,0.17399999999999999,27.9,".",3.8E-3,{"$f":"[2]!AgePb6U8(K30)","v":55.202131574458107},8.6E-3,{"$f":"[2]!AgePb7U5(M30)","v":2.028738044040268},2E-3]
["94-12",0.11049868766404199,0.29155326560433242,{"$f":"[2]!AgePb8Th2(C31)","v":5171.2092150017161},0.379,16.442,0.17349999999999999,{"$f":"[2]!AgePb76(G31)","v":2591.6955998571957},4.2099999999999999E-2,{"$f":"[2]!AgePb6U8(K31)","v":2080.9532598043843},0.38100000000000001,{"$f":"[2]!AgePb7U5(M31)","v":2349.1141118265518},9.11]
["94-12",0.68876404494382026,2.3347933726909162,{"$f":"[2]!AgePb8Th2(C32)","v":24343.824562588001},0.29499999999999998,2.5000000000000001E-2,9.0999999999999998E-2,{"$f":"[2]!AgePb76(G32)","v":1446.6025309104625},0.1226,{"$f":"[2]!AgePb6U8(K32)","v":1056.0392279090729},0.17799999999999999,{"$f":"[2]!AgePb7U5(M32)","v":1190.5184923943393},2.23]
[null,null,"Average",{"$f":"AVERAGE(D3:D32)","v":5074.9302616497589},null,null,"Average",{"$f":"AVERAGE(H3:H32)","v":3027.4104739151112},"Average",{"$f":"AVERAGE(J3:J32)","v":1303.1043073527039},"Average",{"$f":"AVERAGE(L3:L32)","v":1293.5655340449107}]
[null,null,"Maximim",{"$f":"MAX(D3:D33)","v":24343.824562588001},null,null,"Maximim",{"$f":"MAX(H3:H33)","v":6495.2209995052053},"Maximim",{"$f":"MAX(J3:J33)","v":2940.5848343186622},"Maximim",{"$f":"MAX(L3:L33)","v":2940.4599058453368}]
[null,null,"Minimum",{"$f":"MIN(D3:D34)","v":7.8709538575599112},null,null,"Minimum",{"$f":"MIN(H3:H34)","v":868.55414978088208},"Minimum",{"$f":"MIN(J3:J34)","v":5.1550695926784478},"Minimum",{"$f":"MIN(L3:L34)","v":2.028738044040268}]
[null,null,null,null,null,null,null,null,null,null,null,{"$f":"(D34/L35)","v":11999.491326197462}]
[]
[null,null,"Table 4","Age","Age","Age","Age"]
[null,null,"Statistics","208Pb/232Th","207Pb/206Pb","206Pb/238U","207Pb/235U"]
[null,null,"Average",5074.9302616497589,3027.4104739151112,1303.1043073527039,1293.5655340449107]
[null,null,"Maximim",24343.824562588001,6495.2209995052053,2940.5848343186622,2940.4599058453368]
[null,null,"Minimum",7.8709538575599112,868.55414978088208,5.1550695926784478,2.028738044040268]
[null,null,"Difference",{"$f":"(D41-D42)","v":24335.95360873044},{"$f":"(E41-E42)","v":5626.6668497243236},{"$f":"(F41-F42)","v":2935.4297647259837},{"$f":"(G41-G42)","v":2938.4311678012964}]
[]
[]
["Table 5",null,null,"Age",null,null,"Age",null,null,null,"Age",null,"Age"]
["Sample","208Pb/238U","208Pb/232Th","208Pb/232Th",null,"232Th/238U","207Pb/206Pb","207Pb/206Pb",null,"208Pb/206Pb","206Pb/238U","206Pb/238U","207Pb/235U","207Pb/235U"]
["94-12",{"$f":"J48/(1/L48)","v":3.8001599999999996E-2},{"$f":"(B48/F48)","v":0.13103999999999999},{"$f":"[2]!AgePb8Th2(C48)","v":2488.8845566550158},null,0.28999999999999998,{"$f":"[2]!AgePb76(H48)","v":2726.49530909432},0.18820000000000001,null,7.5399999999999995E-2,{"$f":"[2]!AgePb6U8(L48)","v":2630.9635811613093},0.504,{"$f":"[2]!AgePb7U5(N48)","v":2684.7183541923114},13.07]
["94-12",{"$f":"J49/(1/L49)","v":6.6821500000000006E-2},{"$f":"(B49/F49)","v":0.12776577437858508},{"$f":"[2]!AgePb8Th2(C49)","v":2430.2877147404629},null,0.52300000000000002,{"$f":"[2]!AgePb76(H49)","v":2709.7700892744947},0.18629999999999999,null,0.1249,{"$f":"[2]!AgePb6U8(L49)","v":2762.4843257963616},0.53500000000000003,{"$f":"[2]!AgePb7U5(N49)","v":2731.9539897052246},13.74]
["94-8",1.4731999999999998E-3,8.0945054945054939E-3,{"$f":"[2]!AgePb8Th2(C50)","v":162.9493826236988},null,0.182,{"$f":"[2]!AgePb76(H50)","v":2693.7425851113576},0.1845,null,2.8999999999999998E-3,{"$f":"[2]!AgePb6U8(L50)","v":2648.0855412458623},0.50800000000000001,{"$f":"[2]!AgePb7U5(N50)","v":2674.564439043219},12.93]
["94-12",3.0210000000000002E-3,5.3374558303886932E-3,{"$f":"[2]!AgePb8Th2(C51)","v":107.59498931251855},null,0.56599999999999995,{"$f":"[2]!AgePb76(H51)","v":2706.2239140000461},0.18590000000000001,null,5.7000000000000002E-3,{"$f":"[2]!AgePb6U8(L51)","v":2741.4519607048774},0.53,{"$f":"[2]!AgePb7U5(N51)","v":2721.5681195458133},13.59]
["94-12",2.0216000000000001E-3,5.6311977715877443E-3,{"$f":"[2]!AgePb8Th2(C52)","v":113.49978473260748},null,0.35899999999999999,{"$f":"[2]!AgePb76(H52)","v":2721.2347769394878},0.18759999999999999,null,3.8E-3,{"$f":"[2]!AgePb6U8(L52)","v":2749.8731430678458},0.53200000000000003,{"$f":"[2]!AgePb7U5(N52)","v":2732.6426184554284},13.75]
["94-12",2.0839999999999999E-3,6.5534591194968553E-3,{"$f":"[2]!AgePb8Th2(C53)","v":132.0278639009307},null,0.318,{"$f":"[2]!AgePb76(H53)","v":2690.1563945848497},0.18410000000000001,null,4.0000000000000001E-3,{"$f":"[2]!AgePb6U8(L53)","v":2703.419908313655},0.52100000000000002,{"$f":"[2]!AgePb7U5(N53)","v":2695.4860378484996},13.22]
["94-12",2.5300000000000001E-3,7.7370030581039757E-3,{"$f":"[2]!AgePb8Th2(C54)","v":155.78021105102201},null,0.32700000000000001,{"$f":"[2]!AgePb76(H54)","v":2702.6689216797608},0.1855,null,4.5999999999999999E-3,{"$f":"[2]!AgePb6U8(L54)","v":2825.1728021347644},0.55000000000000004,{"$f":"[2]!AgePb7U5(N54)","v":2754.4357137009738},14.07]
["94-8",2.0280000000000003E-3,4.6090909090909099E-3,{"$f":"[2]!AgePb8Th2(C55)","v":92.945964128444302},null,0.44,{"$f":"[2]!AgePb76(H55)","v":2694.6377297941144},0.18459999999999999,null,3.8999999999999998E-3,{"$f":"[2]!AgePb6U8(L55)","v":2699.1802408263338},0.52,{"$f":"[2]!AgePb7U5(N55)","v":2697.6259397011318},13.25]
["94-8",2.1755999999999998E-3,2.1755999999999998,{"$f":"[2]!AgePb8Th2(C56)","v":23355.161007960003},null,1E-3,{"$f":"[2]!AgePb76(H56)","v":2651.0264900206162},0.17979999999999999,null,4.1999999999999997E-3,{"$f":"[2]!AgePb6U8(L56)","v":2690.6925316579418},0.51800000000000002,{"$f":"[2]!AgePb7U5(N56)","v":2667.9828909879916},12.84]
["94-8",2.1965999999999999E-3,2.7526315789473681E-3,{"$f":"[2]!AgePb8Th2(C57)","v":55.560384568643741},null,0.79800000000000004,{"$f":"[2]!AgePb76(H57)","v":2661.1386977320763},0.18090000000000001,null,4.1999999999999997E-3,{"$f":"[2]!AgePb6U8(L57)","v":2711.8908874328758},0.52300000000000002,{"$f":"[2]!AgePb7U5(N57)","v":2683.273996831756},13.05]
["94-8",1.9988000000000002E-3,7.1899280575539572E-3,{"$f":"[2]!AgePb8Th2(C58)","v":144.80452259005961},null,0.27800000000000002,{"$f":"[2]!AgePb76(H58)","v":2682.0544492954164},0.1832,null,3.8E-3,{"$f":"[2]!AgePb6U8(L58)","v":2724.5765212716537},0.52600000000000002,{"$f":"[2]!AgePb7U5(N58)","v":2699.7613412310893},13.28]
["94-12",2.5070000000000001E-3,8.4410774410774419E-3,{"$f":"[2]!AgePb8Th2(C59)","v":169.8969331343516},null,0.29699999999999999,{"$f":"[2]!AgePb76(H59)","v":2676.6275574193255},0.18260000000000001,null,4.5999999999999999E-3,{"$f":"[2]!AgePb6U8(L59)","v":2804.3443052358339},0.54500000000000004,{"$f":"[2]!AgePb7U5(N59)","v":2729.8852968607871},13.71]
["94-12",3.6448000000000001E-3,6.2722422990879375E-3,{"$f":"[2]!AgePb8Th2(C60)","v":126.38006375957431},null,0.58109999999999995,{"$f":"[2]!AgePb76(H60)","v":2670.2700700375885},0.18190000000000001,null,6.7000000000000002E-3,{"$f":"[2]!AgePb6U8(L60)","v":2800.1705179860405},0.54400000000000004,{"$f":"[2]!AgePb7U5(N60)","v":2724.3480885739282},13.63]
["94-12",4.7385999999999999E-3,1.0530222222222222E-2,{"$f":"[2]!AgePb8Th2(C61)","v":211.72643962737328},null,0.45,{"$f":"[2]!AgePb76(H61)","v":2670.2700700375885},0.18190000000000001,null,5.7999999999999996E-3,{"$f":"[2]!AgePb6U8(L61)","v":3849.7133886480851},0.81699999999999995,{"$f":"[2]!AgePb7U5(N61)","v":3114.7765757774473},20.49]
["94-12",6.8179999999999988E-4,4.6380952380952372E-3,{"$f":"[2]!AgePb8Th2(C62)","v":93.529508180618592},null,0.14699999999999999,{"$f":"[2]!AgePb76(H62)","v":2663.8842281415691},0.1812,null,1.4E-3,{"$f":"[2]!AgePb6U8(L62)","v":2557.6835937342021},0.48699999999999999,{"$f":"[2]!AgePb7U5(N62)","v":2617.5981273850734},12.17]
[null,null,"Average",{"$f":"AVERAGE(D48:D62)","v":1989.4019551310219},null,null,{"$f":"AVERAGE(G48:G62)","v":2688.0134188775073},null,null,null,{"$f":"AVERAGE(K48:K62)","v":2793.3135499478435},null,{"$f":"AVERAGE(M48:M62)","v":2728.7081019893781}]
[null,null,"Maximim",{"$f":"MAX(D48:D63)","v":23355.161007960003},null,null,{"$f":"AVERAGE(G48:G63)","v":2688.0134188775073},null,null,null,{"$f":"AVERAGE(K48:K63)","v":2793.3135499478435},null,{"$f":"AVERAGE(M48:M63)","v":2728.7081019893781}]
[null,null,"Minimum",{"$f":"MIN(D48:D64)","v":55.560384568643741},null,null,{"$f":"MIN(G48:G64)","v":2651.0264900206162},null,null,null,{"$f":"MIN(K48:K64)","v":2557.6835937342021},null,{"$f":"MIN(M48:M64)","v":2617.5981273850734}]
[]
[]
[null,null,"Table 5","Age","Age","Age","Age"]
[null,null,"Statistics","208Pb/232Th","207Pb/206Pb","206Pb/238U","207Pb/235U"]
[null,null,"Average",1989.4019551310219,2688.0134188775073,2793.3135499478435,2728.7081019893781]
[null,null,"Maximim",23355.161007960003,2688.0134188775073,2793.3135499478435,2728.7081019893781]
[null,null,"Minimum",55.560384568643741,2651.0264900206162,2557.6835937342021,2617.5981273850734]
[null,null,"Difference",{"$f":"(D71-D72)","v":23299.600623391358},{"$f":"(E71-E72)","v":36.986928856891154},{"$f":"(F71-F72)","v":235.62995621364144},{"$f":"(G71-G72)","v":111.10997460430463}]
[]
[]
["Table 9",null,null,"Age",null,"Age",null,null,null,null,null,"Age"]
["Sample","208Pb/238U","208Pb/232Th","208Pb/232Th","232Th/238U","207Pb/206Pb","207Pb/206Pb",null,"208Pb/206Pb",null,"206Pb/238U","207Pb/235U","207Pb/235U"]
["2013-01-27",{"$f":"I78/(1/K78)","v":0.10306470000000002},{"$f":"(B78/E78)","v":0.16704165316045386},{"$f":"[2]!AgePb8Th2(C78)","v":3122.2242582831045},0.61699999999999999,{"$f":"[2]!AgePb76(G78)","v":3347.2293155094762},0.2772,null,0.15090000000000001,null,0.68300000000000005,{"$f":"[2]!AgePb7U5(M78)","v":3350.6652419257489},26.11]
["2013-01-11",{"$f":"I79/(1/K79)","v":3.1800799999999997E-2},{"$f":"(B79/E79)","v":8.4352254641909805E-2},{"$f":"[2]!AgePb8Th2(C79)","v":1636.8430194387361},0.377,{"$f":"[2]!AgePb76(G79)","v":2737.8271066605603},0.1895,null,0.1016,null,0.313,{"$f":"[2]!AgePb7U5(M79)","v":2708.258320131954},13.4]
["2013-01-15",0.15578520000000001,0.14188087431693988,{"$f":"[2]!AgePb8Th2(C80)","v":2681.6936348708282},1.0980000000000001,{"$f":"[2]!AgePb76(G80)","v":2736.9586146739657},0.18940000000000001,null,0.29730000000000001,null,0.52400000000000002,{"$f":"[2]!AgePb7U5(M80)","v":2727.812380754805},13.68]
["2013-01-17",7.9156000000000004E-2,0.1400991150442478,{"$f":"[2]!AgePb8Th2(C81)","v":2650.1304021899696},0.56499999999999995,{"$f":"[2]!AgePb76(G81)","v":2735.2200446156576},0.18920000000000001,null,0.154,null,0.51400000000000001,{"$f":"[2]!AgePb7U5(M81)","v":2708.9632025297569},13.41]
["2013-01-19",0.12903149999999999,0.13859452201933403,{"$f":"[2]!AgePb8Th2(C82)","v":2623.4386330194466},0.93100000000000005,{"$f":"[2]!AgePb76(G82)","v":2740.4294179447306},0.1898,null,0.2535,null,0.50900000000000001,{"$f":"[2]!AgePb7U5(M82)","v":2703.3103943139367},13.33]
["2013-01-20",4.1082600000000004E-2,6.0388946053211824E-3,{"$f":"[2]!AgePb8Th2(C83)","v":121.69244183347439},6.8029999999999999,{"$f":"[2]!AgePb76(G83)","v":2729.9916005549007},0.18859999999999999,null,0.1794,null,0.22900000000000001,{"$f":"[2]!AgePb7U5(M83)","v":1967.1033908907073},5.94]
["2013-01-21",0.10254300000000001,0.80742519685039371,{"$f":"[2]!AgePb8Th2(C84)","v":11963.684473492069},0.127,{"$f":"[2]!AgePb76(G84)","v":2824.5633468258802},0.19980000000000001,null,0.19950000000000001,null,0.51400000000000001,{"$f":"[2]!AgePb7U5(M84)","v":2712.4802931721774},13.46]
["2013-01-26",0.1065526,0.1402007894736842,{"$f":"[2]!AgePb8Th2(C85)","v":2651.932855268456},0.76,{"$f":"[2]!AgePb76(G85)","v":2731.7365425943308},0.1888,null,0.20569999999999999,null,0.51800000000000002,{"$f":"[2]!AgePb7U5(M85)","v":2714.5847147612235},13.49]
["2013-01-30",0.1165016,0.13375614236509759,{"$f":"[2]!AgePb8Th2(C86)","v":2537.3651374355936},0.871,{"$f":"[2]!AgePb76(G86)","v":2736.9586146739657},0.18940000000000001,null,0.2722,null,0.42799999999999999,{"$f":"[2]!AgePb7U5(M86)","v":2538.24974593263},11.18]
["38-1",6.9904800000000003E-2,6.5823728813559315E-2,{"$f":"[2]!AgePb8Th2(C87)","v":1288.4882159636295},1.0620000000000001,{"$f":"[2]!AgePb76(G87)","v":2716.8361580991796},0.18709999999999999,null,0.15329999999999999,null,0.45600000000000002,{"$f":"[2]!AgePb7U5(M87)","v":2585.4853814455437},11.76]
["2013-01-02",5.8212000000000007E-2,7.9200000000000007E-2,{"$f":"[2]!AgePb8Th2(C88)","v":1540.5765722366652},0.73499999999999999,{"$f":"[2]!AgePb76(G88)","v":2723.86746398269},0.18790000000000001,null,0.16170000000000001,null,0.36,{"$f":"[2]!AgePb7U5(M88)","v":2369.9890948402467},9.32]
["2013-01-05",6.2331900000000003E-2,0.14362188940092166,{"$f":"[2]!AgePb8Th2(C89)","v":2712.4875607303447},0.434,{"$f":"[2]!AgePb76(G89)","v":2724.7439494898849},0.188,null,0.1201,null,0.51900000000000002,{"$f":"[2]!AgePb7U5(M89)","v":2711.7778489703419},13.45]
["2013-01-07",6.2458000000000007E-2,4.6094464944649451E-2,{"$f":"[2]!AgePb8Th2(C90)","v":910.83723536149887},1.355,{"$f":"[2]!AgePb76(G90)","v":2728.2445244157889},0.18840000000000001,null,0.187,null,0.33400000000000002,{"$f":"[2]!AgePb7U5(M90)","v":2304.9823844123325},8.68]
["2013-02-07",5.7962799999999995E-2,0.13417314814814812,{"$f":"[2]!AgePb8Th2(C91)","v":2544.7980113445146},0.432,{"$f":"[2]!AgePb76(G91)","v":2718.5972305821738},0.18729999999999999,null,0.11409999999999999,null,0.50800000000000001,{"$f":"[2]!AgePb7U5(M91)","v":2689.0391396623204},13.13]
["2013-01-08",6.2141400000000006E-2,2.3872992700729928E-2,{"$f":"[2]!AgePb8Th2(C92)","v":476.85676319749274},2.6030000000000002,{"$f":"[2]!AgePb76(G92)","v":2719.4769537018651},0.18740000000000001,null,0.1817,null,0.34200000000000003,{"$f":"[2]!AgePb7U5(M92)","v":2320.5959629985023},8.83]
["2013-01-12",0.11805499999999999,0.10355701754385965,{"$f":"[2]!AgePb8Th2(C93)","v":1991.6849945815859},1.1399999999999999,{"$f":"[2]!AgePb76(G93)","v":2713.3074899317976},0.1867,null,0.33729999999999999,null,0.35,{"$f":"[2]!AgePb7U5(M93)","v":2339.0207578079189},9.01]
["2013-01-22",5.5668599999999992E-2,0.12261806167400879,{"$f":"[2]!AgePb8Th2(C94)","v":2337.8173328222947},0.45400000000000001,{"$f":"[2]!AgePb76(G94)","v":2729.1183295650526},0.1885,null,0.10979999999999999,null,0.50700000000000001,{"$f":"[2]!AgePb7U5(M94)","v":2691.9094823603486},13.17]
["28-1?c+r",5.5000000000000007E-6,7.8571428571428575E-4,{"$f":"[2]!AgePb8Th2(C95)","v":15.874800886020923},7.0000000000000001E-3,".",5.9999999999999995E-4,null,1.1000000000000001E-3,null,5.0000000000000001E-3,{"$f":"[2]!AgePb7U5(M95)","v":124.09771307737128},0.13]
["32-1?c+r",4.2000000000000004E-6,3.0000000000000003E-4,{"$f":"[2]!AgePb8Th2(C96)","v":6.0627591510448191},1.4E-2,".",5.0000000000000001E-4,null,6.9999999999999999E-4,null,6.0000000000000001E-3,{"$f":"[2]!AgePb7U5(M96)","v":141.91190777799525},0.15]
["33-1",9.9727200000000002E-2,0.11844085510688837,{"$f":"[2]!AgePb8Th2(C97)","v":2262.468353509249},0.84199999999999997,{"$f":"[2]!AgePb76(G97)","v":2722.990440483853},0.18779999999999999,null,0.20519999999999999,null,0.48599999999999999,{"$f":"[2]!AgePb7U5(M97)","v":2649.4737555597831},12.59]
["37-1?c+r",2.5999999999999997E-6,4.684684684684684E-6,{"$f":"[2]!AgePb8Th2(C98)","v":9.4687695028162266E-2},0.55500000000000005,".",5.9999999999999995E-4,null,1.2999999999999999E-3,null,2E-3,{"$f":"[2]!AgePb7U5(M98)","v":59.165261840864929},0.06]
["14-1?c+r",5.5000000000000007E-6,3.5483870967741938E-5,{"$f":"[2]!AgePb8Th2(C99)","v":0.71719538009273376},0.155,".",6.9999999999999999E-4,null,1.1000000000000001E-3,null,5.0000000000000001E-3,{"$f":"[2]!AgePb7U5(M99)","v":124.09771307737128},0.13]
["2013-01-01",0.1248068,0.14102463276836158,{"$f":"[2]!AgePb8Th2(C100)","v":2666.5317716209488},0.88500000000000001,{"$f":"[2]!AgePb76(G100)","v":2700.8881057853296},0.18529999999999999,null,0.2452,null,0.50900000000000001,{"$f":"[2]!AgePb7U5(M100)","v":2680.3791037710471},13.01]
["2013-01-03",9.5520999999999981E-2,3.7920206431123454E-2,{"$f":"[2]!AgePb8Th2(C101)","v":752.27709695466024},2.5190000000000001,{"$f":"[2]!AgePb76(G101)","v":2669.3595486245517},0.18179999999999999,null,0.32379999999999998,null,0.29499999999999998,{"$f":"[2]!AgePb7U5(M101)","v":2158.5499461785971},7.38]
["2013-01-04",6.8191200000000007E-2,5.3316028146989845E-2,{"$f":"[2]!AgePb8Th2(C102)","v":1049.8900418671485},1.2789999999999999,{"$f":"[2]!AgePb76(G102)","v":2490.1185567260736},0.1633,null,0.29520000000000002,null,0.23100000000000001,{"$f":"[2]!AgePb7U5(M102)","v":1850.9773942189215},5.19]
["2013-01-06",0.15161849999999999,0.11627185582822085,{"$f":"[2]!AgePb8Th2(C103)","v":2223.2325963866119},1.304,{"$f":"[2]!AgePb76(G103)","v":2699.1050695806262},0.18509999999999999,null,0.30630000000000002,null,0.495,{"$f":"[2]!AgePb7U5(M103)","v":2651.7127488666965},12.62]
["2013-01-09",0.15411919999999998,0.13519228070175437,{"$f":"[2]!AgePb8Th2(C104)","v":2562.951933198091},1.1399999999999999,{"$f":"[2]!AgePb76(G104)","v":2665.7116620523329},0.18140000000000001,null,0.30640000000000001,null,0.503,{"$f":"[2]!AgePb7U5(M104)","v":2649.4737555597831},12.59]
["2013-01-10",9.3284099999999995E-2,9.8713333333333333E-2,{"$f":"[2]!AgePb8Th2(C105)","v":1902.7751026822193},0.94499999999999995,{"$f":"[2]!AgePb76(G105)","v":2672.0893776032367},0.18210000000000001,null,0.19889999999999999,null,0.46899999999999997,{"$f":"[2]!AgePb7U5(M105)","v":2587.0756449706946},11.78]
["2013-01-13",0.11319839999999999,0.13787868453105967,{"$f":"[2]!AgePb8Th2(C106)","v":2610.7271534867778},0.82099999999999995,{"$f":"[2]!AgePb76(G106)","v":2658.3878944280395},0.18060000000000001,null,0.22459999999999999,null,0.504,{"$f":"[2]!AgePb7U5(M106)","v":2647.2298141973392},12.56]
["2013-01-16",0.1433712,0.14069793915603535,{"$f":"[2]!AgePb8Th2(C107)","v":2660.7438585460354},1.0189999999999999,{"$f":"[2]!AgePb76(G107)","v":2658.3878944280395},0.18060000000000001,null,0.28560000000000002,null,0.502,{"$f":"[2]!AgePb7U5(M107)","v":2642.726999486606},12.5]
["2013-01-18",0.19168260000000001,0.14063286867204697,{"$f":"[2]!AgePb8Th2(C108)","v":2659.5908302520256},1.363,{"$f":"[2]!AgePb76(G108)","v":2662.0544594416015},0.18099999999999999,null,0.3826,null,0.501,{"$f":"[2]!AgePb7U5(M108)","v":2641.9745851852203},12.49]
["2013-01-23",4.8000000000000006E-6,4.3636363636363642E-4,{"$f":"[2]!AgePb8Th2(C109)","v":8.8179577046873288},1.0999999999999999E-2,".",5.0000000000000001E-4,null,8.0000000000000004E-4,null,6.0000000000000001E-3,{"$f":"[2]!AgePb7U5(M109)","v":141.91190777799525},0.15]
["2013-01-24",0.1834326,0.13938647416413374,{"$f":"[2]!AgePb8Th2(C110)","v":2637.4924098532601},1.3160000000000001,{"$f":"[2]!AgePb76(G110)","v":2649.1802140186824},0.17960000000000001,null,0.36180000000000001,null,0.50700000000000001,{"$f":"[2]!AgePb7U5(M110)","v":2632.142121245367},12.36]
["2013-01-25",6.5648999999999999E-2,0.10779802955665024,{"$f":"[2]!AgePb8Th2(C111)","v":2069.212489454173},0.60899999999999999,{"$f":"[2]!AgePb76(G111)","v":2686.561192275326},0.1837,null,0.13850000000000001,null,0.47399999999999998,{"$f":"[2]!AgePb7U5(M111)","v":2603.6247455780153},11.99]
["2013-01-29",5.5000000000000007E-6,1.8333333333333336E-4,{"$f":"[2]!AgePb8Th2(C112)","v":3.7052355701182123},0.03,".",5.9999999999999995E-4,null,1.1000000000000001E-3,null,5.0000000000000001E-3,{"$f":"[2]!AgePb7U5(M112)","v":141.91190777799525},0.15]
["2013-01-31",5.4079500000000003E-2,0.11756413043478262,{"$f":"[2]!AgePb8Th2(C113)","v":2246.6181560923264},0.46,{"$f":"[2]!AgePb76(G113)","v":2669.3595486245517},0.18179999999999999,null,0.1163,null,0.46500000000000002,{"$f":"[2]!AgePb7U5(M113)","v":2577.4964885170639},11.66]
["34-1",4.25952E-2,0.11766629834254144,{"$f":"[2]!AgePb8Th2(C114)","v":2248.4658770802284},0.36199999999999999,{"$f":"[2]!AgePb76(G114)","v":2685.6609784413595},0.18360000000000001,null,8.6400000000000005E-2,null,0.49299999999999999,{"$f":"[2]!AgePb7U5(M114)","v":2640.4680818624893},12.47]
["35-1",7.0607600000000006E-2,2.4423244552058115E-2,{"$f":"[2]!AgePb8Th2(C115)","v":487.71634118316882},2.891,{"$f":"[2]!AgePb76(G115)","v":2633.3900937834596},0.1779,null,0.23380000000000001,null,0.30199999999999999,{"$f":"[2]!AgePb7U5(M115)","v":2163.3851127118191},7.42]
["36-1",3.4801000000000006E-2,9.7509106192210718E-3,{"$f":"[2]!AgePb8Th2(C116)","v":196.13294163500925},3.569,{"$f":"[2]!AgePb76(G116)","v":2690.1563945848497},0.18410000000000001,null,0.26769999999999999,null,0.13,{"$f":"[2]!AgePb7U5(M116)","v":1483.4115896996054},3.31]
["39-1",2.63012E-2,5.4274040445728439E-3,{"$f":"[2]!AgePb8Th2(C117)","v":109.40331000340488},4.8460000000000001,{"$f":"[2]!AgePb76(G117)","v":2638.9829596919053},0.17849999999999999,null,0.1399,null,0.188,{"$f":"[2]!AgePb7U5(M117)","v":1756.4949642178681},4.6399999999999997]
["40-1",6.4999999999999996E-6,3.1250000000000001E-5,{"$f":"[2]!AgePb8Th2(C118)","v":0.63162226839513813},0.20799999999999999,".",6.9999999999999999E-4,null,1.2999999999999999E-3,null,5.0000000000000001E-3,{"$f":"[2]!AgePb7U5(M118)","v":133.04387714515326},0.14000000000000001]
[null,null,"Average",{"$f":"AVERAGE(D78:D118)","v":1833.5289284031812},"Average",{"$f":"AVERAGE(F78:F118)","v":2716.1026792469324},null,null,null,null,"Average",{"$f":"AVERAGE(L78:L118)","v":2098.2186555417597}]
[null,null,"Maximim",{"$f":"MAX(D78:D119)","v":11963.684473492069},"Maximim",{"$f":"MAX(F78:F119)","v":3347.2293155094762},null,null,null,null,"Maximim",{"$f":"MAX(L78:L119)","v":3350.6652419257489}]
[null,null,"Minimum",{"$f":"MIN(D78:D120)","v":9.4687695028162266E-2},"Minimum",{"$f":"MIN(F78:F120)","v":2490.1185567260736},null,null,null,null,"Minimum",{"$f":"MIN(L78:L120)","v":59.165261840864929}]
[]
[]
[null,null,"Table 9","Age","Age","Age"]
[null,null,"Statistics","208Pb/232Th","207Pb/206Pb","207Pb/235U"]
[null,null,"Average",1833.5289284031812,2716.1026792469324,2098.2186555417597]
[null,null,"Maximim",11963.684473492069,3347.2293155094762,3350.6652419257489]
[null,null,"Minimum",0.1,2490.1185567260736,59.165261840864929]
[null,null,"Difference",{"$f":"(D127-D128)","v":11963.584473492068},{"$f":"(E127-E128)","v":857.11075878340262},{"$f":"(F127-F128)","v":3291.4999800848841}]

{"sheet":"232_Th_11","index":10,"n_rows":43,"n_cols":21,"rows_kept":43,"cut":false,"hidden":false,"merged":[]}
[null,null,null,null,null,null,null,null,null,null,null,null,null,null,"Age","Age","Age","Age","Ratio","Ratio","Ratio"]
[null,null,null,null,null,null,null,"206Pb/238U","207Pb/235U",null,null,null,null,null,"207Pb/206Pb","206Pb/238U","207Pb/235U","208Pb/232Th","207Pb/206Pb","206Pb/238U","207Pb/235U"]
["cof01",46,995448,0,1.0129999999999999,0,0.12479999999999999,1.2999999999999999E-4,2.2200000000000002E-3,3.79E-3,1.2999999999999999E-3,1.0000000000000001E-5,3.0000000000000001E-5,4.0000000000000003E-5,2025,{"$f":"[2]!AgePb6U8(H3)","v":0.83797937619484575},2.2999999999999998,76,{"$f":"(O3/R3)","v":26.644736842105264},{"$f":"(R3/P3)","v":90.694356160775712},{"$f":"(R3/Q3)","v":33.04347826086957}]
["cof02",145,1026430,1E-4,1.0156000000000001,0,7.8200000000000006E-2,2.2000000000000001E-4,2.3700000000000001E-3,3.64E-3,8.0000000000000004E-4,1.0000000000000001E-5,3.0000000000000001E-5,3.0000000000000001E-5,1151,{"$f":"[2]!AgePb6U8(H4)","v":1.4180551397186576},2.4,73,{"$f":"(O4/R4)","v":15.767123287671232},{"$f":"(R4/P4)","v":51.478957309433831},{"$f":"(R4/Q4)","v":30.416666666666668}]
["cof03",18,923608,0,1.0174000000000001,0,6.0100000000000001E-2,3.4000000000000002E-4,2.8600000000000001E-3,4.6299999999999996E-3,5.9999999999999995E-4,1.0000000000000001E-5,3.0000000000000001E-5,5.0000000000000002E-5,609,{"$f":"[2]!AgePb6U8(H5)","v":2.1914083036132177},2.9,93,6.5483870967741939,42.438462903814226,32.068965517241381]
["cof04",175,1538763,1E-4,1.012,0,9.6299999999999997E-2,1.3999999999999999E-4,1.91E-3,3.7200000000000002E-3,1E-3,1.0000000000000001E-5,2.0000000000000002E-5,3.0000000000000001E-5,1554,{"$f":"[2]!AgePb6U8(H6)","v":0.90243481653247137},1.9,75,20.72,83.108495623186485,39.473684210526315]
["cof05",23,1716439,0,1.0201,0,6.9199999999999998E-2,2.1000000000000001E-4,1.97E-3,4.6100000000000004E-3,6.9999999999999999E-4,1.0000000000000001E-5,2.0000000000000002E-5,4.0000000000000003E-5,904,{"$f":"[2]!AgePb6U8(H7)","v":1.3536048547078636},2,93,9.720430107526882,68.705427345760626,46.5]
["cof06",1057,1347209,8.0000000000000004E-4,1.0154000000000001,0,7.2599999999999998E-2,6.4000000000000005E-4,6.4000000000000003E-3,2.5899999999999999E-3,6.9999999999999999E-4,1.0000000000000001E-5,8.0000000000000007E-5,2.0000000000000002E-5,1004,{"$f":"[2]!AgePb6U8(H8)","v":4.1243854139525267},6.5,52,19.307692307692307,12.607939069924793,8]
["cof07",145,586259,2.0000000000000001E-4,1.0177,0,9.7100000000000006E-2,1.7000000000000001E-4,2.2799999999999999E-3,3.0400000000000002E-3,1E-3,1.0000000000000001E-5,2.0000000000000002E-5,3.0000000000000001E-5,1568,{"$f":"[2]!AgePb6U8(H9)","v":1.0957972708297268},2.2999999999999998,61,25.704918032786885,55.667231178456404,26.521739130434785]
["cof08",76,1025206,1E-4,1.0159,0,0.14180000000000001,6.0000000000000002E-5,1.0200000000000001E-3,3.31E-3,1.6000000000000001E-3,1.0000000000000001E-5,1.0000000000000001E-5,4.0000000000000003E-5,2250,{"$f":"[2]!AgePb6U8(H10)","v":0.38677324784493639},1,67,33.582089552238806,173.22811330234862,67]
["cof08b",314,960749,2.9999999999999997E-4,1.0130999999999999,0,0.1575,3.0000000000000001E-5,6.8999999999999997E-4,3.5000000000000001E-3,1.8E-3,1.0000000000000001E-5,1.0000000000000001E-5,3.0000000000000001E-5,2429,{"$f":"[2]!AgePb6U8(H11)","v":0.19338952463480608},0.7,71,34.2112676056338,367.13467357694452,101.42857142857143]
["cof08c",41,607466,1E-4,1.0093000000000001,0,6.7199999999999996E-2,2.2000000000000001E-4,1.99E-3,3.1199999999999999E-3,6.9999999999999999E-4,1.0000000000000001E-5,2.0000000000000002E-5,4.0000000000000003E-5,843,{"$f":"[2]!AgePb6U8(H12)","v":1.4180551397186576},2,63,13.380952380952381,44.427045349237417,31.5]
["cof09",249,1334404,2.0000000000000001E-4,1.0137,0,5.8299999999999998E-2,1.2999999999999999E-4,1.0399999999999999E-3,3.8E-3,5.9999999999999995E-4,1.0000000000000001E-5,1.0000000000000001E-5,3.0000000000000001E-5,540,{"$f":"[2]!AgePb6U8(H13)","v":0.83797937619484575},1.1000000000000001,77,7.0129870129870131,91.887702952364876,70]
["cof10",319,1194741,2.9999999999999997E-4,1.0174000000000001,0,7.7100000000000002E-2,4.0000000000000003E-5,5.0000000000000001E-4,3.1099999999999999E-3,8.9999999999999998E-4,1.0000000000000001E-5,1.0000000000000001E-5,3.0000000000000001E-5,1123,{"$f":"[2]!AgePb6U8(H14)","v":0.2578514102908796},0.5,63,17.825396825396826,244.32676140468004,126]
["cof10b",879,464343,1.9E-3,1.0149999999999999,0,4.6800000000000001E-2,1.0499999999999999E-3,6.7400000000000003E-3,0.1186,5.0000000000000001E-4,1.0000000000000001E-5,6.9999999999999994E-5,8.9999999999999998E-4,37,{"$f":"[2]!AgePb6U8(H15)","v":6.765183790951645},6.8,2266,{"$f":"(R15/15)","v":151.06666666666666},334.95024969325277,333.23529411764707]
["carn01",31,399695,1E-4,1.0076000000000001,0,4.6399999999999997E-2,8.4999999999999995E-4,5.4200000000000003E-3,0.54459999999999997,5.0000000000000001E-4,1.0000000000000001E-5,6.0000000000000002E-5,5.3E-3,21,{"$f":"[2]!AgePb6U8(H16)","v":5.4771246064653534},5.5,8788,{"$f":"(R16/15)","v":585.86666666666667},1604.491522728257,1597.8181818181818]
["carn02",90,1414164,1E-4,1.0167999999999999,0,4.6300000000000001E-2,6.6E-4,4.2500000000000003E-3,0.86180000000000001,5.0000000000000001E-4,1.0000000000000001E-5,5.0000000000000002E-5,7.9000000000000008E-3,13,{"$f":"[2]!AgePb6U8(H17)","v":4.2532299486523328},4.3,12563,837.5333333333333,2953.7551817485623,2921.6279069767443]
["carn03",37,339625,1E-4,0.99519999999999997,0,4.6199999999999998E-2,7.2000000000000005E-4,4.5700000000000003E-3,0.29699999999999999,5.0000000000000001E-4,1.0000000000000001E-5,6.0000000000000002E-5,3.5000000000000001E-3,11,{"$f":"[2]!AgePb6U8(H18)","v":4.6397481021686255},4.5999999999999996,5256,350.4,1132.8201195972983,1142.608695652174]
["carn04",67,661112,1E-4,1.0116000000000001,0,4.6399999999999997E-2,6.4999999999999997E-4,4.1799999999999997E-3,0.57199999999999995,5.0000000000000001E-4,1.0000000000000001E-5,5.0000000000000002E-5,5.5999999999999999E-3,17,{"$f":"[2]!AgePb6U8(H19)","v":4.1888080032045298},4.2,9143,609.5333333333333,2182.7211925219308,2176.9047619047619]
["carn05",25,1209663,0,1.0068999999999999,0,4.65E-2,5.5000000000000003E-4,3.5200000000000001E-3,1.7685999999999999,5.0000000000000001E-4,1.0000000000000001E-5,4.0000000000000003E-5,2.2100000000000002E-2,22,{"$f":"[2]!AgePb6U8(H20)","v":3.544553137376421},3.6,20583,1372.2,5806.9379135433019,5717.5]
["carn06",228,1166612,2.0000000000000001E-4,1.0204,0,4.6199999999999998E-2,5.2999999999999998E-4,3.3600000000000001E-3,4.6800000000000001E-2,5.0000000000000001E-4,1.0000000000000001E-5,4.0000000000000003E-5,5.0000000000000001E-4,9,{"$f":"[2]!AgePb6U8(H21)","v":3.4156944374270317},3.4,925,61.666666666666664,270.80876727860419,272.05882352941177]
["carn07",25,740907,0,0.99329999999999996,0,4.6300000000000001E-2,6.3000000000000003E-4,4.0200000000000001E-3,1.3572,5.0000000000000001E-4,1.0000000000000001E-5,5.0000000000000002E-5,1.6500000000000001E-2,11,{"$f":"[2]!AgePb6U8(H22)","v":4.0599621808834545},4.0999999999999996,17331,1155.4000000000001,4268.7589755401968,4227.0731707317073]
["carn08",283,1530451,2.0000000000000001E-4,1.0065999999999999,0,4.6699999999999998E-2,7.9000000000000001E-4,5.0800000000000003E-3,0.13769999999999999,5.0000000000000001E-4,1.0000000000000001E-5,6.9999999999999994E-5,1.4E-3,35,{"$f":"[2]!AgePb6U8(H23)","v":5.0906566591399711},5.0999999999999996,2608,173.86666666666667,512.31111713603616,511.3725490196079]
["carn09",242,1130958,2.0000000000000001E-4,1.02,0,4.6600000000000003E-2,6.8999999999999997E-4,4.4200000000000003E-3,0.1237,5.0000000000000001E-4,1.0000000000000001E-5,6.0000000000000002E-5,1.1999999999999999E-3,29,{"$f":"[2]!AgePb6U8(H24)","v":4.4464919222977786},4.5,2358,157.19999999999999,530.30569743652541,524]
[null,null,null,null,null,null,null,null,null,null,null,null,null,"Average",{"$f":"AVERAGE(O3:O24)","v":736.59090909090912},{"$f":"AVERAGE(P3:P24)","v":2.7681439392182083},3.2590909090909093,3758.409090909091,258.41633247204999,951.07117742731327,910.73420404384308]
[null,null,null,null,null,null,null,null,null,null,null,null,null,"Maximum",{"$f":"MAX(O3:O25)","v":2429},{"$f":"MAX(P3:P25)","v":6.765183790951645},6.8,20583,{"$f":"MAX(S3:S24)","v":1372.2},{"$f":"MAX(T3:T24)","v":5806.9379135433019},{"$f":"MAX(U3:U24)","v":5717.5}]
[null,null,null,null,null,null,null,null,null,null,{"$f":"(R26/P27)","v":106432.85896104576},null,null,"Minimum",{"$f":"MIN(O3:O26)","v":9},{"$f":"MIN(P3:P26)","v":0.19338952463480608},0.5,52,6.5483870967741939,12.607939069924793,8]
[]
[]
[null,null,null,null,null,null,null,null,null,null,null,null,null,"Statistical","Age","Age","Age","Age","Ratio","Ratio","Ratio"]
[null,null,null,null,null,null,null,null,null,null,null,null,null,"Summary","207/206","206Pb/238U","207Pb/235U","208Pb/232Th","207Pb/206Pb","206Pb/238U","207Pb/235U"]
[null,null,null,null,null,null,null,null,null,null,null,null,null,"Average",736.59090909090912,2.7681439392182083,3.2590909090909093,3758.409090909091,258.41633247204999,951.07117742731327,910.73420404384308]
[null,null,null,null,null,null,null,null,null,null,null,null,null,"Maximum",2429,6.765183790951645,6.8,20583,1372.2,5806.9379135433019,5717.5]
[null,null,null,null,null,null,null,null,null,null,null,null,null,"Minimum",9,0.19338952463480608,0.5,52,6.5483870967741939,12.607939069924793,8]
[null,null,null,null,null,null,null,null,null,null,null,null,null,"Difference",{"$f":"(O33-O34)","v":2420},6.5717942663168394,6.3,20531,1365.6516129032259,5794.3299744733768,5709.5]
[]
[]
[null,null,null,null,null,null,null,null,null,null,null,null,null,"Statistical","Ratio","Ratio","Ratio"]
[null,null,null,null,null,null,null,null,null,null,null,null,null,"Summary","207Pb/206Pb","206Pb/238U","207Pb/235U"]
[null,null,null,null,null,null,null,null,null,null,null,null,null,"Average",258.41633247204999,951.07117742731327,910.73420404384308]
[null,null,null,null,null,null,null,null,null,null,null,null,null,"Maximum",1372.2,5806.9379135433019,5717.5]
[null,null,null,null,null,null,null,null,null,null,null,null,null,"Minimum",6.5483870967741939,12.607939069924793,8]
[null,null,null,null,null,null,null,null,null,null,null,null,null,"Difference",{"$f":"(O41-O42)","v":1365.6516129032259},{"$f":"(P41-P42)","v":5794.3299744733768},{"$f":"(Q41-Q42)","v":5709.5}]

{"sheet":"Thorium_A","index":11,"n_rows":54,"n_cols":19,"rows_kept":54,"cut":false,"hidden":false,"merged":[]}
["Sample","206Pb/204Pb",null,"208Pb/204Pb"," ","238U/204Pb"," ","207Pb/206Pb","Age","238U/204Pb",null,"232Th/204Pb","206Pb/238U","206Pb/238U, Age","208Pb/232Th, Age",null,"206Pb/238U","208Pb/232Th","207Pb/206Pb"]
["0L1",16.71,-7,14.695,-39,36.340000000000003,-10,0.87939999999999996,{"$f":"[2]!AgePb76($H$2)","v":5056.1093243328123},3.19,-11,10.53,{"$f":"(B2/J2)","v":5.238244514106583},{"$f":"[2]!AgePb6U8(M2)","v":11801.442803762731},{"$f":"[2]!AgePb8Th2(D2/L2)","v":17657.549067080108},null,51612.003291225941,173633.17506628216,5278.8725054341166]
["0L2",13.15,-67,12.63,-30,33.06,-55,0.95599999999999996,{"$f":"[2]!AgePb76($H$3)","v":5174.0620395293727},2.94,-58,8,4.4727891156462585,{"$f":"[2]!AgePb6U8(M3)","v":10957.539917187441},{"$f":"[2]!AgePb8Th2(D3/L3)","v":19147.14068526174},null,50358.608497066372,172926.04478494989,5224.6654207251313]
["0L3",17.690000000000001,-11,15.065,-43,37.340000000000003,-11,0.85170000000000001,{"$f":"[2]!AgePb76($H$4)","v":5010.7499097828559},1.43,-10,4.17,12.370629370629372,{"$f":"[2]!AgePb6U8(M4)","v":16715.941746020562},{"$f":"[2]!AgePb8Th2(D4/L4)","v":30900.768072633618},null,48965.532583559303,142070.40951219312,5209.254997361847]
["PX1",12.234,-67,11.992000000000001,-63,32.28,-15,0.98019999999999996,{"$f":"[2]!AgePb76($H$5)","v":5209.254997361847},0.45600000000000002,-10,2.012,26.828947368421051,{"$f":"[2]!AgePb6U8(M5)","v":21441.268339687653},{"$f":"[2]!AgePb8Th2(D5/L5)","v":39216.04347357103},null,43933.295999072056,134555.06930703064,5206.0938271767718]
["PX2",13.371,-59,12.676,-30,33.24,-61,0.9476,{"$f":"[2]!AgePb76($H$6)","v":5161.6254370262059},0.26800000000000002,-11,0.77200000000000002,49.89179104477612,{"$f":"[2]!AgePb6U8(M6)","v":25332.484347564987},{"$f":"[2]!AgePb8Th2(D6/L6)","v":57758.486610685701},null,41519.590850807981,131778.15596790364,5174.0620395293727]
["PX3",18.651,-82,15.531000000000001,-68,38.29,-17,0.83262000000000003,{"$f":"[2]!AgePb76($H$7)","v":4978.5851905396485},0.12,-4,0.154,155.42500000000001,{"$f":"[2]!AgePb6U8(M7)","v":32571.001849375843},{"$f":"[2]!AgePb8Th2(D7/L7)","v":93451.389958790285},null,41031.966679326702,130861.20328345727,5161.6254370262059]
["M1",14.03,-7,13.010999999999999,-37,33.79,-10,0.92720000000000002,{"$f":"[2]!AgePb76($H$8)","v":5130.929706590523},0.22600000000000001,-15,0.64400000000000002,62.079646017699112,{"$f":"[2]!AgePb6U8(M8)","v":26716.507013300918},{"$f":"[2]!AgePb8Th2(D8/L8)","v":61731.426130438638},null,38205.314694829576,130120.01309122413,5146.9677122242456]
["M2",12.41,-24,12.15,-30,32.4,-7,0.97799999999999998,{"$f":"[2]!AgePb76($H$9)","v":5206.0938271767718},0.251,-13,0.437,49.442231075697208,{"$f":"[2]!AgePb6U8(M9)","v":25275.286010562253},{"$f":"[2]!AgePb8Th2(D9/L9)","v":67922.923076218591},null,37923.515548241463,128632.41129917947,5130.929706590523]
["M3",13.71,-9,12.87,-8,33.53,-13,0.93779999999999997,{"$f":"[2]!AgePb76($H$10)","v":5146.9677122242456},0.36799999999999999,-18,0.504,37.255434782608695,{"$f":"[2]!AgePb6U8(M10)","v":23492.574607569033},{"$f":"[2]!AgePb8Th2(D10/L10)","v":66265.61969767671},null,36605.910070357939,112890.24444709039,5098.2627179840119]
["WR",17.04,-8,14.898,-29,36.71,-8,0.87350000000000005,{"$f":"[2]!AgePb76($H$11)","v":5046.5762634499933},0.93700000000000006,-30,2.6589999999999998,18.185699039487726,{"$f":"[2]!AgePb6U8(M11)","v":19043.772182485052},{"$f":"[2]!AgePb8Th2(D11/L11)","v":38150.634027815839},null,36367.991273502521,111967.47161992679,5080.517939170245]
["Metal",15.61,-11,13.968,-60,35.479999999999997,-14,0.89470000000000005,{"$f":"[2]!AgePb76($H$12)","v":5080.517939170245},2.52,-10,".",6.1944444444444438,{"$f":"[2]!AgePb6U8(M12)","v":12720.767917765852},".",null,36183.835650416673,106435.23895830188,5056.1093243328123]
["White",17.72,-32,15.337999999999999,-46,37.32,-17,0.8629,{"$f":"[2]!AgePb76($H$13)","v":5029.2761400598392},0.79,-13,0.29299999999999998,22.430379746835442,{"$f":"[2]!AgePb6U8(M13)","v":20332.206028083652},{"$f":"[2]!AgePb8Th2(D13/L13)","v":80380.773964192093},null,33843.699551119098,104843.31223489491,5053.8533962953525]
["OL1",16.39,-25,14.39,-11,36.200000000000003,-26,0.878,{"$f":"[2]!AgePb76($H$14)","v":5053.8533962953525},1.7999999999999999E-2,-46,".",910.55555555555566,{"$f":"[2]!AgePb6U8(M14)","v":43933.295999072056},".",null,33413.597158689554,103440.853558927,5046.5762634499933]
["0L3",11.27,-3.4,11.66,-1.63,31.37,-3,1.03,{"$f":"[2]!AgePb76($H$15)","v":5278.8725054341166},0.95,-82,".",11.863157894736842,{"$f":"[2]!AgePb6U8(M15)","v":16466.509254672037},".",null,32571.001849375843,103415.13462037001,5045.9274829335654]
["PXI",17.904,-50,15.468,-37,37.74,-9,0.8639,{"$f":"[2]!AgePb76($H$16)","v":5030.9178374975099},0.10100000000000001,-4,0.249,177.26732673267327,{"$f":"[2]!AgePb6U8(M16)","v":33413.597158689554},{"$f":"[2]!AgePb8Th2(D16/L16)","v":83780.602559103005},null,30101.691324406995,101282.6451002846,5036.4845580299907]
["M1",17.986000000000001,-41,15.397,-34,37.881999999999998,-57,0.85609999999999997,{"$f":"[2]!AgePb76($H$17)","v":5018.0587499487965},3.1E-2,-7,5.8000000000000003E-2,580.19354838709683,{"$f":"[2]!AgePb6U8(M17)","v":41031.966679326702},{"$f":"[2]!AgePb8Th2(D17/L17)","v":112890.24444709039},null,29479.395891209391,98173.625812468657,5035.9943093610373]
["M2",11.98,-1.34,11.87,-67,31.85,-1.22,0.99099999999999999,{"$f":"[2]!AgePb76($H$18)","v":5224.6654207251313},0.36,null,2.1,33.277777777777779,{"$f":"[2]!AgePb6U8(M18)","v":22784.833302235122},{"$f":"[2]!AgePb8Th2(D18/L18)","v":38301.664043243916},null,29155.275188058466,96702.775670986637,5033.5403620897014]
["Metal",14.75,-61,13.36,-29,34.130000000000003,-63,0.90600000000000003,{"$f":"[2]!AgePb76($H$19)","v":5098.2627179840119},2.23,-49,2.0499999999999998,6.6143497757847536,{"$f":"[2]!AgePb6U8(M19)","v":13086.443806034966},{"$f":"[2]!AgePb8Th2(D19/L19)","v":40771.639336669177},null,28703.800691310404,94033.515764436466,5032.7049915156667]
["OL1",18.216999999999999,-34,15.352,-27,37.69,-7,0.8427,{"$f":"[2]!AgePb76($H$20)","v":4995.6742931159397},0.2,null,0.10299999999999999,91.084999999999994,{"$f":"[2]!AgePb6U8(M20)","v":29155.275188058466},{"$f":"[2]!AgePb8Th2(D20/L20)","v":101282.6451002846},null,26826.108456849808,93451.389958790285,5032.3936413492775]
["0L2",17.25,-8,15.07,-21,36.941000000000003,-65,0.87309999999999999,{"$f":"[2]!AgePb76($H$21)","v":5045.9274829335654},0.18,null,2.5999999999999999E-2,95.833333333333343,{"$f":"[2]!AgePb6U8(M21)","v":29479.395891209391},{"$f":"[2]!AgePb8Th2(D21/L21)","v":128632.41129917947},null,26716.507013300918,84307.0168301987,5030.9178374975099]
["0L3",17.622,-49,15.125999999999999,-18,37.366999999999997,-50,0.85840000000000005,{"$f":"[2]!AgePb76($H$22)","v":5021.8634216956889},0.27900000000000003,-47,8.5000000000000006E-2,63.161290322580641,{"$f":"[2]!AgePb6U8(M22)","v":26826.108456849808},{"$f":"[2]!AgePb8Th2(D22/L22)","v":104843.31223489491},null,25458.492343402893,83780.602559103005,5029.2761400598392]
["PX1",17.992999999999999,-44,15.564,-40,37.9,-10,0.86499000000000004,{"$f":"[2]!AgePb76($H$23)","v":5032.7049915156667},6.0000000000000001E-3,null,1.38E-2,2998.833333333333,{"$f":"[2]!AgePb6U8(M23)","v":51612.003291225941},{"$f":"[2]!AgePb8Th2(D23/L23)","v":142070.40951219312},null,25332.484347564987,82584.777934378319,5024.3389025846109]
["PX2",17.899000000000001,-43,15.366,-27,37.902999999999999,-67,0.85819999999999996,{"$f":"[2]!AgePb76($H$24)","v":5021.5330106085421},8.9999999999999993E-3,null,0.33100000000000002,1988.7777777777781,{"$f":"[2]!AgePb6U8(M24)","v":48965.532583559303},{"$f":"[2]!AgePb8Th2(D24/L24)","v":78001.142292029181},null,25275.286010562253,80380.773964192093,5021.8634216956889]
["PX3",18.54,-19,15.602,-15,38.399000000000001,-46,0.84148000000000001,{"$f":"[2]!AgePb76($H$25)","v":4993.6175549749923},6.6000000000000003E-2,-4,8.1000000000000003E-2,280.90909090909088,{"$f":"[2]!AgePb6U8(M25)","v":36367.991273502521},{"$f":"[2]!AgePb8Th2(D25/L25)","v":106435.23895830188},null,24764.409527092343,78001.142292029181,5021.5330106085421]
["Ml",17.986999999999998,-41,15.384,-15,37.755000000000003,-54,0.85529999999999995,{"$f":"[2]!AgePb76($H$26)","v":5016.7328412026754},"failed",null,".",".",".",".",null,24661.156450211594,67922.923076218591,5018.0587499487965]
["M2",18.149999999999999,-42,15.468,-45,38.1,-11,0.85219999999999996,{"$f":"[2]!AgePb76($H$27)","v":5011.582476710817},2.9000000000000001E-2,null,6.0999999999999999E-2,625.86206896551721,{"$f":"[2]!AgePb6U8(M27)","v":41519.590850807981},{"$f":"[2]!AgePb8Th2(D27/L27)","v":111967.47161992679},null,23492.574607569033,66265.61969767671,5017.5285443916091]
["M3",18.077999999999999,-15,15.545999999999999,-14,38.042999999999999,-43,0.8599,{"$f":"[2]!AgePb76($H$28)","v":5024.3389025846109},0.40300000000000002,-12,0.02,44.858560794044664,{"$f":"[2]!AgePb6U8(M28)","v":24661.156450211594},{"$f":"[2]!AgePb8Th2(D28/L28)","v":134555.06930703064},null,22784.833302235122,61731.426130438638,5016.7328412026754]
["WR",18.388000000000002,-22,15.597,-19,38.371000000000002,-53,0.84819,{"$f":"[2]!AgePb76($H$29)","v":5004.8906373154414},9.7000000000000003E-2,-3,".",189.56701030927837,{"$f":"[2]!AgePb6U8(M29)","v":33843.699551119098},".",null,22504.629767960072,57758.486610685701,5016.7328412026754]
["Metal",18.329000000000001,-14,15.574,-14,38.337000000000003,-41,0.84968999999999995,{"$f":"[2]!AgePb76($H$30)","v":5007.3977450874563},0.216,-2,0.122,84.856481481481481,{"$f":"[2]!AgePb6U8(M30)","v":28703.800691310404},{"$f":"[2]!AgePb8Th2(D30/L30)","v":98173.625812468657},null,22495.049659502725,57329.192698421888,5016.4011582494013]
["White",17.96,-22,15.58,-22,37.979999999999997,-61,0.86699999999999999,{"$f":"[2]!AgePb76($H$31)","v":5035.9943093610373},0.17,null,9.4E-2,105.64705882352941,{"$f":"[2]!AgePb6U8(M31)","v":30101.691324406995},{"$f":"[2]!AgePb8Th2(D31/L31)","v":103415.13462037001},null,21441.268339687653,40771.639336669177,5012.7139356150237]
["OL1",18.25,-9,15.6,-8,38.14,-19,0.85509999999999997,{"$f":"[2]!AgePb76($H$32)","v":5016.4011582494013},5.0999999999999997E-2,-5,2.41E-2,357.84313725490199,{"$f":"[2]!AgePb6U8(M32)","v":37923.515548241463},{"$f":"[2]!AgePb8Th2(D32/L32)","v":130861.20328345727},null,20332.206028083652,39216.04347357103,5011.582476710817]
["0L2",17.760000000000002,-22,15.433999999999999,-34,37.770000000000003,-11,0.86729999999999996,{"$f":"[2]!AgePb76($H$33)","v":5036.4845580299907},0.55900000000000005,-49,9.2999999999999999E-2,31.771019677996421,{"$f":"[2]!AgePb6U8(M33)","v":22495.049659502725},{"$f":"[2]!AgePb8Th2(D33/L33)","v":103440.853558927},null,19043.772182485052,38301.664043243916,5010.7499097828559]
["0L3",18.170000000000002,-14,15.5,-17,38.130000000000003,-29,0.85287999999999997,{"$f":"[2]!AgePb76($H$34)","v":5012.7139356150237},0.35699999999999998,-27,0.24299999999999999,50.896358543417371,{"$f":"[2]!AgePb6U8(M34)","v":25458.492343402893},{"$f":"[2]!AgePb8Th2(D34/L34)","v":84307.0168301987},null,16715.941746020562,38150.634027815839,5008.2490910526558]
["PX1",18.021999999999998,-60,15.6,-9,37.950000000000003,-21,0.86550000000000005,{"$f":"[2]!AgePb76($H$35)","v":5033.5403620897014},7.3000000000000001E-3,-4,2.8999999999999998E-3,2468.767123287671,{"$f":"[2]!AgePb6U8(M35)","v":50358.608497066372},{"$f":"[2]!AgePb8Th2(D35/L35)","v":173633.17506628216},null,16466.509254672037,34120.743159097459,5007.5814146225548]
["PX2",18.193999999999999,-57,15.574,-41,38.21,-10,0.85577999999999999,{"$f":"[2]!AgePb76($H$36)","v":5017.5285443916091},0.39900000000000002,-6,0.15,45.598997493734331,{"$f":"[2]!AgePb6U8(M36)","v":24764.409527092343},{"$f":"[2]!AgePb8Th2(D36/L36)","v":94033.515764436466},null,13287.898698747182,30900.768072633618,5007.4144433614283]
["PX3",18.36,-10,15.618,-38,38.4,-10,0.8498,{"$f":"[2]!AgePb76($H$37)","v":5007.5814146225548},0.57699999999999996,-21,0.26700000000000002,31.819757365684577,{"$f":"[2]!AgePb6U8(M37)","v":22504.629767960072},{"$f":"[2]!AgePb8Th2(D37/L37)","v":82584.777934378319},null,13086.443806034966,19147.14068526174,5007.3977450874563]
["Ml",18.32,-7,15.58,-9,38.31,-15,0.85019999999999996,{"$f":"[2]!AgePb76($H$38)","v":5008.2490910526558},4.9000000000000002E-2,-1,2.3E-2,373.87755102040813,{"$f":"[2]!AgePb6U8(M38)","v":38205.314694829576},{"$f":"[2]!AgePb8Th2(D38/L38)","v":131778.15596790364},null,12720.767917765852,17657.549067080108,5006.9301086561809]
["M2",18.364999999999998,-13,15.599,-13,38.371000000000002,-46,0.84941,{"$f":"[2]!AgePb76($H$39)","v":5006.9301086561809},6.3E-2,-4,2.5000000000000001E-2,291.50793650793651,{"$f":"[2]!AgePb6U8(M39)","v":36605.910070357939},{"$f":"[2]!AgePb8Th2(D39/L39)","v":130120.01309122413},null,12583.404268708857,null,5004.8906373154414]
["M3",18.015999999999998,-52,15.583,-43,37.950000000000003,-11,0.86480000000000001,{"$f":"[2]!AgePb76($H$40)","v":5032.3936413492775},6.6000000000000003E-2,-2,3.0000000000000001E-3,272.96969696969694,{"$f":"[2]!AgePb6U8(M40)","v":36183.835650416673},{"$f":"[2]!AgePb8Th2(D40/L40)","v":172926.04478494989},null,11801.442803762731,null,5001.05402234545]
["WR",18.37,-23,15.571999999999999,-25,38.28,-9,0.84589999999999999,{"$f":"[2]!AgePb76($H$41)","v":5001.05402234545},3.04,-25,0.97,6.0427631578947372,{"$f":"[2]!AgePb6U8(M41)","v":12583.404268708857},{"$f":"[2]!AgePb8Th2(D41/L41)","v":57329.192698421888},null,10957.539917187441,null,4995.6742931159397]
["Metal",18.37,-7,15.609,-37,38.39,-11,0.84970000000000001,{"$f":"[2]!AgePb76($H$42)","v":5007.4144433614283},16,-1.5,3.54,1.1481250000000001,{"$f":"[2]!AgePb6U8(M42)","v":4928.8984278611533},{"$f":"[2]!AgePb8Th2(D42/L42)","v":34120.743159097459},null,4928.8984278611533,null,4993.6175549749923]
["White",18.100000000000001,-42,15.54,-59,37.94,-20,0.85529999999999995,{"$f":"[2]!AgePb76($H$43)","v":5016.7328412026754},2.64,-42,0.13100000000000001,6.8560606060606064,{"$f":"[2]!AgePb6U8(M43)","v":13287.898698747182},{"$f":"[2]!AgePb8Th2(D43/L43)","v":96702.775670986637},null,null,null,4978.5851905396485]
[null,null,null,null,null,null,null,"Average",{"$f":"AVERAGE(I2:I43)","v":5055.8252596000393},null,null,null,"Average",{"$f":"AVERAGE(N2:N43)","v":27406.186626093779},{"$f":"AVERAGE(O2:O43)","v":87825.427938308523}]
[null,null,null,null,null,null,null,"Maximum",{"$f":"MAX(I2:I44)","v":5278.8725054341166},null,null,null,"Maximum",{"$f":"MAX(N2:N44)","v":51612.003291225941},{"$f":"MAX(O2:O44)","v":173633.17506628216}]
[null,null,null,null,null,null,null,"Minimum",{"$f":"MIN(I2:I45)","v":4978.5851905396485},null,null,null,"Minimum",{"$f":"MIN(N2:N45)","v":4928.8984278611533},{"$f":"MIN(O2:O45)","v":17657.549067080108}]
[null,null,null,null,null,null,null,"Difference",{"$f":"(I45-I46)","v":300.28731489446818},null,null,null,"Difference",{"$f":"(N45-N46)","v":46683.104863364788},{"$f":"(O45-O46)","v":155975.62599920205}]
[null,null,null,44,34,null,null,null,"207Pb/206Pb",null,null,null,null,"206Pb/238U","208Pb/232Th"]
[null,null,null,42,37]
[null,null,null,37,{"$f":"SUM(E48:E49)","v":71},null,null,"Statisitics","207Pb/206Pb","206Pb/238U","208Pb/232Th"]
[null,null,null,{"$f":"SUM(D48:D50)","v":123},null,null,null,"Average",5055.8252596000393,27406.186626093779,87825.427938308523]
[null,null,null,null,null,null,null,"Maximum",5278.8725054341166,51612.003291225941,173633.17506628216]
[null,null,null,null,null,null,null,"Minimum",4978.5851905396485,4928.8984278611533,17657.549067080108]
[null,null,null,null,null,null,null,"Difference",300.28731489446818,46683.104863364788,155975.62599920205]

{"sheet":"Thorium_B","index":12,"n_rows":41,"n_cols":15,"rows_kept":41,"cut":false,"hidden":false,"merged":[]}
[null,null,null,null,null,null,null,"Age","Age",null,"Age",null,null,null,14557]
[null,"206Pb/204Pb","207Pb/206Pb","207Pb/204Pb","206Pb/238U","208Pb/204Pb","208Pb/232Th","208Pb/232Th","207Pb/206Pb","238U/204Pb","206Pb/238U","232Th/204Pb",null,null,6419]
["Atl-3A",20.088999999999999,{"$f":"(D3/B3)","v":0.77828662452088215},15.635,{"$f":"(B3/J3)","v":0.68098305084745758},39.966000000000001,{"$f":"(F3/L3)","v":0.29386764705882351},{"$f":"[2]!AgePb8Th2(G3)","v":5207.3958326812935},{"$f":"[2]!AgePb76(C3)","v":4882.5109713765105},29.5,{"$f":"[2]!AgePb6U8(E3)","v":3348.1306791041184},136,null,null,5207]
["Atl-3A",20.093,0.77828099338077938,15.638,".",39.976999999999997,".",".",{"$f":"[2]!AgePb76(C4)","v":4882.5006481439514},".",".",".",null,null,4996]
["Atl-3B",20.175999999999998,0.7753271213322761,15.643000000000001,0.39100775193798443,40.048999999999999,0.17337229437229437,{"$f":"[2]!AgePb8Th2(G5)","v":3231.5695972014273},{"$f":"[2]!AgePb76(C5)","v":4877.0744962860872},51.6,{"$f":"[2]!AgePb6U8(E5)","v":2127.5003116859357},231,null,null,4893]
["Atl-3B",20.174499999999998,0.77543433542343065,15.644,".",40.058,".",".",{"$f":"[2]!AgePb76(C6)","v":4877.2718293779999},".",".",".",null,null,4890]
["Atl-3C",20.176300000000001,0.77516690374350106,15.64,0.24970668316831685,40.075000000000003,0.10686666666666668,{"$f":"[2]!AgePb8Th2(G7)","v":2052.2122450417223},{"$f":"[2]!AgePb76(C7)","v":4876.7795533303015},80.8,{"$f":"[2]!AgePb6U8(E7)","v":1436.9629029068892},375,null,null,4890]
["Atl-3E",20.106000000000002,0.77762856858649154,15.635,0.26736702127659573,40.003,0.10724664879356569,{"$f":"[2]!AgePb8Th2(G8)","v":2059.1498173492314},{"$f":"[2]!AgePb76(C8)","v":4881.3040579134331},75.2,{"$f":"[2]!AgePb6U8(E8)","v":1527.4232831530896},373,null,null,4883]
["Atl-3E",20.1114,0.77746949491333273,15.635999999999999,".",40.011000000000003,".",".",{"$f":"[2]!AgePb76(C9)","v":4881.0121441372958},".",".",".",null,null,4883]
["Atl-3F",19.977399999999999,0.78233403746233243,15.629,0.27707905686546463,39.828000000000003,0.13733793103448277,{"$f":"[2]!AgePb8Th2(G10)","v":2601.1194235581652},{"$f":"[2]!AgePb76(C10)","v":4889.9103492794111},72.099999999999994,{"$f":"[2]!AgePb6U8(E10)","v":1576.6348648369044},290,null,null,4882]
["Atl-3F",19.979299999999999,0.78225963872608151,15.629,".",39.831000000000003,".",".",{"$f":"[2]!AgePb76(C11)","v":4889.7747035059137},".",".",".",null,null,4881]
["Atl-3I",19.933,0.78422716098931422,15.632,0.41964210526315787,39.718000000000004,0.16758649789029537,{"$f":"[2]!AgePb8Th2(G12)","v":3131.6583313847032},{"$f":"[2]!AgePb76(C12)","v":4893.3573288361849},47.5,{"$f":"[2]!AgePb6U8(E12)","v":2258.8544805740212},237,null,null,4881]
["Atl-3K",20.2499,0.77318900340248597,15.657,0.39168085106382977,40.173000000000002,0.148239852398524,{"$f":"[2]!AgePb8Th2(G13)","v":2793.9405100583922},{"$f":"[2]!AgePb76(C13)","v":4873.1330980951725},51.7,{"$f":"[2]!AgePb6U8(E13)","v":2130.6189328861378},271,null,null,4877]
["Atl-3L",20.1831,0.77510392357962854,15.644,0.35659187279151944,40.082999999999998,0.12565203761755486,{"$f":"[2]!AgePb8Th2(G14)","v":2392.3690096601508},{"$f":"[2]!AgePb76(C14)","v":4876.6635959968671},56.6,{"$f":"[2]!AgePb6U8(E14)","v":1965.9988953820709},319,null,null,4877]
["Atl-3T",20.2456,0.77310625518631204,15.651999999999999,0.35960213143872116,40.225999999999999,0.11727696793002915,{"$f":"[2]!AgePb8Th2(G15)","v":2241.4238770273328},{"$f":"[2]!AgePb76(C15)","v":4872.9803270773873},56.3,{"$f":"[2]!AgePb6U8(E15)","v":1980.2875521936232},343,null,null,4877]
["Atl-3U",20.213000000000001,0.77385840795527627,15.641999999999999,0.25361355081555836,40.125999999999998,0.10056641604010025,{"$f":"[2]!AgePb8Th2(G16)","v":1936.8361990791586},{"$f":"[2]!AgePb76(C16)","v":4874.3683229976414},79.7,{"$f":"[2]!AgePb6U8(E16)","v":1457.0844256069474},399,null,null,4877]
["Atl-3U",20.2166,0.77377007014037968,15.643000000000001,".",40.134,".",".",{"$f":"[2]!AgePb76(C17)","v":4874.2053820388192},".",".",".",null,null,4874]
["Atl-3V",20.103999999999999,0.77790489454834855,15.638999999999999,0.77323076923076917,39.936999999999998,0.2450122699386503,{"$f":"[2]!AgePb8Th2(G18)","v":4429.4165788886703},{"$f":"[2]!AgePb76(C18)","v":4881.8109884880387},26,{"$f":"[2]!AgePb6U8(E18)","v":3692.5265180524298},163,null,null,4874]
["GP101",18.605499999999999,0.84276154900432665,15.68,1.7069266055045871,39.238999999999997,1.0548118279569891,{"$f":"[2]!AgePb8Th2(G19)","v":14556.529072288224},{"$f":"[2]!AgePb76(C19)","v":4995.7779717281746},10.9,{"$f":"[2]!AgePb6U8(E19)","v":6419.4288310120155},37.200000000000003,null,null,4873]
[null,null,null,null,null,null,"Average",{"$f":"AVERAGE(H18:H19)","v":9492.9728255884474},{"$f":"AVERAGE(I18:I19)","v":4938.7944801081067},"Average",{"$f":"AVERAGE(K18:K19)","v":5055.9776745322224},null,null,null,4873]
[null,null,null,null,null,null,"Maximum",{"$f":"MAX(H18:H20)","v":14556.529072288224},{"$f":"MAX(I18:I20)","v":4995.7779717281746},"Maximum",{"$f":"MAX(K18:K20)","v":6419.4288310120155},null,null,null,4429]
[null,null,null,null,null,null,"Minimum",{"$f":"MIN(H18:H21)","v":4429.4165788886703},{"$f":"MIN(I18:I21)","v":4881.8109884880387},"Minimum",{"$f":"MIN(K18:K21)","v":3692.5265180524298},null,null,null,3693]
[null,null,null,null,null,null,"Difference",{"$f":"(H21-H22)","v":10127.112493399552},{"$f":"(I21-I22)","v":113.96698324013596},"Difference",{"$f":"(K21-K22)","v":2726.9023129595857},null,null,null,3348]
[null,null,null,null,null,null,null,null,null,null,null,null,null,null,3232]
[null,null,null,null,null,null,null,null,null,null,null,null,null,null,3132]
[null,null,null,null,null,null,"Statisitics","208Pb/232Th","207Pb/206Pb","206Pb/238U",null,null,null,null,2794]
[null,null,null,null,null,null,"Average",9492.9728255884474,4938.7944801081067,5055.9776745322224,null,null,null,null,2601]
[null,null,null,null,null,null,"Maximum",14556.529072288224,4995.7779717281746,6419.4288310120155,null,null,null,null,2392]
[null,null,null,null,null,null,"Minimum",4429.4165788886703,4881.8109884880387,3692.5265180524298,null,null,null,null,2259]
[null,null,null,null,null,null,"Difference",10127.112493399552,113.96698324013596,2726.9023129595857,null,null,null,null,2241]
[null,null,null,null,null,null,null,null,null,null,null,null,null,null,2131]
[null,null,null,null,null,null,null,null,null,null,null,null,null,null,2128]
[null,null,null,null,null,null,null,null,null,null,null,null,null,null,2059]
[null,null,null,null,null,null,null,null,null,null,null,null,null,null,2052]
[null,null,null,null,null,null,null,null,null,null,null,null,null,null,1980]
[null,null,null,null,null,null,null,null,null,null,null,null,null,null,1966]
[null,null,null,null,null,null,null,null,null,null,null,null,null,null,1937]
[null,null,null,null,null,null,null,null,null,null,null,null,null,null,1577]
[null,null,null,null,null,null,null,null,null,null,null,null,null,null,1527]
[null,null,null,null,null,null,null,null,null,null,null,null,null,null,1457]
[null,null,null,null,null,null,null,null,null,null,null,null,null,null,1437]

{"sheet":"Throrium_C","index":13,"n_rows":50,"n_cols":17,"rows_kept":50,"cut":false,"hidden":false,"merged":[]}
[null,"Ratio","Ratio","Ratio","Age","Age","Age",null,null,null,null,null,null,null,"207Pb/206Pb","206Pb/238U","208Pb/232Th"]
[null,"207Pb/206Pb","206Pb/238U","208Pb/232Th","207Pb/206Pb","206Pb/238U","208Pb/232Th","206Pb/204Pb","207Pb/204Pb","208Pb/204Pb","238U/204Pb","232Th/204P",null,null,5090.0701963828933,18639.33445121468,92494.774585901818]
["Atl-3A",{"$f":"(I3/H3)","v":0.77828662452088215},{"$f":"(H3/K3)","v":0.68098305084745758},{"$f":"(J3/L3)","v":0.29365172667156503},{"$f":"[1]!AgePb76(B3)","v":4882.5109713765105},{"$f":"[1]!AgePb6U8(C3)","v":3348.1306791041184},{"$f":"[1]!AgePb8Th2(D3)","v":5204.0225383689649},20.088999999999999,15.635,39.966000000000001,29.5,136.1,null,null,5089.894206146746,15306.784986236808,73503.499937196611]
["Atl-3A",0.77828099338077938,{"$error":"#VALUE!"},{"$error":"#VALUE!"},{"$f":"[1]!AgePb76(B4)","v":4882.5006481439514},".",".",20.093,15.638,39.976999999999997,"—","—",null,null,5085.6224106147311,10772.254683005282,42037.681237435281]
["Atl-3A",0.84289263339814224,9.7452631578947368,3.2516101694915251,{"$f":"[1]!AgePb76(B5)","v":4995.9987551230261},{"$f":"[1]!AgePb6U8(C5)","v":15306.784986236808},{"$f":"[1]!AgePb8Th2(D5)","v":29253.113180302702},18.515999999999998,15.606999999999999,38.369,1.9,11.8,null,null,5084.8193763808467,10311.671182286076,29253.113180302702]
["Atl-3C",0.77516690374350106,0.24970668316831685,0.10680970149253732,{"$f":"[1]!AgePb76(B6)","v":4876.7795533303015},{"$f":"[1]!AgePb6U8(C6)","v":1436.9629029068892},{"$f":"[1]!AgePb8Th2(D6)","v":2051.1719908048703},20.176300000000001,15.64,40.075000000000003,80.8,375.2,null,null,5084.7006007861301,9290.7221917011921,13018.340344008024]
["Atl-3C",{"$error":"#VALUE!"},{"$error":"#VALUE!"},{"$error":"#VALUE!"},".",".",".","—","—","—",null,null,null,null,5067.6668386303554,5624.6821205505685,10956.141285108475]
["Atl-3C",0.77516690374350106,0.26033935483870968,0.10997530186608125,{"$f":"[1]!AgePb76(B8)","v":4876.7795533303015},{"$f":"[1]!AgePb6U8(C8)","v":1491.5778497202236},{"$f":"[1]!AgePb8Th2(D8)","v":2108.8987267427406},20.176300000000001,15.64,40.075000000000003,77.5,364.4,null,null,5025.2260362661509,4508.4785193268754,10621.148834026884]
["Atl-3C",{"$error":"#VALUE!"},{"$error":"#VALUE!"},{"$error":"#VALUE!"},".",".",".","—","—","—",null,null,null,null,5021.2114074311512,3766.9712548190064,10021.957766786414]
["Atl-3C",{"$error":"#VALUE!"},{"$error":"#VALUE!"},{"$error":"#VALUE!"},".",".",".","—","—","—",null,null,null,null,5020.6666938897624,3692.5265180524298,5204.0225383689649]
["Atl-3E",0.77762856858649154,0.26736702127659573,0.10718917470525188,{"$f":"[1]!AgePb76(B11)","v":4881.3040579134331},{"$f":"[1]!AgePb6U8(C11)","v":1527.4232831530896},{"$f":"[1]!AgePb8Th2(D11)","v":2058.1006296618652},20.106000000000002,15.635,40.003,75.2,373.2,null,null,5015.6971036629939,3348.1306791041184,4955.7184677160112]
["Atl-3E",0.82430793567097282,3.9510416666666668,0.64187086092715229,{"$f":"[1]!AgePb76(B12)","v":4964.3271208343631},{"$f":"[1]!AgePb6U8(C12)","v":10311.671182286076},{"$f":"[1]!AgePb8Th2(D12)","v":10021.957766786414},18.965,15.632999999999999,38.768999999999998,4.8,60.4,null,null,5007.9924058843444,2920.5711585605445,4429.4165788886703]
["Atl-3E",0.77746949491333273,0.26672944297082224,0.10498819207557072,{"$f":"[1]!AgePb76(B13)","v":4881.0121441372958},{"$f":"[1]!AgePb6U8(C13)","v":1524.1794493233529},{"$f":"[1]!AgePb8Th2(D13)","v":2017.880727805164},20.1114,15.635999999999999,40.011000000000003,75.400000000000006,381.1,null,null,5001.2343741666264,2258.8544805740212,3132.8829079430225]
["Atl-3E",0.81518564872757615,{"$error":"#VALUE!"},{"$error":"#VALUE!"},{"$f":"[1]!AgePb76(B14)","v":4948.5022477450257},".",".",19.175999999999998,15.632,38.768999999999998,"—","—",null,null,5000.0897896007054,2130.6189328861378,2798.7632903333515]
["Atl-3E",{"$error":"#VALUE!"},{"$error":"#VALUE!"},{"$error":"#VALUE!"},".",".",".","—","—","—",null,null,null,null,4995.9987551230261,1980.2875521936232,2597.7572922281456]
["Atl-3F",0.78233403746233243,0.27707905686546463,0.13714876033057855,{"$f":"[1]!AgePb76(B16)","v":4889.9103492794111},{"$f":"[1]!AgePb6U8(C16)","v":1576.6348648369044},{"$f":"[1]!AgePb8Th2(D16)","v":2597.7572922281456},19.977399999999999,15.629,39.828000000000003,72.099999999999994,290.39999999999998,null,null,4983.9257285506674,1965.9988953820709,2393.784399415229]
["Atl-3F",0.78225963872608151,{"$error":"#VALUE!"},{"$error":"#VALUE!"},{"$f":"[1]!AgePb76(B17)","v":4889.7747035059137},".",".",19.979299999999999,15.629,39.831000000000003,"—","—",null,null,4964.3271208343631,1678.5719985413816,2238.3354131710612]
["Atl-3F",0.83575628006413683,3.2258620689655175,0.90423887587822005,{"$f":"[1]!AgePb76(B18)","v":4983.9257285506674},{"$f":"[1]!AgePb6U8(C18)","v":9290.7221917011921},{"$f":"[1]!AgePb8Th2(D18)","v":13018.340344008024},18.71,15.637,38.610999999999997,5.8,42.7,null,null,4958.5776634420463,1576.6348648369044,2108.8987267427406]
["Atl-3F",{"$error":"#VALUE!"},{"$error":"#VALUE!"},{"$error":"#VALUE!"},".",".",".","—","—","—",null,null,null,null,4948.5022477450257,1527.4232831530896,2058.1006296618652]
["Atl-3I",0.78422716098931422,0.41964210526315787,0.16765723934149432,{"$f":"[1]!AgePb76(B20)","v":4893.3573288361849},{"$f":"[1]!AgePb6U8(C20)","v":2258.8544805740212},{"$f":"[1]!AgePb8Th2(D20)","v":3132.8829079430225},19.933,15.632,39.718000000000004,47.5,236.9,null,null,4942.6153774890208,1524.1794493233529,2051.1719908048703]
["Atl-3I",{"$error":"#VALUE!"},{"$error":"#VALUE!"},{"$error":"#VALUE!"},".",".",".","—","—","—",null,null,null,null,4922.7018360162956,1491.5778497202236,2017.880727805164]
["Atl-3I",{"$error":"#VALUE!"},{"$error":"#VALUE!"},{"$error":"#VALUE!"},".",".",".","—","—","—",null,null,null,null,4893.3573288361849,1457.0844256069474,1938.6895331083174]
["Atl-3K",0.77318900340248597,0.39168085106382977,0.14851386321626617,{"$f":"[1]!AgePb76(B23)","v":4873.1330980951725},{"$f":"[1]!AgePb6U8(C23)","v":2130.6189328861378},{"$f":"[1]!AgePb8Th2(D23)","v":2798.7632903333515},20.2499,15.657,40.173000000000002,51.7,270.5,null,null,4889.9103492794111,1436.9629029068892]
["Atl-3K",{"$error":"#VALUE!"},{"$error":"#VALUE!"},{"$error":"#VALUE!"},".",".",".","—","—","—",null,null,null,null,4889.7747035059137]
["Atl-3L",0.77510392357962854,0.35659187279151944,0.12573086574654954,{"$f":"[1]!AgePb76(B25)","v":4876.6635959968671},{"$f":"[1]!AgePb6U8(C25)","v":1965.9988953820709},{"$f":"[1]!AgePb8Th2(D25)","v":2393.784399415229},20.1831,15.644,40.082999999999998,56.6,318.8,null,null,4882.5109713765105]
["Atl-3L",0.82098115591114851,4.3177272727272724,0.71953703703703698,{"$f":"[1]!AgePb76(B26)","v":4958.5776634420463},{"$f":"[1]!AgePb6U8(C26)","v":10772.254683005282},{"$f":"[1]!AgePb8Th2(D26)","v":10956.141285108475},18.998000000000001,15.597,38.854999999999997,4.4000000000000004,54,null,null,4882.5006481439514]
["Atl-3U",0.77385840795527627,0.25361355081555836,0.10066733567486201,{"$f":"[1]!AgePb76(B27)","v":4874.3683229976414},{"$f":"[1]!AgePb6U8(C27)","v":1457.0844256069474},{"$f":"[1]!AgePb8Th2(D27)","v":1938.6895331083174},20.213000000000001,15.641999999999999,40.125999999999998,79.7,398.6,null,null,4881.8109884880387]
["Atl-3U",0.77377007014037968,{"$error":"#VALUE!"},{"$error":"#VALUE!"},{"$f":"[1]!AgePb76(B28)","v":4874.2053820388192},".",".",20.2166,15.643000000000001,40.134,"—","—",null,null,4881.3040579134331]
["Atl-3U",0.81181959564541217,0.79382716049382707,0.27785663591199428,{"$f":"[1]!AgePb76(B29)","v":4942.6153774890208},{"$f":"[1]!AgePb6U8(C29)","v":3766.9712548190064},{"$f":"[1]!AgePb8Th2(D29)","v":4955.7184677160112},19.29,15.66,39.15,24.3,140.9,null,null,4881.0121441372958]
["Atl-3V",0.77790489454834855,0.77323076923076917,0.2450122699386503,{"$f":"[1]!AgePb76(B30)","v":4881.8109884880387},{"$f":"[1]!AgePb6U8(C30)","v":3692.5265180524298},{"$f":"[1]!AgePb8Th2(D30)","v":4429.4165788886703},20.103999999999999,15.638999999999999,39.936999999999998,26,163,null,null,4876.7795533303015]
["Atl-3V",{"$error":"#VALUE!"},{"$error":"#VALUE!"},{"$error":"#VALUE!"},".",".",".","—","—","—",null,null,null,null,4876.7795533303015]
["Atl-3V",{"$error":"#VALUE!"},{"$error":"#VALUE!"},{"$error":"#VALUE!"},".",".",".","—","—","—",null,null,null,null,4876.6635959968671]
["Atl-3T",0.77310625518631204,0.35960213143872116,0.11710625909752546,{"$f":"[1]!AgePb76(B33)","v":4872.9803270773873},{"$f":"[1]!AgePb6U8(C33)","v":1980.2875521936232},{"$f":"[1]!AgePb8Th2(D33)","v":2238.3354131710612},20.2456,15.651999999999999,40.225999999999999,56.3,343.5,null,null,4874.3683229976414]
["Atl-3T",{"$error":"#VALUE!"},{"$error":"#VALUE!"},{"$error":"#VALUE!"},".",".",".","—","—","—",null,null,null,null,4874.2053820388192]
["Atl-3T",{"$error":"#VALUE!"},{"$error":"#VALUE!"},{"$error":"#VALUE!"},".",".",".","—","—","—",null,null,null,null,4873.1330980951725]
["Mb47",0.77229479911264487,0.29743401759530791,7.0029824561403506,{"$f":"[1]!AgePb76(B36)","v":4871.4812808926517},{"$f":"[1]!AgePb6U8(C36)","v":1678.5719985413816},{"$f":"[1]!AgePb8Th2(D36)","v":42037.681237435281},20.285,15.666,39.917000000000002,68.2,5.7,null,null,4872.9803270773873]
["Mb47",0.85004619816294358,{"$error":"#VALUE!"},{"$error":"#VALUE!"},{"$f":"[1]!AgePb76(B37)","v":5007.9924058843444},".",".",18.399000000000001,15.64,38.298999999999999,"—","—",null,null,4871.4812808926517]
["Br12",0.84532550171316689,1.3929545454545456,0.69127272727272737,{"$f":"[1]!AgePb76(B38)","v":5000.0897896007054},{"$f":"[1]!AgePb6U8(C38)","v":5624.6821205505685},{"$f":"[1]!AgePb8Th2(D38)","v":10621.148834026884},18.387,15.542999999999999,38.020000000000003,13.2,55]
["Br12",0.84600750122302559,{"$error":"#VALUE!"},{"$error":"#VALUE!"},{"$f":"[1]!AgePb76(B39)","v":5001.2343741666264},".",".",18.396999999999998,15.564,38.119999999999997,"—","-"]
["Br12",0.88660968660968664,{"$error":"#VALUE!"},{"$error":"#VALUE!"},{"$f":"[1]!AgePb76(B40)","v":5067.6668386303554},".",".",17.55,15.56,37.44,"—","—"]
["70-379",0.90076425631981172,1.0125,{"$error":"#VALUE!"},{"$f":"[1]!AgePb76(B41)","v":5090.0701963828933},{"$f":"[1]!AgePb6U8(C41)","v":4508.4785193268754},".",17.010000000000002,15.321999999999999,37.085000000000001,16.8,"—"]
["70-379",0.90065213559720336,{"$error":"#VALUE!"},{"$error":"#VALUE!"},{"$f":"[1]!AgePb76(B42)","v":5089.894206146746},".",".",17.021000000000001,15.33,37.11,"—","—"]
["70-379",0.85767584769011307,{"$error":"#VALUE!"},{"$error":"#VALUE!"},{"$f":"[1]!AgePb76(B43)","v":5020.6666938897624},".",".",18.225999999999999,15.632,38.323999999999998,"—","—"]
["71-321",0.89735002056525071,17.018999999999998,36.962000000000003,{"$f":"[1]!AgePb76(B44)","v":5084.7006007861301},{"$f":"[1]!AgePb6U8(C44)","v":18639.33445121468},{"$f":"[1]!AgePb8Th2(D44)","v":73503.499937196611},17.018999999999998,15.272,36.962000000000003,1,1]
["71-321",0.89793517265721512,{"$error":"#VALUE!"},{"$error":"#VALUE!"},{"$f":"[1]!AgePb76(B45)","v":5085.6224106147311},".",".",16.998999999999999,15.263999999999999,36.939,"—","—"]
["71-321",0.858005378999945,{"$error":"#VALUE!"},{"$error":"#VALUE!"},{"$f":"[1]!AgePb76(B46)","v":5021.2114074311512},".",".",18.219000000000001,15.632,38.362000000000002,"—","—"]
["71-107",0.89742539496781748,{"$error":"#VALUE!"},{"$error":"#VALUE!"},{"$f":"[1]!AgePb76(B47)","v":5084.8193763808467},".",".",17.09,15.337,36.892000000000003,"—","—"]
["71-107",0.86043822946487547,{"$error":"#VALUE!"},{"$error":"#VALUE!"},{"$f":"[1]!AgePb76(B48)","v":5025.2260362661509},".",".",18.164000000000001,15.629,38.298999999999999,"—","—"]
["72-228",0.80054239369595248,0.57310850439882688,96.142499999999998,{"$f":"[1]!AgePb76(B49)","v":4922.7018360162956},{"$f":"[1]!AgePb6U8(C49)","v":2920.5711585605445},{"$f":"[1]!AgePb8Th2(D49)","v":92494.774585901818},19.542999999999999,15.645,38.457000000000001,34.1,0.4]
["72-228",0.85467562988468049,{"$error":"#VALUE!"},{"$error":"#VALUE!"},{"$f":"[1]!AgePb76(B50)","v":5015.6971036629939},".",".",18.297000000000001,15.638,38.371000000000002,"—","—"]

{"sheet":"Thorium_D","index":14,"n_rows":366,"n_cols":20,"rows_kept":366,"cut":false,"hidden":false,"merged":[]}
[null,null,null,null,null,null,null,null,null,null,null,null,null,null,null,null,null,"207Pb/206Pb","208Pb/232Th","206Pb/238U"]
["Table 3",null,null,null,null,null,null,null,null,null,null,null,null,null,null,null,null,8076.5542778412337,5699.4755935478561,54790.189994110595]
[null,null,null,null,null,null,null,null,null,null,null,null,"Age","Age","Age",null,null,5222.1034636204886,4118.9299905214848,33580.88799714356]
["SAMPLE","LAB","MINERAL*","WEIGHT U","Th","Ph","206Pb/","206Pb/204Pb","207Pb/204Pb","208Pb/204Pb","238U/204Pb","232Th/204Pb","207Pb/206Pb","208Pb/232Th","206Pb/238U",null,null,5193.9023798988483,3986.7190303227512,30183.798090962373]
[null,"NO.","Age. initial","(mg)","(ppm)","(ppm)","(ppm)"," "," "," ",null,null," "," "," ",null,null,5184.4383391379706,2899.1509554625181,24442.894719963941]
[null,null,"208Pb/204Pb",null,null,null,null,null,null,null,null,null,null,null,null,null,null,5179.1214299313442,2099.8829887108868,23847.992591519713]
["EAST OREBODY","Bastnaesite",null,0.11,7.2599999999999998E-2,962.5,29.652000000000001,16.163,15.483000000000001,339.15,0.79266999999999999,10850,{"$f":"[2]!AgePb76(I7/H7)","v":5176.9011018634137},{"$f":"[2]!AgePb8Th2(J7/L7)","v":622.12185493742402},{"$f":"[2]!AgePb6U8(H7/K7)","v":19745.048034537311},null,null,5178.0668588617818,1896.0963257338872,23314.394699855369]
["8B7","G2",null,null,null,null,null,null,null,null,null,null,null,null,null,null,null,5176.9011018634137,1788.7774392392555,22846.940832989323]
[null,null,"555±11 Ma",null,null,null,null,"0.335#",0.36499999999999999,3.27,7.47,5.54,null,null,null,null,null,5174.8387376157552,1731.2091378531672,22505.997052704959]
[null,3,"MSWD=1.05",1.2,4.5100000000000001E-2,1012,25.972999999999999,16.571000000000002,14.823,1904.5,2.9180999999999999,67630,{"$f":"[2]!AgePb76(I10/H10)","v":5080.2246843625535},{"$f":"[2]!AgePb8Th2(J10/L10)","v":561.32108528440483},{"$f":"[2]!AgePb6U8(H10/K10)","v":12241.241678420311},null,null,5171.5108069686512,1310.2112188412873,22490.168764751437]
[null,null,"36.585±14.7",null,null,null,null,0.378,0.375,1.98,3.17,3.11,null,null,null,null,null,5163.5829997100373,1285.3124836111065,20580.795692928448]
[null,"G4§",null,1.887,4.7800000000000002E-2,1008,26.065000000000001,13.010999999999999,12.615,2393.5,3.8485,83910,{"$f":"[2]!AgePb76(I12/H12)","v":5193.9023798988483},{"$f":"[2]!AgePb8Th2(J12/L12)","v":568.47615127495851},{"$f":"[2]!AgePb6U8(H12/K12)","v":9522.8417995243617},null,null,5162.1099791040633,1192.3607381398715,20496.022572970982]
[null,null,null,null,null,null,null,1.38,1.32,1.96,3.14,3.1,null,null,null,null,null,5159.6405717194884,1172.8602297176801,20400.633193783822]
["796-48.270","R1","Monazite",1.395,0.36770000000000003,2320,44.715000000000003,17.081,15.365,2084.6999999999998,15.089,98480,{"$f":"[2]!AgePb76(I14/H14)","v":5088.1433511622054},{"$f":"[2]!AgePb8Th2(J14/L14)","v":423.40211378084365},{"$f":"[2]!AgePb6U8(H14/K14)","v":4880.3760819946538},null,null,5158.0435832695548,1138.7814483262785,20382.007511833421]
[null,null,"415±17 Ma",null,null,null,null,0.193,0.24099999999999999,1.08,1.73,1.71,null,null,null,null,null,5151.5068145319101,1128.7842200477169,20345.543216906044]
[null,"R2","MSWD=0.234",1.5629999999999999,0.214,2317,44.118000000000002,16.998000000000001,15.317,2494,10.632999999999999,118900,{"$f":"[2]!AgePb76(I16/H16)","v":5090.6064905060675},{"$f":"[2]!AgePb8Th2(J16/L16)","v":419.57858137535897},{"$f":"[2]!AgePb6U8(H16/K16)","v":6156.1705602306383},null,null,5150.7559983313604,1108.6300232084304,19842.513117251481]
[null,null,"39.613±99.27",null,null,null,null,0.30499999999999999,0.30499999999999999,1.2,1.81,1.85,null,null,null,null,null,5144.823524729306,1098.5231649644556,19745.048034537311]
[null,"R3",null,1.476,0.48130000000000001,2296,44.136000000000003,17.068999999999999,15.401999999999999,2253.8000000000002,21.635999999999999,106700,{"$f":"[2]!AgePb76(I18/H18)","v":5092.5373024819783},{"$f":"[2]!AgePb8Th2(J18/L18)","v":422.4917808845812},{"$f":"[2]!AgePb6U8(H18/K18)","v":3749.3002201289041},null,null,5139.5497749576334,1055.7472948908935,19280.350093510049]
[null,null,null,null,null,null,null,0.13800000000000001,0.16200000000000001,1.1200000000000001,1.79,1.76,null,null,null,null,null,5139.4753272832795,1006.7857847663379,18892.873604117394]
[null,"R4",null,1.3049999999999999,0.311,2239,42.268999999999998,17.939,15.217000000000001,4888.5,31.42,233700,{"$f":"[2]!AgePb76(I20/H20)","v":5005.013695384454},{"$f":"[2]!AgePb8Th2(J20/L20)","v":418.43494970855971},{"$f":"[2]!AgePb6U8(H20/K20)","v":2911.6872666891068},null,null,5139.3207012789826,825.28567082638608,18092.394683403752]
[null,null,null,null,null,null,null,0.39500000000000002,0.45400000000000001,2.87,4.26,4.28,null,null,null,null,null,5138.0126071883633,807.91392231636507,13953.383965309222]
[null,"R5",null,1.468,0.32929999999999998,2191,41.956000000000003,17.283999999999999,15.260999999999999,2833.5,19.518000000000001,134200,{"$f":"[2]!AgePb76(I22/H22)","v":5061.8212275496362},{"$f":"[2]!AgePb8Th2(J22/L22)","v":422.31828087902505},{"$f":"[2]!AgePb6U8(H22/K22)","v":4088.413052731109},null,null,5137.9576856277135,779.22875915694522,13722.867013160359]
[null,null,null,null,null,null,null,0.28299999999999997,0.35699999999999998,1.49,2.2599999999999998,2.29,null,null,null,null,null,5137.4769853175121,752.44366452035547,12744.249930871059]
["796-48.277","Q1","Monazite",9.9000000000000005E-2,0.26450000000000001,2829,57.244,17.533000000000001,15.369,1491.8,6.1143999999999998,67580,{"$f":"[2]!AgePb76(I24/H24)","v":5051.5542307720571},{"$f":"[2]!AgePb8Th2(J24/L24)","v":441.32313276367699},{"$f":"[2]!AgePb6U8(H24/K24)","v":8719.4619008727404},null,null,5135.3740094842706,720.53124379812812,12241.241678420311]
[null,null,"432±8.5 Ma",null,null,null,null,0.82699999999999996,0.85499999999999998,8.5500000000000007,13.8,13.7,null,null,null,null,null,5134.6663259590332,701.41617752221396,11927.668294483627]
[null,"Q2","MSWD=1.27",1.2969999999999999,0.30630000000000002,3041,63.32,16.571999999999999,15.265000000000001,1439.3,6.1765999999999996,63350,{"$f":"[2]!AgePb76(I26/H26)","v":5121.6611023707228},{"$f":"[2]!AgePb8Th2(J26/L26)","v":454.07901970514132},{"$f":"[2]!AgePb6U8(H26/K26)","v":8404.4199631206484},null,null,5134.4368667598364,684.22277277208184,11862.282615726292]
[null,null,"61.467±30.26",null,null,null,null,0.19700000000000001,0.247,0.59599999999999997,1.06,1.04,null,null,null,null,null,5134.3432341556181,682.61121930266768,11764.266904053467]
[null,"Q3",null,1.159,0.28820000000000001,3036,62444,16.771999999999998,15.340999999999999,1421.2,5.8231999999999999,63360,{"$f":"[2]!AgePb76(I28/H28)","v":5111.7334369206346},{"$f":"[2]!AgePb8Th2(J28/L28)","v":448.36160285632155},{"$f":"[2]!AgePb6U8(H28/K28)","v":8740.6127672391922},null,null,5134.2267547302463,659.22453334981481,11708.907203034623]
[null,null,null,null,null,null,null,0.307,0.34799999999999998,0.69899999999999995,1.06,1.1299999999999999,null,null,null,null,null,5133.4515604124972,652.35965254514792,11648.591363103729]
[null,"Q4",null,1.012,0.29120000000000001,3051,63.106999999999999,16.631,15.268000000000001,1483.5,6.0693999999999999,65700,{"$f":"[2]!AgePb76(I30/H30)","v":5116.9203272444429},{"$f":"[2]!AgePb8Th2(J30/L30)","v":451.31391966497688},{"$f":"[2]!AgePb6U8(H30/K30)","v":8503.6118748056033},null,null,5132.5793602299109,622.12185493742402,11639.068394057143]
[null,null,null,null,null,null,null,0.19400000000000001,0.27200000000000002,0.76400000000000001,1.19,1.26,null,null,null,null,null,5131.227021972064,605.56246524913422,11475.424648117139]
[null,"Q5",null,0.92600000000000005,0.26750000000000002,2977,61.424999999999997,16.78,15.189,1643.6,6.3297999999999996,72780,{"$f":"[2]!AgePb76(I32/H32)","v":5096.9903666754353},{"$f":"[2]!AgePb8Th2(J32/L32)","v":451.37753729074927},{"$f":"[2]!AgePb6U8(H32/K32)","v":8348.029846293648},null,null,5131.1939589220992,597.87743108794359,11291.743677797993]
[null,null,null,null,null,null,null,0.33500000000000002,0.42499999999999999,578,1.53,1.54,null,null,null,null,null,5129.9077454941489,595.56392639960416,11265.092961430597]
[null,null,null,null,null,null,null,null,null,null,null,null,null,null,null,null,null,5126.5836286514159,584.97317759047678,10350.035081450238]
[null,"Q6",null,0.71799999999999997,0.66649999999999998,2867,58.807000000000002,17.611999999999998,15.378,1602.6,16.087,71510,{"$f":"[2]!AgePb76(I35/H35)","v":5046.0161691923377},{"$f":"[2]!AgePb8Th2(J35/L35)","v":447.97207606015286},{"$f":"[2]!AgePb6U8(H35/K35)","v":4766.8439704713692},null,null,5126.3329373405686,576.40911755894103,10318.44078418069]
[null,null,null,null,null,null,null,0.23300000000000001,0.28999999999999998,1.23,1.86,1.92,null,null,null,null,null,5121.6611023707228,574.36077428041074,9861.7832106187234]
[null,"D3#",null,1.1559999999999999,0.26390000000000002,3019,60.27,17.283000000000001,15.233000000000001,2480.1,9.5443999999999996,112900,{"$f":"[2]!AgePb76(I37/H37)","v":5059.3035269162638},{"$f":"[2]!AgePb8Th2(J37/L37)","v":439.20008841002885},{"$f":"[2]!AgePb6U8(H37/K37)","v":6662.1702383758966},null,null,5118.8476556049518,568.47615127495851,9522.8417995243617]
[null,null,null,null,null,null,null,0.16800000000000001,0.189,1.1499999999999999,1.77,1.79,null,null,null,null,null,5117.3111008195228,566.33308596310735,9391.2084772016151]
[null,"N",null,0.99099999999999999,0.27429999999999999,3011,60.933,16.945,15.115,2653.8,10.492000000000001,119000,{"$f":"[2]!AgePb76(I39/H39)","v":5076.2484751270267},{"$f":"[2]!AgePb8Th2(J39/L39)","v":445.79712553627473},{"$f":"[2]!AgePb6U8(H39/K39)","v":6196.8051921359784},null,null,5116.9203272444429,563.88916343421363,9164.5085715516161]
[null,null,null,null,null,null,null,0.25600000000000001,0.28299999999999997,1.43,2.19,2.21,null,null,null,null,null,5115.9413344406457,561.32108528440483,9139.8880476200902]
[null,"D6",null,0.97799999999999998,0.26819999999999999,3063,61.305999999999997,17.161000000000001,15.141999999999999,3159.6,12.114000000000001,142900,{"$f":"[2]!AgePb76(I41/H41)","v":5060.8496586162919},{"$f":"[2]!AgePb8Th2(J41/L41)","v":442.03481863197436},{"$f":"[2]!AgePb6U8(H41/K41)","v":5688.1360253023422},null,null,5115.5332693449791,557.66597202366893,8892.6926094189184]
[null,null,null,null,null,null,null,0.47899999999999998,0.5,1.75,2.64,2.64,null,null,null,null,null,5115.1860016847977,554.91455460351187,8801.4576813377043]
["796-48.278","J1","Monazite",0.23599999999999999,1.8547,2285,46.798000000000002,19.213999999999999,15.471,821.74,29.466999999999999,37510,{"$f":"[2]!AgePb76(I43/H43)","v":4930.95191619036},{"$f":"[2]!AgePb8Th2(J43/L43)","v":438.01333037080428},{"$f":"[2]!AgePb6U8(H43/K43)","v":3236.2147758053788},null,null,5111.7334369206346,554.52563347024397,8740.6127672391922]
[null,null,"419±3.7 Ma",null,null,null,null,0.22600000000000001,0.28100000000000003,2.38,3.57,3.57,null,null,null,null,null,5109.2779114113982,551.72557755597791,8719.4619008727404]
[null,12,"MSWI.94",1.169,1.1996,2558,49.981999999999999,17.745000000000001,15.263999999999999,1577,33.533000000000001,73880,{"$f":"[2]!AgePb76(I45/H45)","v":5024.8103209052169},{"$f":"[2]!AgePb8Th2(J45/L45)","v":426.89847908282661},{"$f":"[2]!AgePb6U8(H45/K45)","v":2737.9969811539154},null,null,5109.2573509926488,549.94430611716314,8610.3678410539032]
[null,null,"35.493±10.17",null,null,null,null,0.36,37,0.93799999999999994,1.37,1.43,null,null,null,null,null,5107.1191699834308,548.51296194409861,8503.6118748056033]
[null,"J3",null,1.2629999999999999,1.278,2489,49.241,17.414000000000001,15.46,1337.4,30.866,62120,{"$f":"[2]!AgePb76(I47/H47)","v":5069.5517270232231},{"$f":"[2]!AgePb8Th2(J47/L47)","v":430.53696503371344},{"$f":"[2]!AgePb6U8(H47/K47)","v":2883.8816551212967},null,null,5101.6555173279949,547.85847779339497,8456.1838016116708]
[null,null,null,null,null,null,null,0.24,0.318,0.73399999999999999,1.1399999999999999,1.18,null,null,null,null,null,5100.8670291521985,545.83071421185321,8404.4199631206484]
[null,"J4",null,1.125,2.0895000000000001,2422,49.499000000000002,17.815999999999999,15.385,843.37,32.122999999999998,38470,{"$f":"[2]!AgePb76(I49/H49)","v":5030.3428464807876},{"$f":"[2]!AgePb8Th2(J49/L49)","v":438.32133031313549},{"$f":"[2]!AgePb6U8(H49/K49)","v":2844.3511758536624},null,null,5100.6542110517221,545.05587526538716,8348.029846293648]
[null,null,null,null,null,null,null,0.10100000000000001,0.13600000000000001,0.505,0.86899999999999999,0.89200000000000002,null,null,null,null,null,5097.7746878301805,544.45027758586764,8241.2859929283968]
[null,"J5",null,0.98899999999999999,2.4279000000000002,2493,49.290999999999997,18.407,15.301,1133.7,49.911999999999999,52960,{"$f":"[2]!AgePb76(I51/H51)","v":4976.262437130541},{"$f":"[2]!AgePb8Th2(J51/L51)","v":428.11149926429977},{"$f":"[2]!AgePb6U8(H51/K51)","v":2023.6999681699615},null,null,5096.9903666754353,544.40224039142265,7856.3192689582156]
[null,null,null,null,null,null,null,7.1599999999999997E-2,0.14199999999999999,0.83199999999999996,1.27,1.21,null,null,null,null,null,5092.5373024819783,542.76771334634782,7839.1444631734121]
[null,"SI",null,0.39200000000000002,1.0125999999999999,2855,55.534999999999997,17.48,15.242000000000001,2283.9,36.651000000000003,106800,{"$f":"[2]!AgePb76(I53/H53)","v":5044.0896637815449},{"$f":"[2]!AgePb8Th2(J53/L53)","v":427.6783100051947},{"$f":"[2]!AgePb6U8(H53/K53)","v":2513.884426057562},null,null,5091.7446444905163,541.4627449705182,7340.548984713615]
[null,null,null,null,null,null,null,0.39500000000000002,0.47599999999999998,3.37,5.19,5.18,null,null,null,null,null,5090.6064905060675,540.46299560620764,7263.7977358253838]
[null,"S2",null,1.3169999999999999,0.65800000000000003,2883,55.255000000000003,20.585000000000001,15.48,7297.9,75.760999999999996,343000,{"$f":"[2]!AgePb76(I55/H55)","v":4833.4410864509573},{"$f":"[2]!AgePb8Th2(J55/L55)","v":425.53791122758179},{"$f":"[2]!AgePb6U8(H55/K55)","v":1549.4744903883859},null,null,5089.3396411617623,511.06951267070974,7025.138669810558]
[null,null,null,null,null,null,null,0.45400000000000001,0.43099999999999999,3.25,4.49,4.5,null,null,null,null,null,5088.1433511622054,510.61835299742125,6662.1702383758966]
[null,"S3",null,1.7370000000000001,2.6034000000000002,2877,55.366999999999997,18.164999999999999,15.257,3477.7,143.24,163500,{"$f":"[2]!AgePb76(I57/H57)","v":4990.969345714665},{"$f":"[2]!AgePb8Th2(J57/L57)","v":425.41243514904994},{"$f":"[2]!AgePb6U8(H57/K57)","v":769.67084067754342},null,null,5085.2303579329346,507.21687152455462,6487.4406312792171]
[null,null,null,null,null,null,null,0.32100000000000001,0.34799999999999998,1.2,1.75,1.79,null,null,null,null,null,5081.0161800395344,505.57271316704464,6364.4980296161248]
[null,"S4",null,1.524,2.2160000000000002,2824,54.012,20.631,15.553000000000001,5579.7,199.89,263200,{"$f":"[2]!AgePb76(I59/H59)","v":4836.9765268326191},{"$f":"[2]!AgePb8Th2(J59/L59)","v":424.00981329272008},{"$f":"[2]!AgePb6U8(H59/K59)","v":633.20363065091885},null,null,5080.2246843625535,504.17618413128832,6196.8051921359784]
[null,null,null,null,null,null,null,0.34899999999999998,0.35099999999999998,2.19,3.15,3.05,null,null,null,null,null,5078.5212237014521,495.6518659943394,6166.1154779120734]
[null,"S5",null,1.446,2.1615000000000002,2825,54.109000000000002,18.907,15.303000000000001,3784.9,132.36000000000001,178700,{"$f":"[2]!AgePb76(I61/H61)","v":4938.3374015781174},{"$f":"[2]!AgePb8Th2(J61/L61)","v":423.62825079366365},{"$f":"[2]!AgePb6U8(H61/K61)","v":860.73169531486974},null,null,5076.2484751270267,493.23280259851873,6156.1705602306383]
[null,null,null,null,null,null,null,0.27400000000000002,0.41299999999999998,1.57,238,2.29,null,null,null,null,null,5071.7503295456736,479.49277795646407,6116.8511673060502]
[null,"S6",null,1.37,1.9497,2714,51.307000000000002,19.431999999999999,15.292,3662.3,121.89,175300,{"$f":"[2]!AgePb76(I63/H63)","v":4898.2983851347617},{"$f":"[2]!AgePb8Th2(J63/L63)","v":417.91565853608472},{"$f":"[2]!AgePb6U8(H63/K63)","v":953.56632394245764},null,null,5069.5517270232231,476.50534267914463,5909.5374986748666]
[null,null,null,null,null,null,null,0.36799999999999999,0.40400000000000003,1.71,2.42,2.4500000000000002,null,null,null,null,null,5068.0673893350986,474.23421538525417,5688.1360253023422]
["796-48.280","L1","Monazite",0.5,0.42830000000000001,1255,29.706,16.716000000000001,15.263,1045.3,13.483000000000001,40820,{"$f":"[2]!AgePb76(I65/H65)","v":5109.2573509926488},{"$f":"[2]!AgePb8Th2(J65/L65)","v":511.06951267070974},{"$f":"[2]!AgePb6U8(H65/K65)","v":5198.2541730724988},null,null,5063.2576962192998,469.73210570273238,5621.5763740423936]
[null,null,"496±13 Ma",null,null,null,null,0.317,0.255,2.25,3.6,3.59,null,null,null,null,null,5061.8212275496362,458.78502741666921,5401.8479975551154]
[null,"L2","MSWD=1.49",0.503,1.0507,1222,28.524999999999999,19.452000000000002,15.436,1452.3,47.540999999999997,57150,{"$f":"[2]!AgePb76(I67/H67)","v":4910.191592953458},{"$f":"[2]!AgePb8Th2(J67/L67)","v":507.21687152455462},{"$f":"[2]!AgePb6U8(H67/K67)","v":2211.0919561133219},null,null,5060.8496586162919,454.93589949985727,5249.5188967824197]
[null,null,"36.736+4797",null,null,null,null,0.318,0.36,3.26,4.74,4.76,null,null,null,null,null,5059.3035269162638,454.07901970514132,5198.2541730724988]
[null,"L3",null,0.67700000000000005,2.3214999999999999,1308,29.385000000000002,29.861999999999998,15.882,3092.8,215.12,125200,{"$f":"[2]!AgePb76(I69/H69)","v":4331.995602541414},{"$f":"[2]!AgePb8Th2(J69/L69)","v":493.23280259851873},{"$f":"[2]!AgePb6U8(H69/K69)","v":837.96117000712252},null,null,5056.6547853128568,451.37753729074927,4905.8243154420607]
[null,null,null,null,null,null,null,1.96,0.54200000000000004,5.01,6.13,6.14,null,null,null,null,null,5053.3932734844475,451.31391966497688,4880.3760819946538]
[null,"L4",null,1.405,0.59079999999999999,1341,30.242000000000001,17.635000000000002,14.423999999999999,2447.3000000000002,41.984000000000002,98580,{"$f":"[2]!AgePb76(I71/H71)","v":4953.2634479419048},{"$f":"[2]!AgePb8Th2(J71/L71)","v":495.6518659943394},{"$f":"[2]!AgePb6U8(H71/K71)","v":2260.6654110725754},null,null,5051.6068204245694]
[null,null,null,null,null,null,null,0.91600000000000004,0.96099999999999997,2.1800000000000002,2.92,2.95,null,null,null,null,null,5051.5542307720571]
[null,"L5",null,1.25,8.09E-2,1327,30.565000000000001,16.352,15.252000000000001,2242.6,5.2274000000000003,88540,{"$f":"[2]!AgePb76(I73/H73)","v":5139.3207012789826},{"$f":"[2]!AgePb8Th2(J73/L73)","v":505.57271316704464},{"$f":"[2]!AgePb6U8(H73/K73)","v":9139.8880476200902},null,null,5048.1004531527278]
[null,null,null,null,null,null,null,null,null,null,null,null,null,null,null,null,null,5046.0161691923377]
[null,null,null,null,null,null,null,null,null,null,null,null,null,null,null,null,null,5045.8502203740563]
["Table 3",null,null,null,null,null,null,null,null,null,null,null,null,null,null,null,null,5044.0896637815449]
[null,null,null,null,null,null,null,null,null,null,null,null,"Age","Age","Age",null,null,5043.6796331838586]
["SAMPLE",".AB","MINERAL*","WEIGHT U","Th","Pb",201,"206Pb/","207Pb/","208Pb/","238U/","232Th/","207Pb/","208Pb/","206Pb/",null,null,5034.3772328930936]
[null,"~.","Age. initial","(mg)","(Pm)","(1~'Pm)","{Ptxl)","204Pb","204Pb","204Pb","204Pb","204Pb","206Pb","232Th/","238U/",null,null,5030.3428464807876]
[null,null,"2081b/wPb",null,null,null,null,null,null,null,null,null,null,null,null,null,null,5024.8103209052169]
[null,null,null,null,null,null,0.32200000000000001,0.30399999999999999,1.89,3.01,3,null,null,null,null,null,null,5014.2559527310877]
[null,"L6",null,1.4419999999999999,0.64549999999999996,1251,29.213000000000001,21.408000000000001,15.808999999999999,2100.5,40.988,82100,{"$f":"[2]!AgePb76(I82/H82)","v":4807.4400965031118},{"$f":"[2]!AgePb8Th2(J82/L82)","v":510.61835299742125},{"$f":"[2]!AgePb6U8(H82/K82)","v":2708.9239633788934},null,null,5005.013695384454]
[null,null,null,null,null,null,0.33300000000000002,379,1.62,2.2400000000000002,2.25,null,null,null,null,null,null,5002.8901586334514]
["71331-23",11,"M©na+Bast 2.11",0.92500000000000004,0.35949999999999999,1069,9.4039999999999999,17.22,15.385,67.429000000000002,3.3441200000000002,1027,{"$f":"[2]!AgePb76(I84/H84)","v":5078.5212237014521},{"$f":"[2]!AgePb8Th2(J84/L84)","v":1285.3124836111065},{"$f":"[2]!AgePb6U8(H84/K84)","v":11708.907203034623},null,null,5001.8686864976189]
[null,null,"429111 Ma",null,null,null,7.3099999999999998E-2,9.1300000000000006E-2,0.218,0.66890000000000005,0.80500000000000005,null,null,null,null,null,null,5001.3870977482693]
[null,"I2",null,"0155 0.6233",921.4,21.6,16.88,16.88,15.288,367.54,10.023999999999999,15310,{"$f":"[2]!AgePb76(I86/H86)","v":5097.7746878301805},{"$f":"[2]!AgePb8Th2(J86/L86)","v":479.49277795646407},{"$f":"[2]!AgePb6U8(H86/K86)","v":6364.4980296161248},null,null,4990.969345714665]
[null,null,"47.308±10.12",null,null,null,0.151,0.20300000000000001,0.82499999999999996,"1A2",1.45,null,null,null,null,null,null,4983.3711183755267]
[null,"1r3",null,1.526,0.11700000000000001,1025,21.594999999999999,16.763000000000002,15.212999999999999,8668.3799999999992,4.2370999999999999,38350,{"$f":"[2]!AgePb76(I88/H88)","v":5100.6542110517221},{"$f":"[2]!AgePb8Th2(J88/L88)","v":4118.9299905214848},{"$f":"[2]!AgePb6U8(H88/K88)","v":10318.44078418069},null,null,4976.262437130541]
[null,null,null,null,null,null,277,0.27400000000000002,"L08",1.69,1.63,null,null,null,null,null,null,4962.561189693628]
[null,14,null,1.1850000000000001,0.13339999999999999,1100,24.39,16.591999999999999,15.253,619.30999999999995,3.0945999999999998,26340,{"$f":"[2]!AgePb76(I90/H90)","v":5118.8476556049518},{"$f":"[2]!AgePb8Th2(J90/L90)","v":469.73210570273238},{"$f":"[2]!AgePb6U8(H90/K90)","v":11927.668294483627},null,null,4953.2634479419048]
[null,null,null,null,null,null,0.20499999999999999,"0. 199",0.81,1.36,1.37,null,null,null,null,null,null,4938.3374015781174]
[null,15,null,1.2090000000000001,0.35489999999999999,5113.8999999999996,66.540000000000006,16.187000000000001,15.221,64.566999999999993,0.44700000000000001,656.5,{"$f":"[2]!AgePb76(I92/H92)","v":5150.7559983313604},{"$f":"[2]!AgePb8Th2(J92/L92)","v":1896.0963257338872},{"$f":"[2]!AgePb6U8(H92/K92)","v":23314.394699855369},null,null,4930.95191619036]
[null,null,null,null,null,null,8.6499999999999994E-2,1.7299999999999999E-2,0.113,0.315,0.52700000000000002,null,null,null,null,null,null,4918.7253537817478]
[null,16,null,"0384 0.2953",1066,26.484999999999999,17.061,17.061,15.36,338.96,3.5992000000000002,13420,{"$f":"[2]!AgePb76(I94/H94)","v":5089.3396411617623},{"$f":"[2]!AgePb8Th2(J94/L94)","v":504.17618413128832},{"$f":"[2]!AgePb6U8(H94/K94)","v":11265.092961430597},null,null,4916.5408474816686]
[null,null,null,null,null,null,0.16800000000000001,0.16800000000000001,1.21,2.0699999999999998,2.08,null,null,null,null,null,null,4910.191592953458]
["7B31-2","Ml","Mona+fine hematite",0.86799999999999999,1.7737000000000001,113.8,36.686,16.562999999999999,15.31,50.28,3.4767000000000001,230.6,{"$f":"[2]!AgePb76(I96/H96)","v":5126.5836286514159},{"$f":"[2]!AgePb8Th2(J96/L96)","v":3986.7190303227512},{"$f":"[2]!AgePb6U8(H96/K96)","v":11291.743677797993},null,null,4898.2983851347617]
[null,null,"424±5.6 Ma",null,null,null,785,0.105,0.125,3.387,0.52300000000000002,null,null,null,null,null,null,4888.0452372452737]
[null,"M2",null,"LOU!",4.6910999999999996,4763,106.71,16.459,15.263999999999999,52.439,3.238,340,{"$f":"[2]!AgePb76(I98/H98)","v":5131.227021972064},{"$f":"[2]!AgePb8Th2(J98/L98)","v":2899.1509554625181},{"$f":"[2]!AgePb6U8(H98/K98)","v":11639.068394057143},null,null,4870.6135460911646]
[null,null,"44x971±.0.478",null,null,null,6.9000000000000006E-2,8.6599999999999996E-2,9.8400000000000001E-2,0.38700000000000001,0.52800000000000002,null,null,null,null,null,null,4836.9765268326191]
[null,"M3",null,0.86399999999999999,3.1019000000000001,625.1,132.91,16.431999999999999,15.263,57.843000000000004,3.1019000000000001,625.1,{"$f":"[2]!AgePb76(I100/H100)","v":5133.4515604124972},{"$f":"[2]!AgePb8Th2(J100/L100)","v":1788.7774392392555},{"$f":"[2]!AgePb6U8(H100/K100)","v":11862.282615726292},null,null,4833.4410864509573]
[null,null,null,null,null,null,5.3199999999999997E-2,7.0499999999999993E-2,0.193,484,0.502,null,null,null,null,null,null,4807.4400965031118]
[null,null,null,1.409,4.7874999999999996,1165,80.406000000000006,16.413,15.256,74.48,5.5209999999999999,1389,{"$f":"[2]!AgePb76(I102/H102)","v":5134.4368667598364},{"$f":"[2]!AgePb8Th2(J102/L102)","v":1055.7472948908935},{"$f":"[2]!AgePb6U8(H102/K102)","v":8892.6926094189184}]
[null,null,null,null,null,null,4.2900000000000001E-2,6.9199999999999998E-2,9.0399999999999994E-2,0.54700000000000004,0.55500000000000005]
[null,"M5",null,1.292,1.2060999999999999,1193,46.941000000000003,16399,15208,117.48,3.3395999999999999,3412,{"$f":"[2]!AgePb76(I104/H104)","v":5131.1939589220992},{"$f":"[2]!AgePb8Th2(J104/L104)","v":684.22277277208184},{"$f":"[2]!AgePb6U8(H104/K104)","v":54790.189994110595}]
[null,null,null,null,null,null,931,0.11899999999999999,0.153,0.28799999999999998,0.52600000000000002]
[null,"1 ~",null,1.379,1.3085,1191,50.402000000000001,16.401,15.196,107.64,3.1526000000000001,2966,{"$f":"[2]!AgePb76(I106/H106)","v":5129.9077454941489},{"$f":"[2]!AgePb8Th2(J106/L106)","v":720.53124379812812},{"$f":"[2]!AgePb6U8(H106/K106)","v":11764.266904053467}]
[null,null,null,null,null,null,9.5000000000000001E-2,0.108,0.128,"0r477",0.54800000000000004]
[null,"3 47",null,1.2729999999999999,19.36,1061,520.36,16.427,15.268000000000001,47.722999999999999,2.6406999999999998,146.5,{"$f":"[2]!AgePb76(I108/H108)","v":5134.3432341556181},{"$f":"[2]!AgePb8Th2(J108/L108)","v":5699.4755935478561},{"$f":"[2]!AgePb6U8(H108/K108)","v":12744.249930871059}]
[null,null,null,null,null,null,7.0199999999999999E-2,8.3799999999999999E-2,9.8900000000000002E-2,0.26,0.51200000000000001]
[78319,"T1","Monazite",1.246,3.0034999999999998,550.29999999999995,35.86,16.646000000000001,15.286,77.17,7.9808000000000003,1511,{"$f":"[2]!AgePb76(I110/H110)","v":5117.3111008195228},{"$f":"[2]!AgePb8Th2(J110/L110)","v":1006.7857847663379},{"$f":"[2]!AgePb6U8(H110/K110)","v":7263.7977358253838}]
[null,null,"418±11 Ma",null,null,null,6.9500000000000006E-2,9.7000000000000003E-2,0.11799999999999999,0.75600000000000001,0.52600000000000002]
[null,"T2","MSWD = 14.4",1.1930000000000001,2.7805,865.4,26.222000000000001,16.585999999999999,15.208,171.63,18.78,6040,{"$f":"[2]!AgePb76(I112/H112)","v":5115.1860016847977},{"$f":"[2]!AgePb8Th2(J112/L112)","v":566.33308596310735},{"$f":"[2]!AgePb6U8(H112/K112)","v":4080.3122182283232}]
[null,null,"45.401±1.302",null,null,null,8.3799999999999999E-2,0.11,0.20899999999999999,0.49,0.60699999999999998]
[null,"T3",null,"1.3.42",7.5392999999999999,873.6,25.114999999999998,16.606999999999999,15.231,186.27,56.987000000000002,6823,{"$f":"[2]!AgePb76(I114/H114)","v":5115.5332693449791},{"$f":"[2]!AgePb8Th2(J114/L114)","v":544.40224039142265},{"$f":"[2]!AgePb6U8(H114/K114)","v":1648.6080839675658}]
[null,null,null,null,null,null,5.8000000000000003E-2,7.6999999999999999E-2,0.19500000000000001,0.78700000000000003,0.59199999999999997]
[null,"T4",null,1451,0.72,869,25.103999999999999,16.395,15.237,193.35,5.6204999999999998,7010,{"$f":"[2]!AgePb76(I116/H116)","v":5134.2267547302463},{"$f":"[2]!AgePb8Th2(J116/L116)","v":549.94430611716314},{"$f":"[2]!AgePb6U8(H116/K116)","v":8801.4576813377043}]
[null,null,null,null,null,null,7.4099999999999999E-2,9.5100000000000004E-2,0.20599999999999999,0.77,589]
[null,"TS",null,0.73199999999999998,4.0410000000000004,860.6,"62A74",16.425999999999998,15.247999999999999,72.051000000000002,5.8609999999999998,1290,{"$f":"[2]!AgePb76(I118/H118)","v":5132.5793602299109},{"$f":"[2]!AgePb8Th2(J118/L118)","v":1098.5231649644556},{"$f":"[2]!AgePb6U8(H118/K118)","v":8610.3678410539032}]
[null,null,null,null,null,null,0.14399999999999999,0.17199999999999999,"(127",0.38440000000000002,0.54900000000000004]
["8835 23",83,"~nazitg",1.0720000000000001,3.55,8373,41.067,16.783000000000001,15.301,96.080399999999997,9.6696500000000007,2356,{"$f":"[2]!AgePb76(I120/H120)","v":5107.1191699834308},{"$f":"[2]!AgePb8Th2(J120/L120)","v":807.91392231636507},{"$f":"[2]!AgePb6U8(H120/K120)","v":6487.4406312792171}]
[null,null,"474±4.5 Ma",null,null,null,8.2699999999999996E-2,0.105,0.19500000000000001,0.46899999999999997,0.64]
[null,"B4","MSWD4.01",1.1579999999999999,3.282,806.1,21660,19.059000000000001,15.215,274.339,17380,9863,{"$f":"[2]!AgePb76(I122/H122)","v":4918.7253537817478},{"$f":"[2]!AgePb8Th2(J122/L122)","v":554.52563347024397},{"$f":"[2]!AgePb6U8(H122/K122)","v":7.0652987014756636}]
[null,null,"40.166±0.70",null,null,null,0.33100000000000002,0.35299999999999998,0.90700000000000003,"L45",1.5]
[null,135,null,1.042,"332'03",7823,23.448,18333,151368,223.327,14577,7720,{"$f":"[2]!AgePb76(I124/H124)","v":8076.5542778412337},{"$f":"[2]!AgePb8Th2(J124/L124)","v":576.40911755894103},{"$f":"[2]!AgePb6U8(H124/K124)","v":5249.5188967824197}]
[null,null,null,null,null,null,0.123,0.19800000000000001,0.73399999999999999,3.9800000000000002E-2,3.9800000000000002E-2]
["7830-20","A2","Monazite",1.0169999999999999,2461,2594,54.006,16.614999999999998,15.170999999999999,1023.56,4.1740000000000004,45460,{"$f":"[2]!AgePb76(I126/H126)","v":5109.2779114113982},{"$f":"[2]!AgePb8Th2(J126/L126)","v":450.04311811724978},{"$f":"[2]!AgePb6U8(H126/K126)","v":10350.035081450238}]
[null,null,"421±3.3 Ma",null,null,null,0.432,0.439,0.56999999999999995,2.5299999999999998,0.35099999999999998]
[null,"A3","MSWD=3.58",1.0349999999999999,0.42480000000000001,2503,53.465000000000003,16.712,15.169,861.15300000000002,6.1605999999999996,37510,{"$f":"[2]!AgePb76(I128/H128)","v":5100.8670291521985},{"$f":"[2]!AgePb8Th2(J128/L128)","v":458.78502741666921},{"$f":"[2]!AgePb6U8(H128/K128)","v":8456.1838016116708}]
[null,null,"66.648±5.325",null,null,null,0.32,0.34100000000000003,1.3,2.1,2.09]
[null,"A4",null,0.27200000000000002,0.71299999999999997,2154,59.164999999999999,16.923999999999999,15.37,284.92599999999999,3.3235999999999999,10370,{"$f":"[2]!AgePb76(I130/H130)","v":5101.6555173279949},{"$f":"[2]!AgePb8Th2(J130/L130)","v":547.85847779339497},{"$f":"[2]!AgePb6U8(H130/K130)","v":11648.591363103729}]
[null,null,null,null,null,null,0.31,0.27400000000000002,1.42,167,2.5]
["9133-2","K1","Monazite",1.139,0.34889999999999999,5589,42.325000000000003,16.372,15.228,78.144999999999996,0.79029000000000005,1308,{"$f":"[2]!AgePb76(I132/H132)","v":5135.3740094842706},{"$f":"[2]!AgePb8Th2(J132/L132)","v":1172.8602297176801},{"$f":"[2]!AgePb6U8(H132/K132)","v":19842.513117251481}]
[null,null,43789.41,null,null,null,7.3899999999999993E-2,0.11600000000000001,1.37,556,0.51800000000000002]
[null,"I2",null,1.254,0.67259999999999998,669.7,79333,16.562000000000001,15.397,67.382999999999996,0.73243999999999998,753.5,{"$f":"[2]!AgePb76(I134/H134)","v":5134.6663259590332},{"$f":"[2]!AgePb8Th2(J134/L134)","v":1731.2091378531672},{"$f":"[2]!AgePb6U8(H134/K134)","v":20382.007511833421}]
[null,null,"49.209±1.753",null,null,null,0.29299999999999998,0.29799999999999999,0.30299999999999999,0.65200000000000002,0.67800000000000005]
[null,"lc;.:.3",null,1.2889999999999999,0.44590000000000002,1419,61.822000000000003,16.356000000000002,15.241,115,0.92188999999999999,3032,{"$f":"[2]!AgePb76(I136/H136)","v":5137.9576856277135},{"$f":"[2]!AgePb8Th2(J136/L136)","v":752.44366452035547},{"$f":"[2]!AgePb6U8(H136/K136)","v":18892.873604117394}]
[null,null,null,null,null,null,0.10199999999999999,0.11600000000000001,0.13200000000000001,0.60599999999999998,0.52700000000000002]
[null,"K4",null,1.419,0.18709999999999999,1503,47.752000000000002,16.324000000000002,15.206,178.87,0.71974000000000005,5958,{"$f":"[2]!AgePb76(I138/H138)","v":5137.4769853175121},{"$f":"[2]!AgePb8Th2(J138/L138)","v":597.87743108794359},{"$f":"[2]!AgePb6U8(H138/K138)","v":20400.633193783822}]
[null,null,null,null,null,null,6.1100000000000002E-2,7.8E-2,0.13100000000000001,0.41299999999999998,0.53200000000000003]
[null,"K5",null,1.1419999999999999,0.18490000000000001,1498,44.706000000000003,16.306000000000001,15.195,208.11,0.86262000000000005,7220,{"$f":"[2]!AgePb76(I140/H140)","v":5138.0126071883633},{"$f":"[2]!AgePb8Th2(J140/L140)","v":574.36077428041074},{"$f":"[2]!AgePb6U8(H140/K140)","v":19280.350093510049}]
[null,null,null,null,null,null,"0.05 16",7.7399999999999997E-2,0.19400000000000001,"0A73",0.57899999999999996]
[null,"Kf",null,1.6679999999999999,0.79330000000000001,1455,106.28,16.373999999999999,15.275,77.423000000000002,0.71087999999999996,1348,{"$f":"[2]!AgePb76(I142/H142)","v":5139.5497749576334},{"$f":"[2]!AgePb8Th2(J142/L142)","v":1128.7842200477169},{"$f":"[2]!AgePb6U8(H142/K142)","v":20496.022572970982}]
[null,null,null,null,null,null,5.57E-2,9.2600000000000002E-2,"U.1",0.32900000000000001,0.56100000000000005]
[null,"K7",null,1.6259999999999999,0.51490000000000002,1308,96.010999999999996,16.361999999999998,15.263,78.418000000000006,0.51539999999999997,1353,{"$f":"[2]!AgePb76(I144/H144)","v":5139.4753272832795},{"$f":"[2]!AgePb8Th2(J144/L144)","v":1138.7814483262785},{"$f":"[2]!AgePb6U8(H144/K144)","v":22490.168764751437}]
[null,null,null,null,null,null,8.5800000000000001E-2,9.8699999999999996E-2,0.112,0.33400000000000002,0.50600000000000001]
[]
[]
["Table 3"]
[null,null,null,null,null,null,null,null,null,null,null,null,"Age","Age","Age"]
["SAMPLE","LAB","MINERAL*","WEIGHT U","Th","Pb","206Pb/","206Pb/","207Pb/","208Pb/","238U/","232Th/","207Pb/","208Pb/","206Pb/"]
[null,"NO.","Age. initial","(mg)","(ppm)","(ppm)","(PPm)","204Pb","204Pb","204Pb","204Pb","204Pb","206Pb","232Th/","238U/"]
[null,null,"208Pb/204Pb"]
["MAIN OREBODY","Monazite",0.4,6.1073000000000004,838,40.152999999999999,17.8,17.8,15.414999999999999,94.293000000000006,16.920000000000002,2399,{"$f":"[2]!AgePb76(I153/H153)","v":5034.3772328930936},{"$f":"[2]!AgePb8Th2(J153/L153)","v":779.22875915694522},{"$f":"[2]!AgePb6U8(H153/K153)","v":4633.8084487611422}]
["9B9-3","WI"]
[null,null,"404±14 Ma",null,null,null,null,7.8299999999999995E-2,9.5549999999999996E-2,0.189,0.66400000000000003,0.625]
[null,"W2",null,0.38600000000000001,15.129,1940,63.402000000000001,18.247,15.444000000000001,142.30000000000001,36.578000000000003,4846,{"$f":"[2]!AgePb76(I156/H156)","v":5001.8686864976189},{"$f":"[2]!AgePb8Th2(J156/L156)","v":584.97317759047678},{"$f":"[2]!AgePb6U8(H156/K156)","v":2608.8594844259014}]
[null,null,"41.134±18.30",null,null,null,null,5.7599999999999998E-2,7.5700000000000003E-2,0.19500000000000001,0.433,0.60799999999999998]
[null,"W3",null,1.2869999999999999,7.4010999999999996,2195,51.752000000000002,19.745000000000001,15.427,349.24,47.774999999999999,14640,{"$f":"[2]!AgePb76(I158/H158)","v":4888.0452372452737},{"$f":"[2]!AgePb8Th2(J158/L158)","v":476.50534267914463},{"$f":"[2]!AgePb6U8(H158/K158)","v":2229.9523620394193}]
[null,null,null,null,null,null,null,0.157,0.16700000000000001,0.255,0.42199999999999999,0.58299999999999996]
[null,"W5",null,1.2989999999999999,6.3620000000000001,2338,45.902000000000001,25.635999999999999,15.731,1076.7,134.49,51070,{"$f":"[2]!AgePb76(I160/H160)","v":4540.6063082614291},{"$f":"[2]!AgePb8Th2(J160/L160)","v":421.70105673879829},{"$f":"[2]!AgePb6U8(H160/K160)","v":1124.7133504137889}]
[null,null,null,null,null,null,null,0.218,0.26700000000000002,0.6,0.93,0.90500000000000003]
[null,"W6",null,1.2130000000000001,6.2789999999999999,2309,43.819000000000003,21.997,15.403,682.78,87.116,33100,{"$f":"[2]!AgePb76(I162/H162)","v":4731.1944344324484},{"$f":"[2]!AgePb8Th2(J162/L162)","v":412.69171960980145},{"$f":"[2]!AgePb6U8(H162/K162)","v":1451.3681133859875}]
[null,null,null,null,null,null,null,0.14699999999999999,0.16600000000000001,0.42499999999999999,0.73,0.75700000000000001]
[null,"W7",null,0.93799999999999994,6.1684999999999999,2332,46.984000000000002,23.885999999999999,15.624000000000001,889.26,105.83,41340,{"$f":"[2]!AgePb76(I164/H164)","v":4633.0495840977601},{"$f":"[2]!AgePb8Th2(J164/L164)","v":430.17264175536286},{"$f":"[2]!AgePb6U8(H164/K164)","v":1311.9317467335952}]
[null,null,null,null,null,null,null,0.27700000000000002,0.249,0.69199999999999995,1.1000000000000001,1.03]
[null,"W8",null,1.2370000000000001,6.5235000000000003,1965,48.436999999999998,18.742000000000001,15.43,220,29.777999999999999,9267,{"$f":"[2]!AgePb76(I166/H166)","v":4962.561189693628},{"$f":"[2]!AgePb8Th2(J166/L166)","v":474.23421538525417},{"$f":"[2]!AgePb6U8(H166/K166)","v":3147.1794890732676}]
[null,null,null,null,null,null,null,7.6899999999999996E-2,9.4200000000000006E-2,0.161,0.33100000000000002,0.55100000000000005]
[null,"W9",null,1.2410000000000001,7.0719000000000003,2180,66.108000000000004,17.989999999999998,15.36,144.31,16.553000000000001,5272,{"$f":"[2]!AgePb76(I168/H168)","v":5014.2559527310877},{"$f":"[2]!AgePb8Th2(J168/L168)","v":545.83071421185321},{"$f":"[2]!AgePb6U8(H168/K168)","v":4742.224467288288}]
[null,null,null,null,null,null,null,8.3699999999999997E-2,0.112,0.13100000000000001,0.55300000000000005,0.53700000000000003]
[490.33,"P1","Monazite",0.86099999999999999,0.3327,1107,22.318000000000001,17.489000000000001,15.331,1521.7,20.111999999999998,69170,{"$f":"[2]!AgePb76(I170/H170)","v":5051.6068204245694},{"$f":"[2]!AgePb8Th2(J170/L170)","v":439.83680534375287},{"$f":"[2]!AgePb6U8(H170/K170)","v":4033.6115644736674}]
[null,null,"431±2.7 Ma",null,null,null,null,0.33500000000000002,0.34499999999999997,2.5499999999999998,3.91,3.92]
[null,"P2","MSWD=0.936",1.35,0.1988,1103,91.503,17.393000000000001,15.567,52.542000000000002,0.16253000000000001,931.9,{"$f":"[2]!AgePb76(I172/H172)","v":5081.0161800395344},{"$f":"[2]!AgePb8Th2(J172/L172)","v":1108.6300232084304},{"$f":"[2]!AgePb6U8(H172/K172)","v":30183.798090962373}]
[null,null,"32.473±0.168",null,null,null,null,6.0699999999999997E-2,7.9399999999999998E-2,9.4500000000000001E-2,0.28699999999999998,0.51400000000000001]
[null,"P3",null,1.4750000000000001,0.22289999999999999,1096,22.300999999999998,17.27,15.356,1225,10.911,55430,{"$f":"[2]!AgePb76(I174/H174)","v":5071.7503295456736},{"$f":"[2]!AgePb8Th2(J174/L174)","v":441.82478829341261},{"$f":"[2]!AgePb6U8(H174/K174)","v":6116.8511673060502}]
[null,null,null,null,null,null,null,0.22500000000000001,0.28399999999999997,1.21,1.92,1.9]
[null,"P4",null,1.4319999999999999,0.20419999999999999,1099,22.899000000000001,16.869,15.212999999999999,994.54,7.9469000000000003,44180,{"$f":"[2]!AgePb76(I176/H176)","v":5091.7446444905163},{"$f":"[2]!AgePb8Th2(J176/L176)","v":449.95362933492748},{"$f":"[2]!AgePb6U8(H176/K176)","v":7340.548984713615}]
[null,null,null,null,null,null,null,0.183,0.187,1.01,1.57,1.61]
[null,"F2",null,1.115,0.25169999999999998,1115,22.428000000000001,17.393000000000001,15.185,1533,15.250999999999999,69770,{"$f":"[2]!AgePb76(I178/H178)","v":5045.8502203740563},{"$f":"[2]!AgePb8Th2(J178/L178)","v":439.29831875232793},{"$f":"[2]!AgePb6U8(H178/K178)","v":4905.8243154420607}]
[null,null,null,null,null,null,null,0.39600000000000002,0.434,1.99,3.04,3.06]
[null,"F3",null,1.204,9.9699999999999997E-2,1101,21.933,17.425999999999998,15.238,1671.5,6.7256,76680,{"$f":"[2]!AgePb76(I180/H180)","v":5048.1004531527278},{"$f":"[2]!AgePb8Th2(J180/L180)","v":435.86044070986748},{"$f":"[2]!AgePb6U8(H180/K180)","v":8241.2859929283968}]
[null,null,null,null,null,null,null,0.29699999999999999,0.34699999999999998,2.04,3.16,3.14]
[null,"F4",null,1.119,0.1022,1090,23.547000000000001,16.875,14.914999999999999,548.82000000000005,2.1886000000000001,24110,{"$f":"[2]!AgePb76(I182/H182)","v":5063.2576962192998},{"$f":"[2]!AgePb8Th2(J182/L182)","v":454.93589949985727},{"$f":"[2]!AgePb6U8(H182/K182)","v":13953.383965309222}]
[null,null,null,null,null,null,null,0.435,0.66400000000000003,0.83099999999999996,1.32,1.31]
["7B36-6","XI","Mona+bastnae",0.30599999999999999,0.31369999999999998,2895,98.686000000000007,16.056999999999999,15.177,217.35,0.68762000000000001,6556,{"$f":"[2]!AgePb76(I184/H184)","v":5158.0435832695548},{"$f":"[2]!AgePb8Th2(J184/L184)","v":659.22453334981481},{"$f":"[2]!AgePb6U8(H184/K184)","v":20580.795692928448}]
[null,null,"553±16 Ma",null,null,null,null,8.6199999999999999E-2,9.7799999999999998E-2,0.26200000000000001,0.71499999999999997,0.65500000000000003]
[null,"X2","MSWD=35.4",0.58199999999999996,0.27839999999999998,3423,111.48,15.958,15.127000000000001,295.70999999999998,0.70991000000000004,9015,{"$f":"[2]!AgePb76(I186/H186)","v":5162.1099791040633},{"$f":"[2]!AgePb8Th2(J186/L186)","v":652.35965254514792},{"$f":"[2]!AgePb6U8(H186/K186)","v":20345.543216906044}]
[null,null,"39.756±2.06",null,null,null,null,0.105,0.129,0.19,0.56399999999999995,0.57699999999999996]
[null,"X3",null,0.70099999999999996,0.69350000000000001,3472,128.65,15.771000000000001,15.12,185.21,1.014,5245,{"$f":"[2]!AgePb76(I188/H188)","v":5178.0668588617818},{"$f":"[2]!AgePb8Th2(J188/L188)","v":701.41617752221396},{"$f":"[2]!AgePb6U8(H188/K188)","v":18092.394683403752}]
[null,null,null,null,null,null,null,5.2400000000000002E-2,7.2999999999999995E-2,0.114,0.437,0.51800000000000002]
[null,"X4",null,1.1559999999999999,0.46010000000000001,3553,168.27,15.759,15.177,118.36,0.49514999999999998,2840,{"$f":"[2]!AgePb76(I190/H190)","v":5184.4383391379706},{"$f":"[2]!AgePb8Th2(J190/L190)","v":825.28567082638608},{"$f":"[2]!AgePb6U8(H190/K190)","v":22505.997052704959}]
[null,null,null,null,null,null,null,9.8699999999999996E-2,0.122,0.13400000000000001,0.28000000000000003,0.54800000000000004]
[null,"X5",null,0.77400000000000002,0.4002,5829,126.96,15.779,15.138999999999999,200.22,0.40023999999999998,5829,{"$f":"[2]!AgePb76(I192/H192)","v":5179.1214299313442},{"$f":"[2]!AgePb8Th2(J192/L192)","v":682.61121930266768},{"$f":"[2]!AgePb6U8(H192/K192)","v":23847.992591519713}]
[null,null,null,null,null,null,null,8.1199999999999994E-2,9.9400000000000002E-2,0.13600000000000001,0.39300000000000002,0.52700000000000002]
[null,"X6",null,0.70699999999999996,0.89459999999999995,2845,222.3,15.895,15.204000000000001,73.224000000000004,0.36681999999999998,1205,{"$f":"[2]!AgePb76(I194/H194)","v":5174.8387376157552},{"$f":"[2]!AgePb8Th2(J194/L194)","v":1192.3607381398715},{"$f":"[2]!AgePb6U8(H194/K194)","v":24442.894719963941}]
[null,null,null,null,null,null,null,0.11600000000000001,0.125,0.13600000000000001,0.436,0.52500000000000002]
["WEST OREBODY","Monazite",1.2549999999999999,2.9584999999999999,5970,123.9,18.082999999999998,18.082999999999998,15.3,1005,22.765999999999998,47470,{"$f":"[2]!AgePb76(I196/H196)","v":5001.3870977482693},{"$f":"[2]!AgePb8Th2(J196/L196)","v":423.45161324889068},{"$f":"[2]!AgePb6U8(H196/K196)","v":3768.6649237659312}]
["12-6A","U1"]
[null,null,"398±9.7 Ma",null,null,null,null,0.111,0.14799999999999999,0.26900000000000002,0.45900000000000002,0.65]
[null,"U2","MSWD=40.6",1.1910000000000001,2.8342000000000001,6164,138.08000000000001,19.363,15.433999999999999,1464.9,32.055,72030,{"$f":"[2]!AgePb76(I199/H199)","v":4916.5408474816686},{"$f":"[2]!AgePb8Th2(J199/L199)","v":406.93920474938488},{"$f":"[2]!AgePb6U8(H199/K199)","v":3046.1571524295082}]
[null,null,"41.670±1.319",null,null,null,null,0.221,0.23,"0A15",0.59299999999999997,0.73499999999999999]
[null,"U3",null,1.54,2.9558,6106,113.31,18.442,15.407,1151.9000000000001,26.846,57300,{"$f":"[2]!AgePb76(I201/H201)","v":4983.3711183755267},{"$f":"[2]!AgePb8Th2(J201/L201)","v":402.29550449320664},{"$f":"[2]!AgePb6U8(H201/K201)","v":3370.9928294531155}]
[null,null,null,null,null,null,null,0.106,0.129,0.255,0.439,0.59499999999999997]
[null,"U4",null,1.137,2.9752000000000001,5973,111.96,20.010999999999999,15.445,2495.6999999999998,58.362000000000002,121100,{"$f":"[2]!AgePb76(I203/H203)","v":4870.6135460911646},{"$f":"[2]!AgePb8Th2(J203/L203)","v":412.31135351909319},{"$f":"[2]!AgePb6U8(H203/K203)","v":1900.4962911898169}]
[null,null,null,null,null,null,null,0.191,0.308,0.67300000000000004,0.94599999999999995,1.04]
[null,"U5",null,1.0680000000000001,3.403,6086,563.03,16.097999999999999,15.233000000000001,59.274999999999999,0.47897000000000001,885.1,{"$f":"[2]!AgePb76(I205/H205)","v":5159.6405717194884},{"$f":"[2]!AgePb8Th2(J205/L205)","v":1310.2112188412873},{"$f":"[2]!AgePb6U8(H205/K205)","v":22846.940832989323}]
[null,null,null,null,null,null,null,0.16200000000000001,0.16900000000000001,0.17699999999999999,0.68700000000000006,0.67500000000000004]
[null,"U6",null,1.3959999999999999,4.0510999999999999,6127,118.29,17.469000000000001,15.228,1009.6,30986,48420,{"$f":"[2]!AgePb76(I207/H207)","v":5043.6796331838586},{"$f":"[2]!AgePb8Th2(J207/L207)","v":417.10931833338174},{"$f":"[2]!AgePb6U8(H207/K207)","v":3.6332755916432156}]
[null,null,null,null,null,null,null,9.5799999999999996E-2,0.151,0.23100000000000001,0.58899999999999997,0.59699999999999998]
["85-10.21-4","N2","Bastnaesite",0.626,0.13800000000000001,568.70000000000005,17.263999999999999,16.155000000000001,15.199,282.42,2.1818,9286,{"$f":"[2]!AgePb76(I209/H209)","v":5151.5068145319101},{"$f":"[2]!AgePb8Th2(J209/L209)","v":605.56246524913422},{"$f":"[2]!AgePb6U8(H209/K209)","v":13722.867013160359}]
[null,null,"475±8 Ma",null,null,null,null,0.17399999999999999,0.14000000000000001,0.82199999999999995,1.53,1.52]
[null,"N3","MSWD=1.63",1.484,0.18690000000000001,569.70000000000005,15.34,16.172999999999998,15.144,445.65,5.1441999999999997,16200,{"$f":"[2]!AgePb76(I211/H211)","v":5144.823524729306},{"$f":"[2]!AgePb8Th2(J211/L211)","v":548.51296194409861},{"$f":"[2]!AgePb6U8(H211/K211)","v":9164.5085715516161}]
[null,null,"59.826±5.395",null,null,null,null,0.20899999999999999,0.21199999999999999,0.66300000000000003,1.19,1.23]
[null,"N4",null,1.4470000000000001,0.106,573.4,14.834,15.701000000000001,14.983000000000001,481.84,3.1844000000000001,17780,{"$f":"[2]!AgePb76(I213/H213)","v":5171.5108069686512},{"$f":"[2]!AgePb8Th2(J213/L213)","v":540.46299560620764},{"$f":"[2]!AgePb6U8(H213/K213)","v":11475.424648117139}]
[null,null,null,null,null,null,null,0.52900000000000003,0.7,0.89600000000000002,1.38,1.41]
[null,"NS",null,1.5249999999999999,0.30590000000000001,567.20000000000005,14.869,17.451000000000001,15.317,463.85,8.8422000000000001,16970,{"$f":"[2]!AgePb76(I215/H215)","v":5053.3932734844475},{"$f":"[2]!AgePb8Th2(J215/L215)","v":545.05587526538716},{"$f":"[2]!AgePb6U8(H215/K215)","v":7025.138669810558}]
[null,null,null,null,null,null,null,0.29299999999999998,0.33900000000000002,0.71599999999999997,1.1299999999999999,1.19]
[null,"N6",null,0.41,0.44679999999999997,538.9,15.734999999999999,18.286999999999999,15.489000000000001,277.02999999999997,7.6745000000000001,9264,{"$f":"[2]!AgePb76(I217/H217)","v":5002.8901586334514},{"$f":"[2]!AgePb8Th2(J217/L217)","v":595.56392639960416},{"$f":"[2]!AgePb6U8(H217/K217)","v":7856.3192689582156}]
[null,null,null,null,null,null,null,0.158,0.19900000000000001,1.35,2.2799999999999998,2.29]
[]
[]
[]
[4]
[]
[null,null,null,null,null,null,null,null,null,null,null,null,"Age","Age","Age"]
["SAMPLE","LAB","MINERAL*","WEIGHT U","Th","Pb","206p w","206Pb/","207Pb/","208Pb/","238U/","232Th/","207Pb/","208Pb/","206Pb/"]
[null,"NO.","Age. initial","(mg)","(ppm)","(ppm)","(pm)","204Pb","204Pb","204Pb","204Pb","204Pb","206Pb","232Th/","238U/"]
[null,null,"Pb/","Pb"]
["34-24 (1)","1~1","Monazite",1.0489999999999999,0.66839999999999999,2474,63.171999999999997,16.515000000000001,15.151,1090.3,10.305,39400,{"$f":"[2]!AgePb76(I228/H228)","v":5115.9413344406457},{"$f":"[2]!AgePb8Th2(J228/L228)","v":551.72557755597791},{"$f":"[2]!AgePb6U8(H228/K228)","v":6166.1154779120734}]
[null,null,"532±3.1 Ma",null,null,null,null,0.16,0.17,0.55300000000000005,0.874,0.97399999999999998]
[null,2,"MS WD4.35",1.1779999999999999,0.62939999999999996,2703,72.126999999999995,15.974,15.157999999999999,609.11,4.8520000000000003,21530,{"$f":"[2]!AgePb76(I230/H230)","v":5163.5829997100373},{"$f":"[2]!AgePb8Th2(J230/L230)","v":563.88916343421363},{"$f":"[2]!AgePb6U8(H230/K230)","v":9391.2084772016151}]
[null,null,"34.88&0.148",null,null,null,null,9.0999999999999998E-2,0.123,0.252,495,0.626]
[null,3,null,0.18402777777777776,3369,2735,71.95,16.004000000000001,5.1740000000000004,651.53,4.4242999999999997,23290,{"$f":"[2]!AgePb76(I232/H232)","v":3585.5766457884865},{"$f":"[2]!AgePb8Th2(J232/L232)","v":557.66597202366893},{"$f":"[2]!AgePb6U8(H232/K232)","v":9861.7832106187234}]
[null,null,null,null,null,null,null,40924,0.105,"0x268",0.52400000000000002,0.63800000000000001]
[null,4,null,1.855,0.52890000000000004,2709,1741,16.448,15.201000000000001,1020.7,6.9288999999999996,36670,{"$f":"[2]!AgePb76(I234/H234)","v":5126.3329373405686},{"$f":"[2]!AgePb8Th2(J234/L234)","v":554.91455460351187},{"$f":"[2]!AgePb6U8(H234/K234)","v":7839.1444631734121}]
[null,null,null,null,null,null,null,0.122,0.152,0.28799999999999998,0.61,0.66600000000000004]
[null,5,null,"1A91",0.55810000000000004,2679,442.42,15.457000000000001,15.29,46.134999999999998,8.4949999999999998E-2,421.4,{"$f":"[2]!AgePb76(I236/H236)","v":5222.1034636204886},{"$f":"[2]!AgePb8Th2(J236/L236)","v":2099.8829887108868},{"$f":"[2]!AgePb6U8(H236/K236)","v":33580.88799714356}]
[null,null,null,null,null,null,null,5.4899999999999997E-2,7.9600000000000004E-2,9.06E-2,0.34100000000000003,4535]
[null,"C2#",null,0.86639999999999995,0.56010000000000004,2721,67.61,17.462,15.362,1819.2,13.313000000000001,66840,{"$f":"[2]!AgePb76(I238/H238)","v":5056.6547853128568},{"$f":"[2]!AgePb8Th2(J238/L238)","v":542.76771334634782},{"$f":"[2]!AgePb6U8(H238/K238)","v":5401.8479975551154}]
[null,null,null,null,null,null,null,0.21299999999999999,0.14000000000000001,234,0.375,3.91]
[null,"C3",null,0.95899999999999996,0.50929999999999997,2691,67.150000000000006,16.899000000000001,15.17,1678.3,11.257999999999999,61470,{"$f":"[2]!AgePb76(I240/H240)","v":5085.2303579329346},{"$f":"[2]!AgePb8Th2(J240/L240)","v":544.45027758586764},{"$f":"[2]!AgePb6U8(H240/K240)","v":5909.5374986748666}]
[null,null,null,null,null,null,null,0.3,4245,2.13,3.31,3.34]
[null,"C4",null,1.234,0.48749999999999999,2715,67.209999999999994,17.146999999999998,15.207000000000001,1925,12.32,70900,{"$f":"[2]!AgePb76(I242/H242)","v":5068.0673893350986},{"$f":"[2]!AgePb8Th2(J242/L242)","v":541.4627449705182},{"$f":"[2]!AgePb6U8(H242/K242)","v":5621.5763740423936}]
[null,null,null,null,null,null,null,0.34200000000000003,342,1.92,2.94,2.95]
[]
[]
[]
[]
["Age","Age","Age"]
["207Pb/206Pb","208Pb/232Th","206Pb/238U"]
[3585.5766457884865,402.29387824205662,3.6332755916432156]
[4331.995602541414,406.93755972640469,7.0652987014756636]
[4540.6063082614291,412.30968677958117,633.20363065091885]
[4633.0495840977601,412.69005133268638,769.67084067754342]
[4731.1944344324484,417.10763219843597,837.96117000712252]
[4807.4400965031118,417.9139691415657,860.73169531486974]
[4833.4410864509573,418.43325821484285,953.56632394245764]
[4836.9765268326191,419.57688525859191,1124.7133504137889]
[4870.6135460911646,421.69935204207457,1311.9317467335952]
[4888.0452372452737,422.31657368721631,1451.3681133859875]
[4898.2983851347617,422.4900729914109,1549.4744903883859]
[4910.191592953458,423.40040220771698,1648.6080839675658]
[4916.5408474816686,423.44990147566591,1900.4962911898169]
[4918.7253537817478,423.62653830639414,2023.6999681699615]
[4930.95191619036,424.0080992630111,2211.0919561133219]
[4938.3374015781174,425.41071544934124,2229.9523620394193]
[4953.2634479419048,425.53619102064488,2260.6654110725754]
[4962.561189693628,426.89675337589028,2513.884426057562]
[4976.262437130541,427.67658114584697,2608.8594844259014]
[4983.3711183755267,428.10976865381508,2708.9239633788934]
[4990.969345714665,430.17090281285527,2737.9969811539154]
[5001.3870977482693,430.53522461845472,2844.3511758536624]
[5001.8686864976189,435.85867877483452,2883.8816551212967]
[5002.8901586334514,438.011559732867,2911.6872666891068]
[5005.013695384454,438.3195584301302,3046.1571524295082]
[5014.2559527310877,439.19831297470608,3147.1794890732676]
[5024.8103209052169,439.29654291991596,3236.2147758053788]
[5030.3428464807876,439.83502733454685,3370.9928294531155]
[5034.3772328930936,441.32134874609744,3749.3002201289041]
[5043.6796331838586,441.82300224792601,3768.6649237659312]
[5044.0896637815449,442.03303173745496,4033.6115644736674]
[5045.8502203740563,445.79532343289554,4080.3122182283232]
[5046.0161691923377,447.97026516468986,4088.413052731109]
[5048.1004531527278,448.35979038622401,4633.8084487611422]
[5051.5542307720571,449.9518104291754,4742.224467288288]
[5051.6068204245694,450.0412988497456,4766.8439704713692]
[5053.3932734844475,451.31209526034723,4880.3760819946538]
[5056.6547853128568,451.37571262894988,4905.8243154420607]
[5059.3035269162638,454.07718412279013,5198.2541730724988]
[5060.8496586162919,454.93406045363002,5249.5188967824197]
[5061.8212275496362,458.78317281061436,5401.8479975551154]
[5063.2576962192998,469.73020684388712,5621.5763740423936]
[5068.0673893350986,474.23229832694869,5688.1360253023422]
[5069.5517270232231,476.50341643996751,5909.5374986748666]
[5071.7503295456736,479.49083964079091,6116.8511673060502]
[5076.2484751270267,493.23080873976687,6156.1705602306383]
[5078.5212237014521,495.64986235669471,6166.1154779120734]
[5080.2246843625535,504.1741460346899,6196.8051921359784]
[5081.0161800395344,505.57066942507629,6364.4980296161248]
[5085.2303579329346,507.21482113619226,6487.4406312792171]
[5088.1433511622054,510.61628885881044,6662.1702383758966]
[5089.3396411617623,511.06744670831779,7025.138669810558]
[5090.6064905060675,540.46081082273793,7263.7977358253838]
[5091.7446444905163,541.46055614563238,7340.548984713615]
[5092.5373024819783,542.76551924621947,7839.1444631734121]
[5096.9903666754353,544.40003968383428,7856.3192689582156]
[5097.7746878301805,544.44807668409226,8241.2859929283968]
[5100.6542110517221,545.05367191552591,8348.029846293648]
[5100.8670291521985,545.8285077297603,8404.4199631206484]
[5101.6555173279949,547.85626311421117,8456.1838016116708]
[5107.1191699834308,548.51074461920871,8503.6118748056033]
[5109.2573509926488,549.9420830061656,8610.3678410539032]
[5109.2779114113982,551.72334724431653,8719.4619008727404]
[5111.7334369206346,554.52339183955439,8740.6127672391922]
[5115.1860016847977,554.91231140063599,8801.4576813377043]
[5115.5332693449791,557.66371769838258,8892.6926094189184]
[5115.9413344406457,561.31881618358148,9139.8880476200902]
[5116.9203272444429,563.8868839521158,9164.5085715516161]
[5117.3111008195228,566.33079660162537,9391.2084772016151]
[5118.8476556049518,568.47385325028642,9522.8417995243617]
[5121.6611023707228,574.35845246756605,9861.7832106187234]
[5126.3329373405686,576.4067874658133,10318.44078418069]
[5126.5836286514159,584.97081287774154,10350.035081450238]
[5129.9077454941489,595.56151887451517,11265.092961430597]
[5131.1939589220992,597.87501421067543,11291.743677797993]
[5131.227021972064,605.56001730565845,11475.424648117139]
[5132.5793602299109,622.11934005378555,11639.068394057143]
[5133.4515604124972,652.35701542734932,11648.591363103729]
[5134.2267547302463,659.22186848122067,11708.907203034623]
[5134.3432341556181,682.6084598950481,11764.266904053467]
[5134.4368667598364,684.2200068498712,11862.282615726292]
[5134.6663259590332,701.41334209687966,11927.668294483627]
[5135.3740094842706,720.52833110148902,12241.241678420311]
[5137.4769853175121,752.4406228200105,12744.249930871059]
[5137.9576856277135,779.22560917974783,13722.867013160359]
[5138.0126071883633,807.91065638142265,13953.383965309222]
[5139.3207012789826,825.28233466737788,18092.394683403752]
[5139.4753272832795,1006.7817149059441,18892.873604117394]
[5139.5497749576334,1055.7430271070548,19280.350093510049]
[5144.823524729306,1098.5187242621848,19745.048034537311]
[5150.7559983313604,1108.6255416498993,19842.513117251481]
[5151.5068145319101,1128.7796570172691,20345.543216906044]
[5158.0435832695548,1138.7768448827417,20382.007511833421]
[5159.6405717194884,1172.8554885130777,20400.633193783822]
[5162.1099791040633,1192.3559181058417,20496.022572970982]
[5163.5829997100373,1285.307287826214,20580.795692928448]
[5171.5108069686512,1310.2059224050167,22490.168764751437]
[5174.8387376157552,1731.2021395625575,22505.997052704959]
[5176.9011018634137,1788.7702082328553,22846.940832989323]
[5178.0668588617818,1896.0886608984717,23314.394699855369]
[5179.1214299313442,2099.8745000822864,23847.992591519713]
[5184.4383391379706,2899.1392358496391,24442.894719963941]
[5193.9023798988483,3986.702914292779,30183.798090962373]
[5222.1034636204886,4118.9133400380488,33580.88799714356]
[8076.5542778412337,5699.4525538205035,54790.189994110595]
[{"$f":"AVERAGE(A250:A354)","v":5067.8406197819149},{"$f":"AVERAGE(B250:B354)","v":764.0769699013299},{"$f":"AVERAGE(C250:C354)","v":9321.4693259189862},"Average"]
[{"$f":"MAX(A250:A355)","v":8076.5542778412337},{"$f":"MAX(B250:B355)","v":5699.4525538205035},{"$f":"MAX(C250:C355)","v":54790.189994110595},"Maximum"]
[{"$f":"MIN(A250:A356)","v":3585.5766457884865},{"$f":"MIN(B250:B356)","v":402.29387824205662},{"$f":"MIN(C250:C356)","v":3.6332755916432156},"Minimum"]
[{"$f":"(A356-A357)","v":4490.9776320527471},{"$f":"(B356-B357)","v":5297.1586755784465},{"$f":"(C356-C357)","v":54786.55671851895},"Difference"]
["207Pb/206Pb","208Pb/232Th","206Pb/238U"]
[]
[]
["Statisitics","207Pb/206Pb","208Pb/232Th","206Pb/238U"]
["Average",5067.8406197819149,764.0769699013299,9321.4693259189862]
["Maximum",8076.5542778412337,5699.4525538205035,54790.189994110595]
["Minimum",3585.5766457884865,402.29387824205662,3.6332755916432156]
["Difference",4490.9776320527471,5297.1586755784465,54786.55671851895]

{"sheet":"Thorium_E","index":15,"n_rows":82,"n_cols":19,"rows_kept":82,"cut":false,"hidden":false,"merged":[]}
[null,null,null,null,"Age",null,null,null,"Age",null,"Age",null,null,null,null,null,null,null,90595]
["Sample","206Pb/204Pb"," ","207Pb/204Pb","207Pb/206Pb","208Pb/204Pb",null,"238U/204Pb","206Pb/238U","232Th/204Pb","208Pb/232Th",null,null,null,null,null,null,null,80626]
["AG",13.67,-43,13.03,{"$f":"[1]!AgePb76(D3/B3)","v":5169.9030150074559},32.844999999999999,-87,4.6239999999999997,{"$f":"[2]!AgePb6U8(B3/H3)","v":8865.8372658442968},14.121,{"$f":"[2]!AgePb8Th2(F3/J3)","v":24290.265479221998},null,null,null,null,null,null,null,76308]
["M1",15.21,-17,13.978999999999999,{"$f":"[2]!AgePb76(D4/B4)","v":5118.491167476217},34.08,-11.61,5.92,{"$f":"[2]!AgePb6U8(B4/H4)","v":8202.1426767577832},16.059999999999999,{"$f":"[2]!AgePb8Th2(F4/J4)","v":23011.367038131008},null,null,null,null,null,null,null,73746]
["M3",16.681000000000001,-79,14.795,{"$f":"[2]!AgePb76(D5/B5)","v":5068.1895446679064},35.86,-26,5.4589999999999996,{"$f":"[2]!AgePb6U8(B5/H5)","v":9025.7553874673358},20.45,{"$f":"[2]!AgePb8Th2(F5/J5)","v":20472.749000054901},null,null,null,null,null,null,null,71804]
["M4",21.265000000000001,-27,17.623999999999999,{"$f":"[2]!AgePb76(D6/B6)","v":4972.0166118232464},40.383000000000003,-61,9.67,{"$f":"[2]!AgePb6U8(B6/H6)","v":7496.2766769879081},39.36,{"$f":"[2]!AgePb8Th2(F6/J6)","v":14271.023574205998},null,null,null,null,null,null,null,63552]
["WR",21.033999999999999,-18,17.324999999999999,{"$f":"[2]!AgePb76(D7/B7)","v":4963.2203958630062},40.36,-63,7.9379999999999997,{"$f":"[2]!AgePb6U8(B7/H7)","v":8345.9693277821498},31.04,{"$f":"[2]!AgePb8Th2(F7/J7)","v":16837.214230025686},null,null,null,null,null,null,null,62693]
["GR",11.888,-65,11.917,{"$f":"[2]!AgePb76(D8/B8)","v":5240.7957955221827},31.885999999999999,-70,2.7080000000000002,{"$f":"[2]!AgePb6U8(B8/H8)","v":10859.224261235602},9.0150000000000006,{"$f":"[2]!AgePb8Th2(F8/J8)","v":30566.238625009246},null,null,null,null,null,null,null,46684]
["WT",14.97,-95,13.78,{"$f":"[2]!AgePb76(D9/B9)","v":5120.7037654244814},34.69,-77,4.75,{"$f":"[2]!AgePb6U8(B9/H9)","v":9176.3979444186261},16.649999999999999,{"$f":"[2]!AgePb8Th2(F9/J9)","v":22760.181081688563},null,null,null,null,null,null,null,40862]
["AG",16.75,-14,14.473000000000001,{"$f":"[2]!AgePb76(D10/B10)","v":5031.179832211772},36.561,-116,0.57999999999999996,null,0.85799999999999998,{"$f":"[2]!AgePb8Th2(F10/J10)","v":76307.827717147171},null,null,null,null,null,null,null,30566]
["M3",15.99,-11,14.002000000000001,{"$f":"[2]!AgePb76(D11/B11)","v":5050.0941243576108},35.753999999999998,-112,null,null,null,null,null,null,null,null,null,null,null,30179]
["M4",17.545000000000002,-23,15.172000000000001,{"$f":"[2]!AgePb76(D12/B12)","v":5032.3080751669831},37.494999999999997,-51,0.72699999999999998,{"$f":"[2]!AgePb6U8(B12/H12)","v":20784.519806106156},1.002,{"$f":"[2]!AgePb8Th2(F12/J12)","v":73745.979050370093},null,null,null,null,null,null,null,26671]
["WR",17.931000000000001,-24,15.215,{"$f":"[2]!AgePb76(D13/B13)","v":5005.460126824436},37.567999999999998,-63,0.54330000000000001,{"$f":"[2]!AgePb6U8(B13/H13)","v":22733.113311857374},1.7689999999999999,{"$f":"[2]!AgePb8Th2(F13/J13)","v":62693.302407562282},null,null,null,null,null,null,null,25513]
["GR",10.18,-1.71,10.85,{"$f":"[2]!AgePb76(D14/B14)","v":5326.776748791598},30.48,-1.48,null,null,null,null,null,null,null,null,null,null,null,24290]
["WT",16.809999999999999,-1.9,14.63,{"$f":"[2]!AgePb76(D15/B15)","v":5041.4020562113328},36.51,-1.41,null,null,null,null,null,null,null,null,null,null,null,23011]
["AG",16.753,-64,14.628,{"$f":"[2]!AgePb76(D16/B16)","v":5046.0200288583101},36.633000000000003,-92,0.496,{"$f":"[2]!AgePb6U8(B16/H16)","v":22877.895394292998},1.65,{"$f":"[2]!AgePb8Th2(F16/J16)","v":63551.907943556536},null,null,null,null,null,null,null,22878]
["M3",17.614000000000001,-19,15.006,{"$f":"[2]!AgePb76(D17/B17)","v":5011.1428794807207},37.359000000000002,-37,0.67669999999999997,{"$f":"[2]!AgePb6U8(B17/H17)","v":21253.311649922973},1.1020000000000001,{"$f":"[2]!AgePb8Th2(F17/J17)","v":71804.30581368228},null,null,null,null,null,null,null,22760]
["M4",17.901,-8,15.44,{"$f":"[2]!AgePb76(D18/B18)","v":5028.6544719450421},37.838999999999999,-36,0.16739999999999999,{"$f":"[2]!AgePb6U8(B18/H18)","v":30179.105089841243},0.43280000000000002,{"$f":"[2]!AgePb8Th2(F18/J18)","v":90595.106296349055},null,null,null,null,null,null,null,22733]
["WR",18.248999999999999,-90,15.343,{"$f":"[2]!AgePb76(D19/B19)","v":4992.3995495235549},37.947000000000003,-190,0.29609999999999997,{"$f":"[2]!AgePb6U8(B19/H19)","v":26670.515049738176},0.71599999999999997,{"$f":"[2]!AgePb8Th2(F19/J19)","v":80625.733852998877},null,null,null,null,null,null,null,22179]
["GR",13.25,-23,12.595000000000001,{"$f":"[2]!AgePb76(D20/B20)","v":5166.030078620267},33.212000000000003,-196,1.177,{"$f":"[2]!AgePb6U8(B20/H20)","v":16155.568881131319},5.07,{"$f":"[2]!AgePb8Th2(F20/J20)","v":40861.829089860054},null,null,null,null,null,null,null,21253]
["WT",15.78,-1.32,14.05,{"$f":"[2]!AgePb76(D21/B21)","v":5073.6514432119193},35.65,-1.0900000000000001,3.6,{"$f":"[2]!AgePb6U8(B21/H21)","v":10851.299023371836},3.93,{"$f":"[2]!AgePb8Th2(F21/J21)","v":46683.870930636673},null,null,"Statisitics","207Pb/206Pb","206Pb/238U","208Pb/232Th",null,20785]
[null,null,null,"Average",{"$f":"AVERAGE(E3:E21)","v":5076.7599847888441},null,null,"Average",{"$f":"AVERAGE(I3:I21)","v":15565.12878311705},"Average",{"$f":"AVERAGE(K3:K21)","v":47442.431383156276},null,null,"Average",5076.7599847888441,15565.12878311705,47442.431383156276,null,20473]
[null,null,null,"Maximum",{"$f":"MAX(E3:E22)","v":5326.776748791598},null,null,"Maximum",{"$f":"MAX(I3:I22)","v":30179.105089841243},"Maximum",{"$f":"MAX(K3:K22)","v":90595.106296349055},null,null,"Maximum",5326.776748791598,30179.105089841243,90595.106296349055,null,18216]
[null,null,null,"Minimum",{"$f":"MIN(E3:E23)","v":4963.2203958630062},null,null,"Minimum",{"$f":"MIN(I3:I23)","v":7496.2766769879081},"Minimum",{"$f":"MIN(K3:K23)","v":14271.023574205998},null,null,"Minimum",4963.2203958630062,7496.2766769879081,14271.023574205998,null,17870]
[null,null,null,"Difference",{"$f":"(E23-E24)","v":363.55635292859188},null,null,"Difference",{"$f":"(I23-I24)","v":22682.828412853334}," ",{"$f":"(K23-K24)","v":76324.082722143052},null,null,"Difference",363.55635292859188,22682.828412853334,76324.082722143052,null,16929]
[null,null,null,null,null,null,null,null,null,null,null,null,null,null,null,null,null,null,16837]
[null,null,null,null,null,null,null,null,null,null,null,null,null,null,null,null,null,null,16667]
[null,null,null,null,null,null,null,null,"Age",null,"Age",null,null,null,null,null,null,null,16198]
["Sample","204Pb/206Pb"," ","207Pb/206Pb"," ","208Pb/206Pb",null,"238U/206Pb","206Pb/238U","207Pb/206Pb","207Pb/206Pb",null,null,null,null,null,null,null,16156]
["AG",7.3150000000000007E-2,-23,0.95320000000000005,-15,2.4026999999999998,-49,1.06,{"$f":"[2]!AgePb6U8(1/H30)","v":4283.2365813216038},0.62709999999999999,{"$f":"[2]!AgePb76(J30)","v":4572.0793517484972},null,null,null,null,null,null,null,14271]
["M1",6.5759999999999999E-2,-76,0.91920000000000002,-59,2.2408999999999999,-142,1.0029999999999999,{"$f":"[2]!AgePb6U8(1/H31)","v":4458.6658997832901},0.62450000000000006,{"$f":"[2]!AgePb76(J31)","v":4566.0615818621773},null,null,null,null,null,null,null,10859]
["M3",5.9950000000000003E-2,-29,0.88700000000000001,-27,2.1497000000000002,-120,0.74,{"$f":"[2]!AgePb6U8(1/H32)","v":5511.6209895913571},0.61040000000000005,{"$f":"[2]!AgePb76(J32)","v":4532.9511502638934},null,null,null,null,null,null,null,10851]
["M4",4.7024999999999997E-2,-59,0.82877999999999996,-72,1.899,-18,0.80900000000000005,{"$f":"[2]!AgePb6U8(1/H33)","v":5187.626548504777},0.61297999999999997,{"$f":"[2]!AgePb76(J33)","v":4539.0706572913678},null,null,null,null,null,null,null,9469]
["WR",4.7541E-2,-40,0.82364000000000004,-63,1.9188000000000001,-24,0.67679999999999996,{"$f":"[2]!AgePb6U8(1/H34)","v":5848.6168305218989},0.59950999999999999,{"$f":"[2]!AgePb76(J34)","v":4506.8112807128036},null,null,null,null,null,null,null,9176]
["GR",8.412E-2,-46,1.0024999999999999,-28,2.6821999999999999,-100,1.0489999999999999,{"$f":"[2]!AgePb6U8(1/H35)","v":4315.9680247710075},0.62890000000000001,{"$f":"[2]!AgePb76(J35)","v":4576.2298354813311},null,null,null,null,null,null,null,9026]
["WT",6.6799999999999998E-2,-42,0.92,-33,2.3170000000000002,-97,0.83699999999999997,{"$f":"[2]!AgePb6U8(1/H36)","v":5067.3006589888837},0.61499999999999999,{"$f":"[2]!AgePb76(J36)","v":4543.8426203759027},null,null,null,null,null,null,null,8866]
["AG",5.969E-2,-51,0.8639,-39,2.1821999999999999,-130,7.8E-2,{"$f":"[2]!AgePb6U8(1/H37)","v":16929.275905104601},0.56120000000000003,{"$f":"[2]!AgePb76(J37)","v":4410.6178685060986},null,null,null,null,null,null,null,8346]
["M3",6.2530000000000002E-2,-43,0.87549999999999994,-29,2.2355,-98,null,null,null,null,null,null,null,null,null,null,null,8202]
["M4",5.6995999999999998E-2,-75,0.86475999999999997,-64,2.1371000000000002,-21,8.8200000000000001E-2,{"$f":"[2]!AgePb6U8(1/H39)","v":16197.732609438062},0.59219999999999995,{"$f":"[2]!AgePb76(J39)","v":4488.9767438563977},null,null,null,null,null,null,null,7496]
["WR",5.577E-2,-76,0.84857000000000005,-55,2.0952000000000002,-20,6.3E-2,{"$f":"[2]!AgePb6U8(1/H40)","v":18215.733453346755},0.57069999999999999,{"$f":"[2]!AgePb76(J40)","v":4435.116649207298},null,null,null,null,null,null,null,6604]
["GR",9.8299999999999998E-2,-165,1.0669999999999999,-93,3,-36,null,null,null,null,null,null,null,null,null,null,null,5849]
["WT",5.9499999999999997E-2,-67,0.871,-55,2.1720000000000002,-163,null,null,null,null,null,null,null,null,null,null,null,5512]
["AG",5.969E-2,-23,0.87319999999999998,-21,2.1867000000000001,-51,6.6699999999999995E-2,{"$f":"[2]!AgePb6U8(1/H43)","v":17870.234305945909},0.58209999999999995,{"$f":"[2]!AgePb76(J43)","v":4463.9418002134735},null,null,null,null,null,null,null,5327]
["M3",5.6772000000000003E-2,-62,0.85189999999999999,-57,2.1208999999999998,-20,8.1500000000000003E-2,{"$f":"[2]!AgePb6U8(1/H44)","v":16667.211765648972},0.56718000000000002,{"$f":"[2]!AgePb76(J44)","v":4426.0908023682587},null,null,null,null,null,null,null,5241]
["M4",5.5862000000000002E-2,-26,0.86250000000000004,-30,2.1137000000000001,-14,1.9480000000000001E-2,{"$f":"[2]!AgePb6U8(1/H45)","v":25512.713451398275},0.59875,{"$f":"[2]!AgePb76(J45)","v":4504.9679957879725},null,null,null,null,null,null,null,5188]
["WR",5.4800000000000001E-2,-27,0.84075,-56,2.0794999999999999,-91,3.3110000000000001E-2,{"$f":"[2]!AgePb6U8(1/H46)","v":22178.846722671846},0.56459999999999999,{"$f":"[2]!AgePb76(J46)","v":4419.4368543135815},null,null,null,null,null,null,null,5170]
["GR",7.5499999999999998E-2,-130,0.95089999999999997,-79,2.508,-29,0.29899999999999999,{"$f":"[2]!AgePb6U8(1/H47)","v":9469.1793281541541},0.58430000000000004,{"$f":"[2]!AgePb76(J47)","v":4469.434563291994},null,null,null,null,null,null,null,5166]
["WT",6.3399999999999998E-2,-53,0.89100000000000001,-38,2.2589999999999999,-126,0.56000000000000005,{"$f":"[2]!AgePb6U8(1/H48)","v":6604.3791556124916},0.58099999999999996,{"$f":"[2]!AgePb76(J48)","v":4461.1870340752748},null,null,"Statisitics","206Pb/238U","207Pb/206Pb",null,null,5121]
[null,null,null,null,null,null,null,"Average",{"$f":"AVERAGE(I30:I48)","v":11519.896389425243},"Average",{"$f":"AVERAGE(K30:K48)","v":4494.8010493347711},null,null,"Average",11519.896389425243,4494.8010493347711,null,null,5118]
[null,null,null,null,null,null,null,"Maximum",{"$f":"MAX(I30:I49)","v":25512.713451398275},"Maximum",{"$f":"MAX(K30:K49)","v":4576.2298354813311},null,null,"Maximum",25512.713451398275,4576.2298354813311,null,null,5074]
[null,null,null,null,null,null,null,"Minimum",{"$f":"MIN(I30:I50)","v":4283.2365813216038},"Minimum",{"$f":"MIN(K30:K50)","v":4410.6178685060986},null,null,"Minimum",4283.2365813216038,4410.6178685060986,null,null,5068]
[null,null,null,null,null,null,null,"Difference",{"$f":"(I50-I51)","v":21229.476870076673},"Difference",{"$f":"(K50-K51)","v":165.61196697523246},null,null,"Difference",21229.476870076673,165.61196697523246,null,null,5067]
[null,null,null,null,null,null,null,null,null,null,null,null,null,null,null,null,null,null,5050]
[null,null,null,null,null,null,null,null,null,null,null,null,null,null,null,null,null,null,5046]
[null,null,null,null,null,null,null,null,null,null,null,null,null,null,null,null,null,null,5041]
[null,null,null,null,null,null,null,null,null,null,null,null,null,null,null,null,null,null,5032]
[null,null,null,null,null,null,null,null,null,null,null,null,null,null,null,null,null,null,5031]
[null,null,null,null,null,null,null,null,null,null,null,null,null,null,null,null,null,null,5029]
[null,null,null,null,null,null,null,null,null,null,null,null,null,null,null,null,null,null,5011]
[null,null,null,null,null,null,null,null,null,null,null,null,null,null,null,null,null,null,5005]
[null,null,null,null,null,null,null,null,null,null,null,null,null,null,null,null,null,null,4992]
[null,null,null,null,null,null,null,null,null,null,null,null,null,null,null,null,null,null,4972]
[null,null,null,null,null,null,null,null,null,null,null,null,null,null,null,null,null,null,4963]
[null,null,null,null,null,null,null,null,null,null,null,null,null,null,null,null,null,null,4576]
[null,null,null,null,null,null,null,null,null,null,null,null,null,null,null,null,null,null,4572]
[null,null,null,null,null,null,null,null,null,null,null,null,null,null,null,null,null,null,4566]
[null,null,null,null,null,null,null,null,null,null,null,null,null,null,null,null,null,null,4544]
[null,null,null,null,null,null,null,null,null,null,null,null,null,null,null,null,null,null,4539]
[null,null,null,null,null,null,null,null,null,null,null,null,null,null,null,null,null,null,4533]
[null,null,null,null,null,null,null,null,null,null,null,null,null,null,null,null,null,null,4507]
[null,null,null,null,null,null,null,null,null,null,null,null,null,null,null,null,null,null,4505]
[null,null,null,null,null,null,null,null,null,null,null,null,null,null,null,null,null,null,4489]
[null,null,null,null,null,null,null,null,null,null,null,null,null,null,null,null,null,null,4469]
[null,null,null,null,null,null,null,null,null,null,null,null,null,null,null,null,null,null,4464]
[null,null,null,null,null,null,null,null,null,null,null,null,null,null,null,null,null,null,4461]
[null,null,null,null,null,null,null,null,null,null,null,null,null,null,null,null,null,null,4459]
[null,null,null,null,null,null,null,null,null,null,null,null,null,null,null,null,null,null,4435]
[null,null,null,null,null,null,null,null,null,null,null,null,null,null,null,null,null,null,4426]
[null,null,null,null,null,null,null,null,null,null,null,null,null,null,null,null,null,null,4419]
[null,null,null,null,null,null,null,null,null,null,null,null,null,null,null,null,null,null,4411]
[null,null,null,null,null,null,null,null,null,null,null,null,null,null,null,null,null,null,4316]
[null,null,null,null,null,null,null,null,null,null,null,null,null,null,null,null,null,null,4283]

{"sheet":"Thorium_F","index":16,"n_rows":114,"n_cols":17,"rows_kept":114,"cut":false,"hidden":false,"merged":[]}
[null,null,null,null,null,null,null,null,null,null,"Age","Age","Age","Age",null,null,65286]
["Sample","206Pb/204Pb","207Pb/204Pb","208Pb/204Pb","238U/204Pb","232Th/204Pb","206Pb/238U","207Pb/235U","208Pb/232Th","207Pb/206Pb","206Pb/238U","207Pb/235U","208Pb/232Th","207Pb/206Pb",null,null,47418]
["PL1,W",18.637,15.954000000000001,38.414000000000001,1.0269999999999999,3.7490000000000001,7.2750000000000004,363.1,1.996,{"$f":"(C3/B3)","v":0.85603906208080704},{"$f":"[2]!AgePb6U8(G3)","v":13622.813352219995},{"$f":"[2]!AgePb7U5(H3)","v":5988.1490127241586},{"$f":"[2]!AgePb8Th2(I3)","v":22178.43487933245},{"$f":"[2]!AgePb76(J3)","v":5017.9577985987862},null,null,33898]
["PL2,W",18.879000000000001,15.706,38.874000000000002,0.11310000000000001,0.32700000000000001,68.19,2995,24.28,{"$f":"(C4/B4)","v":0.83192965729116997},{"$f":"[2]!AgePb6U8(G4)","v":27312.530820375312},{"$f":"[2]!AgePb7U5(H4)","v":8128.1751989004524},{"$f":"[2]!AgePb8Th2(I4)","v":65285.771991483707},{"$f":"[2]!AgePb76(J4)","v":4977.4067866302048},null,null,27313]
["PL3,W",19.190000000000001,15.971,39.003,0.53500000000000003,1.86,15,701,4.3499999999999996,0.83225638353309006,{"$f":"[2]!AgePb6U8(G5)","v":17873.255260208098},{"$f":"[2]!AgePb7U5(H5)","v":6654.7529106217298},{"$f":"[2]!AgePb8Th2(I5)","v":33897.858734874484},{"$f":"[2]!AgePb76(J5)","v":4977.9646325542271},null,null,25013]
["PX 1,W",20.844999999999999,16.529,41.506999999999998,2.7890000000000001,13.58,3.47,162.1,0.77880000000000005,0.79294794914847688,{"$f":"[2]!AgePb6U8(G6)","v":9652.7858734922011},{"$f":"[2]!AgePb7U5(H6)","v":5172.7303748052673},{"$f":"[2]!AgePb8Th2(I6)","v":11641.010200190081},{"$f":"[2]!AgePb76(J6)","v":4909.1224707814172},null,null,22178]
["PX2,W",20.507999999999999,16.422999999999998,40.689,2.38,10.69,3.9249999999999998,183.9,0.91259999999999997,0.80080944021845124,{"$f":"[2]!AgePb6U8(G7)","v":10277.674614820644},{"$f":"[2]!AgePb7U5(H7)","v":5300.1118326578453},{"$f":"[2]!AgePb8Th2(I7)","v":13106.8938440284},{"$f":"[2]!AgePb76(J7)","v":4923.1768345581622},null,null,21204]
["WR,W",26.04,18.88,47.01,9.51,45.07,1564,81.64,0.35670000000000002,0.7250384024577573,{"$f":"[2]!AgePb6U8(G8)","v":47417.509124733304},{"$f":"[2]!AgePb7U5(H8)","v":4482.4022184204532},{"$f":"[2]!AgePb8Th2(I8)","v":6165.847003721593},{"$f":"[2]!AgePb76(J8)","v":4781.1582262138563},null,null,17873]
["IL,W",59,31,67,60,200,0.74199999999999999,39.200000000000003,0.23599999999999999,0.52542372881355937,{"$f":"[2]!AgePb6U8(G9)","v":3577.9782654653413},{"$f":"[2]!AgePb7U5(H9)","v":3750.6899483423626},{"$f":"[2]!AgePb8Th2(I9)","v":4282.574209914078},{"$f":"[2]!AgePb76(J9)","v":4314.1676984693077},null,null,17611]
["MAG,W",18.998000000000001,15.93,38.908000000000001,1.772,4.3,4.42,208.6,1.855,0.83850931677018625,{"$f":"[2]!AgePb6U8(G10)","v":10895.057633853698},{"$f":"[2]!AgePb7U5(H10)","v":5427.4264633668954},{"$f":"[2]!AgePb8Th2(I10)","v":21204.079698998958},{"$f":"[2]!AgePb76(J10)","v":4988.596147675019},null,null,14430]
["PL1,L1",24.15,18.829999999999998,45.06,13.2,13.6,0.98299999999999998,58.3,1.04,0.77971014492753621,{"$f":"[2]!AgePb6U8(G11)","v":4413.2850896867621},{"$f":"[2]!AgePb7U5(H11)","v":4145.4123023848097},{"$f":"[2]!AgePb8Th2(I11)","v":14410.304352827186},{"$f":"[2]!AgePb76(J11)","v":4885.1180776195288},null,null,14410]
["PL2,L1",19.585000000000001,15.992000000000001,39.679000000000002,1.145,3.573,7.3490000000000002,330.1,2.4470000000000001,0.8165432729129436,{"$f":"[2]!AgePb6U8(G12)","v":13680.20481039074},{"$f":"[2]!AgePb7U5(H12)","v":5891.6793872703465},{"$f":"[2]!AgePb8Th2(I12)","v":25012.719303380058},{"$f":"[2]!AgePb76(J12)","v":4950.8692763710415},null,null,13680]
["PL3,L1",37.93,23.42,57.05,24,85.3,1.115,58.39,0.30630000000000002,0.61745320326918007,{"$f":"[2]!AgePb6U8(G13)","v":4828.7175664673096},{"$f":"[2]!AgePb7U5(H13)","v":4146.9521876709841},{"$f":"[2]!AgePb8Th2(I13)","v":5400.6814251719161},{"$f":"[2]!AgePb76(J13)","v":4549.6153801337878},null,null,13623]
["PX1,L1",20.946000000000002,16.594999999999999,41.26,5.6882999999999999,9.907,1.7192000000000001,81.072999999999993,1.042,0.79227537477322629,{"$f":"[2]!AgePb6U8(G14)","v":6448.5912612394468},{"$f":"[2]!AgePb7U5(H14)","v":4475.4115805804076},{"$f":"[2]!AgePb8Th2(I14)","v":14430.110555684158},{"$f":"[2]!AgePb76(J14)","v":4907.9131975863984},null,null,13107]
["PX2,L 1",21.657,16.797999999999998,42.082000000000001,4.8810000000000002,8.0020000000000007,2.149,100.2,1.39,0.77563836173061818,{"$f":"[2]!AgePb6U8(G15)","v":7394.5846389614026},{"$f":"[2]!AgePb7U5(H15)","v":4688.123832922136},{"$f":"[2]!AgePb8Th2(I15)","v":17610.780514268201},{"$f":"[2]!AgePb76(J15)","v":4877.6472701100356},null,null,12738]
["WR,L1",32.057000000000002,21.271999999999998,53.639000000000003,30.56,59.64,0.68359999999999999,36.200000000000003,0.38069999999999998,0.66356801946532729,{"$f":"[2]!AgePb6U8(G16)","v":3358.1586328075978},{"$f":"[2]!AgePb7U5(H16)","v":3671.9386315470388},{"$f":"[2]!AgePb8Th2(I16)","v":6520.2752287007506},{"$f":"[2]!AgePb76(J16)","v":4653.7724952730441},null,null,11641]
["PLL",138,64.900000000000006,139,491,123,0.25750000000000001,14.52,0.878,0.47028985507246379,{"$f":"[2]!AgePb6U8(G17)","v":1477.0386655391283},{"$f":"[2]!AgePb7U5(H17)","v":2784.3118391177059},{"$f":"[2]!AgePb8Th2(I17)","v":12737.89551866743},{"$f":"[2]!AgePb76(J17)","v":4150.6782683824704},null,null,11174]
["MAG,L",22.221,17.143999999999998,42.356999999999999,5.9569000000000001,15.47,1.8556999999999999,90.13,0.73819999999999997,0.77152243373385532,{"$f":"[2]!AgePb6U8(G18)","v":6764.3319706251868},{"$f":"[2]!AgePb7U5(H18)","v":4581.6998106392193},{"$f":"[2]!AgePb8Th2(I18)","v":11174.332390524964},{"$f":"[2]!AgePb76(J18)","v":4870.0528895806956},null,null,10895]
["PL2,L2",22.831,17.285,43.962000000000003,4.7329999999999997,22.93,2.464,117.5,0.56820000000000004,0.7570846655862643,{"$f":"[2]!AgePb6U8(G19)","v":8009.1796338448912},{"$f":"[2]!AgePb7U5(H19)","v":4848.3657009444951},{"$f":"[2]!AgePb8Th2(I19)","v":9094.0568936773034},{"$f":"[2]!AgePb76(J19)","v":4843.0680041163259},null,null,10278]
["PL3,L2",40,30,70,20,200,1,90,0.2,0.75,{"$f":"[2]!AgePb6U8(G20)","v":4468.3138150520244},{"$f":"[2]!AgePb7U5(H20)","v":4580.2502985397268},{"$f":"[2]!AgePb8Th2(I20)","v":3685.1249478313207},{"$f":"[2]!AgePb76(J20)","v":4829.625094267948},null,null,9653]
["PX1,L2",27.13,19.169,49.33,8.7989999999999995,56.79,1.8140000000000001,92.75,0.32390000000000002,0.70656100258016963,{"$f":"[2]!AgePb6U8(G21)","v":6669.5049714243187},{"$f":"[2]!AgePb7U5(H21)","v":4610.4804435706146},{"$f":"[2]!AgePb8Th2(I21)","v":5671.1859719347995},{"$f":"[2]!AgePb76(J21)","v":4744.1198240798976},null,null,9094]
["PX2,L2",27.21,19.108000000000001,48.405000000000001,9.36,"49,40",1.714,86.29,0.35370000000000001,0.70224182285924297,{"$f":"[2]!AgePb6U8(G22)","v":6436.2518060446573},{"$f":"[2]!AgePb7U5(H22)","v":4537.9864027489039},{"$f":"[2]!AgePb8Th2(I22)","v":6121.1032685114378},{"$f":"[2]!AgePb76(J22)","v":4735.3126835076664},null,null,8009]
["WR,L2",85.73,42.67,110.9,92.75,261.3,0.80379999999999996,43.73,0.30599999999999999,0.49772541700688205,{"$f":"[2]!AgePb6U8(G23)","v":3802.7110443156853},{"$f":"[2]!AgePb7U5(H23)","v":3859.1099329286253},{"$f":"[2]!AgePb8Th2(I23)","v":5396.0390268668889},{"$f":"[2]!AgePb76(J23)","v":4234.4869996452053},null,null,7395]
["MAG,L",31.66,21.111000000000001,52.872,16.78,76.459999999999994,1.222,64.61,0.28689999999999999,0.6668035375868604,{"$f":"[2]!AgePb6U8(G24)","v":5146.8666637707547},{"$f":"[2]!AgePb7U5(H24)","v":4248.0866358905278},{"$f":"[2]!AgePb8Th2(I24)","v":5098.2562004544125},{"$f":"[2]!AgePb76(J24)","v":4660.7868729044321},null,null,6764]
["PL1,R",42.62,32.880000000000003,66.73,27.44,138.9,1.1459999999999999,98.62,0.25779999999999997,0.77146879399343038,{"$f":"[2]!AgePb6U8(G25)","v":4922.5182543658775},{"$f":"[2]!AgePb7U5(H25)","v":4672.145958922818},{"$f":"[2]!AgePb8Th2(I25)","v":4635.960851485921},{"$f":"[2]!AgePb76(J25)","v":4869.9536331520867},null,null,6670]
["PL2,R",36.707999999999998,25.155999999999999,60.942,20.149999999999999,106.1,1.2675000000000001,81.465000000000003,0.28289999999999998,0.68530020703933747,{"$f":"[2]!AgePb6U8(G26)","v":5277.5368445263794},{"$f":"[2]!AgePb7U5(H26)","v":4480.2497445297413},{"$f":"[2]!AgePb8Th2(I26)","v":5035.3338104731165},{"$f":"[2]!AgePb76(J26)","v":4700.1994691866548},null,null,6520]
["PL3,R",32.700000000000003,25.9,56.86,14.9,85.2,1.45,117,0.30399999999999999,0.7920489296636084,{"$f":"[2]!AgePb6U8(G27)","v":5776.554549921907},{"$f":"[2]!AgePb7U5(H27)","v":4844.0723201154133},{"$f":"[2]!AgePb8Th2(I27)","v":5365.0624255575794},{"$f":"[2]!AgePb76(J27)","v":4907.5058086118661},null,null,6449]
["PX1,R",61.13,34.01,86.11,43.23,221.4,1.1559999999999999,66.23,0.2492,0.55635530835923441,{"$f":"[2]!AgePb6U8(G28)","v":4952.4876908734932},{"$f":"[2]!AgePb7U5(H28)","v":4272.8533040371076},{"$f":"[2]!AgePb8Th2(I28)","v":4497.2884573377769},{"$f":"[2]!AgePb76(J28)","v":4397.9516090387251},null,null,6436]
["PX2,R",37.206000000000003,23.92,59.692,18.693000000000001,110.4,1.393,78.7,0.26040000000000002,0.64290705800139758,{"$f":"[2]!AgePb6U8(G29)","v":5624.8045700321436},{"$f":"[2]!AgePb7U5(H29)","v":4445.6207400072799},{"$f":"[2]!AgePb8Th2(I29)","v":4677.6984517631627},{"$f":"[2]!AgePb76(J29)","v":4608.0986020343316},null,null,6166]
["WR,R",105.2,53.018999999999998,130.59,95.57,452.9,0.98438000000000003,57.375999999999998,0.22,0.50398288973384031,{"$f":"[2]!AgePb6U8(G30)","v":4417.7696875473612},{"$f":"[2]!AgePb7U5(H30)","v":4129.4662603069701},{"$f":"[2]!AgePb8Th2(I30)","v":4019.2189741316861},{"$f":"[2]!AgePb76(J30)","v":4252.9006775411017},null,null,6121]
["1L,R",507,216,507,508,2250,0.97667000000000004,55.021999999999998,0.21149999999999999,0.42603550295857989,{"$f":"[2]!AgePb6U8(G31)","v":4392.6743637759437},{"$f":"[2]!AgePb7U5(H31)","v":4087.6727123215151},{"$f":"[2]!AgePb8Th2(I31)","v":3877.9032091853132},{"$f":"[2]!AgePb76(J31)","v":4003.609528616144},null,null,5777]
["MAG,R",33.08,22.207000000000001,53.567999999999998,15.829000000000001,73.790000000000006,1.3844000000000001,78.025999999999996,0.30680000000000002,0.67131197097944384,{"$f":"[2]!AgePb6U8(G32)","v":5601.595618782495},{"$f":"[2]!AgePb7U5(H32)","v":4436.9974232065442},{"$f":"[2]!AgePb8Th2(I32)","v":5408.4163869586264},{"$f":"[2]!AgePb76(J32)","v":4670.5003096641467},null,null,5671]
["PL1,T",46.2,32.880000000000003,66.73,29.94,141.5,1.05,90.37,0.25309999999999999,0.7116883116883117,{"$f":"[2]!AgePb6U8(G33)","v":4627.4926230479732},{"$f":"[2]!AgePb7U5(H33)","v":4584.3704087023698},{"$f":"[2]!AgePb8Th2(I33)","v":4560.2926971016104},{"$f":"[2]!AgePb76(J33)","v":4754.5004247141378},null,null,5625]
["PL2,T",36.709000000000003,25.155999999999999,60.942,29.146000000000001,141.87,0.87634000000000001,56.32,0.21149999999999999,0.68528153858726737,{"$f":"[2]!AgePb6U8(G34)","v":4056.8771689697023},{"$f":"[2]!AgePb7U5(H34)","v":4110.930195420593},{"$f":"[2]!AgePb8Th2(I34)","v":3877.9032091853132},{"$f":"[2]!AgePb76(J34)","v":4700.1602668471423},null,null,5602]
["PL3,T",32.700000000000003,25.9,56.86,42.1,194,0.51100000000000001,41.4,0.13400000000000001,0.7920489296636084,{"$f":"[2]!AgePb6U8(G35)","v":2660.8972331384539},{"$f":"[2]!AgePb7U5(H35)","v":3804.790945055503},{"$f":"[2]!AgePb8Th2(I35)","v":2541.7120829825212},{"$f":"[2]!AgePb76(J35)","v":4907.5058086118661},null,null,5408]
["PX1,T",61.13,34.01,86.11,76.680000000000007,322.3,0.65159999999999996,37.340000000000003,0.17119999999999999,0.55635530835923441,{"$f":"[2]!AgePb6U8(G36)","v":3234.4529574845974},{"$f":"[2]!AgePb7U5(H36)","v":3702.5879449840063},{"$f":"[2]!AgePb8Th2(I36)","v":3194.1154972190011},{"$f":"[2]!AgePb76(J36)","v":4397.9516090387251},null,null,5401]
["PX2,T",37.204999999999998,23.92,59.692999999999998,32.341999999999999,139.72999999999999,0.80508000000000002,45.49,0.20580000000000001,0.642924338126596,{"$f":"[2]!AgePb6U8(G37)","v":3807.2838815943469},{"$f":"[2]!AgePb7U5(H37)","v":3898.2964265649525},{"$f":"[2]!AgePb8Th2(I37)","v":3782.5820530200731},{"$f":"[2]!AgePb76(J37)","v":4608.1374562104183},null,null,5396]
["WR,T",105.24,53.018999999999998,130.59,136.83000000000001,557.54999999999995,0.68754000000000004,40.076000000000001,0.17874000000000001,0.50379133409350063,{"$f":"[2]!AgePb6U8(G38)","v":3373.2270568078857},{"$f":"[2]!AgePb7U5(H38)","v":3772.5785747434111},{"$f":"[2]!AgePb8Th2(I38)","v":3323.8215536422026},{"$f":"[2]!AgePb76(J38)","v":4252.3406742695051},null,null,5365]
["IL,T",507,210,507,61126,2275.8000000000002,0.81179999999999997,45.734999999999999,0.20913000000000001,0.41420118343195267,{"$f":"[2]!AgePb6U8(G39)","v":3831.2382030817103},{"$f":"[2]!AgePb7U5(H39)","v":3903.6333945621636},{"$f":"[2]!AgePb8Th2(I39)","v":3838.3242593991977},{"$f":"[2]!AgePb76(J39)","v":3961.4467420563064},null,null,5278]
["MAG,T",33.08,22.207000000000001,53.569000000000003,36.36,147.91,0.60267000000000004,33.97,0.153,0.67131197097944384,{"$f":"[2]!AgePb6U8(G40)","v":3040.5865491024811},{"$f":"[2]!AgePb7U5(H40)","v":3609.1694685234143},{"$f":"[2]!AgePb8Th2(I40)","v":2877.5591973101969},{"$f":"[2]!AgePb76(J40)","v":4670.5003096641467},null,null,5147]
[null,null,null,null,null,null,null,null,null,"Average",{"$f":"AVERAGE(K3:K40)","v":7713.8248096945081},{"$f":"AVERAGE(L3:L40)","v":4545.5179675946983},{"$f":"AVERAGE(M3:M40)","v":10148.382349415731},{"$f":"AVERAGE(N3:N40)","v":4669.6284173241265},null,null,5098]
[null,null,null,null,null,null,null,null,null,"Maximum",{"$f":"MAX(K3:K41)","v":47417.509124733304},{"$f":"MAX(L3:L41)","v":8128.1751989004524},{"$f":"MAX(M3:M41)","v":65285.771991483707},{"$f":"MAX(N3:N41)","v":5017.9577985987862},null,null,5035]
[null,null,null,null,null,null,null,null,null,"Minimum",{"$f":"MIN(K3:K42)","v":1477.0386655391283},{"$f":"MIN(L3:L42)","v":2784.3118391177059},{"$f":"MIN(M3:M42)","v":2541.7120829825212},{"$f":"MIN(N3:N42)","v":3961.4467420563064},null,null,5018]
[null,null,null,null,null,null,null,null,null,"Difference",{"$f":"(K42-K43)","v":45940.470459194177},{"$f":"(L42-L43)","v":5343.8633597827466},{"$f":"(M42-M43)","v":62744.059908501185},{"$f":"(N42-N43)","v":1056.5110565424798},null,null,4989]
[null,null,null,null,null,null,null,null,null,null,"206Pb/238U","207Pb/235U","208Pb/232Th","207Pb/206Pb",null,null,4978]
[null,null,null,null,null,null,null,null,null,null,null,null,null,null,null,null,4977]
[null,null,null,null,null,null,null,null,null,null,null,null,null,null,null,null,4952]
[null,null,null,null,null,null,null,null,null,null,null,null,null,null,null,null,4951]
[null,null,null,null,null,null,null,null,null,"Statisitics","206Pb/238U","207Pb/235U","208Pb/232Th","207Pb/206Pb",null,null,4923]
[null,null,null,null,null,null,null,null,null,"Average",7713.8248096945081,4545.5179675946983,10148.382349415731,4669.6284173241265,null,null,4923]
[null,null,null,null,null,null,null,null,null,"Maximum",47417.509124733304,8128.1751989004524,65285.771991483707,5017.9577985987862,null,null,4909]
[null,null,null,null,null,null,null,null,null,"Minimum",1477.0386655391283,2784.3118391177059,2541.7120829825212,3961.4467420563064,null,null,4908]
[null,null,null,null,null,null,null,null,null,"Difference",45940.470459194177,5343.8633597827466,62744.059908501185,1056.5110565424798,null,null,4908]
[null,null,null,null,null,null,null,null,null,null,null,null,null,null,null,null,4908]
[null,null,null,null,null,null,null,null,null,null,null,null,null,null,null,null,4885]
[null,null,null,null,null,null,null,null,null,null,null,null,null,null,null,null,4878]
[null,null,null,null,null,null,null,null,null,null,null,null,null,null,null,null,4870]
[null,null,null,null,null,null,null,null,null,null,null,null,null,null,null,null,4870]
[null,null,null,null,null,null,null,null,null,null,null,null,null,null,null,null,4843]
[null,null,null,null,null,null,null,null,null,null,null,null,null,null,null,null,4830]
[null,null,null,null,null,null,null,null,null,null,null,null,null,null,null,null,4829]
[null,null,null,null,null,null,null,null,null,null,null,null,null,null,null,null,4781]
[null,null,null,null,null,null,null,null,null,null,null,null,null,null,null,null,4755]
[null,null,null,null,null,null,null,null,null,null,null,null,null,null,null,null,4744]
[null,null,null,null,null,null,null,null,null,null,null,null,null,null,null,null,4735]
[null,null,null,null,null,null,null,null,null,null,null,null,null,null,null,null,4700]
[null,null,null,null,null,null,null,null,null,null,null,null,null,null,null,null,4700]
[null,null,null,null,null,null,null,null,null,null,null,null,null,null,null,null,4678]
[null,null,null,null,null,null,null,null,null,null,null,null,null,null,null,null,4671]
[null,null,null,null,null,null,null,null,null,null,null,null,null,null,null,null,4671]
[null,null,null,null,null,null,null,null,null,null,null,null,null,null,null,null,4661]
[null,null,null,null,null,null,null,null,null,null,null,null,null,null,null,null,4654]
[null,null,null,null,null,null,null,null,null,null,null,null,null,null,null,null,4636]
[null,null,null,null,null,null,null,null,null,null,null,null,null,null,null,null,4627]
[null,null,null,null,null,null,null,null,null,null,null,null,null,null,null,null,4608]
[null,null,null,null,null,null,null,null,null,null,null,null,null,null,null,null,4608]
[null,null,null,null,null,null,null,null,null,null,null,null,null,null,null,null,4560]
[null,null,null,null,null,null,null,null,null,null,null,null,null,null,null,null,4550]
[null,null,null,null,null,null,null,null,null,null,null,null,null,null,null,null,4497]
[null,null,null,null,null,null,null,null,null,null,null,null,null,null,null,null,4468]
[null,null,null,null,null,null,null,null,null,null,null,null,null,null,null,null,4418]
[null,null,null,null,null,null,null,null,null,null,null,null,null,null,null,null,4413]
[null,null,null,null,null,null,null,null,null,null,null,null,null,null,null,null,4398]
[null,null,null,null,null,null,null,null,null,null,null,null,null,null,null,null,4398]
[null,null,null,null,null,null,null,null,null,null,null,null,null,null,null,null,4393]
[null,null,null,null,null,null,null,null,null,null,null,null,null,null,null,null,4314]
[null,null,null,null,null,null,null,null,null,null,null,null,null,null,null,null,4283]
[null,null,null,null,null,null,null,null,null,null,null,null,null,null,null,null,4253]
[null,null,null,null,null,null,null,null,null,null,null,null,null,null,null,null,4252]
[null,null,null,null,null,null,null,null,null,null,null,null,null,null,null,null,4234]
[null,null,null,null,null,null,null,null,null,null,null,null,null,null,null,null,4151]
[null,null,null,null,null,null,null,null,null,null,null,null,null,null,null,null,4057]
[null,null,null,null,null,null,null,null,null,null,null,null,null,null,null,null,4019]
[null,null,null,null,null,null,null,null,null,null,null,null,null,null,null,null,4004]
[null,null,null,null,null,null,null,null,null,null,null,null,null,null,null,null,3961]
[null,null,null,null,null,null,null,null,null,null,null,null,null,null,null,null,3878]
[null,null,null,null,null,null,null,null,null,null,null,null,null,null,null,null,3878]
[null,null,null,null,null,null,null,null,null,null,null,null,null,null,null,null,3838]
[null,null,null,null,null,null,null,null,null,null,null,null,null,null,null,null,3831]
[null,null,null,null,null,null,null,null,null,null,null,null,null,null,null,null,3807]
[null,null,null,null,null,null,null,null,null,null,null,null,null,null,null,null,3803]
[null,null,null,null,null,null,null,null,null,null,null,null,null,null,null,null,3783]
[null,null,null,null,null,null,null,null,null,null,null,null,null,null,null,null,3685]
[null,null,null,null,null,null,null,null,null,null,null,null,null,null,null,null,3578]
[null,null,null,null,null,null,null,null,null,null,null,null,null,null,null,null,3373]
[null,null,null,null,null,null,null,null,null,null,null,null,null,null,null,null,3358]
[null,null,null,null,null,null,null,null,null,null,null,null,null,null,null,null,3324]
[null,null,null,null,null,null,null,null,null,null,null,null,null,null,null,null,3234]
[null,null,null,null,null,null,null,null,null,null,null,null,null,null,null,null,3194]
[null,null,null,null,null,null,null,null,null,null,null,null,null,null,null,null,3041]
[null,null,null,null,null,null,null,null,null,null,null,null,null,null,null,null,2878]
[null,null,null,null,null,null,null,null,null,null,null,null,null,null,null,null,2661]
[null,null,null,null,null,null,null,null,null,null,null,null,null,null,null,null,2542]
[null,null,null,null,null,null,null,null,null,null,null,null,null,null,null,null,1477]